{"text_format":"3","workbook":"xlsx","n_sheets":9,"sheets":["Intro","Sorcadins","Base Numbers","Caster Tables","Smites","Damage Scenarios","SpellOrder","Concentration Tables","Build Ideas"],"not_rendered":{"charts":1,"macros":1,"defined_names":30},"read":"whole","date_system":"1900"}

{"sheet":"Intro","index":0,"n_rows":105,"n_cols":2,"rows_kept":105}
[null,"McGeachie's Multi-Class Average-Case 5e DPR Calculator"]
[]
[null,"Purpose"]
[null,"This is an average-case Damage-per-Round (DPR) calculator for multiclass builds in Dungeons and Dragons 5th Edition."]
[]
[null,"Disclaimer"]
[null,"Damage per round is not everything.  This calculator only considers damage done using the elements modeled herein.  Damage is averaged over the expected length of the fight.  DPR is only one tool that may help you to design a character that is enjoyable for you.  Only you can pick the character right for you."]
[]
[null,"Instructions"]
[null,"To edit this spreadsheet, download a copy to your device or drive in Microsoft Excel format.  Then open that file using MS Excel or Google Sheets.  You can then edit your own copy!"]
[null,"the main DPR is done on the page called \"Sorcadins.\"  To model a character, edit the Green Box areas in the first 100-150 rows of the sheet.  The DPR is listed at the very bottom of the sheet, and at the top row, and is also graphed at the top right."]
[null,"Each column from E to X represents the character and the character's DPR at a specific level, from Level 1 to Level 20."]
[]
[null,"Step 1.  Enter multiclass levels"]
[null,"The character's levels in various classes are represented in the green box labeled Class from E7 to X19.  At each Character Level, a character can have Class Levels in one or more classes that sum to the Total Character Level."]
[null,"Input the level of the corresponding class in the column for character level."]
[null,"For example, if at Level 1, your character will have one level of Paladin, enter a \"1\" in box E7.  Make sure there are no non-zero entries in the rows corresponding to other classes."]
[null,"Then at Level 2, if you will have two levels of Paladin, enter a \"2\" in box F7.  If the character will progress only as a Paladin, continue entering the class level of paladin in the column corresponding to total character level, in other words enter the sequence of numbers from 1 to 20 in boxes E7 to X7."]
[null,"Multiclass characters are entered in the same way.  At each level, the character's total class levels must sum to the character's Total Character Level."]
[null,"For example, suppose the Paladin at Level 3 decides to multiclass into Warlock.  In the column for Character Level 3, enter a \"2\" in the Paladin row and a \"1\" in the Warlock row to indicate they have 2 Levels of Paladin and 1 Level of Warlock."]
[]
[null,"Step 2.  Indicate Subclasses"]
[null,"Character subclasses are indicated in the green and white striped boxes from rows 40 to 90."]
[null,"A character's subclass is indicated by a \"1\" for having the subclass and a \"0\" for not having the subclass."]
[null,"There should be only one subclass with a \"1\" indicated for each class at each level."]
[null,"If you wish to model the DPR of a subclass that doesn't contribute to DPR, such as a Bear Totem Barbarian, simply place \"0\"s in all barbarian subclasses."]
[]
[null,"Step 3. Feats and Ability Score Increases (ASIs) "]
[null,"Feats and ASI's are indicated in the green box from B5 to B29."]
[null,"The total number of ASI's and/or feats your character has at each Total Character Level is shown in Row 22.  This is a guide for you.  If your DM awards other ASI's/Feats, it's ok to deviate from this number.  This does not include Level-1 Feats awarded by certain races."]
[null,"A feat or ASI is indicated with a non-zero number for the Total Character Level at which the feat or ASI is obtained."]
[null,"For example, if the Paladin/Warlock character takes the Great Weapon Master (GWM) feat at L6, enter a \"6\" in box B6.   "]
[null,"If the Paladin/Warlock character is a race that provides a Feat at Level 1, then enter a \"1\" in (for example) box B8 to indicate that Pole Arm Master feat was taken at Level 1."]
[null,"Ability scores are all treated as having a 16 (or a +3 bonus) at character creation.  This is a reasonable assumption if this score is important to the class."]
[null,"For each additional ability score increase resulting in an increase of the ability score bonus (increases to a score of 18 and then to 20), indicate the Level at which this is obtained in the same manner as Feats."]
[null,"For example, if the Paladin/Warlock takes an ASI for Charisma at Level 12, then enter a \"12\" in box B10."]
[null,"If the Paladin/Warlock's DM lets players roll for stats or start with stats much higher than 16, then indicate this with Level 1 ASI increases."]
[null,"For example, if the Paladin/Warlock started with a 20 charisma, enter a \"1\" in box B10 and also a \"1\" in box B11.  This shows that at L1, this character has a +5 bonus to Charisma-based abilities and attacks."]
[null,"Half Feats."]
[null,"If a character obtains a Half-Feat (such as Piercer, or Elven Accuracy) and this also results in an increase in an ability score to the next even number, these  must be indicated separately."]
[null,"For example, if the Paladin/Warlock is an Elf and at Level 10 takes Elven Accuracy with a +1 Charisma bonus, and this increases his/her charisma to 18, indicate this with a \"1\" in box B7 and a \"1\" in box B10."]
[]
[null,"Step 4.  Weapon Choice"]
[null,"Weapon choice is indicated in the green box from B32 to B40.  Use a \"1\" to indicate that the character will use this type of weapon, and a \"0\" to indicate that he/she will not."]
[null,"Indicate only one weapon!"]
[]
[null,"Step 5. Fighting Options"]
[null,"In the green box from B43 to B48, certain strategic options can be indicated. "]
[null,"These are indicated with a \"1\" for something the character will do, and a \"0\" for something the character will not do"]
[null,"Indicate \"Use 2 Weapons\" if the character will dual-wield melee weapons"]
[null,"Indicate \"Force Range\" or \"Force Melee\" if the character will exclusively fight from range or in melee.  If both are \"0\" then DPR simulator will try to guess based on feats and weapon selections."]
[null,"Indicate \"Exclude Eld Blast\" if your character would qualify for the Eldritch Blast cantrip, but you do not want this to be a source of your DPR."]
[null,"Indicate \"use a shield\" to indicate your character will fight with a weapon and shield.  This disables dual weidling, which is assumed with one-handed weapons in some cases."]
[null,"Indicate \"use Shilalegh\" if you will start every combat by using a bonus action on the Druid Cantrip of the same name.  This makes WIS your main attack stat."]
[]
[null,"Step 6. Racial Traits"]
[null,"Racial traits that impact DPR are indicated in the green box from B51 to B55."]
[null,"These are indicated with a \"1\" for an ability the the character has, and a \"0\" for an ability the character lacks"]
[]
[null,"Step 7. Fighting Style (Martial Classes)"]
[null,"In the green box from B58 to B66, indicate at what level the character obtains a martial fighting style.  These styles are granted from Classes: Fighter, Paladin, and Ranger.  Fighting Styles can also be granted by Feats. "]
[null,"Indicate in the corresponding box what level the character obtains a particular fighting style.  Characters can potentially obtain more than one.  Leave other fighting styles with a \"0\" to indicate the character does not have them."]
[null,"If you wish to model a fighting style that does not contribute to DPR, such as the Defensive style which adds +1 to AC, simply do not select a fighting style.  Place \"0\" in all fighting style boxes."]
[]
[null,"Step 8.  Spell Casts per Day"]
[null,"The large green and white striped box from E94 to X148 indicates which spells will be cast per day."]
[null,"For each spell the character wishes to cast every day, indicate the number of times this spell will be cast."]
[null,"There is some checking for available spells and spell slots, but this works best if the number of spells cast is kept under the limit of spells that the character would have from their class abilities."]
[null,"Spells that can be upcast using a higher level slot for a numerical benefit will automatically be upcast to the highest available slot."]
[null,"Spells take higher priority than other actions, such as attacking.  Thus casting a spell that has a sub-optimal effect may decrease your total DRP."]
[null,"At the bottom of the Spells section, there are certain spell-like actions and strategic options."]
[null,"\"Favored Foe Ranger marking ability (c)\" and \"Bonus Action to provide Advantage (Spell-like action: Rogue, Ranger)\" are like spells.  Indicate the number of times per day your character will use them."]
[null,"\"Use GWM only with Advantage\" and \"Cleric Blessed Strikes (Tasha's) instead of Divine Strikes/Potent Spellcasting\" are binary options. Indicate with a 0 or 1 if these options are ones you would like the character to use."]
[]
[null,"Step 9.  Warlock Invocations"]
[null,"In the green box from B68 to B75, indicate at what level the character obtains particular warlock invocations.  Thses are generally restricted to Warlocks, but can also be granted by Feats. "]
[]
[null,"Step 10.  (Optionally) Adjust magic item progression"]
[null,"The yellow box from E20 to X23 can be used to indicate when your character will (likely) obtain a magical weapon of a particular bonus to hit or damage."]
[null,"For example, if you expect that at L6 your character will have a +1 magical weapon, enter a \"1\" in boxes J20 (for +1 to hit) and J21 (for +1 to damage).  Note this includes +1 spell attack for spells which make attack rolls."]
[null,"Enter the average damage dice for \"Magic Weapon Avg Dice Damage Bonus\", for example for a Flame Tongue weapon which does 2d6, enter the average damage \"7\".  For a weapon that adds 1d6 to each hit, enter \"3.5\""]
[]
[null,"Step 11.  Done! (optionally look at Simulation Parameters)"]
[null,"There's no need to look at any sheets besides the main one, \"Sorcadins\", and the base parameters sheet, \"Base Numbers\"."]
[]
[null,"Advanced DPR Simluation Parameters (\"Base Numbers\")"]
[null,"The \"Base Numbers\" sheet has many parameters used by the DPR calculations here.  These can be edited to match the expectations of your DM, playgroup, and adventuring style. "]
[null,"The most important numbers for the DPR simulation are the number of fights per day (or per long rest, these terms are used interchangably), the length of those fights in rounds, and the number of short rests per adventuring day."]
[null,"These numbers are in boxes C5 to C7 on the \"Base Numbers\" sheet"]
[null,"Your campaign and DM's style will determine how many fights you have per long rest (or per day).  WOTC recommends 9 fights per day, popular DND podcasts such as Critical Role are closer to 1.5 per day.  A more typical number is probably 4 or 5 fights per long rest."]
[null,"The average DND combat encounter lasts 3.5 rounds.  You can adjust this number based on your DM's style: maybe fights are long and involved, maybe they're more typical."]
[null,"The number of short rests per long rest will determine how effective short-rest characters (monks, warlocks, certain fighters) are relative to long-rest characters (barbarians, paladins, sorcerers, wizards, etc).  WOTC recommends 2 short rests per long rest (or 2 short rests per 9 fights), but most campaigns seem to have fewer."]
[null,"Percent of Fights with a Buff Round is the proportion of fights where casters will have a round to prepare and cast something like Bless without taking up an action during the fight itself."]
[null,"Some general modifiers can be set for the DPR simulation, these include global changes to enemy's armor class."]
[null,"The chance for Booming Blade to deal it's secondary damage, triggered upon the target's voluntary movement, is entered in the \"booming blade secondary damage percent\" box.  This is meant to include choosing to cast GFB or BB based on which will likely cause secondary damage.  This may be character driven if you play as a character with movement skills or taunt skills; and may also be DM dependent if your character tends to be attacked more or less frequently than others in your party."]
[null,"Since the publication of Tasha's Cauldron of Everything, it has been against Rules As Written for booming blade to be cast using a shadowblade as the weapon.  It seems to be allowed by Rules As Intended, since Jeremy Crawford himself has said he would allow it at his table.  There is an option here for you to indicate the ruling used by your DM: enter a \"1\" if allowed and a \"0\" if disallowed."]
[null,"There are a number of parameters that reflect the likelihood of a character to be able to execute an opportunity attack on an opponent's turn, and these may be edited.  It is recommended to leave them as is."]
[null,"A number of parameters relating to Area of Effect attacks can be indicated.  "]
[null,"The total number of opportunities to use each Area of Effect skill can be indicated.  This limits the total number of, for example, fireballs that can be usefully cast on multiple targets. "]
[null,"The number of targets effected by each ability is also indicated here.  This is sometimes increased by certain skills which have much larger areas of effect (such as fireball)."]
[null,"Simulacrum, when available, tends to dominate DPR calculations.  To disable the contribution from Simulacrum, enter a \"0\" in this box."]
[]
[]
[null,"Copyright 2021 Michael McGeachie.  Permission is given to use this for non-commercial purposes as long as attribution is preserved."]
[null,"Contact me at u/mmcgeach on Reddit with comments, suggestions, error reports, and bugs!"]

{"sheet":"Sorcadins","index":1,"n_rows":1645,"n_cols":28,"rows_kept":1645,"merged":[[2,0,3,0],[2,1,3,1]]}
[{"$nulls":3},"TOTAL DPR OUTPUT",{"$f":"E1645","v":{"v":5.253125000000001,"d":"5.25"}},{"$f":"F1645","v":{"v":6.995585,"d":"7.00"}},{"v":12.17803112529199,"d":"12.18"},{"v":15.68111686846289,"d":"15.68"},{"v":29.996805483716408,"d":"30.00"},{"v":27.552703229651566,"d":"27.55"},{"v":35.180340407539425,"d":"35.18"},{"v":43.47764529157263,"d":"43.48"},{"v":50.359698119872014,"d":"50.36"},{"v":52.9186969683019,"d":"52.92"},{"v":52.66702058805236,"d":"52.67"},{"v":66.67868965609267,"d":"66.68"},{"v":77.24280955021983,"d":"77.24"},{"v":80.07174493145318,"d":"80.07"},{"v":75.93277593044485,"d":"75.93"},{"v":78.67482765717853,"d":"78.67"},{"v":90.42775565781758,"d":"90.43"},{"v":89.85985502398178,"d":"89.86"},{"v":89.9251399961768,"d":"89.93"},{"v":93.33274516537274,"d":"93.33"}]
[]
["Feats / ASI","Level"]
[]
["Warcaster",0,null,"CLASS "]
["Great Weapon Master (GWM)",0,null,"Total Character Level",1,2,3,4,5,6,7,8,9,10,11,12,13,14,15,16,17,18,19,20]
["Elven Accuracy (half)",0,null,"Paladin Level",0,0,0,0,0,0,0,0,0,0,0,0,0,0,0,0,0,0,0,0]
["Polearm Master",0,null,"Barbarian Level",0,0,0,0,0,0,0,0,0,0,0,0,0,0,0,0,0,0,0,0]
["Sentinel",0,null,"Ranger Level",1,2,3,4,5,5,5,5,5,5,5,5,5,5,5,5,5,5,5,5]
["first CHA +2",0,null,"Fighter Level",0,0,0,0,0,1,2,3,4,4,4,4,4,4,4,4,4,4,4,4]
["second CHA +2",0,null,"Rogue Level",0,0,0,0,0,0,0,0,0,1,2,3,4,5,6,7,8,9,10,11]
["first STR +2",0,null,"Warlock Level",0,0,0,0,0,0,0,0,0,0,0,0,0,0,0,0,0,0,0,0]
["second STR +2",0,null,"Sorceror Level",0,0,0,0,0,0,0,0,0,0,0,0,0,0,0,0,0,0,0,0]
["first DEX +2",9,null,"Bard Level",0,0,0,0,0,0,0,0,0,0,0,0,0,0,0,0,0,0,0,0]
["second DEX +2",13,null,"Wizard Level",0,0,0,0,0,0,0,0,0,0,0,0,0,0,0,0,0,0,0,0]
["resilient CON",19,null,"Cleric Level",0,0,0,0,0,0,0,0,0,0,0,0,0,0,0,0,0,0,0,0]
["first INT +2",0,null,"Druid Level",0,0,0,0,0,0,0,0,0,0,0,0,0,0,0,0,0,0,0,0]
["second INT +2",0,null,"Monk Level",0,0,0,0,0,0,0,0,0,0,0,0,0,0,0,0,0,0,0,0]
["first WIS +2",0,null,"Artificer Level",0,0,0,0,0,0,0,0,0,0,0,0,0,0,0,0,0,0,0,0]
["second WIS +2",0,null,"Magic Weapon Hit Bonus (including spell attacks for casters)",0,0,0,0,0,0,0,0,0,0,0,0,0,0,0,0,0,0,0,0]
["Dual Wielder",0,null,"Magic Weapon Damage Bonus",0,0,0,0,0,0,0,0,0,0,0,0,0,0,0,0,0,0,0,0]
["Sharpshooter",4,null,"Magic Weapon Avg Dice Damage Bonus (flame tongue, etc)",0,0,0,0,0,0,0,0,0,0,0,0,0,0,0,0,0,0,0,0]
["Xbow Master",0,null,"Magic Item +Caster DC Bonus",0,0,0,0,0,0,0,0,0,0,0,0,0,0,0,0,0,0,0,0]
["Magic Initiate/Eld Blast",0,null,"Use single class caster levels",{"$f":"IF(IF(E7>=2,1,0)+IF(E9>=2,1,0)+IF(E13>=1,1,0)+IF(E14>=1,1,0)+IF(E15>=1,1,0)+IF(E16>=1,1,0)+IF(E17>=1,1,0)+IF(E19>=1,1,0)+IF(AND(E10>=3,E59>=1),1,0)+IF(AND(E11>=3,E72>=1),1,0)=1,1,0)","v":0},{"$f":"IF(IF(F7>=2,1,0)+IF(F9>=2,1,0)+IF(F13>=1,1,0)+IF(F14>=1,1,0)+IF(F15>=1,1,0)+IF(F16>=1,1,0)+IF(F17>=1,1,0)+IF(F19>=1,1,0)+IF(AND(F10>=3,F59>=1),1,0)+IF(AND(F11>=3,F72>=1),1,0)=1,1,0)","v":1},1,1,1,1,1,1,1,1,1,1,1,1,1,1,1,1,1,1]
["RitualCaster/FF/BB",17,null,"total multiclass caster levels",{"$f":"E16+E13+E14+E15+E17+IF(AND(E24>=1,E9+E7>=2),CEILING((E9+E19+E7)/2,1),FLOOR((E9+E7)/2,1)+CEILING(E19/2,1))+IF(AND(E24>=1,OR(AND(E10>=3,E59>=1),AND(E11>=3,E72>=1))),CEILING((E10+E11)/3,1),IF(OR(AND(E10>=3,E59>=1),AND(E11>=3,E72>=1)),FLOOR((E10+E11)/3,1),0))","v":0},{"$f":"F16+F13+F14+F15+F17+IF(AND(F24>=1,F9+F7>=2),CEILING((F9+F19+F7)/2,1),FLOOR((F9+F7)/2,1)+CEILING(F19/2,1))+IF(AND(F24>=1,OR(AND(F10>=3,F59>=1),AND(F11>=3,F72>=1))),CEILING((F10+F11)/3,1),IF(OR(AND(F10>=3,F59>=1),AND(F11>=3,F72>=1)),FLOOR((F10+F11)/3,1),0))","v":1},2,2,3,3,3,3,3,3,3,3,3,3,3,3,3,3,3,3]
["Metamagic Adept",0,null,"ASI's (Ability Score Increase or Feats)",{"$f":"IF(E10>=19,7,IF(E11>=19,6,IF(OR(E7>=19,E12>=19,E16>=19,E14>=19,E15>19,E8>=19,E9>=19,E17>=19,E18>=19,E19>=19,E13>=19),5,FLOOR(E7/4,1)+FLOOR(E13/4,1)+FLOOR(E14/4,1)+FLOOR(E12/4,1)+FLOOR(E16/4,1)+FLOOR(E15/4,1)+FLOOR(E10/4,1)+FLOOR(E8/4,1)+FLOOR(E11/4,1)+FLOOR(E17/4,1)+FLOOR(E9/4,1)+FLOOR(E18/4,1)+FLOOR(E19/4,1)+IF(E10>=6,1,0)+IF(E10>=14,1,0)+IF(E11>=10,1,0))))","v":0},{"$f":"IF(F10>=19,7,IF(F11>=19,6,IF(OR(F7>=19,F12>=19,F16>=19,F14>=19,F15>19,F8>=19,F9>=19,F17>=19,F18>=19,F19>=19,F13>=19),5,FLOOR(F7/4,1)+FLOOR(F13/4,1)+FLOOR(F14/4,1)+FLOOR(F12/4,1)+FLOOR(F16/4,1)+FLOOR(F15/4,1)+FLOOR(F10/4,1)+FLOOR(F8/4,1)+FLOOR(F11/4,1)+FLOOR(F17/4,1)+FLOOR(F9/4,1)+FLOOR(F18/4,1)+FLOOR(F19/4,1)+IF(F10>=6,1,0)+IF(F10>=14,1,0)+IF(F11>=10,1,0))))","v":0},0,1,1,1,1,1,2,2,2,2,3,3,3,3,4,4,5,5]
["Piercer (+1 Dex/Str)",9,null,"feat: Warcaster (opportunity spell attack)",{"$f":"IF(AND($B5>0,E$6>=$B5),1,0)","v":0},0,0,0,0,0,0,0,0,0,0,0,0,0,0,0,0,0,0,0]
["Crusher (+1 Str/Con)",0,null,"feat: GWM (-5 hit, +10 dmg)",{"$f":"IF(AND($B6>0,E$6>=$B6),1,0)","v":0},0,0,0,0,0,0,0,0,0,0,0,0,0,0,0,0,0,0,0]
["Fey Touched (half)",0,null,"feat: Elven Acc (3 adv dice vs 2)",{"$f":"IF(AND($B$7>0,E6>=$B$7),1,0)","v":0},{"$f":"IF(AND($B$7>0,F6>=$B$7),1,0)","v":0},0,0,0,0,0,0,0,0,0,0,0,0,0,0,0,0,0,0]
[{"$nulls":3},"feat: Polearm Master (bonus action attack)",{"$f":"IF(AND($B8>0,E$6>=$B8),1,0)","v":0},0,0,0,0,0,0,0,0,0,0,0,0,0,0,0,0,0,0,0]
["Weapon Choice",null,null,"feat: Sentinel (increases opp attacks)",{"$f":"IF(AND($B9>0,E$6>=$B9),1,0)","v":0},0,0,0,0,0,0,0,0,0,0,0,0,0,0,0,0,0,0,0]
["Daggers (d4)",0,null,"feat: Sharpshooter (-5 hit, +10 dmg, forces ranged)",{"$f":"IF(AND($B22>0,E$6>=$B22),1,0)","v":0},0,0,1,1,1,1,1,1,1,1,1,1,1,1,1,1,1,1,1]
["Short Sword, Spear, Staff (d6)",0,null,"feat: xbow master (ranged bonus attack, no DisAdv from melee)",{"$f":"IF(AND($B23>0,E$6>=$B23),1,0)","v":0},0,0,0,0,0,0,0,0,0,0,0,0,0,0,0,0,0,0,0]
["Long Sword, Rapier (d8)",0,null,"str bon",{"$f":"IF(E8>=20,7,MIN(5,3+SUM(IF(AND($B$12>0,E6>=$B$12),1,0),IF(AND($B$13>0,E6>=$B$13),1,0))))","v":3},{"$f":"IF(F8>=20,7,MIN(5,3+SUM(IF(AND($B$12>0,F6>=$B$12),1,0),IF(AND($B$13>0,F6>=$B$13),1,0))))","v":3},3,3,3,3,3,3,3,3,3,3,3,3,3,3,3,3,3,3]
["Pole arm (d10), reach",0,null,"dex bon",{"$f":"MIN(5,3+SUM(IF(AND($B$14>0,E6>=$B$14),1,0),IF(AND($B$15>0,E6>=$B$15),1,0)))","v":3},{"$f":"MIN(5,3+SUM(IF(AND($B$14>0,F6>=$B$14),1,0),IF(AND($B$15>0,F6>=$B$15),1,0)))","v":3},3,3,3,3,3,3,4,4,4,4,5,5,5,5,5,5,5,5]
["Great Axe (d12)",0,null,"cha bonus",{"$f":"MIN(5,3+SUM(IF(AND($B$10>0,E6>=$B$10),1,0),IF(AND($B$11>0,E6>=$B$11),1,0)))","v":3},{"$f":"MIN(5,3+SUM(IF(AND($B$10>0,F6>=$B$10),1,0),IF(AND($B$11>0,F6>=$B$11),1,0)))","v":3},3,3,3,3,3,3,3,3,3,3,3,3,3,3,3,3,3,3]
["Great Sword (2d6)",0,null,"int bonus",{"$f":"MIN(5,3+SUM(IF(AND($B$17>0,E6>=$B$17),1,0),IF(AND($B$18>0,E6>=$B$18),1,0)))","v":3},{"$f":"MIN(5,3+SUM(IF(AND($B$17>0,F6>=$B$17),1,0),IF(AND($B$18>0,F6>=$B$18),1,0)))","v":3},3,3,3,3,3,3,3,3,3,3,3,3,3,3,3,3,3,3]
["hand xbow (d6)",0,null,"wis bonus",{"$f":"MIN(5,3+SUM(IF(AND($B$19>0,E6>=$B$19),1,0),IF(AND($B$20>0,E6>=$B$20),1,0)))","v":3},{"$f":"MIN(5,3+SUM(IF(AND($B$19>0,F6>=$B$19),1,0),IF(AND($B$20>0,F6>=$B$20),1,0)))","v":3},3,3,3,3,3,3,3,3,3,3,3,3,3,3,3,3,3,3]
["long bow (d8)",1,null,"prof bon",2,2,2,2,3,3,3,3,4,4,4,4,5,5,5,5,6,6,6,6]
["heavy xbow (d10)",0,null,"paladin devotion: Oath of Vengence",0,1,1,1,1,1,1,1,1,1,1,1,1,1,1,1,1,1,1,1]
[{"$nulls":3},"paladin devotion: Oathbreaker",0,0,0,0,0,0,0,0,0,0,0,0,0,0,0,0,0,0,0,0,null,"To Do List:"]
["Fighting Options",null,null,"paladin devotion: Oath of Conquest",0,0,0,0,0,0,0,0,0,0,0,0,0,0,0,0,0,0,0,0,null,"shadow sorc hound"]
["Use 2 Weapons",0,null,"sorcerous origin: shadow",1,1,1,1,1,1,1,1,1,1,1,1,1,1,1,1,1,1,1,1,null,"oathbreaker L20 ability"]
["Force Ranged",1,null,"sorcerous origin: divine soul",0,0,0,0,0,0,0,0,0,0,0,0,0,0,0,0,0,0,0,0,null,"oath of veng L20 ability"]
["Force Melee",0,null,"sorcerous origin: draconic ancestor",0,0,0,0,0,0,0,0,0,0,0,0,0,0,0,0,0,0,0,0]
["Exclude Eld Blast",0,null,"wizard arcane tradition: Bladesinger",0,1,1,1,1,1,1,1,1,1,1,1,1,1,1,1,1,1,1,1,null,"crusher plus PAM feats leads to more Opp Atts"]
["Use a Shield (disables 2 weapon)",0,null,"wizard arcane tradition: Conjurer",0,0,0,0,0,0,0,0,0,0,0,0,0,0,0,0,0,0,0,0,null,"rogue sneak crit chance should be proportional to : (crit attack 1)+(miss att 1)*(crit att2)"]
["Use Shillalegh (WIS attacks)",0,null,"wizard arcane tradition: Evoker",0,0,0,0,0,0,0,0,0,0,0,0,0,0,0,0,0,0,0,0]
[{"$nulls":3},"wizard arcane tradition: Necromancer",0,0,0,0,0,0,0,0,0,0,0,0,0,0,0,0,0,0,0,0,null,"shield option which limits dual wielding"]
["Racial Traits",null,null,"warlock patron: Hexblade",1,1,1,1,1,1,1,1,1,1,1,1,1,1,1,1,1,1,1,1]
["Half Orc Brutal Crit",0,null,"warlock patron: Fiend",0,0,0,0,0,0,0,0,0,0,0,0,0,0,0,0,0,0,0,0,null,"fix rogue haste held action sneak attacks (works with sneak but not BB)"]
["Halfling Lucky",0,null,"warlock patron: Genie",0,0,0,0,0,0,0,0,0,0,0,0,0,0,0,0,0,0,0,0,null,"rogue haste held action currently allows BB"]
["Kobold pack tactics",0,null,"warlock patron: Undead",0,0,0,0,0,0,0,0,0,0,0,0,0,0,0,0,0,0,0,0]
["Booming Blade / GFB cantrip",0,null,"warlock pact: pact of the blade",0,0,1,1,1,1,1,1,1,1,1,1,1,1,1,1,1,1,1,1,null,"include processing logic for range of ranged attacks which impact darkness efficacy"]
["New Bugbear Surprise Damage",1,null,"warlock pact: pact of the tome",0,0,0,0,0,0,0,0,0,0,0,0,0,0,0,0,0,0,0,0]
[{"$nulls":3},"warlock pact: pact of the chain",0,0,0,0,0,0,0,0,0,0,0,0,0,0,0,0,0,0,0,0]
["Fighting Style",null,null,"fighter martial archetype: Battlemaster",0,0,1,1,1,1,1,1,1,1,1,1,1,1,1,1,1,1,1,1,null,"changes to Great Weapon Fighting style for PAM bonus attacks"]
["Archery",2,null,"fighter martial archetype: Champion",0,0,0,0,0,0,0,0,0,0,0,0,0,0,0,0,0,0,0,0]
["Blind Fighting",0,null,"fighter martial archetype: Eldritch Knight",0,0,0,0,0,0,0,0,0,0,0,0,0,0,0,0,0,0,0,0]
["Dueling",0,null,"fighter martial archetype: Echo Knight",0,0,0,0,0,0,0,0,0,0,0,0,0,0,0,0,0,0,0,0,null,"detailed initiative computation"]
["GW Fighting",0,null,"fighter martial archetype: Samurai",0,0,0,0,0,0,0,0,0,0,0,0,0,0,0,0,0,0,0,0]
["Superior Technique",0,null,"fighter martial archetype: Cavalier",0,0,0,0,0,0,0,0,0,0,0,0,0,0,0,0,0,0,0,0]
["Thrown Weapon Fighting",0,null,"fighter martial archetype: Psi-Warrior",0,0,0,0,0,0,0,0,0,0,0,0,0,0,0,0,0,0,0,0]
["Two Weapon Fighting",0,null,"fighter martial archetype: Rune Knight",0,0,0,0,0,0,0,0,0,0,0,0,0,0,0,0,0,0,0,0]
["Unarmed Fighting",0,null,"bard college: swords",0,0,0,0,0,0,0,0,0,0,0,0,0,0,0,0,0,0,0,0,null,"DONE"]
[{"$nulls":3},"bard college: whispers",1,1,1,1,1,1,1,1,1,1,1,1,1,1,1,1,1,1,1,1,null,"sentinel feat should reduce booming blade movement bonuses"]
["Warlock Invocations",null,null,"bard college: lore",0,0,0,0,0,0,0,0,0,0,0,0,0,0,0,0,0,0,0,0,null,"Bards"]
["Agonizing Blast (L2)",0,null,"barbarian path: zealot",0,1,1,1,1,1,1,1,1,1,1,1,1,1,1,1,1,1,1,1,null,"College of Swords"]
["Devil's Sight (L2)",0,null,"barbarian path: ancestral guardian",0,0,0,0,0,0,0,0,0,0,0,0,0,0,0,0,0,0,0,0,null,"monks"]
["Eldritch Mind (L2)",0,null,"barbarian path: beast",0,0,0,0,0,0,0,0,0,0,0,0,0,0,0,0,0,0,0,0,null,"model using best slot by decreasing damage of slot-based spells per action"]
["Improved Pact Weapon (L3)",0,null,"roguish archetype: assassin",0,0,1,1,1,1,1,1,1,1,1,1,1,1,1,1,1,1,1,1,null,"Eldritch Smite: knock target prone if used a warlock slot for smiting.  L5 Warlock"]
["Book of Ancient Secrets (L3)",0,null,"roguish archetype: arcane trickster",0,0,0,0,0,0,0,0,0,0,0,0,0,0,0,0,0,0,0,0,null,"warlock smite (eldritch smite) only once per turn"]
["Thirsting Blade (L5)",0,null,"roguish archetype: phantom",0,0,0,0,0,0,0,0,0,0,0,0,0,0,0,0,0,0,0,0,null,"Dual Weilding"]
["Eldritch Smite (L5)",0,null,"roguish archetype: swashbuckler",0,0,0,0,0,0,0,0,0,0,0,0,0,0,0,0,0,0,0,0,null,"Dual Wielding feat"]
["Lifedrinker (L12)",0,null,"artificer specialist: battle smith",0,0,1,1,1,1,1,1,1,1,1,1,1,1,1,1,1,1,1,1,null,"Sorc Points coverted to Smite Slots if not used on Quicken"]
[{"$nulls":3},"artificer specialist: artillerist",0,0,0,0,0,0,0,0,0,0,0,0,0,0,0,0,0,0,0,0,null,"percent of fights with a buff round preceeding them"]
[{"$nulls":3},"druid circle: stars",0,1,1,1,1,1,1,1,1,1,1,1,1,1,1,1,1,1,1,1,null,"compute average duration of concentration spells"]
[{"$nulls":3},"druid circle: spores",0,0,0,0,0,0,0,0,0,0,0,0,0,0,0,0,0,0,0,0,null,"concentration probability, based on feats"]
[{"$nulls":3},"druid circle: shepherd",0,0,0,0,0,0,0,0,0,0,0,0,0,0,0,0,0,0,0,0,null,"intelligent use of GWM bonus; only on advantage, for example"]
[{"$nulls":3},"monastic tradition: kensei",1,1,1,1,1,1,1,1,1,1,1,1,1,1,1,1,1,1,1,1,null,"actual DEX stat, some kind of Main Stat indicator"]
[{"$nulls":3},"monastic tradition: way of mercy",0,0,0,0,0,0,0,0,0,0,0,0,0,0,0,0,0,0,0,0,null,"wizard spell allowances"]
[{"$nulls":3},"ranger conclave: gloomstalker",0,0,1,1,1,1,1,1,1,1,1,1,1,1,1,1,1,1,1,1,null,"rogue"]
[{"$nulls":3},"ranger conclave: swarmkeeper",0,0,0,0,0,0,0,0,0,0,0,0,0,0,0,0,0,0,0,0,null,"barbarian"]
[{"$nulls":3},"ranger conclave: beastmaster",0,0,0,0,0,0,0,0,0,0,0,0,0,0,0,0,0,0,0,0,null,"  reckless only with STR attacks"]
[{"$nulls":3},"ranger conclave: hunter",0,0,0,0,0,0,0,0,0,0,0,0,0,0,0,0,0,0,0,0,null,"fewer prone targets at level increases"]
[{"$nulls":3},"cleric domain: war",0,0,0,0,0,0,0,0,0,0,0,0,0,0,0,0,0,0,0,0,null,"bard spell allowances"]
[{"$nulls":3},"cleric domain: death",0,0,0,0,0,0,0,0,0,0,0,0,0,0,0,0,0,0,0,0,null,"other ranged attacks"]
[{"$nulls":3},"cleric domain: tempest",0,0,0,0,0,0,0,0,0,0,0,0,0,0,0,0,0,0,0,0,null,"should allow ranged Rogues to use bonus action on hiding"]
[{"$nulls":3},"cleric domain: peace",1,1,1,1,1,1,1,1,1,1,1,1,1,1,1,1,1,1,1,1,null,"   and L14 rangers"]
[{"$nulls":3},"cleric domain: arcana",0,0,0,0,0,0,0,0,0,0,0,0,0,0,0,0,0,0,0,0,null,"   need to compare booming blade auto crit damage to "]
[{"$nulls":25},"   all regular attacks during main attack"]
[{"$nulls":3},"DESIRED CASTS PER DAY",{"$nulls":21},"tiny servant"]
[{"$nulls":3},"LEVEL 1",{"$nulls":21},"  bigby's hand"]
[{"$nulls":3},"bless casts: (c)",0,0,0,0,0,0,0,0,0,0,0,0,0,0,0,0,0,0,0,0,null,"wizard"]
[{"$nulls":3},"divine favor casts: (c)",0,0,0,0,0,0,0,0,0,0,0,0,0,0,0,0,0,0,0,0,null,"  would let you smite, can choose to not knock prone"]
[{"$nulls":3},"faerie fire casts: (c)",0,0,0,0,0,0,0,0,0,0,0,0,0,0,0,0,0,0,0,0,null,"split rogue damage into ranged vs melee"]
[{"$nulls":3},"fog cloud casts: (c)",0,0,0,0,0,0,0,0,0,0,0,0,0,0,0,0,0,0,0,0,null,"  flaming sphere"]
[{"$nulls":3},"guiding bolt casts: AE",0,0,0,0,0,0,0,0,0,0,0,0,0,0,0,0,0,0,0,0,null,"reckless attacks doesn't apply to Opp attacks"]
[{"$nulls":3},"hunter's mark / hex casts: (c, bonus action)",2,2,3,3,4,4,4,4,4,4,4,4,4,4,4,4,4,4,4,4,null,"rogue weapons (finesse weapons)"]
[{"$nulls":3},"magic missile casts: AE",0,0,0,0,0,0,0,0,0,0,0,0,0,0,0,0,0,0,0,0,null,"Should fully integrate Eld Blas"]
[{"$nulls":3},"thunderous smite casts: (bonus action, c)",0,0,0,0,0,0,0,0,0,0,0,0,0,0,0,0,0,0,0,0,null,"spending leftover sorc points on Empowered Spell"]
[{"$nulls":3},"LEVEL 2",{"$nulls":21},"shadow blade damage scaling"]
[{"$nulls":3},"darkness casts: (c)",0,0,0,0,0,0,0,0,0,0,0,0,0,0,0,0,0,0,0,0,null,"  requires a L2 eldritch invocation, no hand xbow."]
[{"$nulls":3},"flaming sphere casts: (c) ",0,0,0,0,0,0,0,0,0,0,0,0,0,0,0,0,0,0,0,0,null," longbow hexweapon combo…"]
[{"$nulls":3},"hold person casts: (c)",0,0,0,0,0,0,0,0,0,0,0,0,0,0,0,0,0,0,0,0,null,"  animate objects"]
[{"$nulls":3},"moonbeam casts: (c, AE)",0,0,0,0,0,0,0,0,0,0,0,0,0,0,0,0,0,0,0,0,null,"   and also the d4 bonus attack from PAM"]
[{"$nulls":3},"pyrotechnics casts: ",0,0,0,0,0,0,0,0,0,0,0,0,0,0,0,0,0,0,0,0,null,"need to fix spell effects to be based on rounds active"]
[{"$nulls":3},"scorching ray casts: AE",0,0,0,0,0,0,0,0,0,0,0,0,0,0,0,0,0,0,0,0,null,"  ss damage on spiritual weapon"]
[{"$nulls":3},"shadow blade casts: (c)",0,0,0,0,0,0,0,0,0,0,0,0,0,0,0,0,0,0,0,0,null,"feat for blindfighting allowing darkness."]
[{"$nulls":3},"spirtual weapon casts: (free cast) ",0,0,0,0,0,0,0,0,0,0,0,0,0,0,0,0,0,0,0,0,null,"Eld Blast review"]
[{"$nulls":3},"summon beast casts: (c)",0,0,0,0,0,0,0,0,0,0,0,0,0,0,0,0,0,0,0,0,null,"spirit shroud - scaling spell attack damage buff"]
[{"$nulls":3},"LEVEL 3",{"$nulls":21},"  simulacrum"]
[{"$nulls":3},"animate dead casts: (non-combat)",0,0,0,0,0,0,0,0,0,0,0,0,0,0,0,0,0,0,0,0,null,"  tenser's transformation"]
[{"$nulls":3},"call lightning casts: (c, AE)",0,0,0,0,0,0,0,0,0,0,0,0,0,0,0,0,0,0,0,0,null,"    bladesinger"]
[{"$nulls":3},"conjure animals casts: (c)",0,0,0,0,0,0,0,0,0,0,0,0,0,0,0,0,0,0,0,0,null,"darkness"]
[{"$nulls":3},"fear casts: (c)",0,0,0,0,0,0,0,0,0,0,0,0,0,0,0,0,0,0,0,0,null,"shadowblade"]
[{"$nulls":3},"fireball casts: AE",0,0,0,0,0,0,0,0,0,0,0,0,0,0,0,0,0,0,0,0,null,"  ss damage on eldritch blast"]
[{"$nulls":3},"haste casts: (c)",0,0,0,0,0,0,0,0,0,0,0,0,0,0,0,0,0,0,0,0,null,"Eldritch Blast with xbow master feat"]
[{"$nulls":3},"melf's minute meteors: AE (c)",0,0,0,0,0,0,0,0,0,0,0,0,0,0,0,0,0,0,0,0,null,"  steel wind strike"]
[{"$nulls":3},"spirit guardians casts: (c)",0,0,0,0,0,0,0,0,0,0,0,0,0,0,0,0,0,0,0,0,null,"shadow blade advantage percentage : 0.1?"]
[{"$nulls":3},"spirit shroud casts: (c)",0,0,0,0,0,0,0,0,0,0,0,0,0,0,0,0,0,0,0,0,null,"blesss"]
[{"$nulls":3},"summon fey casts: (c)",0,0,0,0,0,0,0,0,0,0,0,0,0,0,0,0,0,0,0,0,null,"divine favor"]
[{"$nulls":3},"summon undead casts: (c)",0,0,0,0,0,0,0,0,0,0,0,0,0,0,0,0,0,0,0,0,null,"great weapon fighting style should affect base weapon damage (and crits)"]
[{"$nulls":3},"tiny servants casts: (non-combat)",0,0,0,0,0,0,0,0,0,0,0,0,0,0,0,0,0,0,0,0,null,"shadow blade reduction of PAM and GWM bonus attacks"]
[{"$nulls":3},"LEVEL 4",{"$nulls":12},0,{"$nulls":8},"  faerie fire"]
[{"$nulls":3},"greater invisibility casts: (c)",0,0,0,0,0,0,0,0,0,0,0,0,0,0,0,0,0,0,0,0,null,"shadow blade L2 warlock dependence(?)"]
[{"$nulls":3},"guardian of nature casts: (c)",0,0,0,0,0,0,0,0,0,0,0,0,0,0,0,0,0,0,0,0,null,"sorc L20 capstone"]
[{"$nulls":3},"shadow of moil casts: (c) ",0,0,0,0,0,0,0,0,0,0,0,0,0,0,0,0,0,0,0,0,null,"spells"]
[{"$nulls":3},"summon aberation casts: (c)",0,0,0,0,0,0,0,0,0,0,0,0,0,0,0,0,0,0,0,0,null,"haste"]
[{"$nulls":3},"summon construct casts: (c)",0,0,0,0,0,0,0,0,0,0,0,0,0,0,0,0,0,0,0,0,null,"  guardian of nature"]
[{"$nulls":3},"summon greater demon casts: (L4, Barlgura) (c)",0,0,0,0,0,0,0,0,0,0,0,0,0,0,0,0,0,0,0,0,null,"shadow blade incompatibilty with BB (?)"]
[{"$nulls":3},"LEVEL 5",{"$nulls":3},0,{"$nulls":17},"add two weapon fighting to weapon choice"]
[{"$nulls":3},"animate objects casts: (c) ",0,0,0,0,0,0,0,0,0,0,0,0,0,0,0,0,0,0,0,0,null,"hold perseon"]
[{"$nulls":3},"bigby's hand casts: (c) ",0,0,0,0,0,0,0,0,0,0,0,0,0,0,0,0,0,0,0,0,null,"greater invis"]
[{"$nulls":3},"destructive wave casts: AE",0,0,0,0,0,0,0,0,0,0,0,0,0,0,0,0,0,0,0,0,null,"need to allow booming blade attacks with assassination"]
[{"$nulls":3},"hold monster casts: (c)",0,0,0,0,0,0,0,0,0,0,0,0,0,0,0,0,0,0,0,0,null,"Most of these will take effect on the Bonus Action, if available"]
[{"$nulls":3},"holy weapon casts: (bonus action, c)",0,0,0,0,0,0,0,0,0,0,0,0,0,0,0,0,0,0,0,0,null,"can add +1 to their duration for bonus action Advantage, which is the point of most of them"]
[{"$nulls":3},"steel wind strike casts: AE",0,0,0,0,0,0,0,0,0,0,0,0,0,0,0,0,0,0,0,0,null,"fighters"]
[{"$nulls":3},"summon celestial casts: (c)",0,0,0,0,0,0,0,0,0,0,0,0,0,0,0,0,0,0,0,0,null,"  action surge"]
[{"$nulls":3},"swift quiver casts: (bonus action, c)",0,0,0,0,0,0,0,0,0,0,0,0,0,0,0,0,0,0,0,0,null,"    battlemaster has dice with minimal damage impact, although can prone"]
[{"$nulls":3},"LEVEL 6",{"$nulls":8},0,{"$nulls":12},"  subclasses"]
[{"$nulls":3},"tenser's transformation casts: (c)",0,0,0,0,0,0,0,0,0,0,0,0,0,0,0,0,0,0,0,0,null,"    psi-warrior"]
[{"$nulls":3},"LEVEL 7",null,null,0,{"$nulls":18},"    battlemaster can also turn miss into hit, and gain a reposte opp att"]
[{"$nulls":3},"crown of stars casts",0,0,0,0,0,0,0,0,0,0,0,0,0,0,0,0,0,0,0,0,null,"    cavalier has extra opp attacks and prone stuff"]
[{"$nulls":3},"SPELL-LIKE ACTIONS & OPTIONS",{"$nulls":21},"    champion has increased crit range"]
[{"$nulls":3},"Favored Foe Ranger marking ability uses (c) (free  action)",0,0,0,0,0,0,0,0,0,0,0,0,0,0,1,1,1,1,1,1,null,"    echo knight"]
[{"$nulls":3},"Bonus Action to provide Advantage (Spell-like action: Rogue, Ranger)",0,0,0,0,0,0,0,0,0,0,0,0,0,0,0,0,0,0,0,0,null,"    eldritch knight gives bonus actions if use a cantrip"]
[{"$nulls":3},"Use GWM / SS only with Advantage (binary option)",0,0,0,0,0,0,0,0,0,0,0,0,0,0,0,0,0,0,0,0,null,"Tasha's subclasses for:"]
[{"$nulls":3},"Cleric Blessed Strikes (Tasha's) instead of Divine Strikes/Potent Spellcasting",0,0,0,0,0,0,0,0,0,0,0,0,0,0,0,0,0,0,0,0,null,"rogue"]
[{"$nulls":25},"    phantom"]
[{"$nulls":3},"Find Familiar (adv on first attack of every round)",{"$f":"IF(IF(E13>=17,1,0)+IF(E15>=1,1,0)+IF(AND($B$25>=1,E6>=$B$25),1,0)+IF(AND(E10>=3,E59>=1),1,0)+IF(AND(E11>=3,E72>=1)+IF(OR(AND(E12>=3,E56>=1),AND($B$72>0,$B$72<=E6,E12>=3,E55>=1)),1,0),1,0)>=1,1,0)+IF(E19>=2,1,0)","v":0},0,0,0,0,0,0,0,0,0,0,0,0,0,0,0,1,1,1,1,null,"ranger"]
[{"$nulls":3},"Has Booming Blade (based on cantrip-class availability, racial option)",{"$f":"IF(OR($B$54>=1,E12>=1,E13>=1,E15>=1,E19>=1,AND(E10>=3,E59),AND($B$25>=1,E6>=$B$25),AND(E11>=3,E72)),1,0)","v":0},0,0,0,0,0,0,0,0,0,0,0,0,0,0,0,1,1,1,1,null,"  swarmkeeper"]
[{"$nulls":3},"Avg Opp AC",{"$f":"'Caster Tables'!C7+'Base Numbers'!$G$5","v":13},{"$f":"'Caster Tables'!D7+'Base Numbers'!$G$5","v":13},{"$f":"'Caster Tables'!E7+'Base Numbers'!$G$5","v":14},{"$f":"'Caster Tables'!F7+'Base Numbers'!$G$5","v":14},{"$f":"'Caster Tables'!G7+'Base Numbers'!$G$5","v":14},{"$f":"'Caster Tables'!H7+'Base Numbers'!$G$5","v":15},{"$f":"'Caster Tables'!I7+'Base Numbers'!$G$5","v":15},{"$f":"'Caster Tables'!J7+'Base Numbers'!$G$5","v":15},{"$f":"'Caster Tables'!K7+'Base Numbers'!$G$5","v":16},{"$f":"'Caster Tables'!L7+'Base Numbers'!$G$5","v":16},{"$f":"'Caster Tables'!M7+'Base Numbers'!$G$5","v":16},{"$f":"'Caster Tables'!N7+'Base Numbers'!$G$5","v":17},{"$f":"'Caster Tables'!O7+'Base Numbers'!$G$5","v":17},{"$f":"'Caster Tables'!P7+'Base Numbers'!$G$5","v":17},{"$f":"'Caster Tables'!Q7+'Base Numbers'!$G$5","v":18},{"$f":"'Caster Tables'!R7+'Base Numbers'!$G$5","v":18},{"$f":"'Caster Tables'!S7+'Base Numbers'!$G$5","v":18},{"$f":"'Caster Tables'!T7+'Base Numbers'!$G$5","v":19},{"$f":"'Caster Tables'!U7+'Base Numbers'!$G$5","v":19},{"$f":"'Caster Tables'!V7+'Base Numbers'!$G$5","v":19},null,"monk"]
[{"$nulls":3},"Use WIS bonus (if Shillalegh)",{"$f":"IF($B$48>=1,1,0)","v":0},{"$f":"IF($B$48>=1,1,0)","v":0},0,0,0,0,0,0,0,0,0,0,0,0,0,0,0,0,0,0,null,"  astral self"]
[{"$nulls":3},"Use INT bonus (if Artificer Battle Smith)",{"$f":"IF(AND(E8<=1,E19>=3,E75>=1,E154=0),1,0)","v":0},0,0,0,0,0,0,0,0,0,0,0,0,0,0,0,0,0,0,0,null,"  mercy"]
[{"$nulls":3},"Use CHA bonus (if Hexblade Warlock >0)",{"$f":"IF(AND(E155=0,E154=0,E8<=1,E50>0,OR(AND(E12>=1,AND(E36>=E35,E36>=E34),OR($B$32>=1,$B$33>=1,$B$34>=1)),AND(E12>=3,E54>=1,$B$38=0,E36>=E34))),1,0)","v":0},0,0,0,0,0,0,0,0,0,0,0,0,0,0,0,0,0,0,0,null,"druid"]
[{"$nulls":3},"Use DEX bonus (if no GWM, PAM, and DEX > STR, no Barb 2, Or Monk1)",{"$f":"IF(AND(E155=0,E154=0,E8<=1),IF(AND(E156=0,OR(E18>=1,$B$38>=1,$B$39>=1,$B$40>=1,AND(E30=0,E28=0)),E35>=E34),1,0),0)","v":1},{"$f":"IF(AND(F155=0,F154=0,F8<=1),IF(AND(F156=0,OR(F18>=1,$B$38>=1,$B$39>=1,$B$40>=1,AND(F30=0,F28=0)),F35>=F34),1,0),0)","v":1},1,1,1,1,1,1,1,1,1,1,1,1,1,1,1,1,1,1,null,"warlock"]
[{"$nulls":3},"Use STR bonus (otherwise)",{"$f":"IF(E8>=2,1,IF(AND(E157=0,E156=0,E155=0,E154=0),1,0))","v":0},{"$f":"IF(F8>=2,1,IF(AND(F157=0,F156=0,F155=0,F154=0),1,0))","v":0},0,0,0,0,0,0,0,0,0,0,0,0,0,0,0,0,0,0,null,"    samurai has daily advantage, plus extra attacks instead of advantage"]
[{"$nulls":3},"Total hit and damage bonus (CHA discounted by shadowblade uptime)",{"$f":"IF(E158,E34,0)+IF(E155,E37,0)+IF(E157,E35,0)+IF(E154,E38,0)+IF(E156,E36*(1-E366)+E366*MAX(E34,E35),0)","v":3},3,3,3,3,3,3,3,4,4,4,4,5,5,5,5,5,5,5,5,null,"fighter"]
[{"$nulls":3},"Infer if Ranged: Best guess based on spec / weapon use",{"$f":"IF(AND(OR($B$38>=1,$B$39>=1,$B$40>=1,E32>=1),NOT(E30),NOT(E28)),1,0)","v":1},{"$f":"IF(AND(OR($B$38>=1,$B$39>=1,$B$40>=1,F32>=1),NOT(F30),NOT(F28)),1,0)","v":1},1,1,1,1,1,1,1,1,1,1,1,1,1,1,1,1,1,1,null,"Piercer Feat"]
[{"$nulls":3},"Force Ranged (turns off melee attacks, bonus attacks, smites, BB)",{"$f":"IF($B44>=1,1,0)","v":1},{"$f":"IF($B44>=1,1,0)","v":1},1,1,1,1,1,1,1,1,1,1,1,1,1,1,1,1,1,1,null,"Halfling Lucky hit/crit chance mod"]
[{"$nulls":3},"Force Melee (turns off ranged attacks)",{"$f":"IF($B45>=1,1,0)","v":0},{"$f":"IF($B45>=1,1,0)","v":0},0,0,0,0,0,0,0,0,0,0,0,0,0,0,0,0,0,0,null,"different save probs for different ability save spells"]
[{"$nulls":3},"Is Ranged",{"$f":"IF(OR(AND(E162=0,E160=1),E161=1),1,0)","v":1},{"$f":"IF(OR(AND(F162=0,F160=1),F161=1),1,0)","v":1},1,1,1,1,1,1,1,1,1,1,1,1,1,1,1,1,1,1,null,"heavy xbow option"]
[{"$nulls":3},"Exclude Eld Blast",{"$f":"IF($B46>=1,1,0)","v":0},0,0,0,0,0,0,0,0,0,0,0,0,0,0,0,0,0,0,0,null,"separate spell attack chances"]
[{"$nulls":25},"rangers"]
[{"$nulls":25},"    feywild (tasha's)"]
[{"$nulls":3},"ALLOWED CASTS PER DAY (checks level/class requirements)",1,2,3,4,5,6,7,8,9,10,11,12,13,14,15,16,17,18,19,20,null,"rogue"]
[{"$nulls":3},"guiding bolt casts (cleric, druid of stars)",{"$f":"IF(OR('Base Numbers'!$C$21,AND(E17>=2,E77),AND(E13>=1,E44),E16>=1,E14>=10,AND(E14>=6,E67>=1)),E98,0)","v":0},{"$f":"IF(OR('Base Numbers'!$C$21,AND(F17>=2,F77),AND(F13>=1,F44),F16>=1,F14>=10,AND(F14>=6,F67>=1)),F98,0)","v":0},{"$f":"IF(OR('Base Numbers'!$C$21,AND(G17>=2,G77),AND(G13>=1,G44),G16>=1,G14>=10,AND(G14>=6,G67>=1)),G98,0)","v":0},{"$f":"IF(OR('Base Numbers'!$C$21,AND(H17>=2,H77),AND(H13>=1,H44),H16>=1,H14>=10,AND(H14>=6,H67>=1)),H98,0)","v":0},{"$f":"IF(OR('Base Numbers'!$C$21,AND(I17>=2,I77),AND(I13>=1,I44),I16>=1,I14>=10,AND(I14>=6,I67>=1)),I98,0)","v":0},{"$f":"IF(OR('Base Numbers'!$C$21,AND(J17>=2,J77),AND(J13>=1,J44),J16>=1,J14>=10,AND(J14>=6,J67>=1)),J98,0)","v":0},{"$f":"IF(OR('Base Numbers'!$C$21,AND(K17>=2,K77),AND(K13>=1,K44),K16>=1,K14>=10,AND(K14>=6,K67>=1)),K98,0)","v":0},{"$f":"IF(OR('Base Numbers'!$C$21,AND(L17>=2,L77),AND(L13>=1,L44),L16>=1,L14>=10,AND(L14>=6,L67>=1)),L98,0)","v":0},{"$f":"IF(OR('Base Numbers'!$C$21,AND(M17>=2,M77),AND(M13>=1,M44),M16>=1,M14>=10,AND(M14>=6,M67>=1)),M98,0)","v":0},{"$f":"IF(OR('Base Numbers'!$C$21,AND(N17>=2,N77),AND(N13>=1,N44),N16>=1,N14>=10,AND(N14>=6,N67>=1)),N98,0)","v":0},{"$f":"IF(OR('Base Numbers'!$C$21,AND(O17>=2,O77),AND(O13>=1,O44),O16>=1,O14>=10,AND(O14>=6,O67>=1)),O98,0)","v":0},{"$f":"IF(OR('Base Numbers'!$C$21,AND(P17>=2,P77),AND(P13>=1,P44),P16>=1,P14>=10,AND(P14>=6,P67>=1)),P98,0)","v":0},{"$f":"IF(OR('Base Numbers'!$C$21,AND(Q17>=2,Q77),AND(Q13>=1,Q44),Q16>=1,Q14>=10,AND(Q14>=6,Q67>=1)),Q98,0)","v":0},{"$f":"IF(OR('Base Numbers'!$C$21,AND(R17>=2,R77),AND(R13>=1,R44),R16>=1,R14>=10,AND(R14>=6,R67>=1)),R98,0)","v":0},{"$f":"IF(OR('Base Numbers'!$C$21,AND(S17>=2,S77),AND(S13>=1,S44),S16>=1,S14>=10,AND(S14>=6,S67>=1)),S98,0)","v":0},{"$f":"IF(OR('Base Numbers'!$C$21,AND(T17>=2,T77),AND(T13>=1,T44),T16>=1,T14>=10,AND(T14>=6,T67>=1)),T98,0)","v":0},{"$f":"IF(OR('Base Numbers'!$C$21,AND(U17>=2,U77),AND(U13>=1,U44),U16>=1,U14>=10,AND(U14>=6,U67>=1)),U98,0)","v":0},{"$f":"IF(OR('Base Numbers'!$C$21,AND(V17>=2,V77),AND(V13>=1,V44),V16>=1,V14>=10,AND(V14>=6,V67>=1)),V98,0)","v":0},{"$f":"IF(OR('Base Numbers'!$C$21,AND(W17>=2,W77),AND(W13>=1,W44),W16>=1,W14>=10,AND(W14>=6,W67>=1)),W98,0)","v":0},{"$f":"IF(OR('Base Numbers'!$C$21,AND(X17>=2,X77),AND(X13>=1,X44),X16>=1,X14>=10,AND(X14>=6,X67>=1)),X98,0)","v":0},null,"    L3: sacrifice bonus action for advantage"]
[{"$nulls":3},"magic missile: AE",{"$f":"IF(OR('Base Numbers'!$C$21,E15>=1,E13>=1,E14>=10,AND(E14>=6,E67>=1)),E100,0)","v":0},{"$f":"IF(OR('Base Numbers'!$C$21,F15>=1,F13>=1,F14>=10,AND(F14>=6,F67>=1)),F100,0)","v":0},{"$f":"IF(OR('Base Numbers'!$C$21,G15>=1,G13>=1,G14>=10,AND(G14>=6,G67>=1)),G100,0)","v":0},{"$f":"IF(OR('Base Numbers'!$C$21,H15>=1,H13>=1,H14>=10,AND(H14>=6,H67>=1)),H100,0)","v":0},{"$f":"IF(OR('Base Numbers'!$C$21,I15>=1,I13>=1,I14>=10,AND(I14>=6,I67>=1)),I100,0)","v":0},{"$f":"IF(OR('Base Numbers'!$C$21,J15>=1,J13>=1,J14>=10,AND(J14>=6,J67>=1)),J100,0)","v":0},{"$f":"IF(OR('Base Numbers'!$C$21,K15>=1,K13>=1,K14>=10,AND(K14>=6,K67>=1)),K100,0)","v":0},{"$f":"IF(OR('Base Numbers'!$C$21,L15>=1,L13>=1,L14>=10,AND(L14>=6,L67>=1)),L100,0)","v":0},{"$f":"IF(OR('Base Numbers'!$C$21,M15>=1,M13>=1,M14>=10,AND(M14>=6,M67>=1)),M100,0)","v":0},{"$f":"IF(OR('Base Numbers'!$C$21,N15>=1,N13>=1,N14>=10,AND(N14>=6,N67>=1)),N100,0)","v":0},{"$f":"IF(OR('Base Numbers'!$C$21,O15>=1,O13>=1,O14>=10,AND(O14>=6,O67>=1)),O100,0)","v":0},{"$f":"IF(OR('Base Numbers'!$C$21,P15>=1,P13>=1,P14>=10,AND(P14>=6,P67>=1)),P100,0)","v":0},{"$f":"IF(OR('Base Numbers'!$C$21,Q15>=1,Q13>=1,Q14>=10,AND(Q14>=6,Q67>=1)),Q100,0)","v":0},{"$f":"IF(OR('Base Numbers'!$C$21,R15>=1,R13>=1,R14>=10,AND(R14>=6,R67>=1)),R100,0)","v":0},{"$f":"IF(OR('Base Numbers'!$C$21,S15>=1,S13>=1,S14>=10,AND(S14>=6,S67>=1)),S100,0)","v":0},{"$f":"IF(OR('Base Numbers'!$C$21,T15>=1,T13>=1,T14>=10,AND(T14>=6,T67>=1)),T100,0)","v":0},{"$f":"IF(OR('Base Numbers'!$C$21,U15>=1,U13>=1,U14>=10,AND(U14>=6,U67>=1)),U100,0)","v":0},{"$f":"IF(OR('Base Numbers'!$C$21,V15>=1,V13>=1,V14>=10,AND(V14>=6,V67>=1)),V100,0)","v":0},{"$f":"IF(OR('Base Numbers'!$C$21,W15>=1,W13>=1,W14>=10,AND(W14>=6,W67>=1)),W100,0)","v":0},{"$f":"IF(OR('Base Numbers'!$C$21,X15>=1,X13>=1,X14>=10,AND(X14>=6,X67>=1)),X100,0)","v":0},null,"    arcane trickster: gain FF, BB, and GFB at L3"]
[{"$nulls":3},"scorching ray : AE",{"$f":"IF(OR('Base Numbers'!$C$21,E15>=3,E13>=3,E14>=10,AND(E14>=6,E67>=1),AND(E19>=5,E76)),E108,0)","v":0},{"$f":"IF(OR('Base Numbers'!$C$21,F15>=3,F13>=3,F14>=10,AND(F14>=6,F67>=1),AND(F19>=5,F76)),F108,0)","v":0},{"$f":"IF(OR('Base Numbers'!$C$21,G15>=3,G13>=3,G14>=10,AND(G14>=6,G67>=1),AND(G19>=5,G76)),G108,0)","v":0},{"$f":"IF(OR('Base Numbers'!$C$21,H15>=3,H13>=3,H14>=10,AND(H14>=6,H67>=1),AND(H19>=5,H76)),H108,0)","v":0},{"$f":"IF(OR('Base Numbers'!$C$21,I15>=3,I13>=3,I14>=10,AND(I14>=6,I67>=1),AND(I19>=5,I76)),I108,0)","v":0},{"$f":"IF(OR('Base Numbers'!$C$21,J15>=3,J13>=3,J14>=10,AND(J14>=6,J67>=1),AND(J19>=5,J76)),J108,0)","v":0},{"$f":"IF(OR('Base Numbers'!$C$21,K15>=3,K13>=3,K14>=10,AND(K14>=6,K67>=1),AND(K19>=5,K76)),K108,0)","v":0},{"$f":"IF(OR('Base Numbers'!$C$21,L15>=3,L13>=3,L14>=10,AND(L14>=6,L67>=1),AND(L19>=5,L76)),L108,0)","v":0},{"$f":"IF(OR('Base Numbers'!$C$21,M15>=3,M13>=3,M14>=10,AND(M14>=6,M67>=1),AND(M19>=5,M76)),M108,0)","v":0},{"$f":"IF(OR('Base Numbers'!$C$21,N15>=3,N13>=3,N14>=10,AND(N14>=6,N67>=1),AND(N19>=5,N76)),N108,0)","v":0},{"$f":"IF(OR('Base Numbers'!$C$21,O15>=3,O13>=3,O14>=10,AND(O14>=6,O67>=1),AND(O19>=5,O76)),O108,0)","v":0},{"$f":"IF(OR('Base Numbers'!$C$21,P15>=3,P13>=3,P14>=10,AND(P14>=6,P67>=1),AND(P19>=5,P76)),P108,0)","v":0},{"$f":"IF(OR('Base Numbers'!$C$21,Q15>=3,Q13>=3,Q14>=10,AND(Q14>=6,Q67>=1),AND(Q19>=5,Q76)),Q108,0)","v":0},{"$f":"IF(OR('Base Numbers'!$C$21,R15>=3,R13>=3,R14>=10,AND(R14>=6,R67>=1),AND(R19>=5,R76)),R108,0)","v":0},{"$f":"IF(OR('Base Numbers'!$C$21,S15>=3,S13>=3,S14>=10,AND(S14>=6,S67>=1),AND(S19>=5,S76)),S108,0)","v":0},{"$f":"IF(OR('Base Numbers'!$C$21,T15>=3,T13>=3,T14>=10,AND(T14>=6,T67>=1),AND(T19>=5,T76)),T108,0)","v":0},{"$f":"IF(OR('Base Numbers'!$C$21,U15>=3,U13>=3,U14>=10,AND(U14>=6,U67>=1),AND(U19>=5,U76)),U108,0)","v":0},{"$f":"IF(OR('Base Numbers'!$C$21,V15>=3,V13>=3,V14>=10,AND(V14>=6,V67>=1),AND(V19>=5,V76)),V108,0)","v":0},{"$f":"IF(OR('Base Numbers'!$C$21,W15>=3,W13>=3,W14>=10,AND(W14>=6,W67>=1),AND(W19>=5,W76)),W108,0)","v":0},{"$f":"IF(OR('Base Numbers'!$C$21,X15>=3,X13>=3,X14>=10,AND(X14>=6,X67>=1),AND(X19>=5,X76)),X108,0)","v":0},null,"artificer"]
[{"$nulls":3},"fog cloud casts: (c)",{"$f":"IF(OR('Base Numbers'!$C$21,E9>=2,E13>=1,E15>=1,E17>=1,AND(E10>=3,E59>=1),AND(E11>=3,E72>=1),E14>=10,AND(E14>=6,E67>=1),AND(E12>=1,E52>=1)),E97,0)","v":0},{"$f":"IF(OR('Base Numbers'!$C$21,F9>=2,F13>=1,F15>=1,F17>=1,AND(F10>=3,F59>=1),AND(F11>=3,F72>=1),F14>=10,AND(F14>=6,F67>=1),AND(F12>=1,F52>=1)),F97,0)","v":0},{"$f":"IF(OR('Base Numbers'!$C$21,G9>=2,G13>=1,G15>=1,G17>=1,AND(G10>=3,G59>=1),AND(G11>=3,G72>=1),G14>=10,AND(G14>=6,G67>=1),AND(G12>=1,G52>=1)),G97,0)","v":0},{"$f":"IF(OR('Base Numbers'!$C$21,H9>=2,H13>=1,H15>=1,H17>=1,AND(H10>=3,H59>=1),AND(H11>=3,H72>=1),H14>=10,AND(H14>=6,H67>=1),AND(H12>=1,H52>=1)),H97,0)","v":0},{"$f":"IF(OR('Base Numbers'!$C$21,I9>=2,I13>=1,I15>=1,I17>=1,AND(I10>=3,I59>=1),AND(I11>=3,I72>=1),I14>=10,AND(I14>=6,I67>=1),AND(I12>=1,I52>=1)),I97,0)","v":0},{"$f":"IF(OR('Base Numbers'!$C$21,J9>=2,J13>=1,J15>=1,J17>=1,AND(J10>=3,J59>=1),AND(J11>=3,J72>=1),J14>=10,AND(J14>=6,J67>=1),AND(J12>=1,J52>=1)),J97,0)","v":0},{"$f":"IF(OR('Base Numbers'!$C$21,K9>=2,K13>=1,K15>=1,K17>=1,AND(K10>=3,K59>=1),AND(K11>=3,K72>=1),K14>=10,AND(K14>=6,K67>=1),AND(K12>=1,K52>=1)),K97,0)","v":0},{"$f":"IF(OR('Base Numbers'!$C$21,L9>=2,L13>=1,L15>=1,L17>=1,AND(L10>=3,L59>=1),AND(L11>=3,L72>=1),L14>=10,AND(L14>=6,L67>=1),AND(L12>=1,L52>=1)),L97,0)","v":0},{"$f":"IF(OR('Base Numbers'!$C$21,M9>=2,M13>=1,M15>=1,M17>=1,AND(M10>=3,M59>=1),AND(M11>=3,M72>=1),M14>=10,AND(M14>=6,M67>=1),AND(M12>=1,M52>=1)),M97,0)","v":0},{"$f":"IF(OR('Base Numbers'!$C$21,N9>=2,N13>=1,N15>=1,N17>=1,AND(N10>=3,N59>=1),AND(N11>=3,N72>=1),N14>=10,AND(N14>=6,N67>=1),AND(N12>=1,N52>=1)),N97,0)","v":0},{"$f":"IF(OR('Base Numbers'!$C$21,O9>=2,O13>=1,O15>=1,O17>=1,AND(O10>=3,O59>=1),AND(O11>=3,O72>=1),O14>=10,AND(O14>=6,O67>=1),AND(O12>=1,O52>=1)),O97,0)","v":0},{"$f":"IF(OR('Base Numbers'!$C$21,P9>=2,P13>=1,P15>=1,P17>=1,AND(P10>=3,P59>=1),AND(P11>=3,P72>=1),P14>=10,AND(P14>=6,P67>=1),AND(P12>=1,P52>=1)),P97,0)","v":0},{"$f":"IF(OR('Base Numbers'!$C$21,Q9>=2,Q13>=1,Q15>=1,Q17>=1,AND(Q10>=3,Q59>=1),AND(Q11>=3,Q72>=1),Q14>=10,AND(Q14>=6,Q67>=1),AND(Q12>=1,Q52>=1)),Q97,0)","v":0},{"$f":"IF(OR('Base Numbers'!$C$21,R9>=2,R13>=1,R15>=1,R17>=1,AND(R10>=3,R59>=1),AND(R11>=3,R72>=1),R14>=10,AND(R14>=6,R67>=1),AND(R12>=1,R52>=1)),R97,0)","v":0},{"$f":"IF(OR('Base Numbers'!$C$21,S9>=2,S13>=1,S15>=1,S17>=1,AND(S10>=3,S59>=1),AND(S11>=3,S72>=1),S14>=10,AND(S14>=6,S67>=1),AND(S12>=1,S52>=1)),S97,0)","v":0},{"$f":"IF(OR('Base Numbers'!$C$21,T9>=2,T13>=1,T15>=1,T17>=1,AND(T10>=3,T59>=1),AND(T11>=3,T72>=1),T14>=10,AND(T14>=6,T67>=1),AND(T12>=1,T52>=1)),T97,0)","v":0},{"$f":"IF(OR('Base Numbers'!$C$21,U9>=2,U13>=1,U15>=1,U17>=1,AND(U10>=3,U59>=1),AND(U11>=3,U72>=1),U14>=10,AND(U14>=6,U67>=1),AND(U12>=1,U52>=1)),U97,0)","v":0},{"$f":"IF(OR('Base Numbers'!$C$21,V9>=2,V13>=1,V15>=1,V17>=1,AND(V10>=3,V59>=1),AND(V11>=3,V72>=1),V14>=10,AND(V14>=6,V67>=1),AND(V12>=1,V52>=1)),V97,0)","v":0},{"$f":"IF(OR('Base Numbers'!$C$21,W9>=2,W13>=1,W15>=1,W17>=1,AND(W10>=3,W59>=1),AND(W11>=3,W72>=1),W14>=10,AND(W14>=6,W67>=1),AND(W12>=1,W52>=1)),W97,0)","v":0},{"$f":"IF(OR('Base Numbers'!$C$21,X9>=2,X13>=1,X15>=1,X17>=1,AND(X10>=3,X59>=1),AND(X11>=3,X72>=1),X14>=10,AND(X14>=6,X67>=1),AND(X12>=1,X52>=1)),X97,0)","v":0},null,"  battlesmith"]
[{"$nulls":3},"pyrotechnics casts: ",{"$f":"IF(OR('Base Numbers'!$C$21,E13>=3,E15>=3,E19>=5,E14>=3,AND(E10>=7,E59>=1),AND(E11>=7,E72>=1)),E107,0)","v":0},{"$f":"IF(OR('Base Numbers'!$C$21,F13>=3,F15>=3,F19>=5,F14>=3,AND(F10>=7,F59>=1),AND(F11>=7,F72>=1)),F107,0)","v":0},{"$f":"IF(OR('Base Numbers'!$C$21,G13>=3,G15>=3,G19>=5,G14>=3,AND(G10>=7,G59>=1),AND(G11>=7,G72>=1)),G107,0)","v":0},{"$f":"IF(OR('Base Numbers'!$C$21,H13>=3,H15>=3,H19>=5,H14>=3,AND(H10>=7,H59>=1),AND(H11>=7,H72>=1)),H107,0)","v":0},{"$f":"IF(OR('Base Numbers'!$C$21,I13>=3,I15>=3,I19>=5,I14>=3,AND(I10>=7,I59>=1),AND(I11>=7,I72>=1)),I107,0)","v":0},{"$f":"IF(OR('Base Numbers'!$C$21,J13>=3,J15>=3,J19>=5,J14>=3,AND(J10>=7,J59>=1),AND(J11>=7,J72>=1)),J107,0)","v":0},{"$f":"IF(OR('Base Numbers'!$C$21,K13>=3,K15>=3,K19>=5,K14>=3,AND(K10>=7,K59>=1),AND(K11>=7,K72>=1)),K107,0)","v":0},{"$f":"IF(OR('Base Numbers'!$C$21,L13>=3,L15>=3,L19>=5,L14>=3,AND(L10>=7,L59>=1),AND(L11>=7,L72>=1)),L107,0)","v":0},{"$f":"IF(OR('Base Numbers'!$C$21,M13>=3,M15>=3,M19>=5,M14>=3,AND(M10>=7,M59>=1),AND(M11>=7,M72>=1)),M107,0)","v":0},{"$f":"IF(OR('Base Numbers'!$C$21,N13>=3,N15>=3,N19>=5,N14>=3,AND(N10>=7,N59>=1),AND(N11>=7,N72>=1)),N107,0)","v":0},{"$f":"IF(OR('Base Numbers'!$C$21,O13>=3,O15>=3,O19>=5,O14>=3,AND(O10>=7,O59>=1),AND(O11>=7,O72>=1)),O107,0)","v":0},{"$f":"IF(OR('Base Numbers'!$C$21,P13>=3,P15>=3,P19>=5,P14>=3,AND(P10>=7,P59>=1),AND(P11>=7,P72>=1)),P107,0)","v":0},{"$f":"IF(OR('Base Numbers'!$C$21,Q13>=3,Q15>=3,Q19>=5,Q14>=3,AND(Q10>=7,Q59>=1),AND(Q11>=7,Q72>=1)),Q107,0)","v":0},{"$f":"IF(OR('Base Numbers'!$C$21,R13>=3,R15>=3,R19>=5,R14>=3,AND(R10>=7,R59>=1),AND(R11>=7,R72>=1)),R107,0)","v":0},{"$f":"IF(OR('Base Numbers'!$C$21,S13>=3,S15>=3,S19>=5,S14>=3,AND(S10>=7,S59>=1),AND(S11>=7,S72>=1)),S107,0)","v":0},{"$f":"IF(OR('Base Numbers'!$C$21,T13>=3,T15>=3,T19>=5,T14>=3,AND(T10>=7,T59>=1),AND(T11>=7,T72>=1)),T107,0)","v":0},{"$f":"IF(OR('Base Numbers'!$C$21,U13>=3,U15>=3,U19>=5,U14>=3,AND(U10>=7,U59>=1),AND(U11>=7,U72>=1)),U107,0)","v":0},{"$f":"IF(OR('Base Numbers'!$C$21,V13>=3,V15>=3,V19>=5,V14>=3,AND(V10>=7,V59>=1),AND(V11>=7,V72>=1)),V107,0)","v":0},{"$f":"IF(OR('Base Numbers'!$C$21,W13>=3,W15>=3,W19>=5,W14>=3,AND(W10>=7,W59>=1),AND(W11>=7,W72>=1)),W107,0)","v":0},{"$f":"IF(OR('Base Numbers'!$C$21,X13>=3,X15>=3,X19>=5,X14>=3,AND(X10>=7,X59>=1),AND(X11>=7,X72>=1)),X107,0)","v":0},null,"  artillerist"]
[{"$nulls":3},"darkness casts: (c) (oathbreaker)",{"$f":"IF(OR('Base Numbers'!$C$21,E14>=6,E15>=3,E13>=3,E12>=3,AND(E7>=5,E41)),E103,0)","v":0},{"$f":"IF(OR('Base Numbers'!$C$21,F14>=6,F15>=3,F13>=3,F12>=3,AND(F7>=5,F41)),F103,0)","v":0},{"$f":"IF(OR('Base Numbers'!$C$21,G14>=6,G15>=3,G13>=3,G12>=3,AND(G7>=5,G41)),G103,0)","v":0},{"$f":"IF(OR('Base Numbers'!$C$21,H14>=6,H15>=3,H13>=3,H12>=3,AND(H7>=5,H41)),H103,0)","v":0},{"$f":"IF(OR('Base Numbers'!$C$21,I14>=6,I15>=3,I13>=3,I12>=3,AND(I7>=5,I41)),I103,0)","v":0},{"$f":"IF(OR('Base Numbers'!$C$21,J14>=6,J15>=3,J13>=3,J12>=3,AND(J7>=5,J41)),J103,0)","v":0},{"$f":"IF(OR('Base Numbers'!$C$21,K14>=6,K15>=3,K13>=3,K12>=3,AND(K7>=5,K41)),K103,0)","v":0},{"$f":"IF(OR('Base Numbers'!$C$21,L14>=6,L15>=3,L13>=3,L12>=3,AND(L7>=5,L41)),L103,0)","v":0},{"$f":"IF(OR('Base Numbers'!$C$21,M14>=6,M15>=3,M13>=3,M12>=3,AND(M7>=5,M41)),M103,0)","v":0},{"$f":"IF(OR('Base Numbers'!$C$21,N14>=6,N15>=3,N13>=3,N12>=3,AND(N7>=5,N41)),N103,0)","v":0},{"$f":"IF(OR('Base Numbers'!$C$21,O14>=6,O15>=3,O13>=3,O12>=3,AND(O7>=5,O41)),O103,0)","v":0},{"$f":"IF(OR('Base Numbers'!$C$21,P14>=6,P15>=3,P13>=3,P12>=3,AND(P7>=5,P41)),P103,0)","v":0},{"$f":"IF(OR('Base Numbers'!$C$21,Q14>=6,Q15>=3,Q13>=3,Q12>=3,AND(Q7>=5,Q41)),Q103,0)","v":0},{"$f":"IF(OR('Base Numbers'!$C$21,R14>=6,R15>=3,R13>=3,R12>=3,AND(R7>=5,R41)),R103,0)","v":0},{"$f":"IF(OR('Base Numbers'!$C$21,S14>=6,S15>=3,S13>=3,S12>=3,AND(S7>=5,S41)),S103,0)","v":0},{"$f":"IF(OR('Base Numbers'!$C$21,T14>=6,T15>=3,T13>=3,T12>=3,AND(T7>=5,T41)),T103,0)","v":0},{"$f":"IF(OR('Base Numbers'!$C$21,U14>=6,U15>=3,U13>=3,U12>=3,AND(U7>=5,U41)),U103,0)","v":0},{"$f":"IF(OR('Base Numbers'!$C$21,V14>=6,V15>=3,V13>=3,V12>=3,AND(V7>=5,V41)),V103,0)","v":0},{"$f":"IF(OR('Base Numbers'!$C$21,W14>=6,W15>=3,W13>=3,W12>=3,AND(W7>=5,W41)),W103,0)","v":0},{"$f":"IF(OR('Base Numbers'!$C$21,X14>=6,X15>=3,X13>=3,X12>=3,AND(X7>=5,X41)),X103,0)","v":0},null,"generalized cantrip action value"]
[{"$nulls":3},"shadow blade (c) (bonus action)",{"$f":"IF(OR('Base Numbers'!$C$21,AND(E10>=7,E59>=1),AND(E11>=7, E72>=1),E15>=3,E14>=10,AND(E14>=6,E67>=1),E12>=3,E13>=3),E109,0)","v":0},{"$f":"IF(OR('Base Numbers'!$C$21,AND(F10>=7,F59>=1),AND(F11>=7, F72>=1),F15>=3,F14>=10,AND(F14>=6,F67>=1),F12>=3,F13>=3),F109,0)","v":0},{"$f":"IF(OR('Base Numbers'!$C$21,AND(G10>=7,G59>=1),AND(G11>=7, G72>=1),G15>=3,G14>=10,AND(G14>=6,G67>=1),G12>=3,G13>=3),G109,0)","v":0},{"$f":"IF(OR('Base Numbers'!$C$21,AND(H10>=7,H59>=1),AND(H11>=7, H72>=1),H15>=3,H14>=10,AND(H14>=6,H67>=1),H12>=3,H13>=3),H109,0)","v":0},{"$f":"IF(OR('Base Numbers'!$C$21,AND(I10>=7,I59>=1),AND(I11>=7, I72>=1),I15>=3,I14>=10,AND(I14>=6,I67>=1),I12>=3,I13>=3),I109,0)","v":0},{"$f":"IF(OR('Base Numbers'!$C$21,AND(J10>=7,J59>=1),AND(J11>=7, J72>=1),J15>=3,J14>=10,AND(J14>=6,J67>=1),J12>=3,J13>=3),J109,0)","v":0},{"$f":"IF(OR('Base Numbers'!$C$21,AND(K10>=7,K59>=1),AND(K11>=7, K72>=1),K15>=3,K14>=10,AND(K14>=6,K67>=1),K12>=3,K13>=3),K109,0)","v":0},{"$f":"IF(OR('Base Numbers'!$C$21,AND(L10>=7,L59>=1),AND(L11>=7, L72>=1),L15>=3,L14>=10,AND(L14>=6,L67>=1),L12>=3,L13>=3),L109,0)","v":0},{"$f":"IF(OR('Base Numbers'!$C$21,AND(M10>=7,M59>=1),AND(M11>=7, M72>=1),M15>=3,M14>=10,AND(M14>=6,M67>=1),M12>=3,M13>=3),M109,0)","v":0},{"$f":"IF(OR('Base Numbers'!$C$21,AND(N10>=7,N59>=1),AND(N11>=7, N72>=1),N15>=3,N14>=10,AND(N14>=6,N67>=1),N12>=3,N13>=3),N109,0)","v":0},{"$f":"IF(OR('Base Numbers'!$C$21,AND(O10>=7,O59>=1),AND(O11>=7, O72>=1),O15>=3,O14>=10,AND(O14>=6,O67>=1),O12>=3,O13>=3),O109,0)","v":0},{"$f":"IF(OR('Base Numbers'!$C$21,AND(P10>=7,P59>=1),AND(P11>=7, P72>=1),P15>=3,P14>=10,AND(P14>=6,P67>=1),P12>=3,P13>=3),P109,0)","v":0},{"$f":"IF(OR('Base Numbers'!$C$21,AND(Q10>=7,Q59>=1),AND(Q11>=7, Q72>=1),Q15>=3,Q14>=10,AND(Q14>=6,Q67>=1),Q12>=3,Q13>=3),Q109,0)","v":0},{"$f":"IF(OR('Base Numbers'!$C$21,AND(R10>=7,R59>=1),AND(R11>=7, R72>=1),R15>=3,R14>=10,AND(R14>=6,R67>=1),R12>=3,R13>=3),R109,0)","v":0},{"$f":"IF(OR('Base Numbers'!$C$21,AND(S10>=7,S59>=1),AND(S11>=7, S72>=1),S15>=3,S14>=10,AND(S14>=6,S67>=1),S12>=3,S13>=3),S109,0)","v":0},{"$f":"IF(OR('Base Numbers'!$C$21,AND(T10>=7,T59>=1),AND(T11>=7, T72>=1),T15>=3,T14>=10,AND(T14>=6,T67>=1),T12>=3,T13>=3),T109,0)","v":0},{"$f":"IF(OR('Base Numbers'!$C$21,AND(U10>=7,U59>=1),AND(U11>=7, U72>=1),U15>=3,U14>=10,AND(U14>=6,U67>=1),U12>=3,U13>=3),U109,0)","v":0},{"$f":"IF(OR('Base Numbers'!$C$21,AND(V10>=7,V59>=1),AND(V11>=7, V72>=1),V15>=3,V14>=10,AND(V14>=6,V67>=1),V12>=3,V13>=3),V109,0)","v":0},{"$f":"IF(OR('Base Numbers'!$C$21,AND(W10>=7,W59>=1),AND(W11>=7, W72>=1),W15>=3,W14>=10,AND(W14>=6,W67>=1),W12>=3,W13>=3),W109,0)","v":0},{"$f":"IF(OR('Base Numbers'!$C$21,AND(X10>=7,X59>=1),AND(X11>=7, X72>=1),X15>=3,X14>=10,AND(X14>=6,X67>=1),X12>=3,X13>=3),X109,0)","v":0},null,"  circle of stars"]
[{"$nulls":3},"bless casts (c)",{"$f":"IF(OR('Base Numbers'!$C$21,E14>=6,E16>=1,E7>=2,AND(E44,E13>=1),E14>=10,AND(E14>=6,E67>=1)),E94,0)","v":0},{"$f":"IF(OR('Base Numbers'!$C$21,F14>=6,F16>=1,F7>=2,AND(F44,F13>=1),F14>=10,AND(F14>=6,F67>=1)),F94,0)","v":0},{"$f":"IF(OR('Base Numbers'!$C$21,G14>=6,G16>=1,G7>=2,AND(G44,G13>=1),G14>=10,AND(G14>=6,G67>=1)),G94,0)","v":0},{"$f":"IF(OR('Base Numbers'!$C$21,H14>=6,H16>=1,H7>=2,AND(H44,H13>=1),H14>=10,AND(H14>=6,H67>=1)),H94,0)","v":0},{"$f":"IF(OR('Base Numbers'!$C$21,I14>=6,I16>=1,I7>=2,AND(I44,I13>=1),I14>=10,AND(I14>=6,I67>=1)),I94,0)","v":0},{"$f":"IF(OR('Base Numbers'!$C$21,J14>=6,J16>=1,J7>=2,AND(J44,J13>=1),J14>=10,AND(J14>=6,J67>=1)),J94,0)","v":0},{"$f":"IF(OR('Base Numbers'!$C$21,K14>=6,K16>=1,K7>=2,AND(K44,K13>=1),K14>=10,AND(K14>=6,K67>=1)),K94,0)","v":0},{"$f":"IF(OR('Base Numbers'!$C$21,L14>=6,L16>=1,L7>=2,AND(L44,L13>=1),L14>=10,AND(L14>=6,L67>=1)),L94,0)","v":0},{"$f":"IF(OR('Base Numbers'!$C$21,M14>=6,M16>=1,M7>=2,AND(M44,M13>=1),M14>=10,AND(M14>=6,M67>=1)),M94,0)","v":0},{"$f":"IF(OR('Base Numbers'!$C$21,N14>=6,N16>=1,N7>=2,AND(N44,N13>=1),N14>=10,AND(N14>=6,N67>=1)),N94,0)","v":0},{"$f":"IF(OR('Base Numbers'!$C$21,O14>=6,O16>=1,O7>=2,AND(O44,O13>=1),O14>=10,AND(O14>=6,O67>=1)),O94,0)","v":0},{"$f":"IF(OR('Base Numbers'!$C$21,P14>=6,P16>=1,P7>=2,AND(P44,P13>=1),P14>=10,AND(P14>=6,P67>=1)),P94,0)","v":0},{"$f":"IF(OR('Base Numbers'!$C$21,Q14>=6,Q16>=1,Q7>=2,AND(Q44,Q13>=1),Q14>=10,AND(Q14>=6,Q67>=1)),Q94,0)","v":0},{"$f":"IF(OR('Base Numbers'!$C$21,R14>=6,R16>=1,R7>=2,AND(R44,R13>=1),R14>=10,AND(R14>=6,R67>=1)),R94,0)","v":0},{"$f":"IF(OR('Base Numbers'!$C$21,S14>=6,S16>=1,S7>=2,AND(S44,S13>=1),S14>=10,AND(S14>=6,S67>=1)),S94,0)","v":0},{"$f":"IF(OR('Base Numbers'!$C$21,T14>=6,T16>=1,T7>=2,AND(T44,T13>=1),T14>=10,AND(T14>=6,T67>=1)),T94,0)","v":0},{"$f":"IF(OR('Base Numbers'!$C$21,U14>=6,U16>=1,U7>=2,AND(U44,U13>=1),U14>=10,AND(U14>=6,U67>=1)),U94,0)","v":0},{"$f":"IF(OR('Base Numbers'!$C$21,V14>=6,V16>=1,V7>=2,AND(V44,V13>=1),V14>=10,AND(V14>=6,V67>=1)),V94,0)","v":0},{"$f":"IF(OR('Base Numbers'!$C$21,W14>=6,W16>=1,W7>=2,AND(W44,W13>=1),W14>=10,AND(W14>=6,W67>=1)),W94,0)","v":0},{"$f":"IF(OR('Base Numbers'!$C$21,X14>=6,X16>=1,X7>=2,AND(X44,X13>=1),X14>=10,AND(X14>=6,X67>=1)),X94,0)","v":0},null,"Druid circle of spores damage"]
[{"$nulls":3},"divine favor casts (c)",{"$f":"IF(OR('Base Numbers'!$C$21,E14>=6,E7>=2,AND(E44,E13>=1),E14>=10,AND(E14>=6,E67>=1)),E95,0)","v":0},{"$f":"IF(OR('Base Numbers'!$C$21,F14>=6,F7>=2,AND(F44,F13>=1),F14>=10,AND(F14>=6,F67>=1)),F95,0)","v":0},{"$f":"IF(OR('Base Numbers'!$C$21,G14>=6,G7>=2,AND(G44,G13>=1),G14>=10,AND(G14>=6,G67>=1)),G95,0)","v":0},{"$f":"IF(OR('Base Numbers'!$C$21,H14>=6,H7>=2,AND(H44,H13>=1),H14>=10,AND(H14>=6,H67>=1)),H95,0)","v":0},{"$f":"IF(OR('Base Numbers'!$C$21,I14>=6,I7>=2,AND(I44,I13>=1),I14>=10,AND(I14>=6,I67>=1)),I95,0)","v":0},{"$f":"IF(OR('Base Numbers'!$C$21,J14>=6,J7>=2,AND(J44,J13>=1),J14>=10,AND(J14>=6,J67>=1)),J95,0)","v":0},{"$f":"IF(OR('Base Numbers'!$C$21,K14>=6,K7>=2,AND(K44,K13>=1),K14>=10,AND(K14>=6,K67>=1)),K95,0)","v":0},{"$f":"IF(OR('Base Numbers'!$C$21,L14>=6,L7>=2,AND(L44,L13>=1),L14>=10,AND(L14>=6,L67>=1)),L95,0)","v":0},{"$f":"IF(OR('Base Numbers'!$C$21,M14>=6,M7>=2,AND(M44,M13>=1),M14>=10,AND(M14>=6,M67>=1)),M95,0)","v":0},{"$f":"IF(OR('Base Numbers'!$C$21,N14>=6,N7>=2,AND(N44,N13>=1),N14>=10,AND(N14>=6,N67>=1)),N95,0)","v":0},{"$f":"IF(OR('Base Numbers'!$C$21,O14>=6,O7>=2,AND(O44,O13>=1),O14>=10,AND(O14>=6,O67>=1)),O95,0)","v":0},{"$f":"IF(OR('Base Numbers'!$C$21,P14>=6,P7>=2,AND(P44,P13>=1),P14>=10,AND(P14>=6,P67>=1)),P95,0)","v":0},{"$f":"IF(OR('Base Numbers'!$C$21,Q14>=6,Q7>=2,AND(Q44,Q13>=1),Q14>=10,AND(Q14>=6,Q67>=1)),Q95,0)","v":0},{"$f":"IF(OR('Base Numbers'!$C$21,R14>=6,R7>=2,AND(R44,R13>=1),R14>=10,AND(R14>=6,R67>=1)),R95,0)","v":0},{"$f":"IF(OR('Base Numbers'!$C$21,S14>=6,S7>=2,AND(S44,S13>=1),S14>=10,AND(S14>=6,S67>=1)),S95,0)","v":0},{"$f":"IF(OR('Base Numbers'!$C$21,T14>=6,T7>=2,AND(T44,T13>=1),T14>=10,AND(T14>=6,T67>=1)),T95,0)","v":0},{"$f":"IF(OR('Base Numbers'!$C$21,U14>=6,U7>=2,AND(U44,U13>=1),U14>=10,AND(U14>=6,U67>=1)),U95,0)","v":0},{"$f":"IF(OR('Base Numbers'!$C$21,V14>=6,V7>=2,AND(V44,V13>=1),V14>=10,AND(V14>=6,V67>=1)),V95,0)","v":0},{"$f":"IF(OR('Base Numbers'!$C$21,W14>=6,W7>=2,AND(W44,W13>=1),W14>=10,AND(W14>=6,W67>=1)),W95,0)","v":0},{"$f":"IF(OR('Base Numbers'!$C$21,X14>=6,X7>=2,AND(X44,X13>=1),X14>=10,AND(X14>=6,X67>=1)),X95,0)","v":0},null,"assassin advantage"]
[{"$nulls":3},"haste casts (c) (veng)",{"$f":"IF(OR('Base Numbers'!$C$21,E14>=6,E15>=5,E13>=5,E19>=9,AND(E40,E7>=9)),E118,0)","v":0},{"$f":"IF(OR('Base Numbers'!$C$21,F14>=6,F15>=5,F13>=5,F19>=9,AND(F40,F7>=9)),F118,0)","v":0},{"$f":"IF(OR('Base Numbers'!$C$21,G14>=6,G15>=5,G13>=5,G19>=9,AND(G40,G7>=9)),G118,0)","v":0},{"$f":"IF(OR('Base Numbers'!$C$21,H14>=6,H15>=5,H13>=5,H19>=9,AND(H40,H7>=9)),H118,0)","v":0},{"$f":"IF(OR('Base Numbers'!$C$21,I14>=6,I15>=5,I13>=5,I19>=9,AND(I40,I7>=9)),I118,0)","v":0},{"$f":"IF(OR('Base Numbers'!$C$21,J14>=6,J15>=5,J13>=5,J19>=9,AND(J40,J7>=9)),J118,0)","v":0},{"$f":"IF(OR('Base Numbers'!$C$21,K14>=6,K15>=5,K13>=5,K19>=9,AND(K40,K7>=9)),K118,0)","v":0},{"$f":"IF(OR('Base Numbers'!$C$21,L14>=6,L15>=5,L13>=5,L19>=9,AND(L40,L7>=9)),L118,0)","v":0},{"$f":"IF(OR('Base Numbers'!$C$21,M14>=6,M15>=5,M13>=5,M19>=9,AND(M40,M7>=9)),M118,0)","v":0},{"$f":"IF(OR('Base Numbers'!$C$21,N14>=6,N15>=5,N13>=5,N19>=9,AND(N40,N7>=9)),N118,0)","v":0},{"$f":"IF(OR('Base Numbers'!$C$21,O14>=6,O15>=5,O13>=5,O19>=9,AND(O40,O7>=9)),O118,0)","v":0},{"$f":"IF(OR('Base Numbers'!$C$21,P14>=6,P15>=5,P13>=5,P19>=9,AND(P40,P7>=9)),P118,0)","v":0},{"$f":"IF(OR('Base Numbers'!$C$21,Q14>=6,Q15>=5,Q13>=5,Q19>=9,AND(Q40,Q7>=9)),Q118,0)","v":0},{"$f":"IF(OR('Base Numbers'!$C$21,R14>=6,R15>=5,R13>=5,R19>=9,AND(R40,R7>=9)),R118,0)","v":0},{"$f":"IF(OR('Base Numbers'!$C$21,S14>=6,S15>=5,S13>=5,S19>=9,AND(S40,S7>=9)),S118,0)","v":0},{"$f":"IF(OR('Base Numbers'!$C$21,T14>=6,T15>=5,T13>=5,T19>=9,AND(T40,T7>=9)),T118,0)","v":0},{"$f":"IF(OR('Base Numbers'!$C$21,U14>=6,U15>=5,U13>=5,U19>=9,AND(U40,U7>=9)),U118,0)","v":0},{"$f":"IF(OR('Base Numbers'!$C$21,V14>=6,V15>=5,V13>=5,V19>=9,AND(V40,V7>=9)),V118,0)","v":0},{"$f":"IF(OR('Base Numbers'!$C$21,W14>=6,W15>=5,W13>=5,W19>=9,AND(W40,W7>=9)),W118,0)","v":0},{"$f":"IF(OR('Base Numbers'!$C$21,X14>=6,X15>=5,X13>=5,X19>=9,AND(X40,X7>=9)),X118,0)","v":0},null,"assassin deathstrike (L17)"]
[{"$nulls":3},"hunter's mark / hex casts (c) (veng) (bonus action)",{"$f":"IF(OR('Base Numbers'!$C$21,E14>=10,AND(E14>=6,E67>=1),E12>=1,E9>=2,AND(E40,E7>=3),AND($B$29>=1,E6>=$B$29)),E99,0)","v":0},{"$f":"IF(OR('Base Numbers'!$C$21,F14>=10,AND(F14>=6,F67>=1),F12>=1,F9>=2,AND(F40,F7>=3),AND($B$29>=1,F6>=$B$29)),F99,0)","v":2},{"$f":"IF(OR('Base Numbers'!$C$21,G14>=10,AND(G14>=6,G67>=1),G12>=1,G9>=2,AND(G40,G7>=3),AND($B$29>=1,G6>=$B$29)),G99,0)","v":3},{"$f":"IF(OR('Base Numbers'!$C$21,H14>=10,AND(H14>=6,H67>=1),H12>=1,H9>=2,AND(H40,H7>=3),AND($B$29>=1,H6>=$B$29)),H99,0)","v":3},{"$f":"IF(OR('Base Numbers'!$C$21,I14>=10,AND(I14>=6,I67>=1),I12>=1,I9>=2,AND(I40,I7>=3),AND($B$29>=1,I6>=$B$29)),I99,0)","v":4},{"$f":"IF(OR('Base Numbers'!$C$21,J14>=10,AND(J14>=6,J67>=1),J12>=1,J9>=2,AND(J40,J7>=3),AND($B$29>=1,J6>=$B$29)),J99,0)","v":4},{"$f":"IF(OR('Base Numbers'!$C$21,K14>=10,AND(K14>=6,K67>=1),K12>=1,K9>=2,AND(K40,K7>=3),AND($B$29>=1,K6>=$B$29)),K99,0)","v":4},{"$f":"IF(OR('Base Numbers'!$C$21,L14>=10,AND(L14>=6,L67>=1),L12>=1,L9>=2,AND(L40,L7>=3),AND($B$29>=1,L6>=$B$29)),L99,0)","v":4},{"$f":"IF(OR('Base Numbers'!$C$21,M14>=10,AND(M14>=6,M67>=1),M12>=1,M9>=2,AND(M40,M7>=3),AND($B$29>=1,M6>=$B$29)),M99,0)","v":4},{"$f":"IF(OR('Base Numbers'!$C$21,N14>=10,AND(N14>=6,N67>=1),N12>=1,N9>=2,AND(N40,N7>=3),AND($B$29>=1,N6>=$B$29)),N99,0)","v":4},{"$f":"IF(OR('Base Numbers'!$C$21,O14>=10,AND(O14>=6,O67>=1),O12>=1,O9>=2,AND(O40,O7>=3),AND($B$29>=1,O6>=$B$29)),O99,0)","v":4},{"$f":"IF(OR('Base Numbers'!$C$21,P14>=10,AND(P14>=6,P67>=1),P12>=1,P9>=2,AND(P40,P7>=3),AND($B$29>=1,P6>=$B$29)),P99,0)","v":4},{"$f":"IF(OR('Base Numbers'!$C$21,Q14>=10,AND(Q14>=6,Q67>=1),Q12>=1,Q9>=2,AND(Q40,Q7>=3),AND($B$29>=1,Q6>=$B$29)),Q99,0)","v":4},{"$f":"IF(OR('Base Numbers'!$C$21,R14>=10,AND(R14>=6,R67>=1),R12>=1,R9>=2,AND(R40,R7>=3),AND($B$29>=1,R6>=$B$29)),R99,0)","v":4},{"$f":"IF(OR('Base Numbers'!$C$21,S14>=10,AND(S14>=6,S67>=1),S12>=1,S9>=2,AND(S40,S7>=3),AND($B$29>=1,S6>=$B$29)),S99,0)","v":4},{"$f":"IF(OR('Base Numbers'!$C$21,T14>=10,AND(T14>=6,T67>=1),T12>=1,T9>=2,AND(T40,T7>=3),AND($B$29>=1,T6>=$B$29)),T99,0)","v":4},{"$f":"IF(OR('Base Numbers'!$C$21,U14>=10,AND(U14>=6,U67>=1),U12>=1,U9>=2,AND(U40,U7>=3),AND($B$29>=1,U6>=$B$29)),U99,0)","v":4},{"$f":"IF(OR('Base Numbers'!$C$21,V14>=10,AND(V14>=6,V67>=1),V12>=1,V9>=2,AND(V40,V7>=3),AND($B$29>=1,V6>=$B$29)),V99,0)","v":4},{"$f":"IF(OR('Base Numbers'!$C$21,W14>=10,AND(W14>=6,W67>=1),W12>=1,W9>=2,AND(W40,W7>=3),AND($B$29>=1,W6>=$B$29)),W99,0)","v":4},{"$f":"IF(OR('Base Numbers'!$C$21,X14>=10,AND(X14>=6,X67>=1),X12>=1,X9>=2,AND(X40,X7>=3),AND($B$29>=1,X6>=$B$29)),X99,0)","v":4},null,"Base Numbers option for DM allows BB with Shadowblade"]
[{"$nulls":3},"spirit guardians casts (c) (req Divine Soul)",{"$f":"IF('Base Numbers'!$C$21,MIN(E120,'Base Numbers'!$G$21),MIN('Base Numbers'!$G$21,IF(OR('Base Numbers'!E14>=10,AND(E14>=6,E67>=1),E16>=5,AND(E44,E13>=5)),E120,0)))","v":0},{"$f":"IF('Base Numbers'!$C$21,MIN(F120,'Base Numbers'!$G$21),MIN('Base Numbers'!$G$21,IF(OR('Base Numbers'!F14>=10,AND(F14>=6,F67>=1),F16>=5,AND(F44,F13>=5)),F120,0)))","v":0},{"$f":"IF('Base Numbers'!$C$21,MIN(G120,'Base Numbers'!$G$21),MIN('Base Numbers'!$G$21,IF(OR('Base Numbers'!G14>=10,AND(G14>=6,G67>=1),G16>=5,AND(G44,G13>=5)),G120,0)))","v":0},{"$f":"IF('Base Numbers'!$C$21,MIN(H120,'Base Numbers'!$G$21),MIN('Base Numbers'!$G$21,IF(OR('Base Numbers'!H14>=10,AND(H14>=6,H67>=1),H16>=5,AND(H44,H13>=5)),H120,0)))","v":0},{"$f":"IF('Base Numbers'!$C$21,MIN(I120,'Base Numbers'!$G$21),MIN('Base Numbers'!$G$21,IF(OR('Base Numbers'!I14>=10,AND(I14>=6,I67>=1),I16>=5,AND(I44,I13>=5)),I120,0)))","v":0},{"$f":"IF('Base Numbers'!$C$21,MIN(J120,'Base Numbers'!$G$21),MIN('Base Numbers'!$G$21,IF(OR('Base Numbers'!J14>=10,AND(J14>=6,J67>=1),J16>=5,AND(J44,J13>=5)),J120,0)))","v":0},{"$f":"IF('Base Numbers'!$C$21,MIN(K120,'Base Numbers'!$G$21),MIN('Base Numbers'!$G$21,IF(OR('Base Numbers'!K14>=10,AND(K14>=6,K67>=1),K16>=5,AND(K44,K13>=5)),K120,0)))","v":0},{"$f":"IF('Base Numbers'!$C$21,MIN(L120,'Base Numbers'!$G$21),MIN('Base Numbers'!$G$21,IF(OR('Base Numbers'!L14>=10,AND(L14>=6,L67>=1),L16>=5,AND(L44,L13>=5)),L120,0)))","v":0},{"$f":"IF('Base Numbers'!$C$21,MIN(M120,'Base Numbers'!$G$21),MIN('Base Numbers'!$G$21,IF(OR('Base Numbers'!M14>=10,AND(M14>=6,M67>=1),M16>=5,AND(M44,M13>=5)),M120,0)))","v":0},{"$f":"IF('Base Numbers'!$C$21,MIN(N120,'Base Numbers'!$G$21),MIN('Base Numbers'!$G$21,IF(OR('Base Numbers'!N14>=10,AND(N14>=6,N67>=1),N16>=5,AND(N44,N13>=5)),N120,0)))","v":0},{"$f":"IF('Base Numbers'!$C$21,MIN(O120,'Base Numbers'!$G$21),MIN('Base Numbers'!$G$21,IF(OR('Base Numbers'!O14>=10,AND(O14>=6,O67>=1),O16>=5,AND(O44,O13>=5)),O120,0)))","v":0},{"$f":"IF('Base Numbers'!$C$21,MIN(P120,'Base Numbers'!$G$21),MIN('Base Numbers'!$G$21,IF(OR('Base Numbers'!P14>=10,AND(P14>=6,P67>=1),P16>=5,AND(P44,P13>=5)),P120,0)))","v":0},{"$f":"IF('Base Numbers'!$C$21,MIN(Q120,'Base Numbers'!$G$21),MIN('Base Numbers'!$G$21,IF(OR('Base Numbers'!Q14>=10,AND(Q14>=6,Q67>=1),Q16>=5,AND(Q44,Q13>=5)),Q120,0)))","v":0},{"$f":"IF('Base Numbers'!$C$21,MIN(R120,'Base Numbers'!$G$21),MIN('Base Numbers'!$G$21,IF(OR('Base Numbers'!R14>=10,AND(R14>=6,R67>=1),R16>=5,AND(R44,R13>=5)),R120,0)))","v":0},{"$f":"IF('Base Numbers'!$C$21,MIN(S120,'Base Numbers'!$G$21),MIN('Base Numbers'!$G$21,IF(OR('Base Numbers'!S14>=10,AND(S14>=6,S67>=1),S16>=5,AND(S44,S13>=5)),S120,0)))","v":0},{"$f":"IF('Base Numbers'!$C$21,MIN(T120,'Base Numbers'!$G$21),MIN('Base Numbers'!$G$21,IF(OR('Base Numbers'!T14>=10,AND(T14>=6,T67>=1),T16>=5,AND(T44,T13>=5)),T120,0)))","v":0},{"$f":"IF('Base Numbers'!$C$21,MIN(U120,'Base Numbers'!$G$21),MIN('Base Numbers'!$G$21,IF(OR('Base Numbers'!U14>=10,AND(U14>=6,U67>=1),U16>=5,AND(U44,U13>=5)),U120,0)))","v":0},{"$f":"IF('Base Numbers'!$C$21,MIN(V120,'Base Numbers'!$G$21),MIN('Base Numbers'!$G$21,IF(OR('Base Numbers'!V14>=10,AND(V14>=6,V67>=1),V16>=5,AND(V44,V13>=5)),V120,0)))","v":0},{"$f":"IF('Base Numbers'!$C$21,MIN(W120,'Base Numbers'!$G$21),MIN('Base Numbers'!$G$21,IF(OR('Base Numbers'!W14>=10,AND(W14>=6,W67>=1),W16>=5,AND(W44,W13>=5)),W120,0)))","v":0},{"$f":"IF('Base Numbers'!$C$21,MIN(X120,'Base Numbers'!$G$21),MIN('Base Numbers'!$G$21,IF(OR('Base Numbers'!X14>=10,AND(X14>=6,X67>=1),X16>=5,AND(X44,X13>=5)),X120,0)))","v":0},null,"add ranged weapons to weapon choice"]
[{"$nulls":3},"faerie fire casts (c)",{"$f":"IF(OR('Base Numbers'!$C$21,E17>=1,E19>=1,E14>=10,AND(E14>=6,E67>=1)),E96,0)","v":0},{"$f":"IF(OR('Base Numbers'!$C$21,F17>=1,F19>=1,F14>=10,AND(F14>=6,F67>=1)),F96,0)","v":0},{"$f":"IF(OR('Base Numbers'!$C$21,G17>=1,G19>=1,G14>=10,AND(G14>=6,G67>=1)),G96,0)","v":0},{"$f":"IF(OR('Base Numbers'!$C$21,H17>=1,H19>=1,H14>=10,AND(H14>=6,H67>=1)),H96,0)","v":0},{"$f":"IF(OR('Base Numbers'!$C$21,I17>=1,I19>=1,I14>=10,AND(I14>=6,I67>=1)),I96,0)","v":0},{"$f":"IF(OR('Base Numbers'!$C$21,J17>=1,J19>=1,J14>=10,AND(J14>=6,J67>=1)),J96,0)","v":0},{"$f":"IF(OR('Base Numbers'!$C$21,K17>=1,K19>=1,K14>=10,AND(K14>=6,K67>=1)),K96,0)","v":0},{"$f":"IF(OR('Base Numbers'!$C$21,L17>=1,L19>=1,L14>=10,AND(L14>=6,L67>=1)),L96,0)","v":0},{"$f":"IF(OR('Base Numbers'!$C$21,M17>=1,M19>=1,M14>=10,AND(M14>=6,M67>=1)),M96,0)","v":0},{"$f":"IF(OR('Base Numbers'!$C$21,N17>=1,N19>=1,N14>=10,AND(N14>=6,N67>=1)),N96,0)","v":0},{"$f":"IF(OR('Base Numbers'!$C$21,O17>=1,O19>=1,O14>=10,AND(O14>=6,O67>=1)),O96,0)","v":0},{"$f":"IF(OR('Base Numbers'!$C$21,P17>=1,P19>=1,P14>=10,AND(P14>=6,P67>=1)),P96,0)","v":0},{"$f":"IF(OR('Base Numbers'!$C$21,Q17>=1,Q19>=1,Q14>=10,AND(Q14>=6,Q67>=1)),Q96,0)","v":0},{"$f":"IF(OR('Base Numbers'!$C$21,R17>=1,R19>=1,R14>=10,AND(R14>=6,R67>=1)),R96,0)","v":0},{"$f":"IF(OR('Base Numbers'!$C$21,S17>=1,S19>=1,S14>=10,AND(S14>=6,S67>=1)),S96,0)","v":0},{"$f":"IF(OR('Base Numbers'!$C$21,T17>=1,T19>=1,T14>=10,AND(T14>=6,T67>=1)),T96,0)","v":0},{"$f":"IF(OR('Base Numbers'!$C$21,U17>=1,U19>=1,U14>=10,AND(U14>=6,U67>=1)),U96,0)","v":0},{"$f":"IF(OR('Base Numbers'!$C$21,V17>=1,V19>=1,V14>=10,AND(V14>=6,V67>=1)),V96,0)","v":0},{"$f":"IF(OR('Base Numbers'!$C$21,W17>=1,W19>=1,W14>=10,AND(W14>=6,W67>=1)),W96,0)","v":0},{"$f":"IF(OR('Base Numbers'!$C$21,X17>=1,X19>=1,X14>=10,AND(X14>=6,X67>=1)),X96,0)","v":0},null,"Summons?"]
[{"$nulls":3},"spirit shroud casts (c)",{"$f":"IF(OR('Base Numbers'!$C$21,E12>=5,E15>=5,E16>=5,E7>=9,E14>=10,AND(E14>=6,E67>=1)),E121,0)","v":0},{"$f":"IF(OR('Base Numbers'!$C$21,F12>=5,F15>=5,F16>=5,F7>=9,F14>=10,AND(F14>=6,F67>=1)),F121,0)","v":0},{"$f":"IF(OR('Base Numbers'!$C$21,G12>=5,G15>=5,G16>=5,G7>=9,G14>=10,AND(G14>=6,G67>=1)),G121,0)","v":0},{"$f":"IF(OR('Base Numbers'!$C$21,H12>=5,H15>=5,H16>=5,H7>=9,H14>=10,AND(H14>=6,H67>=1)),H121,0)","v":0},{"$f":"IF(OR('Base Numbers'!$C$21,I12>=5,I15>=5,I16>=5,I7>=9,I14>=10,AND(I14>=6,I67>=1)),I121,0)","v":0},{"$f":"IF(OR('Base Numbers'!$C$21,J12>=5,J15>=5,J16>=5,J7>=9,J14>=10,AND(J14>=6,J67>=1)),J121,0)","v":0},{"$f":"IF(OR('Base Numbers'!$C$21,K12>=5,K15>=5,K16>=5,K7>=9,K14>=10,AND(K14>=6,K67>=1)),K121,0)","v":0},{"$f":"IF(OR('Base Numbers'!$C$21,L12>=5,L15>=5,L16>=5,L7>=9,L14>=10,AND(L14>=6,L67>=1)),L121,0)","v":0},{"$f":"IF(OR('Base Numbers'!$C$21,M12>=5,M15>=5,M16>=5,M7>=9,M14>=10,AND(M14>=6,M67>=1)),M121,0)","v":0},{"$f":"IF(OR('Base Numbers'!$C$21,N12>=5,N15>=5,N16>=5,N7>=9,N14>=10,AND(N14>=6,N67>=1)),N121,0)","v":0},{"$f":"IF(OR('Base Numbers'!$C$21,O12>=5,O15>=5,O16>=5,O7>=9,O14>=10,AND(O14>=6,O67>=1)),O121,0)","v":0},{"$f":"IF(OR('Base Numbers'!$C$21,P12>=5,P15>=5,P16>=5,P7>=9,P14>=10,AND(P14>=6,P67>=1)),P121,0)","v":0},{"$f":"IF(OR('Base Numbers'!$C$21,Q12>=5,Q15>=5,Q16>=5,Q7>=9,Q14>=10,AND(Q14>=6,Q67>=1)),Q121,0)","v":0},{"$f":"IF(OR('Base Numbers'!$C$21,R12>=5,R15>=5,R16>=5,R7>=9,R14>=10,AND(R14>=6,R67>=1)),R121,0)","v":0},{"$f":"IF(OR('Base Numbers'!$C$21,S12>=5,S15>=5,S16>=5,S7>=9,S14>=10,AND(S14>=6,S67>=1)),S121,0)","v":0},{"$f":"IF(OR('Base Numbers'!$C$21,T12>=5,T15>=5,T16>=5,T7>=9,T14>=10,AND(T14>=6,T67>=1)),T121,0)","v":0},{"$f":"IF(OR('Base Numbers'!$C$21,U12>=5,U15>=5,U16>=5,U7>=9,U14>=10,AND(U14>=6,U67>=1)),U121,0)","v":0},{"$f":"IF(OR('Base Numbers'!$C$21,V12>=5,V15>=5,V16>=5,V7>=9,V14>=10,AND(V14>=6,V67>=1)),V121,0)","v":0},{"$f":"IF(OR('Base Numbers'!$C$21,W12>=5,W15>=5,W16>=5,W7>=9,W14>=10,AND(W14>=6,W67>=1)),W121,0)","v":0},{"$f":"IF(OR('Base Numbers'!$C$21,X12>=5,X15>=5,X16>=5,X7>=9,X14>=10,AND(X14>=6,X67>=1)),X121,0)","v":0},null,"monk unarmed fighting style (d8)"]
[{"$nulls":3},"steel wind strike",{"$f":"MIN('Base Numbers'!$G$21,IF(OR('Base Numbers'!$C$21,E15>=9,OR(E9>=17,E14>=10)),E138,0))","v":0},{"$f":"MIN('Base Numbers'!$G$21,IF(OR('Base Numbers'!$C$21,F15>=9,OR(F9>=17,F14>=10)),F138,0))","v":0},{"$f":"MIN('Base Numbers'!$G$21,IF(OR('Base Numbers'!$C$21,G15>=9,OR(G9>=17,G14>=10)),G138,0))","v":0},{"$f":"MIN('Base Numbers'!$G$21,IF(OR('Base Numbers'!$C$21,H15>=9,OR(H9>=17,H14>=10)),H138,0))","v":0},{"$f":"MIN('Base Numbers'!$G$21,IF(OR('Base Numbers'!$C$21,I15>=9,OR(I9>=17,I14>=10)),I138,0))","v":0},{"$f":"MIN('Base Numbers'!$G$21,IF(OR('Base Numbers'!$C$21,J15>=9,OR(J9>=17,J14>=10)),J138,0))","v":0},{"$f":"MIN('Base Numbers'!$G$21,IF(OR('Base Numbers'!$C$21,K15>=9,OR(K9>=17,K14>=10)),K138,0))","v":0},{"$f":"MIN('Base Numbers'!$G$21,IF(OR('Base Numbers'!$C$21,L15>=9,OR(L9>=17,L14>=10)),L138,0))","v":0},{"$f":"MIN('Base Numbers'!$G$21,IF(OR('Base Numbers'!$C$21,M15>=9,OR(M9>=17,M14>=10)),M138,0))","v":0},{"$f":"MIN('Base Numbers'!$G$21,IF(OR('Base Numbers'!$C$21,N15>=9,OR(N9>=17,N14>=10)),N138,0))","v":0},{"$f":"MIN('Base Numbers'!$G$21,IF(OR('Base Numbers'!$C$21,O15>=9,OR(O9>=17,O14>=10)),O138,0))","v":0},{"$f":"MIN('Base Numbers'!$G$21,IF(OR('Base Numbers'!$C$21,P15>=9,OR(P9>=17,P14>=10)),P138,0))","v":0},{"$f":"MIN('Base Numbers'!$G$21,IF(OR('Base Numbers'!$C$21,Q15>=9,OR(Q9>=17,Q14>=10)),Q138,0))","v":0},{"$f":"MIN('Base Numbers'!$G$21,IF(OR('Base Numbers'!$C$21,R15>=9,OR(R9>=17,R14>=10)),R138,0))","v":0},{"$f":"MIN('Base Numbers'!$G$21,IF(OR('Base Numbers'!$C$21,S15>=9,OR(S9>=17,S14>=10)),S138,0))","v":0},{"$f":"MIN('Base Numbers'!$G$21,IF(OR('Base Numbers'!$C$21,T15>=9,OR(T9>=17,T14>=10)),T138,0))","v":0},{"$f":"MIN('Base Numbers'!$G$21,IF(OR('Base Numbers'!$C$21,U15>=9,OR(U9>=17,U14>=10)),U138,0))","v":0},{"$f":"MIN('Base Numbers'!$G$21,IF(OR('Base Numbers'!$C$21,V15>=9,OR(V9>=17,V14>=10)),V138,0))","v":0},{"$f":"MIN('Base Numbers'!$G$21,IF(OR('Base Numbers'!$C$21,W15>=9,OR(W9>=17,W14>=10)),W138,0))","v":0},{"$f":"MIN('Base Numbers'!$G$21,IF(OR('Base Numbers'!$C$21,X15>=9,OR(X9>=17,X14>=10)),X138,0))","v":0},null,"assassination round with cantrips / EB"]
[{"$nulls":3},"destructive wave : AE",{"$f":"IF(OR('Base Numbers'!$C$21,E7>=17,E14>=10,AND(E16>=9,E88>=1)),E135,0)","v":0},{"$f":"IF(OR('Base Numbers'!$C$21,F7>=17,F14>=10,AND(F16>=9,F88>=1)),F135,0)","v":0},{"$f":"IF(OR('Base Numbers'!$C$21,G7>=17,G14>=10,AND(G16>=9,G88>=1)),G135,0)","v":0},{"$f":"IF(OR('Base Numbers'!$C$21,H7>=17,H14>=10,AND(H16>=9,H88>=1)),H135,0)","v":0},{"$f":"IF(OR('Base Numbers'!$C$21,I7>=17,I14>=10,AND(I16>=9,I88>=1)),I135,0)","v":0},{"$f":"IF(OR('Base Numbers'!$C$21,J7>=17,J14>=10,AND(J16>=9,J88>=1)),J135,0)","v":0},{"$f":"IF(OR('Base Numbers'!$C$21,K7>=17,K14>=10,AND(K16>=9,K88>=1)),K135,0)","v":0},{"$f":"IF(OR('Base Numbers'!$C$21,L7>=17,L14>=10,AND(L16>=9,L88>=1)),L135,0)","v":0},{"$f":"IF(OR('Base Numbers'!$C$21,M7>=17,M14>=10,AND(M16>=9,M88>=1)),M135,0)","v":0},{"$f":"IF(OR('Base Numbers'!$C$21,N7>=17,N14>=10,AND(N16>=9,N88>=1)),N135,0)","v":0},{"$f":"IF(OR('Base Numbers'!$C$21,O7>=17,O14>=10,AND(O16>=9,O88>=1)),O135,0)","v":0},{"$f":"IF(OR('Base Numbers'!$C$21,P7>=17,P14>=10,AND(P16>=9,P88>=1)),P135,0)","v":0},{"$f":"IF(OR('Base Numbers'!$C$21,Q7>=17,Q14>=10,AND(Q16>=9,Q88>=1)),Q135,0)","v":0},{"$f":"IF(OR('Base Numbers'!$C$21,R7>=17,R14>=10,AND(R16>=9,R88>=1)),R135,0)","v":0},{"$f":"IF(OR('Base Numbers'!$C$21,S7>=17,S14>=10,AND(S16>=9,S88>=1)),S135,0)","v":0},{"$f":"IF(OR('Base Numbers'!$C$21,T7>=17,T14>=10,AND(T16>=9,T88>=1)),T135,0)","v":0},{"$f":"IF(OR('Base Numbers'!$C$21,U7>=17,U14>=10,AND(U16>=9,U88>=1)),U135,0)","v":0},{"$f":"IF(OR('Base Numbers'!$C$21,V7>=17,V14>=10,AND(V16>=9,V88>=1)),V135,0)","v":0},{"$f":"IF(OR('Base Numbers'!$C$21,W7>=17,W14>=10,AND(W16>=9,W88>=1)),W135,0)","v":0},{"$f":"IF(OR('Base Numbers'!$C$21,X7>=17,X14>=10,AND(X16>=9,X88>=1)),X135,0)","v":0},null,"warlock CHA bonus on two handed weapons on at L3"]
[{"$nulls":3},"guardian of nature (bonus action) (c)",{"$f":"IF(OR('Base Numbers'!$C$21,E17>=7,OR(E9>=13,E14>=10)),E127,0)","v":0},{"$f":"IF(OR('Base Numbers'!$C$21,F17>=7,OR(F9>=13,F14>=10)),F127,0)","v":0},{"$f":"IF(OR('Base Numbers'!$C$21,G17>=7,OR(G9>=13,G14>=10)),G127,0)","v":0},{"$f":"IF(OR('Base Numbers'!$C$21,H17>=7,OR(H9>=13,H14>=10)),H127,0)","v":0},{"$f":"IF(OR('Base Numbers'!$C$21,I17>=7,OR(I9>=13,I14>=10)),I127,0)","v":0},{"$f":"IF(OR('Base Numbers'!$C$21,J17>=7,OR(J9>=13,J14>=10)),J127,0)","v":0},{"$f":"IF(OR('Base Numbers'!$C$21,K17>=7,OR(K9>=13,K14>=10)),K127,0)","v":0},{"$f":"IF(OR('Base Numbers'!$C$21,L17>=7,OR(L9>=13,L14>=10)),L127,0)","v":0},{"$f":"IF(OR('Base Numbers'!$C$21,M17>=7,OR(M9>=13,M14>=10)),M127,0)","v":0},{"$f":"IF(OR('Base Numbers'!$C$21,N17>=7,OR(N9>=13,N14>=10)),N127,0)","v":0},{"$f":"IF(OR('Base Numbers'!$C$21,O17>=7,OR(O9>=13,O14>=10)),O127,0)","v":0},{"$f":"IF(OR('Base Numbers'!$C$21,P17>=7,OR(P9>=13,P14>=10)),P127,0)","v":0},{"$f":"IF(OR('Base Numbers'!$C$21,Q17>=7,OR(Q9>=13,Q14>=10)),Q127,0)","v":0},{"$f":"IF(OR('Base Numbers'!$C$21,R17>=7,OR(R9>=13,R14>=10)),R127,0)","v":0},{"$f":"IF(OR('Base Numbers'!$C$21,S17>=7,OR(S9>=13,S14>=10)),S127,0)","v":0},{"$f":"IF(OR('Base Numbers'!$C$21,T17>=7,OR(T9>=13,T14>=10)),T127,0)","v":0},{"$f":"IF(OR('Base Numbers'!$C$21,U17>=7,OR(U9>=13,U14>=10)),U127,0)","v":0},{"$f":"IF(OR('Base Numbers'!$C$21,V17>=7,OR(V9>=13,V14>=10)),V127,0)","v":0},{"$f":"IF(OR('Base Numbers'!$C$21,W17>=7,OR(W9>=13,W14>=10)),W127,0)","v":0},{"$f":"IF(OR('Base Numbers'!$C$21,X17>=7,OR(X9>=13,X14>=10)),X127,0)","v":0},null,"kobold pack tactics"]
[{"$nulls":3},"swift quiver (bonus action, c)",{"$f":"IF(OR('Base Numbers'!$C$21,E9>=17,E14>=10),E140,0)","v":0},{"$f":"IF(OR('Base Numbers'!$C$21,F9>=17,F14>=10),F140,0)","v":0},{"$f":"IF(OR('Base Numbers'!$C$21,G9>=17,G14>=10),G140,0)","v":0},{"$f":"IF(OR('Base Numbers'!$C$21,H9>=17,H14>=10),H140,0)","v":0},{"$f":"IF(OR('Base Numbers'!$C$21,I9>=17,I14>=10),I140,0)","v":0},{"$f":"IF(OR('Base Numbers'!$C$21,J9>=17,J14>=10),J140,0)","v":0},{"$f":"IF(OR('Base Numbers'!$C$21,K9>=17,K14>=10),K140,0)","v":0},{"$f":"IF(OR('Base Numbers'!$C$21,L9>=17,L14>=10),L140,0)","v":0},{"$f":"IF(OR('Base Numbers'!$C$21,M9>=17,M14>=10),M140,0)","v":0},{"$f":"IF(OR('Base Numbers'!$C$21,N9>=17,N14>=10),N140,0)","v":0},{"$f":"IF(OR('Base Numbers'!$C$21,O9>=17,O14>=10),O140,0)","v":0},{"$f":"IF(OR('Base Numbers'!$C$21,P9>=17,P14>=10),P140,0)","v":0},{"$f":"IF(OR('Base Numbers'!$C$21,Q9>=17,Q14>=10),Q140,0)","v":0},{"$f":"IF(OR('Base Numbers'!$C$21,R9>=17,R14>=10),R140,0)","v":0},{"$f":"IF(OR('Base Numbers'!$C$21,S9>=17,S14>=10),S140,0)","v":0},{"$f":"IF(OR('Base Numbers'!$C$21,T9>=17,T14>=10),T140,0)","v":0},{"$f":"IF(OR('Base Numbers'!$C$21,U9>=17,U14>=10),U140,0)","v":0},{"$f":"IF(OR('Base Numbers'!$C$21,V9>=17,V14>=10),V140,0)","v":0},{"$f":"IF(OR('Base Numbers'!$C$21,W9>=17,W14>=10),W140,0)","v":0},{"$f":"IF(OR('Base Numbers'!$C$21,X9>=17,X14>=10),X140,0)","v":0},null,"Crusher feat"]
[{"$nulls":3},"call lightning (c, AE)",{"$f":"MIN('Base Numbers'!$G$21,IF(OR('Base Numbers'!$C$21,E17>=5,E14>=10,AND(E14>=6,E67>=1),AND(E16>=5,E88>=1)),E114,0))","v":0},{"$f":"MIN('Base Numbers'!$G$21,IF(OR('Base Numbers'!$C$21,F17>=5,F14>=10,AND(F14>=6,F67>=1),AND(F16>=5,F88>=1)),F114,0))","v":0},{"$f":"MIN('Base Numbers'!$G$21,IF(OR('Base Numbers'!$C$21,G17>=5,G14>=10,AND(G14>=6,G67>=1),AND(G16>=5,G88>=1)),G114,0))","v":0},{"$f":"MIN('Base Numbers'!$G$21,IF(OR('Base Numbers'!$C$21,H17>=5,H14>=10,AND(H14>=6,H67>=1),AND(H16>=5,H88>=1)),H114,0))","v":0},{"$f":"MIN('Base Numbers'!$G$21,IF(OR('Base Numbers'!$C$21,I17>=5,I14>=10,AND(I14>=6,I67>=1),AND(I16>=5,I88>=1)),I114,0))","v":0},{"$f":"MIN('Base Numbers'!$G$21,IF(OR('Base Numbers'!$C$21,J17>=5,J14>=10,AND(J14>=6,J67>=1),AND(J16>=5,J88>=1)),J114,0))","v":0},{"$f":"MIN('Base Numbers'!$G$21,IF(OR('Base Numbers'!$C$21,K17>=5,K14>=10,AND(K14>=6,K67>=1),AND(K16>=5,K88>=1)),K114,0))","v":0},{"$f":"MIN('Base Numbers'!$G$21,IF(OR('Base Numbers'!$C$21,L17>=5,L14>=10,AND(L14>=6,L67>=1),AND(L16>=5,L88>=1)),L114,0))","v":0},{"$f":"MIN('Base Numbers'!$G$21,IF(OR('Base Numbers'!$C$21,M17>=5,M14>=10,AND(M14>=6,M67>=1),AND(M16>=5,M88>=1)),M114,0))","v":0},{"$f":"MIN('Base Numbers'!$G$21,IF(OR('Base Numbers'!$C$21,N17>=5,N14>=10,AND(N14>=6,N67>=1),AND(N16>=5,N88>=1)),N114,0))","v":0},{"$f":"MIN('Base Numbers'!$G$21,IF(OR('Base Numbers'!$C$21,O17>=5,O14>=10,AND(O14>=6,O67>=1),AND(O16>=5,O88>=1)),O114,0))","v":0},{"$f":"MIN('Base Numbers'!$G$21,IF(OR('Base Numbers'!$C$21,P17>=5,P14>=10,AND(P14>=6,P67>=1),AND(P16>=5,P88>=1)),P114,0))","v":0},{"$f":"MIN('Base Numbers'!$G$21,IF(OR('Base Numbers'!$C$21,Q17>=5,Q14>=10,AND(Q14>=6,Q67>=1),AND(Q16>=5,Q88>=1)),Q114,0))","v":0},{"$f":"MIN('Base Numbers'!$G$21,IF(OR('Base Numbers'!$C$21,R17>=5,R14>=10,AND(R14>=6,R67>=1),AND(R16>=5,R88>=1)),R114,0))","v":0},{"$f":"MIN('Base Numbers'!$G$21,IF(OR('Base Numbers'!$C$21,S17>=5,S14>=10,AND(S14>=6,S67>=1),AND(S16>=5,S88>=1)),S114,0))","v":0},{"$f":"MIN('Base Numbers'!$G$21,IF(OR('Base Numbers'!$C$21,T17>=5,T14>=10,AND(T14>=6,T67>=1),AND(T16>=5,T88>=1)),T114,0))","v":0},{"$f":"MIN('Base Numbers'!$G$21,IF(OR('Base Numbers'!$C$21,U17>=5,U14>=10,AND(U14>=6,U67>=1),AND(U16>=5,U88>=1)),U114,0))","v":0},{"$f":"MIN('Base Numbers'!$G$21,IF(OR('Base Numbers'!$C$21,V17>=5,V14>=10,AND(V14>=6,V67>=1),AND(V16>=5,V88>=1)),V114,0))","v":0},{"$f":"MIN('Base Numbers'!$G$21,IF(OR('Base Numbers'!$C$21,W17>=5,W14>=10,AND(W14>=6,W67>=1),AND(W16>=5,W88>=1)),W114,0))","v":0},{"$f":"MIN('Base Numbers'!$G$21,IF(OR('Base Numbers'!$C$21,X17>=5,X14>=10,AND(X14>=6,X67>=1),AND(X16>=5,X88>=1)),X114,0))","v":0},null,"fog cloud and pyrotecnics"]
[{"$nulls":3},"moonbeam (c, AE)",{"$f":"IF(OR('Base Numbers'!$C$21,E17>=3,E14>=10,AND(E14>=6,E67>=1)),E106,0)","v":0},{"$f":"IF(OR('Base Numbers'!$C$21,F17>=3,F14>=10,AND(F14>=6,F67>=1)),F106,0)","v":0},{"$f":"IF(OR('Base Numbers'!$C$21,G17>=3,G14>=10,AND(G14>=6,G67>=1)),G106,0)","v":0},{"$f":"IF(OR('Base Numbers'!$C$21,H17>=3,H14>=10,AND(H14>=6,H67>=1)),H106,0)","v":0},{"$f":"IF(OR('Base Numbers'!$C$21,I17>=3,I14>=10,AND(I14>=6,I67>=1)),I106,0)","v":0},{"$f":"IF(OR('Base Numbers'!$C$21,J17>=3,J14>=10,AND(J14>=6,J67>=1)),J106,0)","v":0},{"$f":"IF(OR('Base Numbers'!$C$21,K17>=3,K14>=10,AND(K14>=6,K67>=1)),K106,0)","v":0},{"$f":"IF(OR('Base Numbers'!$C$21,L17>=3,L14>=10,AND(L14>=6,L67>=1)),L106,0)","v":0},{"$f":"IF(OR('Base Numbers'!$C$21,M17>=3,M14>=10,AND(M14>=6,M67>=1)),M106,0)","v":0},{"$f":"IF(OR('Base Numbers'!$C$21,N17>=3,N14>=10,AND(N14>=6,N67>=1)),N106,0)","v":0},{"$f":"IF(OR('Base Numbers'!$C$21,O17>=3,O14>=10,AND(O14>=6,O67>=1)),O106,0)","v":0},{"$f":"IF(OR('Base Numbers'!$C$21,P17>=3,P14>=10,AND(P14>=6,P67>=1)),P106,0)","v":0},{"$f":"IF(OR('Base Numbers'!$C$21,Q17>=3,Q14>=10,AND(Q14>=6,Q67>=1)),Q106,0)","v":0},{"$f":"IF(OR('Base Numbers'!$C$21,R17>=3,R14>=10,AND(R14>=6,R67>=1)),R106,0)","v":0},{"$f":"IF(OR('Base Numbers'!$C$21,S17>=3,S14>=10,AND(S14>=6,S67>=1)),S106,0)","v":0},{"$f":"IF(OR('Base Numbers'!$C$21,T17>=3,T14>=10,AND(T14>=6,T67>=1)),T106,0)","v":0},{"$f":"IF(OR('Base Numbers'!$C$21,U17>=3,U14>=10,AND(U14>=6,U67>=1)),U106,0)","v":0},{"$f":"IF(OR('Base Numbers'!$C$21,V17>=3,V14>=10,AND(V14>=6,V67>=1)),V106,0)","v":0},{"$f":"IF(OR('Base Numbers'!$C$21,W17>=3,W14>=10,AND(W14>=6,W67>=1)),W106,0)","v":0},{"$f":"IF(OR('Base Numbers'!$C$21,X17>=3,X14>=10,AND(X14>=6,X67>=1)),X106,0)","v":0},null,"bard whipsers damage"]
[{"$nulls":3},"crown of stars",{"$f":"IF(OR('Base Numbers'!$C$21,E15>=13,OR(E13>=13,OR(E12>=13,E14>=14))),E144,0)","v":0},{"$f":"IF(OR('Base Numbers'!$C$21,F15>=13,OR(F13>=13,OR(F12>=13,F14>=14))),F144,0)","v":0},{"$f":"IF(OR('Base Numbers'!$C$21,G15>=13,OR(G13>=13,OR(G12>=13,G14>=14))),G144,0)","v":0},{"$f":"IF(OR('Base Numbers'!$C$21,H15>=13,OR(H13>=13,OR(H12>=13,H14>=14))),H144,0)","v":0},{"$f":"IF(OR('Base Numbers'!$C$21,I15>=13,OR(I13>=13,OR(I12>=13,I14>=14))),I144,0)","v":0},{"$f":"IF(OR('Base Numbers'!$C$21,J15>=13,OR(J13>=13,OR(J12>=13,J14>=14))),J144,0)","v":0},{"$f":"IF(OR('Base Numbers'!$C$21,K15>=13,OR(K13>=13,OR(K12>=13,K14>=14))),K144,0)","v":0},{"$f":"IF(OR('Base Numbers'!$C$21,L15>=13,OR(L13>=13,OR(L12>=13,L14>=14))),L144,0)","v":0},{"$f":"IF(OR('Base Numbers'!$C$21,M15>=13,OR(M13>=13,OR(M12>=13,M14>=14))),M144,0)","v":0},{"$f":"IF(OR('Base Numbers'!$C$21,N15>=13,OR(N13>=13,OR(N12>=13,N14>=14))),N144,0)","v":0},{"$f":"IF(OR('Base Numbers'!$C$21,O15>=13,OR(O13>=13,OR(O12>=13,O14>=14))),O144,0)","v":0},{"$f":"IF(OR('Base Numbers'!$C$21,P15>=13,OR(P13>=13,OR(P12>=13,P14>=14))),P144,0)","v":0},{"$f":"IF(OR('Base Numbers'!$C$21,Q15>=13,OR(Q13>=13,OR(Q12>=13,Q14>=14))),Q144,0)","v":0},{"$f":"IF(OR('Base Numbers'!$C$21,R15>=13,OR(R13>=13,OR(R12>=13,R14>=14))),R144,0)","v":0},{"$f":"IF(OR('Base Numbers'!$C$21,S15>=13,OR(S13>=13,OR(S12>=13,S14>=14))),S144,0)","v":0},{"$f":"IF(OR('Base Numbers'!$C$21,T15>=13,OR(T13>=13,OR(T12>=13,T14>=14))),T144,0)","v":0},{"$f":"IF(OR('Base Numbers'!$C$21,U15>=13,OR(U13>=13,OR(U12>=13,U14>=14))),U144,0)","v":0},{"$f":"IF(OR('Base Numbers'!$C$21,V15>=13,OR(V13>=13,OR(V12>=13,V14>=14))),V144,0)","v":0},{"$f":"IF(OR('Base Numbers'!$C$21,W15>=13,OR(W13>=13,OR(W12>=13,W14>=14))),W144,0)","v":0},{"$f":"IF(OR('Base Numbers'!$C$21,X15>=13,OR(X13>=13,OR(X12>=13,X14>=14))),X144,0)","v":0},null,"fog cloud and pyrotecnics"]
[{"$nulls":3},"holy weapon casts (bonus action) (c)",{"$f":"IF(OR('Base Numbers'!$C$21,E14>=9,E16>=9,E7>=17,AND(E44,E13>=9)),E137,0)","v":0},{"$f":"IF(OR('Base Numbers'!$C$21,F14>=9,F16>=9,F7>=17,AND(F44,F13>=9)),F137,0)","v":0},{"$f":"IF(OR('Base Numbers'!$C$21,G14>=9,G16>=9,G7>=17,AND(G44,G13>=9)),G137,0)","v":0},{"$f":"IF(OR('Base Numbers'!$C$21,H14>=9,H16>=9,H7>=17,AND(H44,H13>=9)),H137,0)","v":0},{"$f":"IF(OR('Base Numbers'!$C$21,I14>=9,I16>=9,I7>=17,AND(I44,I13>=9)),I137,0)","v":0},{"$f":"IF(OR('Base Numbers'!$C$21,J14>=9,J16>=9,J7>=17,AND(J44,J13>=9)),J137,0)","v":0},{"$f":"IF(OR('Base Numbers'!$C$21,K14>=9,K16>=9,K7>=17,AND(K44,K13>=9)),K137,0)","v":0},{"$f":"IF(OR('Base Numbers'!$C$21,L14>=9,L16>=9,L7>=17,AND(L44,L13>=9)),L137,0)","v":0},{"$f":"IF(OR('Base Numbers'!$C$21,M14>=9,M16>=9,M7>=17,AND(M44,M13>=9)),M137,0)","v":0},{"$f":"IF(OR('Base Numbers'!$C$21,N14>=9,N16>=9,N7>=17,AND(N44,N13>=9)),N137,0)","v":0},{"$f":"IF(OR('Base Numbers'!$C$21,O14>=9,O16>=9,O7>=17,AND(O44,O13>=9)),O137,0)","v":0},{"$f":"IF(OR('Base Numbers'!$C$21,P14>=9,P16>=9,P7>=17,AND(P44,P13>=9)),P137,0)","v":0},{"$f":"IF(OR('Base Numbers'!$C$21,Q14>=9,Q16>=9,Q7>=17,AND(Q44,Q13>=9)),Q137,0)","v":0},{"$f":"IF(OR('Base Numbers'!$C$21,R14>=9,R16>=9,R7>=17,AND(R44,R13>=9)),R137,0)","v":0},{"$f":"IF(OR('Base Numbers'!$C$21,S14>=9,S16>=9,S7>=17,AND(S44,S13>=9)),S137,0)","v":0},{"$f":"IF(OR('Base Numbers'!$C$21,T14>=9,T16>=9,T7>=17,AND(T44,T13>=9)),T137,0)","v":0},{"$f":"IF(OR('Base Numbers'!$C$21,U14>=9,U16>=9,U7>=17,AND(U44,U13>=9)),U137,0)","v":0},{"$f":"IF(OR('Base Numbers'!$C$21,V14>=9,V16>=9,V7>=17,AND(V44,V13>=9)),V137,0)","v":0},{"$f":"IF(OR('Base Numbers'!$C$21,W14>=9,W16>=9,W7>=17,AND(W44,W13>=9)),W137,0)","v":0},{"$f":"IF(OR('Base Numbers'!$C$21,X14>=9,X16>=9,X7>=17,AND(X44,X13>=9)),X137,0)","v":0},null,"variable monster saves vs. abilities"]
[{"$nulls":3},"thunderous smit (bonus action, c)",{"$f":"IF(OR('Base Numbers'!$C$21,E7>=17,E14>=10,AND(E16>=1,E88>=1),AND(E14>=6,E67>=1)),E101,0)","v":0},{"$f":"IF(OR('Base Numbers'!$C$21,F7>=17,F14>=10,AND(F16>=1,F88>=1),AND(F14>=6,F67>=1)),F101,0)","v":0},{"$f":"IF(OR('Base Numbers'!$C$21,G7>=17,G14>=10,AND(G16>=1,G88>=1),AND(G14>=6,G67>=1)),G101,0)","v":0},{"$f":"IF(OR('Base Numbers'!$C$21,H7>=17,H14>=10,AND(H16>=1,H88>=1),AND(H14>=6,H67>=1)),H101,0)","v":0},{"$f":"IF(OR('Base Numbers'!$C$21,I7>=17,I14>=10,AND(I16>=1,I88>=1),AND(I14>=6,I67>=1)),I101,0)","v":0},{"$f":"IF(OR('Base Numbers'!$C$21,J7>=17,J14>=10,AND(J16>=1,J88>=1),AND(J14>=6,J67>=1)),J101,0)","v":0},{"$f":"IF(OR('Base Numbers'!$C$21,K7>=17,K14>=10,AND(K16>=1,K88>=1),AND(K14>=6,K67>=1)),K101,0)","v":0},{"$f":"IF(OR('Base Numbers'!$C$21,L7>=17,L14>=10,AND(L16>=1,L88>=1),AND(L14>=6,L67>=1)),L101,0)","v":0},{"$f":"IF(OR('Base Numbers'!$C$21,M7>=17,M14>=10,AND(M16>=1,M88>=1),AND(M14>=6,M67>=1)),M101,0)","v":0},{"$f":"IF(OR('Base Numbers'!$C$21,N7>=17,N14>=10,AND(N16>=1,N88>=1),AND(N14>=6,N67>=1)),N101,0)","v":0},{"$f":"IF(OR('Base Numbers'!$C$21,O7>=17,O14>=10,AND(O16>=1,O88>=1),AND(O14>=6,O67>=1)),O101,0)","v":0},{"$f":"IF(OR('Base Numbers'!$C$21,P7>=17,P14>=10,AND(P16>=1,P88>=1),AND(P14>=6,P67>=1)),P101,0)","v":0},{"$f":"IF(OR('Base Numbers'!$C$21,Q7>=17,Q14>=10,AND(Q16>=1,Q88>=1),AND(Q14>=6,Q67>=1)),Q101,0)","v":0},{"$f":"IF(OR('Base Numbers'!$C$21,R7>=17,R14>=10,AND(R16>=1,R88>=1),AND(R14>=6,R67>=1)),R101,0)","v":0},{"$f":"IF(OR('Base Numbers'!$C$21,S7>=17,S14>=10,AND(S16>=1,S88>=1),AND(S14>=6,S67>=1)),S101,0)","v":0},{"$f":"IF(OR('Base Numbers'!$C$21,T7>=17,T14>=10,AND(T16>=1,T88>=1),AND(T14>=6,T67>=1)),T101,0)","v":0},{"$f":"IF(OR('Base Numbers'!$C$21,U7>=17,U14>=10,AND(U16>=1,U88>=1),AND(U14>=6,U67>=1)),U101,0)","v":0},{"$f":"IF(OR('Base Numbers'!$C$21,V7>=17,V14>=10,AND(V16>=1,V88>=1),AND(V14>=6,V67>=1)),V101,0)","v":0},{"$f":"IF(OR('Base Numbers'!$C$21,W7>=17,W14>=10,AND(W16>=1,W88>=1),AND(W14>=6,W67>=1)),W101,0)","v":0},{"$f":"IF(OR('Base Numbers'!$C$21,X7>=17,X14>=10,AND(X16>=1,X88>=1),AND(X14>=6,X67>=1)),X101,0)","v":0},null,"wizard bladesinger doesn't actually require one-handed weapon for extra attack"]
[{"$nulls":3},"hold person casts (conq, veng) (c)",{"$f":"IF(OR('Base Numbers'!$C$21,E14>=3,E17>=3,E15>=3,E16>=3,E13>=3,AND(E7>=5,OR(E40,E42))),E105,0)","v":0},{"$f":"IF(OR('Base Numbers'!$C$21,F14>=3,F17>=3,F15>=3,F16>=3,F13>=3,AND(F7>=5,OR(F40,F42))),F105,0)","v":0},{"$f":"IF(OR('Base Numbers'!$C$21,G14>=3,G17>=3,G15>=3,G16>=3,G13>=3,AND(G7>=5,OR(G40,G42))),G105,0)","v":0},{"$f":"IF(OR('Base Numbers'!$C$21,H14>=3,H17>=3,H15>=3,H16>=3,H13>=3,AND(H7>=5,OR(H40,H42))),H105,0)","v":0},{"$f":"IF(OR('Base Numbers'!$C$21,I14>=3,I17>=3,I15>=3,I16>=3,I13>=3,AND(I7>=5,OR(I40,I42))),I105,0)","v":0},{"$f":"IF(OR('Base Numbers'!$C$21,J14>=3,J17>=3,J15>=3,J16>=3,J13>=3,AND(J7>=5,OR(J40,J42))),J105,0)","v":0},{"$f":"IF(OR('Base Numbers'!$C$21,K14>=3,K17>=3,K15>=3,K16>=3,K13>=3,AND(K7>=5,OR(K40,K42))),K105,0)","v":0},{"$f":"IF(OR('Base Numbers'!$C$21,L14>=3,L17>=3,L15>=3,L16>=3,L13>=3,AND(L7>=5,OR(L40,L42))),L105,0)","v":0},{"$f":"IF(OR('Base Numbers'!$C$21,M14>=3,M17>=3,M15>=3,M16>=3,M13>=3,AND(M7>=5,OR(M40,M42))),M105,0)","v":0},{"$f":"IF(OR('Base Numbers'!$C$21,N14>=3,N17>=3,N15>=3,N16>=3,N13>=3,AND(N7>=5,OR(N40,N42))),N105,0)","v":0},{"$f":"IF(OR('Base Numbers'!$C$21,O14>=3,O17>=3,O15>=3,O16>=3,O13>=3,AND(O7>=5,OR(O40,O42))),O105,0)","v":0},{"$f":"IF(OR('Base Numbers'!$C$21,P14>=3,P17>=3,P15>=3,P16>=3,P13>=3,AND(P7>=5,OR(P40,P42))),P105,0)","v":0},{"$f":"IF(OR('Base Numbers'!$C$21,Q14>=3,Q17>=3,Q15>=3,Q16>=3,Q13>=3,AND(Q7>=5,OR(Q40,Q42))),Q105,0)","v":0},{"$f":"IF(OR('Base Numbers'!$C$21,R14>=3,R17>=3,R15>=3,R16>=3,R13>=3,AND(R7>=5,OR(R40,R42))),R105,0)","v":0},{"$f":"IF(OR('Base Numbers'!$C$21,S14>=3,S17>=3,S15>=3,S16>=3,S13>=3,AND(S7>=5,OR(S40,S42))),S105,0)","v":0},{"$f":"IF(OR('Base Numbers'!$C$21,T14>=3,T17>=3,T15>=3,T16>=3,T13>=3,AND(T7>=5,OR(T40,T42))),T105,0)","v":0},{"$f":"IF(OR('Base Numbers'!$C$21,U14>=3,U17>=3,U15>=3,U16>=3,U13>=3,AND(U7>=5,OR(U40,U42))),U105,0)","v":0},{"$f":"IF(OR('Base Numbers'!$C$21,V14>=3,V17>=3,V15>=3,V16>=3,V13>=3,AND(V7>=5,OR(V40,V42))),V105,0)","v":0},{"$f":"IF(OR('Base Numbers'!$C$21,W14>=3,W17>=3,W15>=3,W16>=3,W13>=3,AND(W7>=5,OR(W40,W42))),W105,0)","v":0},{"$f":"IF(OR('Base Numbers'!$C$21,X14>=3,X17>=3,X15>=3,X16>=3,X13>=3,AND(X7>=5,OR(X40,X42))),X105,0)","v":0},null,"wizard bladesong 14th level dmg bonus only applies to one-handed weapons"]
[{"$nulls":3},"hold monster casts (veng) (c)",{"$f":"IF(OR('Base Numbers'!$C$21,E15>=9,E14>=9,E12>=9,E13>=9,AND(E7>=5,E40)),E136,0)","v":0},{"$f":"IF(OR('Base Numbers'!$C$21,F15>=9,F14>=9,F12>=9,F13>=9,AND(F7>=5,F40)),F136,0)","v":0},{"$f":"IF(OR('Base Numbers'!$C$21,G15>=9,G14>=9,G12>=9,G13>=9,AND(G7>=5,G40)),G136,0)","v":0},{"$f":"IF(OR('Base Numbers'!$C$21,H15>=9,H14>=9,H12>=9,H13>=9,AND(H7>=5,H40)),H136,0)","v":0},{"$f":"IF(OR('Base Numbers'!$C$21,I15>=9,I14>=9,I12>=9,I13>=9,AND(I7>=5,I40)),I136,0)","v":0},{"$f":"IF(OR('Base Numbers'!$C$21,J15>=9,J14>=9,J12>=9,J13>=9,AND(J7>=5,J40)),J136,0)","v":0},{"$f":"IF(OR('Base Numbers'!$C$21,K15>=9,K14>=9,K12>=9,K13>=9,AND(K7>=5,K40)),K136,0)","v":0},{"$f":"IF(OR('Base Numbers'!$C$21,L15>=9,L14>=9,L12>=9,L13>=9,AND(L7>=5,L40)),L136,0)","v":0},{"$f":"IF(OR('Base Numbers'!$C$21,M15>=9,M14>=9,M12>=9,M13>=9,AND(M7>=5,M40)),M136,0)","v":0},{"$f":"IF(OR('Base Numbers'!$C$21,N15>=9,N14>=9,N12>=9,N13>=9,AND(N7>=5,N40)),N136,0)","v":0},{"$f":"IF(OR('Base Numbers'!$C$21,O15>=9,O14>=9,O12>=9,O13>=9,AND(O7>=5,O40)),O136,0)","v":0},{"$f":"IF(OR('Base Numbers'!$C$21,P15>=9,P14>=9,P12>=9,P13>=9,AND(P7>=5,P40)),P136,0)","v":0},{"$f":"IF(OR('Base Numbers'!$C$21,Q15>=9,Q14>=9,Q12>=9,Q13>=9,AND(Q7>=5,Q40)),Q136,0)","v":0},{"$f":"IF(OR('Base Numbers'!$C$21,R15>=9,R14>=9,R12>=9,R13>=9,AND(R7>=5,R40)),R136,0)","v":0},{"$f":"IF(OR('Base Numbers'!$C$21,S15>=9,S14>=9,S12>=9,S13>=9,AND(S7>=5,S40)),S136,0)","v":0},{"$f":"IF(OR('Base Numbers'!$C$21,T15>=9,T14>=9,T12>=9,T13>=9,AND(T7>=5,T40)),T136,0)","v":0},{"$f":"IF(OR('Base Numbers'!$C$21,U15>=9,U14>=9,U12>=9,U13>=9,AND(U7>=5,U40)),U136,0)","v":0},{"$f":"IF(OR('Base Numbers'!$C$21,V15>=9,V14>=9,V12>=9,V13>=9,AND(V7>=5,V40)),V136,0)","v":0},{"$f":"IF(OR('Base Numbers'!$C$21,W15>=9,W14>=9,W12>=9,W13>=9,AND(W7>=5,W40)),W136,0)","v":0},{"$f":"IF(OR('Base Numbers'!$C$21,X15>=9,X14>=9,X12>=9,X13>=9,AND(X7>=5,X40)),X136,0)","v":0},null,"hunters mark hex"]
[{"$nulls":3},"shadow of moil (c) ",{"$f":"IF(OR('Base Numbers'!$C$21,E14>=10,E12>=7),E128,0)","v":0},{"$f":"IF(OR('Base Numbers'!$C$21,F14>=10,F12>=7),F128,0)","v":0},{"$f":"IF(OR('Base Numbers'!$C$21,G14>=10,G12>=7),G128,0)","v":0},{"$f":"IF(OR('Base Numbers'!$C$21,H14>=10,H12>=7),H128,0)","v":0},{"$f":"IF(OR('Base Numbers'!$C$21,I14>=10,I12>=7),I128,0)","v":0},{"$f":"IF(OR('Base Numbers'!$C$21,J14>=10,J12>=7),J128,0)","v":0},{"$f":"IF(OR('Base Numbers'!$C$21,K14>=10,K12>=7),K128,0)","v":0},{"$f":"IF(OR('Base Numbers'!$C$21,L14>=10,L12>=7),L128,0)","v":0},{"$f":"IF(OR('Base Numbers'!$C$21,M14>=10,M12>=7),M128,0)","v":0},{"$f":"IF(OR('Base Numbers'!$C$21,N14>=10,N12>=7),N128,0)","v":0},{"$f":"IF(OR('Base Numbers'!$C$21,O14>=10,O12>=7),O128,0)","v":0},{"$f":"IF(OR('Base Numbers'!$C$21,P14>=10,P12>=7),P128,0)","v":0},{"$f":"IF(OR('Base Numbers'!$C$21,Q14>=10,Q12>=7),Q128,0)","v":0},{"$f":"IF(OR('Base Numbers'!$C$21,R14>=10,R12>=7),R128,0)","v":0},{"$f":"IF(OR('Base Numbers'!$C$21,S14>=10,S12>=7),S128,0)","v":0},{"$f":"IF(OR('Base Numbers'!$C$21,T14>=10,T12>=7),T128,0)","v":0},{"$f":"IF(OR('Base Numbers'!$C$21,U14>=10,U12>=7),U128,0)","v":0},{"$f":"IF(OR('Base Numbers'!$C$21,V14>=10,V12>=7),V128,0)","v":0},{"$f":"IF(OR('Base Numbers'!$C$21,W14>=10,W12>=7),W128,0)","v":0},{"$f":"IF(OR('Base Numbers'!$C$21,X14>=10,X12>=7),X128,0)","v":0},null,"spirit guardians"]
[{"$nulls":3},"greater invisibility (c)",{"$f":"IF(OR('Base Numbers'!$C$21,E14>=7,E13>=7,E15>=7,AND(E9>=13,E82>=1),AND(E11>=19,E72>=1),AND(E12>=7,E53)),E126,0)","v":0},{"$f":"IF(OR('Base Numbers'!$C$21,F14>=7,F13>=7,F15>=7,AND(F9>=13,F82>=1),AND(F11>=19,F72>=1),AND(F12>=7,F53)),F126,0)","v":0},{"$f":"IF(OR('Base Numbers'!$C$21,G14>=7,G13>=7,G15>=7,AND(G9>=13,G82>=1),AND(G11>=19,G72>=1),AND(G12>=7,G53)),G126,0)","v":0},{"$f":"IF(OR('Base Numbers'!$C$21,H14>=7,H13>=7,H15>=7,AND(H9>=13,H82>=1),AND(H11>=19,H72>=1),AND(H12>=7,H53)),H126,0)","v":0},{"$f":"IF(OR('Base Numbers'!$C$21,I14>=7,I13>=7,I15>=7,AND(I9>=13,I82>=1),AND(I11>=19,I72>=1),AND(I12>=7,I53)),I126,0)","v":0},{"$f":"IF(OR('Base Numbers'!$C$21,J14>=7,J13>=7,J15>=7,AND(J9>=13,J82>=1),AND(J11>=19,J72>=1),AND(J12>=7,J53)),J126,0)","v":0},{"$f":"IF(OR('Base Numbers'!$C$21,K14>=7,K13>=7,K15>=7,AND(K9>=13,K82>=1),AND(K11>=19,K72>=1),AND(K12>=7,K53)),K126,0)","v":0},{"$f":"IF(OR('Base Numbers'!$C$21,L14>=7,L13>=7,L15>=7,AND(L9>=13,L82>=1),AND(L11>=19,L72>=1),AND(L12>=7,L53)),L126,0)","v":0},{"$f":"IF(OR('Base Numbers'!$C$21,M14>=7,M13>=7,M15>=7,AND(M9>=13,M82>=1),AND(M11>=19,M72>=1),AND(M12>=7,M53)),M126,0)","v":0},{"$f":"IF(OR('Base Numbers'!$C$21,N14>=7,N13>=7,N15>=7,AND(N9>=13,N82>=1),AND(N11>=19,N72>=1),AND(N12>=7,N53)),N126,0)","v":0},{"$f":"IF(OR('Base Numbers'!$C$21,O14>=7,O13>=7,O15>=7,AND(O9>=13,O82>=1),AND(O11>=19,O72>=1),AND(O12>=7,O53)),O126,0)","v":0},{"$f":"IF(OR('Base Numbers'!$C$21,P14>=7,P13>=7,P15>=7,AND(P9>=13,P82>=1),AND(P11>=19,P72>=1),AND(P12>=7,P53)),P126,0)","v":0},{"$f":"IF(OR('Base Numbers'!$C$21,Q14>=7,Q13>=7,Q15>=7,AND(Q9>=13,Q82>=1),AND(Q11>=19,Q72>=1),AND(Q12>=7,Q53)),Q126,0)","v":0},{"$f":"IF(OR('Base Numbers'!$C$21,R14>=7,R13>=7,R15>=7,AND(R9>=13,R82>=1),AND(R11>=19,R72>=1),AND(R12>=7,R53)),R126,0)","v":0},{"$f":"IF(OR('Base Numbers'!$C$21,S14>=7,S13>=7,S15>=7,AND(S9>=13,S82>=1),AND(S11>=19,S72>=1),AND(S12>=7,S53)),S126,0)","v":0},{"$f":"IF(OR('Base Numbers'!$C$21,T14>=7,T13>=7,T15>=7,AND(T9>=13,T82>=1),AND(T11>=19,T72>=1),AND(T12>=7,T53)),T126,0)","v":0},{"$f":"IF(OR('Base Numbers'!$C$21,U14>=7,U13>=7,U15>=7,AND(U9>=13,U82>=1),AND(U11>=19,U72>=1),AND(U12>=7,U53)),U126,0)","v":0},{"$f":"IF(OR('Base Numbers'!$C$21,V14>=7,V13>=7,V15>=7,AND(V9>=13,V82>=1),AND(V11>=19,V72>=1),AND(V12>=7,V53)),V126,0)","v":0},{"$f":"IF(OR('Base Numbers'!$C$21,W14>=7,W13>=7,W15>=7,AND(W9>=13,W82>=1),AND(W11>=19,W72>=1),AND(W12>=7,W53)),W126,0)","v":0},{"$f":"IF(OR('Base Numbers'!$C$21,X14>=7,X13>=7,X15>=7,AND(X9>=13,X82>=1),AND(X11>=19,X72>=1),AND(X12>=7,X53)),X126,0)","v":0},null,"holy weapono"]
[{"$nulls":3},"fear casts (conq) (c)",{"$f":"IF(OR('Base Numbers'!$C$21,E15>=5,E14>=5,E12>=5,E13>=5,E12>=5,AND(E7>=9,E42)),E116,0)","v":0},{"$f":"IF(OR('Base Numbers'!$C$21,F15>=5,F14>=5,F12>=5,F13>=5,F12>=5,AND(F7>=9,F42)),F116,0)","v":0},{"$f":"IF(OR('Base Numbers'!$C$21,G15>=5,G14>=5,G12>=5,G13>=5,G12>=5,AND(G7>=9,G42)),G116,0)","v":0},{"$f":"IF(OR('Base Numbers'!$C$21,H15>=5,H14>=5,H12>=5,H13>=5,H12>=5,AND(H7>=9,H42)),H116,0)","v":0},{"$f":"IF(OR('Base Numbers'!$C$21,I15>=5,I14>=5,I12>=5,I13>=5,I12>=5,AND(I7>=9,I42)),I116,0)","v":0},{"$f":"IF(OR('Base Numbers'!$C$21,J15>=5,J14>=5,J12>=5,J13>=5,J12>=5,AND(J7>=9,J42)),J116,0)","v":0},{"$f":"IF(OR('Base Numbers'!$C$21,K15>=5,K14>=5,K12>=5,K13>=5,K12>=5,AND(K7>=9,K42)),K116,0)","v":0},{"$f":"IF(OR('Base Numbers'!$C$21,L15>=5,L14>=5,L12>=5,L13>=5,L12>=5,AND(L7>=9,L42)),L116,0)","v":0},{"$f":"IF(OR('Base Numbers'!$C$21,M15>=5,M14>=5,M12>=5,M13>=5,M12>=5,AND(M7>=9,M42)),M116,0)","v":0},{"$f":"IF(OR('Base Numbers'!$C$21,N15>=5,N14>=5,N12>=5,N13>=5,N12>=5,AND(N7>=9,N42)),N116,0)","v":0},{"$f":"IF(OR('Base Numbers'!$C$21,O15>=5,O14>=5,O12>=5,O13>=5,O12>=5,AND(O7>=9,O42)),O116,0)","v":0},{"$f":"IF(OR('Base Numbers'!$C$21,P15>=5,P14>=5,P12>=5,P13>=5,P12>=5,AND(P7>=9,P42)),P116,0)","v":0},{"$f":"IF(OR('Base Numbers'!$C$21,Q15>=5,Q14>=5,Q12>=5,Q13>=5,Q12>=5,AND(Q7>=9,Q42)),Q116,0)","v":0},{"$f":"IF(OR('Base Numbers'!$C$21,R15>=5,R14>=5,R12>=5,R13>=5,R12>=5,AND(R7>=9,R42)),R116,0)","v":0},{"$f":"IF(OR('Base Numbers'!$C$21,S15>=5,S14>=5,S12>=5,S13>=5,S12>=5,AND(S7>=9,S42)),S116,0)","v":0},{"$f":"IF(OR('Base Numbers'!$C$21,T15>=5,T14>=5,T12>=5,T13>=5,T12>=5,AND(T7>=9,T42)),T116,0)","v":0},{"$f":"IF(OR('Base Numbers'!$C$21,U15>=5,U14>=5,U12>=5,U13>=5,U12>=5,AND(U7>=9,U42)),U116,0)","v":0},{"$f":"IF(OR('Base Numbers'!$C$21,V15>=5,V14>=5,V12>=5,V13>=5,V12>=5,AND(V7>=9,V42)),V116,0)","v":0},{"$f":"IF(OR('Base Numbers'!$C$21,W15>=5,W14>=5,W12>=5,W13>=5,W12>=5,AND(W7>=9,W42)),W116,0)","v":0},{"$f":"IF(OR('Base Numbers'!$C$21,X15>=5,X14>=5,X12>=5,X13>=5,X12>=5,AND(X7>=9,X42)),X116,0)","v":0},null,"concentration based on Con Resilience and Ranged attacks"]
[{"$nulls":3},"tenser's transformation (c) ",{"$f":"IF(OR('Base Numbers'!$C$21,E15>=11,E14>=14),E142,0)","v":0},{"$f":"IF(OR('Base Numbers'!$C$21,F15>=11,F14>=14),F142,0)","v":0},{"$f":"IF(OR('Base Numbers'!$C$21,G15>=11,G14>=14),G142,0)","v":0},{"$f":"IF(OR('Base Numbers'!$C$21,H15>=11,H14>=14),H142,0)","v":0},{"$f":"IF(OR('Base Numbers'!$C$21,I15>=11,I14>=14),I142,0)","v":0},{"$f":"IF(OR('Base Numbers'!$C$21,J15>=11,J14>=14),J142,0)","v":0},{"$f":"IF(OR('Base Numbers'!$C$21,K15>=11,K14>=14),K142,0)","v":0},{"$f":"IF(OR('Base Numbers'!$C$21,L15>=11,L14>=14),L142,0)","v":0},{"$f":"IF(OR('Base Numbers'!$C$21,M15>=11,M14>=14),M142,0)","v":0},{"$f":"IF(OR('Base Numbers'!$C$21,N15>=11,N14>=14),N142,0)","v":0},{"$f":"IF(OR('Base Numbers'!$C$21,O15>=11,O14>=14),O142,0)","v":0},{"$f":"IF(OR('Base Numbers'!$C$21,P15>=11,P14>=14),P142,0)","v":0},{"$f":"IF(OR('Base Numbers'!$C$21,Q15>=11,Q14>=14),Q142,0)","v":0},{"$f":"IF(OR('Base Numbers'!$C$21,R15>=11,R14>=14),R142,0)","v":0},{"$f":"IF(OR('Base Numbers'!$C$21,S15>=11,S14>=14),S142,0)","v":0},{"$f":"IF(OR('Base Numbers'!$C$21,T15>=11,T14>=14),T142,0)","v":0},{"$f":"IF(OR('Base Numbers'!$C$21,U15>=11,U14>=14),U142,0)","v":0},{"$f":"IF(OR('Base Numbers'!$C$21,V15>=11,V14>=14),V142,0)","v":0},{"$f":"IF(OR('Base Numbers'!$C$21,W15>=11,W14>=14),W142,0)","v":0},{"$f":"IF(OR('Base Numbers'!$C$21,X15>=11,X14>=14),X142,0)","v":0},null,"concentration easier to maintain on ranged casters/spells"]
[{"$nulls":3},"flaming sphere casts (c)",{"$f":"IF(OR('Base Numbers'!$C$21,E17>=3,E15>=3,E14>=10,AND(E14>=6,E67>=1),E13>=3),E104,0)","v":0},{"$f":"IF(OR('Base Numbers'!$C$21,F17>=3,F15>=3,F14>=10,AND(F14>=6,F67>=1),F13>=3),F104,0)","v":0},{"$f":"IF(OR('Base Numbers'!$C$21,G17>=3,G15>=3,G14>=10,AND(G14>=6,G67>=1),G13>=3),G104,0)","v":0},{"$f":"IF(OR('Base Numbers'!$C$21,H17>=3,H15>=3,H14>=10,AND(H14>=6,H67>=1),H13>=3),H104,0)","v":0},{"$f":"IF(OR('Base Numbers'!$C$21,I17>=3,I15>=3,I14>=10,AND(I14>=6,I67>=1),I13>=3),I104,0)","v":0},{"$f":"IF(OR('Base Numbers'!$C$21,J17>=3,J15>=3,J14>=10,AND(J14>=6,J67>=1),J13>=3),J104,0)","v":0},{"$f":"IF(OR('Base Numbers'!$C$21,K17>=3,K15>=3,K14>=10,AND(K14>=6,K67>=1),K13>=3),K104,0)","v":0},{"$f":"IF(OR('Base Numbers'!$C$21,L17>=3,L15>=3,L14>=10,AND(L14>=6,L67>=1),L13>=3),L104,0)","v":0},{"$f":"IF(OR('Base Numbers'!$C$21,M17>=3,M15>=3,M14>=10,AND(M14>=6,M67>=1),M13>=3),M104,0)","v":0},{"$f":"IF(OR('Base Numbers'!$C$21,N17>=3,N15>=3,N14>=10,AND(N14>=6,N67>=1),N13>=3),N104,0)","v":0},{"$f":"IF(OR('Base Numbers'!$C$21,O17>=3,O15>=3,O14>=10,AND(O14>=6,O67>=1),O13>=3),O104,0)","v":0},{"$f":"IF(OR('Base Numbers'!$C$21,P17>=3,P15>=3,P14>=10,AND(P14>=6,P67>=1),P13>=3),P104,0)","v":0},{"$f":"IF(OR('Base Numbers'!$C$21,Q17>=3,Q15>=3,Q14>=10,AND(Q14>=6,Q67>=1),Q13>=3),Q104,0)","v":0},{"$f":"IF(OR('Base Numbers'!$C$21,R17>=3,R15>=3,R14>=10,AND(R14>=6,R67>=1),R13>=3),R104,0)","v":0},{"$f":"IF(OR('Base Numbers'!$C$21,S17>=3,S15>=3,S14>=10,AND(S14>=6,S67>=1),S13>=3),S104,0)","v":0},{"$f":"IF(OR('Base Numbers'!$C$21,T17>=3,T15>=3,T14>=10,AND(T14>=6,T67>=1),T13>=3),T104,0)","v":0},{"$f":"IF(OR('Base Numbers'!$C$21,U17>=3,U15>=3,U14>=10,AND(U14>=6,U67>=1),U13>=3),U104,0)","v":0},{"$f":"IF(OR('Base Numbers'!$C$21,V17>=3,V15>=3,V14>=10,AND(V14>=6,V67>=1),V13>=3),V104,0)","v":0},{"$f":"IF(OR('Base Numbers'!$C$21,W17>=3,W15>=3,W14>=10,AND(W14>=6,W67>=1),W13>=3),W104,0)","v":0},{"$f":"IF(OR('Base Numbers'!$C$21,X17>=3,X15>=3,X14>=10,AND(X14>=6,X67>=1),X13>=3),X104,0)","v":0},null,"variable monster saves vs. abilities"]
[{"$nulls":3},"bigby's hand casts (c)",{"$f":"IF(OR('Base Numbers'!$C$21,E15>=9,E14>=10,E12>=9,E13>=9,E19>=17),E134,0)","v":0},{"$f":"IF(OR('Base Numbers'!$C$21,F15>=9,F14>=10,F12>=9,F13>=9,F19>=17),F134,0)","v":0},{"$f":"IF(OR('Base Numbers'!$C$21,G15>=9,G14>=10,G12>=9,G13>=9,G19>=17),G134,0)","v":0},{"$f":"IF(OR('Base Numbers'!$C$21,H15>=9,H14>=10,H12>=9,H13>=9,H19>=17),H134,0)","v":0},{"$f":"IF(OR('Base Numbers'!$C$21,I15>=9,I14>=10,I12>=9,I13>=9,I19>=17),I134,0)","v":0},{"$f":"IF(OR('Base Numbers'!$C$21,J15>=9,J14>=10,J12>=9,J13>=9,J19>=17),J134,0)","v":0},{"$f":"IF(OR('Base Numbers'!$C$21,K15>=9,K14>=10,K12>=9,K13>=9,K19>=17),K134,0)","v":0},{"$f":"IF(OR('Base Numbers'!$C$21,L15>=9,L14>=10,L12>=9,L13>=9,L19>=17),L134,0)","v":0},{"$f":"IF(OR('Base Numbers'!$C$21,M15>=9,M14>=10,M12>=9,M13>=9,M19>=17),M134,0)","v":0},{"$f":"IF(OR('Base Numbers'!$C$21,N15>=9,N14>=10,N12>=9,N13>=9,N19>=17),N134,0)","v":0},{"$f":"IF(OR('Base Numbers'!$C$21,O15>=9,O14>=10,O12>=9,O13>=9,O19>=17),O134,0)","v":0},{"$f":"IF(OR('Base Numbers'!$C$21,P15>=9,P14>=10,P12>=9,P13>=9,P19>=17),P134,0)","v":0},{"$f":"IF(OR('Base Numbers'!$C$21,Q15>=9,Q14>=10,Q12>=9,Q13>=9,Q19>=17),Q134,0)","v":0},{"$f":"IF(OR('Base Numbers'!$C$21,R15>=9,R14>=10,R12>=9,R13>=9,R19>=17),R134,0)","v":0},{"$f":"IF(OR('Base Numbers'!$C$21,S15>=9,S14>=10,S12>=9,S13>=9,S19>=17),S134,0)","v":0},{"$f":"IF(OR('Base Numbers'!$C$21,T15>=9,T14>=10,T12>=9,T13>=9,T19>=17),T134,0)","v":0},{"$f":"IF(OR('Base Numbers'!$C$21,U15>=9,U14>=10,U12>=9,U13>=9,U19>=17),U134,0)","v":0},{"$f":"IF(OR('Base Numbers'!$C$21,V15>=9,V14>=10,V12>=9,V13>=9,V19>=17),V134,0)","v":0},{"$f":"IF(OR('Base Numbers'!$C$21,W15>=9,W14>=10,W12>=9,W13>=9,W19>=17),W134,0)","v":0},{"$f":"IF(OR('Base Numbers'!$C$21,X15>=9,X14>=10,X12>=9,X13>=9,X19>=17),X134,0)","v":0},null,"wizard invoker and magic missile"]
[{"$nulls":3},"animate objects casts (c)",{"$f":"IF(OR('Base Numbers'!$C$21,E15>=9,E14>=9,E12>=9,E13>=9,E19>=17),E133,0)","v":0},{"$f":"IF(OR('Base Numbers'!$C$21,F15>=9,F14>=9,F12>=9,F13>=9,F19>=17),F133,0)","v":0},{"$f":"IF(OR('Base Numbers'!$C$21,G15>=9,G14>=9,G12>=9,G13>=9,G19>=17),G133,0)","v":0},{"$f":"IF(OR('Base Numbers'!$C$21,H15>=9,H14>=9,H12>=9,H13>=9,H19>=17),H133,0)","v":0},{"$f":"IF(OR('Base Numbers'!$C$21,I15>=9,I14>=9,I12>=9,I13>=9,I19>=17),I133,0)","v":0},{"$f":"IF(OR('Base Numbers'!$C$21,J15>=9,J14>=9,J12>=9,J13>=9,J19>=17),J133,0)","v":0},{"$f":"IF(OR('Base Numbers'!$C$21,K15>=9,K14>=9,K12>=9,K13>=9,K19>=17),K133,0)","v":0},{"$f":"IF(OR('Base Numbers'!$C$21,L15>=9,L14>=9,L12>=9,L13>=9,L19>=17),L133,0)","v":0},{"$f":"IF(OR('Base Numbers'!$C$21,M15>=9,M14>=9,M12>=9,M13>=9,M19>=17),M133,0)","v":0},{"$f":"IF(OR('Base Numbers'!$C$21,N15>=9,N14>=9,N12>=9,N13>=9,N19>=17),N133,0)","v":0},{"$f":"IF(OR('Base Numbers'!$C$21,O15>=9,O14>=9,O12>=9,O13>=9,O19>=17),O133,0)","v":0},{"$f":"IF(OR('Base Numbers'!$C$21,P15>=9,P14>=9,P12>=9,P13>=9,P19>=17),P133,0)","v":0},{"$f":"IF(OR('Base Numbers'!$C$21,Q15>=9,Q14>=9,Q12>=9,Q13>=9,Q19>=17),Q133,0)","v":0},{"$f":"IF(OR('Base Numbers'!$C$21,R15>=9,R14>=9,R12>=9,R13>=9,R19>=17),R133,0)","v":0},{"$f":"IF(OR('Base Numbers'!$C$21,S15>=9,S14>=9,S12>=9,S13>=9,S19>=17),S133,0)","v":0},{"$f":"IF(OR('Base Numbers'!$C$21,T15>=9,T14>=9,T12>=9,T13>=9,T19>=17),T133,0)","v":0},{"$f":"IF(OR('Base Numbers'!$C$21,U15>=9,U14>=9,U12>=9,U13>=9,U19>=17),U133,0)","v":0},{"$f":"IF(OR('Base Numbers'!$C$21,V15>=9,V14>=9,V12>=9,V13>=9,V19>=17),V133,0)","v":0},{"$f":"IF(OR('Base Numbers'!$C$21,W15>=9,W14>=9,W12>=9,W13>=9,W19>=17),W133,0)","v":0},{"$f":"IF(OR('Base Numbers'!$C$21,X15>=9,X14>=9,X12>=9,X13>=9,X19>=17),X133,0)","v":0},null,"spellcasting limits barbarian rage uptime"]
[{"$nulls":3},"spirtual weapon casts (free) req Conq or Divine S",{"$f":"IF(OR('Base Numbers'!$C$21,E14>=10,AND(E14>=6,E67>=1),E16>=3,AND(E44,E13>=3),AND(E42,E7>=5)),E110,0)","v":0},{"$f":"IF(OR('Base Numbers'!$C$21,F14>=10,AND(F14>=6,F67>=1),F16>=3,AND(F44,F13>=3),AND(F42,F7>=5)),F110,0)","v":0},{"$f":"IF(OR('Base Numbers'!$C$21,G14>=10,AND(G14>=6,G67>=1),G16>=3,AND(G44,G13>=3),AND(G42,G7>=5)),G110,0)","v":0},{"$f":"IF(OR('Base Numbers'!$C$21,H14>=10,AND(H14>=6,H67>=1),H16>=3,AND(H44,H13>=3),AND(H42,H7>=5)),H110,0)","v":0},{"$f":"IF(OR('Base Numbers'!$C$21,I14>=10,AND(I14>=6,I67>=1),I16>=3,AND(I44,I13>=3),AND(I42,I7>=5)),I110,0)","v":0},{"$f":"IF(OR('Base Numbers'!$C$21,J14>=10,AND(J14>=6,J67>=1),J16>=3,AND(J44,J13>=3),AND(J42,J7>=5)),J110,0)","v":0},{"$f":"IF(OR('Base Numbers'!$C$21,K14>=10,AND(K14>=6,K67>=1),K16>=3,AND(K44,K13>=3),AND(K42,K7>=5)),K110,0)","v":0},{"$f":"IF(OR('Base Numbers'!$C$21,L14>=10,AND(L14>=6,L67>=1),L16>=3,AND(L44,L13>=3),AND(L42,L7>=5)),L110,0)","v":0},{"$f":"IF(OR('Base Numbers'!$C$21,M14>=10,AND(M14>=6,M67>=1),M16>=3,AND(M44,M13>=3),AND(M42,M7>=5)),M110,0)","v":0},{"$f":"IF(OR('Base Numbers'!$C$21,N14>=10,AND(N14>=6,N67>=1),N16>=3,AND(N44,N13>=3),AND(N42,N7>=5)),N110,0)","v":0},{"$f":"IF(OR('Base Numbers'!$C$21,O14>=10,AND(O14>=6,O67>=1),O16>=3,AND(O44,O13>=3),AND(O42,O7>=5)),O110,0)","v":0},{"$f":"IF(OR('Base Numbers'!$C$21,P14>=10,AND(P14>=6,P67>=1),P16>=3,AND(P44,P13>=3),AND(P42,P7>=5)),P110,0)","v":0},{"$f":"IF(OR('Base Numbers'!$C$21,Q14>=10,AND(Q14>=6,Q67>=1),Q16>=3,AND(Q44,Q13>=3),AND(Q42,Q7>=5)),Q110,0)","v":0},{"$f":"IF(OR('Base Numbers'!$C$21,R14>=10,AND(R14>=6,R67>=1),R16>=3,AND(R44,R13>=3),AND(R42,R7>=5)),R110,0)","v":0},{"$f":"IF(OR('Base Numbers'!$C$21,S14>=10,AND(S14>=6,S67>=1),S16>=3,AND(S44,S13>=3),AND(S42,S7>=5)),S110,0)","v":0},{"$f":"IF(OR('Base Numbers'!$C$21,T14>=10,AND(T14>=6,T67>=1),T16>=3,AND(T44,T13>=3),AND(T42,T7>=5)),T110,0)","v":0},{"$f":"IF(OR('Base Numbers'!$C$21,U14>=10,AND(U14>=6,U67>=1),U16>=3,AND(U44,U13>=3),AND(U42,U7>=5)),U110,0)","v":0},{"$f":"IF(OR('Base Numbers'!$C$21,V14>=10,AND(V14>=6,V67>=1),V16>=3,AND(V44,V13>=3),AND(V42,V7>=5)),V110,0)","v":0},{"$f":"IF(OR('Base Numbers'!$C$21,W14>=10,AND(W14>=6,W67>=1),W16>=3,AND(W44,W13>=3),AND(W42,W7>=5)),W110,0)","v":0},{"$f":"IF(OR('Base Numbers'!$C$21,X14>=10,AND(X14>=6,X67>=1),X16>=3,AND(X44,X13>=3),AND(X42,X7>=5)),X110,0)","v":0},null,"piercer feat used with polearm doesn't apply to the bonus attack unless GWM procs"]
[{"$nulls":3},"melf's minute meteors: AE (c)",{"$f":"IF(OR('Base Numbers'!$C$21,E15>=5,E13>=5,E14>=10,AND(E14>=6,E67>=1)),E119,0)","v":0},{"$f":"IF(OR('Base Numbers'!$C$21,F15>=5,F13>=5,F14>=10,AND(F14>=6,F67>=1)),F119,0)","v":0},{"$f":"IF(OR('Base Numbers'!$C$21,G15>=5,G13>=5,G14>=10,AND(G14>=6,G67>=1)),G119,0)","v":0},{"$f":"IF(OR('Base Numbers'!$C$21,H15>=5,H13>=5,H14>=10,AND(H14>=6,H67>=1)),H119,0)","v":0},{"$f":"IF(OR('Base Numbers'!$C$21,I15>=5,I13>=5,I14>=10,AND(I14>=6,I67>=1)),I119,0)","v":0},{"$f":"IF(OR('Base Numbers'!$C$21,J15>=5,J13>=5,J14>=10,AND(J14>=6,J67>=1)),J119,0)","v":0},{"$f":"IF(OR('Base Numbers'!$C$21,K15>=5,K13>=5,K14>=10,AND(K14>=6,K67>=1)),K119,0)","v":0},{"$f":"IF(OR('Base Numbers'!$C$21,L15>=5,L13>=5,L14>=10,AND(L14>=6,L67>=1)),L119,0)","v":0},{"$f":"IF(OR('Base Numbers'!$C$21,M15>=5,M13>=5,M14>=10,AND(M14>=6,M67>=1)),M119,0)","v":0},{"$f":"IF(OR('Base Numbers'!$C$21,N15>=5,N13>=5,N14>=10,AND(N14>=6,N67>=1)),N119,0)","v":0},{"$f":"IF(OR('Base Numbers'!$C$21,O15>=5,O13>=5,O14>=10,AND(O14>=6,O67>=1)),O119,0)","v":0},{"$f":"IF(OR('Base Numbers'!$C$21,P15>=5,P13>=5,P14>=10,AND(P14>=6,P67>=1)),P119,0)","v":0},{"$f":"IF(OR('Base Numbers'!$C$21,Q15>=5,Q13>=5,Q14>=10,AND(Q14>=6,Q67>=1)),Q119,0)","v":0},{"$f":"IF(OR('Base Numbers'!$C$21,R15>=5,R13>=5,R14>=10,AND(R14>=6,R67>=1)),R119,0)","v":0},{"$f":"IF(OR('Base Numbers'!$C$21,S15>=5,S13>=5,S14>=10,AND(S14>=6,S67>=1)),S119,0)","v":0},{"$f":"IF(OR('Base Numbers'!$C$21,T15>=5,T13>=5,T14>=10,AND(T14>=6,T67>=1)),T119,0)","v":0},{"$f":"IF(OR('Base Numbers'!$C$21,U15>=5,U13>=5,U14>=10,AND(U14>=6,U67>=1)),U119,0)","v":0},{"$f":"IF(OR('Base Numbers'!$C$21,V15>=5,V13>=5,V14>=10,AND(V14>=6,V67>=1)),V119,0)","v":0},{"$f":"IF(OR('Base Numbers'!$C$21,W15>=5,W13>=5,W14>=10,AND(W14>=6,W67>=1)),W119,0)","v":0},{"$f":"IF(OR('Base Numbers'!$C$21,X15>=5,X13>=5,X14>=10,AND(X14>=6,X67>=1)),X119,0)","v":0},null,"magic missile"]
[{"$nulls":3},"fireball casts",{"$f":"MIN('Base Numbers'!$G$21,IF(OR('Base Numbers'!$C$21,E15>=5,E14>=10,AND(E14>=6,E67>=1),AND(E12>=5,OR(E52>=1,E51>=1)),E13>=5,AND(E19>=9,E76)),E117,0))","v":0},{"$f":"MIN('Base Numbers'!$G$21,IF(OR('Base Numbers'!$C$21,F15>=5,F14>=10,AND(F14>=6,F67>=1),AND(F12>=5,OR(F52>=1,F51>=1)),F13>=5,AND(F19>=9,F76)),F117,0))","v":0},{"$f":"MIN('Base Numbers'!$G$21,IF(OR('Base Numbers'!$C$21,G15>=5,G14>=10,AND(G14>=6,G67>=1),AND(G12>=5,OR(G52>=1,G51>=1)),G13>=5,AND(G19>=9,G76)),G117,0))","v":0},{"$f":"MIN('Base Numbers'!$G$21,IF(OR('Base Numbers'!$C$21,H15>=5,H14>=10,AND(H14>=6,H67>=1),AND(H12>=5,OR(H52>=1,H51>=1)),H13>=5,AND(H19>=9,H76)),H117,0))","v":0},{"$f":"MIN('Base Numbers'!$G$21,IF(OR('Base Numbers'!$C$21,I15>=5,I14>=10,AND(I14>=6,I67>=1),AND(I12>=5,OR(I52>=1,I51>=1)),I13>=5,AND(I19>=9,I76)),I117,0))","v":0},{"$f":"MIN('Base Numbers'!$G$21,IF(OR('Base Numbers'!$C$21,J15>=5,J14>=10,AND(J14>=6,J67>=1),AND(J12>=5,OR(J52>=1,J51>=1)),J13>=5,AND(J19>=9,J76)),J117,0))","v":0},{"$f":"MIN('Base Numbers'!$G$21,IF(OR('Base Numbers'!$C$21,K15>=5,K14>=10,AND(K14>=6,K67>=1),AND(K12>=5,OR(K52>=1,K51>=1)),K13>=5,AND(K19>=9,K76)),K117,0))","v":0},{"$f":"MIN('Base Numbers'!$G$21,IF(OR('Base Numbers'!$C$21,L15>=5,L14>=10,AND(L14>=6,L67>=1),AND(L12>=5,OR(L52>=1,L51>=1)),L13>=5,AND(L19>=9,L76)),L117,0))","v":0},{"$f":"MIN('Base Numbers'!$G$21,IF(OR('Base Numbers'!$C$21,M15>=5,M14>=10,AND(M14>=6,M67>=1),AND(M12>=5,OR(M52>=1,M51>=1)),M13>=5,AND(M19>=9,M76)),M117,0))","v":0},{"$f":"MIN('Base Numbers'!$G$21,IF(OR('Base Numbers'!$C$21,N15>=5,N14>=10,AND(N14>=6,N67>=1),AND(N12>=5,OR(N52>=1,N51>=1)),N13>=5,AND(N19>=9,N76)),N117,0))","v":0},{"$f":"MIN('Base Numbers'!$G$21,IF(OR('Base Numbers'!$C$21,O15>=5,O14>=10,AND(O14>=6,O67>=1),AND(O12>=5,OR(O52>=1,O51>=1)),O13>=5,AND(O19>=9,O76)),O117,0))","v":0},{"$f":"MIN('Base Numbers'!$G$21,IF(OR('Base Numbers'!$C$21,P15>=5,P14>=10,AND(P14>=6,P67>=1),AND(P12>=5,OR(P52>=1,P51>=1)),P13>=5,AND(P19>=9,P76)),P117,0))","v":0},{"$f":"MIN('Base Numbers'!$G$21,IF(OR('Base Numbers'!$C$21,Q15>=5,Q14>=10,AND(Q14>=6,Q67>=1),AND(Q12>=5,OR(Q52>=1,Q51>=1)),Q13>=5,AND(Q19>=9,Q76)),Q117,0))","v":0},{"$f":"MIN('Base Numbers'!$G$21,IF(OR('Base Numbers'!$C$21,R15>=5,R14>=10,AND(R14>=6,R67>=1),AND(R12>=5,OR(R52>=1,R51>=1)),R13>=5,AND(R19>=9,R76)),R117,0))","v":0},{"$f":"MIN('Base Numbers'!$G$21,IF(OR('Base Numbers'!$C$21,S15>=5,S14>=10,AND(S14>=6,S67>=1),AND(S12>=5,OR(S52>=1,S51>=1)),S13>=5,AND(S19>=9,S76)),S117,0))","v":0},{"$f":"MIN('Base Numbers'!$G$21,IF(OR('Base Numbers'!$C$21,T15>=5,T14>=10,AND(T14>=6,T67>=1),AND(T12>=5,OR(T52>=1,T51>=1)),T13>=5,AND(T19>=9,T76)),T117,0))","v":0},{"$f":"MIN('Base Numbers'!$G$21,IF(OR('Base Numbers'!$C$21,U15>=5,U14>=10,AND(U14>=6,U67>=1),AND(U12>=5,OR(U52>=1,U51>=1)),U13>=5,AND(U19>=9,U76)),U117,0))","v":0},{"$f":"MIN('Base Numbers'!$G$21,IF(OR('Base Numbers'!$C$21,V15>=5,V14>=10,AND(V14>=6,V67>=1),AND(V12>=5,OR(V52>=1,V51>=1)),V13>=5,AND(V19>=9,V76)),V117,0))","v":0},{"$f":"MIN('Base Numbers'!$G$21,IF(OR('Base Numbers'!$C$21,W15>=5,W14>=10,AND(W14>=6,W67>=1),AND(W12>=5,OR(W52>=1,W51>=1)),W13>=5,AND(W19>=9,W76)),W117,0))","v":0},{"$f":"MIN('Base Numbers'!$G$21,IF(OR('Base Numbers'!$C$21,X15>=5,X14>=10,AND(X14>=6,X67>=1),AND(X12>=5,OR(X52>=1,X51>=1)),X13>=5,AND(X19>=9,X76)),X117,0))","v":0},null,"animate dead"]
[{"$nulls":3},"animate dead (non-combat)",{"$f":"IF(OR('Base Numbers'!$C$21,E15>=5,E16>=5,E14>=10,AND(E14>=6,E67>=1)),E113,0)","v":0},{"$f":"IF(OR('Base Numbers'!$C$21,F15>=5,F16>=5,F14>=10,AND(F14>=6,F67>=1)),F113,0)","v":0},{"$f":"IF(OR('Base Numbers'!$C$21,G15>=5,G16>=5,G14>=10,AND(G14>=6,G67>=1)),G113,0)","v":0},{"$f":"IF(OR('Base Numbers'!$C$21,H15>=5,H16>=5,H14>=10,AND(H14>=6,H67>=1)),H113,0)","v":0},{"$f":"IF(OR('Base Numbers'!$C$21,I15>=5,I16>=5,I14>=10,AND(I14>=6,I67>=1)),I113,0)","v":0},{"$f":"IF(OR('Base Numbers'!$C$21,J15>=5,J16>=5,J14>=10,AND(J14>=6,J67>=1)),J113,0)","v":0},{"$f":"IF(OR('Base Numbers'!$C$21,K15>=5,K16>=5,K14>=10,AND(K14>=6,K67>=1)),K113,0)","v":0},{"$f":"IF(OR('Base Numbers'!$C$21,L15>=5,L16>=5,L14>=10,AND(L14>=6,L67>=1)),L113,0)","v":0},{"$f":"IF(OR('Base Numbers'!$C$21,M15>=5,M16>=5,M14>=10,AND(M14>=6,M67>=1)),M113,0)","v":0},{"$f":"IF(OR('Base Numbers'!$C$21,N15>=5,N16>=5,N14>=10,AND(N14>=6,N67>=1)),N113,0)","v":0},{"$f":"IF(OR('Base Numbers'!$C$21,O15>=5,O16>=5,O14>=10,AND(O14>=6,O67>=1)),O113,0)","v":0},{"$f":"IF(OR('Base Numbers'!$C$21,P15>=5,P16>=5,P14>=10,AND(P14>=6,P67>=1)),P113,0)","v":0},{"$f":"IF(OR('Base Numbers'!$C$21,Q15>=5,Q16>=5,Q14>=10,AND(Q14>=6,Q67>=1)),Q113,0)","v":0},{"$f":"IF(OR('Base Numbers'!$C$21,R15>=5,R16>=5,R14>=10,AND(R14>=6,R67>=1)),R113,0)","v":0},{"$f":"IF(OR('Base Numbers'!$C$21,S15>=5,S16>=5,S14>=10,AND(S14>=6,S67>=1)),S113,0)","v":0},{"$f":"IF(OR('Base Numbers'!$C$21,T15>=5,T16>=5,T14>=10,AND(T14>=6,T67>=1)),T113,0)","v":0},{"$f":"IF(OR('Base Numbers'!$C$21,U15>=5,U16>=5,U14>=10,AND(U14>=6,U67>=1)),U113,0)","v":0},{"$f":"IF(OR('Base Numbers'!$C$21,V15>=5,V16>=5,V14>=10,AND(V14>=6,V67>=1)),V113,0)","v":0},{"$f":"IF(OR('Base Numbers'!$C$21,W15>=5,W16>=5,W14>=10,AND(W14>=6,W67>=1)),W113,0)","v":0},{"$f":"IF(OR('Base Numbers'!$C$21,X15>=5,X16>=5,X14>=10,AND(X14>=6,X67>=1)),X113,0)","v":0},null,"wizard: conjurer summons bonus"]
[{"$nulls":3},"tiny servant (non-combat)",{"$f":"IF(OR('Base Numbers'!$C$21,E15>=5,E19>=9,E14>=10,AND(E14>=6,E67>=1)),E124,0)","v":0},{"$f":"IF(OR('Base Numbers'!$C$21,F15>=5,F19>=9,F14>=10,AND(F14>=6,F67>=1)),F124,0)","v":0},{"$f":"IF(OR('Base Numbers'!$C$21,G15>=5,G19>=9,G14>=10,AND(G14>=6,G67>=1)),G124,0)","v":0},{"$f":"IF(OR('Base Numbers'!$C$21,H15>=5,H19>=9,H14>=10,AND(H14>=6,H67>=1)),H124,0)","v":0},{"$f":"IF(OR('Base Numbers'!$C$21,I15>=5,I19>=9,I14>=10,AND(I14>=6,I67>=1)),I124,0)","v":0},{"$f":"IF(OR('Base Numbers'!$C$21,J15>=5,J19>=9,J14>=10,AND(J14>=6,J67>=1)),J124,0)","v":0},{"$f":"IF(OR('Base Numbers'!$C$21,K15>=5,K19>=9,K14>=10,AND(K14>=6,K67>=1)),K124,0)","v":0},{"$f":"IF(OR('Base Numbers'!$C$21,L15>=5,L19>=9,L14>=10,AND(L14>=6,L67>=1)),L124,0)","v":0},{"$f":"IF(OR('Base Numbers'!$C$21,M15>=5,M19>=9,M14>=10,AND(M14>=6,M67>=1)),M124,0)","v":0},{"$f":"IF(OR('Base Numbers'!$C$21,N15>=5,N19>=9,N14>=10,AND(N14>=6,N67>=1)),N124,0)","v":0},{"$f":"IF(OR('Base Numbers'!$C$21,O15>=5,O19>=9,O14>=10,AND(O14>=6,O67>=1)),O124,0)","v":0},{"$f":"IF(OR('Base Numbers'!$C$21,P15>=5,P19>=9,P14>=10,AND(P14>=6,P67>=1)),P124,0)","v":0},{"$f":"IF(OR('Base Numbers'!$C$21,Q15>=5,Q19>=9,Q14>=10,AND(Q14>=6,Q67>=1)),Q124,0)","v":0},{"$f":"IF(OR('Base Numbers'!$C$21,R15>=5,R19>=9,R14>=10,AND(R14>=6,R67>=1)),R124,0)","v":0},{"$f":"IF(OR('Base Numbers'!$C$21,S15>=5,S19>=9,S14>=10,AND(S14>=6,S67>=1)),S124,0)","v":0},{"$f":"IF(OR('Base Numbers'!$C$21,T15>=5,T19>=9,T14>=10,AND(T14>=6,T67>=1)),T124,0)","v":0},{"$f":"IF(OR('Base Numbers'!$C$21,U15>=5,U19>=9,U14>=10,AND(U14>=6,U67>=1)),U124,0)","v":0},{"$f":"IF(OR('Base Numbers'!$C$21,V15>=5,V19>=9,V14>=10,AND(V14>=6,V67>=1)),V124,0)","v":0},{"$f":"IF(OR('Base Numbers'!$C$21,W15>=5,W19>=9,W14>=10,AND(W14>=6,W67>=1)),W124,0)","v":0},{"$f":"IF(OR('Base Numbers'!$C$21,X15>=5,X19>=9,X14>=10,AND(X14>=6,X67>=1)),X124,0)","v":0},null,"wizard: necromancer animate dead bonus"]
[{"$nulls":3},"conjure animals (c)",{"$f":"IF(OR('Base Numbers'!$C$21,E17>=5,E9>=9,E14>=10,AND(E14>=6,E67>=1)),E115,0)","v":0},{"$f":"IF(OR('Base Numbers'!$C$21,F17>=5,F9>=9,F14>=10,AND(F14>=6,F67>=1)),F115,0)","v":0},{"$f":"IF(OR('Base Numbers'!$C$21,G17>=5,G9>=9,G14>=10,AND(G14>=6,G67>=1)),G115,0)","v":0},{"$f":"IF(OR('Base Numbers'!$C$21,H17>=5,H9>=9,H14>=10,AND(H14>=6,H67>=1)),H115,0)","v":0},{"$f":"IF(OR('Base Numbers'!$C$21,I17>=5,I9>=9,I14>=10,AND(I14>=6,I67>=1)),I115,0)","v":0},{"$f":"IF(OR('Base Numbers'!$C$21,J17>=5,J9>=9,J14>=10,AND(J14>=6,J67>=1)),J115,0)","v":0},{"$f":"IF(OR('Base Numbers'!$C$21,K17>=5,K9>=9,K14>=10,AND(K14>=6,K67>=1)),K115,0)","v":0},{"$f":"IF(OR('Base Numbers'!$C$21,L17>=5,L9>=9,L14>=10,AND(L14>=6,L67>=1)),L115,0)","v":0},{"$f":"IF(OR('Base Numbers'!$C$21,M17>=5,M9>=9,M14>=10,AND(M14>=6,M67>=1)),M115,0)","v":0},{"$f":"IF(OR('Base Numbers'!$C$21,N17>=5,N9>=9,N14>=10,AND(N14>=6,N67>=1)),N115,0)","v":0},{"$f":"IF(OR('Base Numbers'!$C$21,O17>=5,O9>=9,O14>=10,AND(O14>=6,O67>=1)),O115,0)","v":0},{"$f":"IF(OR('Base Numbers'!$C$21,P17>=5,P9>=9,P14>=10,AND(P14>=6,P67>=1)),P115,0)","v":0},{"$f":"IF(OR('Base Numbers'!$C$21,Q17>=5,Q9>=9,Q14>=10,AND(Q14>=6,Q67>=1)),Q115,0)","v":0},{"$f":"IF(OR('Base Numbers'!$C$21,R17>=5,R9>=9,R14>=10,AND(R14>=6,R67>=1)),R115,0)","v":0},{"$f":"IF(OR('Base Numbers'!$C$21,S17>=5,S9>=9,S14>=10,AND(S14>=6,S67>=1)),S115,0)","v":0},{"$f":"IF(OR('Base Numbers'!$C$21,T17>=5,T9>=9,T14>=10,AND(T14>=6,T67>=1)),T115,0)","v":0},{"$f":"IF(OR('Base Numbers'!$C$21,U17>=5,U9>=9,U14>=10,AND(U14>=6,U67>=1)),U115,0)","v":0},{"$f":"IF(OR('Base Numbers'!$C$21,V17>=5,V9>=9,V14>=10,AND(V14>=6,V67>=1)),V115,0)","v":0},{"$f":"IF(OR('Base Numbers'!$C$21,W17>=5,W9>=9,W14>=10,AND(W14>=6,W67>=1)),W115,0)","v":0},{"$f":"IF(OR('Base Numbers'!$C$21,X17>=5,X9>=9,X14>=10,AND(X14>=6,X67>=1)),X115,0)","v":0},null,"animate dead: use remaining spell slots for next day's skeletons"]
[{"$nulls":3},"summon greater demon (L4, Barlgura) (c)",{"$f":"IF(OR('Base Numbers'!$C$21,E15>=7,E12>=7,E14>=10,),E131,0)","v":0},{"$f":"IF(OR('Base Numbers'!$C$21,F15>=7,F12>=7,F14>=10,),F131,0)","v":0},{"$f":"IF(OR('Base Numbers'!$C$21,G15>=7,G12>=7,G14>=10,),G131,0)","v":0},{"$f":"IF(OR('Base Numbers'!$C$21,H15>=7,H12>=7,H14>=10,),H131,0)","v":0},{"$f":"IF(OR('Base Numbers'!$C$21,I15>=7,I12>=7,I14>=10,),I131,0)","v":0},{"$f":"IF(OR('Base Numbers'!$C$21,J15>=7,J12>=7,J14>=10,),J131,0)","v":0},{"$f":"IF(OR('Base Numbers'!$C$21,K15>=7,K12>=7,K14>=10,),K131,0)","v":0},{"$f":"IF(OR('Base Numbers'!$C$21,L15>=7,L12>=7,L14>=10,),L131,0)","v":0},{"$f":"IF(OR('Base Numbers'!$C$21,M15>=7,M12>=7,M14>=10,),M131,0)","v":0},{"$f":"IF(OR('Base Numbers'!$C$21,N15>=7,N12>=7,N14>=10,),N131,0)","v":0},{"$f":"IF(OR('Base Numbers'!$C$21,O15>=7,O12>=7,O14>=10,),O131,0)","v":0},{"$f":"IF(OR('Base Numbers'!$C$21,P15>=7,P12>=7,P14>=10,),P131,0)","v":0},{"$f":"IF(OR('Base Numbers'!$C$21,Q15>=7,Q12>=7,Q14>=10,),Q131,0)","v":0},{"$f":"IF(OR('Base Numbers'!$C$21,R15>=7,R12>=7,R14>=10,),R131,0)","v":0},{"$f":"IF(OR('Base Numbers'!$C$21,S15>=7,S12>=7,S14>=10,),S131,0)","v":0},{"$f":"IF(OR('Base Numbers'!$C$21,T15>=7,T12>=7,T14>=10,),T131,0)","v":0},{"$f":"IF(OR('Base Numbers'!$C$21,U15>=7,U12>=7,U14>=10,),U131,0)","v":0},{"$f":"IF(OR('Base Numbers'!$C$21,V15>=7,V12>=7,V14>=10,),V131,0)","v":0},{"$f":"IF(OR('Base Numbers'!$C$21,W15>=7,W12>=7,W14>=10,),W131,0)","v":0},{"$f":"IF(OR('Base Numbers'!$C$21,X15>=7,X12>=7,X14>=10,),X131,0)","v":0},null,"  rangers"]
[{"$nulls":3},"summon beast (c)",{"$f":"IF(OR('Base Numbers'!$C$21,E17>=3,E9>=5,E14>=10,AND(E14>=6,E67>=1)),E111,0)","v":0},{"$f":"IF(OR('Base Numbers'!$C$21,F17>=3,F9>=5,F14>=10,AND(F14>=6,F67>=1)),F111,0)","v":0},{"$f":"IF(OR('Base Numbers'!$C$21,G17>=3,G9>=5,G14>=10,AND(G14>=6,G67>=1)),G111,0)","v":0},{"$f":"IF(OR('Base Numbers'!$C$21,H17>=3,H9>=5,H14>=10,AND(H14>=6,H67>=1)),H111,0)","v":0},{"$f":"IF(OR('Base Numbers'!$C$21,I17>=3,I9>=5,I14>=10,AND(I14>=6,I67>=1)),I111,0)","v":0},{"$f":"IF(OR('Base Numbers'!$C$21,J17>=3,J9>=5,J14>=10,AND(J14>=6,J67>=1)),J111,0)","v":0},{"$f":"IF(OR('Base Numbers'!$C$21,K17>=3,K9>=5,K14>=10,AND(K14>=6,K67>=1)),K111,0)","v":0},{"$f":"IF(OR('Base Numbers'!$C$21,L17>=3,L9>=5,L14>=10,AND(L14>=6,L67>=1)),L111,0)","v":0},{"$f":"IF(OR('Base Numbers'!$C$21,M17>=3,M9>=5,M14>=10,AND(M14>=6,M67>=1)),M111,0)","v":0},{"$f":"IF(OR('Base Numbers'!$C$21,N17>=3,N9>=5,N14>=10,AND(N14>=6,N67>=1)),N111,0)","v":0},{"$f":"IF(OR('Base Numbers'!$C$21,O17>=3,O9>=5,O14>=10,AND(O14>=6,O67>=1)),O111,0)","v":0},{"$f":"IF(OR('Base Numbers'!$C$21,P17>=3,P9>=5,P14>=10,AND(P14>=6,P67>=1)),P111,0)","v":0},{"$f":"IF(OR('Base Numbers'!$C$21,Q17>=3,Q9>=5,Q14>=10,AND(Q14>=6,Q67>=1)),Q111,0)","v":0},{"$f":"IF(OR('Base Numbers'!$C$21,R17>=3,R9>=5,R14>=10,AND(R14>=6,R67>=1)),R111,0)","v":0},{"$f":"IF(OR('Base Numbers'!$C$21,S17>=3,S9>=5,S14>=10,AND(S14>=6,S67>=1)),S111,0)","v":0},{"$f":"IF(OR('Base Numbers'!$C$21,T17>=3,T9>=5,T14>=10,AND(T14>=6,T67>=1)),T111,0)","v":0},{"$f":"IF(OR('Base Numbers'!$C$21,U17>=3,U9>=5,U14>=10,AND(U14>=6,U67>=1)),U111,0)","v":0},{"$f":"IF(OR('Base Numbers'!$C$21,V17>=3,V9>=5,V14>=10,AND(V14>=6,V67>=1)),V111,0)","v":0},{"$f":"IF(OR('Base Numbers'!$C$21,W17>=3,W9>=5,W14>=10,AND(W14>=6,W67>=1)),W111,0)","v":0},{"$f":"IF(OR('Base Numbers'!$C$21,X17>=3,X9>=5,X14>=10,AND(X14>=6,X67>=1)),X111,0)","v":0},null,"  beastmaster ranger"]
[{"$nulls":3},"summon fey (c)",{"$f":"IF(OR('Base Numbers'!$C$21,E9>=9,E12>=5,E15>=5,E17>=5,E14>=10,AND(E14>=6,E67>=1)),E122,0)","v":0},{"$f":"IF(OR('Base Numbers'!$C$21,F9>=9,F12>=5,F15>=5,F17>=5,F14>=10,AND(F14>=6,F67>=1)),F122,0)","v":0},{"$f":"IF(OR('Base Numbers'!$C$21,G9>=9,G12>=5,G15>=5,G17>=5,G14>=10,AND(G14>=6,G67>=1)),G122,0)","v":0},{"$f":"IF(OR('Base Numbers'!$C$21,H9>=9,H12>=5,H15>=5,H17>=5,H14>=10,AND(H14>=6,H67>=1)),H122,0)","v":0},{"$f":"IF(OR('Base Numbers'!$C$21,I9>=9,I12>=5,I15>=5,I17>=5,I14>=10,AND(I14>=6,I67>=1)),I122,0)","v":0},{"$f":"IF(OR('Base Numbers'!$C$21,J9>=9,J12>=5,J15>=5,J17>=5,J14>=10,AND(J14>=6,J67>=1)),J122,0)","v":0},{"$f":"IF(OR('Base Numbers'!$C$21,K9>=9,K12>=5,K15>=5,K17>=5,K14>=10,AND(K14>=6,K67>=1)),K122,0)","v":0},{"$f":"IF(OR('Base Numbers'!$C$21,L9>=9,L12>=5,L15>=5,L17>=5,L14>=10,AND(L14>=6,L67>=1)),L122,0)","v":0},{"$f":"IF(OR('Base Numbers'!$C$21,M9>=9,M12>=5,M15>=5,M17>=5,M14>=10,AND(M14>=6,M67>=1)),M122,0)","v":0},{"$f":"IF(OR('Base Numbers'!$C$21,N9>=9,N12>=5,N15>=5,N17>=5,N14>=10,AND(N14>=6,N67>=1)),N122,0)","v":0},{"$f":"IF(OR('Base Numbers'!$C$21,O9>=9,O12>=5,O15>=5,O17>=5,O14>=10,AND(O14>=6,O67>=1)),O122,0)","v":0},{"$f":"IF(OR('Base Numbers'!$C$21,P9>=9,P12>=5,P15>=5,P17>=5,P14>=10,AND(P14>=6,P67>=1)),P122,0)","v":0},{"$f":"IF(OR('Base Numbers'!$C$21,Q9>=9,Q12>=5,Q15>=5,Q17>=5,Q14>=10,AND(Q14>=6,Q67>=1)),Q122,0)","v":0},{"$f":"IF(OR('Base Numbers'!$C$21,R9>=9,R12>=5,R15>=5,R17>=5,R14>=10,AND(R14>=6,R67>=1)),R122,0)","v":0},{"$f":"IF(OR('Base Numbers'!$C$21,S9>=9,S12>=5,S15>=5,S17>=5,S14>=10,AND(S14>=6,S67>=1)),S122,0)","v":0},{"$f":"IF(OR('Base Numbers'!$C$21,T9>=9,T12>=5,T15>=5,T17>=5,T14>=10,AND(T14>=6,T67>=1)),T122,0)","v":0},{"$f":"IF(OR('Base Numbers'!$C$21,U9>=9,U12>=5,U15>=5,U17>=5,U14>=10,AND(U14>=6,U67>=1)),U122,0)","v":0},{"$f":"IF(OR('Base Numbers'!$C$21,V9>=9,V12>=5,V15>=5,V17>=5,V14>=10,AND(V14>=6,V67>=1)),V122,0)","v":0},{"$f":"IF(OR('Base Numbers'!$C$21,W9>=9,W12>=5,W15>=5,W17>=5,W14>=10,AND(W14>=6,W67>=1)),W122,0)","v":0},{"$f":"IF(OR('Base Numbers'!$C$21,X9>=9,X12>=5,X15>=5,X17>=5,X14>=10,AND(X14>=6,X67>=1)),X122,0)","v":0},null,"  hunter ranger"]
[{"$nulls":3},"summon undead (c)",{"$f":"IF(OR('Base Numbers'!$C$21,E12>=5,E15>=5,E14>=10,AND(E14>=6,E67>=1)),E123,0)","v":0},{"$f":"IF(OR('Base Numbers'!$C$21,F12>=5,F15>=5,F14>=10,AND(F14>=6,F67>=1)),F123,0)","v":0},{"$f":"IF(OR('Base Numbers'!$C$21,G12>=5,G15>=5,G14>=10,AND(G14>=6,G67>=1)),G123,0)","v":0},{"$f":"IF(OR('Base Numbers'!$C$21,H12>=5,H15>=5,H14>=10,AND(H14>=6,H67>=1)),H123,0)","v":0},{"$f":"IF(OR('Base Numbers'!$C$21,I12>=5,I15>=5,I14>=10,AND(I14>=6,I67>=1)),I123,0)","v":0},{"$f":"IF(OR('Base Numbers'!$C$21,J12>=5,J15>=5,J14>=10,AND(J14>=6,J67>=1)),J123,0)","v":0},{"$f":"IF(OR('Base Numbers'!$C$21,K12>=5,K15>=5,K14>=10,AND(K14>=6,K67>=1)),K123,0)","v":0},{"$f":"IF(OR('Base Numbers'!$C$21,L12>=5,L15>=5,L14>=10,AND(L14>=6,L67>=1)),L123,0)","v":0},{"$f":"IF(OR('Base Numbers'!$C$21,M12>=5,M15>=5,M14>=10,AND(M14>=6,M67>=1)),M123,0)","v":0},{"$f":"IF(OR('Base Numbers'!$C$21,N12>=5,N15>=5,N14>=10,AND(N14>=6,N67>=1)),N123,0)","v":0},{"$f":"IF(OR('Base Numbers'!$C$21,O12>=5,O15>=5,O14>=10,AND(O14>=6,O67>=1)),O123,0)","v":0},{"$f":"IF(OR('Base Numbers'!$C$21,P12>=5,P15>=5,P14>=10,AND(P14>=6,P67>=1)),P123,0)","v":0},{"$f":"IF(OR('Base Numbers'!$C$21,Q12>=5,Q15>=5,Q14>=10,AND(Q14>=6,Q67>=1)),Q123,0)","v":0},{"$f":"IF(OR('Base Numbers'!$C$21,R12>=5,R15>=5,R14>=10,AND(R14>=6,R67>=1)),R123,0)","v":0},{"$f":"IF(OR('Base Numbers'!$C$21,S12>=5,S15>=5,S14>=10,AND(S14>=6,S67>=1)),S123,0)","v":0},{"$f":"IF(OR('Base Numbers'!$C$21,T12>=5,T15>=5,T14>=10,AND(T14>=6,T67>=1)),T123,0)","v":0},{"$f":"IF(OR('Base Numbers'!$C$21,U12>=5,U15>=5,U14>=10,AND(U14>=6,U67>=1)),U123,0)","v":0},{"$f":"IF(OR('Base Numbers'!$C$21,V12>=5,V15>=5,V14>=10,AND(V14>=6,V67>=1)),V123,0)","v":0},{"$f":"IF(OR('Base Numbers'!$C$21,W12>=5,W15>=5,W14>=10,AND(W14>=6,W67>=1)),W123,0)","v":0},{"$f":"IF(OR('Base Numbers'!$C$21,X12>=5,X15>=5,X14>=10,AND(X14>=6,X67>=1)),X123,0)","v":0},null,"bladesinger bonus concentration from INT"]
[{"$nulls":3},"summon aberation (c)",{"$f":"IF(OR('Base Numbers'!$C$21,E12>=7,E15>=7,E14>=10),E129,0)","v":0},{"$f":"IF(OR('Base Numbers'!$C$21,F12>=7,F15>=7,F14>=10),F129,0)","v":0},{"$f":"IF(OR('Base Numbers'!$C$21,G12>=7,G15>=7,G14>=10),G129,0)","v":0},{"$f":"IF(OR('Base Numbers'!$C$21,H12>=7,H15>=7,H14>=10),H129,0)","v":0},{"$f":"IF(OR('Base Numbers'!$C$21,I12>=7,I15>=7,I14>=10),I129,0)","v":0},{"$f":"IF(OR('Base Numbers'!$C$21,J12>=7,J15>=7,J14>=10),J129,0)","v":0},{"$f":"IF(OR('Base Numbers'!$C$21,K12>=7,K15>=7,K14>=10),K129,0)","v":0},{"$f":"IF(OR('Base Numbers'!$C$21,L12>=7,L15>=7,L14>=10),L129,0)","v":0},{"$f":"IF(OR('Base Numbers'!$C$21,M12>=7,M15>=7,M14>=10),M129,0)","v":0},{"$f":"IF(OR('Base Numbers'!$C$21,N12>=7,N15>=7,N14>=10),N129,0)","v":0},{"$f":"IF(OR('Base Numbers'!$C$21,O12>=7,O15>=7,O14>=10),O129,0)","v":0},{"$f":"IF(OR('Base Numbers'!$C$21,P12>=7,P15>=7,P14>=10),P129,0)","v":0},{"$f":"IF(OR('Base Numbers'!$C$21,Q12>=7,Q15>=7,Q14>=10),Q129,0)","v":0},{"$f":"IF(OR('Base Numbers'!$C$21,R12>=7,R15>=7,R14>=10),R129,0)","v":0},{"$f":"IF(OR('Base Numbers'!$C$21,S12>=7,S15>=7,S14>=10),S129,0)","v":0},{"$f":"IF(OR('Base Numbers'!$C$21,T12>=7,T15>=7,T14>=10),T129,0)","v":0},{"$f":"IF(OR('Base Numbers'!$C$21,U12>=7,U15>=7,U14>=10),U129,0)","v":0},{"$f":"IF(OR('Base Numbers'!$C$21,V12>=7,V15>=7,V14>=10),V129,0)","v":0},{"$f":"IF(OR('Base Numbers'!$C$21,W12>=7,W15>=7,W14>=10),W129,0)","v":0},{"$f":"IF(OR('Base Numbers'!$C$21,X12>=7,X15>=7,X14>=10),X129,0)","v":0},null,"dual wielding with shadow blade and extra attack lets bladesinger attack twice with shadow blade"]
[{"$nulls":3},"summon construct (c)",{"$f":"IF(OR('Base Numbers'!$C$21,E19>=13,E15>=7,E14>=10),E130,0)","v":0},{"$f":"IF(OR('Base Numbers'!$C$21,F19>=13,F15>=7,F14>=10),F130,0)","v":0},{"$f":"IF(OR('Base Numbers'!$C$21,G19>=13,G15>=7,G14>=10),G130,0)","v":0},{"$f":"IF(OR('Base Numbers'!$C$21,H19>=13,H15>=7,H14>=10),H130,0)","v":0},{"$f":"IF(OR('Base Numbers'!$C$21,I19>=13,I15>=7,I14>=10),I130,0)","v":0},{"$f":"IF(OR('Base Numbers'!$C$21,J19>=13,J15>=7,J14>=10),J130,0)","v":0},{"$f":"IF(OR('Base Numbers'!$C$21,K19>=13,K15>=7,K14>=10),K130,0)","v":0},{"$f":"IF(OR('Base Numbers'!$C$21,L19>=13,L15>=7,L14>=10),L130,0)","v":0},{"$f":"IF(OR('Base Numbers'!$C$21,M19>=13,M15>=7,M14>=10),M130,0)","v":0},{"$f":"IF(OR('Base Numbers'!$C$21,N19>=13,N15>=7,N14>=10),N130,0)","v":0},{"$f":"IF(OR('Base Numbers'!$C$21,O19>=13,O15>=7,O14>=10),O130,0)","v":0},{"$f":"IF(OR('Base Numbers'!$C$21,P19>=13,P15>=7,P14>=10),P130,0)","v":0},{"$f":"IF(OR('Base Numbers'!$C$21,Q19>=13,Q15>=7,Q14>=10),Q130,0)","v":0},{"$f":"IF(OR('Base Numbers'!$C$21,R19>=13,R15>=7,R14>=10),R130,0)","v":0},{"$f":"IF(OR('Base Numbers'!$C$21,S19>=13,S15>=7,S14>=10),S130,0)","v":0},{"$f":"IF(OR('Base Numbers'!$C$21,T19>=13,T15>=7,T14>=10),T130,0)","v":0},{"$f":"IF(OR('Base Numbers'!$C$21,U19>=13,U15>=7,U14>=10),U130,0)","v":0},{"$f":"IF(OR('Base Numbers'!$C$21,V19>=13,V15>=7,V14>=10),V130,0)","v":0},{"$f":"IF(OR('Base Numbers'!$C$21,W19>=13,W15>=7,W14>=10),W130,0)","v":0},{"$f":"IF(OR('Base Numbers'!$C$21,X19>=13,X15>=7,X14>=10),X130,0)","v":0},null,"  fighters"]
[{"$nulls":3},"summon celestial (c)",{"$f":"IF(OR('Base Numbers'!$C$21,E16>=9,E7>=17,E14>=10),E139,0)","v":0},{"$f":"IF(OR('Base Numbers'!$C$21,F16>=9,F7>=17,F14>=10),F139,0)","v":0},{"$f":"IF(OR('Base Numbers'!$C$21,G16>=9,G7>=17,G14>=10),G139,0)","v":0},{"$f":"IF(OR('Base Numbers'!$C$21,H16>=9,H7>=17,H14>=10),H139,0)","v":0},{"$f":"IF(OR('Base Numbers'!$C$21,I16>=9,I7>=17,I14>=10),I139,0)","v":0},{"$f":"IF(OR('Base Numbers'!$C$21,J16>=9,J7>=17,J14>=10),J139,0)","v":0},{"$f":"IF(OR('Base Numbers'!$C$21,K16>=9,K7>=17,K14>=10),K139,0)","v":0},{"$f":"IF(OR('Base Numbers'!$C$21,L16>=9,L7>=17,L14>=10),L139,0)","v":0},{"$f":"IF(OR('Base Numbers'!$C$21,M16>=9,M7>=17,M14>=10),M139,0)","v":0},{"$f":"IF(OR('Base Numbers'!$C$21,N16>=9,N7>=17,N14>=10),N139,0)","v":0},{"$f":"IF(OR('Base Numbers'!$C$21,O16>=9,O7>=17,O14>=10),O139,0)","v":0},{"$f":"IF(OR('Base Numbers'!$C$21,P16>=9,P7>=17,P14>=10),P139,0)","v":0},{"$f":"IF(OR('Base Numbers'!$C$21,Q16>=9,Q7>=17,Q14>=10),Q139,0)","v":0},{"$f":"IF(OR('Base Numbers'!$C$21,R16>=9,R7>=17,R14>=10),R139,0)","v":0},{"$f":"IF(OR('Base Numbers'!$C$21,S16>=9,S7>=17,S14>=10),S139,0)","v":0},{"$f":"IF(OR('Base Numbers'!$C$21,T16>=9,T7>=17,T14>=10),T139,0)","v":0},{"$f":"IF(OR('Base Numbers'!$C$21,U16>=9,U7>=17,U14>=10),U139,0)","v":0},{"$f":"IF(OR('Base Numbers'!$C$21,V16>=9,V7>=17,V14>=10),V139,0)","v":0},{"$f":"IF(OR('Base Numbers'!$C$21,W16>=9,W7>=17,W14>=10),W139,0)","v":0},{"$f":"IF(OR('Base Numbers'!$C$21,X16>=9,X7>=17,X14>=10),X139,0)","v":0},null,"     rune knight"]
[{"$nulls":3},"Favored Foe Ranger marking ability (c) (free action)",{"$f":"IF(E9>=1,MIN(E146,'Base Numbers'!$C$5*'Base Numbers'!$C$6,E39),0)","v":0},{"$f":"IF(F9>=1,MIN(F146,'Base Numbers'!$C$5*'Base Numbers'!$C$6,F39),0)","v":0},{"$f":"IF(G9>=1,MIN(G146,'Base Numbers'!$C$5*'Base Numbers'!$C$6,G39),0)","v":0},{"$f":"IF(H9>=1,MIN(H146,'Base Numbers'!$C$5*'Base Numbers'!$C$6,H39),0)","v":0},{"$f":"IF(I9>=1,MIN(I146,'Base Numbers'!$C$5*'Base Numbers'!$C$6,I39),0)","v":0},{"$f":"IF(J9>=1,MIN(J146,'Base Numbers'!$C$5*'Base Numbers'!$C$6,J39),0)","v":0},{"$f":"IF(K9>=1,MIN(K146,'Base Numbers'!$C$5*'Base Numbers'!$C$6,K39),0)","v":0},{"$f":"IF(L9>=1,MIN(L146,'Base Numbers'!$C$5*'Base Numbers'!$C$6,L39),0)","v":0},{"$f":"IF(M9>=1,MIN(M146,'Base Numbers'!$C$5*'Base Numbers'!$C$6,M39),0)","v":0},{"$f":"IF(N9>=1,MIN(N146,'Base Numbers'!$C$5*'Base Numbers'!$C$6,N39),0)","v":0},{"$f":"IF(O9>=1,MIN(O146,'Base Numbers'!$C$5*'Base Numbers'!$C$6,O39),0)","v":0},{"$f":"IF(P9>=1,MIN(P146,'Base Numbers'!$C$5*'Base Numbers'!$C$6,P39),0)","v":0},{"$f":"IF(Q9>=1,MIN(Q146,'Base Numbers'!$C$5*'Base Numbers'!$C$6,Q39),0)","v":0},{"$f":"IF(R9>=1,MIN(R146,'Base Numbers'!$C$5*'Base Numbers'!$C$6,R39),0)","v":0},{"$f":"IF(S9>=1,MIN(S146,'Base Numbers'!$C$5*'Base Numbers'!$C$6,S39),0)","v":1},{"$f":"IF(T9>=1,MIN(T146,'Base Numbers'!$C$5*'Base Numbers'!$C$6,T39),0)","v":1},{"$f":"IF(U9>=1,MIN(U146,'Base Numbers'!$C$5*'Base Numbers'!$C$6,U39),0)","v":1},{"$f":"IF(V9>=1,MIN(V146,'Base Numbers'!$C$5*'Base Numbers'!$C$6,V39),0)","v":1},{"$f":"IF(W9>=1,MIN(W146,'Base Numbers'!$C$5*'Base Numbers'!$C$6,W39),0)","v":1},{"$f":"IF(X9>=1,MIN(X146,'Base Numbers'!$C$5*'Base Numbers'!$C$6,X39),0)","v":1},null,"         check other rune knight abilities","(kensai, mercy, astral self)"]
[{"$nulls":3},"Bonus Action to provide Advantage (Spell-like action: Rogue, Ranger)",{"$f":"IF(OR(E11>=3,E9>=14),MIN(E147,'Base Numbers'!$C$5*'Base Numbers'!$C$6),0)","v":0},{"$f":"IF(OR(F11>=3,F9>=14),MIN(F147,'Base Numbers'!$C$5*'Base Numbers'!$C$6),0)","v":0},{"$f":"IF(OR(G11>=3,G9>=14),MIN(G147,'Base Numbers'!$C$5*'Base Numbers'!$C$6),0)","v":0},{"$f":"IF(OR(H11>=3,H9>=14),MIN(H147,'Base Numbers'!$C$5*'Base Numbers'!$C$6),0)","v":0},{"$f":"IF(OR(I11>=3,I9>=14),MIN(I147,'Base Numbers'!$C$5*'Base Numbers'!$C$6),0)","v":0},{"$f":"IF(OR(J11>=3,J9>=14),MIN(J147,'Base Numbers'!$C$5*'Base Numbers'!$C$6),0)","v":0},{"$f":"IF(OR(K11>=3,K9>=14),MIN(K147,'Base Numbers'!$C$5*'Base Numbers'!$C$6),0)","v":0},{"$f":"IF(OR(L11>=3,L9>=14),MIN(L147,'Base Numbers'!$C$5*'Base Numbers'!$C$6),0)","v":0},{"$f":"IF(OR(M11>=3,M9>=14),MIN(M147,'Base Numbers'!$C$5*'Base Numbers'!$C$6),0)","v":0},{"$f":"IF(OR(N11>=3,N9>=14),MIN(N147,'Base Numbers'!$C$5*'Base Numbers'!$C$6),0)","v":0},{"$f":"IF(OR(O11>=3,O9>=14),MIN(O147,'Base Numbers'!$C$5*'Base Numbers'!$C$6),0)","v":0},{"$f":"IF(OR(P11>=3,P9>=14),MIN(P147,'Base Numbers'!$C$5*'Base Numbers'!$C$6),0)","v":0},{"$f":"IF(OR(Q11>=3,Q9>=14),MIN(Q147,'Base Numbers'!$C$5*'Base Numbers'!$C$6),0)","v":0},{"$f":"IF(OR(R11>=3,R9>=14),MIN(R147,'Base Numbers'!$C$5*'Base Numbers'!$C$6),0)","v":0},{"$f":"IF(OR(S11>=3,S9>=14),MIN(S147,'Base Numbers'!$C$5*'Base Numbers'!$C$6),0)","v":0},{"$f":"IF(OR(T11>=3,T9>=14),MIN(T147,'Base Numbers'!$C$5*'Base Numbers'!$C$6),0)","v":0},{"$f":"IF(OR(U11>=3,U9>=14),MIN(U147,'Base Numbers'!$C$5*'Base Numbers'!$C$6),0)","v":0},{"$f":"IF(OR(V11>=3,V9>=14),MIN(V147,'Base Numbers'!$C$5*'Base Numbers'!$C$6),0)","v":0},{"$f":"IF(OR(W11>=3,W9>=14),MIN(W147,'Base Numbers'!$C$5*'Base Numbers'!$C$6),0)","v":0},{"$f":"IF(OR(X11>=3,X9>=14),MIN(X147,'Base Numbers'!$C$5*'Base Numbers'!$C$6),0)","v":0},null,"discount animate objects bonus actions required to attack"]
[{"$nulls":3},"total allowed concenctration spells:",{"$f":"E174+E175+E176+E177+E178+E179+E180+E181+E184+E189+E196+E197+E198+E199+E213+E206+E187+E185+E186+E201","v":0},{"$f":"F174+F175+F176+F177+F178+F179+F180+F181+F184+F189+F196+F197+F198+F199+F213+F206+F187+F185+F186+F201","v":2},3,3,4,4,4,4,4,4,4,4,4,4,5,5,5,5,5,5,null,"opportunity attack review"]
[{"$nulls":3},"total allowed defensive concenctration spells:",{"$f":"E171+E173+E191+E192+E193+E195+E194","v":0},{"$f":"F171+F173+F191+F192+F193+F195+F194","v":0},0,0,0,0,0,0,0,0,0,0,0,0,0,0,0,0,0,0,null,"warlock pacts: pact of the blade, pact of the chain"]
[{"$nulls":3},"total allowed 1-hour summon concentration spells:",{"$f":"E207+E208+E209+E210+E211+E212+E205","v":0},{"$f":"F207+F208+F209+F210+F211+F212+F205","v":0},0,0,0,0,0,0,0,0,0,0,0,0,0,0,0,0,0,0,null,"summons should have reduced damage vs. stuff resistant to nonmagical weapons"]
[{"$nulls":3},"concentration spell percent reduction",{"$f":"IF(E216+E215+E217 > 0, MIN(1,'Base Numbers'!$C$5*'Base Numbers'!$C$6/(E216*MIN('Base Numbers'!$C$6,(1+E357))+E215*MIN('Base Numbers'!$C$6,(1+E356))+E217*MIN('Base Numbers'!$C$6*2,(1+E358))+E190)),1)","v":1},{"$f":"IF(F216+F215+F217 > 0, MIN(1,'Base Numbers'!$C$5*'Base Numbers'!$C$6/(F216*MIN('Base Numbers'!$C$6,(1+F357))+F215*MIN('Base Numbers'!$C$6,(1+F356))+F217*MIN('Base Numbers'!$C$6*2,(1+F358))+F190)),1)","v":1},{"$f":"IF(G216+G215+G217 > 0, MIN(1,'Base Numbers'!$C$5*'Base Numbers'!$C$6/(G216*MIN('Base Numbers'!$C$6,(1+G357))+G215*MIN('Base Numbers'!$C$6,(1+G356))+G217*MIN('Base Numbers'!$C$6*2,(1+G358))+G190)),1)","v":1},{"$f":"IF(H216+H215+H217 > 0, MIN(1,'Base Numbers'!$C$5*'Base Numbers'!$C$6/(H216*MIN('Base Numbers'!$C$6,(1+H357))+H215*MIN('Base Numbers'!$C$6,(1+H356))+H217*MIN('Base Numbers'!$C$6*2,(1+H358))+H190)),1)","v":1},{"$f":"IF(I216+I215+I217 > 0, MIN(1,'Base Numbers'!$C$5*'Base Numbers'!$C$6/(I216*MIN('Base Numbers'!$C$6,(1+I357))+I215*MIN('Base Numbers'!$C$6,(1+I356))+I217*MIN('Base Numbers'!$C$6*2,(1+I358))+I190)),1)","v":1},{"$f":"IF(J216+J215+J217 > 0, MIN(1,'Base Numbers'!$C$5*'Base Numbers'!$C$6/(J216*MIN('Base Numbers'!$C$6,(1+J357))+J215*MIN('Base Numbers'!$C$6,(1+J356))+J217*MIN('Base Numbers'!$C$6*2,(1+J358))+J190)),1)","v":1},{"$f":"IF(K216+K215+K217 > 0, MIN(1,'Base Numbers'!$C$5*'Base Numbers'!$C$6/(K216*MIN('Base Numbers'!$C$6,(1+K357))+K215*MIN('Base Numbers'!$C$6,(1+K356))+K217*MIN('Base Numbers'!$C$6*2,(1+K358))+K190)),1)","v":1},{"$f":"IF(L216+L215+L217 > 0, MIN(1,'Base Numbers'!$C$5*'Base Numbers'!$C$6/(L216*MIN('Base Numbers'!$C$6,(1+L357))+L215*MIN('Base Numbers'!$C$6,(1+L356))+L217*MIN('Base Numbers'!$C$6*2,(1+L358))+L190)),1)","v":1},{"$f":"IF(M216+M215+M217 > 0, MIN(1,'Base Numbers'!$C$5*'Base Numbers'!$C$6/(M216*MIN('Base Numbers'!$C$6,(1+M357))+M215*MIN('Base Numbers'!$C$6,(1+M356))+M217*MIN('Base Numbers'!$C$6*2,(1+M358))+M190)),1)","v":1},{"$f":"IF(N216+N215+N217 > 0, MIN(1,'Base Numbers'!$C$5*'Base Numbers'!$C$6/(N216*MIN('Base Numbers'!$C$6,(1+N357))+N215*MIN('Base Numbers'!$C$6,(1+N356))+N217*MIN('Base Numbers'!$C$6*2,(1+N358))+N190)),1)","v":1},{"$f":"IF(O216+O215+O217 > 0, MIN(1,'Base Numbers'!$C$5*'Base Numbers'!$C$6/(O216*MIN('Base Numbers'!$C$6,(1+O357))+O215*MIN('Base Numbers'!$C$6,(1+O356))+O217*MIN('Base Numbers'!$C$6*2,(1+O358))+O190)),1)","v":1},{"$f":"IF(P216+P215+P217 > 0, MIN(1,'Base Numbers'!$C$5*'Base Numbers'!$C$6/(P216*MIN('Base Numbers'!$C$6,(1+P357))+P215*MIN('Base Numbers'!$C$6,(1+P356))+P217*MIN('Base Numbers'!$C$6*2,(1+P358))+P190)),1)","v":1},{"$f":"IF(Q216+Q215+Q217 > 0, MIN(1,'Base Numbers'!$C$5*'Base Numbers'!$C$6/(Q216*MIN('Base Numbers'!$C$6,(1+Q357))+Q215*MIN('Base Numbers'!$C$6,(1+Q356))+Q217*MIN('Base Numbers'!$C$6*2,(1+Q358))+Q190)),1)","v":1},{"$f":"IF(R216+R215+R217 > 0, MIN(1,'Base Numbers'!$C$5*'Base Numbers'!$C$6/(R216*MIN('Base Numbers'!$C$6,(1+R357))+R215*MIN('Base Numbers'!$C$6,(1+R356))+R217*MIN('Base Numbers'!$C$6*2,(1+R358))+R190)),1)","v":1},{"$f":"IF(S216+S215+S217 > 0, MIN(1,'Base Numbers'!$C$5*'Base Numbers'!$C$6/(S216*MIN('Base Numbers'!$C$6,(1+S357))+S215*MIN('Base Numbers'!$C$6,(1+S356))+S217*MIN('Base Numbers'!$C$6*2,(1+S358))+S190)),1)","v":1},{"$f":"IF(T216+T215+T217 > 0, MIN(1,'Base Numbers'!$C$5*'Base Numbers'!$C$6/(T216*MIN('Base Numbers'!$C$6,(1+T357))+T215*MIN('Base Numbers'!$C$6,(1+T356))+T217*MIN('Base Numbers'!$C$6*2,(1+T358))+T190)),1)","v":1},{"$f":"IF(U216+U215+U217 > 0, MIN(1,'Base Numbers'!$C$5*'Base Numbers'!$C$6/(U216*MIN('Base Numbers'!$C$6,(1+U357))+U215*MIN('Base Numbers'!$C$6,(1+U356))+U217*MIN('Base Numbers'!$C$6*2,(1+U358))+U190)),1)","v":1},{"$f":"IF(V216+V215+V217 > 0, MIN(1,'Base Numbers'!$C$5*'Base Numbers'!$C$6/(V216*MIN('Base Numbers'!$C$6,(1+V357))+V215*MIN('Base Numbers'!$C$6,(1+V356))+V217*MIN('Base Numbers'!$C$6*2,(1+V358))+V190)),1)","v":1},{"$f":"IF(W216+W215+W217 > 0, MIN(1,'Base Numbers'!$C$5*'Base Numbers'!$C$6/(W216*MIN('Base Numbers'!$C$6,(1+W357))+W215*MIN('Base Numbers'!$C$6,(1+W356))+W217*MIN('Base Numbers'!$C$6*2,(1+W358))+W190)),1)","v":0.8072920490923677},{"$f":"IF(X216+X215+X217 > 0, MIN(1,'Base Numbers'!$C$5*'Base Numbers'!$C$6/(X216*MIN('Base Numbers'!$C$6,(1+X357))+X215*MIN('Base Numbers'!$C$6,(1+X356))+X217*MIN('Base Numbers'!$C$6*2,(1+X358))+X190)),1)","v":0.8072920490923677},null,"fey touched (half) allows hunter's mark/hex casts"]
[{"$nulls":25},"PAM Feat should not assume a d10 damage (or Reach), spears / quarter staves are good too"]
[{"$nulls":3},"ADJUSTED CONCENTRATION SPELLS PER DAY (based on total fights)",1,2,3,4,5,6,7,8,9,10,11,12,13,14,15,16,17,18,19,20,null,"echo knight increased opp att pct."]
[{"$nulls":3},"fog cloud casts: (c)",{"$f":"E171*E$218","v":0},0,0,0,0,0,0,0,0,0,0,0,0,0,0,0,0,0,0,0,null,"druid"]
[{"$nulls":3},"darkness casts: (c) (oathbreaker)",{"$f":"E173*E$218","v":0},0,0,0,0,0,0,0,0,0,0,0,0,0,0,0,0,0,0,0,null,"  summons bonuses?"]
[{"$nulls":3},"shadow blade (c) (bonus action)",{"$f":"E174*E$218","v":0},0,0,0,0,0,0,0,0,0,0,0,0,0,0,0,0,0,0,0,null,"death cleric necro cantrips"]
[{"$nulls":3},"bless casts (c)",{"$f":"E175*E$218","v":0},0,0,0,0,0,0,0,0,0,0,0,0,0,0,0,0,0,0,0,null,"peace cleric"]
[{"$nulls":3},"divine favor casts (c)",{"$f":"E176*E$218","v":0},0,0,0,0,0,0,0,0,0,0,0,0,0,0,0,0,0,0,0,null,"fear duration"]
[{"$nulls":3},"haste casts (c) (veng)",{"$f":"E177*E$218","v":0},0,0,0,0,0,0,0,0,0,0,0,0,0,0,0,0,0,0,0,null,"flametongue style magic weapons"]
[{"$nulls":3},"hunter's mark / hex casts (c) (veng) (bonus action)",{"$f":"E178*E$218","v":0},2,3,3,4,4,4,4,4,4,4,4,4,4,4,4,4,4,3.229168196369471,3.229168196369471,null,"ranger L20 capstone"]
[{"$nulls":3},"spirit guardians casts (c) (req Divine Soul)",{"$f":"E179*E$218","v":0},0,0,0,0,0,0,0,0,0,0,0,0,0,0,0,0,0,0,0,null,"Dueling fighting style should not add to all monk bonus attacks"]
[{"$nulls":3},"faerie fire casts (c)",{"$f":"E180*E$218","v":0},0,0,0,0,0,0,0,0,0,0,0,0,0,0,0,0,0,0,0,null,"war cleric option"]
[{"$nulls":3},"spirit shroud casts (c)",{"$f":"E181*E$218","v":0},0,0,0,0,0,0,0,0,0,0,0,0,0,0,0,0,0,0,0,null,"combined channel divs for paladin and cleric"]
[{"$nulls":3},"guardian of nature (bonus action) (c)",{"$f":"E184*E$218","v":0},0,0,0,0,0,0,0,0,0,0,0,0,0,0,0,0,0,0,0,null,"oath of conq L20 ability"]
[{"$nulls":3},"swift quiver (bonus action, c)",{"$f":"E185*E$218","v":0},0,0,0,0,0,0,0,0,0,0,0,0,0,0,0,0,0,0,0,null,"barbarian ancestral guardian"]
[{"$nulls":3},"call lightning (c, AE)",{"$f":"E186*E$218","v":0},0,0,0,0,0,0,0,0,0,0,0,0,0,0,0,0,0,0,0,null,"bard spell availability with magical secrets"]
[{"$nulls":3},"moonbeam (c, AE)",{"$f":"E187*E$218","v":0},{"$f":"F187*F$218","v":0},0,0,0,0,0,0,0,0,0,0,0,0,0,0,0,0,0,0,null,"limit paladin smites to 5d8 only"]
[{"$nulls":3},"holy weapon casts (bonus action) (c)",{"$f":"E189*E$218","v":0},0,0,0,0,0,0,0,0,0,0,0,0,0,0,0,0,0,0,0,null,"wizard arcane recovery"]
[{"$nulls":3},"thunderous smite (bonus action, c)",{"$f":"E190*E$218","v":0},0,0,0,0,0,0,0,0,0,0,0,0,0,0,0,0,0,0,0,null,"option for disabling simulacrum damage"]
[{"$nulls":3},"hold person casts (conq, veng) (c)",{"$f":"E191*E$218","v":0},0,0,0,0,0,0,0,0,0,0,0,0,0,0,0,0,0,0,0,null,"dual-weilding beast barbarian can attack 4 times, 2 with claws, 2 with one-handed weapons"]
[{"$nulls":3},"hold monster casts (veng) (c)",{"$f":"E192*E$218","v":0},0,0,0,0,0,0,0,0,0,0,0,0,0,0,0,0,0,0,0,null,"similar trick with GWM beast barbarian bonus attack proc"]
[{"$nulls":3},"shadow of moil (c) ",{"$f":"E193*E$218","v":0},{"$f":"F193*F$218","v":0},0,0,0,0,0,0,0,0,0,0,0,0,0,0,0,0,0,0,null,"warlock patron spell lists"]
[{"$nulls":3},"greater invisibility (c)",{"$f":"E194*E$218","v":0},{"$f":"F194*F$218","v":0},0,0,0,0,0,0,0,0,0,0,0,0,0,0,0,0,0,0,null,"shadowblade unusable with CHA bonus"]
[{"$nulls":3},"fear casts (conq) (c)",{"$f":"E195*E$218","v":0},0,0,0,0,0,0,0,0,0,0,0,0,0,0,0,0,0,0,0,null,"pike weapon incompatible with PAM bonus attack, making Piercer and PAM a nonbo."]
[{"$nulls":3},"tenser's transformation casts (c) ",{"$f":"E196*E$218","v":0},0,0,0,0,0,0,0,0,0,0,0,0,0,0,0,0,0,0,0,null,"quicken booming blade lets a rogue hold action and use reaction for additional sneak attack"]
[{"$nulls":3},"flaming sphere casts (c) ",{"$f":"E197*E$218","v":0},0,0,0,0,0,0,0,0,0,0,0,0,0,0,0,0,0,0,0,null,"limit hit rate for Sorc / Rogue Quicken BB combo on main turn"]
[{"$nulls":3},"bigby's hand casts (c)",{"$f":"E198*E$218","v":0},0,0,0,0,0,0,0,0,0,0,0,0,0,0,0,0,0,0,0,null,"Fixed some DIV by Zero errors when total spellcasts exceeds total combat rounds"]
[{"$nulls":3},"animate objects casts (c)",{"$f":"E199*E$218","v":0},0,0,0,0,0,0,0,0,0,0,0,0,0,0,0,0,0,0,0,null,"Barb Best + Monk bonus attacks"]
[{"$nulls":3},"melf's minute meteors: AE (c)",{"$f":"E201*E$218","v":0},{"$f":"F201*F$218","v":0},0,0,0,0,0,0,0,0,0,0,0,0,0,0,0,0,0,0,null,"fixed bug with paladin smites causing Eldritch smite prones"]
[{"$nulls":3},"conjure animals (c)",{"$f":"E205*E$218","v":0},{"$f":"F205*F$218","v":0},0,0,0,0,0,0,0,0,0,0,0,0,0,0,0,0,0,0,null,"fixed bug with piercer and spears"]
[{"$nulls":3},"summon greater demon (L4, Barlgura) (c)",{"$f":"E206*E$218","v":0},{"$f":"F206*F$218","v":0},0,0,0,0,0,0,0,0,0,0,0,0,0,0,0,0,0,0,null,"fixed bug with dueling fighting style and shield + spear"]
[{"$nulls":3},"summon beast (c)",{"$f":"E207*E$218","v":0},0,0,0,0,0,0,0,0,0,0,0,0,0,0,0,0,0,0,0,null,"held actions for sneak attack limited by concentration"]
[{"$nulls":3},"summon fey (c)",{"$f":"E208*E$218","v":0},0,0,0,0,0,0,0,0,0,0,0,0,0,0,0,0,0,0,0,null,"  artificer firebolt and damage scenarios"]
[{"$nulls":3},"summon undead (c)",{"$f":"E209*E$218","v":0},0,0,0,0,0,0,0,0,0,0,0,0,0,0,0,0,0,0,0,null,"  ranged warlock bow fighter ranger/rogue/warrior?"]
[{"$nulls":3},"summon aberation (c)",{"$f":"E210*E$218","v":0},0,0,0,0,0,0,0,0,0,0,0,0,0,0,0,0,0,0,0,null,"  rogue"]
[{"$nulls":3},"summon construct (c)",{"$f":"E211*E$218","v":0},0,0,0,0,0,0,0,0,0,0,0,0,0,0,0,0,0,0,0,null,"  ranger"]
[{"$nulls":3},"summon celestial (c)",{"$f":"E212*E$218","v":0},0,0,0,0,0,0,0,0,0,0,0,0,0,0,0,0,0,0,0,null,"asassination rounds plus extra crit piercer feat damage"]
[{"$nulls":3},"Favored Foe Ranger marking ability (c) (free action)",{"$f":"E213*E$218","v":0},0,0,0,0,0,0,0,0,0,0,0,0,0,1,1,1,1,0.8072920490923677,0.8072920490923677,null,"artificer SSI"]
[{"$nulls":3},"allowed spell levels for upcastables",{"$f":"(E228+ E202+E200+E244+E245+E243+E223+E230+E168+E249+E250+E251+E252+E253+E254+E169+E203+E204+E233+E170+E234+E247+E246)*CELL(\"contents\",INDIRECT(ADDRESS(43+E25,ROUNDUP(5+MIN(20,E228+ E202+E200+E244+E245+E243+E223+E230+E168+E249+E250+E251+E252+E253+E254+E169+E203+E204+E233+E170+E234+E247+E246),0),1,1,\"Caster Tables\")))","v":0},{"$f":"(F228+ F202+F200+F244+F245+F243+F223+F230+F168+F249+F250+F251+F252+F253+F254+F169+F203+F204+F233+F170+F234+F247+F246)*CELL(\"contents\",INDIRECT(ADDRESS(43+F25,ROUNDUP(5+MIN(20,F228+ F202+F200+F244+F245+F243+F223+F230+F168+F249+F250+F251+F252+F253+F254+F169+F203+F204+F233+F170+F234+F247+F246),0),1,1,\"Caster Tables\")))","v":0},{"$f":"(G228+ G202+G200+G244+G245+G243+G223+G230+G168+G249+G250+G251+G252+G253+G254+G169+G203+G204+G233+G170+G234+G247+G246)*CELL(\"contents\",INDIRECT(ADDRESS(43+G25,ROUNDUP(5+MIN(20,G228+ G202+G200+G244+G245+G243+G223+G230+G168+G249+G250+G251+G252+G253+G254+G169+G203+G204+G233+G170+G234+G247+G246),0),1,1,\"Caster Tables\")))","v":0},{"$f":"(H228+ H202+H200+H244+H245+H243+H223+H230+H168+H249+H250+H251+H252+H253+H254+H169+H203+H204+H233+H170+H234+H247+H246)*CELL(\"contents\",INDIRECT(ADDRESS(43+H25,ROUNDUP(5+MIN(20,H228+ H202+H200+H244+H245+H243+H223+H230+H168+H249+H250+H251+H252+H253+H254+H169+H203+H204+H233+H170+H234+H247+H246),0),1,1,\"Caster Tables\")))","v":0},{"$f":"(I228+ I202+I200+I244+I245+I243+I223+I230+I168+I249+I250+I251+I252+I253+I254+I169+I203+I204+I233+I170+I234+I247+I246)*CELL(\"contents\",INDIRECT(ADDRESS(43+I25,ROUNDUP(5+MIN(20,I228+ I202+I200+I244+I245+I243+I223+I230+I168+I249+I250+I251+I252+I253+I254+I169+I203+I204+I233+I170+I234+I247+I246),0),1,1,\"Caster Tables\")))","v":0},{"$f":"(J228+ J202+J200+J244+J245+J243+J223+J230+J168+J249+J250+J251+J252+J253+J254+J169+J203+J204+J233+J170+J234+J247+J246)*CELL(\"contents\",INDIRECT(ADDRESS(43+J25,ROUNDUP(5+MIN(20,J228+ J202+J200+J244+J245+J243+J223+J230+J168+J249+J250+J251+J252+J253+J254+J169+J203+J204+J233+J170+J234+J247+J246),0),1,1,\"Caster Tables\")))","v":0},{"$f":"(K228+ K202+K200+K244+K245+K243+K223+K230+K168+K249+K250+K251+K252+K253+K254+K169+K203+K204+K233+K170+K234+K247+K246)*CELL(\"contents\",INDIRECT(ADDRESS(43+K25,ROUNDUP(5+MIN(20,K228+ K202+K200+K244+K245+K243+K223+K230+K168+K249+K250+K251+K252+K253+K254+K169+K203+K204+K233+K170+K234+K247+K246),0),1,1,\"Caster Tables\")))","v":0},{"$f":"(L228+ L202+L200+L244+L245+L243+L223+L230+L168+L249+L250+L251+L252+L253+L254+L169+L203+L204+L233+L170+L234+L247+L246)*CELL(\"contents\",INDIRECT(ADDRESS(43+L25,ROUNDUP(5+MIN(20,L228+ L202+L200+L244+L245+L243+L223+L230+L168+L249+L250+L251+L252+L253+L254+L169+L203+L204+L233+L170+L234+L247+L246),0),1,1,\"Caster Tables\")))","v":0},{"$f":"(M228+ M202+M200+M244+M245+M243+M223+M230+M168+M249+M250+M251+M252+M253+M254+M169+M203+M204+M233+M170+M234+M247+M246)*CELL(\"contents\",INDIRECT(ADDRESS(43+M25,ROUNDUP(5+MIN(20,M228+ M202+M200+M244+M245+M243+M223+M230+M168+M249+M250+M251+M252+M253+M254+M169+M203+M204+M233+M170+M234+M247+M246),0),1,1,\"Caster Tables\")))","v":0},{"$f":"(N228+ N202+N200+N244+N245+N243+N223+N230+N168+N249+N250+N251+N252+N253+N254+N169+N203+N204+N233+N170+N234+N247+N246)*CELL(\"contents\",INDIRECT(ADDRESS(43+N25,ROUNDUP(5+MIN(20,N228+ N202+N200+N244+N245+N243+N223+N230+N168+N249+N250+N251+N252+N253+N254+N169+N203+N204+N233+N170+N234+N247+N246),0),1,1,\"Caster Tables\")))","v":0},{"$f":"(O228+ O202+O200+O244+O245+O243+O223+O230+O168+O249+O250+O251+O252+O253+O254+O169+O203+O204+O233+O170+O234+O247+O246)*CELL(\"contents\",INDIRECT(ADDRESS(43+O25,ROUNDUP(5+MIN(20,O228+ O202+O200+O244+O245+O243+O223+O230+O168+O249+O250+O251+O252+O253+O254+O169+O203+O204+O233+O170+O234+O247+O246),0),1,1,\"Caster Tables\")))","v":0},{"$f":"(P228+ P202+P200+P244+P245+P243+P223+P230+P168+P249+P250+P251+P252+P253+P254+P169+P203+P204+P233+P170+P234+P247+P246)*CELL(\"contents\",INDIRECT(ADDRESS(43+P25,ROUNDUP(5+MIN(20,P228+ P202+P200+P244+P245+P243+P223+P230+P168+P249+P250+P251+P252+P253+P254+P169+P203+P204+P233+P170+P234+P247+P246),0),1,1,\"Caster Tables\")))","v":0},{"$f":"(Q228+ Q202+Q200+Q244+Q245+Q243+Q223+Q230+Q168+Q249+Q250+Q251+Q252+Q253+Q254+Q169+Q203+Q204+Q233+Q170+Q234+Q247+Q246)*CELL(\"contents\",INDIRECT(ADDRESS(43+Q25,ROUNDUP(5+MIN(20,Q228+ Q202+Q200+Q244+Q245+Q243+Q223+Q230+Q168+Q249+Q250+Q251+Q252+Q253+Q254+Q169+Q203+Q204+Q233+Q170+Q234+Q247+Q246),0),1,1,\"Caster Tables\")))","v":0},{"$f":"(R228+ R202+R200+R244+R245+R243+R223+R230+R168+R249+R250+R251+R252+R253+R254+R169+R203+R204+R233+R170+R234+R247+R246)*CELL(\"contents\",INDIRECT(ADDRESS(43+R25,ROUNDUP(5+MIN(20,R228+ R202+R200+R244+R245+R243+R223+R230+R168+R249+R250+R251+R252+R253+R254+R169+R203+R204+R233+R170+R234+R247+R246),0),1,1,\"Caster Tables\")))","v":0},{"$f":"(S228+ S202+S200+S244+S245+S243+S223+S230+S168+S249+S250+S251+S252+S253+S254+S169+S203+S204+S233+S170+S234+S247+S246)*CELL(\"contents\",INDIRECT(ADDRESS(43+S25,ROUNDUP(5+MIN(20,S228+ S202+S200+S244+S245+S243+S223+S230+S168+S249+S250+S251+S252+S253+S254+S169+S203+S204+S233+S170+S234+S247+S246),0),1,1,\"Caster Tables\")))","v":0},{"$f":"(T228+ T202+T200+T244+T245+T243+T223+T230+T168+T249+T250+T251+T252+T253+T254+T169+T203+T204+T233+T170+T234+T247+T246)*CELL(\"contents\",INDIRECT(ADDRESS(43+T25,ROUNDUP(5+MIN(20,T228+ T202+T200+T244+T245+T243+T223+T230+T168+T249+T250+T251+T252+T253+T254+T169+T203+T204+T233+T170+T234+T247+T246),0),1,1,\"Caster Tables\")))","v":0},{"$f":"(U228+ U202+U200+U244+U245+U243+U223+U230+U168+U249+U250+U251+U252+U253+U254+U169+U203+U204+U233+U170+U234+U247+U246)*CELL(\"contents\",INDIRECT(ADDRESS(43+U25,ROUNDUP(5+MIN(20,U228+ U202+U200+U244+U245+U243+U223+U230+U168+U249+U250+U251+U252+U253+U254+U169+U203+U204+U233+U170+U234+U247+U246),0),1,1,\"Caster Tables\")))","v":0},{"$f":"(V228+ V202+V200+V244+V245+V243+V223+V230+V168+V249+V250+V251+V252+V253+V254+V169+V203+V204+V233+V170+V234+V247+V246)*CELL(\"contents\",INDIRECT(ADDRESS(43+V25,ROUNDUP(5+MIN(20,V228+ V202+V200+V244+V245+V243+V223+V230+V168+V249+V250+V251+V252+V253+V254+V169+V203+V204+V233+V170+V234+V247+V246),0),1,1,\"Caster Tables\")))","v":0},{"$f":"(W228+ W202+W200+W244+W245+W243+W223+W230+W168+W249+W250+W251+W252+W253+W254+W169+W203+W204+W233+W170+W234+W247+W246)*CELL(\"contents\",INDIRECT(ADDRESS(43+W25,ROUNDUP(5+MIN(20,W228+ W202+W200+W244+W245+W243+W223+W230+W168+W249+W250+W251+W252+W253+W254+W169+W203+W204+W233+W170+W234+W247+W246),0),1,1,\"Caster Tables\")))","v":0},{"$f":"(X228+ X202+X200+X244+X245+X243+X223+X230+X168+X249+X250+X251+X252+X253+X254+X169+X203+X204+X233+X170+X234+X247+X246)*CELL(\"contents\",INDIRECT(ADDRESS(43+X25,ROUNDUP(5+MIN(20,X228+ X202+X200+X244+X245+X243+X223+X230+X168+X249+X250+X251+X252+X253+X254+X169+X203+X204+X233+X170+X234+X247+X246),0),1,1,\"Caster Tables\")))","v":0},null,"spell attacks now properly benefit from Elven Acc when melee would have been STR based"]
[{"$nulls":3},"total allowed spell levels used",{"$f":"2*E222+1*E224+1*E225+3*E226+1*E227+5*E235+2*E237+5*E238+3*E241+4*E239+E256+6*E242+E229+4*E231+5*E182+7*E188+E168+E221+2*E172+E1293+4*E240+5*E183+5*E189+E236+4*E248+5*E232","v":0},2,3,3,4,4,4,4,4,4,4,4,4,4,4,4,4,4,3.229168196369471,3.229168196369471,null,"Firebolt fully integrated into Damage Scenarios alongside Eld Blast"]
[{"$nulls":3},"total allowed spell casts (not levels) used",{"$f":"E222+E224+E225+E226+E227+E235+E237+E238+E241+E223+E239+E202+E200+E244+E245+E228+E243+E242+E229+E231+E182+E188+E168+E249+E250+E251+E252+E253+E254+E221+E172+E169+E203+E1293+E204+E240+E230+E232+E233+E236+E170+E183+E234+E247+E248+E246","v":0},2,3,3,4,4,4,4,4,4,4,4,4,4,4,4,4,4,3.229168196369471,3.229168196369471,null,"fixed some errors in Artificer spell availability"]
[{"$nulls":3},"remaining spell levels",{"$f":"E321-E257","v":0},{"$f":"F321-F257","v":0},0,0,{"$f":"I321-I257","v":4},4,4,4,4,4,4,4,4,4,4,4,4,4,4.770831803630529,4.770831803630529,null,"split shadow of moil out to be obscurement-based "]
[{"$nulls":3},"spell casts percent reduction",{"$f":"IF(E257 > 0, MIN(E322/E258, MIN(1,E321/E257)),1)","v":1},{"$f":"IF(F257 > 0, MIN(F322/F258, MIN(1,F321/F257)),1)","v":1},1,1,1,1,1,1,1,1,1,1,1,1,1,1,1,1,1,1,null,"removed bug where rangers old favored foe was providing extra damage"]
[{"$nulls":25},"removed bug that caused spirit shroud damage to be counted twice"]
[{"$nulls":3},"ACTUAL CASTS PER DAY (based on total available slots)",1,2,3,4,5,6,7,8,9,10,11,12,13,14,15,16,17,18,19,20,null," Hexblade's Curse now applies to all spell attacks"]
[{"$nulls":3},"guiding bolt casts (cleric, druid of stars) : AE",{"$f":"E168*E$260","v":0},{"$f":"F168*F$260","v":0},0,0,0,0,0,0,0,0,0,0,0,0,0,0,0,0,0,0,null,"spell attack damage bonuses"]
[{"$nulls":3},"magic missile: AE",{"$f":"E169*E$260","v":0},{"$f":"F169*F$260","v":0},0,0,0,0,0,0,0,0,0,0,0,0,0,0,0,0,0,0,null,"   split into spell static damage and spell dice damage bonuses"]
[{"$nulls":3},"scorching ray : AE",{"$f":"E170*E$260","v":0},{"$f":"F170*F$260","v":0},0,0,0,0,0,0,0,0,0,0,0,0,0,0,0,0,0,0,null,"   set up for spell criticals"]
[{"$nulls":3},"fog cloud casts: (c)",{"$f":"E221*E$260","v":0},{"$f":"F221*F$260","v":0},0,0,0,0,0,0,0,0,0,0,0,0,0,0,0,0,0,0,null,"Druid Stars archer from damage bonuses"]
[{"$nulls":3},"pyrotechnics casts: ",{"$f":"E172*E$260","v":0},0,0,0,0,0,0,0,0,0,0,0,0,0,0,0,0,0,0,0,null,"channel divs uses per day don't stack"]
[{"$nulls":3},"darkness casts: (c) (oathbreaker)",{"$f":"E222*E$260","v":0},0,0,0,0,0,0,0,0,0,0,0,0,0,0,0,0,0,0,0,null,"more accurate calc of % monsters with blindsense/truesight, etc"]
[{"$nulls":3},"shadow blade (c) (bonus action)",{"$f":"E223*E$260","v":0},0,0,0,0,0,0,0,0,0,0,0,0,0,0,0,0,0,0,0,null,"more accurate calc of % monsters resistant to nonmagic weapons"]
[{"$nulls":3},"bless casts (c)",{"$f":"E224*E$260","v":0},0,0,0,0,0,0,0,0,0,0,0,0,0,0,0,0,0,0,0,null,"gloomstalker adv pct should be proportional to darkvision-other senses pct"]
[{"$nulls":3},"divine favor casts (c)",{"$f":"E225*E$260","v":0},0,0,0,0,0,0,0,0,0,0,0,0,0,0,0,0,0,0,0,null,"fear: additional sources of fear"]
[{"$nulls":3},"haste casts (c) (veng)",{"$f":"E226*E$260","v":0},0,0,0,0,0,0,0,0,0,0,0,0,0,0,0,0,0,0,0,null,"undead warlock"]
[{"$nulls":3},"hunter's mark / hex casts (c) (veng) (bonus action)",{"$f":"E227*E$260","v":0},2,3,3,4,4,4,4,4,4,4,4,4,4,4,4,4,4,3.229168196369471,3.229168196369471,null,"pct immune to fear "]
[{"$nulls":3},"spirit guardians casts (c) (req Divine Soul)",{"$f":"E228*E$260","v":0},0,0,0,0,0,0,0,0,0,0,0,0,0,0,0,0,0,0,0,null,"fixed booming blade to not work with reaction attacks provided by Echoes"]
[{"$nulls":3},"faerie fire casts (c)",{"$f":"E229*E$260","v":0},{"$f":"F229*F$260","v":0},0,0,0,0,0,0,0,0,0,0,0,0,0,0,0,0,0,0,null,"fixed bug with Samurai Rapid Strike "]
[{"$nulls":3},"spirit shroud casts (c) (bonus action)",{"$f":"E230*E$260","v":0},{"$f":"F230*F$260","v":0},0,0,0,0,0,0,0,0,0,0,{"$f":"Q230*Q$260","v":0},0,0,0,0,0,0,0,null,"fixed macros to work with additional warlock undead subclass"]
[{"$nulls":3},"steel wind strike : AE",{"$f":"E182*E$260","v":0},0,0,0,0,0,0,0,0,0,0,0,0,0,0,0,0,0,0,0,null,"fixed bugs: darkness adv"]
[{"$nulls":3},"destructive wave : AE",{"$f":"E183*E$260","v":0},0,0,0,0,0,0,0,0,0,0,0,0,0,0,0,0,0,0,0,null,"improved proneing calculations"]
[{"$nulls":3},"guardian of nature (bonus action) (c)",{"$f":"E231*E$260","v":0},0,0,0,0,0,0,0,0,0,0,0,0,0,0,0,0,0,0,0,null,"reconsider expected value of precision attack BM maneuver relative to number of misses"]
[{"$nulls":3},"swift quiver (bonus action, c)",{"$f":"E232*E$260","v":0},0,0,0,0,0,0,0,0,0,0,0,0,0,0,0,0,0,0,0,null,"parse to figure out how many monsters are either huge or immune to prone"]
[{"$nulls":3},"call lightning (c, AE)",{"$f":"E233*E$260","v":0},{"$f":"F233*F$260","v":0},0,0,0,0,0,0,0,0,0,0,0,0,0,0,0,0,0,0,null,"scorching ray nova shenanigans with hex/hm and spirit shroud"]
[{"$nulls":3},"moonbeam (c, AE)",{"$f":"E234*E$260","v":0},{"$f":"F234*F$260","v":0},0,0,0,0,0,0,0,0,0,0,0,0,0,0,0,0,0,0,null,"scorching ray"]
[{"$nulls":3},"crown of stars",{"$f":"E188*E$260","v":0},0,0,0,0,0,0,0,0,0,0,0,0,0,0,0,0,0,0,0,null,"thunderous smite"]
[{"$nulls":3},"holy weapon casts (bonus action) (c)",{"$f":"E235*E$260","v":0},0,0,0,0,0,0,0,0,0,0,0,0,0,0,0,0,0,0,0,null,"destructive wave"]
[{"$nulls":3},"thunderous smite (bonus action, c)",{"$f":"E236*E$260","v":0},{"$f":"F236*F$260","v":0},0,0,0,0,0,0,0,0,0,0,0,0,0,0,0,0,0,0,null,"caster DC item improvements"]
[{"$nulls":3},"hold person casts (conq, veng) (c)",{"$f":"E237*E$260","v":0},0,0,0,0,0,0,0,0,0,0,0,0,0,0,0,0,0,0,0,null,"fixed faerie fire to use AOE logic"]
[{"$nulls":3},"hold monster casts (veng) (c)",{"$f":"E238*E$260","v":0},0,0,0,0,0,0,0,0,0,0,0,0,0,0,0,0,0,0,0,null,"psionic warrior prone targets (L7)"]
[{"$nulls":3},"shadow of moil (c) ",{"$f":"E239*E$260","v":0},{"$f":"F239*F$260","v":0},0,0,0,0,0,0,0,0,0,0,0,0,0,0,0,0,0,0,null,"fixed conq paladin fear ability"]
[{"$nulls":3},"greater invisibility (c)",{"$f":"E240*E$260","v":0},{"$f":"F240*F$260","v":0},0,0,0,0,0,0,0,0,0,0,0,0,0,0,0,0,0,0,null,"magic weapon replacements for warlocks and artificers"]
[{"$nulls":3},"fear casts (conq) (c)",{"$f":"E241*E$260","v":0},0,0,0,0,0,0,0,0,0,0,0,0,0,0,0,0,0,0,0,null,"magic weapons acquired at particular levels"]
[{"$nulls":3},"tenser's transformation casts (c) ",{"$f":"E242*E$260","v":0},0,0,0,0,0,0,0,0,0,0,0,0,0,0,0,0,0,0,0,null,"summons now work for more than 1 cast per day"]
[{"$nulls":3},"flaming sphere casts (c)",{"$f":"E243*E$260","v":0},0,0,0,0,0,0,0,0,0,0,0,0,0,0,0,0,0,0,0,null,"booming blade / GFB cantrip racial feature"]
[{"$nulls":3},"bigby's hand casts (c)",{"$f":"E244*E$260","v":0},0,0,0,0,0,0,0,0,0,0,0,0,0,0,0,0,0,0,0,null,"shileilegh for WIS attacks"]
[{"$nulls":3},"animate objects casts (c)",{"$f":"E245*E$260","v":0},0,0,0,0,0,0,0,0,0,0,0,0,0,0,0,0,0,0,0,null,"fixed bard subclass confusion"]
[{"$nulls":3},"spirtual weapon casts (free cast) req Conq or Divine S",{"$f":"E200*E$260","v":0},0,0,0,0,0,0,0,0,0,0,0,0,0,0,0,0,0,0,0,null,"moonbeam"]
[{"$nulls":3},"melf's minute meteors: AE (c)",{"$f":"E201*E$260","v":0},{"$f":"F201*F$260","v":0},0,0,0,0,0,0,0,0,0,0,0,0,0,0,0,0,0,0,null,"summon greater demon L4 (balgura)"]
[{"$nulls":3},"fireball casts : AE",{"$f":"E202*E$260","v":0},0,0,0,0,0,0,0,0,0,0,0,0,0,0,0,0,0,0,0,null,"call lightning"]
[{"$nulls":3},"animate dead (non-combat)",{"$f":"E203*E$260","v":0},{"$f":"F203*F$260","v":0},0,0,0,0,0,0,0,0,0,0,0,0,0,0,0,0,0,0,null,"conjure animals"]
[{"$nulls":3},"tiny servant (non-combat)",{"$f":"E204*E$260","v":0},{"$f":"F204*F$260","v":0},0,0,0,0,0,0,0,0,0,0,0,0,0,0,0,0,0,0,null,"Swift quiver"]
[{"$nulls":3},"conjure animals (c)",{"$f":"E247*E$260","v":0},0,0,0,0,0,0,0,0,0,0,0,0,0,0,0,{"$f":"U247*U$260","v":0},0,0,0,null,"added monk stunning strike ability"]
[{"$nulls":3},"summon greater demon (L4, Barlgura) (c)",{"$f":"E248*E$260","v":0},{"$f":"F248*F$260","v":0},0,0,0,0,0,0,0,0,0,0,0,0,0,0,0,0,0,0,null,"include additional bonus action usage from Hex/HM"]
[{"$nulls":3},"summon beast (c)",{"$f":"E249*E$260","v":0},{"$f":"F249*F$260","v":0},0,0,0,0,0,0,0,0,0,0,0,0,0,0,0,0,0,0,null,"overhauled monk focused aim ability"]
[{"$nulls":3},"summon fey (c)",{"$f":"E250*E$260","v":0},0,0,0,0,0,0,0,0,0,0,0,0,0,0,0,0,0,0,0,null,"overhaul directed bonus action spells"]
[{"$nulls":3},"summon undead (c)",{"$f":"E251*E$260","v":0},0,0,0,0,0,0,0,0,0,0,0,0,0,0,0,0,0,0,0,null,"fix up bonus action damage scenarios to accommodate GWM Sorcerers"]
[{"$nulls":3},"summon aberation (c)",{"$f":"E252*E$260","v":0},0,0,0,0,0,0,0,0,0,0,0,0,0,0,0,0,0,0,0,null,"tempest cleric additional spells"]
[{"$nulls":3},"summon construct (c)",{"$f":"E253*E$260","v":0},0,0,0,0,0,0,0,0,0,0,0,0,0,0,0,0,0,0,0,null,"tempest cleric destructive wave and call lightning"]
[{"$nulls":3},"summon celestial (c)",{"$f":"E254*E$260","v":0},0,0,0,0,0,0,0,0,0,0,0,0,0,0,0,0,0,0,0,null,"AE: action calculations"]
[{"$nulls":3},"total concentration (non-defensive) spells per day",{"$f":"E269+E270+E271+E272+E273+E274+E275+E276+E279+E284+E291+E292+E293+E294+E280+E281+E282+E301+E296+E255","v":0},2,3,3,4,4,4,4,4,4,4,4,4,4,5,5,5,5,{"$f":"W269+W270+W271+W272+W273+W274+W275+W276+W279+W284+W291+W292+W293+W294+W280+W281+W282+W301+W296+W255","v":4.036460245461838},{"$f":"X269+X270+X271+X272+X273+X274+X275+X276+X279+X284+X291+X292+X293+X294+X280+X281+X282+X301+X296+X255","v":4.036460245461838},null,"arcana cleric for empowered booming blade"]
[{"$nulls":3},"total concentration (defensive) spells per day",{"$f":"E266+E268+E286+E287+E288+E290+E289","v":0},{"$f":"F266+F268+F286+F287+F288+F290+F289","v":0},0,0,0,0,0,0,0,0,0,0,0,0,0,0,0,0,0,0,null,"warlock invocation choices; enables Treantmonk-style \"Baseline\" damage calc"]
[{"$nulls":3},"total concentration (1 hour summon) spells per day",{"$f":"E302+E303+E304+E305+E306+E307+E300","v":0},{"$f":"F302+F303+F304+F305+F306+F307+F300","v":0},0,0,0,0,0,0,0,0,0,0,0,0,0,0,0,0,0,0,null,"cleric option for tasha's blessed strikes"]
[{"$nulls":25},"monks using weapons, like xbow master + sharpshooter"]
[{"$nulls":3},"SPELL SLOTS",{"$nulls":21},"kensei monk kensei shot for extra d4 when bonus attack unused"]
[{"$nulls":3},"warlock spell levels",{"$f":"CELL(\"contents\",INDIRECT(ADDRESS(12+E12,9,1,1,\"Caster Tables\")))","v":0},{"$f":"CELL(\"contents\",INDIRECT(ADDRESS(12+F12,9,1,1,\"Caster Tables\")))","v":0},{"$f":"CELL(\"contents\",INDIRECT(ADDRESS(12+G12,9,1,1,\"Caster Tables\")))","v":0},{"$f":"CELL(\"contents\",INDIRECT(ADDRESS(12+H12,9,1,1,\"Caster Tables\")))","v":0},{"$f":"CELL(\"contents\",INDIRECT(ADDRESS(12+I12,9,1,1,\"Caster Tables\")))","v":0},{"$f":"CELL(\"contents\",INDIRECT(ADDRESS(12+J12,9,1,1,\"Caster Tables\")))","v":0},{"$f":"CELL(\"contents\",INDIRECT(ADDRESS(12+K12,9,1,1,\"Caster Tables\")))","v":0},{"$f":"CELL(\"contents\",INDIRECT(ADDRESS(12+L12,9,1,1,\"Caster Tables\")))","v":0},{"$f":"CELL(\"contents\",INDIRECT(ADDRESS(12+M12,9,1,1,\"Caster Tables\")))","v":0},{"$f":"CELL(\"contents\",INDIRECT(ADDRESS(12+N12,9,1,1,\"Caster Tables\")))","v":0},{"$f":"CELL(\"contents\",INDIRECT(ADDRESS(12+O12,9,1,1,\"Caster Tables\")))","v":0},{"$f":"CELL(\"contents\",INDIRECT(ADDRESS(12+P12,9,1,1,\"Caster Tables\")))","v":0},{"$f":"CELL(\"contents\",INDIRECT(ADDRESS(12+Q12,9,1,1,\"Caster Tables\")))","v":0},{"$f":"CELL(\"contents\",INDIRECT(ADDRESS(12+R12,9,1,1,\"Caster Tables\")))","v":0},{"$f":"CELL(\"contents\",INDIRECT(ADDRESS(12+S12,9,1,1,\"Caster Tables\")))","v":0},{"$f":"CELL(\"contents\",INDIRECT(ADDRESS(12+T12,9,1,1,\"Caster Tables\")))","v":0},{"$f":"CELL(\"contents\",INDIRECT(ADDRESS(12+U12,9,1,1,\"Caster Tables\")))","v":0},{"$f":"CELL(\"contents\",INDIRECT(ADDRESS(12+V12,9,1,1,\"Caster Tables\")))","v":0},{"$f":"CELL(\"contents\",INDIRECT(ADDRESS(12+W12,9,1,1,\"Caster Tables\")))","v":0},{"$f":"CELL(\"contents\",INDIRECT(ADDRESS(12+X12,9,1,1,\"Caster Tables\")))","v":0},null,"split out destructive wave prone into bonus attack adv"]
[{"$nulls":3},"warlock smite dice",{"$f":"IF(OR(AND(NOT(E33),E12>=5),OR(E7>=2,E12>=5)),CELL(\"contents\",INDIRECT(ADDRESS(12+E12,10,1,1,\"Caster Tables\"))),0)","v":0},{"$f":"IF(OR(AND(NOT(F33),F12>=5),OR(F7>=2,F12>=5)),CELL(\"contents\",INDIRECT(ADDRESS(12+F12,10,1,1,\"Caster Tables\"))),0)","v":0},{"$f":"IF(OR(AND(NOT(G33),G12>=5),OR(G7>=2,G12>=5)),CELL(\"contents\",INDIRECT(ADDRESS(12+G12,10,1,1,\"Caster Tables\"))),0)","v":0},{"$f":"IF(OR(AND(NOT(H33),H12>=5),OR(H7>=2,H12>=5)),CELL(\"contents\",INDIRECT(ADDRESS(12+H12,10,1,1,\"Caster Tables\"))),0)","v":0},{"$f":"IF(OR(AND(NOT(I33),I12>=5),OR(I7>=2,I12>=5)),CELL(\"contents\",INDIRECT(ADDRESS(12+I12,10,1,1,\"Caster Tables\"))),0)","v":0},{"$f":"IF(OR(AND(NOT(J33),J12>=5),OR(J7>=2,J12>=5)),CELL(\"contents\",INDIRECT(ADDRESS(12+J12,10,1,1,\"Caster Tables\"))),0)","v":0},{"$f":"IF(OR(AND(NOT(K33),K12>=5),OR(K7>=2,K12>=5)),CELL(\"contents\",INDIRECT(ADDRESS(12+K12,10,1,1,\"Caster Tables\"))),0)","v":0},{"$f":"IF(OR(AND(NOT(L33),L12>=5),OR(L7>=2,L12>=5)),CELL(\"contents\",INDIRECT(ADDRESS(12+L12,10,1,1,\"Caster Tables\"))),0)","v":0},{"$f":"IF(OR(AND(NOT(M33),M12>=5),OR(M7>=2,M12>=5)),CELL(\"contents\",INDIRECT(ADDRESS(12+M12,10,1,1,\"Caster Tables\"))),0)","v":0},{"$f":"IF(OR(AND(NOT(N33),N12>=5),OR(N7>=2,N12>=5)),CELL(\"contents\",INDIRECT(ADDRESS(12+N12,10,1,1,\"Caster Tables\"))),0)","v":0},{"$f":"IF(OR(AND(NOT(O33),O12>=5),OR(O7>=2,O12>=5)),CELL(\"contents\",INDIRECT(ADDRESS(12+O12,10,1,1,\"Caster Tables\"))),0)","v":0},{"$f":"IF(OR(AND(NOT(P33),P12>=5),OR(P7>=2,P12>=5)),CELL(\"contents\",INDIRECT(ADDRESS(12+P12,10,1,1,\"Caster Tables\"))),0)","v":0},{"$f":"IF(OR(AND(NOT(Q33),Q12>=5),OR(Q7>=2,Q12>=5)),CELL(\"contents\",INDIRECT(ADDRESS(12+Q12,10,1,1,\"Caster Tables\"))),0)","v":0},{"$f":"IF(OR(AND(NOT(R33),R12>=5),OR(R7>=2,R12>=5)),CELL(\"contents\",INDIRECT(ADDRESS(12+R12,10,1,1,\"Caster Tables\"))),0)","v":0},{"$f":"IF(OR(AND(NOT(S33),S12>=5),OR(S7>=2,S12>=5)),CELL(\"contents\",INDIRECT(ADDRESS(12+S12,10,1,1,\"Caster Tables\"))),0)","v":0},{"$f":"IF(OR(AND(NOT(T33),T12>=5),OR(T7>=2,T12>=5)),CELL(\"contents\",INDIRECT(ADDRESS(12+T12,10,1,1,\"Caster Tables\"))),0)","v":0},{"$f":"IF(OR(AND(NOT(U33),U12>=5),OR(U7>=2,U12>=5)),CELL(\"contents\",INDIRECT(ADDRESS(12+U12,10,1,1,\"Caster Tables\"))),0)","v":0},{"$f":"IF(OR(AND(NOT(V33),V12>=5),OR(V7>=2,V12>=5)),CELL(\"contents\",INDIRECT(ADDRESS(12+V12,10,1,1,\"Caster Tables\"))),0)","v":0},{"$f":"IF(OR(AND(NOT(W33),W12>=5),OR(W7>=2,W12>=5)),CELL(\"contents\",INDIRECT(ADDRESS(12+W12,10,1,1,\"Caster Tables\"))),0)","v":0},{"$f":"IF(OR(AND(NOT(X33),X12>=5),OR(X7>=2,X12>=5)),CELL(\"contents\",INDIRECT(ADDRESS(12+X12,10,1,1,\"Caster Tables\"))),0)","v":0},null,"fixed logic for using DEX bonus when DEX = STR and ranged weapons are selected"]
[{"$nulls":3},"max warlock slot",{"$f":"CELL(\"contents\",INDIRECT(ADDRESS(12+E12,12,1,1,\"Caster Tables\")))","v":0},{"$f":"CELL(\"contents\",INDIRECT(ADDRESS(12+F12,12,1,1,\"Caster Tables\")))","v":0},{"$f":"CELL(\"contents\",INDIRECT(ADDRESS(12+G12,12,1,1,\"Caster Tables\")))","v":0},{"$f":"CELL(\"contents\",INDIRECT(ADDRESS(12+H12,12,1,1,\"Caster Tables\")))","v":0},{"$f":"CELL(\"contents\",INDIRECT(ADDRESS(12+I12,12,1,1,\"Caster Tables\")))","v":0},{"$f":"CELL(\"contents\",INDIRECT(ADDRESS(12+J12,12,1,1,\"Caster Tables\")))","v":0},{"$f":"CELL(\"contents\",INDIRECT(ADDRESS(12+K12,12,1,1,\"Caster Tables\")))","v":0},{"$f":"CELL(\"contents\",INDIRECT(ADDRESS(12+L12,12,1,1,\"Caster Tables\")))","v":0},{"$f":"CELL(\"contents\",INDIRECT(ADDRESS(12+M12,12,1,1,\"Caster Tables\")))","v":0},{"$f":"CELL(\"contents\",INDIRECT(ADDRESS(12+N12,12,1,1,\"Caster Tables\")))","v":0},{"$f":"CELL(\"contents\",INDIRECT(ADDRESS(12+O12,12,1,1,\"Caster Tables\")))","v":0},{"$f":"CELL(\"contents\",INDIRECT(ADDRESS(12+P12,12,1,1,\"Caster Tables\")))","v":0},{"$f":"CELL(\"contents\",INDIRECT(ADDRESS(12+Q12,12,1,1,\"Caster Tables\")))","v":0},{"$f":"CELL(\"contents\",INDIRECT(ADDRESS(12+R12,12,1,1,\"Caster Tables\")))","v":0},{"$f":"CELL(\"contents\",INDIRECT(ADDRESS(12+S12,12,1,1,\"Caster Tables\")))","v":0},{"$f":"CELL(\"contents\",INDIRECT(ADDRESS(12+T12,12,1,1,\"Caster Tables\")))","v":0},{"$f":"CELL(\"contents\",INDIRECT(ADDRESS(12+U12,12,1,1,\"Caster Tables\")))","v":0},{"$f":"CELL(\"contents\",INDIRECT(ADDRESS(12+V12,12,1,1,\"Caster Tables\")))","v":0},{"$f":"CELL(\"contents\",INDIRECT(ADDRESS(12+W12,12,1,1,\"Caster Tables\")))","v":0},{"$f":"CELL(\"contents\",INDIRECT(ADDRESS(12+X12,12,1,1,\"Caster Tables\")))","v":0},null,"fixed div by zero error in BM dice"]
[{"$nulls":3},"number of warlock slots",{"$f":"(IF(E12>=1,1,0)+IF(E12>=11,1,0)+IF(E12>=17,1,0)+IF(E12>=2,1,0))*(1+'Base Numbers'!$C$7)","v":0},{"$f":"(IF(F12>=1,1,0)+IF(F12>=11,1,0)+IF(F12>=17,1,0)+IF(F12>=2,1,0))*(1+'Base Numbers'!$C$7)","v":0},{"$f":"(IF(G12>=1,1,0)+IF(G12>=11,1,0)+IF(G12>=17,1,0)+IF(G12>=2,1,0))*(1+'Base Numbers'!$C$7)","v":0},{"$f":"(IF(H12>=1,1,0)+IF(H12>=11,1,0)+IF(H12>=17,1,0)+IF(H12>=2,1,0))*(1+'Base Numbers'!$C$7)","v":0},{"$f":"(IF(I12>=1,1,0)+IF(I12>=11,1,0)+IF(I12>=17,1,0)+IF(I12>=2,1,0))*(1+'Base Numbers'!$C$7)","v":0},{"$f":"(IF(J12>=1,1,0)+IF(J12>=11,1,0)+IF(J12>=17,1,0)+IF(J12>=2,1,0))*(1+'Base Numbers'!$C$7)","v":0},{"$f":"(IF(K12>=1,1,0)+IF(K12>=11,1,0)+IF(K12>=17,1,0)+IF(K12>=2,1,0))*(1+'Base Numbers'!$C$7)","v":0},{"$f":"(IF(L12>=1,1,0)+IF(L12>=11,1,0)+IF(L12>=17,1,0)+IF(L12>=2,1,0))*(1+'Base Numbers'!$C$7)","v":0},{"$f":"(IF(M12>=1,1,0)+IF(M12>=11,1,0)+IF(M12>=17,1,0)+IF(M12>=2,1,0))*(1+'Base Numbers'!$C$7)","v":0},{"$f":"(IF(N12>=1,1,0)+IF(N12>=11,1,0)+IF(N12>=17,1,0)+IF(N12>=2,1,0))*(1+'Base Numbers'!$C$7)","v":0},{"$f":"(IF(O12>=1,1,0)+IF(O12>=11,1,0)+IF(O12>=17,1,0)+IF(O12>=2,1,0))*(1+'Base Numbers'!$C$7)","v":0},{"$f":"(IF(P12>=1,1,0)+IF(P12>=11,1,0)+IF(P12>=17,1,0)+IF(P12>=2,1,0))*(1+'Base Numbers'!$C$7)","v":0},{"$f":"(IF(Q12>=1,1,0)+IF(Q12>=11,1,0)+IF(Q12>=17,1,0)+IF(Q12>=2,1,0))*(1+'Base Numbers'!$C$7)","v":0},{"$f":"(IF(R12>=1,1,0)+IF(R12>=11,1,0)+IF(R12>=17,1,0)+IF(R12>=2,1,0))*(1+'Base Numbers'!$C$7)","v":0},{"$f":"(IF(S12>=1,1,0)+IF(S12>=11,1,0)+IF(S12>=17,1,0)+IF(S12>=2,1,0))*(1+'Base Numbers'!$C$7)","v":0},{"$f":"(IF(T12>=1,1,0)+IF(T12>=11,1,0)+IF(T12>=17,1,0)+IF(T12>=2,1,0))*(1+'Base Numbers'!$C$7)","v":0},{"$f":"(IF(U12>=1,1,0)+IF(U12>=11,1,0)+IF(U12>=17,1,0)+IF(U12>=2,1,0))*(1+'Base Numbers'!$C$7)","v":0},{"$f":"(IF(V12>=1,1,0)+IF(V12>=11,1,0)+IF(V12>=17,1,0)+IF(V12>=2,1,0))*(1+'Base Numbers'!$C$7)","v":0},{"$f":"(IF(W12>=1,1,0)+IF(W12>=11,1,0)+IF(W12>=17,1,0)+IF(W12>=2,1,0))*(1+'Base Numbers'!$C$7)","v":0},{"$f":"(IF(X12>=1,1,0)+IF(X12>=11,1,0)+IF(X12>=17,1,0)+IF(X12>=2,1,0))*(1+'Base Numbers'!$C$7)","v":0},null,"Monk Ki-Fueled Attack (L5)"]
[{"$nulls":3},"caster class (wiz/sorc/cleric/druid/bard) spell levels",{"$f":"CELL(\"contents\",INDIRECT(ADDRESS(12+E25,3,1,1,\"Caster Tables\")))+IF('Base Numbers'!$C$7>=1,CEILING(E15/2,1),0)+IF(AND($B$29>=1,E6>=$B$29),1,0)","v":0},{"$f":"CELL(\"contents\",INDIRECT(ADDRESS(12+F25,3,1,1,\"Caster Tables\")))+IF('Base Numbers'!$C$7>=1,CEILING(F15/2,1),0)+IF(AND($B$29>=1,F6>=$B$29),1,0)","v":2},{"$f":"CELL(\"contents\",INDIRECT(ADDRESS(12+G25,3,1,1,\"Caster Tables\")))+IF('Base Numbers'!$C$7>=1,CEILING(G15/2,1),0)+IF(AND($B$29>=1,G6>=$B$29),1,0)","v":3},{"$f":"CELL(\"contents\",INDIRECT(ADDRESS(12+H25,3,1,1,\"Caster Tables\")))+IF('Base Numbers'!$C$7>=1,CEILING(H15/2,1),0)+IF(AND($B$29>=1,H6>=$B$29),1,0)","v":3},{"$f":"CELL(\"contents\",INDIRECT(ADDRESS(12+I25,3,1,1,\"Caster Tables\")))+IF('Base Numbers'!$C$7>=1,CEILING(I15/2,1),0)+IF(AND($B$29>=1,I6>=$B$29),1,0)","v":8},{"$f":"CELL(\"contents\",INDIRECT(ADDRESS(12+J25,3,1,1,\"Caster Tables\")))+IF('Base Numbers'!$C$7>=1,CEILING(J15/2,1),0)+IF(AND($B$29>=1,J6>=$B$29),1,0)","v":8},{"$f":"CELL(\"contents\",INDIRECT(ADDRESS(12+K25,3,1,1,\"Caster Tables\")))+IF('Base Numbers'!$C$7>=1,CEILING(K15/2,1),0)+IF(AND($B$29>=1,K6>=$B$29),1,0)","v":8},{"$f":"CELL(\"contents\",INDIRECT(ADDRESS(12+L25,3,1,1,\"Caster Tables\")))+IF('Base Numbers'!$C$7>=1,CEILING(L15/2,1),0)+IF(AND($B$29>=1,L6>=$B$29),1,0)","v":8},{"$f":"CELL(\"contents\",INDIRECT(ADDRESS(12+M25,3,1,1,\"Caster Tables\")))+IF('Base Numbers'!$C$7>=1,CEILING(M15/2,1),0)+IF(AND($B$29>=1,M6>=$B$29),1,0)","v":8},{"$f":"CELL(\"contents\",INDIRECT(ADDRESS(12+N25,3,1,1,\"Caster Tables\")))+IF('Base Numbers'!$C$7>=1,CEILING(N15/2,1),0)+IF(AND($B$29>=1,N6>=$B$29),1,0)","v":8},{"$f":"CELL(\"contents\",INDIRECT(ADDRESS(12+O25,3,1,1,\"Caster Tables\")))+IF('Base Numbers'!$C$7>=1,CEILING(O15/2,1),0)+IF(AND($B$29>=1,O6>=$B$29),1,0)","v":8},{"$f":"CELL(\"contents\",INDIRECT(ADDRESS(12+P25,3,1,1,\"Caster Tables\")))+IF('Base Numbers'!$C$7>=1,CEILING(P15/2,1),0)+IF(AND($B$29>=1,P6>=$B$29),1,0)","v":8},{"$f":"CELL(\"contents\",INDIRECT(ADDRESS(12+Q25,3,1,1,\"Caster Tables\")))+IF('Base Numbers'!$C$7>=1,CEILING(Q15/2,1),0)+IF(AND($B$29>=1,Q6>=$B$29),1,0)","v":8},{"$f":"CELL(\"contents\",INDIRECT(ADDRESS(12+R25,3,1,1,\"Caster Tables\")))+IF('Base Numbers'!$C$7>=1,CEILING(R15/2,1),0)+IF(AND($B$29>=1,R6>=$B$29),1,0)","v":8},{"$f":"CELL(\"contents\",INDIRECT(ADDRESS(12+S25,3,1,1,\"Caster Tables\")))+IF('Base Numbers'!$C$7>=1,CEILING(S15/2,1),0)+IF(AND($B$29>=1,S6>=$B$29),1,0)","v":8},{"$f":"CELL(\"contents\",INDIRECT(ADDRESS(12+T25,3,1,1,\"Caster Tables\")))+IF('Base Numbers'!$C$7>=1,CEILING(T15/2,1),0)+IF(AND($B$29>=1,T6>=$B$29),1,0)","v":8},{"$f":"CELL(\"contents\",INDIRECT(ADDRESS(12+U25,3,1,1,\"Caster Tables\")))+IF('Base Numbers'!$C$7>=1,CEILING(U15/2,1),0)+IF(AND($B$29>=1,U6>=$B$29),1,0)","v":8},{"$f":"CELL(\"contents\",INDIRECT(ADDRESS(12+V25,3,1,1,\"Caster Tables\")))+IF('Base Numbers'!$C$7>=1,CEILING(V15/2,1),0)+IF(AND($B$29>=1,V6>=$B$29),1,0)","v":8},{"$f":"CELL(\"contents\",INDIRECT(ADDRESS(12+W25,3,1,1,\"Caster Tables\")))+IF('Base Numbers'!$C$7>=1,CEILING(W15/2,1),0)+IF(AND($B$29>=1,W6>=$B$29),1,0)","v":8},{"$f":"CELL(\"contents\",INDIRECT(ADDRESS(12+X25,3,1,1,\"Caster Tables\")))+IF('Base Numbers'!$C$7>=1,CEILING(X15/2,1),0)+IF(AND($B$29>=1,X6>=$B$29),1,0)","v":8},null,"new bugbear avg damage increase"]
[{"$nulls":3},"caster class (wiz/sorc/cleric/druid/bard) smite levels",{"$f":"IF(AND(NOT(E163),E7>=2),CELL(\"contents\",INDIRECT(ADDRESS(12+E25,4,1,1,\"Caster Tables\"))),0)+IF(AND(E7>=2,'Base Numbers'!$C$7>=1),CEILING(E15/2,1)+CEILING(E15/4,1),0)","v":0},{"$f":"IF(AND(NOT(F163),F7>=2),CELL(\"contents\",INDIRECT(ADDRESS(12+F25,4,1,1,\"Caster Tables\"))),0)+IF(AND(F7>=2,'Base Numbers'!$C$7>=1),CEILING(F15/2,1)+CEILING(F15/4,1),0)","v":0},{"$f":"IF(AND(NOT(G163),G7>=2),CELL(\"contents\",INDIRECT(ADDRESS(12+G25,4,1,1,\"Caster Tables\"))),0)+IF(AND(G7>=2,'Base Numbers'!$C$7>=1),CEILING(G15/2,1)+CEILING(G15/4,1),0)","v":0},{"$f":"IF(AND(NOT(H163),H7>=2),CELL(\"contents\",INDIRECT(ADDRESS(12+H25,4,1,1,\"Caster Tables\"))),0)+IF(AND(H7>=2,'Base Numbers'!$C$7>=1),CEILING(H15/2,1)+CEILING(H15/4,1),0)","v":0},{"$f":"IF(AND(NOT(I163),I7>=2),CELL(\"contents\",INDIRECT(ADDRESS(12+I25,4,1,1,\"Caster Tables\"))),0)+IF(AND(I7>=2,'Base Numbers'!$C$7>=1),CEILING(I15/2,1)+CEILING(I15/4,1),0)","v":0},{"$f":"IF(AND(NOT(J163),J7>=2),CELL(\"contents\",INDIRECT(ADDRESS(12+J25,4,1,1,\"Caster Tables\"))),0)+IF(AND(J7>=2,'Base Numbers'!$C$7>=1),CEILING(J15/2,1)+CEILING(J15/4,1),0)","v":0},{"$f":"IF(AND(NOT(K163),K7>=2),CELL(\"contents\",INDIRECT(ADDRESS(12+K25,4,1,1,\"Caster Tables\"))),0)+IF(AND(K7>=2,'Base Numbers'!$C$7>=1),CEILING(K15/2,1)+CEILING(K15/4,1),0)","v":0},{"$f":"IF(AND(NOT(L163),L7>=2),CELL(\"contents\",INDIRECT(ADDRESS(12+L25,4,1,1,\"Caster Tables\"))),0)+IF(AND(L7>=2,'Base Numbers'!$C$7>=1),CEILING(L15/2,1)+CEILING(L15/4,1),0)","v":0},{"$f":"IF(AND(NOT(M163),M7>=2),CELL(\"contents\",INDIRECT(ADDRESS(12+M25,4,1,1,\"Caster Tables\"))),0)+IF(AND(M7>=2,'Base Numbers'!$C$7>=1),CEILING(M15/2,1)+CEILING(M15/4,1),0)","v":0},{"$f":"IF(AND(NOT(N163),N7>=2),CELL(\"contents\",INDIRECT(ADDRESS(12+N25,4,1,1,\"Caster Tables\"))),0)+IF(AND(N7>=2,'Base Numbers'!$C$7>=1),CEILING(N15/2,1)+CEILING(N15/4,1),0)","v":0},{"$f":"IF(AND(NOT(O163),O7>=2),CELL(\"contents\",INDIRECT(ADDRESS(12+O25,4,1,1,\"Caster Tables\"))),0)+IF(AND(O7>=2,'Base Numbers'!$C$7>=1),CEILING(O15/2,1)+CEILING(O15/4,1),0)","v":0},{"$f":"IF(AND(NOT(P163),P7>=2),CELL(\"contents\",INDIRECT(ADDRESS(12+P25,4,1,1,\"Caster Tables\"))),0)+IF(AND(P7>=2,'Base Numbers'!$C$7>=1),CEILING(P15/2,1)+CEILING(P15/4,1),0)","v":0},{"$f":"IF(AND(NOT(Q163),Q7>=2),CELL(\"contents\",INDIRECT(ADDRESS(12+Q25,4,1,1,\"Caster Tables\"))),0)+IF(AND(Q7>=2,'Base Numbers'!$C$7>=1),CEILING(Q15/2,1)+CEILING(Q15/4,1),0)","v":0},{"$f":"IF(AND(NOT(R163),R7>=2),CELL(\"contents\",INDIRECT(ADDRESS(12+R25,4,1,1,\"Caster Tables\"))),0)+IF(AND(R7>=2,'Base Numbers'!$C$7>=1),CEILING(R15/2,1)+CEILING(R15/4,1),0)","v":0},{"$f":"IF(AND(NOT(S163),S7>=2),CELL(\"contents\",INDIRECT(ADDRESS(12+S25,4,1,1,\"Caster Tables\"))),0)+IF(AND(S7>=2,'Base Numbers'!$C$7>=1),CEILING(S15/2,1)+CEILING(S15/4,1),0)","v":0},{"$f":"IF(AND(NOT(T163),T7>=2),CELL(\"contents\",INDIRECT(ADDRESS(12+T25,4,1,1,\"Caster Tables\"))),0)+IF(AND(T7>=2,'Base Numbers'!$C$7>=1),CEILING(T15/2,1)+CEILING(T15/4,1),0)","v":0},{"$f":"IF(AND(NOT(U163),U7>=2),CELL(\"contents\",INDIRECT(ADDRESS(12+U25,4,1,1,\"Caster Tables\"))),0)+IF(AND(U7>=2,'Base Numbers'!$C$7>=1),CEILING(U15/2,1)+CEILING(U15/4,1),0)","v":0},{"$f":"IF(AND(NOT(V163),V7>=2),CELL(\"contents\",INDIRECT(ADDRESS(12+V25,4,1,1,\"Caster Tables\"))),0)+IF(AND(V7>=2,'Base Numbers'!$C$7>=1),CEILING(V15/2,1)+CEILING(V15/4,1),0)","v":0},{"$f":"IF(AND(NOT(W163),W7>=2),CELL(\"contents\",INDIRECT(ADDRESS(12+W25,4,1,1,\"Caster Tables\"))),0)+IF(AND(W7>=2,'Base Numbers'!$C$7>=1),CEILING(W15/2,1)+CEILING(W15/4,1),0)","v":0},{"$f":"IF(AND(NOT(X163),X7>=2),CELL(\"contents\",INDIRECT(ADDRESS(12+X25,4,1,1,\"Caster Tables\"))),0)+IF(AND(X7>=2,'Base Numbers'!$C$7>=1),CEILING(X15/2,1)+CEILING(X15/4,1),0)","v":0},null,"fixed rune knight giant's might to properly use up bonus actions"]
[{"$nulls":3},"max spellcaster slot",{"$f":"CELL(\"contents\",INDIRECT(ADDRESS(12+E25,6,1,1,\"Caster Tables\")))","v":0},{"$f":"CELL(\"contents\",INDIRECT(ADDRESS(12+F25,6,1,1,\"Caster Tables\")))","v":1},{"$f":"CELL(\"contents\",INDIRECT(ADDRESS(12+G25,6,1,1,\"Caster Tables\")))","v":1},{"$f":"CELL(\"contents\",INDIRECT(ADDRESS(12+H25,6,1,1,\"Caster Tables\")))","v":1},{"$f":"CELL(\"contents\",INDIRECT(ADDRESS(12+I25,6,1,1,\"Caster Tables\")))","v":2},{"$f":"CELL(\"contents\",INDIRECT(ADDRESS(12+J25,6,1,1,\"Caster Tables\")))","v":2},{"$f":"CELL(\"contents\",INDIRECT(ADDRESS(12+K25,6,1,1,\"Caster Tables\")))","v":2},{"$f":"CELL(\"contents\",INDIRECT(ADDRESS(12+L25,6,1,1,\"Caster Tables\")))","v":2},{"$f":"CELL(\"contents\",INDIRECT(ADDRESS(12+M25,6,1,1,\"Caster Tables\")))","v":2},{"$f":"CELL(\"contents\",INDIRECT(ADDRESS(12+N25,6,1,1,\"Caster Tables\")))","v":2},{"$f":"CELL(\"contents\",INDIRECT(ADDRESS(12+O25,6,1,1,\"Caster Tables\")))","v":2},{"$f":"CELL(\"contents\",INDIRECT(ADDRESS(12+P25,6,1,1,\"Caster Tables\")))","v":2},{"$f":"CELL(\"contents\",INDIRECT(ADDRESS(12+Q25,6,1,1,\"Caster Tables\")))","v":2},{"$f":"CELL(\"contents\",INDIRECT(ADDRESS(12+R25,6,1,1,\"Caster Tables\")))","v":2},{"$f":"CELL(\"contents\",INDIRECT(ADDRESS(12+S25,6,1,1,\"Caster Tables\")))","v":2},{"$f":"CELL(\"contents\",INDIRECT(ADDRESS(12+T25,6,1,1,\"Caster Tables\")))","v":2},{"$f":"CELL(\"contents\",INDIRECT(ADDRESS(12+U25,6,1,1,\"Caster Tables\")))","v":2},{"$f":"CELL(\"contents\",INDIRECT(ADDRESS(12+V25,6,1,1,\"Caster Tables\")))","v":2},{"$f":"CELL(\"contents\",INDIRECT(ADDRESS(12+W25,6,1,1,\"Caster Tables\")))","v":2},{"$f":"CELL(\"contents\",INDIRECT(ADDRESS(12+X25,6,1,1,\"Caster Tables\")))","v":2},null,"gloomstalker + action surge properly accounted"]
[{"$nulls":3},"total smite dice",{"$f":"E318+E314","v":0},{"$f":"F318+F314","v":0},0,0,0,0,0,0,0,0,0,0,0,0,0,0,0,0,0,0,null,"ranger's favored foe properly counts as concentration"]
[{"$nulls":3},"total spell levels",{"$f":"E317+E313","v":0},{"$f":"F317+F313","v":2},3,3,8,8,8,8,8,8,8,8,8,8,8,8,8,8,8,8,null,"improved modeling of GS ambush round for ranged attacks"]
[{"$nulls":3},"total spell slots (not combined levels of spell slots)",{"$f":"CELL(\"contents\",INDIRECT(ADDRESS(12+E25,4,1,1,\"Caster Tables\")))-CELL(\"contents\",INDIRECT(ADDRESS(12+E25,3,1,1,\"Caster Tables\")))+CELL(\"contents\",INDIRECT(ADDRESS(12+E12,10,1,1,\"Caster Tables\")))-CELL(\"contents\",INDIRECT(ADDRESS(12+E12,9,1,1,\"Caster Tables\")))+IF(AND($B$29>=1,E6>=$B$29),1,0)","v":0},{"$f":"CELL(\"contents\",INDIRECT(ADDRESS(12+F25,4,1,1,\"Caster Tables\")))-CELL(\"contents\",INDIRECT(ADDRESS(12+F25,3,1,1,\"Caster Tables\")))+CELL(\"contents\",INDIRECT(ADDRESS(12+F12,10,1,1,\"Caster Tables\")))-CELL(\"contents\",INDIRECT(ADDRESS(12+F12,9,1,1,\"Caster Tables\")))+IF(AND($B$29>=1,F6>=$B$29),1,0)","v":2},{"$f":"CELL(\"contents\",INDIRECT(ADDRESS(12+G25,4,1,1,\"Caster Tables\")))-CELL(\"contents\",INDIRECT(ADDRESS(12+G25,3,1,1,\"Caster Tables\")))+CELL(\"contents\",INDIRECT(ADDRESS(12+G12,10,1,1,\"Caster Tables\")))-CELL(\"contents\",INDIRECT(ADDRESS(12+G12,9,1,1,\"Caster Tables\")))+IF(AND($B$29>=1,G6>=$B$29),1,0)","v":3},{"$f":"CELL(\"contents\",INDIRECT(ADDRESS(12+H25,4,1,1,\"Caster Tables\")))-CELL(\"contents\",INDIRECT(ADDRESS(12+H25,3,1,1,\"Caster Tables\")))+CELL(\"contents\",INDIRECT(ADDRESS(12+H12,10,1,1,\"Caster Tables\")))-CELL(\"contents\",INDIRECT(ADDRESS(12+H12,9,1,1,\"Caster Tables\")))+IF(AND($B$29>=1,H6>=$B$29),1,0)","v":3},{"$f":"CELL(\"contents\",INDIRECT(ADDRESS(12+I25,4,1,1,\"Caster Tables\")))-CELL(\"contents\",INDIRECT(ADDRESS(12+I25,3,1,1,\"Caster Tables\")))+CELL(\"contents\",INDIRECT(ADDRESS(12+I12,10,1,1,\"Caster Tables\")))-CELL(\"contents\",INDIRECT(ADDRESS(12+I12,9,1,1,\"Caster Tables\")))+IF(AND($B$29>=1,I6>=$B$29),1,0)","v":6},{"$f":"CELL(\"contents\",INDIRECT(ADDRESS(12+J25,4,1,1,\"Caster Tables\")))-CELL(\"contents\",INDIRECT(ADDRESS(12+J25,3,1,1,\"Caster Tables\")))+CELL(\"contents\",INDIRECT(ADDRESS(12+J12,10,1,1,\"Caster Tables\")))-CELL(\"contents\",INDIRECT(ADDRESS(12+J12,9,1,1,\"Caster Tables\")))+IF(AND($B$29>=1,J6>=$B$29),1,0)","v":6},{"$f":"CELL(\"contents\",INDIRECT(ADDRESS(12+K25,4,1,1,\"Caster Tables\")))-CELL(\"contents\",INDIRECT(ADDRESS(12+K25,3,1,1,\"Caster Tables\")))+CELL(\"contents\",INDIRECT(ADDRESS(12+K12,10,1,1,\"Caster Tables\")))-CELL(\"contents\",INDIRECT(ADDRESS(12+K12,9,1,1,\"Caster Tables\")))+IF(AND($B$29>=1,K6>=$B$29),1,0)","v":6},{"$f":"CELL(\"contents\",INDIRECT(ADDRESS(12+L25,4,1,1,\"Caster Tables\")))-CELL(\"contents\",INDIRECT(ADDRESS(12+L25,3,1,1,\"Caster Tables\")))+CELL(\"contents\",INDIRECT(ADDRESS(12+L12,10,1,1,\"Caster Tables\")))-CELL(\"contents\",INDIRECT(ADDRESS(12+L12,9,1,1,\"Caster Tables\")))+IF(AND($B$29>=1,L6>=$B$29),1,0)","v":6},{"$f":"CELL(\"contents\",INDIRECT(ADDRESS(12+M25,4,1,1,\"Caster Tables\")))-CELL(\"contents\",INDIRECT(ADDRESS(12+M25,3,1,1,\"Caster Tables\")))+CELL(\"contents\",INDIRECT(ADDRESS(12+M12,10,1,1,\"Caster Tables\")))-CELL(\"contents\",INDIRECT(ADDRESS(12+M12,9,1,1,\"Caster Tables\")))+IF(AND($B$29>=1,M6>=$B$29),1,0)","v":6},{"$f":"CELL(\"contents\",INDIRECT(ADDRESS(12+N25,4,1,1,\"Caster Tables\")))-CELL(\"contents\",INDIRECT(ADDRESS(12+N25,3,1,1,\"Caster Tables\")))+CELL(\"contents\",INDIRECT(ADDRESS(12+N12,10,1,1,\"Caster Tables\")))-CELL(\"contents\",INDIRECT(ADDRESS(12+N12,9,1,1,\"Caster Tables\")))+IF(AND($B$29>=1,N6>=$B$29),1,0)","v":6},{"$f":"CELL(\"contents\",INDIRECT(ADDRESS(12+O25,4,1,1,\"Caster Tables\")))-CELL(\"contents\",INDIRECT(ADDRESS(12+O25,3,1,1,\"Caster Tables\")))+CELL(\"contents\",INDIRECT(ADDRESS(12+O12,10,1,1,\"Caster Tables\")))-CELL(\"contents\",INDIRECT(ADDRESS(12+O12,9,1,1,\"Caster Tables\")))+IF(AND($B$29>=1,O6>=$B$29),1,0)","v":6},{"$f":"CELL(\"contents\",INDIRECT(ADDRESS(12+P25,4,1,1,\"Caster Tables\")))-CELL(\"contents\",INDIRECT(ADDRESS(12+P25,3,1,1,\"Caster Tables\")))+CELL(\"contents\",INDIRECT(ADDRESS(12+P12,10,1,1,\"Caster Tables\")))-CELL(\"contents\",INDIRECT(ADDRESS(12+P12,9,1,1,\"Caster Tables\")))+IF(AND($B$29>=1,P6>=$B$29),1,0)","v":6},{"$f":"CELL(\"contents\",INDIRECT(ADDRESS(12+Q25,4,1,1,\"Caster Tables\")))-CELL(\"contents\",INDIRECT(ADDRESS(12+Q25,3,1,1,\"Caster Tables\")))+CELL(\"contents\",INDIRECT(ADDRESS(12+Q12,10,1,1,\"Caster Tables\")))-CELL(\"contents\",INDIRECT(ADDRESS(12+Q12,9,1,1,\"Caster Tables\")))+IF(AND($B$29>=1,Q6>=$B$29),1,0)","v":6},{"$f":"CELL(\"contents\",INDIRECT(ADDRESS(12+R25,4,1,1,\"Caster Tables\")))-CELL(\"contents\",INDIRECT(ADDRESS(12+R25,3,1,1,\"Caster Tables\")))+CELL(\"contents\",INDIRECT(ADDRESS(12+R12,10,1,1,\"Caster Tables\")))-CELL(\"contents\",INDIRECT(ADDRESS(12+R12,9,1,1,\"Caster Tables\")))+IF(AND($B$29>=1,R6>=$B$29),1,0)","v":6},{"$f":"CELL(\"contents\",INDIRECT(ADDRESS(12+S25,4,1,1,\"Caster Tables\")))-CELL(\"contents\",INDIRECT(ADDRESS(12+S25,3,1,1,\"Caster Tables\")))+CELL(\"contents\",INDIRECT(ADDRESS(12+S12,10,1,1,\"Caster Tables\")))-CELL(\"contents\",INDIRECT(ADDRESS(12+S12,9,1,1,\"Caster Tables\")))+IF(AND($B$29>=1,S6>=$B$29),1,0)","v":6},{"$f":"CELL(\"contents\",INDIRECT(ADDRESS(12+T25,4,1,1,\"Caster Tables\")))-CELL(\"contents\",INDIRECT(ADDRESS(12+T25,3,1,1,\"Caster Tables\")))+CELL(\"contents\",INDIRECT(ADDRESS(12+T12,10,1,1,\"Caster Tables\")))-CELL(\"contents\",INDIRECT(ADDRESS(12+T12,9,1,1,\"Caster Tables\")))+IF(AND($B$29>=1,T6>=$B$29),1,0)","v":6},{"$f":"CELL(\"contents\",INDIRECT(ADDRESS(12+U25,4,1,1,\"Caster Tables\")))-CELL(\"contents\",INDIRECT(ADDRESS(12+U25,3,1,1,\"Caster Tables\")))+CELL(\"contents\",INDIRECT(ADDRESS(12+U12,10,1,1,\"Caster Tables\")))-CELL(\"contents\",INDIRECT(ADDRESS(12+U12,9,1,1,\"Caster Tables\")))+IF(AND($B$29>=1,U6>=$B$29),1,0)","v":6},{"$f":"CELL(\"contents\",INDIRECT(ADDRESS(12+V25,4,1,1,\"Caster Tables\")))-CELL(\"contents\",INDIRECT(ADDRESS(12+V25,3,1,1,\"Caster Tables\")))+CELL(\"contents\",INDIRECT(ADDRESS(12+V12,10,1,1,\"Caster Tables\")))-CELL(\"contents\",INDIRECT(ADDRESS(12+V12,9,1,1,\"Caster Tables\")))+IF(AND($B$29>=1,V6>=$B$29),1,0)","v":6},{"$f":"CELL(\"contents\",INDIRECT(ADDRESS(12+W25,4,1,1,\"Caster Tables\")))-CELL(\"contents\",INDIRECT(ADDRESS(12+W25,3,1,1,\"Caster Tables\")))+CELL(\"contents\",INDIRECT(ADDRESS(12+W12,10,1,1,\"Caster Tables\")))-CELL(\"contents\",INDIRECT(ADDRESS(12+W12,9,1,1,\"Caster Tables\")))+IF(AND($B$29>=1,W6>=$B$29),1,0)","v":6},{"$f":"CELL(\"contents\",INDIRECT(ADDRESS(12+X25,4,1,1,\"Caster Tables\")))-CELL(\"contents\",INDIRECT(ADDRESS(12+X25,3,1,1,\"Caster Tables\")))+CELL(\"contents\",INDIRECT(ADDRESS(12+X12,10,1,1,\"Caster Tables\")))-CELL(\"contents\",INDIRECT(ADDRESS(12+X12,9,1,1,\"Caster Tables\")))+IF(AND($B$29>=1,X6>=$B$29),1,0)","v":6},null,"bugbear bonus damage maxed on GS ambush and Rogue Assassinations"]
[{"$nulls":3},"spell level to smite dice conversion factor",{"$f":"IF(E321>0,(E314+E318)/E321,0)","v":0},{"$f":"IF(F321>0,(F314+F318)/F321,0)","v":0},0,0,0,0,0,0,0,0,0,0,0,0,0,0,0,0,0,0]
[{"$nulls":3},"max smite dice per smite",{"$f":"IF(OR(E12>=5,E7>=2),MIN(6,MAX(E315,E319)+1),0)","v":0},0,0,0,0,0,0,0,0,0,0,0,0,0,0,0,0,0,0,0]
[]
[{"$nulls":3},"ACTUAL SPELL USAGE",1,2,3,4,5,6,7,8,9,10,11,12,13,14,15,16,17,18,19,20]
[{"$nulls":3},"total actual spells cast",{"$f":"SUM(E263:E307)+E1293","v":0},2,3,3,4,4,4,4,4,4,4,4,4,4,4,4,4,4,3.229168196369471,3.229168196369471]
[{"$nulls":3},"total actual upcastables cast",{"$f":"E274+E295+E297+E293+E294+E292+E269+E276+E263+E302+E303+E304+E305+E306+E307+E264+E298+E299+E281+E265+E282+E300+E296","v":0},{"$f":"F274+F295+F297+F293+F294+F292+F269+F276+F263+F302+F303+F304+F305+F306+F307+F264+F298+F299+F281+F265+F282+F300+F296","v":0},0,0,0,0,0,0,0,0,0,0,0,0,0,0,0,0,0,0]
[{"$nulls":3},"total spell levels for upcastables",{"$f":"IF(E328>0,E328*IF(E315>E319,MIN(E315,E313/E328),CELL(\"contents\",INDIRECT(ADDRESS(43+E25,ROUNDUP(5+MIN(20,E328),0),1,1,\"Caster Tables\")))),0)","v":0},{"$f":"IF(F328>0,F328*IF(F315>F319,MIN(F315,F313/F328),CELL(\"contents\",INDIRECT(ADDRESS(43+F25,ROUNDUP(5+MIN(20,F328),0),1,1,\"Caster Tables\")))),0)","v":0},{"$f":"IF(G328>0,G328*IF(G315>G319,MIN(G315,G313/G328),CELL(\"contents\",INDIRECT(ADDRESS(43+G25,ROUNDUP(5+MIN(20,G328),0),1,1,\"Caster Tables\")))),0)","v":0},{"$f":"IF(H328>0,H328*IF(H315>H319,MIN(H315,H313/H328),CELL(\"contents\",INDIRECT(ADDRESS(43+H25,ROUNDUP(5+MIN(20,H328),0),1,1,\"Caster Tables\")))),0)","v":0},{"$f":"IF(I328>0,I328*IF(I315>I319,MIN(I315,I313/I328),CELL(\"contents\",INDIRECT(ADDRESS(43+I25,ROUNDUP(5+MIN(20,I328),0),1,1,\"Caster Tables\")))),0)","v":0},{"$f":"IF(J328>0,J328*IF(J315>J319,MIN(J315,J313/J328),CELL(\"contents\",INDIRECT(ADDRESS(43+J25,ROUNDUP(5+MIN(20,J328),0),1,1,\"Caster Tables\")))),0)","v":0},{"$f":"IF(K328>0,K328*IF(K315>K319,MIN(K315,K313/K328),CELL(\"contents\",INDIRECT(ADDRESS(43+K25,ROUNDUP(5+MIN(20,K328),0),1,1,\"Caster Tables\")))),0)","v":0},{"$f":"IF(L328>0,L328*IF(L315>L319,MIN(L315,L313/L328),CELL(\"contents\",INDIRECT(ADDRESS(43+L25,ROUNDUP(5+MIN(20,L328),0),1,1,\"Caster Tables\")))),0)","v":0},{"$f":"IF(M328>0,M328*IF(M315>M319,MIN(M315,M313/M328),CELL(\"contents\",INDIRECT(ADDRESS(43+M25,ROUNDUP(5+MIN(20,M328),0),1,1,\"Caster Tables\")))),0)","v":0},{"$f":"IF(N328>0,N328*IF(N315>N319,MIN(N315,N313/N328),CELL(\"contents\",INDIRECT(ADDRESS(43+N25,ROUNDUP(5+MIN(20,N328),0),1,1,\"Caster Tables\")))),0)","v":0},{"$f":"IF(O328>0,O328*IF(O315>O319,MIN(O315,O313/O328),CELL(\"contents\",INDIRECT(ADDRESS(43+O25,ROUNDUP(5+MIN(20,O328),0),1,1,\"Caster Tables\")))),0)","v":0},{"$f":"IF(P328>0,P328*IF(P315>P319,MIN(P315,P313/P328),CELL(\"contents\",INDIRECT(ADDRESS(43+P25,ROUNDUP(5+MIN(20,P328),0),1,1,\"Caster Tables\")))),0)","v":0},{"$f":"IF(Q328>0,Q328*IF(Q315>Q319,MIN(Q315,Q313/Q328),CELL(\"contents\",INDIRECT(ADDRESS(43+Q25,ROUNDUP(5+MIN(20,Q328),0),1,1,\"Caster Tables\")))),0)","v":0},{"$f":"IF(R328>0,R328*IF(R315>R319,MIN(R315,R313/R328),CELL(\"contents\",INDIRECT(ADDRESS(43+R25,ROUNDUP(5+MIN(20,R328),0),1,1,\"Caster Tables\")))),0)","v":0},{"$f":"IF(S328>0,S328*IF(S315>S319,MIN(S315,S313/S328),CELL(\"contents\",INDIRECT(ADDRESS(43+S25,ROUNDUP(5+MIN(20,S328),0),1,1,\"Caster Tables\")))),0)","v":0},{"$f":"IF(T328>0,T328*IF(T315>T319,MIN(T315,T313/T328),CELL(\"contents\",INDIRECT(ADDRESS(43+T25,ROUNDUP(5+MIN(20,T328),0),1,1,\"Caster Tables\")))),0)","v":0},{"$f":"IF(U328>0,U328*IF(U315>U319,MIN(U315,U313/U328),CELL(\"contents\",INDIRECT(ADDRESS(43+U25,ROUNDUP(5+MIN(20,U328),0),1,1,\"Caster Tables\")))),0)","v":0},{"$f":"IF(V328>0,V328*IF(V315>V319,MIN(V315,V313/V328),CELL(\"contents\",INDIRECT(ADDRESS(43+V25,ROUNDUP(5+MIN(20,V328),0),1,1,\"Caster Tables\")))),0)","v":0},{"$f":"IF(W328>0,W328*IF(W315>W319,MIN(W315,W313/W328),CELL(\"contents\",INDIRECT(ADDRESS(43+W25,ROUNDUP(5+MIN(20,W328),0),1,1,\"Caster Tables\")))),0)","v":0},{"$f":"IF(X328>0,X328*IF(X315>X319,MIN(X315,X313/X328),CELL(\"contents\",INDIRECT(ADDRESS(43+X25,ROUNDUP(5+MIN(20,X328),0),1,1,\"Caster Tables\")))),0)","v":0}]
[{"$nulls":3},"total actual spell slot levels used",{"$f":"2*E268+1*E270+1*E271+3*E272+1*E273+5*E284+2*E286+5*E287+3*E290+4*E288+E329+6*E291+E275+5*E277+4*E279+7*E283+E263+E266+2*E267+E1293+4*E289+5*E278+5*E280+E285+4*E301","v":0},2,3,3,4,4,4,4,4,4,4,4,4,4,4,4,4,4,3.229168196369471,3.229168196369471]
[{"$nulls":3},"total remaining spell slot levels",{"$f":"MAX(0,E321-E330)","v":0},{"$f":"MAX(0,F321-F330)","v":0},0,0,4,4,4,4,4,4,4,4,4,4,4,4,4,4,4.770831803630529,4.770831803630529,null,"(can go negative if warlock slots are not respected)"]
[{"$nulls":3},"total remaining spell slots (not combined levels)",{"$f":"MAX(0,E322-E327)","v":0},{"$f":"MAX(0,F322-F327)","v":0},0,0,{"$f":"MAX(0,I322-I327)","v":2},2,2,{"$f":"MAX(0,L322-L327)","v":2},2,2,2,2,2,2,2,2,2,2,2.770831803630529,2.770831803630529,null," total number of smites not to exceed remaining number of spell slots"]
[{"$nulls":3},"total buff rounds (free spell casts)",{"$f":"'Base Numbers'!$C$8*'Base Numbers'!$C$5","v":1.2},{"$f":"'Base Numbers'!$C$8*'Base Numbers'!$C$5","v":1.2},{"$f":"'Base Numbers'!$C$8*'Base Numbers'!$C$5","v":1.2},{"$f":"'Base Numbers'!$C$8*'Base Numbers'!$C$5","v":1.2},{"$f":"'Base Numbers'!$C$8*'Base Numbers'!$C$5","v":1.2},{"$f":"'Base Numbers'!$C$8*'Base Numbers'!$C$5","v":1.2},{"$f":"'Base Numbers'!$C$8*'Base Numbers'!$C$5","v":1.2},{"$f":"'Base Numbers'!$C$8*'Base Numbers'!$C$5","v":1.2},{"$f":"'Base Numbers'!$C$8*'Base Numbers'!$C$5","v":1.2},{"$f":"'Base Numbers'!$C$8*'Base Numbers'!$C$5","v":1.2},{"$f":"'Base Numbers'!$C$8*'Base Numbers'!$C$5","v":1.2},{"$f":"'Base Numbers'!$C$8*'Base Numbers'!$C$5","v":1.2},{"$f":"'Base Numbers'!$C$8*'Base Numbers'!$C$5","v":1.2},{"$f":"'Base Numbers'!$C$8*'Base Numbers'!$C$5","v":1.2},{"$f":"'Base Numbers'!$C$8*'Base Numbers'!$C$5","v":1.2},{"$f":"'Base Numbers'!$C$8*'Base Numbers'!$C$5","v":1.2},{"$f":"'Base Numbers'!$C$8*'Base Numbers'!$C$5","v":1.2},{"$f":"'Base Numbers'!$C$8*'Base Numbers'!$C$5","v":1.2},{"$f":"'Base Numbers'!$C$8*'Base Numbers'!$C$5","v":1.2},{"$f":"'Base Numbers'!$C$8*'Base Numbers'!$C$5","v":1.2}]
[{"$nulls":3},"total actions used on spells",{"$f":"MAX(0,E290+E287+E286+E274+E272+E271+E270+E268+E297+E288+E293+E294+E292+E291+E275+E277+E283+E263-E333+E1394+E302+E303+E304+E305+E306+E307+E266+E267+E264+E289+E265+E278+E301+E300+E1150/2+E867+E877+E296)","v":0},0,0,0,0,0,0,0,0,0,0,0,0,0,0,0,0,0,0,0]
[{"$nulls":3},"total actions for action-effect spells",{"$f":"E263+E277+E297+E264+E265+E278+E867+E877+E296","v":0},{"$f":"F263+F277+F297+F264+F265+F278+F867+F877+F296","v":0},0,0,0,0,0,0,0,0,0,0,0,0,0,0,0,0,0,0]
[{"$nulls":3},"total bonus actions spent on spells",{"$f":"MAX(0,E1065+E284+E1372+E273+E1067+E269+E1189+E279+E214+E276+E1344+E280+E1366*'Base Numbers'!$C$5+IF($B$48>=1,'Base Numbers'!$C$5,0)-E333)+E1386+E1348","v":0},{"$f":"MAX(0,F1065+F284+F1372+F273+F1067+F269+F1189+F279+F214+F276+F1344+F280+F1366*'Base Numbers'!$C$5+IF($B$48>=1,'Base Numbers'!$C$5,0)-F333)+F1386+F1348","v":0.8},{"$f":"MAX(0,G1065+G284+G1372+G273+G1067+G269+G1189+G279+G214+G276+G1344+G280+G1366*'Base Numbers'!$C$5+IF($B$48>=1,'Base Numbers'!$C$5,0)-G333)+G1386+G1348","v":1.8},{"$f":"MAX(0,H1065+H284+H1372+H273+H1067+H269+H1189+H279+H214+H276+H1344+H280+H1366*'Base Numbers'!$C$5+IF($B$48>=1,'Base Numbers'!$C$5,0)-H333)+H1386+H1348","v":1.8},{"$f":"MAX(0,I1065+I284+I1372+I273+I1067+I269+I1189+I279+I214+I276+I1344+I280+I1366*'Base Numbers'!$C$5+IF($B$48>=1,'Base Numbers'!$C$5,0)-I333)+I1386+I1348","v":2.8},{"$f":"MAX(0,J1065+J284+J1372+J273+J1067+J269+J1189+J279+J214+J276+J1344+J280+J1366*'Base Numbers'!$C$5+IF($B$48>=1,'Base Numbers'!$C$5,0)-J333)+J1386+J1348","v":2.8},{"$f":"MAX(0,K1065+K284+K1372+K273+K1067+K269+K1189+K279+K214+K276+K1344+K280+K1366*'Base Numbers'!$C$5+IF($B$48>=1,'Base Numbers'!$C$5,0)-K333)+K1386+K1348","v":2.8},{"$f":"MAX(0,L1065+L284+L1372+L273+L1067+L269+L1189+L279+L214+L276+L1344+L280+L1366*'Base Numbers'!$C$5+IF($B$48>=1,'Base Numbers'!$C$5,0)-L333)+L1386+L1348","v":2.8},{"$f":"MAX(0,M1065+M284+M1372+M273+M1067+M269+M1189+M279+M214+M276+M1344+M280+M1366*'Base Numbers'!$C$5+IF($B$48>=1,'Base Numbers'!$C$5,0)-M333)+M1386+M1348","v":2.8},{"$f":"MAX(0,N1065+N284+N1372+N273+N1067+N269+N1189+N279+N214+N276+N1344+N280+N1366*'Base Numbers'!$C$5+IF($B$48>=1,'Base Numbers'!$C$5,0)-N333)+N1386+N1348","v":2.8},{"$f":"MAX(0,O1065+O284+O1372+O273+O1067+O269+O1189+O279+O214+O276+O1344+O280+O1366*'Base Numbers'!$C$5+IF($B$48>=1,'Base Numbers'!$C$5,0)-O333)+O1386+O1348","v":2.8},{"$f":"MAX(0,P1065+P284+P1372+P273+P1067+P269+P1189+P279+P214+P276+P1344+P280+P1366*'Base Numbers'!$C$5+IF($B$48>=1,'Base Numbers'!$C$5,0)-P333)+P1386+P1348","v":2.8},{"$f":"MAX(0,Q1065+Q284+Q1372+Q273+Q1067+Q269+Q1189+Q279+Q214+Q276+Q1344+Q280+Q1366*'Base Numbers'!$C$5+IF($B$48>=1,'Base Numbers'!$C$5,0)-Q333)+Q1386+Q1348","v":2.8},{"$f":"MAX(0,R1065+R284+R1372+R273+R1067+R269+R1189+R279+R214+R276+R1344+R280+R1366*'Base Numbers'!$C$5+IF($B$48>=1,'Base Numbers'!$C$5,0)-R333)+R1386+R1348","v":2.8},{"$f":"MAX(0,S1065+S284+S1372+S273+S1067+S269+S1189+S279+S214+S276+S1344+S280+S1366*'Base Numbers'!$C$5+IF($B$48>=1,'Base Numbers'!$C$5,0)-S333)+S1386+S1348","v":2.8},{"$f":"MAX(0,T1065+T284+T1372+T273+T1067+T269+T1189+T279+T214+T276+T1344+T280+T1366*'Base Numbers'!$C$5+IF($B$48>=1,'Base Numbers'!$C$5,0)-T333)+T1386+T1348","v":2.8},{"$f":"MAX(0,U1065+U284+U1372+U273+U1067+U269+U1189+U279+U214+U276+U1344+U280+U1366*'Base Numbers'!$C$5+IF($B$48>=1,'Base Numbers'!$C$5,0)-U333)+U1386+U1348","v":2.8},{"$f":"MAX(0,V1065+V284+V1372+V273+V1067+V269+V1189+V279+V214+V276+V1344+V280+V1366*'Base Numbers'!$C$5+IF($B$48>=1,'Base Numbers'!$C$5,0)-V333)+V1386+V1348","v":2.8},{"$f":"MAX(0,W1065+W284+W1372+W273+W1067+W269+W1189+W279+W214+W276+W1344+W280+W1366*'Base Numbers'!$C$5+IF($B$48>=1,'Base Numbers'!$C$5,0)-W333)+W1386+W1348","v":2.029168196369471},{"$f":"MAX(0,X1065+X284+X1372+X273+X1067+X269+X1189+X279+X214+X276+X1344+X280+X1366*'Base Numbers'!$C$5+IF($B$48>=1,'Base Numbers'!$C$5,0)-X333)+X1386+X1348","v":2.029168196369471}]
[{"$nulls":3},"pct main actions used on spells",{"$f":"MIN(1,E334/('Base Numbers'!$C$5*'Base Numbers'!$C$6))","v":0},{"$f":"MIN(1,F334/('Base Numbers'!$C$5*'Base Numbers'!$C$6))","v":0},{"$f":"MIN(1,G334/('Base Numbers'!$C$5*'Base Numbers'!$C$6))","v":0},{"$f":"MIN(1,H334/('Base Numbers'!$C$5*'Base Numbers'!$C$6))","v":0},{"$f":"MIN(1,I334/('Base Numbers'!$C$5*'Base Numbers'!$C$6))","v":0},{"$f":"MIN(1,J334/('Base Numbers'!$C$5*'Base Numbers'!$C$6))","v":0},{"$f":"MIN(1,K334/('Base Numbers'!$C$5*'Base Numbers'!$C$6))","v":0},{"$f":"MIN(1,L334/('Base Numbers'!$C$5*'Base Numbers'!$C$6))","v":0},{"$f":"MIN(1,M334/('Base Numbers'!$C$5*'Base Numbers'!$C$6))","v":0},{"$f":"MIN(1,N334/('Base Numbers'!$C$5*'Base Numbers'!$C$6))","v":0},{"$f":"MIN(1,O334/('Base Numbers'!$C$5*'Base Numbers'!$C$6))","v":0},{"$f":"MIN(1,P334/('Base Numbers'!$C$5*'Base Numbers'!$C$6))","v":0},{"$f":"MIN(1,Q334/('Base Numbers'!$C$5*'Base Numbers'!$C$6))","v":0},{"$f":"MIN(1,R334/('Base Numbers'!$C$5*'Base Numbers'!$C$6))","v":0},{"$f":"MIN(1,S334/('Base Numbers'!$C$5*'Base Numbers'!$C$6))","v":0},{"$f":"MIN(1,T334/('Base Numbers'!$C$5*'Base Numbers'!$C$6))","v":0},{"$f":"MIN(1,U334/('Base Numbers'!$C$5*'Base Numbers'!$C$6))","v":0},{"$f":"MIN(1,V334/('Base Numbers'!$C$5*'Base Numbers'!$C$6))","v":0},{"$f":"MIN(1,W334/('Base Numbers'!$C$5*'Base Numbers'!$C$6))","v":0},{"$f":"MIN(1,X334/('Base Numbers'!$C$5*'Base Numbers'!$C$6))","v":0}]
[{"$nulls":3},"pct bonus actions used on spells",{"$f":"MIN(1,E336/('Base Numbers'!$C$5*'Base Numbers'!$C$6))","v":0},{"$f":"MIN(1,F336/('Base Numbers'!$C$5*'Base Numbers'!$C$6))","v":0.05},{"$f":"MIN(1,G336/('Base Numbers'!$C$5*'Base Numbers'!$C$6))","v":0.1125},{"$f":"MIN(1,H336/('Base Numbers'!$C$5*'Base Numbers'!$C$6))","v":0.1125},{"$f":"MIN(1,I336/('Base Numbers'!$C$5*'Base Numbers'!$C$6))","v":0.175},{"$f":"MIN(1,J336/('Base Numbers'!$C$5*'Base Numbers'!$C$6))","v":0.175},{"$f":"MIN(1,K336/('Base Numbers'!$C$5*'Base Numbers'!$C$6))","v":0.175},{"$f":"MIN(1,L336/('Base Numbers'!$C$5*'Base Numbers'!$C$6))","v":0.175},{"$f":"MIN(1,M336/('Base Numbers'!$C$5*'Base Numbers'!$C$6))","v":0.175},{"$f":"MIN(1,N336/('Base Numbers'!$C$5*'Base Numbers'!$C$6))","v":0.175},{"$f":"MIN(1,O336/('Base Numbers'!$C$5*'Base Numbers'!$C$6))","v":0.175},{"$f":"MIN(1,P336/('Base Numbers'!$C$5*'Base Numbers'!$C$6))","v":0.175},{"$f":"MIN(1,Q336/('Base Numbers'!$C$5*'Base Numbers'!$C$6))","v":0.175},{"$f":"MIN(1,R336/('Base Numbers'!$C$5*'Base Numbers'!$C$6))","v":0.175},{"$f":"MIN(1,S336/('Base Numbers'!$C$5*'Base Numbers'!$C$6))","v":0.175},{"$f":"MIN(1,T336/('Base Numbers'!$C$5*'Base Numbers'!$C$6))","v":0.175},{"$f":"MIN(1,U336/('Base Numbers'!$C$5*'Base Numbers'!$C$6))","v":0.175},{"$f":"MIN(1,V336/('Base Numbers'!$C$5*'Base Numbers'!$C$6))","v":0.175},{"$f":"MIN(1,W336/('Base Numbers'!$C$5*'Base Numbers'!$C$6))","v":0.12682301227309195},{"$f":"MIN(1,X336/('Base Numbers'!$C$5*'Base Numbers'!$C$6))","v":0.12682301227309195},null,"check all these for bonus action calculations"]
[{"$nulls":3},"pct bonus actions remaining for directed spell attacks",{"$f":"MAX(0,1-E338)","v":1},{"$f":"MAX(0,1-F338)","v":0.95},0.8875,0.8875,0.825,0.825,0.825,0.825,0.825,0.825,0.825,0.825,0.825,0.825,0.825,0.825,0.825,0.825,0.873176987726908,0.873176987726908]
[{"$nulls":3},"total attempted directed bonus action spell attacks",{"$f":"E782+E804+E823+E836+E844+E1400+E904+E1400+E743+E815","v":0},2.2184799999999996,3.3277199999999993,3.3277199999999993,4.436959999999999,4.436959999999999,4.968889999999999,4.968889999999999,4.968889999999999,4.968889999999999,4.968889999999999,4.968889999999999,4.968889999999999,4.968889999999999,4.968889999999999,4.968889999999999,4.968889999999999,4.968889999999999,5.12,5.12,null,"* this discounts anmate objects since an action is only required to switch targets"]
[{"$nulls":3},"directed bonus spell attack pct reduction",{"$f":"IF(E340>0,MIN(1,(E339*'Base Numbers'!$C$5*'Base Numbers'!$C$6)/E340),1)","v":1},{"$f":"IF(F340>0,MIN(1,(F339*'Base Numbers'!$C$5*'Base Numbers'!$C$6)/F340),1)","v":1},{"$f":"IF(G340>0,MIN(1,(G339*'Base Numbers'!$C$5*'Base Numbers'!$C$6)/G340),1)","v":1},{"$f":"IF(H340>0,MIN(1,(H339*'Base Numbers'!$C$5*'Base Numbers'!$C$6)/H340),1)","v":1},{"$f":"IF(I340>0,MIN(1,(I339*'Base Numbers'!$C$5*'Base Numbers'!$C$6)/I340),1)","v":1},{"$f":"IF(J340>0,MIN(1,(J339*'Base Numbers'!$C$5*'Base Numbers'!$C$6)/J340),1)","v":1},{"$f":"IF(K340>0,MIN(1,(K339*'Base Numbers'!$C$5*'Base Numbers'!$C$6)/K340),1)","v":1},{"$f":"IF(L340>0,MIN(1,(L339*'Base Numbers'!$C$5*'Base Numbers'!$C$6)/L340),1)","v":1},{"$f":"IF(M340>0,MIN(1,(M339*'Base Numbers'!$C$5*'Base Numbers'!$C$6)/M340),1)","v":1},{"$f":"IF(N340>0,MIN(1,(N339*'Base Numbers'!$C$5*'Base Numbers'!$C$6)/N340),1)","v":1},{"$f":"IF(O340>0,MIN(1,(O339*'Base Numbers'!$C$5*'Base Numbers'!$C$6)/O340),1)","v":1},{"$f":"IF(P340>0,MIN(1,(P339*'Base Numbers'!$C$5*'Base Numbers'!$C$6)/P340),1)","v":1},{"$f":"IF(Q340>0,MIN(1,(Q339*'Base Numbers'!$C$5*'Base Numbers'!$C$6)/Q340),1)","v":1},{"$f":"IF(R340>0,MIN(1,(R339*'Base Numbers'!$C$5*'Base Numbers'!$C$6)/R340),1)","v":1},{"$f":"IF(S340>0,MIN(1,(S339*'Base Numbers'!$C$5*'Base Numbers'!$C$6)/S340),1)","v":1},{"$f":"IF(T340>0,MIN(1,(T339*'Base Numbers'!$C$5*'Base Numbers'!$C$6)/T340),1)","v":1},{"$f":"IF(U340>0,MIN(1,(U339*'Base Numbers'!$C$5*'Base Numbers'!$C$6)/U340),1)","v":1},{"$f":"IF(V340>0,MIN(1,(V339*'Base Numbers'!$C$5*'Base Numbers'!$C$6)/V340),1)","v":1},{"$f":"IF(W340>0,MIN(1,(W339*'Base Numbers'!$C$5*'Base Numbers'!$C$6)/W340),1)","v":1},{"$f":"IF(X340>0,MIN(1,(X339*'Base Numbers'!$C$5*'Base Numbers'!$C$6)/X340),1)","v":1},null,"* this is applied to bonus action spell damage"]
[{"$nulls":3},"actual pct bonus actions remaining after spells, directed spell effects:",{"$f":"E339-E340*E341/('Base Numbers'!$C$5*'Base Numbers'!$C$6)","v":1},{"$f":"F339-F340*F341/('Base Numbers'!$C$5*'Base Numbers'!$C$6)","v":0.811345},{"$f":"G339-G340*G341/('Base Numbers'!$C$5*'Base Numbers'!$C$6)","v":0.6795175},{"$f":"H339-H340*H341/('Base Numbers'!$C$5*'Base Numbers'!$C$6)","v":0.6795175},{"$f":"I339-I340*I341/('Base Numbers'!$C$5*'Base Numbers'!$C$6)","v":0.54769},{"$f":"J339-J340*J341/('Base Numbers'!$C$5*'Base Numbers'!$C$6)","v":0.54769},{"$f":"K339-K340*K341/('Base Numbers'!$C$5*'Base Numbers'!$C$6)","v":0.5144443750000001},{"$f":"L339-L340*L341/('Base Numbers'!$C$5*'Base Numbers'!$C$6)","v":0.5144443750000001},{"$f":"M339-M340*M341/('Base Numbers'!$C$5*'Base Numbers'!$C$6)","v":0.5144443750000001},{"$f":"N339-N340*N341/('Base Numbers'!$C$5*'Base Numbers'!$C$6)","v":0.5144443750000001},{"$f":"O339-O340*O341/('Base Numbers'!$C$5*'Base Numbers'!$C$6)","v":0.5144443750000001},{"$f":"P339-P340*P341/('Base Numbers'!$C$5*'Base Numbers'!$C$6)","v":0.5144443750000001},{"$f":"Q339-Q340*Q341/('Base Numbers'!$C$5*'Base Numbers'!$C$6)","v":0.5144443750000001},{"$f":"R339-R340*R341/('Base Numbers'!$C$5*'Base Numbers'!$C$6)","v":0.5144443750000001},{"$f":"S339-S340*S341/('Base Numbers'!$C$5*'Base Numbers'!$C$6)","v":0.5144443750000001},{"$f":"T339-T340*T341/('Base Numbers'!$C$5*'Base Numbers'!$C$6)","v":0.5144443750000001},{"$f":"U339-U340*U341/('Base Numbers'!$C$5*'Base Numbers'!$C$6)","v":0.5144443750000001},{"$f":"V339-V340*V341/('Base Numbers'!$C$5*'Base Numbers'!$C$6)","v":0.5144443750000001},{"$f":"W339-W340*W341/('Base Numbers'!$C$5*'Base Numbers'!$C$6)","v":0.5531769877269079},{"$f":"X339-X340*X341/('Base Numbers'!$C$5*'Base Numbers'!$C$6)","v":0.5531769877269079}]
[{"$nulls":3},"pct directed bonus actions counting as bonus attacks (sp weap, bigby's, crown of stars, druid of stars)",{"$f":"E786+E827+E846+E1401","v":0},0,0,0,0,0,0,0,0,0,0,0,0,0,0,0,0,0,0,0,null,"* this is possibly useful in the future for computing number of attacks per round, "]
[{"$nulls":25},"       for the rare cases that care about spell attacks "]
[{"$nulls":3},"CONCENTRATION"]
[{"$nulls":3},"has CON save Proficiency (Resilient CON, Class Start, Monk L14)",{"$f":"IF(OR(AND($B$16>=1,E6>=$B$16),$E$10=1,$E$13=1,$E$19=1,$E$8=1,E18>=14),1,0)","v":0},0,0,0,0,0,0,0,0,0,0,0,0,0,0,0,{"$f":"IF(OR(AND($B$16>=1,U6>=$B$16),$E$10=1,$E$13=1,$E$19=1,$E$8=1,U18>=14),1,0)","v":0},0,1,1]
[{"$nulls":3},"has Warcaster / Eldritch Mind invocation (warlock L2)",{"$f":"IF(OR(E27>=1,AND($B$70>0,$B$70<=E6)),1,0)","v":0},0,0,0,0,0,0,0,0,0,0,0,0,0,0,0,0,0,0,0]
[{"$nulls":3},"fights from Range",{"$f":"IF(AND(E162=0,OR(E163,E160)),1,0)","v":1},1,1,1,1,1,1,1,1,1,1,1,1,1,1,1,1,1,1,1]
[{"$nulls":3},"defensive spell bonus (multiplicative)",0.25,0.25,0.25,0.25,0.25,0.25,0.25,0.25,0.25,0.25,0.25,0.25,0.25,0.25,0.25,0.25,0.25,0.25,0.25,0.25]
[{"$nulls":3},"total single round conc loss prob",{"$f":"0.5*IF(E346,0.6,1)*IF(E347,0.6,1)*IF(E348,0.6,1)*IF(E1366>0,1-0.3*E1366,1)","v":0.3},0.3,0.3,0.3,0.3,0.3,0.3,0.3,0.3,0.3,0.3,0.3,0.3,0.3,0.3,0.3,0.3,0.3,0.18,0.18]
[{"$nulls":3},"total single round conc loss prob, defensive spells",{"$f":"E350*(1-E349)","v":0.22499999999999998},{"$f":"F350*(1-F349)","v":0.22499999999999998},0.22499999999999998,0.22499999999999998,0.22499999999999998,0.22499999999999998,0.22499999999999998,0.22499999999999998,0.22499999999999998,0.22499999999999998,0.22499999999999998,0.22499999999999998,0.22499999999999998,0.22499999999999998,0.22499999999999998,0.22499999999999998,0.22499999999999998,0.22499999999999998,0.135,0.135]
[{"$nulls":3},"concentration duration",{"$f":"CELL(\"contents\",INDIRECT(ADDRESS(7+(E6-1)*10,3+ROUNDUP('Base Numbers'!$C$6,0),1,1,\"Concentration Tables\")))","v":1.7730999999999995},{"$f":"CELL(\"contents\",INDIRECT(ADDRESS(7+(F6-1)*10,3+ROUNDUP('Base Numbers'!$C$6,0),1,1,\"Concentration Tables\")))","v":1.7730999999999995},{"$f":"CELL(\"contents\",INDIRECT(ADDRESS(7+(G6-1)*10,3+ROUNDUP('Base Numbers'!$C$6,0),1,1,\"Concentration Tables\")))","v":1.7730999999999995},{"$f":"CELL(\"contents\",INDIRECT(ADDRESS(7+(H6-1)*10,3+ROUNDUP('Base Numbers'!$C$6,0),1,1,\"Concentration Tables\")))","v":1.7730999999999995},{"$f":"CELL(\"contents\",INDIRECT(ADDRESS(7+(I6-1)*10,3+ROUNDUP('Base Numbers'!$C$6,0),1,1,\"Concentration Tables\")))","v":1.7730999999999995},{"$f":"CELL(\"contents\",INDIRECT(ADDRESS(7+(J6-1)*10,3+ROUNDUP('Base Numbers'!$C$6,0),1,1,\"Concentration Tables\")))","v":1.7730999999999995},{"$f":"CELL(\"contents\",INDIRECT(ADDRESS(7+(K6-1)*10,3+ROUNDUP('Base Numbers'!$C$6,0),1,1,\"Concentration Tables\")))","v":1.7730999999999995},{"$f":"CELL(\"contents\",INDIRECT(ADDRESS(7+(L6-1)*10,3+ROUNDUP('Base Numbers'!$C$6,0),1,1,\"Concentration Tables\")))","v":1.7730999999999995},{"$f":"CELL(\"contents\",INDIRECT(ADDRESS(7+(M6-1)*10,3+ROUNDUP('Base Numbers'!$C$6,0),1,1,\"Concentration Tables\")))","v":1.7730999999999995},{"$f":"CELL(\"contents\",INDIRECT(ADDRESS(7+(N6-1)*10,3+ROUNDUP('Base Numbers'!$C$6,0),1,1,\"Concentration Tables\")))","v":1.7730999999999995},{"$f":"CELL(\"contents\",INDIRECT(ADDRESS(7+(O6-1)*10,3+ROUNDUP('Base Numbers'!$C$6,0),1,1,\"Concentration Tables\")))","v":1.7730999999999995},{"$f":"CELL(\"contents\",INDIRECT(ADDRESS(7+(P6-1)*10,3+ROUNDUP('Base Numbers'!$C$6,0),1,1,\"Concentration Tables\")))","v":1.7730999999999995},{"$f":"CELL(\"contents\",INDIRECT(ADDRESS(7+(Q6-1)*10,3+ROUNDUP('Base Numbers'!$C$6,0),1,1,\"Concentration Tables\")))","v":1.7730999999999995},{"$f":"CELL(\"contents\",INDIRECT(ADDRESS(7+(R6-1)*10,3+ROUNDUP('Base Numbers'!$C$6,0),1,1,\"Concentration Tables\")))","v":1.7730999999999995},{"$f":"CELL(\"contents\",INDIRECT(ADDRESS(7+(S6-1)*10,3+ROUNDUP('Base Numbers'!$C$6,0),1,1,\"Concentration Tables\")))","v":1.7730999999999995},{"$f":"CELL(\"contents\",INDIRECT(ADDRESS(7+(T6-1)*10,3+ROUNDUP('Base Numbers'!$C$6,0),1,1,\"Concentration Tables\")))","v":1.7730999999999995},{"$f":"CELL(\"contents\",INDIRECT(ADDRESS(7+(U6-1)*10,3+ROUNDUP('Base Numbers'!$C$6,0),1,1,\"Concentration Tables\")))","v":1.7730999999999995},{"$f":"CELL(\"contents\",INDIRECT(ADDRESS(7+(V6-1)*10,3+ROUNDUP('Base Numbers'!$C$6,0),1,1,\"Concentration Tables\")))","v":1.7730999999999995},{"$f":"CELL(\"contents\",INDIRECT(ADDRESS(7+(W6-1)*10,3+ROUNDUP('Base Numbers'!$C$6,0),1,1,\"Concentration Tables\")))","v":2.4958897600000007},{"$f":"CELL(\"contents\",INDIRECT(ADDRESS(7+(X6-1)*10,3+ROUNDUP('Base Numbers'!$C$6,0),1,1,\"Concentration Tables\")))","v":2.4958897600000007}]
[{"$nulls":3},"concentration duration, defensive spells",{"$f":"CELL(\"contents\",INDIRECT(ADDRESS(11+(E6-1)*10,3+ROUNDUP('Base Numbers'!$C$6,0),1,1,\"Concentration Tables\")))","v":2.2018597656250005},{"$f":"CELL(\"contents\",INDIRECT(ADDRESS(11+(F6-1)*10,3+ROUNDUP('Base Numbers'!$C$6,0),1,1,\"Concentration Tables\")))","v":2.2018597656250005},{"$f":"CELL(\"contents\",INDIRECT(ADDRESS(11+(G6-1)*10,3+ROUNDUP('Base Numbers'!$C$6,0),1,1,\"Concentration Tables\")))","v":2.2018597656250005},{"$f":"CELL(\"contents\",INDIRECT(ADDRESS(11+(H6-1)*10,3+ROUNDUP('Base Numbers'!$C$6,0),1,1,\"Concentration Tables\")))","v":2.2018597656250005},{"$f":"CELL(\"contents\",INDIRECT(ADDRESS(11+(I6-1)*10,3+ROUNDUP('Base Numbers'!$C$6,0),1,1,\"Concentration Tables\")))","v":2.2018597656250005},{"$f":"CELL(\"contents\",INDIRECT(ADDRESS(11+(J6-1)*10,3+ROUNDUP('Base Numbers'!$C$6,0),1,1,\"Concentration Tables\")))","v":2.2018597656250005},{"$f":"CELL(\"contents\",INDIRECT(ADDRESS(11+(K6-1)*10,3+ROUNDUP('Base Numbers'!$C$6,0),1,1,\"Concentration Tables\")))","v":2.2018597656250005},{"$f":"CELL(\"contents\",INDIRECT(ADDRESS(11+(L6-1)*10,3+ROUNDUP('Base Numbers'!$C$6,0),1,1,\"Concentration Tables\")))","v":2.2018597656250005},{"$f":"CELL(\"contents\",INDIRECT(ADDRESS(11+(M6-1)*10,3+ROUNDUP('Base Numbers'!$C$6,0),1,1,\"Concentration Tables\")))","v":2.2018597656250005},{"$f":"CELL(\"contents\",INDIRECT(ADDRESS(11+(N6-1)*10,3+ROUNDUP('Base Numbers'!$C$6,0),1,1,\"Concentration Tables\")))","v":2.2018597656250005},{"$f":"CELL(\"contents\",INDIRECT(ADDRESS(11+(O6-1)*10,3+ROUNDUP('Base Numbers'!$C$6,0),1,1,\"Concentration Tables\")))","v":2.2018597656250005},{"$f":"CELL(\"contents\",INDIRECT(ADDRESS(11+(P6-1)*10,3+ROUNDUP('Base Numbers'!$C$6,0),1,1,\"Concentration Tables\")))","v":2.2018597656250005},{"$f":"CELL(\"contents\",INDIRECT(ADDRESS(11+(Q6-1)*10,3+ROUNDUP('Base Numbers'!$C$6,0),1,1,\"Concentration Tables\")))","v":2.2018597656250005},{"$f":"CELL(\"contents\",INDIRECT(ADDRESS(11+(R6-1)*10,3+ROUNDUP('Base Numbers'!$C$6,0),1,1,\"Concentration Tables\")))","v":2.2018597656250005},{"$f":"CELL(\"contents\",INDIRECT(ADDRESS(11+(S6-1)*10,3+ROUNDUP('Base Numbers'!$C$6,0),1,1,\"Concentration Tables\")))","v":2.2018597656250005},{"$f":"CELL(\"contents\",INDIRECT(ADDRESS(11+(T6-1)*10,3+ROUNDUP('Base Numbers'!$C$6,0),1,1,\"Concentration Tables\")))","v":2.2018597656250005},{"$f":"CELL(\"contents\",INDIRECT(ADDRESS(11+(U6-1)*10,3+ROUNDUP('Base Numbers'!$C$6,0),1,1,\"Concentration Tables\")))","v":2.2018597656250005},{"$f":"CELL(\"contents\",INDIRECT(ADDRESS(11+(V6-1)*10,3+ROUNDUP('Base Numbers'!$C$6,0),1,1,\"Concentration Tables\")))","v":2.2018597656250005},{"$f":"CELL(\"contents\",INDIRECT(ADDRESS(11+(W6-1)*10,3+ROUNDUP('Base Numbers'!$C$6,0),1,1,\"Concentration Tables\")))","v":2.820280275625},{"$f":"CELL(\"contents\",INDIRECT(ADDRESS(11+(X6-1)*10,3+ROUNDUP('Base Numbers'!$C$6,0),1,1,\"Concentration Tables\")))","v":2.820280275625}]
[{"$nulls":3},"concentration duration, 1-hour summon spells",{"$f":"CELL(\"contents\",INDIRECT(ADDRESS(11+(E6-1)*10,3+MIN(10,ROUNDUP(2*'Base Numbers'!$C$6,0)),1,1,\"Concentration Tables\")))","v":2.9961815361756905},{"$f":"CELL(\"contents\",INDIRECT(ADDRESS(11+(F6-1)*10,3+MIN(10,ROUNDUP(2*'Base Numbers'!$C$6,0)),1,1,\"Concentration Tables\")))","v":2.9961815361756905},{"$f":"CELL(\"contents\",INDIRECT(ADDRESS(11+(G6-1)*10,3+MIN(10,ROUNDUP(2*'Base Numbers'!$C$6,0)),1,1,\"Concentration Tables\")))","v":2.9961815361756905},{"$f":"CELL(\"contents\",INDIRECT(ADDRESS(11+(H6-1)*10,3+MIN(10,ROUNDUP(2*'Base Numbers'!$C$6,0)),1,1,\"Concentration Tables\")))","v":2.9961815361756905},{"$f":"CELL(\"contents\",INDIRECT(ADDRESS(11+(I6-1)*10,3+MIN(10,ROUNDUP(2*'Base Numbers'!$C$6,0)),1,1,\"Concentration Tables\")))","v":2.9961815361756905},{"$f":"CELL(\"contents\",INDIRECT(ADDRESS(11+(J6-1)*10,3+MIN(10,ROUNDUP(2*'Base Numbers'!$C$6,0)),1,1,\"Concentration Tables\")))","v":2.9961815361756905},{"$f":"CELL(\"contents\",INDIRECT(ADDRESS(11+(K6-1)*10,3+MIN(10,ROUNDUP(2*'Base Numbers'!$C$6,0)),1,1,\"Concentration Tables\")))","v":2.9961815361756905},{"$f":"CELL(\"contents\",INDIRECT(ADDRESS(11+(L6-1)*10,3+MIN(10,ROUNDUP(2*'Base Numbers'!$C$6,0)),1,1,\"Concentration Tables\")))","v":2.9961815361756905},{"$f":"CELL(\"contents\",INDIRECT(ADDRESS(11+(M6-1)*10,3+MIN(10,ROUNDUP(2*'Base Numbers'!$C$6,0)),1,1,\"Concentration Tables\")))","v":2.9961815361756905},{"$f":"CELL(\"contents\",INDIRECT(ADDRESS(11+(N6-1)*10,3+MIN(10,ROUNDUP(2*'Base Numbers'!$C$6,0)),1,1,\"Concentration Tables\")))","v":2.9961815361756905},{"$f":"CELL(\"contents\",INDIRECT(ADDRESS(11+(O6-1)*10,3+MIN(10,ROUNDUP(2*'Base Numbers'!$C$6,0)),1,1,\"Concentration Tables\")))","v":2.9961815361756905},{"$f":"CELL(\"contents\",INDIRECT(ADDRESS(11+(P6-1)*10,3+MIN(10,ROUNDUP(2*'Base Numbers'!$C$6,0)),1,1,\"Concentration Tables\")))","v":2.9961815361756905},{"$f":"CELL(\"contents\",INDIRECT(ADDRESS(11+(Q6-1)*10,3+MIN(10,ROUNDUP(2*'Base Numbers'!$C$6,0)),1,1,\"Concentration Tables\")))","v":2.9961815361756905},{"$f":"CELL(\"contents\",INDIRECT(ADDRESS(11+(R6-1)*10,3+MIN(10,ROUNDUP(2*'Base Numbers'!$C$6,0)),1,1,\"Concentration Tables\")))","v":2.9961815361756905},{"$f":"CELL(\"contents\",INDIRECT(ADDRESS(11+(S6-1)*10,3+MIN(10,ROUNDUP(2*'Base Numbers'!$C$6,0)),1,1,\"Concentration Tables\")))","v":2.9961815361756905},{"$f":"CELL(\"contents\",INDIRECT(ADDRESS(11+(T6-1)*10,3+MIN(10,ROUNDUP(2*'Base Numbers'!$C$6,0)),1,1,\"Concentration Tables\")))","v":2.9961815361756905},{"$f":"CELL(\"contents\",INDIRECT(ADDRESS(11+(U6-1)*10,3+MIN(10,ROUNDUP(2*'Base Numbers'!$C$6,0)),1,1,\"Concentration Tables\")))","v":2.9961815361756905},{"$f":"CELL(\"contents\",INDIRECT(ADDRESS(11+(V6-1)*10,3+MIN(10,ROUNDUP(2*'Base Numbers'!$C$6,0)),1,1,\"Concentration Tables\")))","v":2.9961815361756905},{"$f":"CELL(\"contents\",INDIRECT(ADDRESS(11+(W6-1)*10,3+MIN(10,ROUNDUP(2*'Base Numbers'!$C$6,0)),1,1,\"Concentration Tables\")))","v":4.399187820075754},{"$f":"CELL(\"contents\",INDIRECT(ADDRESS(11+(X6-1)*10,3+MIN(10,ROUNDUP(2*'Base Numbers'!$C$6,0)),1,1,\"Concentration Tables\")))","v":4.399187820075754},null,"* these have a max duration of 2 fights"]
[{"$nulls":3},"action surge conc bonus",{"$f":"E1309/('Base Numbers'!$C$5*'Base Numbers'!$C$6)","v":0},{"$f":"F1309/('Base Numbers'!$C$5*'Base Numbers'!$C$6)","v":0},{"$f":"G1309/('Base Numbers'!$C$5*'Base Numbers'!$C$6)","v":0},{"$f":"H1309/('Base Numbers'!$C$5*'Base Numbers'!$C$6)","v":0},{"$f":"I1309/('Base Numbers'!$C$5*'Base Numbers'!$C$6)","v":0},{"$f":"J1309/('Base Numbers'!$C$5*'Base Numbers'!$C$6)","v":0},{"$f":"K1309/('Base Numbers'!$C$5*'Base Numbers'!$C$6)","v":0.1875},{"$f":"L1309/('Base Numbers'!$C$5*'Base Numbers'!$C$6)","v":0.1875},{"$f":"M1309/('Base Numbers'!$C$5*'Base Numbers'!$C$6)","v":0.1875},{"$f":"N1309/('Base Numbers'!$C$5*'Base Numbers'!$C$6)","v":0.1875},{"$f":"O1309/('Base Numbers'!$C$5*'Base Numbers'!$C$6)","v":0.1875},{"$f":"P1309/('Base Numbers'!$C$5*'Base Numbers'!$C$6)","v":0.1875},{"$f":"Q1309/('Base Numbers'!$C$5*'Base Numbers'!$C$6)","v":0.1875},{"$f":"R1309/('Base Numbers'!$C$5*'Base Numbers'!$C$6)","v":0.1875},{"$f":"S1309/('Base Numbers'!$C$5*'Base Numbers'!$C$6)","v":0.1875},{"$f":"T1309/('Base Numbers'!$C$5*'Base Numbers'!$C$6)","v":0.1875},{"$f":"U1309/('Base Numbers'!$C$5*'Base Numbers'!$C$6)","v":0.1875},{"$f":"V1309/('Base Numbers'!$C$5*'Base Numbers'!$C$6)","v":0.1875},{"$f":"W1309/('Base Numbers'!$C$5*'Base Numbers'!$C$6)","v":0.1875},{"$f":"X1309/('Base Numbers'!$C$5*'Base Numbers'!$C$6)","v":0.1875}]
[{"$nulls":3},"total concentration duration (incl action surge)",{"$f":"E352*(1+E355)","v":1.7730999999999995},{"$f":"F352*(1+F355)","v":1.7730999999999995},1.7730999999999995,1.7730999999999995,1.7730999999999995,1.7730999999999995,2.1055562499999994,2.1055562499999994,2.1055562499999994,2.1055562499999994,2.1055562499999994,2.1055562499999994,2.1055562499999994,2.1055562499999994,2.1055562499999994,2.1055562499999994,2.1055562499999994,2.1055562499999994,2.963869090000001,2.963869090000001]
[{"$nulls":3},"total concentration duration, defensive spells (incl action surge)",{"$f":"E353*(1+E355)","v":2.2018597656250005},{"$f":"F353*(1+F355)","v":2.2018597656250005},2.2018597656250005,2.2018597656250005,2.2018597656250005,2.2018597656250005,2.614708471679688,2.614708471679688,2.614708471679688,2.614708471679688,2.614708471679688,2.614708471679688,2.614708471679688,2.614708471679688,2.614708471679688,2.614708471679688,2.614708471679688,2.614708471679688,3.3490828273046875,3.3490828273046875]
[{"$nulls":3},"total concentration duration, 1-hour summon spells (incl action surge)",{"$f":"E354","v":2.9961815361756905},{"$f":"F354","v":2.9961815361756905},2.9961815361756905,2.9961815361756905,2.9961815361756905,2.9961815361756905,2.9961815361756905,2.9961815361756905,2.9961815361756905,2.9961815361756905,2.9961815361756905,2.9961815361756905,2.9961815361756905,2.9961815361756905,2.9961815361756905,2.9961815361756905,2.9961815361756905,2.9961815361756905,4.399187820075754,4.399187820075754]
[{"$nulls":3},"total concentration rounds",{"$f":"E308*E356+E309*E357+E358*E310+1*E285","v":0},3.546199999999999,5.319299999999998,5.319299999999998,7.092399999999998,7.092399999999998,8.422224999999997,8.422224999999997,8.422224999999997,8.422224999999997,8.422224999999997,8.422224999999997,8.422224999999997,8.422224999999997,10.527781249999997,10.527781249999997,10.527781249999997,10.527781249999997,11.963539754538159,11.963539754538159,null,"* this is the limit of number of rounds concenctrating, not including the first round when cast"]
[]
[{"$nulls":3},"WEAPON"]
[{"$nulls":3},"dual wields (if using 1 handed light weapons w/o shield)",{"$f":"IF(AND($B$47=0,OR(AND($B$43>=1,E6>=$B$43),$B$33>=1,$B$32>=1,AND($B$21>=1, E6>=$B$21,$B$34>=1))),1,0)","v":0},0,0,0,0,0,0,0,0,0,0,0,0,0,0,0,0,0,0,0,null,"* should make this default to dual weild if BB damage scenario isn't used"]
[{"$nulls":3},"magic weapon hit bonus (warlock, artificer, weapon)",{"$f":"MAX(E20,IF(OR(E19>=2,AND($B$71>0,$B$71<=E6,E12>=3,E54>=1)),1,0),IF(E19>=10,2,0),0)","v":0},0,0,0,0,0,0,0,0,0,0,0,0,0,0,0,0,0,0,0]
[{"$nulls":3},"magic weapon static damage bonus (warlock, artificer, weapon)",{"$f":"MAX(E21,IF(OR(E19>=2,AND(E12>=3,E54>=1)),1,0),IF(OR(E19>=10,AND(E12>=9,E54>=1)),2,0),IF(AND(E12>=15,E54>=1),3,0))","v":0},0,0,0,0,0,0,0,0,0,0,0,0,0,0,0,0,0,0,0]
[{"$nulls":3},"magic weapon dice damage bonus (flame tongue, etc)",{"$f":"E22","v":0},0,0,0,0,0,0,0,0,0,0,0,0,0,0,0,0,0,0,0]
[{"$nulls":3},"pct rounds with shadowblade active",{"$f":"MIN(1,((1+E356)*E269)/('Base Numbers'!$C$5*'Base Numbers'!$C$6))","v":0},{"$f":"MIN(1,((1+F356)*F269)/('Base Numbers'!$C$5*'Base Numbers'!$C$6))","v":0},{"$f":"MIN(1,((1+G356)*G269)/('Base Numbers'!$C$5*'Base Numbers'!$C$6))","v":0},{"$f":"MIN(1,((1+H356)*H269)/('Base Numbers'!$C$5*'Base Numbers'!$C$6))","v":0},{"$f":"MIN(1,((1+I356)*I269)/('Base Numbers'!$C$5*'Base Numbers'!$C$6))","v":0},{"$f":"MIN(1,((1+J356)*J269)/('Base Numbers'!$C$5*'Base Numbers'!$C$6))","v":0},{"$f":"MIN(1,((1+K356)*K269)/('Base Numbers'!$C$5*'Base Numbers'!$C$6))","v":0},{"$f":"MIN(1,((1+L356)*L269)/('Base Numbers'!$C$5*'Base Numbers'!$C$6))","v":0},{"$f":"MIN(1,((1+M356)*M269)/('Base Numbers'!$C$5*'Base Numbers'!$C$6))","v":0},{"$f":"MIN(1,((1+N356)*N269)/('Base Numbers'!$C$5*'Base Numbers'!$C$6))","v":0},{"$f":"MIN(1,((1+O356)*O269)/('Base Numbers'!$C$5*'Base Numbers'!$C$6))","v":0},{"$f":"MIN(1,((1+P356)*P269)/('Base Numbers'!$C$5*'Base Numbers'!$C$6))","v":0},{"$f":"MIN(1,((1+Q356)*Q269)/('Base Numbers'!$C$5*'Base Numbers'!$C$6))","v":0},{"$f":"MIN(1,((1+R356)*R269)/('Base Numbers'!$C$5*'Base Numbers'!$C$6))","v":0},{"$f":"MIN(1,((1+S356)*S269)/('Base Numbers'!$C$5*'Base Numbers'!$C$6))","v":0},{"$f":"MIN(1,((1+T356)*T269)/('Base Numbers'!$C$5*'Base Numbers'!$C$6))","v":0},{"$f":"MIN(1,((1+U356)*U269)/('Base Numbers'!$C$5*'Base Numbers'!$C$6))","v":0},{"$f":"MIN(1,((1+V356)*V269)/('Base Numbers'!$C$5*'Base Numbers'!$C$6))","v":0},{"$f":"MIN(1,((1+W356)*W269)/('Base Numbers'!$C$5*'Base Numbers'!$C$6))","v":0},{"$f":"MIN(1,((1+X356)*X269)/('Base Numbers'!$C$5*'Base Numbers'!$C$6))","v":0},null,"* L6 bladesingers get BB plus a bonus action attack"]
[{"$nulls":3},"fighting style great weapon available",{"$f":"IF(AND($B$61>=1,E6>=$B$61),1,0)","v":0},0,0,0,0,0,0,0,0,0,0,0,0,0,0,0,0,0,0,0]
[{"$nulls":3},"GWM fighting style bonus damage",{"$f":"IF(AND(E367,$B35),0.8)+IF(AND(E367,$B36),0.833,0)+IF(AND(E367,$B37),1.33,0)","v":0},{"$f":"IF(AND(F367,$B35),0.8)+IF(AND(F367,$B36),0.833,0)+IF(AND(F367,$B37),1.33,0)","v":0},0,0,0,0,0,0,0,0,0,0,0,0,0,0,0,0,0,0]
[{"$nulls":3},"GWM fighting style bonus damage for bonus attacks",{"$f":"IF(AND(E367,$B35,E30),0.5,0)+IF(AND($B$35,E367,E30=0),0.8,0)+IF(AND(E367,$B36),0.833,0)+IF(AND(E367,$B37),1.33,0)","v":0},{"$f":"IF(AND(F367,$B35,F30),0.5,0)+IF(AND($B$35,F367,F30=0),0.8,0)+IF(AND(F367,$B36),0.833,0)+IF(AND(F367,$B37),1.33,0)","v":0},0,0,0,0,0,0,0,0,0,0,0,0,0,0,0,0,0,0]
[{"$nulls":3},"base weapon damage die avg damage",{"$f":"IF($B$48>=1,4.5,MAX(IF($B33,3.5,0),IF($B32,2.5,0),IF($B34,4.5,0),IF($B35,5.5,0),IF($B36,6.5,0),IF($B37,3.5,0),E1158))+E368","v":0},{"$f":"IF($B$48>=1,4.5,MAX(IF($B33,3.5,0),IF($B32,2.5,0),IF($B34,4.5,0),IF($B35,5.5,0),IF($B36,6.5,0),IF($B37,3.5,0),F1158))+F368","v":0},0,0,0,0,0,0,0,0,0,0,0,0,0,0,0,0,0,0]
[{"$nulls":3},"base weapon damage",{"$f":"IF($B$48>=1,4.5,MAX(IF($B33,3.5,0),IF($B32,2.5,0),IF($B34,4.5,0),IF($B35,5.5,0),IF($B36,6.5,0),IF($B37,7,0),E1158))+E365+E368","v":0},0,0,0,0,0,0,0,0,0,0,0,0,0,0,0,0,0,0,0]
[{"$nulls":3},"avg weapon damage (incl shadowblade)",{"$f":"IF(E790 >0,(E371)*(1-E366)+E366*E790, (E371))","v":0},0,0,0,0,0,0,0,0,0,0,0,0,0,0,0,0,0,0,0]
[{"$nulls":3},"bon attack dmg diff (PAM/Monk) (GWM crit chances)",{"$f":"IF(AND(E30,E28),E372-((1-E382)*(2.5+E369)+E382*E372),IF(E30>=1,E372-(2.5+E369),IF(E18>=2,MAX(0,(E372+E369)-E1158),0)))","v":0},{"$f":"IF(AND(F30,F28),F372-((1-F382)*(2.5+F369)+F382*F372),IF(F30>=1,F372-(2.5+F369),IF(F18>=2,MAX(0,(F372+F369)-F1158),0)))","v":0},0,0,0,0,0,0,0,0,0,0,0,0,0,0,0,0,0,0]
[{"$nulls":3},"Half-Orc racial brutal crit die (melee weapon only)",{"$f":"IF($B$51>=1,E370*(1-E366)+4.5*E366,0)","v":0},0,0,0,0,0,0,0,0,0,0,0,0,0,0,0,0,0,0,0]
[{"$nulls":3},"Piercer Feat additional crit die, Melee (piercing weapons only)",{"$f":"MAX(0,IF(AND($B$27>=1,E6>=$B$27,OR(E30=0,$B$33=1)),E370,0)*(1-E366))","v":0},0,0,0,0,0,0,0,0,0,0,0,0,0,0,0,0,0,0,0,null,"* doesn't work with any d12 or 2d6 weapon, or shadowblade."]
[]
[{"$nulls":3},"ATTACKS"]
[{"$nulls":3},"number of basic attacks per round",{"$f":"IF(OR(AND(E65,E14>=6),E7>=5,E10>=5,E8>=5,E9>=5,E18>=5,AND(E19>=5,E75),AND($B$73>0,$B$73<=E6,E12>=5,E54>=1)),2+IF(E10>=11,1,0)+IF(E10>=20,1,0),1+E1362)+E1079/'Base Numbers'!$C$5","v":1},{"$f":"IF(OR(AND(F65,F14>=6),F7>=5,F10>=5,F8>=5,F9>=5,F18>=5,AND(F19>=5,F75),AND($B$73>0,$B$73<=F6,F12>=5,F54>=1)),2+IF(F10>=11,1,0)+IF(F10>=20,1,0),1+F1362)+F1079/'Base Numbers'!$C$5","v":1},{"$f":"IF(OR(AND(G65,G14>=6),G7>=5,G10>=5,G8>=5,G9>=5,G18>=5,AND(G19>=5,G75),AND($B$73>0,$B$73<=G6,G12>=5,G54>=1)),2+IF(G10>=11,1,0)+IF(G10>=20,1,0),1+G1362)+G1079/'Base Numbers'!$C$5","v":1},{"$f":"IF(OR(AND(H65,H14>=6),H7>=5,H10>=5,H8>=5,H9>=5,H18>=5,AND(H19>=5,H75),AND($B$73>0,$B$73<=H6,H12>=5,H54>=1)),2+IF(H10>=11,1,0)+IF(H10>=20,1,0),1+H1362)+H1079/'Base Numbers'!$C$5","v":1},{"$f":"IF(OR(AND(I65,I14>=6),I7>=5,I10>=5,I8>=5,I9>=5,I18>=5,AND(I19>=5,I75),AND($B$73>0,$B$73<=I6,I12>=5,I54>=1)),2+IF(I10>=11,1,0)+IF(I10>=20,1,0),1+I1362)+I1079/'Base Numbers'!$C$5","v":2},{"$f":"IF(OR(AND(J65,J14>=6),J7>=5,J10>=5,J8>=5,J9>=5,J18>=5,AND(J19>=5,J75),AND($B$73>0,$B$73<=J6,J12>=5,J54>=1)),2+IF(J10>=11,1,0)+IF(J10>=20,1,0),1+J1362)+J1079/'Base Numbers'!$C$5","v":2},{"$f":"IF(OR(AND(K65,K14>=6),K7>=5,K10>=5,K8>=5,K9>=5,K18>=5,AND(K19>=5,K75),AND($B$73>0,$B$73<=K6,K12>=5,K54>=1)),2+IF(K10>=11,1,0)+IF(K10>=20,1,0),1+K1362)+K1079/'Base Numbers'!$C$5","v":2},{"$f":"IF(OR(AND(L65,L14>=6),L7>=5,L10>=5,L8>=5,L9>=5,L18>=5,AND(L19>=5,L75),AND($B$73>0,$B$73<=L6,L12>=5,L54>=1)),2+IF(L10>=11,1,0)+IF(L10>=20,1,0),1+L1362)+L1079/'Base Numbers'!$C$5","v":2},{"$f":"IF(OR(AND(M65,M14>=6),M7>=5,M10>=5,M8>=5,M9>=5,M18>=5,AND(M19>=5,M75),AND($B$73>0,$B$73<=M6,M12>=5,M54>=1)),2+IF(M10>=11,1,0)+IF(M10>=20,1,0),1+M1362)+M1079/'Base Numbers'!$C$5","v":2},{"$f":"IF(OR(AND(N65,N14>=6),N7>=5,N10>=5,N8>=5,N9>=5,N18>=5,AND(N19>=5,N75),AND($B$73>0,$B$73<=N6,N12>=5,N54>=1)),2+IF(N10>=11,1,0)+IF(N10>=20,1,0),1+N1362)+N1079/'Base Numbers'!$C$5","v":2},{"$f":"IF(OR(AND(O65,O14>=6),O7>=5,O10>=5,O8>=5,O9>=5,O18>=5,AND(O19>=5,O75),AND($B$73>0,$B$73<=O6,O12>=5,O54>=1)),2+IF(O10>=11,1,0)+IF(O10>=20,1,0),1+O1362)+O1079/'Base Numbers'!$C$5","v":2},{"$f":"IF(OR(AND(P65,P14>=6),P7>=5,P10>=5,P8>=5,P9>=5,P18>=5,AND(P19>=5,P75),AND($B$73>0,$B$73<=P6,P12>=5,P54>=1)),2+IF(P10>=11,1,0)+IF(P10>=20,1,0),1+P1362)+P1079/'Base Numbers'!$C$5","v":2},{"$f":"IF(OR(AND(Q65,Q14>=6),Q7>=5,Q10>=5,Q8>=5,Q9>=5,Q18>=5,AND(Q19>=5,Q75),AND($B$73>0,$B$73<=Q6,Q12>=5,Q54>=1)),2+IF(Q10>=11,1,0)+IF(Q10>=20,1,0),1+Q1362)+Q1079/'Base Numbers'!$C$5","v":2},{"$f":"IF(OR(AND(R65,R14>=6),R7>=5,R10>=5,R8>=5,R9>=5,R18>=5,AND(R19>=5,R75),AND($B$73>0,$B$73<=R6,R12>=5,R54>=1)),2+IF(R10>=11,1,0)+IF(R10>=20,1,0),1+R1362)+R1079/'Base Numbers'!$C$5","v":2},{"$f":"IF(OR(AND(S65,S14>=6),S7>=5,S10>=5,S8>=5,S9>=5,S18>=5,AND(S19>=5,S75),AND($B$73>0,$B$73<=S6,S12>=5,S54>=1)),2+IF(S10>=11,1,0)+IF(S10>=20,1,0),1+S1362)+S1079/'Base Numbers'!$C$5","v":2},{"$f":"IF(OR(AND(T65,T14>=6),T7>=5,T10>=5,T8>=5,T9>=5,T18>=5,AND(T19>=5,T75),AND($B$73>0,$B$73<=T6,T12>=5,T54>=1)),2+IF(T10>=11,1,0)+IF(T10>=20,1,0),1+T1362)+T1079/'Base Numbers'!$C$5","v":2},{"$f":"IF(OR(AND(U65,U14>=6),U7>=5,U10>=5,U8>=5,U9>=5,U18>=5,AND(U19>=5,U75),AND($B$73>0,$B$73<=U6,U12>=5,U54>=1)),2+IF(U10>=11,1,0)+IF(U10>=20,1,0),1+U1362)+U1079/'Base Numbers'!$C$5","v":2},{"$f":"IF(OR(AND(V65,V14>=6),V7>=5,V10>=5,V8>=5,V9>=5,V18>=5,AND(V19>=5,V75),AND($B$73>0,$B$73<=V6,V12>=5,V54>=1)),2+IF(V10>=11,1,0)+IF(V10>=20,1,0),1+V1362)+V1079/'Base Numbers'!$C$5","v":2},{"$f":"IF(OR(AND(W65,W14>=6),W7>=5,W10>=5,W8>=5,W9>=5,W18>=5,AND(W19>=5,W75),AND($B$73>0,$B$73<=W6,W12>=5,W54>=1)),2+IF(W10>=11,1,0)+IF(W10>=20,1,0),1+W1362)+W1079/'Base Numbers'!$C$5","v":2},{"$f":"IF(OR(AND(X65,X14>=6),X7>=5,X10>=5,X8>=5,X9>=5,X18>=5,AND(X19>=5,X75),AND($B$73>0,$B$73<=X6,X12>=5,X54>=1)),2+IF(X10>=11,1,0)+IF(X10>=20,1,0),1+X1362)+X1079/'Base Numbers'!$C$5","v":2}]
[{"$nulls":3},"avg number of haste actions per round (single attack action only)",{"$f":"(1+E356)*E272/('Base Numbers'!$C$5*'Base Numbers'!$C$6)","v":0},{"$f":"(1+F356)*F272/('Base Numbers'!$C$5*'Base Numbers'!$C$6)","v":0},{"$f":"(1+G356)*G272/('Base Numbers'!$C$5*'Base Numbers'!$C$6)","v":0},{"$f":"(1+H356)*H272/('Base Numbers'!$C$5*'Base Numbers'!$C$6)","v":0},{"$f":"(1+I356)*I272/('Base Numbers'!$C$5*'Base Numbers'!$C$6)","v":0},{"$f":"(1+J356)*J272/('Base Numbers'!$C$5*'Base Numbers'!$C$6)","v":0},{"$f":"(1+K356)*K272/('Base Numbers'!$C$5*'Base Numbers'!$C$6)","v":0},{"$f":"(1+L356)*L272/('Base Numbers'!$C$5*'Base Numbers'!$C$6)","v":0},{"$f":"(1+M356)*M272/('Base Numbers'!$C$5*'Base Numbers'!$C$6)","v":0},{"$f":"(1+N356)*N272/('Base Numbers'!$C$5*'Base Numbers'!$C$6)","v":0},{"$f":"(1+O356)*O272/('Base Numbers'!$C$5*'Base Numbers'!$C$6)","v":0},{"$f":"(1+P356)*P272/('Base Numbers'!$C$5*'Base Numbers'!$C$6)","v":0},{"$f":"(1+Q356)*Q272/('Base Numbers'!$C$5*'Base Numbers'!$C$6)","v":0},{"$f":"(1+R356)*R272/('Base Numbers'!$C$5*'Base Numbers'!$C$6)","v":0},{"$f":"(1+S356)*S272/('Base Numbers'!$C$5*'Base Numbers'!$C$6)","v":0},{"$f":"(1+T356)*T272/('Base Numbers'!$C$5*'Base Numbers'!$C$6)","v":0},{"$f":"(1+U356)*U272/('Base Numbers'!$C$5*'Base Numbers'!$C$6)","v":0},{"$f":"(1+V356)*V272/('Base Numbers'!$C$5*'Base Numbers'!$C$6)","v":0},{"$f":"(1+W356)*W272/('Base Numbers'!$C$5*'Base Numbers'!$C$6)","v":0},{"$f":"(1+X356)*X272/('Base Numbers'!$C$5*'Base Numbers'!$C$6)","v":0},null,"*haste actually gives the action the turn you cast it so it's duration is +1 vs. normal"]
[{"$nulls":3},"base pct of bonus actions with available bonus attack(s) (1/0)",{"$f":"MAX(MIN(1,E1159),IF(E362,1,IF(E30,1,0)))","v":0},0,0,0,0,0,0,0,0,0,0,0,0,0,0,0,0,0,0,0]
[{"$nulls":3},"bonus attacks per round assuming attack action (PAM, Dual Wield, Monk)",{"$f":"MAX(E1159,E1162,IF(E362,1,IF(E30,(1-E791),0)))","v":0},{"$f":"MAX(F1159,F1162,IF(F362,1,IF(F30,(1-F791),0)))","v":0},0,0,0,0,0,0,0,0,0,0,0,0,0,0,0,0,0,0,null,"* PAM bonus attacks reduced by Shadow Blade uptime"]
[{"$nulls":3},"GWM crit rate for bonus attacks",{"$f":"IF(E28,1-(1-E533)^(E378+E379)+'Caster Tables'!C5,0)*(1-E791)","v":0},{"$f":"IF(F28,1-(1-F533)^(F378+F379)+'Caster Tables'!D5,0)*(1-F791)","v":0},{"$f":"IF(G28,1-(1-G533)^(G378+G379)+'Caster Tables'!E5,0)*(1-G791)","v":0},{"$f":"IF(H28,1-(1-H533)^(H378+H379)+'Caster Tables'!F5,0)*(1-H791)","v":0},{"$f":"IF(I28,1-(1-I533)^(I378+I379)+'Caster Tables'!G5,0)*(1-I791)","v":0},{"$f":"IF(J28,1-(1-J533)^(J378+J379)+'Caster Tables'!H5,0)*(1-J791)","v":0},{"$f":"IF(K28,1-(1-K533)^(K378+K379)+'Caster Tables'!I5,0)*(1-K791)","v":0},{"$f":"IF(L28,1-(1-L533)^(L378+L379)+'Caster Tables'!J5,0)*(1-L791)","v":0},{"$f":"IF(M28,1-(1-M533)^(M378+M379)+'Caster Tables'!K5,0)*(1-M791)","v":0},{"$f":"IF(N28,1-(1-N533)^(N378+N379)+'Caster Tables'!L5,0)*(1-N791)","v":0},{"$f":"IF(O28,1-(1-O533)^(O378+O379)+'Caster Tables'!M5,0)*(1-O791)","v":0},{"$f":"IF(P28,1-(1-P533)^(P378+P379)+'Caster Tables'!N5,0)*(1-P791)","v":0},{"$f":"IF(Q28,1-(1-Q533)^(Q378+Q379)+'Caster Tables'!O5,0)*(1-Q791)","v":0},{"$f":"IF(R28,1-(1-R533)^(R378+R379)+'Caster Tables'!P5,0)*(1-R791)","v":0},{"$f":"IF(S28,1-(1-S533)^(S378+S379)+'Caster Tables'!Q5,0)*(1-S791)","v":0},{"$f":"IF(T28,1-(1-T533)^(T378+T379)+'Caster Tables'!R5,0)*(1-T791)","v":0},{"$f":"IF(U28,1-(1-U533)^(U378+U379)+'Caster Tables'!S5,0)*(1-U791)","v":0},{"$f":"IF(V28,1-(1-V533)^(V378+V379)+'Caster Tables'!T5,0)*(1-V791)","v":0},{"$f":"IF(W28,1-(1-W533)^(W378+W379)+'Caster Tables'!U5,0)*(1-W791)","v":0},{"$f":"IF(X28,1-(1-X533)^(X378+X379)+'Caster Tables'!V5,0)*(1-X791)","v":0},null,"* reduced by pct uptime of Shadow Blade"]
[{"$nulls":3},"hit bonus from bless (main and opp attacks)",{"$f":"E356*E270*2.5/('Base Numbers'!$C$5*'Base Numbers'!$C$6)","v":0},{"$f":"F356*F270*2.5/('Base Numbers'!$C$5*'Base Numbers'!$C$6)","v":0},{"$f":"G356*G270*2.5/('Base Numbers'!$C$5*'Base Numbers'!$C$6)","v":0},{"$f":"H356*H270*2.5/('Base Numbers'!$C$5*'Base Numbers'!$C$6)","v":0},{"$f":"I356*I270*2.5/('Base Numbers'!$C$5*'Base Numbers'!$C$6)","v":0},{"$f":"J356*J270*2.5/('Base Numbers'!$C$5*'Base Numbers'!$C$6)","v":0},{"$f":"K356*K270*2.5/('Base Numbers'!$C$5*'Base Numbers'!$C$6)","v":0},{"$f":"L356*L270*2.5/('Base Numbers'!$C$5*'Base Numbers'!$C$6)","v":0},{"$f":"M356*M270*2.5/('Base Numbers'!$C$5*'Base Numbers'!$C$6)","v":0},{"$f":"N356*N270*2.5/('Base Numbers'!$C$5*'Base Numbers'!$C$6)","v":0},{"$f":"O356*O270*2.5/('Base Numbers'!$C$5*'Base Numbers'!$C$6)","v":0},{"$f":"P356*P270*2.5/('Base Numbers'!$C$5*'Base Numbers'!$C$6)","v":0},{"$f":"Q356*Q270*2.5/('Base Numbers'!$C$5*'Base Numbers'!$C$6)","v":0},{"$f":"R356*R270*2.5/('Base Numbers'!$C$5*'Base Numbers'!$C$6)","v":0},{"$f":"S356*S270*2.5/('Base Numbers'!$C$5*'Base Numbers'!$C$6)","v":0},{"$f":"T356*T270*2.5/('Base Numbers'!$C$5*'Base Numbers'!$C$6)","v":0},{"$f":"U356*U270*2.5/('Base Numbers'!$C$5*'Base Numbers'!$C$6)","v":0},{"$f":"V356*V270*2.5/('Base Numbers'!$C$5*'Base Numbers'!$C$6)","v":0},{"$f":"W356*W270*2.5/('Base Numbers'!$C$5*'Base Numbers'!$C$6)","v":0},{"$f":"X356*X270*2.5/('Base Numbers'!$C$5*'Base Numbers'!$C$6)","v":0}]
[{"$nulls":3},"hit bonus from bless (bonus attacks)",{"$f":"(1+E356)*E270*2.5/('Base Numbers'!$C$5*'Base Numbers'!$C$6)","v":0},{"$f":"(1+F356)*F270*2.5/('Base Numbers'!$C$5*'Base Numbers'!$C$6)","v":0},{"$f":"(1+G356)*G270*2.5/('Base Numbers'!$C$5*'Base Numbers'!$C$6)","v":0},{"$f":"(1+H356)*H270*2.5/('Base Numbers'!$C$5*'Base Numbers'!$C$6)","v":0},{"$f":"(1+I356)*I270*2.5/('Base Numbers'!$C$5*'Base Numbers'!$C$6)","v":0},{"$f":"(1+J356)*J270*2.5/('Base Numbers'!$C$5*'Base Numbers'!$C$6)","v":0},{"$f":"(1+K356)*K270*2.5/('Base Numbers'!$C$5*'Base Numbers'!$C$6)","v":0},{"$f":"(1+L356)*L270*2.5/('Base Numbers'!$C$5*'Base Numbers'!$C$6)","v":0},{"$f":"(1+M356)*M270*2.5/('Base Numbers'!$C$5*'Base Numbers'!$C$6)","v":0},{"$f":"(1+N356)*N270*2.5/('Base Numbers'!$C$5*'Base Numbers'!$C$6)","v":0},{"$f":"(1+O356)*O270*2.5/('Base Numbers'!$C$5*'Base Numbers'!$C$6)","v":0},{"$f":"(1+P356)*P270*2.5/('Base Numbers'!$C$5*'Base Numbers'!$C$6)","v":0},{"$f":"(1+Q356)*Q270*2.5/('Base Numbers'!$C$5*'Base Numbers'!$C$6)","v":0},{"$f":"(1+R356)*R270*2.5/('Base Numbers'!$C$5*'Base Numbers'!$C$6)","v":0},{"$f":"(1+S356)*S270*2.5/('Base Numbers'!$C$5*'Base Numbers'!$C$6)","v":0},{"$f":"(1+T356)*T270*2.5/('Base Numbers'!$C$5*'Base Numbers'!$C$6)","v":0},{"$f":"(1+U356)*U270*2.5/('Base Numbers'!$C$5*'Base Numbers'!$C$6)","v":0},{"$f":"(1+V356)*V270*2.5/('Base Numbers'!$C$5*'Base Numbers'!$C$6)","v":0},{"$f":"(1+W356)*W270*2.5/('Base Numbers'!$C$5*'Base Numbers'!$C$6)","v":0},{"$f":"(1+X356)*X270*2.5/('Base Numbers'!$C$5*'Base Numbers'!$C$6)","v":0}]
[{"$nulls":3},"hit bonus (GWM, weapon, bless, EmbBond)",{"$f":"IF(AND(E28,E148=0),-5,0)+E363+E383+E1151/(E381+E378)","v":0},0,0,0,0,0,0,0,0,0,0,0,0,0,0,0,0,0,0,0]
[{"$nulls":3},"hit bonus (GWM, weapon, bless EmbBond) on Bonus attacks",{"$f":"IF(AND(E28,E148=0),-5,0)+E384+E363+E1151/(E381+E378)","v":0},0,0,0,0,0,0,0,0,0,0,0,0,0,0,0,0,0,0,0]
[{"$nulls":3},"hit bonus (GWM, weapon, bless EmbBond) on Advantage Attacks",{"$f":"IF(E28,-5,0)+E363+E383+E1151/(E381+E378)","v":0},0,0,0,0,0,0,0,0,0,0,0,0,0,0,0,0,0,0,0]
[{"$nulls":3},"hit bonus (GWM, weapon, bless EmbBond) on Adv Bonus Attacks",{"$f":"IF(E28,-5,0)+E384+E363+E1151/(E381+E378)","v":0},0,0,0,0,0,0,0,0,0,0,0,0,0,0,0,0,0,0,0]
[{"$nulls":3},"hit bonus on Opp Attacks",{"$f":"IF(AND(E28,E148=0),-5,0)+E363+E383+E1151/MAX(1,E418)","v":0},0,0,0,0,0,0,0,0,0,0,0,0,0,0,0,0,0,0,0]
[{"$nulls":3},"hit bonus on Advantage Opp Attacks",{"$f":"IF(E28,-5,0)+E363+E383+E1151/MAX(1,E418)","v":0},0,0,0,0,0,0,0,0,0,0,0,0,0,0,0,0,0,0,0]
[{"$nulls":3},"one die hit chance",{"$f":"MIN(0.95,1-(E153-1-E159-E39-E385)/20)+IF($B$52,0.05*MIN(0.95,1-(E153-1-E159-E39-E385)/20))","v":0.65},0.65,0.6,0.6,0.65,0.6,0.6,0.6,0.65,0.65,0.65,0.6,0.7,0.7,0.65,0.65,0.7,0.65,0.65,0.65]
[{"$nulls":3},"one die hit chance on Bonus attacks",{"$f":"MIN(0.95,1-(E153-1-E159-E39-E386)/20)+IF($B$52,0.05*MIN(0.95,1-(E153-1-E159-E39-E386)/20))","v":0.65},0.65,0.6,0.6,0.65,0.6,0.6,0.6,0.65,0.65,0.65,0.6,0.7,0.7,0.65,0.65,0.7,0.65,0.65,0.65]
[{"$nulls":3},"hit chance on Advantage Attacks",{"$f":"1-((E153-1-E159-E39-E387)/20)^E503+IF($B$52,0.05^E503*(1-(E153-1-E159-E39-E387)/20))","v":0.8775000000000001},0.8775000000000001,0.84,0.84,0.8775000000000001,0.84,0.84,0.84,0.8775000000000001,0.8775000000000001,0.8775000000000001,0.84,0.91,0.91,0.8775000000000001,0.8775000000000001,0.91,0.8775000000000001,0.8775000000000001,0.8775000000000001]
[{"$nulls":3},"hit chance on Adv Bonus Attacks",{"$f":"1-((E153-1-E159-E39-E388)/20)^E503+IF($B$52,0.05^E503*(1-(E153-1-E159-E39-E388)/20))","v":0.8775000000000001},0.8775000000000001,0.84,0.84,0.8775000000000001,0.84,0.84,0.84,0.8775000000000001,0.8775000000000001,0.8775000000000001,0.84,0.91,0.91,0.8775000000000001,0.8775000000000001,0.91,0.8775000000000001,0.8775000000000001,0.8775000000000001]
[{"$nulls":3},"hit chance with Disadv attacks",{"$f":"(1-(E153-1-E159-E39-E387)/20)^2+IF($B$52,(1-0.95^2)*(1-(E153-1-E159-E39-E387)/20))","v":0.42250000000000004},0.42250000000000004,0.36,0.36,0.42250000000000004,0.36,0.36,0.36,0.42250000000000004,0.42250000000000004,0.42250000000000004,0.36,0.48999999999999994,0.48999999999999994,0.42250000000000004,0.42250000000000004,0.48999999999999994,0.42250000000000004,0.42250000000000004,0.42250000000000004]
[{"$nulls":3},"hit chance with Disadv Bonus attacks",{"$f":"(1-(E153-1-E159-E39-E386)/20)^2+IF($B$52,(1-0.95^2)*(1-(E153-1-E159-E39-E386)/20))","v":0.42250000000000004},0.42250000000000004,0.36,0.36,0.42250000000000004,0.36,0.36,0.36,0.42250000000000004,0.42250000000000004,0.42250000000000004,0.36,0.48999999999999994,0.48999999999999994,0.42250000000000004,0.42250000000000004,0.48999999999999994,0.42250000000000004,0.42250000000000004,0.42250000000000004]
[{"$nulls":3},"one die hit chance on Opp Attacks",{"$f":"MIN(0.95,1-(E153-1-E159-E39-E389)/20)+IF($B$52,0.05*MIN(0.95,1-(E153-1-E159-E39-E389)/20))","v":0.65},0.65,0.6,0.6,0.65,0.6,0.6,0.6,0.65,0.65,0.65,0.6,0.7,0.7,0.65,0.65,0.7,0.65,0.65,0.65]
[{"$nulls":3},"hit chance on Adv Opp Attacks",{"$f":"1-((E153-1-E159-E39-E390)/20)^E503+IF($B$52,0.05^E503*(1-(E153-1-E159-E39-E390)/20))","v":0.8775000000000001},0.8775000000000001,0.84,0.84,0.8775000000000001,0.84,0.84,0.84,0.8775000000000001,0.8775000000000001,0.8775000000000001,0.84,0.91,0.91,0.8775000000000001,0.8775000000000001,0.91,0.8775000000000001,0.8775000000000001,0.8775000000000001]
[{"$nulls":3},"average bonus attacks (GWM, PAM, Spirit W, Quicken BB) minus spells",{"$f":"E1601","v":0},{"$f":"F1601","v":0},0,0,0,0,{"$f":"K1601","v":0},0,0,0,0,0,0,0,0,{"$f":"T1601","v":0},0,0,0,0]
[]
[{"$nulls":3},"OPPORTUNITY ATTACKS"]
[{"$nulls":3},"has reach",{"$f":"IF($B$35>=1,1,0)","v":0},0,0,0,0,0,0,0,0,0,0,0,0,0,0,0,0,0,0,0]
[{"$nulls":3},"PAM + quarterstaff",{"$f":"IF(AND(E30>=1,$B$33>=1),1,0)","v":0},0,0,0,0,0,0,0,0,0,0,0,0,0,0,0,0,0,0,0,null,"* this allows opp attacks to use booming blade"]
[{"$nulls":3},"crusher + PAM + quarterstaff",{"$f":"IF(AND(E30>=1,$B$28>=1,E6>=$B$28,$B$33>=1),1,0)","v":0},0,0,0,0,0,0,0,0,0,0,0,0,0,0,0,0,0,0,0,null,"* this combo increases Opp Atts with knockbacks"]
[{"$nulls":3},"crusher + PAM + reach polearm",{"$f":"IF(AND(E30>=1,$B$28>=1,E6>=$B$28,$B$35>=1),1,0)","v":0},0,0,0,0,0,0,0,0,0,0,0,0,0,0,0,0,0,0,0,null,"* this combo increases Opp Atts with knockbacks, but less so"]
[{"$nulls":3},"knockback-based opp attacks",{"$f":"'Base Numbers'!$C$13*0.7*E404+'Base Numbers'!$C$13*0.3*E405","v":0},{"$f":"'Base Numbers'!$C$13*0.7*F404+'Base Numbers'!$C$13*0.3*F405","v":0},{"$f":"'Base Numbers'!$C$13*0.7*G404+'Base Numbers'!$C$13*0.3*G405","v":0},{"$f":"'Base Numbers'!$C$13*0.7*H404+'Base Numbers'!$C$13*0.3*H405","v":0},{"$f":"'Base Numbers'!$C$13*0.7*I404+'Base Numbers'!$C$13*0.3*I405","v":0},{"$f":"'Base Numbers'!$C$13*0.7*J404+'Base Numbers'!$C$13*0.3*J405","v":0},{"$f":"'Base Numbers'!$C$13*0.7*K404+'Base Numbers'!$C$13*0.3*K405","v":0},{"$f":"'Base Numbers'!$C$13*0.7*L404+'Base Numbers'!$C$13*0.3*L405","v":0},{"$f":"'Base Numbers'!$C$13*0.7*M404+'Base Numbers'!$C$13*0.3*M405","v":0},{"$f":"'Base Numbers'!$C$13*0.7*N404+'Base Numbers'!$C$13*0.3*N405","v":0},{"$f":"'Base Numbers'!$C$13*0.7*O404+'Base Numbers'!$C$13*0.3*O405","v":0},{"$f":"'Base Numbers'!$C$13*0.7*P404+'Base Numbers'!$C$13*0.3*P405","v":0},{"$f":"'Base Numbers'!$C$13*0.7*Q404+'Base Numbers'!$C$13*0.3*Q405","v":0},{"$f":"'Base Numbers'!$C$13*0.7*R404+'Base Numbers'!$C$13*0.3*R405","v":0},{"$f":"'Base Numbers'!$C$13*0.7*S404+'Base Numbers'!$C$13*0.3*S405","v":0},{"$f":"'Base Numbers'!$C$13*0.7*T404+'Base Numbers'!$C$13*0.3*T405","v":0},{"$f":"'Base Numbers'!$C$13*0.7*U404+'Base Numbers'!$C$13*0.3*U405","v":0},{"$f":"'Base Numbers'!$C$13*0.7*V404+'Base Numbers'!$C$13*0.3*V405","v":0},{"$f":"'Base Numbers'!$C$13*0.7*W404+'Base Numbers'!$C$13*0.3*W405","v":0},{"$f":"'Base Numbers'!$C$13*0.7*X404+'Base Numbers'!$C$13*0.3*X405","v":0}]
[{"$nulls":3},"PAM based opp attacks",{"$f":"IF(E30,'Base Numbers'!$C$13,0)*IF(E402,1.5,0.75)","v":0},{"$f":"IF(F30,'Base Numbers'!$C$13,0)*IF(F402,1.5,0.75)","v":0},{"$f":"IF(G30,'Base Numbers'!$C$13,0)*IF(G402,1.5,0.75)","v":0},{"$f":"IF(H30,'Base Numbers'!$C$13,0)*IF(H402,1.5,0.75)","v":0},{"$f":"IF(I30,'Base Numbers'!$C$13,0)*IF(I402,1.5,0.75)","v":0},{"$f":"IF(J30,'Base Numbers'!$C$13,0)*IF(J402,1.5,0.75)","v":0},{"$f":"IF(K30,'Base Numbers'!$C$13,0)*IF(K402,1.5,0.75)","v":0},{"$f":"IF(L30,'Base Numbers'!$C$13,0)*IF(L402,1.5,0.75)","v":0},{"$f":"IF(M30,'Base Numbers'!$C$13,0)*IF(M402,1.5,0.75)","v":0},{"$f":"IF(N30,'Base Numbers'!$C$13,0)*IF(N402,1.5,0.75)","v":0},{"$f":"IF(O30,'Base Numbers'!$C$13,0)*IF(O402,1.5,0.75)","v":0},{"$f":"IF(P30,'Base Numbers'!$C$13,0)*IF(P402,1.5,0.75)","v":0},{"$f":"IF(Q30,'Base Numbers'!$C$13,0)*IF(Q402,1.5,0.75)","v":0},{"$f":"IF(R30,'Base Numbers'!$C$13,0)*IF(R402,1.5,0.75)","v":0},{"$f":"IF(S30,'Base Numbers'!$C$13,0)*IF(S402,1.5,0.75)","v":0},{"$f":"IF(T30,'Base Numbers'!$C$13,0)*IF(T402,1.5,0.75)","v":0},{"$f":"IF(U30,'Base Numbers'!$C$13,0)*IF(U402,1.5,0.75)","v":0},{"$f":"IF(V30,'Base Numbers'!$C$13,0)*IF(V402,1.5,0.75)","v":0},{"$f":"IF(W30,'Base Numbers'!$C$13,0)*IF(W402,1.5,0.75)","v":0},{"$f":"IF(X30,'Base Numbers'!$C$13,0)*IF(X402,1.5,0.75)","v":0},null,"* greater with a reach weapon"]
[{"$nulls":3},"oath of vengence opp attacks",{"$f":"IF(AND(E40,E7>=15),'Base Numbers'!$C$15*E1065/'Base Numbers'!$C$5,0)","v":0},{"$f":"IF(AND(F40,F7>=15),'Base Numbers'!$C$15*F1065/'Base Numbers'!$C$5,0)","v":0},{"$f":"IF(AND(G40,G7>=15),'Base Numbers'!$C$15*G1065/'Base Numbers'!$C$5,0)","v":0},{"$f":"IF(AND(H40,H7>=15),'Base Numbers'!$C$15*H1065/'Base Numbers'!$C$5,0)","v":0},{"$f":"IF(AND(I40,I7>=15),'Base Numbers'!$C$15*I1065/'Base Numbers'!$C$5,0)","v":0},{"$f":"IF(AND(J40,J7>=15),'Base Numbers'!$C$15*J1065/'Base Numbers'!$C$5,0)","v":0},{"$f":"IF(AND(K40,K7>=15),'Base Numbers'!$C$15*K1065/'Base Numbers'!$C$5,0)","v":0},{"$f":"IF(AND(L40,L7>=15),'Base Numbers'!$C$15*L1065/'Base Numbers'!$C$5,0)","v":0},{"$f":"IF(AND(M40,M7>=15),'Base Numbers'!$C$15*M1065/'Base Numbers'!$C$5,0)","v":0},{"$f":"IF(AND(N40,N7>=15),'Base Numbers'!$C$15*N1065/'Base Numbers'!$C$5,0)","v":0},{"$f":"IF(AND(O40,O7>=15),'Base Numbers'!$C$15*O1065/'Base Numbers'!$C$5,0)","v":0},{"$f":"IF(AND(P40,P7>=15),'Base Numbers'!$C$15*P1065/'Base Numbers'!$C$5,0)","v":0},{"$f":"IF(AND(Q40,Q7>=15),'Base Numbers'!$C$15*Q1065/'Base Numbers'!$C$5,0)","v":0},{"$f":"IF(AND(R40,R7>=15),'Base Numbers'!$C$15*R1065/'Base Numbers'!$C$5,0)","v":0},{"$f":"IF(AND(S40,S7>=15),'Base Numbers'!$C$15*S1065/'Base Numbers'!$C$5,0)","v":0},{"$f":"IF(AND(T40,T7>=15),'Base Numbers'!$C$15*T1065/'Base Numbers'!$C$5,0)","v":0},{"$f":"IF(AND(U40,U7>=15),'Base Numbers'!$C$15*U1065/'Base Numbers'!$C$5,0)","v":0},{"$f":"IF(AND(V40,V7>=15),'Base Numbers'!$C$15*V1065/'Base Numbers'!$C$5,0)","v":0},{"$f":"IF(AND(W40,W7>=15),'Base Numbers'!$C$15*W1065/'Base Numbers'!$C$5,0)","v":0},{"$f":"IF(AND(X40,X7>=15),'Base Numbers'!$C$15*X1065/'Base Numbers'!$C$5,0)","v":0}]
[{"$nulls":3},"sentinel opp attacks",{"$f":"IF(E31,'Base Numbers'!$C$14,0)","v":0},{"$f":"IF(F31,'Base Numbers'!$C$14,0)","v":0},{"$f":"IF(G31,'Base Numbers'!$C$14,0)","v":0},{"$f":"IF(H31,'Base Numbers'!$C$14,0)","v":0},{"$f":"IF(I31,'Base Numbers'!$C$14,0)","v":0},{"$f":"IF(J31,'Base Numbers'!$C$14,0)","v":0},{"$f":"IF(K31,'Base Numbers'!$C$14,0)","v":0},{"$f":"IF(L31,'Base Numbers'!$C$14,0)","v":0},{"$f":"IF(M31,'Base Numbers'!$C$14,0)","v":0},{"$f":"IF(N31,'Base Numbers'!$C$14,0)","v":0},{"$f":"IF(O31,'Base Numbers'!$C$14,0)","v":0},{"$f":"IF(P31,'Base Numbers'!$C$14,0)","v":0},{"$f":"IF(Q31,'Base Numbers'!$C$14,0)","v":0},{"$f":"IF(R31,'Base Numbers'!$C$14,0)","v":0},{"$f":"IF(S31,'Base Numbers'!$C$14,0)","v":0},{"$f":"IF(T31,'Base Numbers'!$C$14,0)","v":0},{"$f":"IF(U31,'Base Numbers'!$C$14,0)","v":0},{"$f":"IF(V31,'Base Numbers'!$C$14,0)","v":0},{"$f":"IF(W31,'Base Numbers'!$C$14,0)","v":0},{"$f":"IF(X31,'Base Numbers'!$C$14,0)","v":0}]
[{"$nulls":3},"hold the line cavalier opp attacks (L10)",{"$f":"IF(AND(E10>=10,E62),'Base Numbers'!$C$13,0)*IF(E402,1.5,0.75)","v":0},{"$f":"IF(AND(F10>=10,F62),'Base Numbers'!$C$13,0)*IF(F402,1.5,0.75)","v":0},{"$f":"IF(AND(G10>=10,G62),'Base Numbers'!$C$13,0)*IF(G402,1.5,0.75)","v":0},{"$f":"IF(AND(H10>=10,H62),'Base Numbers'!$C$13,0)*IF(H402,1.5,0.75)","v":0},{"$f":"IF(AND(I10>=10,I62),'Base Numbers'!$C$13,0)*IF(I402,1.5,0.75)","v":0},{"$f":"IF(AND(J10>=10,J62),'Base Numbers'!$C$13,0)*IF(J402,1.5,0.75)","v":0},{"$f":"IF(AND(K10>=10,K62),'Base Numbers'!$C$13,0)*IF(K402,1.5,0.75)","v":0},{"$f":"IF(AND(L10>=10,L62),'Base Numbers'!$C$13,0)*IF(L402,1.5,0.75)","v":0},{"$f":"IF(AND(M10>=10,M62),'Base Numbers'!$C$13,0)*IF(M402,1.5,0.75)","v":0},{"$f":"IF(AND(N10>=10,N62),'Base Numbers'!$C$13,0)*IF(N402,1.5,0.75)","v":0},{"$f":"IF(AND(O10>=10,O62),'Base Numbers'!$C$13,0)*IF(O402,1.5,0.75)","v":0},{"$f":"IF(AND(P10>=10,P62),'Base Numbers'!$C$13,0)*IF(P402,1.5,0.75)","v":0},{"$f":"IF(AND(Q10>=10,Q62),'Base Numbers'!$C$13,0)*IF(Q402,1.5,0.75)","v":0},{"$f":"IF(AND(R10>=10,R62),'Base Numbers'!$C$13,0)*IF(R402,1.5,0.75)","v":0},{"$f":"IF(AND(S10>=10,S62),'Base Numbers'!$C$13,0)*IF(S402,1.5,0.75)","v":0},{"$f":"IF(AND(T10>=10,T62),'Base Numbers'!$C$13,0)*IF(T402,1.5,0.75)","v":0},{"$f":"IF(AND(U10>=10,U62),'Base Numbers'!$C$13,0)*IF(U402,1.5,0.75)","v":0},{"$f":"IF(AND(V10>=10,V62),'Base Numbers'!$C$13,0)*IF(V402,1.5,0.75)","v":0},{"$f":"IF(AND(W10>=10,W62),'Base Numbers'!$C$13,0)*IF(W402,1.5,0.75)","v":0},{"$f":"IF(AND(X10>=10,X62),'Base Numbers'!$C$13,0)*IF(X402,1.5,0.75)","v":0},null,"* greater with a reach weapon"]
[{"$nulls":3},"has echo knight echo (L3)",{"$f":"IF(AND(E10>=3,E60>=1),1,0)","v":0},0,0,0,0,0,0,0,0,0,0,0,0,0,0,0,0,0,0,0]
[{"$nulls":3},"opp attacks from echo knight",{"$f":"E411*'Base Numbers'!$C$12","v":0},{"$f":"F411*'Base Numbers'!$C$12","v":0},{"$f":"G411*'Base Numbers'!$C$12","v":0},{"$f":"H411*'Base Numbers'!$C$12","v":0},{"$f":"I411*'Base Numbers'!$C$12","v":0},{"$f":"J411*'Base Numbers'!$C$12","v":0},{"$f":"K411*'Base Numbers'!$C$12","v":0},{"$f":"L411*'Base Numbers'!$C$12","v":0},{"$f":"M411*'Base Numbers'!$C$12","v":0},{"$f":"N411*'Base Numbers'!$C$12","v":0},{"$f":"O411*'Base Numbers'!$C$12","v":0},{"$f":"P411*'Base Numbers'!$C$12","v":0},{"$f":"Q411*'Base Numbers'!$C$12","v":0},{"$f":"R411*'Base Numbers'!$C$12","v":0},{"$f":"S411*'Base Numbers'!$C$12","v":0},{"$f":"T411*'Base Numbers'!$C$12","v":0},{"$f":"U411*'Base Numbers'!$C$12","v":0},{"$f":"V411*'Base Numbers'!$C$12","v":0},{"$f":"W411*'Base Numbers'!$C$12","v":0},{"$f":"X411*'Base Numbers'!$C$12","v":0}]
[{"$nulls":3},"has Cavalier Vigiliant Defender (L18)",{"$f":"IF(AND(E10>=18,E62),1,0)","v":0},0,0,0,0,0,0,0,0,0,0,0,0,0,0,0,0,0,0,0]
[{"$nulls":3},"base opp attacks (if not ranged)",{"$f":"IF(E163>=1,0,'Base Numbers'!$C$12)","v":0},{"$f":"IF(F163>=1,0,'Base Numbers'!$C$12)","v":0},{"$f":"IF(G163>=1,0,'Base Numbers'!$C$12)","v":0},{"$f":"IF(H163>=1,0,'Base Numbers'!$C$12)","v":0},{"$f":"IF(I163>=1,0,'Base Numbers'!$C$12)","v":0},{"$f":"IF(J163>=1,0,'Base Numbers'!$C$12)","v":0},{"$f":"IF(K163>=1,0,'Base Numbers'!$C$12)","v":0},{"$f":"IF(L163>=1,0,'Base Numbers'!$C$12)","v":0},{"$f":"IF(M163>=1,0,'Base Numbers'!$C$12)","v":0},{"$f":"IF(N163>=1,0,'Base Numbers'!$C$12)","v":0},{"$f":"IF(O163>=1,0,'Base Numbers'!$C$12)","v":0},{"$f":"IF(P163>=1,0,'Base Numbers'!$C$12)","v":0},{"$f":"IF(Q163>=1,0,'Base Numbers'!$C$12)","v":0},{"$f":"IF(R163>=1,0,'Base Numbers'!$C$12)","v":0},{"$f":"IF(S163>=1,0,'Base Numbers'!$C$12)","v":0},{"$f":"IF(T163>=1,0,'Base Numbers'!$C$12)","v":0},{"$f":"IF(U163>=1,0,'Base Numbers'!$C$12)","v":0},{"$f":"IF(V163>=1,0,'Base Numbers'!$C$12)","v":0},{"$f":"IF(W163>=1,0,'Base Numbers'!$C$12)","v":0},{"$f":"IF(X163>=1,0,'Base Numbers'!$C$12)","v":0},null,"Turned off if Ranged is turned on."]
[{"$nulls":3},"max possible riposte opp attacks",{"$f":"E1315","v":0},0,0,0,0,0,0,0,0,0,0,0,0,0,0,0,0,0,0,0]
[{"$nulls":3},"total opp attacks w/o riposte",{"$f":"IF(E163>=1,0,MIN(1,E414+E406+E407+E408+E409+E410+E412))*IF(E413,3,1)","v":0},0,0,0,0,0,0,0,0,0,0,0,0,0,0,0,0,0,0,0]
[{"$nulls":3},"actual riposte opp attacks used",{"$f":"MAX(0,MIN(E415,1-E416))","v":0},{"$f":"MAX(0,MIN(F415,1-F416))","v":0},0,0,0,0,0,0,0,0,0,0,0,0,0,0,0,0,0,0]
[{"$nulls":3},"avg number of opp attacks (feat based)",{"$f":"IF(E163>=1,0,MIN(1,E414+E406+E407+E408+E409+E410+E412+E417))*IF(E413,3,1)","v":0},0,0,0,0,0,0,0,0,0,0,0,0,0,0,0,0,0,0,0,null,"opp atts that don't allow BB: "]
[{"$nulls":3},"avg number of opp attacks allowing Booming Blade",{"$f":"IF(E163>=1,0,MIN(1,IF(E402=0,E406+E407,0)+E410+E414))","v":0},0,0,0,0,0,0,0,0,0,0,0,0,0,0,0,0,0,0,0,null,"   range 10' reach movement (equipping a polearm)"]
[{"$nulls":25},"   riposte"]
[{"$nulls":3},"SPELL ATTACKS  (based on max of Int, Wis, Cha)",{"$nulls":21},"   cavalier abilities"]
[{"$nulls":3},"spell hit bonus (bless, spell focus bonus)",{"$f":"E356*E270*2.5/('Base Numbers'!$C$5*'Base Numbers'!$C$6)+E363+E1151/IF(E677>=1,E682,1)","v":0},{"$f":"F356*F270*2.5/('Base Numbers'!$C$5*'Base Numbers'!$C$6)+F363+F1151/IF(F677>=1,F682,1)","v":0},{"$f":"G356*G270*2.5/('Base Numbers'!$C$5*'Base Numbers'!$C$6)+G363+G1151/IF(G677>=1,G682,1)","v":0},{"$f":"H356*H270*2.5/('Base Numbers'!$C$5*'Base Numbers'!$C$6)+H363+H1151/IF(H677>=1,H682,1)","v":0},{"$f":"I356*I270*2.5/('Base Numbers'!$C$5*'Base Numbers'!$C$6)+I363+I1151/IF(I677>=1,I682,1)","v":0},{"$f":"J356*J270*2.5/('Base Numbers'!$C$5*'Base Numbers'!$C$6)+J363+J1151/IF(J677>=1,J682,1)","v":0},{"$f":"K356*K270*2.5/('Base Numbers'!$C$5*'Base Numbers'!$C$6)+K363+K1151/IF(K677>=1,K682,1)","v":0},{"$f":"L356*L270*2.5/('Base Numbers'!$C$5*'Base Numbers'!$C$6)+L363+L1151/IF(L677>=1,L682,1)","v":0},{"$f":"M356*M270*2.5/('Base Numbers'!$C$5*'Base Numbers'!$C$6)+M363+M1151/IF(M677>=1,M682,1)","v":0},{"$f":"N356*N270*2.5/('Base Numbers'!$C$5*'Base Numbers'!$C$6)+N363+N1151/IF(N677>=1,N682,1)","v":0},{"$f":"O356*O270*2.5/('Base Numbers'!$C$5*'Base Numbers'!$C$6)+O363+O1151/IF(O677>=1,O682,1)","v":0},{"$f":"P356*P270*2.5/('Base Numbers'!$C$5*'Base Numbers'!$C$6)+P363+P1151/IF(P677>=1,P682,1)","v":0},{"$f":"Q356*Q270*2.5/('Base Numbers'!$C$5*'Base Numbers'!$C$6)+Q363+Q1151/IF(Q677>=1,Q682,1)","v":0},{"$f":"R356*R270*2.5/('Base Numbers'!$C$5*'Base Numbers'!$C$6)+R363+R1151/IF(R677>=1,R682,1)","v":0},{"$f":"S356*S270*2.5/('Base Numbers'!$C$5*'Base Numbers'!$C$6)+S363+S1151/IF(S677>=1,S682,1)","v":0},{"$f":"T356*T270*2.5/('Base Numbers'!$C$5*'Base Numbers'!$C$6)+T363+T1151/IF(T677>=1,T682,1)","v":0},{"$f":"U356*U270*2.5/('Base Numbers'!$C$5*'Base Numbers'!$C$6)+U363+U1151/IF(U677>=1,U682,1)","v":0},{"$f":"V356*V270*2.5/('Base Numbers'!$C$5*'Base Numbers'!$C$6)+V363+V1151/IF(V677>=1,V682,1)","v":0},{"$f":"W356*W270*2.5/('Base Numbers'!$C$5*'Base Numbers'!$C$6)+W363+W1151/IF(W677>=1,W682,1)","v":0},{"$f":"X356*X270*2.5/('Base Numbers'!$C$5*'Base Numbers'!$C$6)+X363+X1151/IF(X677>=1,X682,1)","v":0},null,"   PAM feat when used with a reach weapon"]
[{"$nulls":3},"spell hit bonus (bless) on Bonus attacks",{"$f":"(1+E356)*E270*2.5/('Base Numbers'!$C$5*'Base Numbers'!$C$6)+E363","v":0},{"$f":"(1+F356)*F270*2.5/('Base Numbers'!$C$5*'Base Numbers'!$C$6)+F363","v":0},{"$f":"(1+G356)*G270*2.5/('Base Numbers'!$C$5*'Base Numbers'!$C$6)+G363","v":0},{"$f":"(1+H356)*H270*2.5/('Base Numbers'!$C$5*'Base Numbers'!$C$6)+H363","v":0},{"$f":"(1+I356)*I270*2.5/('Base Numbers'!$C$5*'Base Numbers'!$C$6)+I363","v":0},{"$f":"(1+J356)*J270*2.5/('Base Numbers'!$C$5*'Base Numbers'!$C$6)+J363","v":0},{"$f":"(1+K356)*K270*2.5/('Base Numbers'!$C$5*'Base Numbers'!$C$6)+K363","v":0},{"$f":"(1+L356)*L270*2.5/('Base Numbers'!$C$5*'Base Numbers'!$C$6)+L363","v":0},{"$f":"(1+M356)*M270*2.5/('Base Numbers'!$C$5*'Base Numbers'!$C$6)+M363","v":0},{"$f":"(1+N356)*N270*2.5/('Base Numbers'!$C$5*'Base Numbers'!$C$6)+N363","v":0},{"$f":"(1+O356)*O270*2.5/('Base Numbers'!$C$5*'Base Numbers'!$C$6)+O363","v":0},{"$f":"(1+P356)*P270*2.5/('Base Numbers'!$C$5*'Base Numbers'!$C$6)+P363","v":0},{"$f":"(1+Q356)*Q270*2.5/('Base Numbers'!$C$5*'Base Numbers'!$C$6)+Q363","v":0},{"$f":"(1+R356)*R270*2.5/('Base Numbers'!$C$5*'Base Numbers'!$C$6)+R363","v":0},{"$f":"(1+S356)*S270*2.5/('Base Numbers'!$C$5*'Base Numbers'!$C$6)+S363","v":0},{"$f":"(1+T356)*T270*2.5/('Base Numbers'!$C$5*'Base Numbers'!$C$6)+T363","v":0},{"$f":"(1+U356)*U270*2.5/('Base Numbers'!$C$5*'Base Numbers'!$C$6)+U363","v":0},{"$f":"(1+V356)*V270*2.5/('Base Numbers'!$C$5*'Base Numbers'!$C$6)+V363","v":0},{"$f":"(1+W356)*W270*2.5/('Base Numbers'!$C$5*'Base Numbers'!$C$6)+W363","v":0},{"$f":"(1+X356)*X270*2.5/('Base Numbers'!$C$5*'Base Numbers'!$C$6)+X363","v":0},null,"   sentinel attacks from target attacking a different target"]
[{"$nulls":3},"spell one die hit chance",{"$f":"MIN(0.95,1-(E153-1-MAX(E36,E37,E38)-E39-E422)/20)+IF($B$52,0.05*MIN(0.95,1-(E153-1-MAX(E36,E37,E38)-E39-E422)/20))","v":0.65},{"$f":"MIN(0.95,1-(F153-1-MAX(F36,F37,F38)-F39-F422)/20)+IF($B$52,0.05*MIN(0.95,1-(F153-1-MAX(F36,F37,F38)-F39-F422)/20))","v":0.65},0.6,0.6,0.65,0.6,0.6,0.6,0.6,0.6,0.6,0.55,0.6,0.6,0.55,0.55,0.6,0.55,0.55,0.55,null,"   echo knight echo-location attacks"]
[{"$nulls":3},"spell one die hit chance on Bonus attacks",{"$f":"MIN(0.95,1-(E153-1-MAX(E36,E37,E38)-E39-E423)/20)+IF($B$52,0.05*MIN(0.95,1-(E153-1-MAX(E36,E37,E38)-E39-E423)/20))","v":0.65},0.65,0.6,0.6,0.65,0.6,0.6,0.6,0.6,0.6,0.6,0.55,0.6,0.6,0.55,0.55,0.6,0.55,0.55,0.55,null,"*spell hit bonus for emboldened bond averaged over number of eld blasts, or is just 1"]
[{"$nulls":3},"spell hit chance on Advantage Attacks",{"$f":"1-((E153-1-MAX(E36,E37,E38)-E39-E422)/20)^E504+IF($B$52,0.05^E504*(1-(E153-1-MAX(E36,E37,E38)-E39-E422)/20))","v":0.8775000000000001},0.8775000000000001,0.84,0.84,0.8775000000000001,0.84,0.84,0.84,0.84,0.84,0.84,0.7975,0.84,0.84,0.7975,0.7975,0.84,0.7975,0.7975,0.7975]
[{"$nulls":3},"spell hit chance on Adv Bonus Attacks",{"$f":"1-((E153-1-MAX(E36,E37,E38)-E39-E423)/20)^E504+IF($B$52,0.05^E504*(1-(E153-1-MAX(E36,E37,E38)-E39-E423)/20))","v":0.8775000000000001},0.8775000000000001,0.84,0.84,0.8775000000000001,0.84,0.84,0.84,0.84,0.84,0.84,0.7975,0.84,0.84,0.7975,0.7975,0.84,0.7975,0.7975,0.7975]
[{"$nulls":3},"spell one die hit chance with Disadv attacks",{"$f":"(1-(E153-1-MAX(E36,E37,E38)-E39-E422)/20)^2+IF($B$52,(1-0.95^2)*(1-(E153-1-MAX(E36,E37,E38)-E39-E422)/20))","v":0.42250000000000004},0.42250000000000004,0.36,0.36,0.42250000000000004,0.36,0.36,0.36,0.36,0.36,0.36,0.30250000000000005,0.36,0.36,0.30250000000000005,0.30250000000000005,0.36,0.30250000000000005,0.30250000000000005,0.30250000000000005]
[{"$nulls":3},"spell one die hit chance with Disadv Bonus attacks",{"$f":"(1-(E153-1-MAX(E36,E37,E38)-E39-E423)/20)^2+IF($B$52,(1-0.95^2)*(1-(E153-1-MAX(E36,E37,E38)-E39-E423)/20))","v":0.42250000000000004},0.42250000000000004,0.36,0.36,0.42250000000000004,0.36,0.36,0.36,0.36,0.36,0.36,0.30250000000000005,0.36,0.36,0.30250000000000005,0.30250000000000005,0.36,0.30250000000000005,0.30250000000000005,0.30250000000000005]
[]
[{"$nulls":3},"PRONING ATTACKS"]
[{"$nulls":3},"fighter cavalier charge attacks (L15)",{"$f":"IF(AND(E10>=15,E62),'Base Numbers'!$C$5*'Base Numbers'!$C$6,0)","v":0},{"$f":"IF(AND(F10>=15,F62),'Base Numbers'!$C$5*'Base Numbers'!$C$6,0)","v":0},{"$f":"IF(AND(G10>=15,G62),'Base Numbers'!$C$5*'Base Numbers'!$C$6,0)","v":0},{"$f":"IF(AND(H10>=15,H62),'Base Numbers'!$C$5*'Base Numbers'!$C$6,0)","v":0},{"$f":"IF(AND(I10>=15,I62),'Base Numbers'!$C$5*'Base Numbers'!$C$6,0)","v":0},{"$f":"IF(AND(J10>=15,J62),'Base Numbers'!$C$5*'Base Numbers'!$C$6,0)","v":0},{"$f":"IF(AND(K10>=15,K62),'Base Numbers'!$C$5*'Base Numbers'!$C$6,0)","v":0},{"$f":"IF(AND(L10>=15,L62),'Base Numbers'!$C$5*'Base Numbers'!$C$6,0)","v":0},{"$f":"IF(AND(M10>=15,M62),'Base Numbers'!$C$5*'Base Numbers'!$C$6,0)","v":0},{"$f":"IF(AND(N10>=15,N62),'Base Numbers'!$C$5*'Base Numbers'!$C$6,0)","v":0},{"$f":"IF(AND(O10>=15,O62),'Base Numbers'!$C$5*'Base Numbers'!$C$6,0)","v":0},{"$f":"IF(AND(P10>=15,P62),'Base Numbers'!$C$5*'Base Numbers'!$C$6,0)","v":0},{"$f":"IF(AND(Q10>=15,Q62),'Base Numbers'!$C$5*'Base Numbers'!$C$6,0)","v":0},{"$f":"IF(AND(R10>=15,R62),'Base Numbers'!$C$5*'Base Numbers'!$C$6,0)","v":0},{"$f":"IF(AND(S10>=15,S62),'Base Numbers'!$C$5*'Base Numbers'!$C$6,0)","v":0},{"$f":"IF(AND(T10>=15,T62),'Base Numbers'!$C$5*'Base Numbers'!$C$6,0)","v":0},{"$f":"IF(AND(U10>=15,U62),'Base Numbers'!$C$5*'Base Numbers'!$C$6,0)","v":0},{"$f":"IF(AND(V10>=15,V62),'Base Numbers'!$C$5*'Base Numbers'!$C$6,0)","v":0},{"$f":"IF(AND(W10>=15,W62),'Base Numbers'!$C$5*'Base Numbers'!$C$6,0)","v":0},{"$f":"IF(AND(X10>=15,X62),'Base Numbers'!$C$5*'Base Numbers'!$C$6,0)","v":0}]
[{"$nulls":3},"number of fighter battlemaster trip attacks",0,0,0,0,0,0,0,0,0,0,0,0,0,0,0,0,0,0,0,0,null,"battlemaster trip attacks calculated post-MaxDamageScenarios under Fighter."]
[{"$nulls":3},"number of fighter psoinic strike prone attempts",{"$f":"IF(AND(E10>=7,E63),E1334,0)","v":0},0,0,0,0,0,0,0,0,0,0,0,0,0,0,0,0,0,0,0]
[{"$nulls":3},"thunderous smite",{"$f":"E285","v":0},0,0,0,0,0,0,0,0,0,0,0,0,0,0,0,0,0,0,0]
[{"$nulls":3},"number of prone attempts adjusted for fights with proneable targets",{"$f":"MAX(0,MIN('Caster Tables'!C87*'Base Numbers'!$C$6*'Base Numbers'!$C$5,(E433+E432+E435+E434)))","v":0},{"$f":"MAX(0,MIN('Caster Tables'!D87*'Base Numbers'!$C$6*'Base Numbers'!$C$5,(F433+F432+F435+F434)))","v":0},{"$f":"MAX(0,MIN('Caster Tables'!E87*'Base Numbers'!$C$6*'Base Numbers'!$C$5,(G433+G432+G435+G434)))","v":0},{"$f":"MAX(0,MIN('Caster Tables'!F87*'Base Numbers'!$C$6*'Base Numbers'!$C$5,(H433+H432+H435+H434)))","v":0},{"$f":"MAX(0,MIN('Caster Tables'!G87*'Base Numbers'!$C$6*'Base Numbers'!$C$5,(I433+I432+I435+I434)))","v":0},{"$f":"MAX(0,MIN('Caster Tables'!H87*'Base Numbers'!$C$6*'Base Numbers'!$C$5,(J433+J432+J435+J434)))","v":0},{"$f":"MAX(0,MIN('Caster Tables'!I87*'Base Numbers'!$C$6*'Base Numbers'!$C$5,(K433+K432+K435+K434)))","v":0},{"$f":"MAX(0,MIN('Caster Tables'!J87*'Base Numbers'!$C$6*'Base Numbers'!$C$5,(L433+L432+L435+L434)))","v":0},{"$f":"MAX(0,MIN('Caster Tables'!K87*'Base Numbers'!$C$6*'Base Numbers'!$C$5,(M433+M432+M435+M434)))","v":0},{"$f":"MAX(0,MIN('Caster Tables'!L87*'Base Numbers'!$C$6*'Base Numbers'!$C$5,(N433+N432+N435+N434)))","v":0},{"$f":"MAX(0,MIN('Caster Tables'!M87*'Base Numbers'!$C$6*'Base Numbers'!$C$5,(O433+O432+O435+O434)))","v":0},{"$f":"MAX(0,MIN('Caster Tables'!N87*'Base Numbers'!$C$6*'Base Numbers'!$C$5,(P433+P432+P435+P434)))","v":0},{"$f":"MAX(0,MIN('Caster Tables'!O87*'Base Numbers'!$C$6*'Base Numbers'!$C$5,(Q433+Q432+Q435+Q434)))","v":0},{"$f":"MAX(0,MIN('Caster Tables'!P87*'Base Numbers'!$C$6*'Base Numbers'!$C$5,(R433+R432+R435+R434)))","v":0},{"$f":"MAX(0,MIN('Caster Tables'!Q87*'Base Numbers'!$C$6*'Base Numbers'!$C$5,(S433+S432+S435+S434)))","v":0},{"$f":"MAX(0,MIN('Caster Tables'!R87*'Base Numbers'!$C$6*'Base Numbers'!$C$5,(T433+T432+T435+T434)))","v":0},{"$f":"MAX(0,MIN('Caster Tables'!S87*'Base Numbers'!$C$6*'Base Numbers'!$C$5,(U433+U432+U435+U434)))","v":0},{"$f":"MAX(0,MIN('Caster Tables'!T87*'Base Numbers'!$C$6*'Base Numbers'!$C$5,(V433+V432+V435+V434)))","v":0},{"$f":"MAX(0,MIN('Caster Tables'!U87*'Base Numbers'!$C$6*'Base Numbers'!$C$5,(W433+W432+W435+W434)))","v":0},{"$f":"MAX(0,MIN('Caster Tables'!V87*'Base Numbers'!$C$6*'Base Numbers'!$C$5,(X433+X432+X435+X434)))","v":0},null,"* based on either size H, G, or immune to Prone"]
[{"$nulls":3},"monster STR save prob vs. STR/WIS/CHA save",{"$f":"1-(8+E39+MAX(E38,E36,E34)-1-'Caster Tables'!C73)/20","v":0.4099999999999999},{"$f":"1-(8+F39+MAX(F38,F36,F34)-1-'Caster Tables'!D73)/20","v":0.43499999999999994},{"$f":"1-(8+G39+MAX(G38,G36,G34)-1-'Caster Tables'!E73)/20","v":0.475},{"$f":"1-(8+H39+MAX(H38,H36,H34)-1-'Caster Tables'!F73)/20","v":0.51},{"$f":"1-(8+I39+MAX(I38,I36,I34)-1-'Caster Tables'!G73)/20","v":0.475},{"$f":"1-(8+J39+MAX(J38,J36,J34)-1-'Caster Tables'!H73)/20","v":0.5},{"$f":"1-(8+K39+MAX(K38,K36,K34)-1-'Caster Tables'!I73)/20","v":0.5},{"$f":"1-(8+L39+MAX(L38,L36,L34)-1-'Caster Tables'!J73)/20","v":0.515},{"$f":"1-(8+M39+MAX(M38,M36,M34)-1-'Caster Tables'!K73)/20","v":0.48},{"$f":"1-(8+N39+MAX(N38,N36,N34)-1-'Caster Tables'!L73)/20","v":0.5},{"$f":"1-(8+O39+MAX(O38,O36,O34)-1-'Caster Tables'!M73)/20","v":0.515},{"$f":"1-(8+P39+MAX(P38,P36,P34)-1-'Caster Tables'!N73)/20","v":0.53},{"$f":"1-(8+Q39+MAX(Q38,Q36,Q34)-1-'Caster Tables'!O73)/20","v":0.5},{"$f":"1-(8+R39+MAX(R38,R36,R34)-1-'Caster Tables'!P73)/20","v":0.51},{"$f":"1-(8+S39+MAX(S38,S36,S34)-1-'Caster Tables'!Q73)/20","v":0.52},{"$f":"1-(8+T39+MAX(T38,T36,T34)-1-'Caster Tables'!R73)/20","v":0.53},{"$f":"1-(8+U39+MAX(U38,U36,U34)-1-'Caster Tables'!S73)/20","v":0.49},{"$f":"1-(8+V39+MAX(V38,V36,V34)-1-'Caster Tables'!T73)/20","v":0.5},{"$f":"1-(8+W39+MAX(W38,W36,W34)-1-'Caster Tables'!U73)/20","v":0.55},{"$f":"1-(8+X39+MAX(X38,X36,X34)-1-'Caster Tables'!V73)/20","v":0.6}]
[{"$nulls":3},"monster STR save prob vs. psoinic strike (INT)",{"$f":"1-(8+E39+E37-1-'Caster Tables'!C73)/20","v":0.4099999999999999},{"$f":"1-(8+F39+F37-1-'Caster Tables'!D73)/20","v":0.43499999999999994},{"$f":"1-(8+G39+G37-1-'Caster Tables'!E73)/20","v":0.475},{"$f":"1-(8+H39+H37-1-'Caster Tables'!F73)/20","v":0.51},{"$f":"1-(8+I39+I37-1-'Caster Tables'!G73)/20","v":0.475},{"$f":"1-(8+J39+J37-1-'Caster Tables'!H73)/20","v":0.5},{"$f":"1-(8+K39+K37-1-'Caster Tables'!I73)/20","v":0.5},{"$f":"1-(8+L39+L37-1-'Caster Tables'!J73)/20","v":0.515},{"$f":"1-(8+M39+M37-1-'Caster Tables'!K73)/20","v":0.48},{"$f":"1-(8+N39+N37-1-'Caster Tables'!L73)/20","v":0.5},{"$f":"1-(8+O39+O37-1-'Caster Tables'!M73)/20","v":0.515},{"$f":"1-(8+P39+P37-1-'Caster Tables'!N73)/20","v":0.53},{"$f":"1-(8+Q39+Q37-1-'Caster Tables'!O73)/20","v":0.5},{"$f":"1-(8+R39+R37-1-'Caster Tables'!P73)/20","v":0.51},{"$f":"1-(8+S39+S37-1-'Caster Tables'!Q73)/20","v":0.52},{"$f":"1-(8+T39+T37-1-'Caster Tables'!R73)/20","v":0.53},{"$f":"1-(8+U39+U37-1-'Caster Tables'!S73)/20","v":0.49},{"$f":"1-(8+V39+V37-1-'Caster Tables'!T73)/20","v":0.5},{"$f":"1-(8+W39+W37-1-'Caster Tables'!U73)/20","v":0.55},{"$f":"1-(8+X39+X37-1-'Caster Tables'!V73)/20","v":0.6}]
[{"$nulls":3},"prob of at least one target proned by destructive wave",{"$f":"1-E736^'Base Numbers'!$G$20","v":0.8641588703668878},{"$f":"1-F736^'Base Numbers'!$G$20","v":0.8444987000154822},{"$f":"1-G736^'Base Numbers'!$G$20","v":0.8232233047033631},{"$f":"1-H736^'Base Numbers'!$G$20","v":0.8002907142165767},{"$f":"1-I736^'Base Numbers'!$G$20","v":0.8232233047033631},{"$f":"1-J736^'Base Numbers'!$G$20","v":0.8002907142165767},{"$f":"1-K736^'Base Numbers'!$G$20","v":0.7756599957653562},{"$f":"1-L736^'Base Numbers'!$G$20","v":0.7492911806310456},{"$f":"1-M736^'Base Numbers'!$G$20","v":0.7756599957653562},{"$f":"1-N736^'Base Numbers'!$G$20","v":0.7492911806310456},{"$f":"1-O736^'Base Numbers'!$G$20","v":0.721145199073066},{"$f":"1-P736^'Base Numbers'!$G$20","v":0.6911838222491817},{"$f":"1-Q736^'Base Numbers'!$G$20","v":0.721145199073066},{"$f":"1-R736^'Base Numbers'!$G$20","v":0.6593696101343862},{"$f":"1-S736^'Base Numbers'!$G$20","v":0.5900365869983031},{"$f":"1-T736^'Base Numbers'!$G$20","v":0.5128607103712532},{"$f":"1-U736^'Base Numbers'!$G$20","v":0.5128607103712532},{"$f":"1-V736^'Base Numbers'!$G$20","v":0.4275665977600538},{"$f":"1-W736^'Base Numbers'!$G$20","v":0.33388791296058895},{"$f":"1-X736^'Base Numbers'!$G$20","v":0.33388791296058895}]
[{"$nulls":3},"targets proned by destructive wave per day (boost bonus attack only)",{"$f":"E278*E439","v":0},0,0,0,0,0,0,0,0,0,0,0,0,0,0,0,0,0,0,0,null,"* this gets included directly into the bonus attack adv from prone"]
[{"$nulls":3},"number of successful proning attacks",{"$f":"IF(E434>=E435,E436*(1-E438),E436*(1-E437))","v":0},{"$f":"IF(F434>=F435,F436*(1-F438),F436*(1-F437))","v":0},0,0,0,0,0,0,0,0,0,0,0,0,0,0,0,0,0,0]
[{"$nulls":3},"pct rounds w/ prone target",{"$f":"E441/('Base Numbers'!$C$5*'Base Numbers'!$C$6)","v":0},{"$f":"F441/('Base Numbers'!$C$5*'Base Numbers'!$C$6)","v":0},{"$f":"G441/('Base Numbers'!$C$5*'Base Numbers'!$C$6)","v":0},{"$f":"H441/('Base Numbers'!$C$5*'Base Numbers'!$C$6)","v":0},{"$f":"I441/('Base Numbers'!$C$5*'Base Numbers'!$C$6)","v":0},{"$f":"J441/('Base Numbers'!$C$5*'Base Numbers'!$C$6)","v":0},{"$f":"K441/('Base Numbers'!$C$5*'Base Numbers'!$C$6)","v":0},{"$f":"L441/('Base Numbers'!$C$5*'Base Numbers'!$C$6)","v":0},{"$f":"M441/('Base Numbers'!$C$5*'Base Numbers'!$C$6)","v":0},{"$f":"N441/('Base Numbers'!$C$5*'Base Numbers'!$C$6)","v":0},{"$f":"O441/('Base Numbers'!$C$5*'Base Numbers'!$C$6)","v":0},{"$f":"P441/('Base Numbers'!$C$5*'Base Numbers'!$C$6)","v":0},{"$f":"Q441/('Base Numbers'!$C$5*'Base Numbers'!$C$6)","v":0},{"$f":"R441/('Base Numbers'!$C$5*'Base Numbers'!$C$6)","v":0},{"$f":"S441/('Base Numbers'!$C$5*'Base Numbers'!$C$6)","v":0},{"$f":"T441/('Base Numbers'!$C$5*'Base Numbers'!$C$6)","v":0},{"$f":"U441/('Base Numbers'!$C$5*'Base Numbers'!$C$6)","v":0},{"$f":"V441/('Base Numbers'!$C$5*'Base Numbers'!$C$6)","v":0},{"$f":"W441/('Base Numbers'!$C$5*'Base Numbers'!$C$6)","v":0},{"$f":"X441/('Base Numbers'!$C$5*'Base Numbers'!$C$6)","v":0}]
[]
[{"$nulls":3},"DARKNESS AND OBSCUREMENT (darkness and fog cloud/pyrotechnics spells)"]
[{"$nulls":3},"can see in magical darkness (Shadow Sorc, Warl L2, Rogue 14, Ranger 18)",{"$f":"IF(OR(AND($B$59>0,E6>=$B$59),AND($B$69>0,$B$69<=E6),AND(E13>=3,E43),E9>=18,E11>=14),1,0)","v":0},0,0,0,0,0,0,0,0,0,0,0,0,0,0,0,0,0,0,0,null,"* also a high level rogue/ranger skill"]
[{"$nulls":3},"can see in total obscurement (Blindfighting)",{"$f":"IF(OR(E9>=18,E11>=14,AND($B$59>0,E6>=$B$59)),1,0)","v":0},0,0,0,0,0,0,0,0,0,0,0,0,0,0,0,0,0,0,0]
[{"$nulls":3},"pct of actions in obscurement vs. targets w/o blindsight",{"$f":"IF(E455>0,MAX(0,MIN(E267*('Base Numbers'!$C$6-1)/E455,E459/2),MIN(E266*(E353)/E455,E459/2)),0)","v":0},{"$f":"IF(F455>0,MAX(0,MIN(F267*('Base Numbers'!$C$6-1)/F455,F459/2),MIN(F266*(F353)/F455,F459/2)),0)","v":0},{"$f":"IF(G455>0,MAX(0,MIN(G267*('Base Numbers'!$C$6-1)/G455,G459/2),MIN(G266*(G353)/G455,G459/2)),0)","v":0},{"$f":"IF(H455>0,MAX(0,MIN(H267*('Base Numbers'!$C$6-1)/H455,H459/2),MIN(H266*(H353)/H455,H459/2)),0)","v":0},{"$f":"IF(I455>0,MAX(0,MIN(I267*('Base Numbers'!$C$6-1)/I455,I459/2),MIN(I266*(I353)/I455,I459/2)),0)","v":0},{"$f":"IF(J455>0,MAX(0,MIN(J267*('Base Numbers'!$C$6-1)/J455,J459/2),MIN(J266*(J353)/J455,J459/2)),0)","v":0},{"$f":"IF(K455>0,MAX(0,MIN(K267*('Base Numbers'!$C$6-1)/K455,K459/2),MIN(K266*(K353)/K455,K459/2)),0)","v":0},{"$f":"IF(L455>0,MAX(0,MIN(L267*('Base Numbers'!$C$6-1)/L455,L459/2),MIN(L266*(L353)/L455,L459/2)),0)","v":0},{"$f":"IF(M455>0,MAX(0,MIN(M267*('Base Numbers'!$C$6-1)/M455,M459/2),MIN(M266*(M353)/M455,M459/2)),0)","v":0},{"$f":"IF(N455>0,MAX(0,MIN(N267*('Base Numbers'!$C$6-1)/N455,N459/2),MIN(N266*(N353)/N455,N459/2)),0)","v":0},{"$f":"IF(O455>0,MAX(0,MIN(O267*('Base Numbers'!$C$6-1)/O455,O459/2),MIN(O266*(O353)/O455,O459/2)),0)","v":0},{"$f":"IF(P455>0,MAX(0,MIN(P267*('Base Numbers'!$C$6-1)/P455,P459/2),MIN(P266*(P353)/P455,P459/2)),0)","v":0},{"$f":"IF(Q455>0,MAX(0,MIN(Q267*('Base Numbers'!$C$6-1)/Q455,Q459/2),MIN(Q266*(Q353)/Q455,Q459/2)),0)","v":0},{"$f":"IF(R455>0,MAX(0,MIN(R267*('Base Numbers'!$C$6-1)/R455,R459/2),MIN(R266*(R353)/R455,R459/2)),0)","v":0},{"$f":"IF(S455>0,MAX(0,MIN(S267*('Base Numbers'!$C$6-1)/S455,S459/2),MIN(S266*(S353)/S455,S459/2)),0)","v":0},{"$f":"IF(T455>0,MAX(0,MIN(T267*('Base Numbers'!$C$6-1)/T455,T459/2),MIN(T266*(T353)/T455,T459/2)),0)","v":0},{"$f":"IF(U455>0,MAX(0,MIN(U267*('Base Numbers'!$C$6-1)/U455,U459/2),MIN(U266*(U353)/U455,U459/2)),0)","v":0},{"$f":"IF(V455>0,MAX(0,MIN(V267*('Base Numbers'!$C$6-1)/V455,V459/2),MIN(V266*(V353)/V455,V459/2)),0)","v":0},{"$f":"IF(W455>0,MAX(0,MIN(W267*('Base Numbers'!$C$6-1)/W455,W459/2),MIN(W266*(W353)/W455,W459/2)),0)","v":0},{"$f":"IF(X455>0,MAX(0,MIN(X267*('Base Numbers'!$C$6-1)/X455,X459/2),MIN(X266*(X353)/X455,X459/2)),0)","v":0},null,"* limited by pct of fights w/o tremorsense or blindsight"]
[{"$nulls":3},"pct of actions in darkness vs. targets w/o truesight",{"$f":"IF(E455>0,MAX(0,MIN(E268*(E353)/E455,E457)),0)","v":0},0,0,0,0,0,0,0,0,0,0,0,0,0,0,0,0,0,0,0,null,"* limited by pct of fights w/o truesight or blindsight"]
[{"$nulls":3},"pct of bonus actions in obscurement vs. targets w/o blindsight",{"$f":"IF(E456>0,MAX(0,MIN(E267*('Base Numbers'!$C$6)/E456,E460/2),MIN(E266*(E353+1)/E456,E460/2)),0)","v":0},{"$f":"IF(F456>0,MAX(0,MIN(F267*('Base Numbers'!$C$6)/F456,F460/2),MIN(F266*(F353+1)/F456,F460/2)),0)","v":0},{"$f":"IF(G456>0,MAX(0,MIN(G267*('Base Numbers'!$C$6)/G456,G460/2),MIN(G266*(G353+1)/G456,G460/2)),0)","v":0},{"$f":"IF(H456>0,MAX(0,MIN(H267*('Base Numbers'!$C$6)/H456,H460/2),MIN(H266*(H353+1)/H456,H460/2)),0)","v":0},{"$f":"IF(I456>0,MAX(0,MIN(I267*('Base Numbers'!$C$6)/I456,I460/2),MIN(I266*(I353+1)/I456,I460/2)),0)","v":0},{"$f":"IF(J456>0,MAX(0,MIN(J267*('Base Numbers'!$C$6)/J456,J460/2),MIN(J266*(J353+1)/J456,J460/2)),0)","v":0},{"$f":"IF(K456>0,MAX(0,MIN(K267*('Base Numbers'!$C$6)/K456,K460/2),MIN(K266*(K353+1)/K456,K460/2)),0)","v":0},{"$f":"IF(L456>0,MAX(0,MIN(L267*('Base Numbers'!$C$6)/L456,L460/2),MIN(L266*(L353+1)/L456,L460/2)),0)","v":0},{"$f":"IF(M456>0,MAX(0,MIN(M267*('Base Numbers'!$C$6)/M456,M460/2),MIN(M266*(M353+1)/M456,M460/2)),0)","v":0},{"$f":"IF(N456>0,MAX(0,MIN(N267*('Base Numbers'!$C$6)/N456,N460/2),MIN(N266*(N353+1)/N456,N460/2)),0)","v":0},{"$f":"IF(O456>0,MAX(0,MIN(O267*('Base Numbers'!$C$6)/O456,O460/2),MIN(O266*(O353+1)/O456,O460/2)),0)","v":0},{"$f":"IF(P456>0,MAX(0,MIN(P267*('Base Numbers'!$C$6)/P456,P460/2),MIN(P266*(P353+1)/P456,P460/2)),0)","v":0},{"$f":"IF(Q456>0,MAX(0,MIN(Q267*('Base Numbers'!$C$6)/Q456,Q460/2),MIN(Q266*(Q353+1)/Q456,Q460/2)),0)","v":0},{"$f":"IF(R456>0,MAX(0,MIN(R267*('Base Numbers'!$C$6)/R456,R460/2),MIN(R266*(R353+1)/R456,R460/2)),0)","v":0},{"$f":"IF(S456>0,MAX(0,MIN(S267*('Base Numbers'!$C$6)/S456,S460/2),MIN(S266*(S353+1)/S456,S460/2)),0)","v":0},{"$f":"IF(T456>0,MAX(0,MIN(T267*('Base Numbers'!$C$6)/T456,T460/2),MIN(T266*(T353+1)/T456,T460/2)),0)","v":0},{"$f":"IF(U456>0,MAX(0,MIN(U267*('Base Numbers'!$C$6)/U456,U460/2),MIN(U266*(U353+1)/U456,U460/2)),0)","v":0},{"$f":"IF(V456>0,MAX(0,MIN(V267*('Base Numbers'!$C$6)/V456,V460/2),MIN(V266*(V353+1)/V456,V460/2)),0)","v":0},{"$f":"IF(W456>0,MAX(0,MIN(W267*('Base Numbers'!$C$6)/W456,W460/2),MIN(W266*(W353+1)/W456,W460/2)),0)","v":0},{"$f":"IF(X456>0,MAX(0,MIN(X267*('Base Numbers'!$C$6)/X456,X460/2),MIN(X266*(X353+1)/X456,X460/2)),0)","v":0},null,"can be defeated by enemies moving out of it, so a factor of 1/2 is used"]
[{"$nulls":3},"pct of bonus actions in darkness vs. targets w/o truesight",{"$f":"IF(E455>0,MAX(0,MIN(E268*(E353+1)/E455,E458)),0)","v":0},0,0,0,0,0,0,0,0,0,0,0,0,0,0,0,0,0,0,0]
[{"$nulls":3},"pct of reactions in obscurement vs. targets w/o blindsight",{"$f":"MAX(0,MIN(E267*'Base Numbers'!$C$6/('Base Numbers'!$C$5*'Base Numbers'!$C$6),'Caster Tables'!C83/2),MIN(E266*(E357)/('Base Numbers'!$C$5*'Base Numbers'!$C$6),'Caster Tables'!C83/2))","v":0},{"$f":"MAX(0,MIN(F267*'Base Numbers'!$C$6/('Base Numbers'!$C$5*'Base Numbers'!$C$6),'Caster Tables'!D83/2),MIN(F266*(F357)/('Base Numbers'!$C$5*'Base Numbers'!$C$6),'Caster Tables'!D83/2))","v":0},{"$f":"MAX(0,MIN(G267*'Base Numbers'!$C$6/('Base Numbers'!$C$5*'Base Numbers'!$C$6),'Caster Tables'!E83/2),MIN(G266*(G357)/('Base Numbers'!$C$5*'Base Numbers'!$C$6),'Caster Tables'!E83/2))","v":0},{"$f":"MAX(0,MIN(H267*'Base Numbers'!$C$6/('Base Numbers'!$C$5*'Base Numbers'!$C$6),'Caster Tables'!F83/2),MIN(H266*(H357)/('Base Numbers'!$C$5*'Base Numbers'!$C$6),'Caster Tables'!F83/2))","v":0},{"$f":"MAX(0,MIN(I267*'Base Numbers'!$C$6/('Base Numbers'!$C$5*'Base Numbers'!$C$6),'Caster Tables'!G83/2),MIN(I266*(I357)/('Base Numbers'!$C$5*'Base Numbers'!$C$6),'Caster Tables'!G83/2))","v":0},{"$f":"MAX(0,MIN(J267*'Base Numbers'!$C$6/('Base Numbers'!$C$5*'Base Numbers'!$C$6),'Caster Tables'!H83/2),MIN(J266*(J357)/('Base Numbers'!$C$5*'Base Numbers'!$C$6),'Caster Tables'!H83/2))","v":0},{"$f":"MAX(0,MIN(K267*'Base Numbers'!$C$6/('Base Numbers'!$C$5*'Base Numbers'!$C$6),'Caster Tables'!I83/2),MIN(K266*(K357)/('Base Numbers'!$C$5*'Base Numbers'!$C$6),'Caster Tables'!I83/2))","v":0},{"$f":"MAX(0,MIN(L267*'Base Numbers'!$C$6/('Base Numbers'!$C$5*'Base Numbers'!$C$6),'Caster Tables'!J83/2),MIN(L266*(L357)/('Base Numbers'!$C$5*'Base Numbers'!$C$6),'Caster Tables'!J83/2))","v":0},{"$f":"MAX(0,MIN(M267*'Base Numbers'!$C$6/('Base Numbers'!$C$5*'Base Numbers'!$C$6),'Caster Tables'!K83/2),MIN(M266*(M357)/('Base Numbers'!$C$5*'Base Numbers'!$C$6),'Caster Tables'!K83/2))","v":0},{"$f":"MAX(0,MIN(N267*'Base Numbers'!$C$6/('Base Numbers'!$C$5*'Base Numbers'!$C$6),'Caster Tables'!L83/2),MIN(N266*(N357)/('Base Numbers'!$C$5*'Base Numbers'!$C$6),'Caster Tables'!L83/2))","v":0},{"$f":"MAX(0,MIN(O267*'Base Numbers'!$C$6/('Base Numbers'!$C$5*'Base Numbers'!$C$6),'Caster Tables'!M83/2),MIN(O266*(O357)/('Base Numbers'!$C$5*'Base Numbers'!$C$6),'Caster Tables'!M83/2))","v":0},{"$f":"MAX(0,MIN(P267*'Base Numbers'!$C$6/('Base Numbers'!$C$5*'Base Numbers'!$C$6),'Caster Tables'!N83/2),MIN(P266*(P357)/('Base Numbers'!$C$5*'Base Numbers'!$C$6),'Caster Tables'!N83/2))","v":0},{"$f":"MAX(0,MIN(Q267*'Base Numbers'!$C$6/('Base Numbers'!$C$5*'Base Numbers'!$C$6),'Caster Tables'!O83/2),MIN(Q266*(Q357)/('Base Numbers'!$C$5*'Base Numbers'!$C$6),'Caster Tables'!O83/2))","v":0},{"$f":"MAX(0,MIN(R267*'Base Numbers'!$C$6/('Base Numbers'!$C$5*'Base Numbers'!$C$6),'Caster Tables'!P83/2),MIN(R266*(R357)/('Base Numbers'!$C$5*'Base Numbers'!$C$6),'Caster Tables'!P83/2))","v":0},{"$f":"MAX(0,MIN(S267*'Base Numbers'!$C$6/('Base Numbers'!$C$5*'Base Numbers'!$C$6),'Caster Tables'!Q83/2),MIN(S266*(S357)/('Base Numbers'!$C$5*'Base Numbers'!$C$6),'Caster Tables'!Q83/2))","v":0},{"$f":"MAX(0,MIN(T267*'Base Numbers'!$C$6/('Base Numbers'!$C$5*'Base Numbers'!$C$6),'Caster Tables'!R83/2),MIN(T266*(T357)/('Base Numbers'!$C$5*'Base Numbers'!$C$6),'Caster Tables'!R83/2))","v":0},{"$f":"MAX(0,MIN(U267*'Base Numbers'!$C$6/('Base Numbers'!$C$5*'Base Numbers'!$C$6),'Caster Tables'!S83/2),MIN(U266*(U357)/('Base Numbers'!$C$5*'Base Numbers'!$C$6),'Caster Tables'!S83/2))","v":0},{"$f":"MAX(0,MIN(V267*'Base Numbers'!$C$6/('Base Numbers'!$C$5*'Base Numbers'!$C$6),'Caster Tables'!T83/2),MIN(V266*(V357)/('Base Numbers'!$C$5*'Base Numbers'!$C$6),'Caster Tables'!T83/2))","v":0},{"$f":"MAX(0,MIN(W267*'Base Numbers'!$C$6/('Base Numbers'!$C$5*'Base Numbers'!$C$6),'Caster Tables'!U83/2),MIN(W266*(W357)/('Base Numbers'!$C$5*'Base Numbers'!$C$6),'Caster Tables'!U83/2))","v":0},{"$f":"MAX(0,MIN(X267*'Base Numbers'!$C$6/('Base Numbers'!$C$5*'Base Numbers'!$C$6),'Caster Tables'!V83/2),MIN(X266*(X357)/('Base Numbers'!$C$5*'Base Numbers'!$C$6),'Caster Tables'!V83/2))","v":0}]
[{"$nulls":3},"pct of reactions in darkness vs. targets w/o truesight",{"$f":"MAX(0,MIN(E268*(E357)/('Base Numbers'!$C$5*'Base Numbers'!$C$6),'Caster Tables'!C$71))","v":0},{"$f":"MAX(0,MIN(F268*(F357)/('Base Numbers'!$C$5*'Base Numbers'!$C$6),'Caster Tables'!D$71))","v":0},{"$f":"MAX(0,MIN(G268*(G357)/('Base Numbers'!$C$5*'Base Numbers'!$C$6),'Caster Tables'!E$71))","v":0},{"$f":"MAX(0,MIN(H268*(H357)/('Base Numbers'!$C$5*'Base Numbers'!$C$6),'Caster Tables'!F$71))","v":0},{"$f":"MAX(0,MIN(I268*(I357)/('Base Numbers'!$C$5*'Base Numbers'!$C$6),'Caster Tables'!G$71))","v":0},{"$f":"MAX(0,MIN(J268*(J357)/('Base Numbers'!$C$5*'Base Numbers'!$C$6),'Caster Tables'!H$71))","v":0},{"$f":"MAX(0,MIN(K268*(K357)/('Base Numbers'!$C$5*'Base Numbers'!$C$6),'Caster Tables'!I$71))","v":0},{"$f":"MAX(0,MIN(L268*(L357)/('Base Numbers'!$C$5*'Base Numbers'!$C$6),'Caster Tables'!J$71))","v":0},{"$f":"MAX(0,MIN(M268*(M357)/('Base Numbers'!$C$5*'Base Numbers'!$C$6),'Caster Tables'!K$71))","v":0},{"$f":"MAX(0,MIN(N268*(N357)/('Base Numbers'!$C$5*'Base Numbers'!$C$6),'Caster Tables'!L$71))","v":0},{"$f":"MAX(0,MIN(O268*(O357)/('Base Numbers'!$C$5*'Base Numbers'!$C$6),'Caster Tables'!M$71))","v":0},{"$f":"MAX(0,MIN(P268*(P357)/('Base Numbers'!$C$5*'Base Numbers'!$C$6),'Caster Tables'!N$71))","v":0},{"$f":"MAX(0,MIN(Q268*(Q357)/('Base Numbers'!$C$5*'Base Numbers'!$C$6),'Caster Tables'!O$71))","v":0},{"$f":"MAX(0,MIN(R268*(R357)/('Base Numbers'!$C$5*'Base Numbers'!$C$6),'Caster Tables'!P$71))","v":0},{"$f":"MAX(0,MIN(S268*(S357)/('Base Numbers'!$C$5*'Base Numbers'!$C$6),'Caster Tables'!Q$71))","v":0},{"$f":"MAX(0,MIN(T268*(T357)/('Base Numbers'!$C$5*'Base Numbers'!$C$6),'Caster Tables'!R$71))","v":0},{"$f":"MAX(0,MIN(U268*(U357)/('Base Numbers'!$C$5*'Base Numbers'!$C$6),'Caster Tables'!S$71))","v":0},{"$f":"MAX(0,MIN(V268*(V357)/('Base Numbers'!$C$5*'Base Numbers'!$C$6),'Caster Tables'!T$71))","v":0},{"$f":"MAX(0,MIN(W268*(W357)/('Base Numbers'!$C$5*'Base Numbers'!$C$6),'Caster Tables'!U$71))","v":0},{"$f":"MAX(0,MIN(X268*(X357)/('Base Numbers'!$C$5*'Base Numbers'!$C$6),'Caster Tables'!V$71))","v":0}]
[]
[{"$nulls":3},"SOURCES OF ADVANTAGE"]
[{"$nulls":3},"number of attack actions remaining after AE spells (nearest whole fight)",{"$f":"MAX(0,'Base Numbers'!$C$5*'Base Numbers'!$C$6-'Base Numbers'!$C$6*FLOOR(E335/'Base Numbers'!$C$6,1))","v":16},{"$f":"MAX(0,'Base Numbers'!$C$5*'Base Numbers'!$C$6-'Base Numbers'!$C$6*FLOOR(F335/'Base Numbers'!$C$6,1))","v":16},{"$f":"MAX(0,'Base Numbers'!$C$5*'Base Numbers'!$C$6-'Base Numbers'!$C$6*FLOOR(G335/'Base Numbers'!$C$6,1))","v":16},{"$f":"MAX(0,'Base Numbers'!$C$5*'Base Numbers'!$C$6-'Base Numbers'!$C$6*FLOOR(H335/'Base Numbers'!$C$6,1))","v":16},{"$f":"MAX(0,'Base Numbers'!$C$5*'Base Numbers'!$C$6-'Base Numbers'!$C$6*FLOOR(I335/'Base Numbers'!$C$6,1))","v":16},{"$f":"MAX(0,'Base Numbers'!$C$5*'Base Numbers'!$C$6-'Base Numbers'!$C$6*FLOOR(J335/'Base Numbers'!$C$6,1))","v":16},{"$f":"MAX(0,'Base Numbers'!$C$5*'Base Numbers'!$C$6-'Base Numbers'!$C$6*FLOOR(K335/'Base Numbers'!$C$6,1))","v":16},{"$f":"MAX(0,'Base Numbers'!$C$5*'Base Numbers'!$C$6-'Base Numbers'!$C$6*FLOOR(L335/'Base Numbers'!$C$6,1))","v":16},{"$f":"MAX(0,'Base Numbers'!$C$5*'Base Numbers'!$C$6-'Base Numbers'!$C$6*FLOOR(M335/'Base Numbers'!$C$6,1))","v":16},{"$f":"MAX(0,'Base Numbers'!$C$5*'Base Numbers'!$C$6-'Base Numbers'!$C$6*FLOOR(N335/'Base Numbers'!$C$6,1))","v":16},{"$f":"MAX(0,'Base Numbers'!$C$5*'Base Numbers'!$C$6-'Base Numbers'!$C$6*FLOOR(O335/'Base Numbers'!$C$6,1))","v":16},{"$f":"MAX(0,'Base Numbers'!$C$5*'Base Numbers'!$C$6-'Base Numbers'!$C$6*FLOOR(P335/'Base Numbers'!$C$6,1))","v":16},{"$f":"MAX(0,'Base Numbers'!$C$5*'Base Numbers'!$C$6-'Base Numbers'!$C$6*FLOOR(Q335/'Base Numbers'!$C$6,1))","v":16},{"$f":"MAX(0,'Base Numbers'!$C$5*'Base Numbers'!$C$6-'Base Numbers'!$C$6*FLOOR(R335/'Base Numbers'!$C$6,1))","v":16},{"$f":"MAX(0,'Base Numbers'!$C$5*'Base Numbers'!$C$6-'Base Numbers'!$C$6*FLOOR(S335/'Base Numbers'!$C$6,1))","v":16},{"$f":"MAX(0,'Base Numbers'!$C$5*'Base Numbers'!$C$6-'Base Numbers'!$C$6*FLOOR(T335/'Base Numbers'!$C$6,1))","v":16},{"$f":"MAX(0,'Base Numbers'!$C$5*'Base Numbers'!$C$6-'Base Numbers'!$C$6*FLOOR(U335/'Base Numbers'!$C$6,1))","v":16},{"$f":"MAX(0,'Base Numbers'!$C$5*'Base Numbers'!$C$6-'Base Numbers'!$C$6*FLOOR(V335/'Base Numbers'!$C$6,1))","v":16},{"$f":"MAX(0,'Base Numbers'!$C$5*'Base Numbers'!$C$6-'Base Numbers'!$C$6*FLOOR(W335/'Base Numbers'!$C$6,1))","v":16},{"$f":"MAX(0,'Base Numbers'!$C$5*'Base Numbers'!$C$6-'Base Numbers'!$C$6*FLOOR(X335/'Base Numbers'!$C$6,1))","v":16},null,"Buff spells don't need to be averaged across combats involving just spell slinging"]
[{"$nulls":3},"number of bonus actions remaining after AE spells ",{"$f":"E455","v":16},{"$f":"F455","v":16},16,16,16,16,16,16,16,{"$f":"N455","v":16},16,16,16,16,16,16,16,16,16,16]
[{"$nulls":3},"pct of remaining actions against non-truesight/blindsight enemies",{"$f":"'Caster Tables'!C$71*(E455/('Base Numbers'!$C$5*'Base Numbers'!$C$6))","v":0.85},{"$f":"'Caster Tables'!D$71*(F455/('Base Numbers'!$C$5*'Base Numbers'!$C$6))","v":0.85},{"$f":"'Caster Tables'!E$71*(G455/('Base Numbers'!$C$5*'Base Numbers'!$C$6))","v":0.85},{"$f":"'Caster Tables'!F$71*(H455/('Base Numbers'!$C$5*'Base Numbers'!$C$6))","v":0.85},{"$f":"'Caster Tables'!G$71*(I455/('Base Numbers'!$C$5*'Base Numbers'!$C$6))","v":0.85},{"$f":"'Caster Tables'!H$71*(J455/('Base Numbers'!$C$5*'Base Numbers'!$C$6))","v":0.83},{"$f":"'Caster Tables'!I$71*(K455/('Base Numbers'!$C$5*'Base Numbers'!$C$6))","v":0.81},{"$f":"'Caster Tables'!J$71*(L455/('Base Numbers'!$C$5*'Base Numbers'!$C$6))","v":0.79},{"$f":"'Caster Tables'!K$71*(M455/('Base Numbers'!$C$5*'Base Numbers'!$C$6))","v":0.77},{"$f":"'Caster Tables'!L$71*(N455/('Base Numbers'!$C$5*'Base Numbers'!$C$6))","v":0.74},{"$f":"'Caster Tables'!M$71*(O455/('Base Numbers'!$C$5*'Base Numbers'!$C$6))","v":0.72},{"$f":"'Caster Tables'!N$71*(P455/('Base Numbers'!$C$5*'Base Numbers'!$C$6))","v":0.69},{"$f":"'Caster Tables'!O$71*(Q455/('Base Numbers'!$C$5*'Base Numbers'!$C$6))","v":0.65},{"$f":"'Caster Tables'!P$71*(R455/('Base Numbers'!$C$5*'Base Numbers'!$C$6))","v":0.61},{"$f":"'Caster Tables'!Q$71*(S455/('Base Numbers'!$C$5*'Base Numbers'!$C$6))","v":0.57},{"$f":"'Caster Tables'!R$71*(T455/('Base Numbers'!$C$5*'Base Numbers'!$C$6))","v":0.52},{"$f":"'Caster Tables'!S$71*(U455/('Base Numbers'!$C$5*'Base Numbers'!$C$6))","v":0.48},{"$f":"'Caster Tables'!T$71*(V455/('Base Numbers'!$C$5*'Base Numbers'!$C$6))","v":0.42},{"$f":"'Caster Tables'!U$71*(W455/('Base Numbers'!$C$5*'Base Numbers'!$C$6))","v":0.37},{"$f":"'Caster Tables'!V$71*(X455/('Base Numbers'!$C$5*'Base Numbers'!$C$6))","v":0.32},null,"* should check this with high AE action pct, and also high melee adv pct."]
[{"$nulls":3},"pct of remaining bonus actions against non-truesight/blindsight",{"$f":"'Caster Tables'!C$71*(E456/('Base Numbers'!$C$5*'Base Numbers'!$C$6))","v":0.85},{"$f":"'Caster Tables'!D$71*(F456/('Base Numbers'!$C$5*'Base Numbers'!$C$6))","v":0.85},{"$f":"'Caster Tables'!E$71*(G456/('Base Numbers'!$C$5*'Base Numbers'!$C$6))","v":0.85},{"$f":"'Caster Tables'!F$71*(H456/('Base Numbers'!$C$5*'Base Numbers'!$C$6))","v":0.85},{"$f":"'Caster Tables'!G$71*(I456/('Base Numbers'!$C$5*'Base Numbers'!$C$6))","v":0.85},{"$f":"'Caster Tables'!H$71*(J456/('Base Numbers'!$C$5*'Base Numbers'!$C$6))","v":0.83},{"$f":"'Caster Tables'!I$71*(K456/('Base Numbers'!$C$5*'Base Numbers'!$C$6))","v":0.81},{"$f":"'Caster Tables'!J$71*(L456/('Base Numbers'!$C$5*'Base Numbers'!$C$6))","v":0.79},{"$f":"'Caster Tables'!K$71*(M456/('Base Numbers'!$C$5*'Base Numbers'!$C$6))","v":0.77},{"$f":"'Caster Tables'!L$71*(N456/('Base Numbers'!$C$5*'Base Numbers'!$C$6))","v":0.74},{"$f":"'Caster Tables'!M$71*(O456/('Base Numbers'!$C$5*'Base Numbers'!$C$6))","v":0.72},{"$f":"'Caster Tables'!N$71*(P456/('Base Numbers'!$C$5*'Base Numbers'!$C$6))","v":0.69},{"$f":"'Caster Tables'!O$71*(Q456/('Base Numbers'!$C$5*'Base Numbers'!$C$6))","v":0.65},{"$f":"'Caster Tables'!P$71*(R456/('Base Numbers'!$C$5*'Base Numbers'!$C$6))","v":0.61},{"$f":"'Caster Tables'!Q$71*(S456/('Base Numbers'!$C$5*'Base Numbers'!$C$6))","v":0.57},{"$f":"'Caster Tables'!R$71*(T456/('Base Numbers'!$C$5*'Base Numbers'!$C$6))","v":0.52},{"$f":"'Caster Tables'!S$71*(U456/('Base Numbers'!$C$5*'Base Numbers'!$C$6))","v":0.48},{"$f":"'Caster Tables'!T$71*(V456/('Base Numbers'!$C$5*'Base Numbers'!$C$6))","v":0.42},{"$f":"'Caster Tables'!U$71*(W456/('Base Numbers'!$C$5*'Base Numbers'!$C$6))","v":0.37},{"$f":"'Caster Tables'!V$71*(X456/('Base Numbers'!$C$5*'Base Numbers'!$C$6))","v":0.32}]
[{"$nulls":3},"pct of remaining actions vs non-tremmor sense/blindsight/mobile enemies",{"$f":"'Caster Tables'!C$83*(E455/('Base Numbers'!$C$5*'Base Numbers'!$C$6))","v":0.85},{"$f":"'Caster Tables'!D$83*(F455/('Base Numbers'!$C$5*'Base Numbers'!$C$6))","v":0.85},{"$f":"'Caster Tables'!E$83*(G455/('Base Numbers'!$C$5*'Base Numbers'!$C$6))","v":0.85},{"$f":"'Caster Tables'!F$83*(H455/('Base Numbers'!$C$5*'Base Numbers'!$C$6))","v":0.85},{"$f":"'Caster Tables'!G$83*(I455/('Base Numbers'!$C$5*'Base Numbers'!$C$6))","v":0.85},{"$f":"'Caster Tables'!H$83*(J455/('Base Numbers'!$C$5*'Base Numbers'!$C$6))","v":0.85},{"$f":"'Caster Tables'!I$83*(K455/('Base Numbers'!$C$5*'Base Numbers'!$C$6))","v":0.85},{"$f":"'Caster Tables'!J$83*(L455/('Base Numbers'!$C$5*'Base Numbers'!$C$6))","v":0.85},{"$f":"'Caster Tables'!K$83*(M455/('Base Numbers'!$C$5*'Base Numbers'!$C$6))","v":0.84},{"$f":"'Caster Tables'!L$83*(N455/('Base Numbers'!$C$5*'Base Numbers'!$C$6))","v":0.83},{"$f":"'Caster Tables'!M$83*(O455/('Base Numbers'!$C$5*'Base Numbers'!$C$6))","v":0.81},{"$f":"'Caster Tables'!N$83*(P455/('Base Numbers'!$C$5*'Base Numbers'!$C$6))","v":0.79},{"$f":"'Caster Tables'!O$83*(Q455/('Base Numbers'!$C$5*'Base Numbers'!$C$6))","v":0.77},{"$f":"'Caster Tables'!P$83*(R455/('Base Numbers'!$C$5*'Base Numbers'!$C$6))","v":0.75},{"$f":"'Caster Tables'!Q$83*(S455/('Base Numbers'!$C$5*'Base Numbers'!$C$6))","v":0.73},{"$f":"'Caster Tables'!R$83*(T455/('Base Numbers'!$C$5*'Base Numbers'!$C$6))","v":0.71},{"$f":"'Caster Tables'!S$83*(U455/('Base Numbers'!$C$5*'Base Numbers'!$C$6))","v":0.7},{"$f":"'Caster Tables'!T$83*(V455/('Base Numbers'!$C$5*'Base Numbers'!$C$6))","v":0.69},{"$f":"'Caster Tables'!U$83*(W455/('Base Numbers'!$C$5*'Base Numbers'!$C$6))","v":0.68},{"$f":"'Caster Tables'!V$83*(X455/('Base Numbers'!$C$5*'Base Numbers'!$C$6))","v":0.67}]
[{"$nulls":3},"pct of remaining b actions vs non-tremmor sense/blindsight/mobile",{"$f":"'Caster Tables'!C$83*(E456/('Base Numbers'!$C$5*'Base Numbers'!$C$6))","v":0.85},{"$f":"'Caster Tables'!D$83*(F456/('Base Numbers'!$C$5*'Base Numbers'!$C$6))","v":0.85},{"$f":"'Caster Tables'!E$83*(G456/('Base Numbers'!$C$5*'Base Numbers'!$C$6))","v":0.85},{"$f":"'Caster Tables'!F$83*(H456/('Base Numbers'!$C$5*'Base Numbers'!$C$6))","v":0.85},{"$f":"'Caster Tables'!G$83*(I456/('Base Numbers'!$C$5*'Base Numbers'!$C$6))","v":0.85},{"$f":"'Caster Tables'!H$83*(J456/('Base Numbers'!$C$5*'Base Numbers'!$C$6))","v":0.85},{"$f":"'Caster Tables'!I$83*(K456/('Base Numbers'!$C$5*'Base Numbers'!$C$6))","v":0.85},{"$f":"'Caster Tables'!J$83*(L456/('Base Numbers'!$C$5*'Base Numbers'!$C$6))","v":0.85},{"$f":"'Caster Tables'!K$83*(M456/('Base Numbers'!$C$5*'Base Numbers'!$C$6))","v":0.84},{"$f":"'Caster Tables'!L$83*(N456/('Base Numbers'!$C$5*'Base Numbers'!$C$6))","v":0.83},{"$f":"'Caster Tables'!M$83*(O456/('Base Numbers'!$C$5*'Base Numbers'!$C$6))","v":0.81},{"$f":"'Caster Tables'!N$83*(P456/('Base Numbers'!$C$5*'Base Numbers'!$C$6))","v":0.79},{"$f":"'Caster Tables'!O$83*(Q456/('Base Numbers'!$C$5*'Base Numbers'!$C$6))","v":0.77},{"$f":"'Caster Tables'!P$83*(R456/('Base Numbers'!$C$5*'Base Numbers'!$C$6))","v":0.75},{"$f":"'Caster Tables'!Q$83*(S456/('Base Numbers'!$C$5*'Base Numbers'!$C$6))","v":0.73},{"$f":"'Caster Tables'!R$83*(T456/('Base Numbers'!$C$5*'Base Numbers'!$C$6))","v":0.71},{"$f":"'Caster Tables'!S$83*(U456/('Base Numbers'!$C$5*'Base Numbers'!$C$6))","v":0.7},{"$f":"'Caster Tables'!T$83*(V456/('Base Numbers'!$C$5*'Base Numbers'!$C$6))","v":0.69},{"$f":"'Caster Tables'!U$83*(W456/('Base Numbers'!$C$5*'Base Numbers'!$C$6))","v":0.68},{"$f":"'Caster Tables'!V$83*(X456/('Base Numbers'!$C$5*'Base Numbers'!$C$6))","v":0.67}]
[{"$nulls":3},"pct adv from prone (doesn't apply to first attack)",{"$f":"IF(E455>0,MIN(1,E442*('Base Numbers'!$C$5*'Base Numbers'!$C$6)/E455),0)","v":0},{"$f":"IF(F455>0,MIN(1,F442*('Base Numbers'!$C$5*'Base Numbers'!$C$6)/F455),0)","v":0},{"$f":"IF(G455>0,MIN(1,G442*('Base Numbers'!$C$5*'Base Numbers'!$C$6)/G455),0)","v":0},{"$f":"IF(H455>0,MIN(1,H442*('Base Numbers'!$C$5*'Base Numbers'!$C$6)/H455),0)","v":0},{"$f":"IF(I455>0,MIN(1,I442*('Base Numbers'!$C$5*'Base Numbers'!$C$6)/I455),0)","v":0},{"$f":"IF(J455>0,MIN(1,J442*('Base Numbers'!$C$5*'Base Numbers'!$C$6)/J455),0)","v":0},{"$f":"IF(K455>0,MIN(1,K442*('Base Numbers'!$C$5*'Base Numbers'!$C$6)/K455),0)","v":0},{"$f":"IF(L455>0,MIN(1,L442*('Base Numbers'!$C$5*'Base Numbers'!$C$6)/L455),0)","v":0},{"$f":"IF(M455>0,MIN(1,M442*('Base Numbers'!$C$5*'Base Numbers'!$C$6)/M455),0)","v":0},{"$f":"IF(N455>0,MIN(1,N442*('Base Numbers'!$C$5*'Base Numbers'!$C$6)/N455),0)","v":0},{"$f":"IF(O455>0,MIN(1,O442*('Base Numbers'!$C$5*'Base Numbers'!$C$6)/O455),0)","v":0},{"$f":"IF(P455>0,MIN(1,P442*('Base Numbers'!$C$5*'Base Numbers'!$C$6)/P455),0)","v":0},{"$f":"IF(Q455>0,MIN(1,Q442*('Base Numbers'!$C$5*'Base Numbers'!$C$6)/Q455),0)","v":0},{"$f":"IF(R455>0,MIN(1,R442*('Base Numbers'!$C$5*'Base Numbers'!$C$6)/R455),0)","v":0},{"$f":"IF(S455>0,MIN(1,S442*('Base Numbers'!$C$5*'Base Numbers'!$C$6)/S455),0)","v":0},{"$f":"IF(T455>0,MIN(1,T442*('Base Numbers'!$C$5*'Base Numbers'!$C$6)/T455),0)","v":0},{"$f":"IF(U455>0,MIN(1,U442*('Base Numbers'!$C$5*'Base Numbers'!$C$6)/U455),0)","v":0},{"$f":"IF(V455>0,MIN(1,V442*('Base Numbers'!$C$5*'Base Numbers'!$C$6)/V455),0)","v":0},{"$f":"IF(W455>0,MIN(1,W442*('Base Numbers'!$C$5*'Base Numbers'!$C$6)/W455),0)","v":0},{"$f":"IF(X455>0,MIN(1,X442*('Base Numbers'!$C$5*'Base Numbers'!$C$6)/X455),0)","v":0},null,"these are discounted by the number of available attack actions"]
[{"$nulls":3},"pct adv from Restrained",{"$f":"IF(E455>0,E1352/E455*IF(AND(E10>=15,E64>=1),2,1),0)","v":0},0,0,0,0,0,0,0,0,0,0,0,0,0,0,0,0,0,0,0,null,"(only source so far is Rune Knight Fire Rune)"]
[{"$nulls":3},"pct adv from Reckless (str only)",{"$f":"IF(E505>=1,1,0)","v":0},{"$f":"IF(F505>=1,1,0)","v":0},0,0,0,0,0,0,0,0,0,0,0,0,0,0,0,0,0,0]
[{"$nulls":3},"pct adv from Find Familiar (FF)  (first attack only)",{"$f":"IF(E151>=1,'Base Numbers'!$C$19,0)","v":0},{"$f":"IF(F151>=1,'Base Numbers'!$C$19,0)","v":0},{"$f":"IF(G151>=1,'Base Numbers'!$C$19,0)","v":0},{"$f":"IF(H151>=1,'Base Numbers'!$C$19,0)","v":0},{"$f":"IF(I151>=1,'Base Numbers'!$C$19,0)","v":0},{"$f":"IF(J151>=1,'Base Numbers'!$C$19,0)","v":0},{"$f":"IF(K151>=1,'Base Numbers'!$C$19,0)","v":0},{"$f":"IF(L151>=1,'Base Numbers'!$C$19,0)","v":0},{"$f":"IF(M151>=1,'Base Numbers'!$C$19,0)","v":0},{"$f":"IF(N151>=1,'Base Numbers'!$C$19,0)","v":0},{"$f":"IF(O151>=1,'Base Numbers'!$C$19,0)","v":0},{"$f":"IF(P151>=1,'Base Numbers'!$C$19,0)","v":0},{"$f":"IF(Q151>=1,'Base Numbers'!$C$19,0)","v":0},{"$f":"IF(R151>=1,'Base Numbers'!$C$19,0)","v":0},{"$f":"IF(S151>=1,'Base Numbers'!$C$19,0)","v":0},{"$f":"IF(T151>=1,'Base Numbers'!$C$19,0)","v":0},{"$f":"IF(U151>=1,'Base Numbers'!$C$19,0)","v":0.9},{"$f":"IF(V151>=1,'Base Numbers'!$C$19,0)","v":0.9},{"$f":"IF(W151>=1,'Base Numbers'!$C$19,0)","v":0.9},{"$f":"IF(X151>=1,'Base Numbers'!$C$19,0)","v":0.9}]
[{"$nulls":3},"pct adv from Rogue's Bonus (RB) action (first attack only)",{"$f":"IF(E455>0,E214/E455,0)","v":0},0,0,0,0,0,0,0,0,0,0,0,0,0,0,0,0,0,0,0]
[{"$nulls":3},"pct adv from Pack Tactics (kobold racial)",{"$f":"IF($B$53>=1,'Base Numbers'!$G$14^2,0)","v":0},{"$f":"IF($B$53>=1,'Base Numbers'!$G$14^2,0)","v":0},{"$f":"IF($B$53>=1,'Base Numbers'!$G$14^2,0)","v":0},{"$f":"IF($B$53>=1,'Base Numbers'!$G$14^2,0)","v":0},{"$f":"IF($B$53>=1,'Base Numbers'!$G$14^2,0)","v":0},{"$f":"IF($B$53>=1,'Base Numbers'!$G$14^2,0)","v":0},{"$f":"IF($B$53>=1,'Base Numbers'!$G$14^2,0)","v":0},{"$f":"IF($B$53>=1,'Base Numbers'!$G$14^2,0)","v":0},{"$f":"IF($B$53>=1,'Base Numbers'!$G$14^2,0)","v":0},{"$f":"IF($B$53>=1,'Base Numbers'!$G$14^2,0)","v":0},{"$f":"IF($B$53>=1,'Base Numbers'!$G$14^2,0)","v":0},{"$f":"IF($B$53>=1,'Base Numbers'!$G$14^2,0)","v":0},{"$f":"IF($B$53>=1,'Base Numbers'!$G$14^2,0)","v":0},{"$f":"IF($B$53>=1,'Base Numbers'!$G$14^2,0)","v":0},{"$f":"IF($B$53>=1,'Base Numbers'!$G$14^2,0)","v":0},{"$f":"IF($B$53>=1,'Base Numbers'!$G$14^2,0)","v":0},{"$f":"IF($B$53>=1,'Base Numbers'!$G$14^2,0)","v":0},{"$f":"IF($B$53>=1,'Base Numbers'!$G$14^2,0)","v":0},{"$f":"IF($B$53>=1,'Base Numbers'!$G$14^2,0)","v":0},{"$f":"IF($B$53>=1,'Base Numbers'!$G$14^2,0)","v":0}]
[{"$nulls":3},"pct adv from Obscurement (fog, pyrotechnics) (a)",{"$f":"IF(E446,E447,0)","v":0},{"$f":"IF(F446,F447,0)","v":0},0,0,0,0,0,0,0,0,0,0,0,0,0,0,0,0,0,0]
[{"$nulls":3},"pct adv from Darkness (a)",{"$f":"IF(E445,E448,0)","v":0},{"$f":"IF(F445,F448,0)","v":0},0,0,0,0,0,0,0,0,0,0,0,0,0,0,0,0,0,0]
[{"$nulls":3},"pct adv from Shadow Blade (b)",{"$f":"IF(E455>0,MIN(1,MIN(IF(E445,0.2,0.1),E366)*('Base Numbers'!$C$5*'Base Numbers'!$C$6/E455)),0)","v":0},{"$f":"IF(F455>0,MIN(1,MIN(IF(F445,0.2,0.1),F366)*('Base Numbers'!$C$5*'Base Numbers'!$C$6/F455)),0)","v":0},{"$f":"IF(G455>0,MIN(1,MIN(IF(G445,0.2,0.1),G366)*('Base Numbers'!$C$5*'Base Numbers'!$C$6/G455)),0)","v":0},{"$f":"IF(H455>0,MIN(1,MIN(IF(H445,0.2,0.1),H366)*('Base Numbers'!$C$5*'Base Numbers'!$C$6/H455)),0)","v":0},{"$f":"IF(I455>0,MIN(1,MIN(IF(I445,0.2,0.1),I366)*('Base Numbers'!$C$5*'Base Numbers'!$C$6/I455)),0)","v":0},{"$f":"IF(J455>0,MIN(1,MIN(IF(J445,0.2,0.1),J366)*('Base Numbers'!$C$5*'Base Numbers'!$C$6/J455)),0)","v":0},{"$f":"IF(K455>0,MIN(1,MIN(IF(K445,0.2,0.1),K366)*('Base Numbers'!$C$5*'Base Numbers'!$C$6/K455)),0)","v":0},{"$f":"IF(L455>0,MIN(1,MIN(IF(L445,0.2,0.1),L366)*('Base Numbers'!$C$5*'Base Numbers'!$C$6/L455)),0)","v":0},{"$f":"IF(M455>0,MIN(1,MIN(IF(M445,0.2,0.1),M366)*('Base Numbers'!$C$5*'Base Numbers'!$C$6/M455)),0)","v":0},{"$f":"IF(N455>0,MIN(1,MIN(IF(N445,0.2,0.1),N366)*('Base Numbers'!$C$5*'Base Numbers'!$C$6/N455)),0)","v":0},{"$f":"IF(O455>0,MIN(1,MIN(IF(O445,0.2,0.1),O366)*('Base Numbers'!$C$5*'Base Numbers'!$C$6/O455)),0)","v":0},{"$f":"IF(P455>0,MIN(1,MIN(IF(P445,0.2,0.1),P366)*('Base Numbers'!$C$5*'Base Numbers'!$C$6/P455)),0)","v":0},{"$f":"IF(Q455>0,MIN(1,MIN(IF(Q445,0.2,0.1),Q366)*('Base Numbers'!$C$5*'Base Numbers'!$C$6/Q455)),0)","v":0},{"$f":"IF(R455>0,MIN(1,MIN(IF(R445,0.2,0.1),R366)*('Base Numbers'!$C$5*'Base Numbers'!$C$6/R455)),0)","v":0},{"$f":"IF(S455>0,MIN(1,MIN(IF(S445,0.2,0.1),S366)*('Base Numbers'!$C$5*'Base Numbers'!$C$6/S455)),0)","v":0},{"$f":"IF(T455>0,MIN(1,MIN(IF(T445,0.2,0.1),T366)*('Base Numbers'!$C$5*'Base Numbers'!$C$6/T455)),0)","v":0},{"$f":"IF(U455>0,MIN(1,MIN(IF(U445,0.2,0.1),U366)*('Base Numbers'!$C$5*'Base Numbers'!$C$6/U455)),0)","v":0},{"$f":"IF(V455>0,MIN(1,MIN(IF(V445,0.2,0.1),V366)*('Base Numbers'!$C$5*'Base Numbers'!$C$6/V455)),0)","v":0},{"$f":"IF(W455>0,MIN(1,MIN(IF(W445,0.2,0.1),W366)*('Base Numbers'!$C$5*'Base Numbers'!$C$6/W455)),0)","v":0},{"$f":"IF(X455>0,MIN(1,MIN(IF(X445,0.2,0.1),X366)*('Base Numbers'!$C$5*'Base Numbers'!$C$6/X455)),0)","v":0}]
[{"$nulls":3},"pct adv from Vow of Emnity (b)",{"$f":"IF(E455>0,E1065/'Base Numbers'!$C$5*('Base Numbers'!$C$5*'Base Numbers'!$C$6/E455),0)","v":0},{"$f":"IF(F455>0,F1065/'Base Numbers'!$C$5*('Base Numbers'!$C$5*'Base Numbers'!$C$6/F455),0)","v":0},{"$f":"IF(G455>0,G1065/'Base Numbers'!$C$5*('Base Numbers'!$C$5*'Base Numbers'!$C$6/G455),0)","v":0},{"$f":"IF(H455>0,H1065/'Base Numbers'!$C$5*('Base Numbers'!$C$5*'Base Numbers'!$C$6/H455),0)","v":0},{"$f":"IF(I455>0,I1065/'Base Numbers'!$C$5*('Base Numbers'!$C$5*'Base Numbers'!$C$6/I455),0)","v":0},{"$f":"IF(J455>0,J1065/'Base Numbers'!$C$5*('Base Numbers'!$C$5*'Base Numbers'!$C$6/J455),0)","v":0},{"$f":"IF(K455>0,K1065/'Base Numbers'!$C$5*('Base Numbers'!$C$5*'Base Numbers'!$C$6/K455),0)","v":0},{"$f":"IF(L455>0,L1065/'Base Numbers'!$C$5*('Base Numbers'!$C$5*'Base Numbers'!$C$6/L455),0)","v":0},{"$f":"IF(M455>0,M1065/'Base Numbers'!$C$5*('Base Numbers'!$C$5*'Base Numbers'!$C$6/M455),0)","v":0},{"$f":"IF(N455>0,N1065/'Base Numbers'!$C$5*('Base Numbers'!$C$5*'Base Numbers'!$C$6/N455),0)","v":0},{"$f":"IF(O455>0,O1065/'Base Numbers'!$C$5*('Base Numbers'!$C$5*'Base Numbers'!$C$6/O455),0)","v":0},{"$f":"IF(P455>0,P1065/'Base Numbers'!$C$5*('Base Numbers'!$C$5*'Base Numbers'!$C$6/P455),0)","v":0},{"$f":"IF(Q455>0,Q1065/'Base Numbers'!$C$5*('Base Numbers'!$C$5*'Base Numbers'!$C$6/Q455),0)","v":0},{"$f":"IF(R455>0,R1065/'Base Numbers'!$C$5*('Base Numbers'!$C$5*'Base Numbers'!$C$6/R455),0)","v":0},{"$f":"IF(S455>0,S1065/'Base Numbers'!$C$5*('Base Numbers'!$C$5*'Base Numbers'!$C$6/S455),0)","v":0},{"$f":"IF(T455>0,T1065/'Base Numbers'!$C$5*('Base Numbers'!$C$5*'Base Numbers'!$C$6/T455),0)","v":0},{"$f":"IF(U455>0,U1065/'Base Numbers'!$C$5*('Base Numbers'!$C$5*'Base Numbers'!$C$6/U455),0)","v":0},{"$f":"IF(V455>0,V1065/'Base Numbers'!$C$5*('Base Numbers'!$C$5*'Base Numbers'!$C$6/V455),0)","v":0},{"$f":"IF(W455>0,W1065/'Base Numbers'!$C$5*('Base Numbers'!$C$5*'Base Numbers'!$C$6/W455),0)","v":0},{"$f":"IF(X455>0,X1065/'Base Numbers'!$C$5*('Base Numbers'!$C$5*'Base Numbers'!$C$6/X455),0)","v":0}]
[{"$nulls":3},"pct adv from Hold Person (a)",{"$f":"IF(E455>0,E541*('Base Numbers'!$C$5*'Base Numbers'!$C$6/E455),0)","v":0},{"$f":"IF(F455>0,F541*('Base Numbers'!$C$5*'Base Numbers'!$C$6/F455),0)","v":0},{"$f":"IF(G455>0,G541*('Base Numbers'!$C$5*'Base Numbers'!$C$6/G455),0)","v":0},{"$f":"IF(H455>0,H541*('Base Numbers'!$C$5*'Base Numbers'!$C$6/H455),0)","v":0},{"$f":"IF(I455>0,I541*('Base Numbers'!$C$5*'Base Numbers'!$C$6/I455),0)","v":0},{"$f":"IF(J455>0,J541*('Base Numbers'!$C$5*'Base Numbers'!$C$6/J455),0)","v":0},{"$f":"IF(K455>0,K541*('Base Numbers'!$C$5*'Base Numbers'!$C$6/K455),0)","v":0},{"$f":"IF(L455>0,L541*('Base Numbers'!$C$5*'Base Numbers'!$C$6/L455),0)","v":0},{"$f":"IF(M455>0,M541*('Base Numbers'!$C$5*'Base Numbers'!$C$6/M455),0)","v":0},{"$f":"IF(N455>0,N541*('Base Numbers'!$C$5*'Base Numbers'!$C$6/N455),0)","v":0},{"$f":"IF(O455>0,O541*('Base Numbers'!$C$5*'Base Numbers'!$C$6/O455),0)","v":0},{"$f":"IF(P455>0,P541*('Base Numbers'!$C$5*'Base Numbers'!$C$6/P455),0)","v":0},{"$f":"IF(Q455>0,Q541*('Base Numbers'!$C$5*'Base Numbers'!$C$6/Q455),0)","v":0},{"$f":"IF(R455>0,R541*('Base Numbers'!$C$5*'Base Numbers'!$C$6/R455),0)","v":0},{"$f":"IF(S455>0,S541*('Base Numbers'!$C$5*'Base Numbers'!$C$6/S455),0)","v":0},{"$f":"IF(T455>0,T541*('Base Numbers'!$C$5*'Base Numbers'!$C$6/T455),0)","v":0},{"$f":"IF(U455>0,U541*('Base Numbers'!$C$5*'Base Numbers'!$C$6/U455),0)","v":0},{"$f":"IF(V455>0,V541*('Base Numbers'!$C$5*'Base Numbers'!$C$6/V455),0)","v":0},{"$f":"IF(W455>0,W541*('Base Numbers'!$C$5*'Base Numbers'!$C$6/W455),0)","v":0},{"$f":"IF(X455>0,X541*('Base Numbers'!$C$5*'Base Numbers'!$C$6/X455),0)","v":0}]
[{"$nulls":3},"pct adv from shadow of moil (a)",{"$f":"IF(E455>0,MIN(E288*(E357)/E455,E459),0)","v":0},0,0,0,0,0,0,0,0,0,0,0,0,0,0,0,0,0,0,0,null,"actually hard to defeat this; requires straight tremorsense/blindsense"]
[{"$nulls":3},"pct adv from Greater Invis (a)",{"$f":"IF(E455>0,MIN(E289*(E357)/E455,E457),0)","v":0},0,0,0,0,0,0,0,0,0,0,0,0,0,0,0,0,0,0,0]
[{"$nulls":3},"pct adv from Faerie Fire (a)",{"$f":"IF(E455>0,E747*E356/E455,0)","v":0},0,0,0,0,0,0,0,0,0,0,0,0,0,0,0,0,0,0,0]
[{"$nulls":3},"pct adv from Guardian of Nature (b)",{"$f":"IF(E455>0,IF(OR(E157,E163),E279,0)*(1+E356)/E455,0)","v":0},0,0,0,0,0,0,0,0,0,0,0,0,0,0,0,0,0,0,0]
[{"$nulls":3},"pct adv from Gloomstalker (Ranger)",{"$f":"IF(E1261,IF(E163,0.67*'Caster Tables'!C$84,0.5*'Caster Tables'!C$84),0)","v":0},{"$f":"IF(F1261,IF(F163,0.67*'Caster Tables'!D$84,0.5*'Caster Tables'!D$84),0)","v":0},{"$f":"IF(G1261,IF(G163,0.67*'Caster Tables'!E$84,0.5*'Caster Tables'!E$84),0)","v":0.32830000000000004},{"$f":"IF(H1261,IF(H163,0.67*'Caster Tables'!F$84,0.5*'Caster Tables'!F$84),0)","v":0.3417},{"$f":"IF(I1261,IF(I163,0.67*'Caster Tables'!G$84,0.5*'Caster Tables'!G$84),0)","v":0.3551},{"$f":"IF(J1261,IF(J163,0.67*'Caster Tables'!H$84,0.5*'Caster Tables'!H$84),0)","v":0.3551},{"$f":"IF(K1261,IF(K163,0.67*'Caster Tables'!I$84,0.5*'Caster Tables'!I$84),0)","v":0.3551},{"$f":"IF(L1261,IF(L163,0.67*'Caster Tables'!J$84,0.5*'Caster Tables'!J$84),0)","v":0.3551},{"$f":"IF(M1261,IF(M163,0.67*'Caster Tables'!K$84,0.5*'Caster Tables'!K$84),0)","v":0.34840000000000004},{"$f":"IF(N1261,IF(N163,0.67*'Caster Tables'!L$84,0.5*'Caster Tables'!L$84),0)","v":0.335},{"$f":"IF(O1261,IF(O163,0.67*'Caster Tables'!M$84,0.5*'Caster Tables'!M$84),0)","v":0.3216},{"$f":"IF(P1261,IF(P163,0.67*'Caster Tables'!N$84,0.5*'Caster Tables'!N$84),0)","v":0.30150000000000005},{"$f":"IF(Q1261,IF(Q163,0.67*'Caster Tables'!O$84,0.5*'Caster Tables'!O$84),0)","v":0.2948},{"$f":"IF(R1261,IF(R163,0.67*'Caster Tables'!P$84,0.5*'Caster Tables'!P$84),0)","v":0.2814},{"$f":"IF(S1261,IF(S163,0.67*'Caster Tables'!Q$84,0.5*'Caster Tables'!Q$84),0)","v":0.268},{"$f":"IF(T1261,IF(T163,0.67*'Caster Tables'!R$84,0.5*'Caster Tables'!R$84),0)","v":0.2546},{"$f":"IF(U1261,IF(U163,0.67*'Caster Tables'!S$84,0.5*'Caster Tables'!S$84),0)","v":0.2479},{"$f":"IF(V1261,IF(V163,0.67*'Caster Tables'!T$84,0.5*'Caster Tables'!T$84),0)","v":0.2345},{"$f":"IF(W1261,IF(W163,0.67*'Caster Tables'!U$84,0.5*'Caster Tables'!U$84),0)","v":0.2144},{"$f":"IF(X1261,IF(X163,0.67*'Caster Tables'!V$84,0.5*'Caster Tables'!V$84),0)","v":0.18090000000000003},null,"half the encounters with enemies reliant on darkvision"]
[{"$nulls":3},"pct adv from Assassin (Rogue)",{"$f":"IF(AND(E11>=3,E71>=1),0.5/'Base Numbers'!$C$6,0)","v":0},{"$f":"IF(AND(F11>=3,F71>=1),0.5/'Base Numbers'!$C$6,0)","v":0},{"$f":"IF(AND(G11>=3,G71>=1),0.5/'Base Numbers'!$C$6,0)","v":0},{"$f":"IF(AND(H11>=3,H71>=1),0.5/'Base Numbers'!$C$6,0)","v":0},{"$f":"IF(AND(I11>=3,I71>=1),0.5/'Base Numbers'!$C$6,0)","v":0},{"$f":"IF(AND(J11>=3,J71>=1),0.5/'Base Numbers'!$C$6,0)","v":0},{"$f":"IF(AND(K11>=3,K71>=1),0.5/'Base Numbers'!$C$6,0)","v":0},{"$f":"IF(AND(L11>=3,L71>=1),0.5/'Base Numbers'!$C$6,0)","v":0},{"$f":"IF(AND(M11>=3,M71>=1),0.5/'Base Numbers'!$C$6,0)","v":0},{"$f":"IF(AND(N11>=3,N71>=1),0.5/'Base Numbers'!$C$6,0)","v":0},{"$f":"IF(AND(O11>=3,O71>=1),0.5/'Base Numbers'!$C$6,0)","v":0},{"$f":"IF(AND(P11>=3,P71>=1),0.5/'Base Numbers'!$C$6,0)","v":0.125},{"$f":"IF(AND(Q11>=3,Q71>=1),0.5/'Base Numbers'!$C$6,0)","v":0.125},{"$f":"IF(AND(R11>=3,R71>=1),0.5/'Base Numbers'!$C$6,0)","v":0.125},{"$f":"IF(AND(S11>=3,S71>=1),0.5/'Base Numbers'!$C$6,0)","v":0.125},{"$f":"IF(AND(T11>=3,T71>=1),0.5/'Base Numbers'!$C$6,0)","v":0.125},{"$f":"IF(AND(U11>=3,U71>=1),0.5/'Base Numbers'!$C$6,0)","v":0.125},{"$f":"IF(AND(V11>=3,V71>=1),0.5/'Base Numbers'!$C$6,0)","v":0.125},{"$f":"IF(AND(W11>=3,W71>=1),0.5/'Base Numbers'!$C$6,0)","v":0.125},{"$f":"IF(AND(X11>=3,X71>=1),0.5/'Base Numbers'!$C$6,0)","v":0.125}]
[{"$nulls":3},"pct adv from Samurai (b) (not bonus, opp atts)",{"$f":"IF(E455>0,E1344/E455,0)","v":0},0,0,0,0,0,0,0,0,0,0,0,0,0,0,0,0,0,0,0]
[{"$nulls":3},"pct adv from Tenser's Transformation (a)",{"$f":"IF(E455>0,E356*E291/E455,0)","v":0},0,0,0,0,0,0,0,0,0,0,0,0,0,0,0,0,0,0,0]
[{"$nulls":3},"bonus action pct adv from Prone",{"$f":"IF(E456>0,MIN(1,E440/E456+E442*('Base Numbers'!$C$5*'Base Numbers'!$C$6)/E456),0)","v":0},{"$f":"IF(F456>0,MIN(1,F440/F456+F442*('Base Numbers'!$C$5*'Base Numbers'!$C$6)/F456),0)","v":0},{"$f":"IF(G456>0,MIN(1,G440/G456+G442*('Base Numbers'!$C$5*'Base Numbers'!$C$6)/G456),0)","v":0},{"$f":"IF(H456>0,MIN(1,H440/H456+H442*('Base Numbers'!$C$5*'Base Numbers'!$C$6)/H456),0)","v":0},{"$f":"IF(I456>0,MIN(1,I440/I456+I442*('Base Numbers'!$C$5*'Base Numbers'!$C$6)/I456),0)","v":0},{"$f":"IF(J456>0,MIN(1,J440/J456+J442*('Base Numbers'!$C$5*'Base Numbers'!$C$6)/J456),0)","v":0},{"$f":"IF(K456>0,MIN(1,K440/K456+K442*('Base Numbers'!$C$5*'Base Numbers'!$C$6)/K456),0)","v":0},{"$f":"IF(L456>0,MIN(1,L440/L456+L442*('Base Numbers'!$C$5*'Base Numbers'!$C$6)/L456),0)","v":0},{"$f":"IF(M456>0,MIN(1,M440/M456+M442*('Base Numbers'!$C$5*'Base Numbers'!$C$6)/M456),0)","v":0},{"$f":"IF(N456>0,MIN(1,N440/N456+N442*('Base Numbers'!$C$5*'Base Numbers'!$C$6)/N456),0)","v":0},{"$f":"IF(O456>0,MIN(1,O440/O456+O442*('Base Numbers'!$C$5*'Base Numbers'!$C$6)/O456),0)","v":0},{"$f":"IF(P456>0,MIN(1,P440/P456+P442*('Base Numbers'!$C$5*'Base Numbers'!$C$6)/P456),0)","v":0},{"$f":"IF(Q456>0,MIN(1,Q440/Q456+Q442*('Base Numbers'!$C$5*'Base Numbers'!$C$6)/Q456),0)","v":0},{"$f":"IF(R456>0,MIN(1,R440/R456+R442*('Base Numbers'!$C$5*'Base Numbers'!$C$6)/R456),0)","v":0},{"$f":"IF(S456>0,MIN(1,S440/S456+S442*('Base Numbers'!$C$5*'Base Numbers'!$C$6)/S456),0)","v":0},{"$f":"IF(T456>0,MIN(1,T440/T456+T442*('Base Numbers'!$C$5*'Base Numbers'!$C$6)/T456),0)","v":0},{"$f":"IF(U456>0,MIN(1,U440/U456+U442*('Base Numbers'!$C$5*'Base Numbers'!$C$6)/U456),0)","v":0},{"$f":"IF(V456>0,MIN(1,V440/V456+V442*('Base Numbers'!$C$5*'Base Numbers'!$C$6)/V456),0)","v":0},{"$f":"IF(W456>0,MIN(1,W440/W456+W442*('Base Numbers'!$C$5*'Base Numbers'!$C$6)/W456),0)","v":0},{"$f":"IF(X456>0,MIN(1,X440/X456+X442*('Base Numbers'!$C$5*'Base Numbers'!$C$6)/X456),0)","v":0},null,"includes prone from destructive wave, which takes a whole action"]
[{"$nulls":3},"bonus action pct adv from Obscurement",{"$f":"IF(E446,E449,0)","v":0},0,0,0,0,0,0,0,0,0,0,0,0,0,0,0,0,0,0,0]
[{"$nulls":3},"bonus action pct adv from Darkness",{"$f":"IF(E445,E450,0)","v":0},{"$f":"IF(F445,F450,0)","v":0},{"$f":"IF(G445,G450,0)","v":0},0,0,0,0,0,0,0,0,0,0,0,0,0,0,0,0,0,null,"these are discounted by the number of available bonus actions"]
[{"$nulls":3},"bonus action pct adv from Shadow Blade",{"$f":"IF(E456>0,MIN(IF(E445,0.2,0.1),((E366)*E269)/E456),0)","v":0},0,0,0,0,0,0,0,0,0,0,0,0,0,0,0,0,0,0,0]
[{"$nulls":3},"bonus action pct adv from Vow of Emnity (b)",{"$f":"IF(E456>0,(E1065*('Base Numbers'!$C$6-1)/('Base Numbers'!$C$5*'Base Numbers'!$C$6)*('Base Numbers'!$C$5*'Base Numbers'!$C$6/E456)),0)","v":0},{"$f":"IF(F456>0,(F1065*('Base Numbers'!$C$6-1)/('Base Numbers'!$C$5*'Base Numbers'!$C$6)*('Base Numbers'!$C$5*'Base Numbers'!$C$6/F456)),0)","v":0},{"$f":"IF(G456>0,(G1065*('Base Numbers'!$C$6-1)/('Base Numbers'!$C$5*'Base Numbers'!$C$6)*('Base Numbers'!$C$5*'Base Numbers'!$C$6/G456)),0)","v":0},{"$f":"IF(H456>0,(H1065*('Base Numbers'!$C$6-1)/('Base Numbers'!$C$5*'Base Numbers'!$C$6)*('Base Numbers'!$C$5*'Base Numbers'!$C$6/H456)),0)","v":0},{"$f":"IF(I456>0,(I1065*('Base Numbers'!$C$6-1)/('Base Numbers'!$C$5*'Base Numbers'!$C$6)*('Base Numbers'!$C$5*'Base Numbers'!$C$6/I456)),0)","v":0},{"$f":"IF(J456>0,(J1065*('Base Numbers'!$C$6-1)/('Base Numbers'!$C$5*'Base Numbers'!$C$6)*('Base Numbers'!$C$5*'Base Numbers'!$C$6/J456)),0)","v":0},{"$f":"IF(K456>0,(K1065*('Base Numbers'!$C$6-1)/('Base Numbers'!$C$5*'Base Numbers'!$C$6)*('Base Numbers'!$C$5*'Base Numbers'!$C$6/K456)),0)","v":0},{"$f":"IF(L456>0,(L1065*('Base Numbers'!$C$6-1)/('Base Numbers'!$C$5*'Base Numbers'!$C$6)*('Base Numbers'!$C$5*'Base Numbers'!$C$6/L456)),0)","v":0},{"$f":"IF(M456>0,(M1065*('Base Numbers'!$C$6-1)/('Base Numbers'!$C$5*'Base Numbers'!$C$6)*('Base Numbers'!$C$5*'Base Numbers'!$C$6/M456)),0)","v":0},{"$f":"IF(N456>0,(N1065*('Base Numbers'!$C$6-1)/('Base Numbers'!$C$5*'Base Numbers'!$C$6)*('Base Numbers'!$C$5*'Base Numbers'!$C$6/N456)),0)","v":0},{"$f":"IF(O456>0,(O1065*('Base Numbers'!$C$6-1)/('Base Numbers'!$C$5*'Base Numbers'!$C$6)*('Base Numbers'!$C$5*'Base Numbers'!$C$6/O456)),0)","v":0},{"$f":"IF(P456>0,(P1065*('Base Numbers'!$C$6-1)/('Base Numbers'!$C$5*'Base Numbers'!$C$6)*('Base Numbers'!$C$5*'Base Numbers'!$C$6/P456)),0)","v":0},{"$f":"IF(Q456>0,(Q1065*('Base Numbers'!$C$6-1)/('Base Numbers'!$C$5*'Base Numbers'!$C$6)*('Base Numbers'!$C$5*'Base Numbers'!$C$6/Q456)),0)","v":0},{"$f":"IF(R456>0,(R1065*('Base Numbers'!$C$6-1)/('Base Numbers'!$C$5*'Base Numbers'!$C$6)*('Base Numbers'!$C$5*'Base Numbers'!$C$6/R456)),0)","v":0},{"$f":"IF(S456>0,(S1065*('Base Numbers'!$C$6-1)/('Base Numbers'!$C$5*'Base Numbers'!$C$6)*('Base Numbers'!$C$5*'Base Numbers'!$C$6/S456)),0)","v":0},{"$f":"IF(T456>0,(T1065*('Base Numbers'!$C$6-1)/('Base Numbers'!$C$5*'Base Numbers'!$C$6)*('Base Numbers'!$C$5*'Base Numbers'!$C$6/T456)),0)","v":0},{"$f":"IF(U456>0,(U1065*('Base Numbers'!$C$6-1)/('Base Numbers'!$C$5*'Base Numbers'!$C$6)*('Base Numbers'!$C$5*'Base Numbers'!$C$6/U456)),0)","v":0},{"$f":"IF(V456>0,(V1065*('Base Numbers'!$C$6-1)/('Base Numbers'!$C$5*'Base Numbers'!$C$6)*('Base Numbers'!$C$5*'Base Numbers'!$C$6/V456)),0)","v":0},{"$f":"IF(W456>0,(W1065*('Base Numbers'!$C$6-1)/('Base Numbers'!$C$5*'Base Numbers'!$C$6)*('Base Numbers'!$C$5*'Base Numbers'!$C$6/W456)),0)","v":0},{"$f":"IF(X456>0,(X1065*('Base Numbers'!$C$6-1)/('Base Numbers'!$C$5*'Base Numbers'!$C$6)*('Base Numbers'!$C$5*'Base Numbers'!$C$6/X456)),0)","v":0}]
[{"$nulls":3},"bonus action pct adv from Hold Person",{"$f":"IF(E456>0,E541*('Base Numbers'!$C$5*'Base Numbers'!$C$6/E456),0)","v":0},{"$f":"IF(F456>0,F541*('Base Numbers'!$C$5*'Base Numbers'!$C$6/F456),0)","v":0},{"$f":"IF(G456>0,G541*('Base Numbers'!$C$5*'Base Numbers'!$C$6/G456),0)","v":0},{"$f":"IF(H456>0,H541*('Base Numbers'!$C$5*'Base Numbers'!$C$6/H456),0)","v":0},{"$f":"IF(I456>0,I541*('Base Numbers'!$C$5*'Base Numbers'!$C$6/I456),0)","v":0},{"$f":"IF(J456>0,J541*('Base Numbers'!$C$5*'Base Numbers'!$C$6/J456),0)","v":0},{"$f":"IF(K456>0,K541*('Base Numbers'!$C$5*'Base Numbers'!$C$6/K456),0)","v":0},{"$f":"IF(L456>0,L541*('Base Numbers'!$C$5*'Base Numbers'!$C$6/L456),0)","v":0},{"$f":"IF(M456>0,M541*('Base Numbers'!$C$5*'Base Numbers'!$C$6/M456),0)","v":0},{"$f":"IF(N456>0,N541*('Base Numbers'!$C$5*'Base Numbers'!$C$6/N456),0)","v":0},{"$f":"IF(O456>0,O541*('Base Numbers'!$C$5*'Base Numbers'!$C$6/O456),0)","v":0},{"$f":"IF(P456>0,P541*('Base Numbers'!$C$5*'Base Numbers'!$C$6/P456),0)","v":0},{"$f":"IF(Q456>0,Q541*('Base Numbers'!$C$5*'Base Numbers'!$C$6/Q456),0)","v":0},{"$f":"IF(R456>0,R541*('Base Numbers'!$C$5*'Base Numbers'!$C$6/R456),0)","v":0},{"$f":"IF(S456>0,S541*('Base Numbers'!$C$5*'Base Numbers'!$C$6/S456),0)","v":0},{"$f":"IF(T456>0,T541*('Base Numbers'!$C$5*'Base Numbers'!$C$6/T456),0)","v":0},{"$f":"IF(U456>0,U541*('Base Numbers'!$C$5*'Base Numbers'!$C$6/U456),0)","v":0},{"$f":"IF(V456>0,V541*('Base Numbers'!$C$5*'Base Numbers'!$C$6/V456),0)","v":0},{"$f":"IF(W456>0,W541*('Base Numbers'!$C$5*'Base Numbers'!$C$6/W456),0)","v":0},{"$f":"IF(X456>0,X541*('Base Numbers'!$C$5*'Base Numbers'!$C$6/X456),0)","v":0}]
[{"$nulls":3},"bonus action pct adv from Shadow of Moil",{"$f":"IF(E456>0,MIN(E288*(1+E357)/E456,E460),0)","v":0},0,0,0,0,0,0,0,0,0,0,0,0,0,0,0,0,0,0,0]
[{"$nulls":3},"bonus action pct adv from Greater Invis (a)",{"$f":"IF(E456>0,MIN(E289*(1+E357)/E456,E458),0)","v":0},0,0,0,0,0,0,0,0,0,0,0,0,0,0,0,0,0,0,0]
[{"$nulls":3},"bonus action pct adv from Faerie Fire",{"$f":"IF(E456>0,E747*(1+E356)/E456,0)","v":0},0,0,0,0,0,0,0,0,0,0,0,0,0,0,0,0,0,0,0]
[{"$nulls":3},"bonus action pct adv from Guardian of Nature",{"$f":"IF(E456>0,IF(OR(E157,E163),E279,0)*(E356)/E456,0)","v":0},0,0,0,0,0,0,0,0,0,0,0,0,0,0,0,0,0,0,0]
[{"$nulls":3},"bonus action pct adv from Tenser's Transformation",{"$f":"IF(E456>0,(1+E356)*E291/E456,0)","v":0},0,0,0,0,0,0,0,0,0,0,0,0,0,0,0,0,0,0,0]
[{"$nulls":3},"opp att pct adv from Obscurement",{"$f":"IF(E446,E451,0)","v":0},0,0,0,0,0,0,0,0,0,0,0,0,0,0,0,0,0,0,0]
[{"$nulls":3},"opp att pct adv from Darkness",{"$f":"IF(E445,E452,0)","v":0},0,0,0,0,0,0,0,0,0,0,0,0,0,0,0,0,0,0,0,null,"these aren't discounted; reactions aren't reduced by spell casts"]
[{"$nulls":3},"opp att pct adv from Shadow Blade",{"$f":"IF(E456>0,MIN(IF(E445,0.2,0.1),((E366)*E269)/E456),0)","v":0},0,0,0,0,0,0,0,0,0,0,0,0,0,0,0,0,0,0,0]
[{"$nulls":3},"opp att pct adv from Vow of Emnity",{"$f":"E1065/'Base Numbers'!$C$5","v":0},{"$f":"F1065/'Base Numbers'!$C$5","v":0},{"$f":"G1065/'Base Numbers'!$C$5","v":0},{"$f":"H1065/'Base Numbers'!$C$5","v":0},{"$f":"I1065/'Base Numbers'!$C$5","v":0},{"$f":"J1065/'Base Numbers'!$C$5","v":0},{"$f":"K1065/'Base Numbers'!$C$5","v":0},{"$f":"L1065/'Base Numbers'!$C$5","v":0},{"$f":"M1065/'Base Numbers'!$C$5","v":0},{"$f":"N1065/'Base Numbers'!$C$5","v":0},{"$f":"O1065/'Base Numbers'!$C$5","v":0},{"$f":"P1065/'Base Numbers'!$C$5","v":0},{"$f":"Q1065/'Base Numbers'!$C$5","v":0},{"$f":"R1065/'Base Numbers'!$C$5","v":0},{"$f":"S1065/'Base Numbers'!$C$5","v":0},{"$f":"T1065/'Base Numbers'!$C$5","v":0},{"$f":"U1065/'Base Numbers'!$C$5","v":0},{"$f":"V1065/'Base Numbers'!$C$5","v":0},{"$f":"W1065/'Base Numbers'!$C$5","v":0},{"$f":"X1065/'Base Numbers'!$C$5","v":0}]
[{"$nulls":3},"opp att pct adv from Shadow of Moil",{"$f":"MIN(E288*(E357)/('Base Numbers'!$C$5*'Base Numbers'!$C$6),E460)","v":0},{"$f":"MIN(F288*(F357)/('Base Numbers'!$C$5*'Base Numbers'!$C$6),F460)","v":0},{"$f":"MIN(G288*(G357)/('Base Numbers'!$C$5*'Base Numbers'!$C$6),G460)","v":0},{"$f":"MIN(H288*(H357)/('Base Numbers'!$C$5*'Base Numbers'!$C$6),H460)","v":0},{"$f":"MIN(I288*(I357)/('Base Numbers'!$C$5*'Base Numbers'!$C$6),I460)","v":0},{"$f":"MIN(J288*(J357)/('Base Numbers'!$C$5*'Base Numbers'!$C$6),J460)","v":0},{"$f":"MIN(K288*(K357)/('Base Numbers'!$C$5*'Base Numbers'!$C$6),K460)","v":0},{"$f":"MIN(L288*(L357)/('Base Numbers'!$C$5*'Base Numbers'!$C$6),L460)","v":0},{"$f":"MIN(M288*(M357)/('Base Numbers'!$C$5*'Base Numbers'!$C$6),M460)","v":0},{"$f":"MIN(N288*(N357)/('Base Numbers'!$C$5*'Base Numbers'!$C$6),N460)","v":0},{"$f":"MIN(O288*(O357)/('Base Numbers'!$C$5*'Base Numbers'!$C$6),O460)","v":0},{"$f":"MIN(P288*(P357)/('Base Numbers'!$C$5*'Base Numbers'!$C$6),P460)","v":0},{"$f":"MIN(Q288*(Q357)/('Base Numbers'!$C$5*'Base Numbers'!$C$6),Q460)","v":0},{"$f":"MIN(R288*(R357)/('Base Numbers'!$C$5*'Base Numbers'!$C$6),R460)","v":0},{"$f":"MIN(S288*(S357)/('Base Numbers'!$C$5*'Base Numbers'!$C$6),S460)","v":0},{"$f":"MIN(T288*(T357)/('Base Numbers'!$C$5*'Base Numbers'!$C$6),T460)","v":0},{"$f":"MIN(U288*(U357)/('Base Numbers'!$C$5*'Base Numbers'!$C$6),U460)","v":0},{"$f":"MIN(V288*(V357)/('Base Numbers'!$C$5*'Base Numbers'!$C$6),V460)","v":0},{"$f":"MIN(W288*(W357)/('Base Numbers'!$C$5*'Base Numbers'!$C$6),W460)","v":0},{"$f":"MIN(X288*(X357)/('Base Numbers'!$C$5*'Base Numbers'!$C$6),X460)","v":0}]
[{"$nulls":3},"opp att pct adv from Greater Invis",{"$f":"MIN(E289*(E357)/('Base Numbers'!$C$5*'Base Numbers'!$C$6),E458)","v":0},{"$f":"MIN(F289*(F357)/('Base Numbers'!$C$5*'Base Numbers'!$C$6),F458)","v":0},{"$f":"MIN(G289*(G357)/('Base Numbers'!$C$5*'Base Numbers'!$C$6),G458)","v":0},{"$f":"MIN(H289*(H357)/('Base Numbers'!$C$5*'Base Numbers'!$C$6),H458)","v":0},{"$f":"MIN(I289*(I357)/('Base Numbers'!$C$5*'Base Numbers'!$C$6),I458)","v":0},{"$f":"MIN(J289*(J357)/('Base Numbers'!$C$5*'Base Numbers'!$C$6),J458)","v":0},{"$f":"MIN(K289*(K357)/('Base Numbers'!$C$5*'Base Numbers'!$C$6),K458)","v":0},{"$f":"MIN(L289*(L357)/('Base Numbers'!$C$5*'Base Numbers'!$C$6),L458)","v":0},{"$f":"MIN(M289*(M357)/('Base Numbers'!$C$5*'Base Numbers'!$C$6),M458)","v":0},{"$f":"MIN(N289*(N357)/('Base Numbers'!$C$5*'Base Numbers'!$C$6),N458)","v":0},{"$f":"MIN(O289*(O357)/('Base Numbers'!$C$5*'Base Numbers'!$C$6),O458)","v":0},{"$f":"MIN(P289*(P357)/('Base Numbers'!$C$5*'Base Numbers'!$C$6),P458)","v":0},{"$f":"MIN(Q289*(Q357)/('Base Numbers'!$C$5*'Base Numbers'!$C$6),Q458)","v":0},{"$f":"MIN(R289*(R357)/('Base Numbers'!$C$5*'Base Numbers'!$C$6),R458)","v":0},{"$f":"MIN(S289*(S357)/('Base Numbers'!$C$5*'Base Numbers'!$C$6),S458)","v":0},{"$f":"MIN(T289*(T357)/('Base Numbers'!$C$5*'Base Numbers'!$C$6),T458)","v":0},{"$f":"MIN(U289*(U357)/('Base Numbers'!$C$5*'Base Numbers'!$C$6),U458)","v":0},{"$f":"MIN(V289*(V357)/('Base Numbers'!$C$5*'Base Numbers'!$C$6),V458)","v":0},{"$f":"MIN(W289*(W357)/('Base Numbers'!$C$5*'Base Numbers'!$C$6),W458)","v":0},{"$f":"MIN(X289*(X357)/('Base Numbers'!$C$5*'Base Numbers'!$C$6),X458)","v":0}]
[{"$nulls":3},"opp att pct adv from Faerie Fire",{"$f":"E747*E356/('Base Numbers'!$C$5*'Base Numbers'!$C$6)","v":0},{"$f":"F747*F356/('Base Numbers'!$C$5*'Base Numbers'!$C$6)","v":0},{"$f":"G747*G356/('Base Numbers'!$C$5*'Base Numbers'!$C$6)","v":0},{"$f":"H747*H356/('Base Numbers'!$C$5*'Base Numbers'!$C$6)","v":0},{"$f":"I747*I356/('Base Numbers'!$C$5*'Base Numbers'!$C$6)","v":0},{"$f":"J747*J356/('Base Numbers'!$C$5*'Base Numbers'!$C$6)","v":0},{"$f":"K747*K356/('Base Numbers'!$C$5*'Base Numbers'!$C$6)","v":0},{"$f":"L747*L356/('Base Numbers'!$C$5*'Base Numbers'!$C$6)","v":0},{"$f":"M747*M356/('Base Numbers'!$C$5*'Base Numbers'!$C$6)","v":0},{"$f":"N747*N356/('Base Numbers'!$C$5*'Base Numbers'!$C$6)","v":0},{"$f":"O747*O356/('Base Numbers'!$C$5*'Base Numbers'!$C$6)","v":0},{"$f":"P747*P356/('Base Numbers'!$C$5*'Base Numbers'!$C$6)","v":0},{"$f":"Q747*Q356/('Base Numbers'!$C$5*'Base Numbers'!$C$6)","v":0},{"$f":"R747*R356/('Base Numbers'!$C$5*'Base Numbers'!$C$6)","v":0},{"$f":"S747*S356/('Base Numbers'!$C$5*'Base Numbers'!$C$6)","v":0},{"$f":"T747*T356/('Base Numbers'!$C$5*'Base Numbers'!$C$6)","v":0},{"$f":"U747*U356/('Base Numbers'!$C$5*'Base Numbers'!$C$6)","v":0},{"$f":"V747*V356/('Base Numbers'!$C$5*'Base Numbers'!$C$6)","v":0},{"$f":"W747*W356/('Base Numbers'!$C$5*'Base Numbers'!$C$6)","v":0},{"$f":"X747*X356/('Base Numbers'!$C$5*'Base Numbers'!$C$6)","v":0}]
[{"$nulls":3},"opp att pct adv from Guardian of Nature",{"$f":"IF(OR(E157,E163),E279,0)*(E356)/('Base Numbers'!$C$5*'Base Numbers'!$C$6)","v":0},{"$f":"IF(OR(F157,F163),F279,0)*(F356)/('Base Numbers'!$C$5*'Base Numbers'!$C$6)","v":0},{"$f":"IF(OR(G157,G163),G279,0)*(G356)/('Base Numbers'!$C$5*'Base Numbers'!$C$6)","v":0},{"$f":"IF(OR(H157,H163),H279,0)*(H356)/('Base Numbers'!$C$5*'Base Numbers'!$C$6)","v":0},{"$f":"IF(OR(I157,I163),I279,0)*(I356)/('Base Numbers'!$C$5*'Base Numbers'!$C$6)","v":0},{"$f":"IF(OR(J157,J163),J279,0)*(J356)/('Base Numbers'!$C$5*'Base Numbers'!$C$6)","v":0},{"$f":"IF(OR(K157,K163),K279,0)*(K356)/('Base Numbers'!$C$5*'Base Numbers'!$C$6)","v":0},{"$f":"IF(OR(L157,L163),L279,0)*(L356)/('Base Numbers'!$C$5*'Base Numbers'!$C$6)","v":0},{"$f":"IF(OR(M157,M163),M279,0)*(M356)/('Base Numbers'!$C$5*'Base Numbers'!$C$6)","v":0},{"$f":"IF(OR(N157,N163),N279,0)*(N356)/('Base Numbers'!$C$5*'Base Numbers'!$C$6)","v":0},{"$f":"IF(OR(O157,O163),O279,0)*(O356)/('Base Numbers'!$C$5*'Base Numbers'!$C$6)","v":0},{"$f":"IF(OR(P157,P163),P279,0)*(P356)/('Base Numbers'!$C$5*'Base Numbers'!$C$6)","v":0},{"$f":"IF(OR(Q157,Q163),Q279,0)*(Q356)/('Base Numbers'!$C$5*'Base Numbers'!$C$6)","v":0},{"$f":"IF(OR(R157,R163),R279,0)*(R356)/('Base Numbers'!$C$5*'Base Numbers'!$C$6)","v":0},{"$f":"IF(OR(S157,S163),S279,0)*(S356)/('Base Numbers'!$C$5*'Base Numbers'!$C$6)","v":0},{"$f":"IF(OR(T157,T163),T279,0)*(T356)/('Base Numbers'!$C$5*'Base Numbers'!$C$6)","v":0},{"$f":"IF(OR(U157,U163),U279,0)*(U356)/('Base Numbers'!$C$5*'Base Numbers'!$C$6)","v":0},{"$f":"IF(OR(V157,V163),V279,0)*(V356)/('Base Numbers'!$C$5*'Base Numbers'!$C$6)","v":0},{"$f":"IF(OR(W157,W163),W279,0)*(W356)/('Base Numbers'!$C$5*'Base Numbers'!$C$6)","v":0},{"$f":"IF(OR(X157,X163),X279,0)*(X356)/('Base Numbers'!$C$5*'Base Numbers'!$C$6)","v":0}]
[{"$nulls":3},"opp att pct adv from Tenser's Transformation",{"$f":"E356*E291/('Base Numbers'!$C$5*'Base Numbers'!$C$6)","v":0},{"$f":"F356*F291/('Base Numbers'!$C$5*'Base Numbers'!$C$6)","v":0},{"$f":"G356*G291/('Base Numbers'!$C$5*'Base Numbers'!$C$6)","v":0},{"$f":"H356*H291/('Base Numbers'!$C$5*'Base Numbers'!$C$6)","v":0},{"$f":"I356*I291/('Base Numbers'!$C$5*'Base Numbers'!$C$6)","v":0},{"$f":"J356*J291/('Base Numbers'!$C$5*'Base Numbers'!$C$6)","v":0},{"$f":"K356*K291/('Base Numbers'!$C$5*'Base Numbers'!$C$6)","v":0},{"$f":"L356*L291/('Base Numbers'!$C$5*'Base Numbers'!$C$6)","v":0},{"$f":"M356*M291/('Base Numbers'!$C$5*'Base Numbers'!$C$6)","v":0},{"$f":"N356*N291/('Base Numbers'!$C$5*'Base Numbers'!$C$6)","v":0},{"$f":"O356*O291/('Base Numbers'!$C$5*'Base Numbers'!$C$6)","v":0},{"$f":"P356*P291/('Base Numbers'!$C$5*'Base Numbers'!$C$6)","v":0},{"$f":"Q356*Q291/('Base Numbers'!$C$5*'Base Numbers'!$C$6)","v":0},{"$f":"R356*R291/('Base Numbers'!$C$5*'Base Numbers'!$C$6)","v":0},{"$f":"S356*S291/('Base Numbers'!$C$5*'Base Numbers'!$C$6)","v":0},{"$f":"T356*T291/('Base Numbers'!$C$5*'Base Numbers'!$C$6)","v":0},{"$f":"U356*U291/('Base Numbers'!$C$5*'Base Numbers'!$C$6)","v":0},{"$f":"V356*V291/('Base Numbers'!$C$5*'Base Numbers'!$C$6)","v":0},{"$f":"W356*W291/('Base Numbers'!$C$5*'Base Numbers'!$C$6)","v":0},{"$f":"X356*X291/('Base Numbers'!$C$5*'Base Numbers'!$C$6)","v":0}]
[]
[]
[{"$nulls":3},"ADVANTAGE"]
[{"$nulls":3},"d20s rolled w adv: (CHA/DEX/INT/WIS) nonspell attacks",{"$f":"IF(AND(E158=0,E29),3,2)","v":2},{"$f":"IF(AND(F158=0,F29),3,2)","v":2},2,2,2,2,2,2,2,2,2,2,2,2,2,2,2,2,2,2,null,"* note: Elven Acc doesn't work with STR attacks.  Just DEX/CHA/WIS/INT"]
[{"$nulls":3},"d20s rolled w adv: (CHA/INT/WIS) spell attacks",{"$f":"IF(E29,3,2)","v":2},{"$f":"IF(F29,3,2)","v":2},2,2,2,2,2,2,2,2,2,2,2,2,2,2,2,2,2,2]
[{"$nulls":3},"reckless attacks apply (if Str Melee attacks)",{"$f":"IF(AND(AND(E163=0,E8>=2),E158>=1),1,0)","v":0},0,0,0,0,0,0,0,0,0,0,0,0,0,0,0,0,0,0,0]
[{"$nulls":3},"adv on first attack (FF, RB, Reckless, no prone)",{"$f":"MIN(1,E464+E465+E468+E463+E470+E471+E472+E474+E475+E476+E479+E478+E469+E477+E467+E466+E462+E473)","v":0},0,0.32830000000000004,0.3417,0.3551,0.3551,0.3551,0.3551,0.34840000000000004,0.335,0.3216,0.42650000000000005,0.4198,0.4064,0.393,0.3796,1,1,1,1,null,1,"adv : first attack"]
[{"$nulls":3},"adv on subsequent attacks (if any) (prone, no FF, no RB)",{"$f":"MIN(1,E468+E463+E470+E471+E472+E474+E475+E476+E479+E461+E478+E469+E477+E467+E466+E462+E473)","v":0},0,0.32830000000000004,0.3417,0.3551,0.3551,0.3551,0.3551,0.34840000000000004,0.335,0.3216,0.42650000000000005,0.4198,0.4064,0.393,0.3796,0.3729,0.3595,0.33940000000000003,0.30590000000000006,null,2,"adv : 2nd+ attacks"]
[{"$nulls":3},"adv average on basic attack ation attacks",{"$f":"(E378-1)/E378*E507+E506/E378","v":0},0,0.32830000000000004,0.3417,0.3551,0.3551,0.3551,0.3551,0.34840000000000004,0.335,0.3216,0.42650000000000005,0.4198,0.4064,0.393,0.3796,0.68645,0.67975,0.6697,0.65295,null,3,"adv : avg basic attacks"]
[{"$nulls":3},"adv on bonus attacks (prone, no FF, no RB)",{"$f":"MIN(1,E482+E485+E486+E488+E489+E490+E463+E480+E484+E476+E483+E477+E481+E466+E462+E487)","v":0},{"$f":"MIN(1,F482+F485+F486+F488+F489+F490+F463+F480+F484+F476+F483+F477+F481+F466+F462+F487)","v":0},0.32830000000000004,0.3417,0.3551,0.3551,0.3551,0.3551,0.34840000000000004,0.335,0.3216,0.42650000000000005,0.4198,0.4064,0.393,0.3796,0.3729,0.3595,0.33940000000000003,0.30590000000000006,null,4,"adv : bonus attacks"]
[{"$nulls":3},"adv on Opp atts (no Hold Pers, Reckless, FF, Prone, RB)",{"$f":"MIN(1,E492+E493+E494+E495+E497+E498+E476+E499+E491+E466+E462+E496)","v":0},{"$f":"MIN(1,F492+F493+F494+F495+F497+F498+F476+F499+F491+F466+F462+F496)","v":0},0.32830000000000004,0.3417,0.3551,0.3551,0.3551,0.3551,0.34840000000000004,0.335,0.3216,0.30150000000000005,0.2948,0.2814,0.268,0.2546,0.2479,0.2345,0.2144,0.18090000000000003,null,5,"adv : opp attacks"]
[{"$nulls":3},"adv average on own turn",{"$f":"(E506+(E378-1+E379)*E507+E399*E509)/(E378+E379+E399)","v":0},0,0.32830000000000004,0.3417,0.3551,0.3551,0.3551,0.3551,0.34840000000000004,0.335,0.3216,0.42650000000000005,0.4198,0.4064,0.393,0.3796,0.68645,0.67975,0.6697,0.65295,null,6,"total avg own turn adv"]
[{"$nulls":3},"adv total average on all attacks",{"$f":"(E506+(E378-1+E379)*E507+E399*E509+E418*E510)/(E378+E379+E399+E418)","v":0},0,0.32830000000000004,0.3417,0.3551,0.3551,0.3551,0.3551,0.34840000000000004,0.335,0.3216,0.42650000000000005,0.4198,0.4064,0.393,0.3796,0.68645,0.67975,0.6697,0.65295,null,7,"total avg adv"]
[{"$nulls":3},"adv on first spell attack",{"$f":"MIN(1,E468+E471+E472+E474+E476+E464+E470+E477+E466+E462+E473)","v":0},0,0.32830000000000004,0.3417,0.3551,0.3551,0.3551,0.3551,0.34840000000000004,0.335,0.3216,0.42650000000000005,0.4198,0.4064,0.393,0.3796,1,1,1,1,null,9,"(spell adv)"]
[{"$nulls":3},"adv on subsequent spell attacks",{"$f":"MIN(1,E468+E471+E472+E474+E476+E461+E470+E477+E466+E462+E473)","v":0},0,0.32830000000000004,0.3417,0.3551,0.3551,0.3551,0.3551,0.34840000000000004,0.335,0.3216,0.42650000000000005,0.4198,0.4064,0.393,0.3796,0.3729,0.3595,0.33940000000000003,0.30590000000000006,null,10,"(spell adv bonus attacks) "]
[{"$nulls":3},"adv on spell bonus attacks",{"$f":"MIN(1,E480+E482+E485+E486+E488+E484+E466+E462+E487)","v":0},{"$f":"MIN(1,F480+F482+F485+F486+F488+F484+F466+F462+F487)","v":0},0,0,0,0,0,0,0,0,0,0,0,0,0,0,0,0,0,0]
[{"$nulls":3},"avg hit chance per first attack",{"$f":"(1-E506)*E$391+E$393*E506","v":0.65},0.65,0.6787920000000001,0.682008,0.73078525,0.685224,0.685224,0.685224,{"$f":"(1-M506)*M$391+M$393*M506","v":0.729261},0.7262125,0.723164,0.7023599999999999,0.788158,0.785344,0.7394075,0.7363590000000001,0.91,0.8775000000000001,0.8775000000000001,0.8775000000000001]
[{"$nulls":3},"avg hit chance per subsequent attack (if any)",{"$f":"(1-E507)*E$391+E$393*E507","v":0.65},0.65,0.6787920000000001,0.682008,0.73078525,0.685224,0.685224,0.685224,0.729261,0.7262125,0.723164,0.7023599999999999,0.788158,0.785344,0.7394075,0.7363590000000001,0.7783089999999999,0.7317862500000001,0.7272135000000001,0.71959225]
[{"$nulls":3},"avg hit chance per basic attacks (incl haste)",{"$f":"(1-E508)*E$391+E$393*E508","v":0.65},{"$f":"(1-F508)*F$391+F$393*F508","v":0.65},0.6787920000000001,0.682008,0.73078525,0.685224,0.685224,0.685224,0.729261,0.7262125,0.723164,0.7023599999999999,0.788158,0.785344,0.7394075,0.7363590000000001,0.8441544999999999,0.804643125,0.80235675,0.7985461250000001]
[{"$nulls":3},"avg hit chance per bonus attack",{"$f":"(1-E509)*E392+E394*E509","v":0.65},0.65,0.6787920000000001,0.682008,0.73078525,0.685224,0.685224,0.685224,0.729261,0.7262125,0.723164,0.7023599999999999,0.788158,0.785344,0.7394075,0.7363590000000001,0.7783089999999999,0.7317862500000001,0.7272135000000001,0.71959225]
[{"$nulls":3},"avg hit chance per opp attack",{"$f":"(1-E510)*E397+E398*E510","v":0.65},0.65,0.6787920000000001,0.682008,0.73078525,0.685224,0.685224,0.685224,0.729261,0.7262125,0.723164,0.67236,0.761908,0.7590939999999999,0.71097,0.7079215000000001,0.752059,0.7033487500000001,0.6987760000000001,0.69115475]
[{"$nulls":3},"total avg own turn hit chance ",{"$f":"(1-E511)*E$391+E$393*E511","v":0.65},{"$f":"(1-F511)*F$391+F$393*F511","v":0.65},0.6787920000000001,0.682008,0.73078525,0.685224,0.685224,0.685224,0.729261,0.7262125,0.723164,0.7023599999999999,0.788158,0.785344,0.7394075,0.7363590000000001,0.8441544999999999,0.804643125,0.80235675,0.7985461250000001]
[{"$nulls":3},"total avg hit chance (incl Opp atts)",{"$f":"(1-E512)*E$391+E$393*E512","v":0.65},{"$f":"(1-F512)*F$391+F$393*F512","v":0.65},0.6787920000000001,0.682008,0.73078525,0.685224,0.685224,0.685224,0.729261,0.7262125,0.723164,0.7023599999999999,0.788158,0.785344,0.7394075,0.7363590000000001,0.8441544999999999,0.804643125,0.80235675,0.7985461250000001]
[{"$nulls":3},"avg spell hit chance",{"$f":"(1-E513)*E424+E426*E513","v":0.65},0.65,0.6787920000000001,0.682008,0.73078525,0.685224,0.685224,0.685224,0.683616,0.6804,0.677184,0.65555875,0.700752,0.6975359999999999,0.6472675000000001,0.643951,0.84,0.7975,0.7975,0.7975]
[{"$nulls":3},"avg spell bonus attack hit chance",{"$f":"(1-E515)*E425+E427*E515","v":0.65},0.65,0.6,0.6,0.65,0.6,0.6,0.6,0.6,0.6,0.6,0.55,0.6,0.6,0.55,0.55,0.6,0.55,0.55,0.55]
[]
[{"$nulls":3},"CRITICALS"]
[{"$nulls":3},"avg base crit chance (hexblade curse)",{"$f":"(1+IF($B$52,0.05,0))*(0.05+IF(E12>0,0.05*E1372/'Base Numbers'!$C$5,0)+IF(AND(E10>=3,E58>=1),0.05,0)+IF(AND(E10>=15,E58>=1),0.05,0)+IF(E1079,0.05/'Base Numbers'!$C$5))","v":0.05},{"$f":"(1+IF($B$52,0.05,0))*(0.05+IF(F12>0,0.05*F1372/'Base Numbers'!$C$5,0)+IF(AND(F10>=3,F58>=1),0.05,0)+IF(AND(F10>=15,F58>=1),0.05,0)+IF(F1079,0.05/'Base Numbers'!$C$5))","v":0.05},{"$f":"(1+IF($B$52,0.05,0))*(0.05+IF(G12>0,0.05*G1372/'Base Numbers'!$C$5,0)+IF(AND(G10>=3,G58>=1),0.05,0)+IF(AND(G10>=15,G58>=1),0.05,0)+IF(G1079,0.05/'Base Numbers'!$C$5))","v":0.05},{"$f":"(1+IF($B$52,0.05,0))*(0.05+IF(H12>0,0.05*H1372/'Base Numbers'!$C$5,0)+IF(AND(H10>=3,H58>=1),0.05,0)+IF(AND(H10>=15,H58>=1),0.05,0)+IF(H1079,0.05/'Base Numbers'!$C$5))","v":0.05},{"$f":"(1+IF($B$52,0.05,0))*(0.05+IF(I12>0,0.05*I1372/'Base Numbers'!$C$5,0)+IF(AND(I10>=3,I58>=1),0.05,0)+IF(AND(I10>=15,I58>=1),0.05,0)+IF(I1079,0.05/'Base Numbers'!$C$5))","v":0.05},{"$f":"(1+IF($B$52,0.05,0))*(0.05+IF(J12>0,0.05*J1372/'Base Numbers'!$C$5,0)+IF(AND(J10>=3,J58>=1),0.05,0)+IF(AND(J10>=15,J58>=1),0.05,0)+IF(J1079,0.05/'Base Numbers'!$C$5))","v":0.05},{"$f":"(1+IF($B$52,0.05,0))*(0.05+IF(K12>0,0.05*K1372/'Base Numbers'!$C$5,0)+IF(AND(K10>=3,K58>=1),0.05,0)+IF(AND(K10>=15,K58>=1),0.05,0)+IF(K1079,0.05/'Base Numbers'!$C$5))","v":0.05},{"$f":"(1+IF($B$52,0.05,0))*(0.05+IF(L12>0,0.05*L1372/'Base Numbers'!$C$5,0)+IF(AND(L10>=3,L58>=1),0.05,0)+IF(AND(L10>=15,L58>=1),0.05,0)+IF(L1079,0.05/'Base Numbers'!$C$5))","v":0.05},{"$f":"(1+IF($B$52,0.05,0))*(0.05+IF(M12>0,0.05*M1372/'Base Numbers'!$C$5,0)+IF(AND(M10>=3,M58>=1),0.05,0)+IF(AND(M10>=15,M58>=1),0.05,0)+IF(M1079,0.05/'Base Numbers'!$C$5))","v":0.05},{"$f":"(1+IF($B$52,0.05,0))*(0.05+IF(N12>0,0.05*N1372/'Base Numbers'!$C$5,0)+IF(AND(N10>=3,N58>=1),0.05,0)+IF(AND(N10>=15,N58>=1),0.05,0)+IF(N1079,0.05/'Base Numbers'!$C$5))","v":0.05},{"$f":"(1+IF($B$52,0.05,0))*(0.05+IF(O12>0,0.05*O1372/'Base Numbers'!$C$5,0)+IF(AND(O10>=3,O58>=1),0.05,0)+IF(AND(O10>=15,O58>=1),0.05,0)+IF(O1079,0.05/'Base Numbers'!$C$5))","v":0.05},{"$f":"(1+IF($B$52,0.05,0))*(0.05+IF(P12>0,0.05*P1372/'Base Numbers'!$C$5,0)+IF(AND(P10>=3,P58>=1),0.05,0)+IF(AND(P10>=15,P58>=1),0.05,0)+IF(P1079,0.05/'Base Numbers'!$C$5))","v":0.05},{"$f":"(1+IF($B$52,0.05,0))*(0.05+IF(Q12>0,0.05*Q1372/'Base Numbers'!$C$5,0)+IF(AND(Q10>=3,Q58>=1),0.05,0)+IF(AND(Q10>=15,Q58>=1),0.05,0)+IF(Q1079,0.05/'Base Numbers'!$C$5))","v":0.05},{"$f":"(1+IF($B$52,0.05,0))*(0.05+IF(R12>0,0.05*R1372/'Base Numbers'!$C$5,0)+IF(AND(R10>=3,R58>=1),0.05,0)+IF(AND(R10>=15,R58>=1),0.05,0)+IF(R1079,0.05/'Base Numbers'!$C$5))","v":0.05},{"$f":"(1+IF($B$52,0.05,0))*(0.05+IF(S12>0,0.05*S1372/'Base Numbers'!$C$5,0)+IF(AND(S10>=3,S58>=1),0.05,0)+IF(AND(S10>=15,S58>=1),0.05,0)+IF(S1079,0.05/'Base Numbers'!$C$5))","v":0.05},{"$f":"(1+IF($B$52,0.05,0))*(0.05+IF(T12>0,0.05*T1372/'Base Numbers'!$C$5,0)+IF(AND(T10>=3,T58>=1),0.05,0)+IF(AND(T10>=15,T58>=1),0.05,0)+IF(T1079,0.05/'Base Numbers'!$C$5))","v":0.05},{"$f":"(1+IF($B$52,0.05,0))*(0.05+IF(U12>0,0.05*U1372/'Base Numbers'!$C$5,0)+IF(AND(U10>=3,U58>=1),0.05,0)+IF(AND(U10>=15,U58>=1),0.05,0)+IF(U1079,0.05/'Base Numbers'!$C$5))","v":0.05},{"$f":"(1+IF($B$52,0.05,0))*(0.05+IF(V12>0,0.05*V1372/'Base Numbers'!$C$5,0)+IF(AND(V10>=3,V58>=1),0.05,0)+IF(AND(V10>=15,V58>=1),0.05,0)+IF(V1079,0.05/'Base Numbers'!$C$5))","v":0.05},{"$f":"(1+IF($B$52,0.05,0))*(0.05+IF(W12>0,0.05*W1372/'Base Numbers'!$C$5,0)+IF(AND(W10>=3,W58>=1),0.05,0)+IF(AND(W10>=15,W58>=1),0.05,0)+IF(W1079,0.05/'Base Numbers'!$C$5))","v":0.05},{"$f":"(1+IF($B$52,0.05,0))*(0.05+IF(X12>0,0.05*X1372/'Base Numbers'!$C$5,0)+IF(AND(X10>=3,X58>=1),0.05,0)+IF(AND(X10>=15,X58>=1),0.05,0)+IF(X1079,0.05/'Base Numbers'!$C$5))","v":0.05}]
[{"$nulls":3},"avg crit chance with advantage",{"$f":"1-(1-E527)^E503","v":0.09750000000000003},0.09750000000000003,0.09750000000000003,0.09750000000000003,0.09750000000000003,0.09750000000000003,0.09750000000000003,0.09750000000000003,0.09750000000000003,0.09750000000000003,0.09750000000000003,0.09750000000000003,0.09750000000000003,0.09750000000000003,0.09750000000000003,0.09750000000000003,0.09750000000000003,0.09750000000000003,0.09750000000000003,0.09750000000000003]
[{"$nulls":3},"avg crit chance with adv on spell attacks",{"$f":"1-(1-E527)^E504","v":0.09750000000000003},{"$f":"1-(1-F527)^F504","v":0.09750000000000003},0.09750000000000003,0.09750000000000003,0.09750000000000003,0.09750000000000003,0.09750000000000003,0.09750000000000003,0.09750000000000003,0.09750000000000003,0.09750000000000003,0.09750000000000003,0.09750000000000003,0.09750000000000003,0.09750000000000003,0.09750000000000003,0.09750000000000003,0.09750000000000003,0.09750000000000003,0.09750000000000003]
[{"$nulls":3},"avg crit chacen with disadvantage",{"$f":"E527^2","v":2.5000000000000005E-3},{"$f":"F527^2","v":2.5000000000000005E-3},2.5000000000000005E-3,2.5000000000000005E-3,2.5000000000000005E-3,2.5000000000000005E-3,2.5000000000000005E-3,2.5000000000000005E-3,2.5000000000000005E-3,2.5000000000000005E-3,2.5000000000000005E-3,2.5000000000000005E-3,2.5000000000000005E-3,2.5000000000000005E-3,2.5000000000000005E-3,2.5000000000000005E-3,2.5000000000000005E-3,2.5000000000000005E-3,2.5000000000000005E-3,2.5000000000000005E-3]
[{"$nulls":3},"avg crit chance during first attack",{"$f":"MIN(1,E506*E528+(1-E506)*E527+E542)","v":0.05},{"$f":"MIN(1,F506*F528+(1-F506)*F527+F542)","v":0.05},0.06559425000000002,0.06623075,0.06686725000000002,0.06686725000000002,0.06686725000000002,0.06686725000000002,0.06654900000000001,0.06591250000000001,0.065276,0.07025875000000001,0.06994050000000002,0.06930400000000002,0.06866750000000002,0.06803100000000001,0.09750000000000003,0.09750000000000003,0.09750000000000003,0.09750000000000003]
[{"$nulls":3},"avg crit chance on subsequent attacks (if any)",{"$f":"MIN(1,E507*E528+(1-E507)*E527+E542)","v":0.05},{"$f":"MIN(1,F507*F528+(1-F507)*F527+F542)","v":0.05},0.06559425000000002,0.06623075,0.06686725000000002,0.06686725000000002,0.06686725000000002,0.06686725000000002,0.06654900000000001,0.06591250000000001,0.065276,0.07025875000000001,0.06994050000000002,0.06930400000000002,0.06866750000000002,0.06803100000000001,0.06771275000000002,0.06707625000000002,0.06612150000000001,0.06453025000000001]
[{"$nulls":3},"avg crit chance of attacks during regular attack action",{"$f":"MIN(1,E508*E528+(1-E508)*E527+E542)","v":0.05},0.05,0.06559425000000002,0.06623075,0.06686725000000002,0.06686725000000002,0.06686725000000002,0.06686725000000002,0.06654900000000001,{"$f":"MIN(1,N508*N528+(1-N508)*N527+N542)","v":0.06591250000000001},{"$f":"MIN(1,O508*O528+(1-O508)*O527+O542)","v":0.065276},0.07025875000000001,0.06994050000000002,0.06930400000000002,0.06866750000000002,0.06803100000000001,0.08260637500000002,0.08228812500000002,0.08181075000000002,0.08101512500000002]
[{"$nulls":3},"avg crit chance per bonus attack (incl prone, advantage)",{"$f":"MIN(1,E509*E528+(1-E509)*E527+E542)","v":0.05},0.05,0.06559425000000002,0.06623075,0.06686725000000002,0.06686725000000002,0.06686725000000002,0.06686725000000002,0.06654900000000001,0.06591250000000001,0.065276,0.07025875000000001,0.06994050000000002,0.06930400000000002,0.06866750000000002,0.06803100000000001,0.06771275000000002,0.06707625000000002,0.06612150000000001,0.06453025000000001]
[{"$nulls":3},"avg total crit chance per opportunity attack (no prone, FF, Reckless)",{"$f":"MIN(1,E510*E528+(1-E510)*E527)","v":0.05},0.05,0.06559425000000002,0.06623075,0.06686725000000002,0.06686725000000002,0.06686725000000002,0.06686725000000002,0.06654900000000001,0.06591250000000001,0.065276,0.06432125000000001,0.06400300000000002,0.0633665,0.06273000000000001,0.06209350000000001,0.061775250000000004,0.061138750000000006,0.06018400000000001,0.058592750000000006]
[{"$nulls":3},"avg total crit chance per attack (incl advantage)",{"$f":"MIN(1,E512*E528+(1-E512)*E527+E542)","v":0.05},0.05,0.06559425000000002,0.06623075,0.06686725000000002,0.06686725000000002,0.06686725000000002,0.06686725000000002,0.06654900000000001,0.06591250000000001,0.065276,0.07025875000000001,0.06994050000000002,0.06930400000000002,0.06866750000000002,0.06803100000000001,0.08260637500000002,0.08228812500000002,0.08181075000000002,0.08101512500000002]
[{"$nulls":3},"avg crit chance per spell attack",{"$f":"MIN(1,E513*E529+(1-E513)*E527+E542)","v":0.05},{"$f":"MIN(1,F513*F529+(1-F513)*F527+F542)","v":0.05},0.06559425000000002,0.06623075,0.06686725000000002,0.06686725000000002,0.06686725000000002,0.06686725000000002,0.06654900000000001,0.06591250000000001,0.065276,0.07025875000000001,0.06994050000000002,0.06930400000000002,0.06866750000000002,0.06803100000000001,0.09750000000000003,0.09750000000000003,0.09750000000000003,0.09750000000000003]
[{"$nulls":3},"avg crit chance per spell bonus attack",{"$f":"MIN(1,E515*E529+(1-E515)*E527+E542)","v":0.05},{"$f":"MIN(1,F515*F529+(1-F515)*F527+F542)","v":0.05},0.05,0.05,0.05,0.05,0.05,0.05,0.05,0.05,0.05,0.05,0.05,0.05,0.05,0.05,0.05,0.05,0.05,0.05]
[{"$nulls":3},"single save prob of hold person spell (WIS save, spell DC)",{"$f":"E738","v":0.375},{"$f":"F738","v":0.4},0.425,0.45,0.425,0.45,0.475,0.5,0.475,0.5,0.525,0.55,0.525,0.55,0.575,0.6,0.575,0.6,0.625,0.65]
[{"$nulls":3},"avg duration of a hold person spell (based on saves, not incl conc)",{"$f":"(1-E539)*E539+2*(1-E539)^2*(E539)+3*(1-E539)^3*E539+4*(1-E539)^4","v":1.412353515625},{"$f":"(1-F539)*F539+2*(1-F539)^2*(F539)+3*(1-F539)^3*F539+4*(1-F539)^4","v":1.3056},1.2050472656249998,1.11038125,1.2050472656249998,1.11038125,1.021297265625,0.9375,1.021297265625,0.9375,0.858703515625,0.7846312499999999,0.858703515625,0.7846312499999999,0.7150160156250003,0.6496000000000002,0.7150160156250003,0.6496000000000002,0.588134765625,0.5303812499999999]
[{"$nulls":3},"pct of attacks vs. held/paralyzed opponent (really % of rounds)",{"$f":"(E286+E287)*MIN(E357,E540)/('Base Numbers'!$C$5*'Base Numbers'!$C$6)","v":0},{"$f":"(F286+F287)*MIN(F357,F540)/('Base Numbers'!$C$5*'Base Numbers'!$C$6)","v":0},{"$f":"(G286+G287)*MIN(G357,G540)/('Base Numbers'!$C$5*'Base Numbers'!$C$6)","v":0},{"$f":"(H286+H287)*MIN(H357,H540)/('Base Numbers'!$C$5*'Base Numbers'!$C$6)","v":0},{"$f":"(I286+I287)*MIN(I357,I540)/('Base Numbers'!$C$5*'Base Numbers'!$C$6)","v":0},{"$f":"(J286+J287)*MIN(J357,J540)/('Base Numbers'!$C$5*'Base Numbers'!$C$6)","v":0},{"$f":"(K286+K287)*MIN(K357,K540)/('Base Numbers'!$C$5*'Base Numbers'!$C$6)","v":0},{"$f":"(L286+L287)*MIN(L357,L540)/('Base Numbers'!$C$5*'Base Numbers'!$C$6)","v":0},{"$f":"(M286+M287)*MIN(M357,M540)/('Base Numbers'!$C$5*'Base Numbers'!$C$6)","v":0},{"$f":"(N286+N287)*MIN(N357,N540)/('Base Numbers'!$C$5*'Base Numbers'!$C$6)","v":0},{"$f":"(O286+O287)*MIN(O357,O540)/('Base Numbers'!$C$5*'Base Numbers'!$C$6)","v":0},{"$f":"(P286+P287)*MIN(P357,P540)/('Base Numbers'!$C$5*'Base Numbers'!$C$6)","v":0},{"$f":"(Q286+Q287)*MIN(Q357,Q540)/('Base Numbers'!$C$5*'Base Numbers'!$C$6)","v":0},{"$f":"(R286+R287)*MIN(R357,R540)/('Base Numbers'!$C$5*'Base Numbers'!$C$6)","v":0},{"$f":"(S286+S287)*MIN(S357,S540)/('Base Numbers'!$C$5*'Base Numbers'!$C$6)","v":0},{"$f":"(T286+T287)*MIN(T357,T540)/('Base Numbers'!$C$5*'Base Numbers'!$C$6)","v":0},{"$f":"(U286+U287)*MIN(U357,U540)/('Base Numbers'!$C$5*'Base Numbers'!$C$6)","v":0},{"$f":"(V286+V287)*MIN(V357,V540)/('Base Numbers'!$C$5*'Base Numbers'!$C$6)","v":0},{"$f":"(W286+W287)*MIN(W357,W540)/('Base Numbers'!$C$5*'Base Numbers'!$C$6)","v":0},{"$f":"(X286+X287)*MIN(X357,X540)/('Base Numbers'!$C$5*'Base Numbers'!$C$6)","v":0}]
[{"$nulls":3},"additive effect of held targets on crit rate",{"$f":"E541 - E541*(1-(1-E527)^E503)","v":0},{"$f":"F541 - F541*(1-(1-F527)^F503)","v":0},0,0,0,0,0,0,0,0,0,0,0,0,0,0,0,0,0,0]
[]
[{"$nulls":3},"DAMAGE BONUSES"]
[{"$nulls":3},"improved smite dmg",{"$f":"IF(E7>10,4.5,0)","v":0},0,0,0,0,0,0,0,0,0,0,0,0,0,0,0,0,0,0,0]
[{"$nulls":3},"avg hexblade curse dmg bonus",{"$f":"IF(E12>0,E1372*E39/'Base Numbers'!$C$5,0)","v":0},{"$f":"IF(F12>0,F1372*F39/'Base Numbers'!$C$5,0)","v":0},{"$f":"IF(G12>0,G1372*G39/'Base Numbers'!$C$5,0)","v":0},{"$f":"IF(H12>0,H1372*H39/'Base Numbers'!$C$5,0)","v":0},{"$f":"IF(I12>0,I1372*I39/'Base Numbers'!$C$5,0)","v":0},{"$f":"IF(J12>0,J1372*J39/'Base Numbers'!$C$5,0)","v":0},{"$f":"IF(K12>0,K1372*K39/'Base Numbers'!$C$5,0)","v":0},{"$f":"IF(L12>0,L1372*L39/'Base Numbers'!$C$5,0)","v":0},{"$f":"IF(M12>0,M1372*M39/'Base Numbers'!$C$5,0)","v":0},{"$f":"IF(N12>0,N1372*N39/'Base Numbers'!$C$5,0)","v":0},{"$f":"IF(O12>0,O1372*O39/'Base Numbers'!$C$5,0)","v":0},{"$f":"IF(P12>0,P1372*P39/'Base Numbers'!$C$5,0)","v":0},{"$f":"IF(Q12>0,Q1372*Q39/'Base Numbers'!$C$5,0)","v":0},{"$f":"IF(R12>0,R1372*R39/'Base Numbers'!$C$5,0)","v":0},{"$f":"IF(S12>0,S1372*S39/'Base Numbers'!$C$5,0)","v":0},{"$f":"IF(T12>0,T1372*T39/'Base Numbers'!$C$5,0)","v":0},{"$f":"IF(U12>0,U1372*U39/'Base Numbers'!$C$5,0)","v":0},{"$f":"IF(V12>0,V1372*V39/'Base Numbers'!$C$5,0)","v":0},{"$f":"IF(W12>0,W1372*W39/'Base Numbers'!$C$5,0)","v":0},{"$f":"IF(X12>0,X1372*X39/'Base Numbers'!$C$5,0)","v":0}]
[{"$nulls":3},"avg hexblade curse dmg bonus on bonus attacks",{"$f":"IF(E12>0,E1372*E39*('Base Numbers'!$C$6-1)/('Base Numbers'!$C$5*'Base Numbers'!$C$6),0)","v":0},{"$f":"IF(F12>0,F1372*F39*('Base Numbers'!$C$6-1)/('Base Numbers'!$C$5*'Base Numbers'!$C$6),0)","v":0},{"$f":"IF(G12>0,G1372*G39*('Base Numbers'!$C$6-1)/('Base Numbers'!$C$5*'Base Numbers'!$C$6),0)","v":0},{"$f":"IF(H12>0,H1372*H39*('Base Numbers'!$C$6-1)/('Base Numbers'!$C$5*'Base Numbers'!$C$6),0)","v":0},{"$f":"IF(I12>0,I1372*I39*('Base Numbers'!$C$6-1)/('Base Numbers'!$C$5*'Base Numbers'!$C$6),0)","v":0},{"$f":"IF(J12>0,J1372*J39*('Base Numbers'!$C$6-1)/('Base Numbers'!$C$5*'Base Numbers'!$C$6),0)","v":0},{"$f":"IF(K12>0,K1372*K39*('Base Numbers'!$C$6-1)/('Base Numbers'!$C$5*'Base Numbers'!$C$6),0)","v":0},{"$f":"IF(L12>0,L1372*L39*('Base Numbers'!$C$6-1)/('Base Numbers'!$C$5*'Base Numbers'!$C$6),0)","v":0},{"$f":"IF(M12>0,M1372*M39*('Base Numbers'!$C$6-1)/('Base Numbers'!$C$5*'Base Numbers'!$C$6),0)","v":0},{"$f":"IF(N12>0,N1372*N39*('Base Numbers'!$C$6-1)/('Base Numbers'!$C$5*'Base Numbers'!$C$6),0)","v":0},{"$f":"IF(O12>0,O1372*O39*('Base Numbers'!$C$6-1)/('Base Numbers'!$C$5*'Base Numbers'!$C$6),0)","v":0},{"$f":"IF(P12>0,P1372*P39*('Base Numbers'!$C$6-1)/('Base Numbers'!$C$5*'Base Numbers'!$C$6),0)","v":0},{"$f":"IF(Q12>0,Q1372*Q39*('Base Numbers'!$C$6-1)/('Base Numbers'!$C$5*'Base Numbers'!$C$6),0)","v":0},{"$f":"IF(R12>0,R1372*R39*('Base Numbers'!$C$6-1)/('Base Numbers'!$C$5*'Base Numbers'!$C$6),0)","v":0},{"$f":"IF(S12>0,S1372*S39*('Base Numbers'!$C$6-1)/('Base Numbers'!$C$5*'Base Numbers'!$C$6),0)","v":0},{"$f":"IF(T12>0,T1372*T39*('Base Numbers'!$C$6-1)/('Base Numbers'!$C$5*'Base Numbers'!$C$6),0)","v":0},{"$f":"IF(U12>0,U1372*U39*('Base Numbers'!$C$6-1)/('Base Numbers'!$C$5*'Base Numbers'!$C$6),0)","v":0},{"$f":"IF(V12>0,V1372*V39*('Base Numbers'!$C$6-1)/('Base Numbers'!$C$5*'Base Numbers'!$C$6),0)","v":0},{"$f":"IF(W12>0,W1372*W39*('Base Numbers'!$C$6-1)/('Base Numbers'!$C$5*'Base Numbers'!$C$6),0)","v":0},{"$f":"IF(X12>0,X1372*X39*('Base Numbers'!$C$6-1)/('Base Numbers'!$C$5*'Base Numbers'!$C$6),0)","v":0}]
[{"$nulls":3},"warlock lifedrinker damage bonus (L12 pact of blade)",{"$f":"IF(AND($B$75>0,$B$75<=E6,E12>=12,E54>=1),E36,0)","v":0},0,0,0,0,0,0,0,0,0,0,0,0,0,0,0,0,0,0,0]
[{"$nulls":3},"hunters mark / hex dmg bonus",{"$f":"3.5*E273*(1+E356)/('Base Numbers'!$C$5*'Base Numbers'!$C$6)","v":0},{"$f":"3.5*F273*(1+F356)/('Base Numbers'!$C$5*'Base Numbers'!$C$6)","v":1.2132312499999998},{"$f":"3.5*G273*(1+G356)/('Base Numbers'!$C$5*'Base Numbers'!$C$6)","v":1.8198468749999996},{"$f":"3.5*H273*(1+H356)/('Base Numbers'!$C$5*'Base Numbers'!$C$6)","v":1.8198468749999996},{"$f":"3.5*I273*(1+I356)/('Base Numbers'!$C$5*'Base Numbers'!$C$6)","v":2.4264624999999995},{"$f":"3.5*J273*(1+J356)/('Base Numbers'!$C$5*'Base Numbers'!$C$6)","v":2.4264624999999995},{"$f":"3.5*K273*(1+K356)/('Base Numbers'!$C$5*'Base Numbers'!$C$6)","v":2.7173617187499994},{"$f":"3.5*L273*(1+L356)/('Base Numbers'!$C$5*'Base Numbers'!$C$6)","v":2.7173617187499994},{"$f":"3.5*M273*(1+M356)/('Base Numbers'!$C$5*'Base Numbers'!$C$6)","v":2.7173617187499994},{"$f":"3.5*N273*(1+N356)/('Base Numbers'!$C$5*'Base Numbers'!$C$6)","v":2.7173617187499994},{"$f":"3.5*O273*(1+O356)/('Base Numbers'!$C$5*'Base Numbers'!$C$6)","v":2.7173617187499994},{"$f":"3.5*P273*(1+P356)/('Base Numbers'!$C$5*'Base Numbers'!$C$6)","v":2.7173617187499994},{"$f":"3.5*Q273*(1+Q356)/('Base Numbers'!$C$5*'Base Numbers'!$C$6)","v":2.7173617187499994},{"$f":"3.5*R273*(1+R356)/('Base Numbers'!$C$5*'Base Numbers'!$C$6)","v":2.7173617187499994},{"$f":"3.5*S273*(1+S356)/('Base Numbers'!$C$5*'Base Numbers'!$C$6)","v":2.7173617187499994},{"$f":"3.5*T273*(1+T356)/('Base Numbers'!$C$5*'Base Numbers'!$C$6)","v":2.7173617187499994},{"$f":"3.5*U273*(1+U356)/('Base Numbers'!$C$5*'Base Numbers'!$C$6)","v":2.7173617187499994},{"$f":"3.5*V273*(1+V356)/('Base Numbers'!$C$5*'Base Numbers'!$C$6)","v":2.7173617187499994},{"$f":"3.5*W273*(1+W356)/('Base Numbers'!$C$5*'Base Numbers'!$C$6)","v":2.8},{"$f":"3.5*X273*(1+X356)/('Base Numbers'!$C$5*'Base Numbers'!$C$6)","v":2.8}]
[{"$nulls":3},"hunters mark / hex dmg bonus on bonus attacks",{"$f":"3.5*E273*(E356)/('Base Numbers'!$C$5*'Base Numbers'!$C$6)","v":0},{"$f":"3.5*F273*(F356)/('Base Numbers'!$C$5*'Base Numbers'!$C$6)","v":0.7757312499999998},{"$f":"3.5*G273*(G356)/('Base Numbers'!$C$5*'Base Numbers'!$C$6)","v":1.1635968749999996},{"$f":"3.5*H273*(H356)/('Base Numbers'!$C$5*'Base Numbers'!$C$6)","v":1.1635968749999996},{"$f":"3.5*I273*(I356)/('Base Numbers'!$C$5*'Base Numbers'!$C$6)","v":1.5514624999999995},{"$f":"3.5*J273*(J356)/('Base Numbers'!$C$5*'Base Numbers'!$C$6)","v":1.5514624999999995},{"$f":"3.5*K273*(K356)/('Base Numbers'!$C$5*'Base Numbers'!$C$6)","v":1.8423617187499994},{"$f":"3.5*L273*(L356)/('Base Numbers'!$C$5*'Base Numbers'!$C$6)","v":1.8423617187499994},{"$f":"3.5*M273*(M356)/('Base Numbers'!$C$5*'Base Numbers'!$C$6)","v":1.8423617187499994},{"$f":"3.5*N273*(N356)/('Base Numbers'!$C$5*'Base Numbers'!$C$6)","v":1.8423617187499994},{"$f":"3.5*O273*(O356)/('Base Numbers'!$C$5*'Base Numbers'!$C$6)","v":1.8423617187499994},{"$f":"3.5*P273*(P356)/('Base Numbers'!$C$5*'Base Numbers'!$C$6)","v":1.8423617187499994},{"$f":"3.5*Q273*(Q356)/('Base Numbers'!$C$5*'Base Numbers'!$C$6)","v":1.8423617187499994},{"$f":"3.5*R273*(R356)/('Base Numbers'!$C$5*'Base Numbers'!$C$6)","v":1.8423617187499994},{"$f":"3.5*S273*(S356)/('Base Numbers'!$C$5*'Base Numbers'!$C$6)","v":1.8423617187499994},{"$f":"3.5*T273*(T356)/('Base Numbers'!$C$5*'Base Numbers'!$C$6)","v":1.8423617187499994},{"$f":"3.5*U273*(U356)/('Base Numbers'!$C$5*'Base Numbers'!$C$6)","v":1.8423617187499994},{"$f":"3.5*V273*(V356)/('Base Numbers'!$C$5*'Base Numbers'!$C$6)","v":1.8423617187499994},{"$f":"3.5*W273*(W356)/('Base Numbers'!$C$5*'Base Numbers'!$C$6)","v":2.093619457044178},{"$f":"3.5*X273*(X356)/('Base Numbers'!$C$5*'Base Numbers'!$C$6)","v":2.093619457044178}]
[{"$nulls":3},"divine favor dmg bonus",{"$f":"2.5*E271*E356/('Base Numbers'!$C$5*'Base Numbers'!$C$6)","v":0},{"$f":"2.5*F271*F356/('Base Numbers'!$C$5*'Base Numbers'!$C$6)","v":0},{"$f":"2.5*G271*G356/('Base Numbers'!$C$5*'Base Numbers'!$C$6)","v":0},{"$f":"2.5*H271*H356/('Base Numbers'!$C$5*'Base Numbers'!$C$6)","v":0},{"$f":"2.5*I271*I356/('Base Numbers'!$C$5*'Base Numbers'!$C$6)","v":0},{"$f":"2.5*J271*J356/('Base Numbers'!$C$5*'Base Numbers'!$C$6)","v":0},{"$f":"2.5*K271*K356/('Base Numbers'!$C$5*'Base Numbers'!$C$6)","v":0},{"$f":"2.5*L271*L356/('Base Numbers'!$C$5*'Base Numbers'!$C$6)","v":0},{"$f":"2.5*M271*M356/('Base Numbers'!$C$5*'Base Numbers'!$C$6)","v":0},{"$f":"2.5*N271*N356/('Base Numbers'!$C$5*'Base Numbers'!$C$6)","v":0},{"$f":"2.5*O271*O356/('Base Numbers'!$C$5*'Base Numbers'!$C$6)","v":0},{"$f":"2.5*P271*P356/('Base Numbers'!$C$5*'Base Numbers'!$C$6)","v":0},{"$f":"2.5*Q271*Q356/('Base Numbers'!$C$5*'Base Numbers'!$C$6)","v":0},{"$f":"2.5*R271*R356/('Base Numbers'!$C$5*'Base Numbers'!$C$6)","v":0},{"$f":"2.5*S271*S356/('Base Numbers'!$C$5*'Base Numbers'!$C$6)","v":0},{"$f":"2.5*T271*T356/('Base Numbers'!$C$5*'Base Numbers'!$C$6)","v":0},{"$f":"2.5*U271*U356/('Base Numbers'!$C$5*'Base Numbers'!$C$6)","v":0},{"$f":"2.5*V271*V356/('Base Numbers'!$C$5*'Base Numbers'!$C$6)","v":0},{"$f":"2.5*W271*W356/('Base Numbers'!$C$5*'Base Numbers'!$C$6)","v":0},{"$f":"2.5*X271*X356/('Base Numbers'!$C$5*'Base Numbers'!$C$6)","v":0}]
[{"$nulls":3},"divine favor dmg bonus on bonus attacks",{"$f":"2.5*E271*(1+E356)/('Base Numbers'!$C$5*'Base Numbers'!$C$6)","v":0},{"$f":"2.5*F271*(1+F356)/('Base Numbers'!$C$5*'Base Numbers'!$C$6)","v":0},{"$f":"2.5*G271*(1+G356)/('Base Numbers'!$C$5*'Base Numbers'!$C$6)","v":0},{"$f":"2.5*H271*(1+H356)/('Base Numbers'!$C$5*'Base Numbers'!$C$6)","v":0},{"$f":"2.5*I271*(1+I356)/('Base Numbers'!$C$5*'Base Numbers'!$C$6)","v":0},{"$f":"2.5*J271*(1+J356)/('Base Numbers'!$C$5*'Base Numbers'!$C$6)","v":0},{"$f":"2.5*K271*(1+K356)/('Base Numbers'!$C$5*'Base Numbers'!$C$6)","v":0},{"$f":"2.5*L271*(1+L356)/('Base Numbers'!$C$5*'Base Numbers'!$C$6)","v":0},{"$f":"2.5*M271*(1+M356)/('Base Numbers'!$C$5*'Base Numbers'!$C$6)","v":0},{"$f":"2.5*N271*(1+N356)/('Base Numbers'!$C$5*'Base Numbers'!$C$6)","v":0},{"$f":"2.5*O271*(1+O356)/('Base Numbers'!$C$5*'Base Numbers'!$C$6)","v":0},{"$f":"2.5*P271*(1+P356)/('Base Numbers'!$C$5*'Base Numbers'!$C$6)","v":0},{"$f":"2.5*Q271*(1+Q356)/('Base Numbers'!$C$5*'Base Numbers'!$C$6)","v":0},{"$f":"2.5*R271*(1+R356)/('Base Numbers'!$C$5*'Base Numbers'!$C$6)","v":0},{"$f":"2.5*S271*(1+S356)/('Base Numbers'!$C$5*'Base Numbers'!$C$6)","v":0},{"$f":"2.5*T271*(1+T356)/('Base Numbers'!$C$5*'Base Numbers'!$C$6)","v":0},{"$f":"2.5*U271*(1+U356)/('Base Numbers'!$C$5*'Base Numbers'!$C$6)","v":0},{"$f":"2.5*V271*(1+V356)/('Base Numbers'!$C$5*'Base Numbers'!$C$6)","v":0},{"$f":"2.5*W271*(1+W356)/('Base Numbers'!$C$5*'Base Numbers'!$C$6)","v":0},{"$f":"2.5*X271*(1+X356)/('Base Numbers'!$C$5*'Base Numbers'!$C$6)","v":0}]
[{"$nulls":3},"avg holy weapon bonus dmg (per attack)",{"$f":"2*4.5*E356*E284/('Base Numbers'!$C$5*'Base Numbers'!$C$6)","v":0},{"$f":"2*4.5*F356*F284/('Base Numbers'!$C$5*'Base Numbers'!$C$6)","v":0},{"$f":"2*4.5*G356*G284/('Base Numbers'!$C$5*'Base Numbers'!$C$6)","v":0},{"$f":"2*4.5*H356*H284/('Base Numbers'!$C$5*'Base Numbers'!$C$6)","v":0},{"$f":"2*4.5*I356*I284/('Base Numbers'!$C$5*'Base Numbers'!$C$6)","v":0},{"$f":"2*4.5*J356*J284/('Base Numbers'!$C$5*'Base Numbers'!$C$6)","v":0},{"$f":"2*4.5*K356*K284/('Base Numbers'!$C$5*'Base Numbers'!$C$6)","v":0},{"$f":"2*4.5*L356*L284/('Base Numbers'!$C$5*'Base Numbers'!$C$6)","v":0},{"$f":"2*4.5*M356*M284/('Base Numbers'!$C$5*'Base Numbers'!$C$6)","v":0},{"$f":"2*4.5*N356*N284/('Base Numbers'!$C$5*'Base Numbers'!$C$6)","v":0},{"$f":"2*4.5*O356*O284/('Base Numbers'!$C$5*'Base Numbers'!$C$6)","v":0},{"$f":"2*4.5*P356*P284/('Base Numbers'!$C$5*'Base Numbers'!$C$6)","v":0},{"$f":"2*4.5*Q356*Q284/('Base Numbers'!$C$5*'Base Numbers'!$C$6)","v":0},{"$f":"2*4.5*R356*R284/('Base Numbers'!$C$5*'Base Numbers'!$C$6)","v":0},{"$f":"2*4.5*S356*S284/('Base Numbers'!$C$5*'Base Numbers'!$C$6)","v":0},{"$f":"2*4.5*T356*T284/('Base Numbers'!$C$5*'Base Numbers'!$C$6)","v":0},{"$f":"2*4.5*U356*U284/('Base Numbers'!$C$5*'Base Numbers'!$C$6)","v":0},{"$f":"2*4.5*V356*V284/('Base Numbers'!$C$5*'Base Numbers'!$C$6)","v":0},{"$f":"2*4.5*W356*W284/('Base Numbers'!$C$5*'Base Numbers'!$C$6)","v":0},{"$f":"2*4.5*X356*X284/('Base Numbers'!$C$5*'Base Numbers'!$C$6)","v":0}]
[{"$nulls":3},"avg holy weapon bonus dmg (per attack) on bonus attacks",{"$f":"2*4.5*(1+E356)*E284/('Base Numbers'!$C$5*'Base Numbers'!$C$6)","v":0},{"$f":"2*4.5*(1+F356)*F284/('Base Numbers'!$C$5*'Base Numbers'!$C$6)","v":0},{"$f":"2*4.5*(1+G356)*G284/('Base Numbers'!$C$5*'Base Numbers'!$C$6)","v":0},{"$f":"2*4.5*(1+H356)*H284/('Base Numbers'!$C$5*'Base Numbers'!$C$6)","v":0},{"$f":"2*4.5*(1+I356)*I284/('Base Numbers'!$C$5*'Base Numbers'!$C$6)","v":0},{"$f":"2*4.5*(1+J356)*J284/('Base Numbers'!$C$5*'Base Numbers'!$C$6)","v":0},{"$f":"2*4.5*(1+K356)*K284/('Base Numbers'!$C$5*'Base Numbers'!$C$6)","v":0},{"$f":"2*4.5*(1+L356)*L284/('Base Numbers'!$C$5*'Base Numbers'!$C$6)","v":0},{"$f":"2*4.5*(1+M356)*M284/('Base Numbers'!$C$5*'Base Numbers'!$C$6)","v":0},{"$f":"2*4.5*(1+N356)*N284/('Base Numbers'!$C$5*'Base Numbers'!$C$6)","v":0},{"$f":"2*4.5*(1+O356)*O284/('Base Numbers'!$C$5*'Base Numbers'!$C$6)","v":0},{"$f":"2*4.5*(1+P356)*P284/('Base Numbers'!$C$5*'Base Numbers'!$C$6)","v":0},{"$f":"2*4.5*(1+Q356)*Q284/('Base Numbers'!$C$5*'Base Numbers'!$C$6)","v":0},{"$f":"2*4.5*(1+R356)*R284/('Base Numbers'!$C$5*'Base Numbers'!$C$6)","v":0},{"$f":"2*4.5*(1+S356)*S284/('Base Numbers'!$C$5*'Base Numbers'!$C$6)","v":0},{"$f":"2*4.5*(1+T356)*T284/('Base Numbers'!$C$5*'Base Numbers'!$C$6)","v":0},{"$f":"2*4.5*(1+U356)*U284/('Base Numbers'!$C$5*'Base Numbers'!$C$6)","v":0},{"$f":"2*4.5*(1+V356)*V284/('Base Numbers'!$C$5*'Base Numbers'!$C$6)","v":0},{"$f":"2*4.5*(1+W356)*W284/('Base Numbers'!$C$5*'Base Numbers'!$C$6)","v":0},{"$f":"2*4.5*(1+X356)*X284/('Base Numbers'!$C$5*'Base Numbers'!$C$6)","v":0}]
[{"$nulls":3},"aura of hate (oathbreaker L7)",{"$f":"IF(AND(E41,E7>=7),E36,0)","v":0},0,0,0,0,0,0,0,0,0,0,0,0,0,0,0,0,0,0,0]
[{"$nulls":3},"fighting style duelist available",{"$f":"IF(AND($B$60>=1,E6>=$B$60),1,0)","v":0},0,0,0,0,0,0,0,0,0,0,0,0,0,0,0,0,0,0,0]
[{"$nulls":3},"fighting style two weapon available",{"$f":"IF(AND($B$64>=1,E6>=$B$64),1,0)","v":0},0,0,0,0,0,0,0,0,0,0,0,0,0,0,0,0,0,0,0]
[{"$nulls":3},"fighting style bonus damage",{"$f":"IF(AND(E556,OR(AND($B$47=1,OR($B$33=1,$B$32=1)),$B34)),2,0)","v":0},0,0,0,0,0,0,0,0,0,0,0,0,0,0,0,0,0,0,0]
[{"$nulls":3},"bladesinger weapon damage bonus (L14 Wiz)",{"$f":"IF(AND(E15>=14,E46),E37,0)*E1366","v":0},0,0,0,0,0,0,0,0,0,0,0,0,0,0,0,0,0,0,0]
[{"$nulls":3},"Guardian of Nature dmg on str attacks (L4 Druid/Ranger spell)",{"$f":"IF(AND(E158,E163=0),E279,0)*(1+E356)/('Base Numbers'!$C$5*'Base Numbers'!$C$6)*3.5","v":0},{"$f":"IF(AND(F158,F163=0),F279,0)*(1+F356)/('Base Numbers'!$C$5*'Base Numbers'!$C$6)*3.5","v":0},{"$f":"IF(AND(G158,G163=0),G279,0)*(1+G356)/('Base Numbers'!$C$5*'Base Numbers'!$C$6)*3.5","v":0},{"$f":"IF(AND(H158,H163=0),H279,0)*(1+H356)/('Base Numbers'!$C$5*'Base Numbers'!$C$6)*3.5","v":0},{"$f":"IF(AND(I158,I163=0),I279,0)*(1+I356)/('Base Numbers'!$C$5*'Base Numbers'!$C$6)*3.5","v":0},{"$f":"IF(AND(J158,J163=0),J279,0)*(1+J356)/('Base Numbers'!$C$5*'Base Numbers'!$C$6)*3.5","v":0},{"$f":"IF(AND(K158,K163=0),K279,0)*(1+K356)/('Base Numbers'!$C$5*'Base Numbers'!$C$6)*3.5","v":0},{"$f":"IF(AND(L158,L163=0),L279,0)*(1+L356)/('Base Numbers'!$C$5*'Base Numbers'!$C$6)*3.5","v":0},{"$f":"IF(AND(M158,M163=0),M279,0)*(1+M356)/('Base Numbers'!$C$5*'Base Numbers'!$C$6)*3.5","v":0},{"$f":"IF(AND(N158,N163=0),N279,0)*(1+N356)/('Base Numbers'!$C$5*'Base Numbers'!$C$6)*3.5","v":0},{"$f":"IF(AND(O158,O163=0),O279,0)*(1+O356)/('Base Numbers'!$C$5*'Base Numbers'!$C$6)*3.5","v":0},{"$f":"IF(AND(P158,P163=0),P279,0)*(1+P356)/('Base Numbers'!$C$5*'Base Numbers'!$C$6)*3.5","v":0},{"$f":"IF(AND(Q158,Q163=0),Q279,0)*(1+Q356)/('Base Numbers'!$C$5*'Base Numbers'!$C$6)*3.5","v":0},{"$f":"IF(AND(R158,R163=0),R279,0)*(1+R356)/('Base Numbers'!$C$5*'Base Numbers'!$C$6)*3.5","v":0},{"$f":"IF(AND(S158,S163=0),S279,0)*(1+S356)/('Base Numbers'!$C$5*'Base Numbers'!$C$6)*3.5","v":0},{"$f":"IF(AND(T158,T163=0),T279,0)*(1+T356)/('Base Numbers'!$C$5*'Base Numbers'!$C$6)*3.5","v":0},{"$f":"IF(AND(U158,U163=0),U279,0)*(1+U356)/('Base Numbers'!$C$5*'Base Numbers'!$C$6)*3.5","v":0},{"$f":"IF(AND(V158,V163=0),V279,0)*(1+V356)/('Base Numbers'!$C$5*'Base Numbers'!$C$6)*3.5","v":0},{"$f":"IF(AND(W158,W163=0),W279,0)*(1+W356)/('Base Numbers'!$C$5*'Base Numbers'!$C$6)*3.5","v":0},{"$f":"IF(AND(X158,X163=0),X279,0)*(1+X356)/('Base Numbers'!$C$5*'Base Numbers'!$C$6)*3.5","v":0}]
[{"$nulls":3},"Guardian of Nature dmg on str bonus attacks (L4 Druid/Ranger spell)",{"$f":"IF(AND(E158,E163=0),E279,0)*(E356)/('Base Numbers'!$C$5*'Base Numbers'!$C$6)*3.5","v":0},{"$f":"IF(AND(F158,F163=0),F279,0)*(F356)/('Base Numbers'!$C$5*'Base Numbers'!$C$6)*3.5","v":0},{"$f":"IF(AND(G158,G163=0),G279,0)*(G356)/('Base Numbers'!$C$5*'Base Numbers'!$C$6)*3.5","v":0},{"$f":"IF(AND(H158,H163=0),H279,0)*(H356)/('Base Numbers'!$C$5*'Base Numbers'!$C$6)*3.5","v":0},{"$f":"IF(AND(I158,I163=0),I279,0)*(I356)/('Base Numbers'!$C$5*'Base Numbers'!$C$6)*3.5","v":0},{"$f":"IF(AND(J158,J163=0),J279,0)*(J356)/('Base Numbers'!$C$5*'Base Numbers'!$C$6)*3.5","v":0},{"$f":"IF(AND(K158,K163=0),K279,0)*(K356)/('Base Numbers'!$C$5*'Base Numbers'!$C$6)*3.5","v":0},{"$f":"IF(AND(L158,L163=0),L279,0)*(L356)/('Base Numbers'!$C$5*'Base Numbers'!$C$6)*3.5","v":0},{"$f":"IF(AND(M158,M163=0),M279,0)*(M356)/('Base Numbers'!$C$5*'Base Numbers'!$C$6)*3.5","v":0},{"$f":"IF(AND(N158,N163=0),N279,0)*(N356)/('Base Numbers'!$C$5*'Base Numbers'!$C$6)*3.5","v":0},{"$f":"IF(AND(O158,O163=0),O279,0)*(O356)/('Base Numbers'!$C$5*'Base Numbers'!$C$6)*3.5","v":0},{"$f":"IF(AND(P158,P163=0),P279,0)*(P356)/('Base Numbers'!$C$5*'Base Numbers'!$C$6)*3.5","v":0},{"$f":"IF(AND(Q158,Q163=0),Q279,0)*(Q356)/('Base Numbers'!$C$5*'Base Numbers'!$C$6)*3.5","v":0},{"$f":"IF(AND(R158,R163=0),R279,0)*(R356)/('Base Numbers'!$C$5*'Base Numbers'!$C$6)*3.5","v":0},{"$f":"IF(AND(S158,S163=0),S279,0)*(S356)/('Base Numbers'!$C$5*'Base Numbers'!$C$6)*3.5","v":0},{"$f":"IF(AND(T158,T163=0),T279,0)*(T356)/('Base Numbers'!$C$5*'Base Numbers'!$C$6)*3.5","v":0},{"$f":"IF(AND(U158,U163=0),U279,0)*(U356)/('Base Numbers'!$C$5*'Base Numbers'!$C$6)*3.5","v":0},{"$f":"IF(AND(V158,V163=0),V279,0)*(V356)/('Base Numbers'!$C$5*'Base Numbers'!$C$6)*3.5","v":0},{"$f":"IF(AND(W158,W163=0),W279,0)*(W356)/('Base Numbers'!$C$5*'Base Numbers'!$C$6)*3.5","v":0},{"$f":"IF(AND(X158,X163=0),X279,0)*(X356)/('Base Numbers'!$C$5*'Base Numbers'!$C$6)*3.5","v":0}]
[{"$nulls":3},"Spirit Shroud (main action attacks)",{"$f":"E798","v":0},{"$f":"F798","v":0},0,0,0,0,0,0,0,0,0,0,0,0,0,0,0,0,0,0]
[{"$nulls":3},"Spirit Shroud (bonus action attacks)",{"$f":"E799","v":0},{"$f":"F799","v":0},0,0,0,0,0,0,0,0,0,0,0,0,0,0,0,0,0,0]
[{"$nulls":3},"Tenser's Transformation avg damage per attack",{"$f":"E1363","v":0},{"$f":"F1363","v":0},0,0,0,0,0,0,0,0,0,0,0,0,0,0,0,0,0,0]
[{"$nulls":3},"Druid of Spores avg damage per attack",{"$f":"E1407","v":0},{"$f":"F1407","v":0},0,0,0,0,0,0,0,0,0,0,0,0,0,0,0,0,0,0]
[{"$nulls":3},"Druid of Spores avg damage per bonus attack",{"$f":"E1408","v":0},{"$f":"F1408","v":0},0,0,0,0,0,0,0,0,0,0,0,0,0,0,0,0,0,0]
[{"$nulls":3},"average static rage damage bonus (can't apply to BB or GFB)",{"$f":"E1193","v":0},{"$f":"F1193","v":0},0,0,0,0,0,0,0,0,0,0,0,0,0,0,0,0,0,0]
[{"$nulls":3},"average bugbear damage per attack",{"$f":"IF($B$55>=1,7/(2*'Base Numbers'!$C$5*'Base Numbers'!$C$6),0)","v":0.21875},{"$f":"IF($B$55>=1,7/(2*'Base Numbers'!$C$5*'Base Numbers'!$C$6),0)","v":0.21875},{"$f":"IF($B$55>=1,7/(2*'Base Numbers'!$C$5*'Base Numbers'!$C$6),0)","v":0.21875},{"$f":"IF($B$55>=1,7/(2*'Base Numbers'!$C$5*'Base Numbers'!$C$6),0)","v":0.21875},{"$f":"IF($B$55>=1,7/(2*'Base Numbers'!$C$5*'Base Numbers'!$C$6),0)","v":0.21875},{"$f":"IF($B$55>=1,7/(2*'Base Numbers'!$C$5*'Base Numbers'!$C$6),0)","v":0.21875},{"$f":"IF($B$55>=1,7/(2*'Base Numbers'!$C$5*'Base Numbers'!$C$6),0)","v":0.21875},{"$f":"IF($B$55>=1,7/(2*'Base Numbers'!$C$5*'Base Numbers'!$C$6),0)","v":0.21875},{"$f":"IF($B$55>=1,7/(2*'Base Numbers'!$C$5*'Base Numbers'!$C$6),0)","v":0.21875},{"$f":"IF($B$55>=1,7/(2*'Base Numbers'!$C$5*'Base Numbers'!$C$6),0)","v":0.21875},{"$f":"IF($B$55>=1,7/(2*'Base Numbers'!$C$5*'Base Numbers'!$C$6),0)","v":0.21875},{"$f":"IF($B$55>=1,7/(2*'Base Numbers'!$C$5*'Base Numbers'!$C$6),0)","v":0.21875},{"$f":"IF($B$55>=1,7/(2*'Base Numbers'!$C$5*'Base Numbers'!$C$6),0)","v":0.21875},{"$f":"IF($B$55>=1,7/(2*'Base Numbers'!$C$5*'Base Numbers'!$C$6),0)","v":0.21875},{"$f":"IF($B$55>=1,7/(2*'Base Numbers'!$C$5*'Base Numbers'!$C$6),0)","v":0.21875},{"$f":"IF($B$55>=1,7/(2*'Base Numbers'!$C$5*'Base Numbers'!$C$6),0)","v":0.21875},{"$f":"IF($B$55>=1,7/(2*'Base Numbers'!$C$5*'Base Numbers'!$C$6),0)","v":0.21875},{"$f":"IF($B$55>=1,7/(2*'Base Numbers'!$C$5*'Base Numbers'!$C$6),0)","v":0.21875},{"$f":"IF($B$55>=1,7/(2*'Base Numbers'!$C$5*'Base Numbers'!$C$6),0)","v":0.21875},{"$f":"IF($B$55>=1,7/(2*'Base Numbers'!$C$5*'Base Numbers'!$C$6),0)","v":0.21875}]
[]
[{"$nulls":3},"TOTAL DAMAGE BUFFS"]
[{"$nulls":3},"total dice damage (excluding smite)",{"$f":"E553+E551+E549+E545+E372+E564+E560+IF(E367,E558,0)+E562+E565+E568","v":0.21875},{"$f":"F553+F551+F549+F545+F372+F564+F560+IF(F367,F558,0)+F562+F565+F568","v":1.4319812499999998},2.0385968749999996,2.0385968749999996,2.6452124999999995,2.6452124999999995,2.9361117187499994,2.9361117187499994,2.9361117187499994,2.9361117187499994,2.9361117187499994,2.9361117187499994,2.9361117187499994,2.9361117187499994,2.9361117187499994,2.9361117187499994,2.9361117187499994,2.9361117187499994,3.01875,3.01875]
[{"$nulls":3},"total dice damage (excluding smite) on bonus attacks",{"$f":"E554+E552+E550+E545+E372+E564+E561-E373+E558+E563+E566+E568","v":0.21875},{"$f":"F554+F552+F550+F545+F372+F564+F561-F373+F558+F563+F566+F568","v":0.9944812499999998},1.3823468749999996,1.3823468749999996,1.7702124999999995,1.7702124999999995,2.0611117187499994,2.0611117187499994,2.0611117187499994,2.0611117187499994,2.0611117187499994,2.0611117187499994,2.0611117187499994,2.0611117187499994,2.0611117187499994,2.0611117187499994,2.0611117187499994,2.0611117187499994,2.312369457044178,2.312369457044178]
[{"$nulls":3},"total static damage on Advantage attacks (GWM, hexblade, STR/CHA)",{"$f":"IF(E28,10,0)+IF(E367,0,E558)+E546+E159+E555+E364+E548+E559+E567","v":3},3,3,3,3,3,3,3,4,4,4,4,5,5,5,5,5,5,5,5]
[{"$nulls":3},"total static damage on attacks w/o adv (hexblade, STR/CHA)",{"$f":"IF(AND(E28,E148=0),10,0)+IF(E367,0,E558)+E546+E159+E555+E364+E548+E559+E567","v":3},3,3,3,3,3,3,3,4,4,4,4,5,5,5,5,5,5,5,5]
[{"$nulls":3},"total static damage on Advantage Bonus attacks ",{"$f":"IF(E28,10,0)+IF(E367,0,IF(E381>1,(2-E381)*E558,E558))+E547+E159+E555+E364+E548+E559+E567","v":3},3,3,3,3,3,3,3,4,4,4,4,5,5,5,5,5,5,5,5]
[{"$nulls":3},"total static damage on bonus attacks w/o adv",{"$f":"IF(AND(E28,E148=0),10,0)+IF(E367,0,IF(E381>1,(2-E381)*E558,E558))+E547+E159+E555+E364+E548+E559+E567","v":3},3,3,3,3,3,3,3,4,4,4,4,5,5,5,5,5,5,5,5,null,"* Discounted for Monk's multiple bonus aciton unarmed attacks "]
[{"$nulls":3},"total static damage for Dual Wield Bonus attacks",{"$f":"IF(AND(E557,E362),MAX(E34,E35,IF(AND(E12>=3,E54>=1),E36,0)),0)+E547+E555+E364+E559+E567+IF(AND(E12>=3,E50>=1),E548,0)","v":0},0,0,0,0,0,0,0,0,0,0,0,0,0,0,0,0,0,0,0,null,"*Can only apply CHA bonus to Hex Weapon, which is a single weapon."]
[{"$nulls":3},"total additional crit-only damage (dice avg + static)",{"$f":"E374+E375+E1194*E374","v":0},0,0,0,0,0,0,0,0,0,0,0,0,0,0,0,0,0,0,0,null,null,"* unless WARLOCK L3 and Pact of the Blade."]
[{"$nulls":3},"total additional crit-only bonus att damage (dice avg + static)",{"$f":"(1+E1194)*IF(E374>0,E374-E373,0)+IF(E30=0,0,E375)","v":0},0,0,0,0,0,0,0,0,0,0,0,0,0,0,0,0,0,0,0]
[]
[{"$nulls":3},"total additional dice damage on spell attacks",{"$f":"E549+E562","v":0},1.2132312499999998,1.8198468749999996,1.8198468749999996,2.4264624999999995,2.4264624999999995,2.7173617187499994,2.7173617187499994,2.7173617187499994,2.7173617187499994,2.7173617187499994,2.7173617187499994,2.7173617187499994,2.7173617187499994,2.7173617187499994,2.7173617187499994,2.7173617187499994,2.7173617187499994,2.8,2.8]
[{"$nulls":3},"total additional dice damage on spell bonus attacks",{"$f":"E550+E563","v":0},0.7757312499999998,1.1635968749999996,1.1635968749999996,1.5514624999999995,1.5514624999999995,1.8423617187499994,1.8423617187499994,1.8423617187499994,1.8423617187499994,1.8423617187499994,1.8423617187499994,1.8423617187499994,1.8423617187499994,1.8423617187499994,1.8423617187499994,1.8423617187499994,1.8423617187499994,2.093619457044178,2.093619457044178]
[{"$nulls":3},"total additional static damage on spell attacks",{"$f":"E546","v":0},0,0,0,0,0,0,0,0,0,0,0,0,0,0,0,0,0,0,0,null,"* most spell attacks don't include ability mods "]
[{"$nulls":3},"total additional static damage on spell bonus attacks",{"$f":"E547","v":0},0,0,0,0,0,0,0,0,0,0,0,0,0,0,0,0,0,0,0]
[{"$nulls":3},"total additional dice damage on melee spell attacks",{"$f":"E549+E562","v":0},1.2132312499999998,1.8198468749999996,1.8198468749999996,2.4264624999999995,2.4264624999999995,2.7173617187499994,2.7173617187499994,2.7173617187499994,2.7173617187499994,2.7173617187499994,2.7173617187499994,2.7173617187499994,2.7173617187499994,2.7173617187499994,2.7173617187499994,2.7173617187499994,2.7173617187499994,2.8,2.8]
[{"$nulls":3},"total additional dice damage on melee spell bonus attacks",{"$f":"E550+E563","v":0},0.7757312499999998,1.1635968749999996,1.1635968749999996,1.5514624999999995,1.5514624999999995,1.8423617187499994,1.8423617187499994,1.8423617187499994,1.8423617187499994,1.8423617187499994,1.8423617187499994,1.8423617187499994,1.8423617187499994,1.8423617187499994,1.8423617187499994,1.8423617187499994,1.8423617187499994,2.093619457044178,2.093619457044178]
[]
[]
[{"$nulls":3},"AVERAGE MELEE ATTACK DAMAGE",1,2,3,4,5,6,7,8,9,10,11,12,13,14,15,16,17,18,19,20]
[{"$nulls":3},"single attack damage ",{"$f":"(E393*E508*(E571+E573)+E391*(1-E508)*(E571+E574))","v":2.0921875},2.8807878125,3.4201592499749998,3.4363633775249998,4.125438028115624,3.8682350900999998,4.06756621636875,{"$f":"(L393*L508*(L571+L573)+L391*(1-L508)*(L571+L574))","v":4.06756621636875},5.058235768127343,5.037091031552734,5.015946294978125,4.87164742678125,6.254909940026563,6.232577721649999,5.86802052568164,5.843827289107032,6.6993044198855465,6.38573773372412,6.433898189062501,6.403341739843751]
[{"$nulls":3},"single attack crit damage ",{"$f":"E533*(E571+E578)","v":0.010937500000000001},0.07159906249999999,0.13372023306796876,0.13501779997890623,0.176878085540625,0.176878085540625,0.19632971632558596,0.19632971632558596,0.19539529877109374,0.19352646366210938,0.19165762855312496,0.20628753921972653,0.2053531216652344,0.20348428655625,0.20161545144726564,0.19974661633828122,0.24254154568095707,0.24160712812646484,0.24696620156250004,0.24456440859375006]
[{"$nulls":3},"avg attack action dmg (not adj for spells)",{"$f":"E378*E590+E616*E1367","v":2.0921875},2.8807878125,3.4201592499749998,3.4363633775249998,8.250876056231249,7.7364701801999995,8.1351324327375,8.1351324327375,10.116471536254686,10.074182063105468,10.03189258995625,9.7432948535625,12.509819880053126,12.465155443299999,11.73604105136328,11.687654578214064,13.398608839771093,12.77147546744824,12.867796378125002,12.806683479687502]
[{"$nulls":3},"avg attack action crit dmg (excl smites)",{"$f":"E378*E591","v":0.010937500000000001},0.07159906249999999,0.13372023306796876,0.13501779997890623,0.35375617108125,0.35375617108125,0.3926594326511719,0.3926594326511719,0.3907905975421875,0.38705292732421875,0.3833152571062499,0.41257507843945307,0.4107062433304688,0.4069685731125,0.4032309028945313,0.39949323267656245,0.48508309136191413,0.4832142562529297,0.4939324031250001,0.4891288171875001]
[{"$nulls":3},"avg hasted action dmg",{"$f":"E379*(E392*(1-E509)*(E571+E574)+E394*(E571+E573)*E509)","v":0},0,0,0,0,0,0,0,0,0,0,0,0,0,0,0,0,0,0,0]
[{"$nulls":3},"avg hasted action crit dmg (excl smites)",{"$f":"E532*E379*(E572+E578)","v":0},0,0,0,0,0,0,0,0,0,0,0,0,0,0,0,0,0,0,0]
[{"$nulls":3},"avg auto crit dmg with adv (assassin, paralysis) main + haste",{"$f":"(E378+E379)*E393*(2*E571+E573+E578)","v":3.01640625},5.14562709375,5.944842749999999,5.944842749999999,14.549695875,13.927913999999998,14.905335374999998,14.905335374999998,17.3257521328125,17.3257521328125,17.3257521328125,16.585335374999996,19.787446656249998,19.787446656249998,19.0807521328125,19.0807521328125,19.787446656249998,19.0807521328125,19.3708125,19.3708125]
[{"$nulls":3},"avg auto crit dmg with adv (assassin, paralysis) bonus attacks",{"$f":"E394*E381*E380*(2*E572+IF(E362>=1,E577,E575)+E579)","v":0},0,0,0,0,0,0,0,0,0,0,0,0,0,0,0,0,0,0,0]
[{"$nulls":3},"avg bonus action attack dmg per attack",{"$f":"E519*(E572+IF(E362>=1,E577,(1-E509)*E576+E509*E575))","v":2.0921875},2.5964128125,2.974701999975,2.9887956275249996,3.486000934365625,3.2686640901,3.4679952163687497,3.4679952163687497,4.420132393127344,4.401655094052734,4.383177794978125,4.257082426781249,5.565271690026562,5.54540172165,5.22103896318164,5.199513164107032,5.495726800708593,5.167224465495117,5.3176537861501965,5.2619243904256985]
[{"$nulls":3},"avg bonus action crit dmg per attack",{"$f":"E534*(E579+E572)","v":0.010937500000000001},0.04972406249999999,0.09067400650546875,0.09155387029140623,0.118369241790625,0.118369241790625,0.13782087257558592,0.13782087257558592,0.13716492377109374,0.13585302616210937,0.13454112855312497,0.14481113296972653,0.14415518416523437,0.14284328655625,0.14153138894726564,0.14021949133828124,0.13956354253378905,0.13825164492480468,0.15289733705394665,0.14921777915542508]
[{"$nulls":3},"avg reaction dmg per attack",{"$f":"E397*(1-E510)*(E571+E574)+E398*(E571+E573)*E510","v":2.0921875},2.8807878125,3.4201592499749998,3.4363633775249998,4.125438028115624,3.8682350900999998,4.06756621636875,4.06756621636875,5.058235768127343,5.037091031552734,5.015946294978125,4.6635640752187495,6.046587007409375,6.0242547890328115,5.642337348679687,5.618144112105078,5.968424243091405,5.5818542572431635,5.60331005,5.542197151562501]
[{"$nulls":3},"avg reaction crit dmg per attack",{"$f":"E535*(E571+E578)","v":0.010937500000000001},0.07159906249999999,0.13372023306796876,0.13501779997890623,0.176878085540625,0.176878085540625,0.19632971632558596,0.19632971632558596,0.19539529877109374,0.19352646366210938,0.19165762855312496,0.18885437588964843,0.18791995833515626,0.18605112322617184,0.18418228811718748,0.18231345300820312,0.18137903545371092,0.17951020034472653,0.18168045000000002,0.1768768640625]
[]
[{"$nulls":3},"BOOMING BLADE"]
[{"$nulls":3},"booming blade secondary damage trigger pct",{"$f":"'Base Numbers'!$G$11","v":0.35},{"$f":"'Base Numbers'!$G$11","v":0.35},{"$f":"'Base Numbers'!$G$11","v":0.35},{"$f":"'Base Numbers'!$G$11","v":0.35},{"$f":"'Base Numbers'!$G$11","v":0.35},{"$f":"'Base Numbers'!$G$11","v":0.35},{"$f":"'Base Numbers'!$G$11","v":0.35},{"$f":"'Base Numbers'!$G$11","v":0.35},{"$f":"'Base Numbers'!$G$11","v":0.35},{"$f":"'Base Numbers'!$G$11","v":0.35},{"$f":"'Base Numbers'!$G$11","v":0.35},{"$f":"'Base Numbers'!$G$11","v":0.35},{"$f":"'Base Numbers'!$G$11","v":0.35},{"$f":"'Base Numbers'!$G$11","v":0.35},{"$f":"'Base Numbers'!$G$11","v":0.35},{"$f":"'Base Numbers'!$G$11","v":0.35},{"$f":"'Base Numbers'!$G$11","v":0.35},{"$f":"'Base Numbers'!$G$11","v":0.35},{"$f":"'Base Numbers'!$G$11","v":0.35},{"$f":"'Base Numbers'!$G$11","v":0.35},null,"* Sentinel doesn't actually prevent movement if warcaster replaces Opp Att with BB cast."]
[{"$nulls":3},"booming blade bns dmg",{"$f":"IF(AND(E163=0,E152),'Caster Tables'!C$8*4.5 + (1+'Caster Tables'!C$8)*4.5*E604+IF(AND(E15>=10,E48>=1),E37,0),0)+IF(E1128,E38,0)","v":0},{"$f":"IF(AND(F163=0,F152),'Caster Tables'!D$8*4.5 + (1+'Caster Tables'!D$8)*4.5*F604+IF(AND(F15>=10,F48>=1),F37,0),0)+IF(F1128,F38,0)","v":0},{"$f":"IF(AND(G163=0,G152),'Caster Tables'!E$8*4.5 + (1+'Caster Tables'!E$8)*4.5*G604+IF(AND(G15>=10,G48>=1),G37,0),0)+IF(G1128,G38,0)","v":0},{"$f":"IF(AND(H163=0,H152),'Caster Tables'!F$8*4.5 + (1+'Caster Tables'!F$8)*4.5*H604+IF(AND(H15>=10,H48>=1),H37,0),0)+IF(H1128,H38,0)","v":0},{"$f":"IF(AND(I163=0,I152),'Caster Tables'!G$8*4.5 + (1+'Caster Tables'!G$8)*4.5*I604+IF(AND(I15>=10,I48>=1),I37,0),0)+IF(I1128,I38,0)","v":0},{"$f":"IF(AND(J163=0,J152),'Caster Tables'!H$8*4.5 + (1+'Caster Tables'!H$8)*4.5*J604+IF(AND(J15>=10,J48>=1),J37,0),0)+IF(J1128,J38,0)","v":0},{"$f":"IF(AND(K163=0,K152),'Caster Tables'!I$8*4.5 + (1+'Caster Tables'!I$8)*4.5*K604+IF(AND(K15>=10,K48>=1),K37,0),0)+IF(K1128,K38,0)","v":0},{"$f":"IF(AND(L163=0,L152),'Caster Tables'!J$8*4.5 + (1+'Caster Tables'!J$8)*4.5*L604+IF(AND(L15>=10,L48>=1),L37,0),0)+IF(L1128,L38,0)","v":0},{"$f":"IF(AND(M163=0,M152),'Caster Tables'!K$8*4.5 + (1+'Caster Tables'!K$8)*4.5*M604+IF(AND(M15>=10,M48>=1),M37,0),0)+IF(M1128,M38,0)","v":0},{"$f":"IF(AND(N163=0,N152),'Caster Tables'!L$8*4.5 + (1+'Caster Tables'!L$8)*4.5*N604+IF(AND(N15>=10,N48>=1),N37,0),0)+IF(N1128,N38,0)","v":0},{"$f":"IF(AND(O163=0,O152),'Caster Tables'!M$8*4.5 + (1+'Caster Tables'!M$8)*4.5*O604+IF(AND(O15>=10,O48>=1),O37,0),0)+IF(O1128,O38,0)","v":0},{"$f":"IF(AND(P163=0,P152),'Caster Tables'!N$8*4.5 + (1+'Caster Tables'!N$8)*4.5*P604+IF(AND(P15>=10,P48>=1),P37,0),0)+IF(P1128,P38,0)","v":0},{"$f":"IF(AND(Q163=0,Q152),'Caster Tables'!O$8*4.5 + (1+'Caster Tables'!O$8)*4.5*Q604+IF(AND(Q15>=10,Q48>=1),Q37,0),0)+IF(Q1128,Q38,0)","v":0},{"$f":"IF(AND(R163=0,R152),'Caster Tables'!P$8*4.5 + (1+'Caster Tables'!P$8)*4.5*R604+IF(AND(R15>=10,R48>=1),R37,0),0)+IF(R1128,R38,0)","v":0},{"$f":"IF(AND(S163=0,S152),'Caster Tables'!Q$8*4.5 + (1+'Caster Tables'!Q$8)*4.5*S604+IF(AND(S15>=10,S48>=1),S37,0),0)+IF(S1128,S38,0)","v":0},{"$f":"IF(AND(T163=0,T152),'Caster Tables'!R$8*4.5 + (1+'Caster Tables'!R$8)*4.5*T604+IF(AND(T15>=10,T48>=1),T37,0),0)+IF(T1128,T38,0)","v":0},{"$f":"IF(AND(U163=0,U152),'Caster Tables'!S$8*4.5 + (1+'Caster Tables'!S$8)*4.5*U604+IF(AND(U15>=10,U48>=1),U37,0),0)+IF(U1128,U38,0)","v":0},{"$f":"IF(AND(V163=0,V152),'Caster Tables'!T$8*4.5 + (1+'Caster Tables'!T$8)*4.5*V604+IF(AND(V15>=10,V48>=1),V37,0),0)+IF(V1128,V38,0)","v":0},{"$f":"IF(AND(W163=0,W152),'Caster Tables'!U$8*4.5 + (1+'Caster Tables'!U$8)*4.5*W604+IF(AND(W15>=10,W48>=1),W37,0),0)+IF(W1128,W38,0)","v":0},{"$f":"IF(AND(X163=0,X152),'Caster Tables'!V$8*4.5 + (1+'Caster Tables'!V$8)*4.5*X604+IF(AND(X15>=10,X48>=1),X37,0),0)+IF(X1128,X38,0)","v":0},null,"* BB is turned off if Ranged is forced"]
[{"$nulls":3},"booming blade bns dmg on Opp atts",{"$f":"IF(AND(E163=0,E152),'Caster Tables'!C$8*4.5 + (1+'Caster Tables'!C$8)*4.5*(E604+0.35)+IF(AND(E15>=10,E48>=1),E37,0),0)+IF(E1128,E38,0)","v":0},{"$f":"IF(AND(F163=0,F152),'Caster Tables'!D$8*4.5 + (1+'Caster Tables'!D$8)*4.5*(F604+0.35)+IF(AND(F15>=10,F48>=1),F37,0),0)+IF(F1128,F38,0)","v":0},{"$f":"IF(AND(G163=0,G152),'Caster Tables'!E$8*4.5 + (1+'Caster Tables'!E$8)*4.5*(G604+0.35)+IF(AND(G15>=10,G48>=1),G37,0),0)+IF(G1128,G38,0)","v":0},{"$f":"IF(AND(H163=0,H152),'Caster Tables'!F$8*4.5 + (1+'Caster Tables'!F$8)*4.5*(H604+0.35)+IF(AND(H15>=10,H48>=1),H37,0),0)+IF(H1128,H38,0)","v":0},{"$f":"IF(AND(I163=0,I152),'Caster Tables'!G$8*4.5 + (1+'Caster Tables'!G$8)*4.5*(I604+0.35)+IF(AND(I15>=10,I48>=1),I37,0),0)+IF(I1128,I38,0)","v":0},{"$f":"IF(AND(J163=0,J152),'Caster Tables'!H$8*4.5 + (1+'Caster Tables'!H$8)*4.5*(J604+0.35)+IF(AND(J15>=10,J48>=1),J37,0),0)+IF(J1128,J38,0)","v":0},{"$f":"IF(AND(K163=0,K152),'Caster Tables'!I$8*4.5 + (1+'Caster Tables'!I$8)*4.5*(K604+0.35)+IF(AND(K15>=10,K48>=1),K37,0),0)+IF(K1128,K38,0)","v":0},{"$f":"IF(AND(L163=0,L152),'Caster Tables'!J$8*4.5 + (1+'Caster Tables'!J$8)*4.5*(L604+0.35)+IF(AND(L15>=10,L48>=1),L37,0),0)+IF(L1128,L38,0)","v":0},{"$f":"IF(AND(M163=0,M152),'Caster Tables'!K$8*4.5 + (1+'Caster Tables'!K$8)*4.5*(M604+0.35)+IF(AND(M15>=10,M48>=1),M37,0),0)+IF(M1128,M38,0)","v":0},{"$f":"IF(AND(N163=0,N152),'Caster Tables'!L$8*4.5 + (1+'Caster Tables'!L$8)*4.5*(N604+0.35)+IF(AND(N15>=10,N48>=1),N37,0),0)+IF(N1128,N38,0)","v":0},{"$f":"IF(AND(O163=0,O152),'Caster Tables'!M$8*4.5 + (1+'Caster Tables'!M$8)*4.5*(O604+0.35)+IF(AND(O15>=10,O48>=1),O37,0),0)+IF(O1128,O38,0)","v":0},{"$f":"IF(AND(P163=0,P152),'Caster Tables'!N$8*4.5 + (1+'Caster Tables'!N$8)*4.5*(P604+0.35)+IF(AND(P15>=10,P48>=1),P37,0),0)+IF(P1128,P38,0)","v":0},{"$f":"IF(AND(Q163=0,Q152),'Caster Tables'!O$8*4.5 + (1+'Caster Tables'!O$8)*4.5*(Q604+0.35)+IF(AND(Q15>=10,Q48>=1),Q37,0),0)+IF(Q1128,Q38,0)","v":0},{"$f":"IF(AND(R163=0,R152),'Caster Tables'!P$8*4.5 + (1+'Caster Tables'!P$8)*4.5*(R604+0.35)+IF(AND(R15>=10,R48>=1),R37,0),0)+IF(R1128,R38,0)","v":0},{"$f":"IF(AND(S163=0,S152),'Caster Tables'!Q$8*4.5 + (1+'Caster Tables'!Q$8)*4.5*(S604+0.35)+IF(AND(S15>=10,S48>=1),S37,0),0)+IF(S1128,S38,0)","v":0},{"$f":"IF(AND(T163=0,T152),'Caster Tables'!R$8*4.5 + (1+'Caster Tables'!R$8)*4.5*(T604+0.35)+IF(AND(T15>=10,T48>=1),T37,0),0)+IF(T1128,T38,0)","v":0},{"$f":"IF(AND(U163=0,U152),'Caster Tables'!S$8*4.5 + (1+'Caster Tables'!S$8)*4.5*(U604+0.35)+IF(AND(U15>=10,U48>=1),U37,0),0)+IF(U1128,U38,0)","v":0},{"$f":"IF(AND(V163=0,V152),'Caster Tables'!T$8*4.5 + (1+'Caster Tables'!T$8)*4.5*(V604+0.35)+IF(AND(V15>=10,V48>=1),V37,0),0)+IF(V1128,V38,0)","v":0},{"$f":"IF(AND(W163=0,W152),'Caster Tables'!U$8*4.5 + (1+'Caster Tables'!U$8)*4.5*(W604+0.35)+IF(AND(W15>=10,W48>=1),W37,0),0)+IF(W1128,W38,0)","v":0},{"$f":"IF(AND(X163=0,X152),'Caster Tables'!V$8*4.5 + (1+'Caster Tables'!V$8)*4.5*(X604+0.35)+IF(AND(X15>=10,X48>=1),X37,0),0)+IF(X1128,X38,0)","v":0}]
[{"$nulls":3},"booming blade bonus crit damage",{"$f":"IF(AND(E163=0,E152),'Caster Tables'!C$8*4.5 + (1+'Caster Tables'!C$8)*4.5*E604,0)","v":0},{"$f":"IF(AND(F163=0,F152),'Caster Tables'!D$8*4.5 + (1+'Caster Tables'!D$8)*4.5*F604,0)","v":0},{"$f":"IF(AND(G163=0,G152),'Caster Tables'!E$8*4.5 + (1+'Caster Tables'!E$8)*4.5*G604,0)","v":0},{"$f":"IF(AND(H163=0,H152),'Caster Tables'!F$8*4.5 + (1+'Caster Tables'!F$8)*4.5*H604,0)","v":0},{"$f":"IF(AND(I163=0,I152),'Caster Tables'!G$8*4.5 + (1+'Caster Tables'!G$8)*4.5*I604,0)","v":0},{"$f":"IF(AND(J163=0,J152),'Caster Tables'!H$8*4.5 + (1+'Caster Tables'!H$8)*4.5*J604,0)","v":0},{"$f":"IF(AND(K163=0,K152),'Caster Tables'!I$8*4.5 + (1+'Caster Tables'!I$8)*4.5*K604,0)","v":0},{"$f":"IF(AND(L163=0,L152),'Caster Tables'!J$8*4.5 + (1+'Caster Tables'!J$8)*4.5*L604,0)","v":0},{"$f":"IF(AND(M163=0,M152),'Caster Tables'!K$8*4.5 + (1+'Caster Tables'!K$8)*4.5*M604,0)","v":0},{"$f":"IF(AND(N163=0,N152),'Caster Tables'!L$8*4.5 + (1+'Caster Tables'!L$8)*4.5*N604,0)","v":0},{"$f":"IF(AND(O163=0,O152),'Caster Tables'!M$8*4.5 + (1+'Caster Tables'!M$8)*4.5*O604,0)","v":0},{"$f":"IF(AND(P163=0,P152),'Caster Tables'!N$8*4.5 + (1+'Caster Tables'!N$8)*4.5*P604,0)","v":0},{"$f":"IF(AND(Q163=0,Q152),'Caster Tables'!O$8*4.5 + (1+'Caster Tables'!O$8)*4.5*Q604,0)","v":0},{"$f":"IF(AND(R163=0,R152),'Caster Tables'!P$8*4.5 + (1+'Caster Tables'!P$8)*4.5*R604,0)","v":0},{"$f":"IF(AND(S163=0,S152),'Caster Tables'!Q$8*4.5 + (1+'Caster Tables'!Q$8)*4.5*S604,0)","v":0},{"$f":"IF(AND(T163=0,T152),'Caster Tables'!R$8*4.5 + (1+'Caster Tables'!R$8)*4.5*T604,0)","v":0},{"$f":"IF(AND(U163=0,U152),'Caster Tables'!S$8*4.5 + (1+'Caster Tables'!S$8)*4.5*U604,0)","v":0},{"$f":"IF(AND(V163=0,V152),'Caster Tables'!T$8*4.5 + (1+'Caster Tables'!T$8)*4.5*V604,0)","v":0},{"$f":"IF(AND(W163=0,W152),'Caster Tables'!U$8*4.5 + (1+'Caster Tables'!U$8)*4.5*W604,0)","v":0},{"$f":"IF(AND(X163=0,X152),'Caster Tables'!V$8*4.5 + (1+'Caster Tables'!V$8)*4.5*X604,0)","v":0}]
[{"$nulls":3},"booming blade bonus crit damage on Opp atts",{"$f":"IF(AND(E163=0,E152),'Caster Tables'!C$8*4.5 + (1+'Caster Tables'!C$8)*4.5*(E604+0.35),0)","v":0},{"$f":"IF(AND(F163=0,F152),'Caster Tables'!D$8*4.5 + (1+'Caster Tables'!D$8)*4.5*(F604+0.35),0)","v":0},{"$f":"IF(AND(G163=0,G152),'Caster Tables'!E$8*4.5 + (1+'Caster Tables'!E$8)*4.5*(G604+0.35),0)","v":0},{"$f":"IF(AND(H163=0,H152),'Caster Tables'!F$8*4.5 + (1+'Caster Tables'!F$8)*4.5*(H604+0.35),0)","v":0},{"$f":"IF(AND(I163=0,I152),'Caster Tables'!G$8*4.5 + (1+'Caster Tables'!G$8)*4.5*(I604+0.35),0)","v":0},{"$f":"IF(AND(J163=0,J152),'Caster Tables'!H$8*4.5 + (1+'Caster Tables'!H$8)*4.5*(J604+0.35),0)","v":0},{"$f":"IF(AND(K163=0,K152),'Caster Tables'!I$8*4.5 + (1+'Caster Tables'!I$8)*4.5*(K604+0.35),0)","v":0},{"$f":"IF(AND(L163=0,L152),'Caster Tables'!J$8*4.5 + (1+'Caster Tables'!J$8)*4.5*(L604+0.35),0)","v":0},{"$f":"IF(AND(M163=0,M152),'Caster Tables'!K$8*4.5 + (1+'Caster Tables'!K$8)*4.5*(M604+0.35),0)","v":0},{"$f":"IF(AND(N163=0,N152),'Caster Tables'!L$8*4.5 + (1+'Caster Tables'!L$8)*4.5*(N604+0.35),0)","v":0},{"$f":"IF(AND(O163=0,O152),'Caster Tables'!M$8*4.5 + (1+'Caster Tables'!M$8)*4.5*(O604+0.35),0)","v":0},{"$f":"IF(AND(P163=0,P152),'Caster Tables'!N$8*4.5 + (1+'Caster Tables'!N$8)*4.5*(P604+0.35),0)","v":0},{"$f":"IF(AND(Q163=0,Q152),'Caster Tables'!O$8*4.5 + (1+'Caster Tables'!O$8)*4.5*(Q604+0.35),0)","v":0},{"$f":"IF(AND(R163=0,R152),'Caster Tables'!P$8*4.5 + (1+'Caster Tables'!P$8)*4.5*(R604+0.35),0)","v":0},{"$f":"IF(AND(S163=0,S152),'Caster Tables'!Q$8*4.5 + (1+'Caster Tables'!Q$8)*4.5*(S604+0.35),0)","v":0},{"$f":"IF(AND(T163=0,T152),'Caster Tables'!R$8*4.5 + (1+'Caster Tables'!R$8)*4.5*(T604+0.35),0)","v":0},{"$f":"IF(AND(U163=0,U152),'Caster Tables'!S$8*4.5 + (1+'Caster Tables'!S$8)*4.5*(U604+0.35),0)","v":0},{"$f":"IF(AND(V163=0,V152),'Caster Tables'!T$8*4.5 + (1+'Caster Tables'!T$8)*4.5*(V604+0.35),0)","v":0},{"$f":"IF(AND(W163=0,W152),'Caster Tables'!U$8*4.5 + (1+'Caster Tables'!U$8)*4.5*(W604+0.35),0)","v":0},{"$f":"IF(AND(X163=0,X152),'Caster Tables'!V$8*4.5 + (1+'Caster Tables'!V$8)*4.5*(X604+0.35),0)","v":0}]
[{"$nulls":3},"total damage from bb hit (main action, no adv)",{"$f":"IF(AND(E163=0,E152),(E605+E571+E574-IF('Base Numbers'!$G$16,0,E372-E371)),0)","v":0},{"$f":"IF(AND(F163=0,F152),(F605+F571+F574-IF('Base Numbers'!$G$16,0,F372-F371)),0)","v":0},{"$f":"IF(AND(G163=0,G152),(G605+G571+G574-IF('Base Numbers'!$G$16,0,G372-G371)),0)","v":0},{"$f":"IF(AND(H163=0,H152),(H605+H571+H574-IF('Base Numbers'!$G$16,0,H372-H371)),0)","v":0},{"$f":"IF(AND(I163=0,I152),(I605+I571+I574-IF('Base Numbers'!$G$16,0,I372-I371)),0)","v":0},{"$f":"IF(AND(J163=0,J152),(J605+J571+J574-IF('Base Numbers'!$G$16,0,J372-J371)),0)","v":0},{"$f":"IF(AND(K163=0,K152),(K605+K571+K574-IF('Base Numbers'!$G$16,0,K372-K371)),0)","v":0},{"$f":"IF(AND(L163=0,L152),(L605+L571+L574-IF('Base Numbers'!$G$16,0,L372-L371)),0)","v":0},{"$f":"IF(AND(M163=0,M152),(M605+M571+M574-IF('Base Numbers'!$G$16,0,M372-M371)),0)","v":0},{"$f":"IF(AND(N163=0,N152),(N605+N571+N574-IF('Base Numbers'!$G$16,0,N372-N371)),0)","v":0},{"$f":"IF(AND(O163=0,O152),(O605+O571+O574-IF('Base Numbers'!$G$16,0,O372-O371)),0)","v":0},{"$f":"IF(AND(P163=0,P152),(P605+P571+P574-IF('Base Numbers'!$G$16,0,P372-P371)),0)","v":0},{"$f":"IF(AND(Q163=0,Q152),(Q605+Q571+Q574-IF('Base Numbers'!$G$16,0,Q372-Q371)),0)","v":0},{"$f":"IF(AND(R163=0,R152),(R605+R571+R574-IF('Base Numbers'!$G$16,0,R372-R371)),0)","v":0},{"$f":"IF(AND(S163=0,S152),(S605+S571+S574-IF('Base Numbers'!$G$16,0,S372-S371)),0)","v":0},{"$f":"IF(AND(T163=0,T152),(T605+T571+T574-IF('Base Numbers'!$G$16,0,T372-T371)),0)","v":0},{"$f":"IF(AND(U163=0,U152),(U605+U571+U574-IF('Base Numbers'!$G$16,0,U372-U371)),0)","v":0},{"$f":"IF(AND(V163=0,V152),(V605+V571+V574-IF('Base Numbers'!$G$16,0,V372-V371)),0)","v":0},{"$f":"IF(AND(W163=0,W152),(W605+W571+W574-IF('Base Numbers'!$G$16,0,W372-W371)),0)","v":0},{"$f":"IF(AND(X163=0,X152),(X605+X571+X574-IF('Base Numbers'!$G$16,0,X372-X371)),0)","v":0},null,"* this is including a reduction for incompatibility of Shadow blade and BB"]
[{"$nulls":3},"total damage from bb hit (main action, with adv)",{"$f":"IF(AND(E163=0,E152),(E605+E571+E573-IF('Base Numbers'!$G$16,0,E372-E371)),0)","v":0},{"$f":"IF(AND(F163=0,F152),(F605+F571+F573-IF('Base Numbers'!$G$16,0,F372-F371)),0)","v":0},{"$f":"IF(AND(G163=0,G152),(G605+G571+G573-IF('Base Numbers'!$G$16,0,G372-G371)),0)","v":0},{"$f":"IF(AND(H163=0,H152),(H605+H571+H573-IF('Base Numbers'!$G$16,0,H372-H371)),0)","v":0},{"$f":"IF(AND(I163=0,I152),(I605+I571+I573-IF('Base Numbers'!$G$16,0,I372-I371)),0)","v":0},{"$f":"IF(AND(J163=0,J152),(J605+J571+J573-IF('Base Numbers'!$G$16,0,J372-J371)),0)","v":0},{"$f":"IF(AND(K163=0,K152),(K605+K571+K573-IF('Base Numbers'!$G$16,0,K372-K371)),0)","v":0},{"$f":"IF(AND(L163=0,L152),(L605+L571+L573-IF('Base Numbers'!$G$16,0,L372-L371)),0)","v":0},{"$f":"IF(AND(M163=0,M152),(M605+M571+M573-IF('Base Numbers'!$G$16,0,M372-M371)),0)","v":0},{"$f":"IF(AND(N163=0,N152),(N605+N571+N573-IF('Base Numbers'!$G$16,0,N372-N371)),0)","v":0},{"$f":"IF(AND(O163=0,O152),(O605+O571+O573-IF('Base Numbers'!$G$16,0,O372-O371)),0)","v":0},{"$f":"IF(AND(P163=0,P152),(P605+P571+P573-IF('Base Numbers'!$G$16,0,P372-P371)),0)","v":0},{"$f":"IF(AND(Q163=0,Q152),(Q605+Q571+Q573-IF('Base Numbers'!$G$16,0,Q372-Q371)),0)","v":0},{"$f":"IF(AND(R163=0,R152),(R605+R571+R573-IF('Base Numbers'!$G$16,0,R372-R371)),0)","v":0},{"$f":"IF(AND(S163=0,S152),(S605+S571+S573-IF('Base Numbers'!$G$16,0,S372-S371)),0)","v":0},{"$f":"IF(AND(T163=0,T152),(T605+T571+T573-IF('Base Numbers'!$G$16,0,T372-T371)),0)","v":0},{"$f":"IF(AND(U163=0,U152),(U605+U571+U573-IF('Base Numbers'!$G$16,0,U372-U371)),0)","v":0},{"$f":"IF(AND(V163=0,V152),(V605+V571+V573-IF('Base Numbers'!$G$16,0,V372-V371)),0)","v":0},{"$f":"IF(AND(W163=0,W152),(W605+W571+W573-IF('Base Numbers'!$G$16,0,W372-W371)),0)","v":0},{"$f":"IF(AND(X163=0,X152),(X605+X571+X573-IF('Base Numbers'!$G$16,0,X372-X371)),0)","v":0},null,"* this is including a reduction for incompatibility of Shadow blade and BB"]
[{"$nulls":3},"total damage from bb hit (opp att, no adv)",{"$f":"IF(AND(E163=0,E152),(E606+E571+E574-IF('Base Numbers'!$G$16,0,E372-E371)),0)","v":0},{"$f":"IF(AND(F163=0,F152),(F606+F571+F574-IF('Base Numbers'!$G$16,0,F372-F371)),0)","v":0},{"$f":"IF(AND(G163=0,G152),(G606+G571+G574-IF('Base Numbers'!$G$16,0,G372-G371)),0)","v":0},{"$f":"IF(AND(H163=0,H152),(H606+H571+H574-IF('Base Numbers'!$G$16,0,H372-H371)),0)","v":0},{"$f":"IF(AND(I163=0,I152),(I606+I571+I574-IF('Base Numbers'!$G$16,0,I372-I371)),0)","v":0},{"$f":"IF(AND(J163=0,J152),(J606+J571+J574-IF('Base Numbers'!$G$16,0,J372-J371)),0)","v":0},{"$f":"IF(AND(K163=0,K152),(K606+K571+K574-IF('Base Numbers'!$G$16,0,K372-K371)),0)","v":0},{"$f":"IF(AND(L163=0,L152),(L606+L571+L574-IF('Base Numbers'!$G$16,0,L372-L371)),0)","v":0},{"$f":"IF(AND(M163=0,M152),(M606+M571+M574-IF('Base Numbers'!$G$16,0,M372-M371)),0)","v":0},{"$f":"IF(AND(N163=0,N152),(N606+N571+N574-IF('Base Numbers'!$G$16,0,N372-N371)),0)","v":0},{"$f":"IF(AND(O163=0,O152),(O606+O571+O574-IF('Base Numbers'!$G$16,0,O372-O371)),0)","v":0},{"$f":"IF(AND(P163=0,P152),(P606+P571+P574-IF('Base Numbers'!$G$16,0,P372-P371)),0)","v":0},{"$f":"IF(AND(Q163=0,Q152),(Q606+Q571+Q574-IF('Base Numbers'!$G$16,0,Q372-Q371)),0)","v":0},{"$f":"IF(AND(R163=0,R152),(R606+R571+R574-IF('Base Numbers'!$G$16,0,R372-R371)),0)","v":0},{"$f":"IF(AND(S163=0,S152),(S606+S571+S574-IF('Base Numbers'!$G$16,0,S372-S371)),0)","v":0},{"$f":"IF(AND(T163=0,T152),(T606+T571+T574-IF('Base Numbers'!$G$16,0,T372-T371)),0)","v":0},{"$f":"IF(AND(U163=0,U152),(U606+U571+U574-IF('Base Numbers'!$G$16,0,U372-U371)),0)","v":0},{"$f":"IF(AND(V163=0,V152),(V606+V571+V574-IF('Base Numbers'!$G$16,0,V372-V371)),0)","v":0},{"$f":"IF(AND(W163=0,W152),(W606+W571+W574-IF('Base Numbers'!$G$16,0,W372-W371)),0)","v":0},{"$f":"IF(AND(X163=0,X152),(X606+X571+X574-IF('Base Numbers'!$G$16,0,X372-X371)),0)","v":0},null,"* this is including a reduction for incompatibility of Shadow blade and BB"]
[{"$nulls":3},"total damage from bb hit (opp att, with adv)",{"$f":"IF(AND(E163=0,E152),(E606+E571+E573-IF('Base Numbers'!$G$16,0,E372-E371)),0)","v":0},{"$f":"IF(AND(F163=0,F152),(F606+F571+F573-IF('Base Numbers'!$G$16,0,F372-F371)),0)","v":0},{"$f":"IF(AND(G163=0,G152),(G606+G571+G573-IF('Base Numbers'!$G$16,0,G372-G371)),0)","v":0},{"$f":"IF(AND(H163=0,H152),(H606+H571+H573-IF('Base Numbers'!$G$16,0,H372-H371)),0)","v":0},{"$f":"IF(AND(I163=0,I152),(I606+I571+I573-IF('Base Numbers'!$G$16,0,I372-I371)),0)","v":0},{"$f":"IF(AND(J163=0,J152),(J606+J571+J573-IF('Base Numbers'!$G$16,0,J372-J371)),0)","v":0},{"$f":"IF(AND(K163=0,K152),(K606+K571+K573-IF('Base Numbers'!$G$16,0,K372-K371)),0)","v":0},{"$f":"IF(AND(L163=0,L152),(L606+L571+L573-IF('Base Numbers'!$G$16,0,L372-L371)),0)","v":0},{"$f":"IF(AND(M163=0,M152),(M606+M571+M573-IF('Base Numbers'!$G$16,0,M372-M371)),0)","v":0},{"$f":"IF(AND(N163=0,N152),(N606+N571+N573-IF('Base Numbers'!$G$16,0,N372-N371)),0)","v":0},{"$f":"IF(AND(O163=0,O152),(O606+O571+O573-IF('Base Numbers'!$G$16,0,O372-O371)),0)","v":0},{"$f":"IF(AND(P163=0,P152),(P606+P571+P573-IF('Base Numbers'!$G$16,0,P372-P371)),0)","v":0},{"$f":"IF(AND(Q163=0,Q152),(Q606+Q571+Q573-IF('Base Numbers'!$G$16,0,Q372-Q371)),0)","v":0},{"$f":"IF(AND(R163=0,R152),(R606+R571+R573-IF('Base Numbers'!$G$16,0,R372-R371)),0)","v":0},{"$f":"IF(AND(S163=0,S152),(S606+S571+S573-IF('Base Numbers'!$G$16,0,S372-S371)),0)","v":0},{"$f":"IF(AND(T163=0,T152),(T606+T571+T573-IF('Base Numbers'!$G$16,0,T372-T371)),0)","v":0},{"$f":"IF(AND(U163=0,U152),(U606+U571+U573-IF('Base Numbers'!$G$16,0,U372-U371)),0)","v":0},{"$f":"IF(AND(V163=0,V152),(V606+V571+V573-IF('Base Numbers'!$G$16,0,V372-V371)),0)","v":0},{"$f":"IF(AND(W163=0,W152),(W606+W571+W573-IF('Base Numbers'!$G$16,0,W372-W371)),0)","v":0},{"$f":"IF(AND(X163=0,X152),(X606+X571+X573-IF('Base Numbers'!$G$16,0,X372-X371)),0)","v":0},null,"* this is including a reduction for incompatibility of Shadow blade and BB"]
[{"$nulls":3},"avg booming blade dmg per opp att (incl hit chance)",{"$f":"E611*E397*(1-E510)+(E612*E398*E510)","v":0},0,0,0,0,0,0,0,0,0,0,0,0,0,0,0,0,0,0,0,null,"opportunity attack triggers split by what allows a booming blade and what doesn't"]
[{"$nulls":3},"avg booming blade bonus crit damage per main action",{"$f":"IF(AND(E163=0,E152),(E506*E528+(1-E506)*E527)*(E607+E571),0)","v":0},0,0,0,0,0,0,0,0,0,0,0,0,0,0,0,0,0,0,0]
[{"$nulls":3},"avg booming blade bonus crit damage per opp att",{"$f":"IF(AND(E163=0,E152),(E510*E528+(1-E510)*E527)*(E608+E571),0)","v":0},0,0,0,0,0,0,0,0,0,0,0,0,0,0,0,0,0,0,0]
[{"$nulls":3},"avg booming blade dmg per main action incl crits",{"$f":"E630+E614","v":0},{"$f":"F630+F614","v":0},0,0,0,0,0,0,0,0,0,0,0,0,0,0,0,0,0,0]
[{"$nulls":3},"avg booming blade dmg per opp att incl crits",{"$f":"IF(E27,(E613+E615),0)","v":0},0,0,0,0,0,0,0,0,0,0,0,0,0,0,0,0,0,0,0,null,"* requires Warcaster feat"]
[{"$nulls":3},"booming blade auto crit main attack damage",{"$f":"IF(AND(E163=0,E152),E393*(2*(E605+E571-(E372-E371))+E573+E578),0)","v":0},0,0,0,0,0,0,0,0,0,0,0,0,0,0,0,0,0,0,0]
[{"$nulls":3},"booming blade auto crit bonus attack damage",{"$f":"IF(AND(E163=0,E152),E394*(2*(E605+E572-(E372-E371))+E574+E579),0)","v":0},0,0,0,0,0,0,0,0,0,0,0,0,0,0,0,0,0,0,0]
[]
[{"$nulls":3},"QUICKEN BOOMING BLADE"]
[{"$nulls":3},"Quicken metamagic available?",{"$f":"IF(OR(AND($B$26>0,E6>=$B$26),E13>=3),1,0)","v":0},0,0,0,0,0,0,0,0,0,0,0,0,0,0,0,0,0,0,0]
[{"$nulls":3},"base sorcery points",{"$f":"IF(E13>=2,E13,0)+IF(E13>=20,4*'Base Numbers'!$C$7,0)+IF(AND($B$26>=1,E6>=$B$26),2,0)","v":0},{"$f":"IF(F13>=2,F13,0)+IF(F13>=20,4*'Base Numbers'!$C$7,0)+IF(AND($B$26>=1,F6>=$B$26),2,0)","v":0},{"$f":"IF(G13>=2,G13,0)+IF(G13>=20,4*'Base Numbers'!$C$7,0)+IF(AND($B$26>=1,G6>=$B$26),2,0)","v":0},{"$f":"IF(H13>=2,H13,0)+IF(H13>=20,4*'Base Numbers'!$C$7,0)+IF(AND($B$26>=1,H6>=$B$26),2,0)","v":0},{"$f":"IF(I13>=2,I13,0)+IF(I13>=20,4*'Base Numbers'!$C$7,0)+IF(AND($B$26>=1,I6>=$B$26),2,0)","v":0},{"$f":"IF(J13>=2,J13,0)+IF(J13>=20,4*'Base Numbers'!$C$7,0)+IF(AND($B$26>=1,J6>=$B$26),2,0)","v":0},{"$f":"IF(K13>=2,K13,0)+IF(K13>=20,4*'Base Numbers'!$C$7,0)+IF(AND($B$26>=1,K6>=$B$26),2,0)","v":0},{"$f":"IF(L13>=2,L13,0)+IF(L13>=20,4*'Base Numbers'!$C$7,0)+IF(AND($B$26>=1,L6>=$B$26),2,0)","v":0},{"$f":"IF(M13>=2,M13,0)+IF(M13>=20,4*'Base Numbers'!$C$7,0)+IF(AND($B$26>=1,M6>=$B$26),2,0)","v":0},{"$f":"IF(N13>=2,N13,0)+IF(N13>=20,4*'Base Numbers'!$C$7,0)+IF(AND($B$26>=1,N6>=$B$26),2,0)","v":0},{"$f":"IF(O13>=2,O13,0)+IF(O13>=20,4*'Base Numbers'!$C$7,0)+IF(AND($B$26>=1,O6>=$B$26),2,0)","v":0},{"$f":"IF(P13>=2,P13,0)+IF(P13>=20,4*'Base Numbers'!$C$7,0)+IF(AND($B$26>=1,P6>=$B$26),2,0)","v":0},{"$f":"IF(Q13>=2,Q13,0)+IF(Q13>=20,4*'Base Numbers'!$C$7,0)+IF(AND($B$26>=1,Q6>=$B$26),2,0)","v":0},{"$f":"IF(R13>=2,R13,0)+IF(R13>=20,4*'Base Numbers'!$C$7,0)+IF(AND($B$26>=1,R6>=$B$26),2,0)","v":0},{"$f":"IF(S13>=2,S13,0)+IF(S13>=20,4*'Base Numbers'!$C$7,0)+IF(AND($B$26>=1,S6>=$B$26),2,0)","v":0},{"$f":"IF(T13>=2,T13,0)+IF(T13>=20,4*'Base Numbers'!$C$7,0)+IF(AND($B$26>=1,T6>=$B$26),2,0)","v":0},{"$f":"IF(U13>=2,U13,0)+IF(U13>=20,4*'Base Numbers'!$C$7,0)+IF(AND($B$26>=1,U6>=$B$26),2,0)","v":0},{"$f":"IF(V13>=2,V13,0)+IF(V13>=20,4*'Base Numbers'!$C$7,0)+IF(AND($B$26>=1,V6>=$B$26),2,0)","v":0},{"$f":"IF(W13>=2,W13,0)+IF(W13>=20,4*'Base Numbers'!$C$7,0)+IF(AND($B$26>=1,W6>=$B$26),2,0)","v":0},{"$f":"IF(X13>=2,X13,0)+IF(X13>=20,4*'Base Numbers'!$C$7,0)+IF(AND($B$26>=1,X6>=$B$26),2,0)","v":0}]
[{"$nulls":3},"bonus actions not spent on spells,  directed spell actions, or shadow blade",{"$f":"MAX(0,'Base Numbers'!$C$5*'Base Numbers'!$C$6-(1-E342+IF('Base Numbers'!$G$16,0,E366))*'Base Numbers'!$C$5*'Base Numbers'!$C$6)","v":16},{"$f":"MAX(0,'Base Numbers'!$C$5*'Base Numbers'!$C$6-(1-F342+IF('Base Numbers'!$G$16,0,F366))*'Base Numbers'!$C$5*'Base Numbers'!$C$6)","v":12.98152},{"$f":"MAX(0,'Base Numbers'!$C$5*'Base Numbers'!$C$6-(1-G342+IF('Base Numbers'!$G$16,0,G366))*'Base Numbers'!$C$5*'Base Numbers'!$C$6)","v":10.87228},{"$f":"MAX(0,'Base Numbers'!$C$5*'Base Numbers'!$C$6-(1-H342+IF('Base Numbers'!$G$16,0,H366))*'Base Numbers'!$C$5*'Base Numbers'!$C$6)","v":10.87228},{"$f":"MAX(0,'Base Numbers'!$C$5*'Base Numbers'!$C$6-(1-I342+IF('Base Numbers'!$G$16,0,I366))*'Base Numbers'!$C$5*'Base Numbers'!$C$6)","v":8.76304},{"$f":"MAX(0,'Base Numbers'!$C$5*'Base Numbers'!$C$6-(1-J342+IF('Base Numbers'!$G$16,0,J366))*'Base Numbers'!$C$5*'Base Numbers'!$C$6)","v":8.76304},{"$f":"MAX(0,'Base Numbers'!$C$5*'Base Numbers'!$C$6-(1-K342+IF('Base Numbers'!$G$16,0,K366))*'Base Numbers'!$C$5*'Base Numbers'!$C$6)","v":8.231110000000001},{"$f":"MAX(0,'Base Numbers'!$C$5*'Base Numbers'!$C$6-(1-L342+IF('Base Numbers'!$G$16,0,L366))*'Base Numbers'!$C$5*'Base Numbers'!$C$6)","v":8.231110000000001},{"$f":"MAX(0,'Base Numbers'!$C$5*'Base Numbers'!$C$6-(1-M342+IF('Base Numbers'!$G$16,0,M366))*'Base Numbers'!$C$5*'Base Numbers'!$C$6)","v":8.231110000000001},{"$f":"MAX(0,'Base Numbers'!$C$5*'Base Numbers'!$C$6-(1-N342+IF('Base Numbers'!$G$16,0,N366))*'Base Numbers'!$C$5*'Base Numbers'!$C$6)","v":8.231110000000001},{"$f":"MAX(0,'Base Numbers'!$C$5*'Base Numbers'!$C$6-(1-O342+IF('Base Numbers'!$G$16,0,O366))*'Base Numbers'!$C$5*'Base Numbers'!$C$6)","v":8.231110000000001},{"$f":"MAX(0,'Base Numbers'!$C$5*'Base Numbers'!$C$6-(1-P342+IF('Base Numbers'!$G$16,0,P366))*'Base Numbers'!$C$5*'Base Numbers'!$C$6)","v":8.231110000000001},{"$f":"MAX(0,'Base Numbers'!$C$5*'Base Numbers'!$C$6-(1-Q342+IF('Base Numbers'!$G$16,0,Q366))*'Base Numbers'!$C$5*'Base Numbers'!$C$6)","v":8.231110000000001},{"$f":"MAX(0,'Base Numbers'!$C$5*'Base Numbers'!$C$6-(1-R342+IF('Base Numbers'!$G$16,0,R366))*'Base Numbers'!$C$5*'Base Numbers'!$C$6)","v":8.231110000000001},{"$f":"MAX(0,'Base Numbers'!$C$5*'Base Numbers'!$C$6-(1-S342+IF('Base Numbers'!$G$16,0,S366))*'Base Numbers'!$C$5*'Base Numbers'!$C$6)","v":8.231110000000001},{"$f":"MAX(0,'Base Numbers'!$C$5*'Base Numbers'!$C$6-(1-T342+IF('Base Numbers'!$G$16,0,T366))*'Base Numbers'!$C$5*'Base Numbers'!$C$6)","v":8.231110000000001},{"$f":"MAX(0,'Base Numbers'!$C$5*'Base Numbers'!$C$6-(1-U342+IF('Base Numbers'!$G$16,0,U366))*'Base Numbers'!$C$5*'Base Numbers'!$C$6)","v":8.231110000000001},{"$f":"MAX(0,'Base Numbers'!$C$5*'Base Numbers'!$C$6-(1-V342+IF('Base Numbers'!$G$16,0,V366))*'Base Numbers'!$C$5*'Base Numbers'!$C$6)","v":8.231110000000001},{"$f":"MAX(0,'Base Numbers'!$C$5*'Base Numbers'!$C$6-(1-W342+IF('Base Numbers'!$G$16,0,W366))*'Base Numbers'!$C$5*'Base Numbers'!$C$6)","v":8.850831803630527},{"$f":"MAX(0,'Base Numbers'!$C$5*'Base Numbers'!$C$6-(1-X342+IF('Base Numbers'!$G$16,0,X366))*'Base Numbers'!$C$5*'Base Numbers'!$C$6)","v":8.850831803630527},null,"* shadow blade only excluded if DM doesn't allow BB with shadowblade"]
[{"$nulls":3},"additional sorc points required to quicken every remaining bonus round",{"$f":"MAX(0,E624*2-E623)","v":32},{"$f":"MAX(0,F624*2-F623)","v":25.96304},21.74456,{"$f":"MAX(0,H624*2-H623)","v":21.74456},17.52608,17.52608,16.462220000000002,16.462220000000002,16.462220000000002,16.462220000000002,16.462220000000002,16.462220000000002,16.462220000000002,16.462220000000002,16.462220000000002,16.462220000000002,16.462220000000002,16.462220000000002,17.701663607261054,17.701663607261054]
[{"$nulls":3},"max possible sorc points generatable by spell slot conversion",{"$f":"IF(E13>=2,MIN(E625,E1376),0)","v":0},0,0,0,0,0,0,0,0,0,0,0,0,0,0,0,0,0,0,0]
[{"$nulls":3},"max possible bonus attack percent with Quicken BB",{"$f":"IF(AND(E152>=1,E622), MIN(E624/('Base Numbers'!$C$5*'Base Numbers'!$C$6),(E623+E626)/('Base Numbers'!$C$5*'Base Numbers'!$C$6*2)),0)","v":0},{"$f":"IF(AND(F152>=1,F622), MIN(F624/('Base Numbers'!$C$5*'Base Numbers'!$C$6),(F623+F626)/('Base Numbers'!$C$5*'Base Numbers'!$C$6*2)),0)","v":0},{"$f":"IF(AND(G152>=1,G622), MIN(G624/('Base Numbers'!$C$5*'Base Numbers'!$C$6),(G623+G626)/('Base Numbers'!$C$5*'Base Numbers'!$C$6*2)),0)","v":0},{"$f":"IF(AND(H152>=1,H622), MIN(H624/('Base Numbers'!$C$5*'Base Numbers'!$C$6),(H623+H626)/('Base Numbers'!$C$5*'Base Numbers'!$C$6*2)),0)","v":0},{"$f":"IF(AND(I152>=1,I622), MIN(I624/('Base Numbers'!$C$5*'Base Numbers'!$C$6),(I623+I626)/('Base Numbers'!$C$5*'Base Numbers'!$C$6*2)),0)","v":0},{"$f":"IF(AND(J152>=1,J622), MIN(J624/('Base Numbers'!$C$5*'Base Numbers'!$C$6),(J623+J626)/('Base Numbers'!$C$5*'Base Numbers'!$C$6*2)),0)","v":0},{"$f":"IF(AND(K152>=1,K622), MIN(K624/('Base Numbers'!$C$5*'Base Numbers'!$C$6),(K623+K626)/('Base Numbers'!$C$5*'Base Numbers'!$C$6*2)),0)","v":0},{"$f":"IF(AND(L152>=1,L622), MIN(L624/('Base Numbers'!$C$5*'Base Numbers'!$C$6),(L623+L626)/('Base Numbers'!$C$5*'Base Numbers'!$C$6*2)),0)","v":0},{"$f":"IF(AND(M152>=1,M622), MIN(M624/('Base Numbers'!$C$5*'Base Numbers'!$C$6),(M623+M626)/('Base Numbers'!$C$5*'Base Numbers'!$C$6*2)),0)","v":0},{"$f":"IF(AND(N152>=1,N622), MIN(N624/('Base Numbers'!$C$5*'Base Numbers'!$C$6),(N623+N626)/('Base Numbers'!$C$5*'Base Numbers'!$C$6*2)),0)","v":0},{"$f":"IF(AND(O152>=1,O622), MIN(O624/('Base Numbers'!$C$5*'Base Numbers'!$C$6),(O623+O626)/('Base Numbers'!$C$5*'Base Numbers'!$C$6*2)),0)","v":0},{"$f":"IF(AND(P152>=1,P622), MIN(P624/('Base Numbers'!$C$5*'Base Numbers'!$C$6),(P623+P626)/('Base Numbers'!$C$5*'Base Numbers'!$C$6*2)),0)","v":0},{"$f":"IF(AND(Q152>=1,Q622), MIN(Q624/('Base Numbers'!$C$5*'Base Numbers'!$C$6),(Q623+Q626)/('Base Numbers'!$C$5*'Base Numbers'!$C$6*2)),0)","v":0},{"$f":"IF(AND(R152>=1,R622), MIN(R624/('Base Numbers'!$C$5*'Base Numbers'!$C$6),(R623+R626)/('Base Numbers'!$C$5*'Base Numbers'!$C$6*2)),0)","v":0},{"$f":"IF(AND(S152>=1,S622), MIN(S624/('Base Numbers'!$C$5*'Base Numbers'!$C$6),(S623+S626)/('Base Numbers'!$C$5*'Base Numbers'!$C$6*2)),0)","v":0},{"$f":"IF(AND(T152>=1,T622), MIN(T624/('Base Numbers'!$C$5*'Base Numbers'!$C$6),(T623+T626)/('Base Numbers'!$C$5*'Base Numbers'!$C$6*2)),0)","v":0},{"$f":"IF(AND(U152>=1,U622), MIN(U624/('Base Numbers'!$C$5*'Base Numbers'!$C$6),(U623+U626)/('Base Numbers'!$C$5*'Base Numbers'!$C$6*2)),0)","v":0},{"$f":"IF(AND(V152>=1,V622), MIN(V624/('Base Numbers'!$C$5*'Base Numbers'!$C$6),(V623+V626)/('Base Numbers'!$C$5*'Base Numbers'!$C$6*2)),0)","v":0},{"$f":"IF(AND(W152>=1,W622), MIN(W624/('Base Numbers'!$C$5*'Base Numbers'!$C$6),(W623+W626)/('Base Numbers'!$C$5*'Base Numbers'!$C$6*2)),0)","v":0},{"$f":"IF(AND(X152>=1,X622), MIN(X624/('Base Numbers'!$C$5*'Base Numbers'!$C$6),(X623+X626)/('Base Numbers'!$C$5*'Base Numbers'!$C$6*2)),0)","v":0},null,"* this is a theoretical maximum of all bonus actions"]
[{"$nulls":3},"total damage from bb hit (bonus action, no adv)",{"$f":"IF(AND(E163=0,E152),(E605+E572+E576-IF('Base Numbers'!$G$16,0,E372-E371)),0)","v":0},{"$f":"IF(AND(F163=0,F152),(F605+F572+F576-IF('Base Numbers'!$G$16,0,F372-F371)),0)","v":0},{"$f":"IF(AND(G163=0,G152),(G605+G572+G576-IF('Base Numbers'!$G$16,0,G372-G371)),0)","v":0},{"$f":"IF(AND(H163=0,H152),(H605+H572+H576-IF('Base Numbers'!$G$16,0,H372-H371)),0)","v":0},{"$f":"IF(AND(I163=0,I152),(I605+I572+I576-IF('Base Numbers'!$G$16,0,I372-I371)),0)","v":0},{"$f":"IF(AND(J163=0,J152),(J605+J572+J576-IF('Base Numbers'!$G$16,0,J372-J371)),0)","v":0},{"$f":"IF(AND(K163=0,K152),(K605+K572+K576-IF('Base Numbers'!$G$16,0,K372-K371)),0)","v":0},{"$f":"IF(AND(L163=0,L152),(L605+L572+L576-IF('Base Numbers'!$G$16,0,L372-L371)),0)","v":0},{"$f":"IF(AND(M163=0,M152),(M605+M572+M576-IF('Base Numbers'!$G$16,0,M372-M371)),0)","v":0},{"$f":"IF(AND(N163=0,N152),(N605+N572+N576-IF('Base Numbers'!$G$16,0,N372-N371)),0)","v":0},{"$f":"IF(AND(O163=0,O152),(O605+O572+O576-IF('Base Numbers'!$G$16,0,O372-O371)),0)","v":0},{"$f":"IF(AND(P163=0,P152),(P605+P572+P576-IF('Base Numbers'!$G$16,0,P372-P371)),0)","v":0},{"$f":"IF(AND(Q163=0,Q152),(Q605+Q572+Q576-IF('Base Numbers'!$G$16,0,Q372-Q371)),0)","v":0},{"$f":"IF(AND(R163=0,R152),(R605+R572+R576-IF('Base Numbers'!$G$16,0,R372-R371)),0)","v":0},{"$f":"IF(AND(S163=0,S152),(S605+S572+S576-IF('Base Numbers'!$G$16,0,S372-S371)),0)","v":0},{"$f":"IF(AND(T163=0,T152),(T605+T572+T576-IF('Base Numbers'!$G$16,0,T372-T371)),0)","v":0},{"$f":"IF(AND(U163=0,U152),(U605+U572+U576-IF('Base Numbers'!$G$16,0,U372-U371)),0)","v":0},{"$f":"IF(AND(V163=0,V152),(V605+V572+V576-IF('Base Numbers'!$G$16,0,V372-V371)),0)","v":0},{"$f":"IF(AND(W163=0,W152),(W605+W572+W576-IF('Base Numbers'!$G$16,0,W372-W371)),0)","v":0},{"$f":"IF(AND(X163=0,X152),(X605+X572+X576-IF('Base Numbers'!$G$16,0,X372-X371)),0)","v":0},null,"* this is including a reduction for incompatibility of Shadow blade and BB"]
[{"$nulls":3},"total damage from bb hit (bonus action, with adv)",{"$f":"IF(AND(E163=0,E152),(E605+E572+E575-IF('Base Numbers'!$G$16,0,E372-E371)),0)","v":0},{"$f":"IF(AND(F163=0,F152),(F605+F572+F575-IF('Base Numbers'!$G$16,0,F372-F371)),0)","v":0},{"$f":"IF(AND(G163=0,G152),(G605+G572+G575-IF('Base Numbers'!$G$16,0,G372-G371)),0)","v":0},{"$f":"IF(AND(H163=0,H152),(H605+H572+H575-IF('Base Numbers'!$G$16,0,H372-H371)),0)","v":0},{"$f":"IF(AND(I163=0,I152),(I605+I572+I575-IF('Base Numbers'!$G$16,0,I372-I371)),0)","v":0},{"$f":"IF(AND(J163=0,J152),(J605+J572+J575-IF('Base Numbers'!$G$16,0,J372-J371)),0)","v":0},{"$f":"IF(AND(K163=0,K152),(K605+K572+K575-IF('Base Numbers'!$G$16,0,K372-K371)),0)","v":0},{"$f":"IF(AND(L163=0,L152),(L605+L572+L575-IF('Base Numbers'!$G$16,0,L372-L371)),0)","v":0},{"$f":"IF(AND(M163=0,M152),(M605+M572+M575-IF('Base Numbers'!$G$16,0,M372-M371)),0)","v":0},{"$f":"IF(AND(N163=0,N152),(N605+N572+N575-IF('Base Numbers'!$G$16,0,N372-N371)),0)","v":0},{"$f":"IF(AND(O163=0,O152),(O605+O572+O575-IF('Base Numbers'!$G$16,0,O372-O371)),0)","v":0},{"$f":"IF(AND(P163=0,P152),(P605+P572+P575-IF('Base Numbers'!$G$16,0,P372-P371)),0)","v":0},{"$f":"IF(AND(Q163=0,Q152),(Q605+Q572+Q575-IF('Base Numbers'!$G$16,0,Q372-Q371)),0)","v":0},{"$f":"IF(AND(R163=0,R152),(R605+R572+R575-IF('Base Numbers'!$G$16,0,R372-R371)),0)","v":0},{"$f":"IF(AND(S163=0,S152),(S605+S572+S575-IF('Base Numbers'!$G$16,0,S372-S371)),0)","v":0},{"$f":"IF(AND(T163=0,T152),(T605+T572+T575-IF('Base Numbers'!$G$16,0,T372-T371)),0)","v":0},{"$f":"IF(AND(U163=0,U152),(U605+U572+U575-IF('Base Numbers'!$G$16,0,U372-U371)),0)","v":0},{"$f":"IF(AND(V163=0,V152),(V605+V572+V575-IF('Base Numbers'!$G$16,0,V372-V371)),0)","v":0},{"$f":"IF(AND(W163=0,W152),(W605+W572+W575-IF('Base Numbers'!$G$16,0,W372-W371)),0)","v":0},{"$f":"IF(AND(X163=0,X152),(X605+X572+X575-IF('Base Numbers'!$G$16,0,X372-X371)),0)","v":0},null,"* this is including a reduction for incompatibility of Shadow blade and BB"]
[{"$nulls":3},"avg booming blade dmg per action (incl hit chance)",{"$f":"IF(AND(E163=0,E152),E609*E391*(1-E506)+(E610*E393*E506),0)","v":0},0,0,0,0,0,0,0,0,0,0,0,0,0,0,0,0,0,0,0]
[{"$nulls":3},"avg booming blade dmg per bonus action (incl hit chance)",{"$f":"E392*E628*(1-E509)+E394*E509*E629","v":0},0,0,0,0,0,0,0,0,0,0,0,0,0,0,0,0,0,0,0]
[{"$nulls":3},"avg booming blade bonus crit damage per bonus action",{"$f":"IF(AND(E163=0,E152),((E509*E528)+(1-E509)*E527)*(E607+E572),0)","v":0},0,0,0,0,0,0,0,0,0,0,0,0,0,0,0,0,0,0,0]
[{"$nulls":3},"avg booming blade dmg per bonus action incl crits",{"$f":"IF(AND(E152>=1,E622),E631+E632,0)","v":0},0,0,0,0,0,0,0,0,0,0,0,0,0,0,0,0,0,0,0,null,"* requires Quicken meta magic"]
[]
[]
[{"$nulls":3},"RANGED ATTACKS"]
[{"$nulls":3},"avg main+haste attack ranged attacks per round (no spell adj)",{"$f":"IF(AND(E33=0,E19<2,OR($B$38>=1,$B$40>=1)),1,E378)+E379","v":1},1,1,1,2,2,2,2,2,2,2,2,2,2,2,2,2,2,2,2,null,"Includes \"loading\" property of xbows"]
[{"$nulls":3},"avg ranged attacks per round (main, haste, minus spells)",{"$f":"E637-(E637-E379)*(E337)","v":1},1,1,1,2,2,2,2,2,2,2,2,2,2,2,2,2,2,2,2,null,"smitable ranged attack requires ranged weapon as a hexweapon and warlock L5"]
[{"$nulls":3},"base ranged weapon bonus attacks per round (xbow master, swiftquivver, Monk)",{"$f":"MAX(E1162,IF(AND($B$38>=1,E33>=1),1,0))","v":0},{"$f":"MAX(F1162,IF(AND($B$38>=1,F33>=1),1,0))","v":0},0,0,0,0,0,0,0,0,0,0,0,0,0,0,0,0,0,0,null,null,"smiteable weapon can't be a hand crossbow"]
[{"$nulls":3},"avg ranged bonus attacks per round (xbow master, minus spells)",{"$f":"MAX(0,E639*E342)","v":0},0,0,0,0,0,0,0,0,0,0,0,0,0,0,0,0,0,0,0,null,null,"requires L3 warlock, Pact of the Blade, and Improved Pact Weapon Invocation"]
[{"$nulls":3},"avg ranged adv first attack",{"$f":"MIN(1,E464+E465+E468+E472+E474+E476+E479+E478+E477+E470+E462+E466+E473+E467+E475)","v":0},0,0.32830000000000004,0.3417,0.3551,0.3551,0.3551,0.3551,0.34840000000000004,0.335,0.3216,0.42650000000000005,0.4198,0.4064,0.393,0.3796,1,1,1,1,null,null,"smiting requires L5 warlock and Pact of the Blade"]
[{"$nulls":3},"avg ranged adv subsequent attacks",{"$f":"MIN(1,E468+E472+E474+E476+E479+E478+E477+E470+E462+E466+E473+E467+E475)","v":0},0,0.32830000000000004,0.3417,0.3551,0.3551,0.3551,0.3551,0.34840000000000004,0.335,0.3216,0.42650000000000005,0.4198,0.4064,0.393,0.3796,0.3729,0.3595,0.33940000000000003,0.30590000000000006]
[{"$nulls":3},"avg ranged adv main attack action attacks (incl haste)",{"$f":"(E641+(E637-1)*E642)/(E637)","v":0},{"$f":"(F641+(F637-1)*F642)/(F637)","v":0},0.32830000000000004,0.3417,0.3551,0.3551,0.3551,0.3551,0.34840000000000004,0.335,0.3216,0.42650000000000005,0.4198,0.4064,0.393,0.3796,0.68645,0.67975,0.6697,0.65295]
[{"$nulls":3},"avg ranged adv percent on bonus attacks",{"$f":"MIN(1,E476+E482+E486+E488+E490+E477+E484+E462+E466+E487+E481+E489)","v":0},0,0.32830000000000004,0.3417,0.3551,0.3551,0.3551,0.3551,0.34840000000000004,0.335,0.3216,0.42650000000000005,0.4198,0.4064,0.393,0.3796,0.3729,0.3595,0.33940000000000003,0.30590000000000006]
[{"$nulls":3},"avg ranged adv percent across all attacks",{"$f":"(E641+(E637-1)*E642+E640*E644)/(E637+E640)","v":0},{"$f":"(F641+(F637-1)*F642+F640*F644)/(F637+F640)","v":0},0.32830000000000004,0.3417,0.3551,0.3551,0.3551,0.3551,0.34840000000000004,0.335,0.3216,0.42650000000000005,0.4198,0.4064,0.393,0.3796,0.68645,0.67975,0.6697,0.65295]
[{"$nulls":3},"fighting style bonus hit chance (Archery Style)",{"$f":"IF(AND($B$58>=1,E6>=$B$58),2,0)","v":0},2,2,2,2,2,2,2,2,2,2,2,2,2,2,2,2,2,2,2]
[{"$nulls":3},"hit bonus (SS, weapon, bless)",{"$f":"IF(E32>=1,-5,0)+E646+E356*E270*2.5/('Base Numbers'!$C$5*'Base Numbers'!$C$6)+E363","v":0},{"$f":"IF(F32>=1,-5,0)+F646+F356*F270*2.5/('Base Numbers'!$C$5*'Base Numbers'!$C$6)+F363","v":2},{"$f":"IF(G32>=1,-5,0)+G646+G356*G270*2.5/('Base Numbers'!$C$5*'Base Numbers'!$C$6)+G363","v":2},{"$f":"IF(H32>=1,-5,0)+H646+H356*H270*2.5/('Base Numbers'!$C$5*'Base Numbers'!$C$6)+H363","v":-3},{"$f":"IF(I32>=1,-5,0)+I646+I356*I270*2.5/('Base Numbers'!$C$5*'Base Numbers'!$C$6)+I363","v":-3},{"$f":"IF(J32>=1,-5,0)+J646+J356*J270*2.5/('Base Numbers'!$C$5*'Base Numbers'!$C$6)+J363","v":-3},{"$f":"IF(K32>=1,-5,0)+K646+K356*K270*2.5/('Base Numbers'!$C$5*'Base Numbers'!$C$6)+K363","v":-3},{"$f":"IF(L32>=1,-5,0)+L646+L356*L270*2.5/('Base Numbers'!$C$5*'Base Numbers'!$C$6)+L363","v":-3},{"$f":"IF(M32>=1,-5,0)+M646+M356*M270*2.5/('Base Numbers'!$C$5*'Base Numbers'!$C$6)+M363","v":-3},{"$f":"IF(N32>=1,-5,0)+N646+N356*N270*2.5/('Base Numbers'!$C$5*'Base Numbers'!$C$6)+N363","v":-3},{"$f":"IF(O32>=1,-5,0)+O646+O356*O270*2.5/('Base Numbers'!$C$5*'Base Numbers'!$C$6)+O363","v":-3},{"$f":"IF(P32>=1,-5,0)+P646+P356*P270*2.5/('Base Numbers'!$C$5*'Base Numbers'!$C$6)+P363","v":-3},{"$f":"IF(Q32>=1,-5,0)+Q646+Q356*Q270*2.5/('Base Numbers'!$C$5*'Base Numbers'!$C$6)+Q363","v":-3},{"$f":"IF(R32>=1,-5,0)+R646+R356*R270*2.5/('Base Numbers'!$C$5*'Base Numbers'!$C$6)+R363","v":-3},{"$f":"IF(S32>=1,-5,0)+S646+S356*S270*2.5/('Base Numbers'!$C$5*'Base Numbers'!$C$6)+S363","v":-3},{"$f":"IF(T32>=1,-5,0)+T646+T356*T270*2.5/('Base Numbers'!$C$5*'Base Numbers'!$C$6)+T363","v":-3},{"$f":"IF(U32>=1,-5,0)+U646+U356*U270*2.5/('Base Numbers'!$C$5*'Base Numbers'!$C$6)+U363","v":-3},{"$f":"IF(V32>=1,-5,0)+V646+V356*V270*2.5/('Base Numbers'!$C$5*'Base Numbers'!$C$6)+V363","v":-3},{"$f":"IF(W32>=1,-5,0)+W646+W356*W270*2.5/('Base Numbers'!$C$5*'Base Numbers'!$C$6)+W363","v":-3},{"$f":"IF(X32>=1,-5,0)+X646+X356*X270*2.5/('Base Numbers'!$C$5*'Base Numbers'!$C$6)+X363","v":-3}]
[{"$nulls":3},"hit bonus (SS, weapon, bless) on Bonus attacks",{"$f":"IF(E32>=1,-5,0)+E646+(1+E356)*E270*2.5/('Base Numbers'!$C$5*'Base Numbers'!$C$6)+E363","v":0},{"$f":"IF(F32>=1,-5,0)+F646+(1+F356)*F270*2.5/('Base Numbers'!$C$5*'Base Numbers'!$C$6)+F363","v":2},{"$f":"IF(G32>=1,-5,0)+G646+(1+G356)*G270*2.5/('Base Numbers'!$C$5*'Base Numbers'!$C$6)+G363","v":2},{"$f":"IF(H32>=1,-5,0)+H646+(1+H356)*H270*2.5/('Base Numbers'!$C$5*'Base Numbers'!$C$6)+H363","v":-3},{"$f":"IF(I32>=1,-5,0)+I646+(1+I356)*I270*2.5/('Base Numbers'!$C$5*'Base Numbers'!$C$6)+I363","v":-3},{"$f":"IF(J32>=1,-5,0)+J646+(1+J356)*J270*2.5/('Base Numbers'!$C$5*'Base Numbers'!$C$6)+J363","v":-3},{"$f":"IF(K32>=1,-5,0)+K646+(1+K356)*K270*2.5/('Base Numbers'!$C$5*'Base Numbers'!$C$6)+K363","v":-3},{"$f":"IF(L32>=1,-5,0)+L646+(1+L356)*L270*2.5/('Base Numbers'!$C$5*'Base Numbers'!$C$6)+L363","v":-3},{"$f":"IF(M32>=1,-5,0)+M646+(1+M356)*M270*2.5/('Base Numbers'!$C$5*'Base Numbers'!$C$6)+M363","v":-3},{"$f":"IF(N32>=1,-5,0)+N646+(1+N356)*N270*2.5/('Base Numbers'!$C$5*'Base Numbers'!$C$6)+N363","v":-3},{"$f":"IF(O32>=1,-5,0)+O646+(1+O356)*O270*2.5/('Base Numbers'!$C$5*'Base Numbers'!$C$6)+O363","v":-3},{"$f":"IF(P32>=1,-5,0)+P646+(1+P356)*P270*2.5/('Base Numbers'!$C$5*'Base Numbers'!$C$6)+P363","v":-3},{"$f":"IF(Q32>=1,-5,0)+Q646+(1+Q356)*Q270*2.5/('Base Numbers'!$C$5*'Base Numbers'!$C$6)+Q363","v":-3},{"$f":"IF(R32>=1,-5,0)+R646+(1+R356)*R270*2.5/('Base Numbers'!$C$5*'Base Numbers'!$C$6)+R363","v":-3},{"$f":"IF(S32>=1,-5,0)+S646+(1+S356)*S270*2.5/('Base Numbers'!$C$5*'Base Numbers'!$C$6)+S363","v":-3},{"$f":"IF(T32>=1,-5,0)+T646+(1+T356)*T270*2.5/('Base Numbers'!$C$5*'Base Numbers'!$C$6)+T363","v":-3},{"$f":"IF(U32>=1,-5,0)+U646+(1+U356)*U270*2.5/('Base Numbers'!$C$5*'Base Numbers'!$C$6)+U363","v":-3},{"$f":"IF(V32>=1,-5,0)+V646+(1+V356)*V270*2.5/('Base Numbers'!$C$5*'Base Numbers'!$C$6)+V363","v":-3},{"$f":"IF(W32>=1,-5,0)+W646+(1+W356)*W270*2.5/('Base Numbers'!$C$5*'Base Numbers'!$C$6)+W363","v":-3},{"$f":"IF(X32>=1,-5,0)+X646+(1+X356)*X270*2.5/('Base Numbers'!$C$5*'Base Numbers'!$C$6)+X363","v":-3}]
[{"$nulls":3},"one die hit chance",{"$f":"(1+IF($B$52,0.05,0))*(1-(E153-1-E35-E39-E647)/20)","v":0.65},0.75,0.7,0.44999999999999996,0.5,0.44999999999999996,0.44999999999999996,0.44999999999999996,0.5,0.5,0.5,0.44999999999999996,0.55,0.55,0.5,0.5,0.55,0.5,0.5,0.5]
[{"$nulls":3},"one die hit chance on bonus attacks",{"$f":"(1+IF($B$52,0.05,0))*(1-(E153-1-E35-E39-E648)/20)","v":0.65},0.75,0.7,0.44999999999999996,0.5,0.44999999999999996,0.44999999999999996,0.44999999999999996,0.5,0.5,0.5,0.44999999999999996,0.55,0.55,0.5,0.5,0.55,0.5,0.5,0.5]
[{"$nulls":3},"hit chance w adv",{"$f":"1-(1-E649)^E503","v":0.8775000000000001},0.9375,0.9099999999999999,0.6975,0.75,0.6975,0.6975,0.6975,0.75,0.75,0.75,0.6975,0.7975000000000001,0.7975000000000001,0.75,0.75,0.7975000000000001,0.75,0.75,0.75]
[{"$nulls":3},"hit chance w adv on bonus attacks",{"$f":"1-(1-E650)^E503","v":0.8775000000000001},0.9375,0.9099999999999999,0.6975,0.75,0.6975,0.6975,0.6975,0.75,0.75,0.75,0.6975,0.7975000000000001,0.7975000000000001,0.75,0.75,0.7975000000000001,0.75,0.75,0.75]
[{"$nulls":3},"avg ranged hit chance",{"$f":"E645*E651+(1-E645)*E649","v":0.65},{"$f":"F645*F651+(1-F645)*F649","v":0.75},{"$f":"G645*G651+(1-G645)*G649","v":0.7689429999999999},0.53457075,0.588775,0.53788725,0.53788725,0.53788725,0.5871,0.58375,0.5804,0.55555875,0.6539005000000001,0.650584,0.59825,0.5949,0.719896375,0.6699375000000001,0.667425,0.6632374999999999]
[{"$nulls":3},"avg ranged hit chance on bonus attacks",{"$f":"E644*E652+(1-E644)*E650","v":0.65},0.75,0.7689429999999999,0.53457075,0.588775,0.53788725,0.53788725,0.53788725,0.5871,0.58375,0.5804,0.55555875,0.6539005000000001,0.650584,0.59825,0.5949,0.6422927500000001,0.589875,0.5848500000000001,0.5764750000000001]
[{"$nulls":3},"base ranged weapon damage (long bow vs. hand xbow vs. heavy xbow)",{"$f":"MAX(E1157,IF($B$38>=1,3.5,0)+IF($B$39>=1,4.5,0)+IF($B$40>=1,5.5,0)+IF(AND($B$38=0,$B$39=0,$B$40=0),3.5,0))","v":4.5},{"$f":"MAX(F1157,IF($B$38>=1,3.5,0)+IF($B$39>=1,4.5,0)+IF($B$40>=1,5.5,0)+IF(AND($B$38=0,$B$39=0,$B$40=0),3.5,0))","v":4.5},4.5,4.5,4.5,4.5,4.5,4.5,4.5,4.5,4.5,4.5,4.5,4.5,4.5,4.5,4.5,4.5,4.5,4.5,null,"includes Monk weapons"]
[{"$nulls":3},"ranged damage dice",{"$f":"E553+E551+E549+E655+E562+E365+E568","v":4.71875},{"$f":"F553+F551+F549+F655+F562+F365+F568","v":5.93198125},6.538596875,6.538596875,7.1452124999999995,7.1452124999999995,7.436111718749999,7.436111718749999,7.436111718749999,7.436111718749999,7.436111718749999,7.436111718749999,7.436111718749999,7.436111718749999,7.436111718749999,7.436111718749999,7.436111718749999,7.436111718749999,7.51875,7.51875]
[{"$nulls":3},"ranged damage dice on bonus attacks",{"$f":"E554+E552+E550+E545+E655+E563+E365+E568","v":4.71875},{"$f":"F554+F552+F550+F545+F655+F563+F365+F568","v":5.49448125},5.882346875,5.882346875,6.2702124999999995,6.2702124999999995,6.561111718749999,6.561111718749999,6.561111718749999,6.561111718749999,6.561111718749999,6.561111718749999,6.561111718749999,6.561111718749999,6.561111718749999,6.561111718749999,6.561111718749999,6.561111718749999,6.812369457044178,6.812369457044178]
[{"$nulls":3},"ranged static damage buffs",{"$f":"IF(E32>=1,10,0)+E546+E159+E364+IF(AND(E12>=12,E54>=1),E36)","v":3},3,3,13,13,13,13,13,14,14,14,14,15,15,15,15,15,15,15,15]
[{"$nulls":3},"ranged static damage buffs on bonus attacks",{"$f":"IF(E32>=1,10,0)+E547+E159+E364+IF(AND(E12>=12,E54>=1),E36)","v":3},3,3,13,13,13,13,13,14,14,14,14,15,15,15,15,15,15,15,15]
[{"$nulls":3},"avg crit rate with ranged weapons",{"$f":"E527","v":0.05},0.05,0.05,0.05,0.05,0.05,0.05,0.05,0.05,0.05,0.05,0.05,0.05,0.05,0.05,0.05,0.05,0.05,0.05,0.05]
[{"$nulls":3},"avg crit rate with advantage",{"$f":"1-(1-E660)^E503","v":0.09750000000000003},0.09750000000000003,0.09750000000000003,0.09750000000000003,0.09750000000000003,0.09750000000000003,0.09750000000000003,0.09750000000000003,0.09750000000000003,0.09750000000000003,0.09750000000000003,0.09750000000000003,0.09750000000000003,0.09750000000000003,0.09750000000000003,0.09750000000000003,0.09750000000000003,0.09750000000000003,0.09750000000000003,0.09750000000000003]
[{"$nulls":3},"Piercer Feat additional crit die, Ranged (piercing weapons only)",{"$f":"IF(AND($B$27>=1,E6>=$B$27),E655,0)","v":0},0,0,0,0,0,0,0,4.5,4.5,4.5,4.5,4.5,4.5,4.5,4.5,4.5,4.5,4.5,4.5]
[{"$nulls":3},"avg crit bonus damage",{"$f":"(E645*E661+(1-E645)*E660)*(E656+E662)","v":0.23593750000000002},{"$f":"(F645*F661+(1-F645)*F660)*(F656+F662)","v":0.2965990625},0.4288943580679689,0.43305617497890625,0.4777807105406251,0.4777807105406251,0.497232341325586,0.497232341325586,0.7943362987710938,0.7867389636621094,{"$f":"(O645*O661+(1-O645)*O660)*(O656+O662)","v":0.779141628553125},0.8386162892197265,0.8348176216652344,0.8272202865562501,0.8196229514472657,0.8120256163382813,0.9859989206809572,0.982200253126465,0.9832629515625002,0.9737005335937503]
[{"$nulls":3},"avg crit bonus damage on bonus attacks",{"$f":"E640*(E644*E661+(1-E644)*E660)*(E657+E662)","v":0},{"$f":"F640*(F644*F661+(1-F644)*F660)*(F657+F662)","v":0},0,0,0,0,0,0,0,0,{"$f":"O640*(O644*O661+(1-O644)*O660)*(O657+O662)","v":0},0,0,0,0,0,0,0,0,0]
[{"$nulls":3},"total hasted attack damage ",{"$f":"(E668+E663)*E379","v":0},0,0,0,0,0,0,0,0,0,0,0,0,0,0,0,0,0,0,0]
[{"$nulls":3},"avg auto crit main attack damage (main + haste)",{"$f":"E637*E651*(2*E656+E658+E662)","v":10.91390625},{"$f":"F637*F651*(2*F656+F658+F662)","v":13.934964843749999},14.630246312499999,18.188842640625,40.9356375,38.070142875,38.881751695312495,38.881751695312495,50.058335156249996,50.058335156249996,50.058335156249996,46.554251695312495,54.8236963828125,54.8236963828125,51.558335156249996,51.558335156249996,54.8236963828125,51.558335156249996,51.806250000000006,51.806250000000006]
[{"$nulls":3},"avg auto crit bonus attack damage",{"$f":"IF(E640>0,1,0)*E652*(2*E657+E659+E662)","v":0},{"$f":"IF(F640>0,1,0)*F652*(2*F657+F659+F662)","v":0},0,0,0,0,0,0,0,0,0,0,0,0,0,0,0,0,0,0]
[{"$nulls":3},"avg main attack single attack damage (incl hit chance)",{"$f":"(1-E645)*E649*(E656+E658)+E645*E651*(E656+E658)","v":5.0171875},{"$f":"(1-F645)*F649*(F656+F658)+F645*F651*(F656+F658)","v":6.6989859375},{"$f":"(1-G645)*G649*(G656+G658)+G645*G651*(G656+G658)","v":7.334637296853124},10.444762385416407,11.8609974896875,10.835852952290626,10.99232393309121,10.99232393309121,12.585141190078124,{"$f":"(1-N645)*N649*(N656+N658)+N645*N651*(N656+N658)","v":12.513330215820314},12.4415192415625,11.9090194313291,14.670984670946485,14.596575306431252,13.422403835742188,13.347242861484375,16.151675495423145,15.030792594580078,15.02957671875,14.935279453124998]
[{"$nulls":3},"total main attack damage per round (inc hit chance)",{"$f":"(E668+E663)*E637","v":5.253125000000001},{"$f":"(F668+F663)*F637","v":6.995585},7.763531654921093,10.877818560395314,24.67755640045625,22.6272673256625,22.979112548833594,22.979112548833594,26.758954977698437,{"$f":"(N668+N663)*N637","v":26.60013835896485},{"$f":"(O668+O663)*O637","v":26.44132174023125},25.495271441097653,31.011604585223438,30.847591185975002,28.484053574378905,28.318536955645314,34.2753488322082,32.025985695413084,32.025679340625004,{"$f":"(X668+X663)*X637","v":31.817959973437496}]
[{"$nulls":3},"single bonus attack damage (not adjusted for spells, # of attacks)",{"$f":"(1-E644)*E650*(E657+E659)+E644*E652*(E657+E659)","v":5.0171875},{"$f":"(1-F644)*F650*(F657+F659)+F644*F652*(F657+F659)","v":6.3708609375},6.830018453103124,10.093950330728905,11.3458193646875,10.365201608540625,10.521672589341211,10.521672589341211,12.071428690078125,12.002548965820313,11.9336692415625,11.4229055250791,14.098821733446485,14.02731430643125,12.898935085742188,12.826705361484375,13.848545738893165,12.718360775097656,12.756964276952289,12.574285682749542]
[{"$nulls":3},"single bonus attack bonus crit damage (not adjusted for spells, # of atts)",{"$f":"(E644*E661+(1-E644)*E660)*E657","v":0.23593750000000002},{"$f":"(F644*F661+(1-F644)*F660)*F657","v":0.2747240625},0.38584813150546887,0.38959224529140624,0.41927186679062506,0.41927186679062506,0.438723497575586,0.438723497575586,0.43663542377109377,0.43245927616210944,0.42828312855312495,0.4609755079697266,0.4588874341652344,0.4547112865562501,0.4505351389472657,0.4463589913382813,0.4442709175337891,0.4400947699248048,0.45044408705394673,0.43960390415542516]
[{"$nulls":3},"avg bonus attack damage (inc hit chance)",{"$f":"((1-E644)*E650*(E657+E659)+E644*E652*(E657+E659))*E640","v":0},0,0,0,0,0,0,0,0,0,0,0,0,0,0,0,0,0,0,0]
[{"$nulls":3},"total bonus attack damage per round (inc hit chance, spells)",{"$f":"(E672+E664)","v":0},{"$f":"(F672+F664)","v":0},0,0,0,0,0,0,0,0,0,0,0,0,0,0,0,0,0,0]
[]
[]
[{"$nulls":3},"ELDRITCH BLAST  (no smites allowed, disadv w/prone)",1,2,3,4,5,6,7,8,9,10,11,12,13,14,15,16,17,18,19,20]
[{"$nulls":3},"has Eldritch Blast ",{"$f":"IF(OR(AND($B$24>=1,E6>=$B$24),E12>=1),1,0)","v":0},0,0,0,0,0,0,0,0,0,0,0,0,0,0,0,0,0,0,0]
[{"$nulls":3},"Eldritch blast dice damage buffs (hex/hunter's mark)",{"$f":"IF(E677,E581+IF(E1121,4.5,0)/E682,0)","v":0},0,0,0,0,0,0,0,0,0,0,0,0,0,0,0,0,0,0,0]
[{"$nulls":3},"Eldritch blast static damage buffs (CHA, hexblade curse)",{"$f":"E583+IF(AND($B$68>0,$B$68<=E6,E12>=1),E36,0)","v":0},0,0,0,0,0,0,0,0,0,0,0,0,0,0,0,0,0,0,0]
[{"$nulls":3},"Eldritch blast dice damage buffs (hex/hunter's mark) for Bonus attacks",{"$f":"IF(E677,E582+IF(E1121,4.5,0)/E682,0)","v":0},{"$f":"IF(F677,F582+IF(F1121,4.5,0)/F682,0)","v":0},0,0,0,0,0,0,0,0,0,0,0,0,0,0,0,0,0,0]
[{"$nulls":3},"Eldritch blast static damage buffs (CHA, hexblade curse) for Bonus atts",{"$f":"E584+IF(AND($B$68>0,$B$68<=E6,E12>=1),E36,0)","v":0},0,0,0,0,0,0,0,0,0,0,0,0,0,0,0,0,0,0,0]
[{"$nulls":3},"number of Eldritch blast bolts",{"$f":"IF(E677,(1+'Caster Tables'!C$8),0)","v":0},{"$f":"IF(F677,(1+'Caster Tables'!D$8),0)","v":0},{"$f":"IF(G677,(1+'Caster Tables'!E$8),0)","v":0},{"$f":"IF(H677,(1+'Caster Tables'!F$8),0)","v":0},{"$f":"IF(I677,(1+'Caster Tables'!G$8),0)","v":0},{"$f":"IF(J677,(1+'Caster Tables'!H$8),0)","v":0},{"$f":"IF(K677,(1+'Caster Tables'!I$8),0)","v":0},{"$f":"IF(L677,(1+'Caster Tables'!J$8),0)","v":0},{"$f":"IF(M677,(1+'Caster Tables'!K$8),0)","v":0},{"$f":"IF(N677,(1+'Caster Tables'!L$8),0)","v":0},{"$f":"IF(O677,(1+'Caster Tables'!M$8),0)","v":0},{"$f":"IF(P677,(1+'Caster Tables'!N$8),0)","v":0},{"$f":"IF(Q677,(1+'Caster Tables'!O$8),0)","v":0},{"$f":"IF(R677,(1+'Caster Tables'!P$8),0)","v":0},{"$f":"IF(S677,(1+'Caster Tables'!Q$8),0)","v":0},{"$f":"IF(T677,(1+'Caster Tables'!R$8),0)","v":0},{"$f":"IF(U677,(1+'Caster Tables'!S$8),0)","v":0},{"$f":"IF(V677,(1+'Caster Tables'!T$8),0)","v":0},{"$f":"IF(W677,(1+'Caster Tables'!U$8),0)","v":0},{"$f":"IF(X677,(1+'Caster Tables'!V$8),0)","v":0}]
[{"$nulls":3},"avg EB damage (not including hits)",{"$f":"IF(E677,E682*(5.5+E679+E678),0)","v":0},{"$f":"IF(F677,F682*(5.5+F679+F678),0)","v":0},0,0,0,0,0,0,0,0,0,0,0,0,0,0,0,0,0,0]
[{"$nulls":3},"avg EB damage (not including hits) on Bonus attacks",{"$f":"IF(E677,E682*(5.5+E681+E680),0)","v":0},{"$f":"IF(F677,F682*(5.5+F681+F680),0)","v":0},0,0,0,0,0,0,0,0,0,0,0,0,0,0,0,0,0,0,null,"Includes FF adv, only on first attack"]
[{"$nulls":3},"avg advantage with EB ranged",{"$f":"IF(E677,(E513+(E514-E461)*(E682-1))/E682,0)","v":0},0,0,0,0,0,0,0,0,0,0,0,0,0,0,0,0,0,0,0,null,"* ranged adv calcs remove prone adv chance"]
[{"$nulls":3},"avg advantage with EB ranged on Bonus attacks",{"$f":"E515-E461","v":0},0,0,0,0,0,0,0,0,0,0,0,0,0,0,0,0,0,0,0,null,"* ranged adv calcs remove prone adv chance"]
[{"$nulls":3},"avg advantage with EB  melee range",{"$f":"IF(E682>0,IF(E33,(E513+E514*(E682-1))/E682,0),0)","v":0},0,0,0,0,0,0,0,0,0,0,0,0,0,0,0,0,0,0,0]
[{"$nulls":3},"avg advantage with EB  melee range on Bonus attacks",{"$f":"IF(E33,E515,0)","v":0},0,0,0,0,0,0,0,0,0,0,0,0,0,0,0,0,0,0,0]
[{"$nulls":3},"avg disadvantage with EB melee range",{"$f":"IF(E677,IF(E33=0,1-(E513+E514*(E682-1))/E682,0),0)","v":0},0,0,0,0,0,0,0,0,0,0,0,0,0,0,0,0,0,0,0]
[{"$nulls":3},"avg disadvantage with EB melee range on Bonus attacks",{"$f":"IF(E33=0,1-E515,0)","v":1},1,1,1,1,1,1,1,1,1,1,1,1,1,1,1,1,1,1,1]
[{"$nulls":3},"avg damage with EB (ranged)",{"$f":"IF(E677,E683*E685*E426+E683*(1-E685)*E424,0)","v":0},0,0,0,0,0,0,0,0,0,0,0,0,0,0,0,0,0,0,0]
[{"$nulls":3},"avg damage with EB on Bonus attacks (ranged)",{"$f":"IF(E677,E684*E686*E427+E684*(1-E686)*E425,0)","v":0},0,0,0,0,0,0,0,0,0,0,0,0,0,0,0,0,0,0,0,null,"Also EB as main attack DOES remove ability to use weapon-based bonus attacks"]
[{"$nulls":3},"avg crit bonus damage with EB (ranged)",{"$f":"IF(E677,E529*(5.5+E678)*E682*E685+E527*(1-E685)*(5.5+E678)*E682,0)","v":0},0,0,0,0,0,0,0,0,0,0,0,0,0,0,0,0,0,0,0,null,"HOWEVER, warcaster DOES let EB as a reaction, but at DISADV for melee range"]
[{"$nulls":3},"avg crit bonus damage with EB on Bonus attacks (ranged)",{"$f":"IF(E677,E529*(5.5+E680)*E682*E686+E527*(1-E686)*(5.5+E680)*E682,0)","v":0},0,0,0,0,0,0,0,0,0,0,0,0,0,0,0,0,0,0,0,null,"All EB would be at DISADV if there's someone in melee range to trigger an OP Att anyway."]
[{"$nulls":3},"avg melee (Opp att) dmg with EB (per opp att)",{"$f":"IF(E677,IF(E33=0,E689*E683*E428+(1-E689)*E683*E424,E687*E683*E426+(1-E687)*E683*E424),0)","v":0},0,0,0,0,0,0,0,0,0,0,0,0,0,0,0,0,0,0,0,null,"Can only really include these damage numbers for Opp Att if the main"]
[{"$nulls":3},"avg melee (opp att) bonus crit damage with EB",{"$f":"IF(E677,IF(E33=0,E530*(5.5+E678)*E682*E689+E527*(1-E689)*(5.5+E678)*E682,E529*(5.5+E678)*E682*E687+E527*(1-E687)*(5.5+E678)*E682),0)","v":0},0,0,0,0,0,0,0,0,0,0,0,0,0,0,0,0,0,0,0,null,"   damage isn't based on Eld Blast"]
[{"$nulls":3},"avg melee bonus attack damage with EB",{"$f":"IF(E677,IF(E33=0,E690*E684*E428+(1-E690)*E684*E424,E688*E684*E426+(1-E688)*E684*E424),0)","v":0},0,0,0,0,0,0,0,0,0,0,0,0,0,0,0,0,0,0,0,null,"   otherwise main damage would be Eld Blast at Disadv"]
[{"$nulls":3},"avg melee bonus attack crit damage with EB",{"$f":"IF(E677,IF(E33=0,E530*(5.5+E680)*E682*E690+E527*(1-E690)*(5.5+E680)*E682,E529*(5.5+E680)*E682*E688+E527*(1-E688)*(5.5+E680)*E682),0)","v":0},0,0,0,0,0,0,0,0,0,0,0,0,0,0,0,0,0,0,0,null,"UNLESS you have the xbow master feat"]
[{"$nulls":3},"avg autocrit damage (w adv) with EB",{"$f":"(2*(E683-E681*E682)+E681*E682)*E426","v":0},0,0,0,0,0,0,0,0,0,0,0,0,0,0,0,0,0,0,0]
[{"$nulls":3},"total possible Opp Att damage with EB ",{"$f":"IF(AND(E677,E27),E695+E696,0)","v":0},0,0,0,0,0,0,0,0,0,0,0,0,0,0,0,0,0,0,0]
[]
[{"$nulls":3},"AVAILABLE CANTRIP DAMAGE (max over available cantrips)"]
[{"$nulls":3},"has firebolt (d10)  Wiz, Sorc, Artificer",{"$f":"IF(OR(E13>=1,E15>=1,E19>=1,AND($B$25>=1,E6>=$B$25)),1,0)","v":0},0,0,0,0,0,0,0,0,0,0,0,0,0,0,0,1,1,1,1,null," really this works for any ranged cantrip spell"]
[{"$nulls":3},"has produce flame (d8)  Druid",{"$f":"IF(E17>=1,1,0)","v":0},0,0,0,0,0,0,0,0,0,0,0,0,0,0,0,0,0,0,0]
[{"$nulls":3},"avg damage with ranged cantrip (from range)",{"$f":"MAX(E691+E693,E722+E724)","v":0},{"$f":"MAX(F691+F693,F722+F724)","v":0.7886003124999998},1.2352974999749997,1.2411501275249996,1.7732230046781248,1.6626703400999996,1.8620014663687496,1.8620014663687496,1.8576319487249995,1.8488929134374996,1.8401538781499993,1.7813902516416011,1.9041966591374997,1.8954576238499996,1.7588599262910154,1.7498477961507812,23.172526611328124,22.12203873828125,22.195999999999998,22.195999999999998]
[{"$nulls":3},"avg damage with ranged cantrip on Bonus attacks (from range)",{"$f":"MAX(E692+E694,E723+E725)","v":0},0,0,0,0,0,0,0,0,0,0,0,0,0,0,0,18.5380212890625,17.302153203125002,17.36,17.36]
[{"$nulls":3},"avg melee (Opp att) dmg with ranged cantrip (per opp att)",{"$f":"MAX(E695+E696,E726+E727)","v":0},0,0,0,0,0,0,0,0,0,0,0,0,0,0,0,16.066285117187498,14.83041703125,14.880000000000003,14.880000000000003]
[{"$nulls":3},"avg melee bonus attack damage with ranged cantrip (from melee)",{"$f":"MAX(E697+E698,E728+E729)","v":0},0,0,0,0,0,0,0,0,0,0,0,0,0,0,0,8.960043623046873,7.538795324218751,7.564000000000002,7.564000000000002]
[{"$nulls":3},"total possible Opp Att damage with ranged cantrip",{"$f":"MAX(E700,E731)","v":0},0,0,0,0,0,0,0,0,0,0,0,0,0,0,0,0,0,0,0]
[]
[{"$nulls":3},"RANGED ATTACK CANTRIP DAMAGE"]
[{"$nulls":3},"base ranged cantrip damage",{"$f":"MAX(IF(E703,5.5,0), IF(E704,4.5,0))*(1+'Caster Tables'!C8)","v":0},{"$f":"MAX(IF(F703,5.5,0), IF(F704,4.5,0))*(1+'Caster Tables'!D8)","v":0},{"$f":"MAX(IF(G703,5.5,0), IF(G704,4.5,0))*(1+'Caster Tables'!E8)","v":0},{"$f":"MAX(IF(H703,5.5,0), IF(H704,4.5,0))*(1+'Caster Tables'!F8)","v":0},{"$f":"MAX(IF(I703,5.5,0), IF(I704,4.5,0))*(1+'Caster Tables'!G8)","v":0},{"$f":"MAX(IF(J703,5.5,0), IF(J704,4.5,0))*(1+'Caster Tables'!H8)","v":0},{"$f":"MAX(IF(K703,5.5,0), IF(K704,4.5,0))*(1+'Caster Tables'!I8)","v":0},{"$f":"MAX(IF(L703,5.5,0), IF(L704,4.5,0))*(1+'Caster Tables'!J8)","v":0},{"$f":"MAX(IF(M703,5.5,0), IF(M704,4.5,0))*(1+'Caster Tables'!K8)","v":0},{"$f":"MAX(IF(N703,5.5,0), IF(N704,4.5,0))*(1+'Caster Tables'!L8)","v":0},{"$f":"MAX(IF(O703,5.5,0), IF(O704,4.5,0))*(1+'Caster Tables'!M8)","v":0},{"$f":"MAX(IF(P703,5.5,0), IF(P704,4.5,0))*(1+'Caster Tables'!N8)","v":0},{"$f":"MAX(IF(Q703,5.5,0), IF(Q704,4.5,0))*(1+'Caster Tables'!O8)","v":0},{"$f":"MAX(IF(R703,5.5,0), IF(R704,4.5,0))*(1+'Caster Tables'!P8)","v":0},{"$f":"MAX(IF(S703,5.5,0), IF(S704,4.5,0))*(1+'Caster Tables'!Q8)","v":0},{"$f":"MAX(IF(T703,5.5,0), IF(T704,4.5,0))*(1+'Caster Tables'!R8)","v":0},{"$f":"MAX(IF(U703,5.5,0), IF(U704,4.5,0))*(1+'Caster Tables'!S8)","v":22},{"$f":"MAX(IF(V703,5.5,0), IF(V704,4.5,0))*(1+'Caster Tables'!T8)","v":22},{"$f":"MAX(IF(W703,5.5,0), IF(W704,4.5,0))*(1+'Caster Tables'!U8)","v":22},{"$f":"MAX(IF(X703,5.5,0), IF(X704,4.5,0))*(1+'Caster Tables'!V8)","v":22}]
[{"$nulls":3},"dice damage buffs (incl arcane firearm)",{"$f":"E581+IF(E1121,4.5,0)","v":0},1.2132312499999998,1.8198468749999996,1.8198468749999996,2.4264624999999995,2.4264624999999995,2.7173617187499994,2.7173617187499994,2.7173617187499994,2.7173617187499994,2.7173617187499994,2.7173617187499994,2.7173617187499994,2.7173617187499994,2.7173617187499994,2.7173617187499994,2.7173617187499994,2.7173617187499994,2.8,2.8]
[{"$nulls":3},"static damage buffs",{"$f":"E583+IF(AND(E15>=10,E48>=1),E37,0)+IF(E1128,E38,0)","v":0},0,0,0,0,0,0,0,0,0,0,0,0,0,0,0,0,0,0,0,null,"*we'll include cleric potent spellcasting here, although it only applies to \"cleric\" cantrips"]
[{"$nulls":3},"avg firebolt damage (not including hits)",{"$f":"E712+E713+E714","v":0},{"$f":"F712+F713+F714","v":1.2132312499999998},1.8198468749999996,1.8198468749999996,2.4264624999999995,2.4264624999999995,2.7173617187499994,2.7173617187499994,2.7173617187499994,2.7173617187499994,2.7173617187499994,2.7173617187499994,2.7173617187499994,2.7173617187499994,2.7173617187499994,2.7173617187499994,24.71736171875,24.71736171875,24.8,24.8]
[{"$nulls":3},"avg ranged spell attack cantrip adv",{"$f":"E513","v":0},0,0.32830000000000004,0.3417,0.3551,0.3551,0.3551,0.3551,0.34840000000000004,0.335,0.3216,0.42650000000000005,0.4198,0.4064,0.393,0.3796,1,1,1,1]
[{"$nulls":3},"avg ranged spell attack cantrip bonus action adv",{"$f":"E515-E461","v":0},0,0,0,0,0,0,0,0,0,0,0,0,0,0,0,0,0,0,0]
[{"$nulls":3},"avg advantage with ranged cantrip melee range",{"$f":"IF(E33,E513,0)","v":0},0,0,0,0,0,0,0,0,0,0,0,0,0,0,0,0,0,0,0]
[{"$nulls":3},"avg advantage with range cantrip  melee range on Bonus attacks",{"$f":"IF(E33,E515,0)","v":0},0,0,0,0,0,0,0,0,0,0,0,0,0,0,0,0,0,0,0]
[{"$nulls":3},"avg disadvantage with ranged cantrip melee range",{"$f":"IF(E33=0,1-E513,0)","v":1},1,0.6717,0.6583,0.6449,0.6449,0.6449,0.6449,0.6516,0.665,0.6784,0.5734999999999999,0.5802,0.5936,0.607,0.6204000000000001,0,0,0,0]
[{"$nulls":3},"avg disadvantage with ranged cantrip melee range on Bonus attacks",{"$f":"IF(E33=0,1-E515,0)","v":1},1,1,1,1,1,1,1,1,1,1,1,1,1,1,1,1,1,1,1]
[{"$nulls":3},"avg damage with cantrip at ranged",{"$f":"E715*E716*E426+E715*(1-E716)*E424","v":0},{"$f":"F715*F716*F426+F715*(1-F716)*F424","v":0.7886003124999998},1.2352974999749997,1.2411501275249996,1.7732230046781248,1.6626703400999996,1.8620014663687496,1.8620014663687496,1.8576319487249995,1.8488929134374996,1.8401538781499993,1.7813902516416011,1.9041966591374997,1.8954576238499996,1.7588599262910154,1.7498477961507812,20.762583843749997,19.712095970703125,19.778,19.778]
[{"$nulls":3},"avg damage with ranged cantrip on Bonus attacks (ranged)",{"$f":"IF(E703>=1,E715*E717*E394+E715*(1-E717)*E392,0)","v":0},0,0,0,0,0,0,0,0,0,0,0,0,0,0,0,17.302153203125,16.0662851171875,16.12,16.12]
[{"$nulls":3},"avg crit bonus damage with ranged cantrip (ranged)",{"$f":"IF(E703>=1,E529*(E712+E713)*E716+E527*(1-E716)*(E712+E713),0)","v":0},0,0,0,0,0,0,0,0,0,0,0,0,0,0,0,2.4099427675781255,2.4099427675781255,2.418000000000001,2.418000000000001]
[{"$nulls":3},"avg crit bonus damage with ranged cantrip on Bonus attacks (ranged)",{"$f":"IF(E703>=1,E529*(E712+E713)*E717+E527*(1-E717)*(E712+E713),0)","v":0},0,0,0,0,0,0,0,0,0,0,0,0,0,0,0,1.2358680859375,1.2358680859375,1.2400000000000002,1.2400000000000002]
[{"$nulls":3},"avg melee (Opp att) dmg with ranged cantrip (per opp att)",{"$f":"IF(E703>=1,IF(E33=0,E720*E715*E426+(1-E720)*E715*E424,E718*E715*E426+(1-E718)*E715*E424),0)","v":0},0,0,0,0,0,0,0,0,0,0,0,0,0,0,0,14.830417031249999,13.5945489453125,13.640000000000002,13.640000000000002]
[{"$nulls":3},"avg melee (opp att) bonus crit damage with ranged cantrip",{"$f":"IF(E703>=1,IF(E33=0,E530*(E712+E713)*E720+E527*(1-E720)*(E712+E713),E529*(E712+E713)*E718+E527*(1-E718)*(E712+E713)),0)","v":0},0,0,0,0,0,0,0,0,0,0,0,0,0,0,0,1.2358680859375,1.2358680859375,1.2400000000000002,1.2400000000000002]
[{"$nulls":3},"avg melee bonus attack damage with ranged cantrip",{"$f":"IF(E703>=1,IF(E33=0,E721*E715*E429+(1-E721)*E715*E425,E719*E715*E427+(1-E719)*E715*E425),0)","v":0},0,0,0,0,0,0,0,0,0,0,0,0,0,0,0,8.898250218749999,7.477001919921876,7.502000000000002,7.502000000000002]
[{"$nulls":3},"avg melee bonus attack crit damage with ranged cantrip",{"$f":"IF(E703>=1,IF(E33=0,E530*(E712+E713)*E721+E527*(1-E721)*(E712+E713),E529*(E712+E713)*E719+E527*(1-E719)*(E712+E713)),0)","v":0},0,0,0,0,0,0,0,0,0,0,0,0,0,0,0,0.06179340429687501,0.06179340429687501,0.06200000000000001,0.06200000000000001]
[{"$nulls":3},"avg autocrit damage (w advantage)",{"$f":"(2*(E712+E713)+E714)*E426","v":0},2.1292208437499998,3.057342749999999,3.057342749999999,4.2584416874999995,4.076456999999999,4.565167687499999,4.565167687499999,4.565167687499999,4.565167687499999,4.565167687499999,4.334191941406249,4.565167687499999,4.565167687499999,4.334191941406249,4.334191941406249,41.525167687499994,39.42419194140625,39.556,39.556]
[{"$nulls":3},"total possible Opp Att damage with ranged cantrip ",{"$f":"IF(AND(E703>=1,E27),E726+E727,0)","v":0},0,0,0,0,0,0,0,0,0,0,0,0,0,0,0,0,0,0,0]
[]
[{"$nulls":3},"MONSTER SAVE PROB VS CASTER STATS"]
[{"$nulls":3},"monster STR save prob vs. INT/WIS/CHA",{"$f":"(13-E$23-E$39-MAX(E$36,E$37,E$38)+'Caster Tables'!C73)/20","v":0.41},{"$f":"(13-F$23-F$39-MAX(F$36,F$37,F$38)+'Caster Tables'!D73)/20","v":0.43499999999999994},{"$f":"(13-G$23-G$39-MAX(G$36,G$37,G$38)+'Caster Tables'!E73)/20","v":0.475},{"$f":"(13-H$23-H$39-MAX(H$36,H$37,H$38)+'Caster Tables'!F73)/20","v":0.51},{"$f":"(13-I$23-I$39-MAX(I$36,I$37,I$38)+'Caster Tables'!G73)/20","v":0.475},{"$f":"(13-J$23-J$39-MAX(J$36,J$37,J$38)+'Caster Tables'!H73)/20","v":0.5},{"$f":"(13-K$23-K$39-MAX(K$36,K$37,K$38)+'Caster Tables'!I73)/20","v":0.5},{"$f":"(13-L$23-L$39-MAX(L$36,L$37,L$38)+'Caster Tables'!J73)/20","v":0.515},{"$f":"(13-M$23-M$39-MAX(M$36,M$37,M$38)+'Caster Tables'!K73)/20","v":0.48},{"$f":"(13-N$23-N$39-MAX(N$36,N$37,N$38)+'Caster Tables'!L73)/20","v":0.5},{"$f":"(13-O$23-O$39-MAX(O$36,O$37,O$38)+'Caster Tables'!M73)/20","v":0.515},{"$f":"(13-P$23-P$39-MAX(P$36,P$37,P$38)+'Caster Tables'!N73)/20","v":0.53},{"$f":"(13-Q$23-Q$39-MAX(Q$36,Q$37,Q$38)+'Caster Tables'!O73)/20","v":0.5},{"$f":"(13-R$23-R$39-MAX(R$36,R$37,R$38)+'Caster Tables'!P73)/20","v":0.51},{"$f":"(13-S$23-S$39-MAX(S$36,S$37,S$38)+'Caster Tables'!Q73)/20","v":0.52},{"$f":"(13-T$23-T$39-MAX(T$36,T$37,T$38)+'Caster Tables'!R73)/20","v":0.53},{"$f":"(13-U$23-U$39-MAX(U$36,U$37,U$38)+'Caster Tables'!S73)/20","v":0.49000000000000005},{"$f":"(13-V$23-V$39-MAX(V$36,V$37,V$38)+'Caster Tables'!T73)/20","v":0.5},{"$f":"(13-W$23-W$39-MAX(W$36,W$37,W$38)+'Caster Tables'!U73)/20","v":0.55},{"$f":"(13-X$23-X$39-MAX(X$36,X$37,X$38)+'Caster Tables'!V73)/20","v":0.6}]
[{"$nulls":3},"monster DEX save prob vs. INT/WIS/CHA",{"$f":"(13-E$23-E$39-MAX(E$36,E$37,E$38)+'Caster Tables'!C74)/20","v":0.45},{"$f":"(13-F$23-F$39-MAX(F$36,F$37,F$38)+'Caster Tables'!D74)/20","v":0.465},{"$f":"(13-G$23-G$39-MAX(G$36,G$37,G$38)+'Caster Tables'!E74)/20","v":0.475},{"$f":"(13-H$23-H$39-MAX(H$36,H$37,H$38)+'Caster Tables'!F74)/20","v":0.485},{"$f":"(13-I$23-I$39-MAX(I$36,I$37,I$38)+'Caster Tables'!G74)/20","v":0.4425},{"$f":"(13-J$23-J$39-MAX(J$36,J$37,J$38)+'Caster Tables'!H74)/20","v":0.45},{"$f":"(13-K$23-K$39-MAX(K$36,K$37,K$38)+'Caster Tables'!I74)/20","v":0.45999999999999996},{"$f":"(13-L$23-L$39-MAX(L$36,L$37,L$38)+'Caster Tables'!J74)/20","v":0.475},{"$f":"(13-M$23-M$39-MAX(M$36,M$37,M$38)+'Caster Tables'!K74)/20","v":0.4375},{"$f":"(13-N$23-N$39-MAX(N$36,N$37,N$38)+'Caster Tables'!L74)/20","v":0.45},{"$f":"(13-O$23-O$39-MAX(O$36,O$37,O$38)+'Caster Tables'!M74)/20","v":0.4625},{"$f":"(13-P$23-P$39-MAX(P$36,P$37,P$38)+'Caster Tables'!N74)/20","v":0.475},{"$f":"(13-Q$23-Q$39-MAX(Q$36,Q$37,Q$38)+'Caster Tables'!O74)/20","v":0.4375},{"$f":"(13-R$23-R$39-MAX(R$36,R$37,R$38)+'Caster Tables'!P74)/20","v":0.45},{"$f":"(13-S$23-S$39-MAX(S$36,S$37,S$38)+'Caster Tables'!Q74)/20","v":0.5},{"$f":"(13-T$23-T$39-MAX(T$36,T$37,T$38)+'Caster Tables'!R74)/20","v":0.55},{"$f":"(13-U$23-U$39-MAX(U$36,U$37,U$38)+'Caster Tables'!S74)/20","v":0.525},{"$f":"(13-V$23-V$39-MAX(V$36,V$37,V$38)+'Caster Tables'!T74)/20","v":0.55},{"$f":"(13-W$23-W$39-MAX(W$36,W$37,W$38)+'Caster Tables'!U74)/20","v":0.575},{"$f":"(13-X$23-X$39-MAX(X$36,X$37,X$38)+'Caster Tables'!V74)/20","v":0.6}]
[{"$nulls":3},"monster CON save prob vs. INT/WIS/CHA",{"$f":"(13-E$23-E$39-MAX(E$36,E$37,E$38)+'Caster Tables'!C75)/20","v":0.45},{"$f":"(13-F$23-F$39-MAX(F$36,F$37,F$38)+'Caster Tables'!D75)/20","v":0.475},{"$f":"(13-G$23-G$39-MAX(G$36,G$37,G$38)+'Caster Tables'!E75)/20","v":0.5},{"$f":"(13-H$23-H$39-MAX(H$36,H$37,H$38)+'Caster Tables'!F75)/20","v":0.525},{"$f":"(13-I$23-I$39-MAX(I$36,I$37,I$38)+'Caster Tables'!G75)/20","v":0.5},{"$f":"(13-J$23-J$39-MAX(J$36,J$37,J$38)+'Caster Tables'!H75)/20","v":0.525},{"$f":"(13-K$23-K$39-MAX(K$36,K$37,K$38)+'Caster Tables'!I75)/20","v":0.55},{"$f":"(13-L$23-L$39-MAX(L$36,L$37,L$38)+'Caster Tables'!J75)/20","v":0.575},{"$f":"(13-M$23-M$39-MAX(M$36,M$37,M$38)+'Caster Tables'!K75)/20","v":0.55},{"$f":"(13-N$23-N$39-MAX(N$36,N$37,N$38)+'Caster Tables'!L75)/20","v":0.575},{"$f":"(13-O$23-O$39-MAX(O$36,O$37,O$38)+'Caster Tables'!M75)/20","v":0.6},{"$f":"(13-P$23-P$39-MAX(P$36,P$37,P$38)+'Caster Tables'!N75)/20","v":0.625},{"$f":"(13-Q$23-Q$39-MAX(Q$36,Q$37,Q$38)+'Caster Tables'!O75)/20","v":0.6},{"$f":"(13-R$23-R$39-MAX(R$36,R$37,R$38)+'Caster Tables'!P75)/20","v":0.65},{"$f":"(13-S$23-S$39-MAX(S$36,S$37,S$38)+'Caster Tables'!Q75)/20","v":0.7},{"$f":"(13-T$23-T$39-MAX(T$36,T$37,T$38)+'Caster Tables'!R75)/20","v":0.75},{"$f":"(13-U$23-U$39-MAX(U$36,U$37,U$38)+'Caster Tables'!S75)/20","v":0.75},{"$f":"(13-V$23-V$39-MAX(V$36,V$37,V$38)+'Caster Tables'!T75)/20","v":0.8},{"$f":"(13-W$23-W$39-MAX(W$36,W$37,W$38)+'Caster Tables'!U75)/20","v":0.85},{"$f":"(13-X$23-X$39-MAX(X$36,X$37,X$38)+'Caster Tables'!V75)/20","v":0.85}]
[{"$nulls":3},"monster INT save prob vs. INT/WIS/CHA",{"$f":"(13-E$23-E$39-MAX(E$36,E$37,E$38)+'Caster Tables'!C76)/20","v":0.3},{"$f":"(13-F$23-F$39-MAX(F$36,F$37,F$38)+'Caster Tables'!D76)/20","v":0.335},{"$f":"(13-G$23-G$39-MAX(G$36,G$37,G$38)+'Caster Tables'!E76)/20","v":0.35},{"$f":"(13-H$23-H$39-MAX(H$36,H$37,H$38)+'Caster Tables'!F76)/20","v":0.375},{"$f":"(13-I$23-I$39-MAX(I$36,I$37,I$38)+'Caster Tables'!G76)/20","v":0.3375},{"$f":"(13-J$23-J$39-MAX(J$36,J$37,J$38)+'Caster Tables'!H76)/20","v":0.35},{"$f":"(13-K$23-K$39-MAX(K$36,K$37,K$38)+'Caster Tables'!I76)/20","v":0.375},{"$f":"(13-L$23-L$39-MAX(L$36,L$37,L$38)+'Caster Tables'!J76)/20","v":0.4},{"$f":"(13-M$23-M$39-MAX(M$36,M$37,M$38)+'Caster Tables'!K76)/20","v":0.375},{"$f":"(13-N$23-N$39-MAX(N$36,N$37,N$38)+'Caster Tables'!L76)/20","v":0.4},{"$f":"(13-O$23-O$39-MAX(O$36,O$37,O$38)+'Caster Tables'!M76)/20","v":0.425},{"$f":"(13-P$23-P$39-MAX(P$36,P$37,P$38)+'Caster Tables'!N76)/20","v":0.45},{"$f":"(13-Q$23-Q$39-MAX(Q$36,Q$37,Q$38)+'Caster Tables'!O76)/20","v":0.4},{"$f":"(13-R$23-R$39-MAX(R$36,R$37,R$38)+'Caster Tables'!P76)/20","v":0.4125},{"$f":"(13-S$23-S$39-MAX(S$36,S$37,S$38)+'Caster Tables'!Q76)/20","v":0.425},{"$f":"(13-T$23-T$39-MAX(T$36,T$37,T$38)+'Caster Tables'!R76)/20","v":0.45},{"$f":"(13-U$23-U$39-MAX(U$36,U$37,U$38)+'Caster Tables'!S76)/20","v":0.4},{"$f":"(13-V$23-V$39-MAX(V$36,V$37,V$38)+'Caster Tables'!T76)/20","v":0.45},{"$f":"(13-W$23-W$39-MAX(W$36,W$37,W$38)+'Caster Tables'!U76)/20","v":0.5},{"$f":"(13-X$23-X$39-MAX(X$36,X$37,X$38)+'Caster Tables'!V76)/20","v":0.55}]
[{"$nulls":3},"monster WIS save prob vs. INT/WIS/CHA",{"$f":"(13-E$23-E$39-MAX(E$36,E$37,E$38)+'Caster Tables'!C77)/20","v":0.375},{"$f":"(13-F$23-F$39-MAX(F$36,F$37,F$38)+'Caster Tables'!D77)/20","v":0.4},{"$f":"(13-G$23-G$39-MAX(G$36,G$37,G$38)+'Caster Tables'!E77)/20","v":0.425},{"$f":"(13-H$23-H$39-MAX(H$36,H$37,H$38)+'Caster Tables'!F77)/20","v":0.45},{"$f":"(13-I$23-I$39-MAX(I$36,I$37,I$38)+'Caster Tables'!G77)/20","v":0.425},{"$f":"(13-J$23-J$39-MAX(J$36,J$37,J$38)+'Caster Tables'!H77)/20","v":0.45},{"$f":"(13-K$23-K$39-MAX(K$36,K$37,K$38)+'Caster Tables'!I77)/20","v":0.475},{"$f":"(13-L$23-L$39-MAX(L$36,L$37,L$38)+'Caster Tables'!J77)/20","v":0.5},{"$f":"(13-M$23-M$39-MAX(M$36,M$37,M$38)+'Caster Tables'!K77)/20","v":0.475},{"$f":"(13-N$23-N$39-MAX(N$36,N$37,N$38)+'Caster Tables'!L77)/20","v":0.5},{"$f":"(13-O$23-O$39-MAX(O$36,O$37,O$38)+'Caster Tables'!M77)/20","v":0.525},{"$f":"(13-P$23-P$39-MAX(P$36,P$37,P$38)+'Caster Tables'!N77)/20","v":0.55},{"$f":"(13-Q$23-Q$39-MAX(Q$36,Q$37,Q$38)+'Caster Tables'!O77)/20","v":0.525},{"$f":"(13-R$23-R$39-MAX(R$36,R$37,R$38)+'Caster Tables'!P77)/20","v":0.55},{"$f":"(13-S$23-S$39-MAX(S$36,S$37,S$38)+'Caster Tables'!Q77)/20","v":0.575},{"$f":"(13-T$23-T$39-MAX(T$36,T$37,T$38)+'Caster Tables'!R77)/20","v":0.6},{"$f":"(13-U$23-U$39-MAX(U$36,U$37,U$38)+'Caster Tables'!S77)/20","v":0.575},{"$f":"(13-V$23-V$39-MAX(V$36,V$37,V$38)+'Caster Tables'!T77)/20","v":0.6},{"$f":"(13-W$23-W$39-MAX(W$36,W$37,W$38)+'Caster Tables'!U77)/20","v":0.625},{"$f":"(13-X$23-X$39-MAX(X$36,X$37,X$38)+'Caster Tables'!V77)/20","v":0.65}]
[{"$nulls":3},"monster CHA save prob vs. INT/WIS/CHA",{"$f":"(13-E$23-E$39-MAX(E$36,E$37,E$38)+'Caster Tables'!C78)/20","v":0.3},{"$f":"(13-F$23-F$39-MAX(F$36,F$37,F$38)+'Caster Tables'!D78)/20","v":0.35},{"$f":"(13-G$23-G$39-MAX(G$36,G$37,G$38)+'Caster Tables'!E78)/20","v":0.4},{"$f":"(13-H$23-H$39-MAX(H$36,H$37,H$38)+'Caster Tables'!F78)/20","v":0.4125},{"$f":"(13-I$23-I$39-MAX(I$36,I$37,I$38)+'Caster Tables'!G78)/20","v":0.375},{"$f":"(13-J$23-J$39-MAX(J$36,J$37,J$38)+'Caster Tables'!H78)/20","v":0.3875},{"$f":"(13-K$23-K$39-MAX(K$36,K$37,K$38)+'Caster Tables'!I78)/20","v":0.4},{"$f":"(13-L$23-L$39-MAX(L$36,L$37,L$38)+'Caster Tables'!J78)/20","v":0.45},{"$f":"(13-M$23-M$39-MAX(M$36,M$37,M$38)+'Caster Tables'!K78)/20","v":0.425},{"$f":"(13-N$23-N$39-MAX(N$36,N$37,N$38)+'Caster Tables'!L78)/20","v":0.45},{"$f":"(13-O$23-O$39-MAX(O$36,O$37,O$38)+'Caster Tables'!M78)/20","v":0.475},{"$f":"(13-P$23-P$39-MAX(P$36,P$37,P$38)+'Caster Tables'!N78)/20","v":0.5},{"$f":"(13-Q$23-Q$39-MAX(Q$36,Q$37,Q$38)+'Caster Tables'!O78)/20","v":0.475},{"$f":"(13-R$23-R$39-MAX(R$36,R$37,R$38)+'Caster Tables'!P78)/20","v":0.5},{"$f":"(13-S$23-S$39-MAX(S$36,S$37,S$38)+'Caster Tables'!Q78)/20","v":0.55},{"$f":"(13-T$23-T$39-MAX(T$36,T$37,T$38)+'Caster Tables'!R78)/20","v":0.575},{"$f":"(13-U$23-U$39-MAX(U$36,U$37,U$38)+'Caster Tables'!S78)/20","v":0.55},{"$f":"(13-V$23-V$39-MAX(V$36,V$37,V$38)+'Caster Tables'!T78)/20","v":0.6},{"$f":"(13-W$23-W$39-MAX(W$36,W$37,W$38)+'Caster Tables'!U78)/20","v":0.65},{"$f":"(13-X$23-X$39-MAX(X$36,X$37,X$38)+'Caster Tables'!V78)/20","v":0.65}]
[]
[{"$nulls":3},"HUNTER'S MARK / HEX"]
[{"$nulls":3},"duration in actions",{"$f":"E273*(1+E356)","v":0},5.546199999999999,8.319299999999998,8.319299999999998,11.092399999999998,11.092399999999998,12.422224999999997,12.422224999999997,12.422224999999997,12.422224999999997,12.422224999999997,12.422224999999997,12.422224999999997,12.422224999999997,12.422224999999997,12.422224999999997,12.422224999999997,12.422224999999997,12.799999999999999,12.799999999999999]
[{"$nulls":3},"number of bonus actions spent redirecting",{"$f":"0.4*E742","v":0},{"$f":"0.4*F742","v":2.2184799999999996},3.3277199999999993,3.3277199999999993,4.436959999999999,4.436959999999999,4.968889999999999,4.968889999999999,4.968889999999999,4.968889999999999,4.968889999999999,4.968889999999999,4.968889999999999,4.968889999999999,4.968889999999999,4.968889999999999,4.968889999999999,4.968889999999999,5.12,5.12]
[]
[{"$nulls":3},"FAERIE FIRE"]
[{"$nulls":3},"total targets (AOE opportunitys + single casts)",{"$f":"MIN('Base Numbers'!$G$21,E275)*'Base Numbers'!$G$20+MAX(0,E275-'Base Numbers'!$G$21)","v":0},{"$f":"MIN('Base Numbers'!$G$21,F275)*'Base Numbers'!$G$20+MAX(0,F275-'Base Numbers'!$G$21)","v":0},{"$f":"MIN('Base Numbers'!$G$21,G275)*'Base Numbers'!$G$20+MAX(0,G275-'Base Numbers'!$G$21)","v":0},{"$f":"MIN('Base Numbers'!$G$21,H275)*'Base Numbers'!$G$20+MAX(0,H275-'Base Numbers'!$G$21)","v":0},{"$f":"MIN('Base Numbers'!$G$21,I275)*'Base Numbers'!$G$20+MAX(0,I275-'Base Numbers'!$G$21)","v":0},{"$f":"MIN('Base Numbers'!$G$21,J275)*'Base Numbers'!$G$20+MAX(0,J275-'Base Numbers'!$G$21)","v":0},{"$f":"MIN('Base Numbers'!$G$21,K275)*'Base Numbers'!$G$20+MAX(0,K275-'Base Numbers'!$G$21)","v":0},{"$f":"MIN('Base Numbers'!$G$21,L275)*'Base Numbers'!$G$20+MAX(0,L275-'Base Numbers'!$G$21)","v":0},{"$f":"MIN('Base Numbers'!$G$21,M275)*'Base Numbers'!$G$20+MAX(0,M275-'Base Numbers'!$G$21)","v":0},{"$f":"MIN('Base Numbers'!$G$21,N275)*'Base Numbers'!$G$20+MAX(0,N275-'Base Numbers'!$G$21)","v":0},{"$f":"MIN('Base Numbers'!$G$21,O275)*'Base Numbers'!$G$20+MAX(0,O275-'Base Numbers'!$G$21)","v":0},{"$f":"MIN('Base Numbers'!$G$21,P275)*'Base Numbers'!$G$20+MAX(0,P275-'Base Numbers'!$G$21)","v":0},{"$f":"MIN('Base Numbers'!$G$21,Q275)*'Base Numbers'!$G$20+MAX(0,Q275-'Base Numbers'!$G$21)","v":0},{"$f":"MIN('Base Numbers'!$G$21,R275)*'Base Numbers'!$G$20+MAX(0,R275-'Base Numbers'!$G$21)","v":0},{"$f":"MIN('Base Numbers'!$G$21,S275)*'Base Numbers'!$G$20+MAX(0,S275-'Base Numbers'!$G$21)","v":0},{"$f":"MIN('Base Numbers'!$G$21,T275)*'Base Numbers'!$G$20+MAX(0,T275-'Base Numbers'!$G$21)","v":0},{"$f":"MIN('Base Numbers'!$G$21,U275)*'Base Numbers'!$G$20+MAX(0,U275-'Base Numbers'!$G$21)","v":0},{"$f":"MIN('Base Numbers'!$G$21,V275)*'Base Numbers'!$G$20+MAX(0,V275-'Base Numbers'!$G$21)","v":0},{"$f":"MIN('Base Numbers'!$G$21,W275)*'Base Numbers'!$G$20+MAX(0,W275-'Base Numbers'!$G$21)","v":0},{"$f":"MIN('Base Numbers'!$G$21,X275)*'Base Numbers'!$G$20+MAX(0,X275-'Base Numbers'!$G$21)","v":0}]
[{"$nulls":3},"avg affected targets per cast",{"$f":"IF(E275>0,(1-E735)*E746/E275,0)","v":0},0,0,0,0,0,0,0,0,0,0,0,0,0,0,0,0,0,0,0]
[]
[{"$nulls":3},"GUIDING BOLT (spell attack)"]
[{"$nulls":3},"avg guiding bolt slot level",{"$f":"SpellOrder!CL25","v":0},{"$f":"SpellOrder!CM25","v":0},{"$f":"SpellOrder!CN25","v":0},{"$f":"SpellOrder!CO25","v":0},{"$f":"SpellOrder!CP25","v":0},{"$f":"SpellOrder!CQ25","v":0},{"$f":"SpellOrder!CR25","v":0},{"$f":"SpellOrder!CS25","v":0},{"$f":"SpellOrder!CT25","v":0},{"$f":"SpellOrder!CU25","v":0},{"$f":"SpellOrder!CV25","v":0},{"$f":"SpellOrder!CW25","v":0},{"$f":"SpellOrder!CX25","v":0},{"$f":"SpellOrder!CY25","v":0},{"$f":"SpellOrder!CZ25","v":0},{"$f":"SpellOrder!DA25","v":0},{"$f":"SpellOrder!DB25","v":0},{"$f":"SpellOrder!DC25","v":0},{"$f":"SpellOrder!DD25","v":0},{"$f":"SpellOrder!DE25","v":0},null,"* now upcastable"]
[{"$nulls":3},"base guiding bolt dice damage",{"$f":"IF(E750>=1,14+(E750-1)*3.5+E581,0)","v":0},0,0,0,0,0,0,0,0,0,0,0,0,0,0,0,0,0,0,0]
[{"$nulls":3},"guiding bolt static damage bonuses",{"$f":"E583","v":0},0,0,0,0,0,0,0,0,0,0,0,0,0,0,0,0,0,0,0]
[{"$nulls":3},"guiding bolt crit damage",{"$f":"E537*E751","v":0},0,0,0,0,0,0,0,0,0,0,0,0,0,0,0,0,0,0,0]
[{"$nulls":3},"damage including hit chance, crits",{"$f":"E523*(E751+E752)+E753","v":0},0,0,0,0,0,0,0,0,0,0,0,0,0,0,0,0,0,0,0]
[{"$nulls":3},"L1 guiding bolt damage including hit chance, crits",{"$f":"E523*(14+E581+E583)+E537*(14+E581)","v":9.799999999999999},10.649261874999999,11.77607649085547,11.837022450941406,13.102608879281252,12.354198714703127,12.572981471756837,12.572981471756837,12.540779653746092,12.47637601772461,12.411972381703125,12.133753689298826,12.883945296427735,12.819541660406248,11.968544362113283,11.902460631239062,15.672526611328124,14.96203873828125,15.036,15.036]
[{"$nulls":3},"total guiding bolt damage per day",{"$f":"E754*E263+E1394*E755","v":0},0,0,0,0,0,0,0,0,0,0,0,0,0,0,0,0,0,0,0,null,"*includes Druid of Stars free casts"]
[{"$nulls":3},"avg total guiding bolt damage per round",{"$f":"E756/('Base Numbers'!$C$5*'Base Numbers'!$C$6)","v":0},{"$f":"F756/('Base Numbers'!$C$5*'Base Numbers'!$C$6)","v":0},{"$f":"G756/('Base Numbers'!$C$5*'Base Numbers'!$C$6)","v":0},{"$f":"H756/('Base Numbers'!$C$5*'Base Numbers'!$C$6)","v":0},{"$f":"I756/('Base Numbers'!$C$5*'Base Numbers'!$C$6)","v":0},{"$f":"J756/('Base Numbers'!$C$5*'Base Numbers'!$C$6)","v":0},{"$f":"K756/('Base Numbers'!$C$5*'Base Numbers'!$C$6)","v":0},{"$f":"L756/('Base Numbers'!$C$5*'Base Numbers'!$C$6)","v":0},{"$f":"M756/('Base Numbers'!$C$5*'Base Numbers'!$C$6)","v":0},{"$f":"N756/('Base Numbers'!$C$5*'Base Numbers'!$C$6)","v":0},{"$f":"O756/('Base Numbers'!$C$5*'Base Numbers'!$C$6)","v":0},{"$f":"P756/('Base Numbers'!$C$5*'Base Numbers'!$C$6)","v":0},{"$f":"Q756/('Base Numbers'!$C$5*'Base Numbers'!$C$6)","v":0},{"$f":"R756/('Base Numbers'!$C$5*'Base Numbers'!$C$6)","v":0},{"$f":"S756/('Base Numbers'!$C$5*'Base Numbers'!$C$6)","v":0},{"$f":"T756/('Base Numbers'!$C$5*'Base Numbers'!$C$6)","v":0},{"$f":"U756/('Base Numbers'!$C$5*'Base Numbers'!$C$6)","v":0},{"$f":"V756/('Base Numbers'!$C$5*'Base Numbers'!$C$6)","v":0},{"$f":"W756/('Base Numbers'!$C$5*'Base Numbers'!$C$6)","v":0},{"$f":"X756/('Base Numbers'!$C$5*'Base Numbers'!$C$6)","v":0}]
[]
[{"$nulls":3},"MAGIC MISSILE"]
[{"$nulls":3},"avg magic missile slot level",{"$f":"SpellOrder!CL26","v":0},{"$f":"SpellOrder!CM26","v":0},{"$f":"SpellOrder!CN26","v":0},{"$f":"SpellOrder!CO26","v":0},{"$f":"SpellOrder!CP26","v":0},{"$f":"SpellOrder!CQ26","v":0},{"$f":"SpellOrder!CR26","v":0},{"$f":"SpellOrder!CS26","v":0},{"$f":"SpellOrder!CT26","v":0},{"$f":"SpellOrder!CU26","v":0},{"$f":"SpellOrder!CV26","v":0},{"$f":"SpellOrder!CW26","v":0},{"$f":"SpellOrder!CX26","v":0},{"$f":"SpellOrder!CY26","v":0},{"$f":"SpellOrder!CZ26","v":0},{"$f":"SpellOrder!DA26","v":0},{"$f":"SpellOrder!DB26","v":0},{"$f":"SpellOrder!DC26","v":0},{"$f":"SpellOrder!DD26","v":0},{"$f":"SpellOrder!DE26","v":0},null,"* magic missile benefits from hexblade's curse (but not hex)"]
[{"$nulls":3},"avg magic missile damage per cast",{"$f":"(IF(E760>=1,3,0)+IF(E760>1,FLOOR(E760-1,1),0))*(3.5+E546+IF(AND(E15>=10,E48>=1),E37,0))","v":0},0,0,0,0,0,0,0,0,0,0,0,0,0,0,0,0,0,0,0]
[{"$nulls":3},"total magic missile damage per day",{"$f":"E761*E264","v":0},0,0,0,0,0,0,0,0,0,0,0,0,0,0,0,0,0,0,0]
[{"$nulls":3},"avg total magic missile damage per round",{"$f":"E762/('Base Numbers'!$C$5*'Base Numbers'!$C$6)","v":0},{"$f":"F762/('Base Numbers'!$C$5*'Base Numbers'!$C$6)","v":0},{"$f":"G762/('Base Numbers'!$C$5*'Base Numbers'!$C$6)","v":0},{"$f":"H762/('Base Numbers'!$C$5*'Base Numbers'!$C$6)","v":0},{"$f":"I762/('Base Numbers'!$C$5*'Base Numbers'!$C$6)","v":0},{"$f":"J762/('Base Numbers'!$C$5*'Base Numbers'!$C$6)","v":0},{"$f":"K762/('Base Numbers'!$C$5*'Base Numbers'!$C$6)","v":0},{"$f":"L762/('Base Numbers'!$C$5*'Base Numbers'!$C$6)","v":0},{"$f":"M762/('Base Numbers'!$C$5*'Base Numbers'!$C$6)","v":0},{"$f":"N762/('Base Numbers'!$C$5*'Base Numbers'!$C$6)","v":0},{"$f":"O762/('Base Numbers'!$C$5*'Base Numbers'!$C$6)","v":0},{"$f":"P762/('Base Numbers'!$C$5*'Base Numbers'!$C$6)","v":0},{"$f":"Q762/('Base Numbers'!$C$5*'Base Numbers'!$C$6)","v":0},{"$f":"R762/('Base Numbers'!$C$5*'Base Numbers'!$C$6)","v":0},{"$f":"S762/('Base Numbers'!$C$5*'Base Numbers'!$C$6)","v":0},{"$f":"T762/('Base Numbers'!$C$5*'Base Numbers'!$C$6)","v":0},{"$f":"U762/('Base Numbers'!$C$5*'Base Numbers'!$C$6)","v":0},{"$f":"V762/('Base Numbers'!$C$5*'Base Numbers'!$C$6)","v":0},{"$f":"W762/('Base Numbers'!$C$5*'Base Numbers'!$C$6)","v":0},{"$f":"X762/('Base Numbers'!$C$5*'Base Numbers'!$C$6)","v":0}]
[]
[{"$nulls":3},"SCORCHING RAY (spell attack)"]
[{"$nulls":3},"avg scorching ray slot level",{"$f":"SpellOrder!CL19","v":0},{"$f":"SpellOrder!CM19","v":0},{"$f":"SpellOrder!CN19","v":0},{"$f":"SpellOrder!CO19","v":0},{"$f":"SpellOrder!CP19","v":0},{"$f":"SpellOrder!CQ19","v":0},{"$f":"SpellOrder!CR19","v":0},{"$f":"SpellOrder!CS19","v":0},{"$f":"SpellOrder!CT19","v":0},{"$f":"SpellOrder!CU19","v":0},{"$f":"SpellOrder!CV19","v":0},{"$f":"SpellOrder!CW19","v":0},{"$f":"SpellOrder!CX19","v":0},{"$f":"SpellOrder!CY19","v":0},{"$f":"SpellOrder!CZ19","v":0},{"$f":"SpellOrder!DA19","v":0},{"$f":"SpellOrder!DB19","v":0},{"$f":"SpellOrder!DC19","v":0},{"$f":"SpellOrder!DD19","v":0},{"$f":"SpellOrder!DE19","v":0}]
[{"$nulls":3},"bolts per cast",{"$f":"IF(E766>2,3+E766-2,0)","v":0},{"$f":"IF(F766>2,3+F766-2,0)","v":0},0,0,0,0,0,0,0,0,0,0,0,0,0,0,0,0,0,0]
[{"$nulls":3},"base dice damage per bolt",{"$f":"7+E581","v":7},8.21323125,8.819846875,8.819846875,9.4264625,9.4264625,9.717361718749999,9.717361718749999,9.717361718749999,9.717361718749999,9.717361718749999,9.717361718749999,9.717361718749999,9.717361718749999,9.717361718749999,9.717361718749999,9.717361718749999,9.717361718749999,9.8,9.8]
[{"$nulls":3},"static damage per bolt",{"$f":"E583","v":0},0,0,0,0,0,0,0,0,0,0,0,0,0,0,0,0,0,0,0]
[{"$nulls":3},"crit damage per bolt",{"$f":"E537*E768","v":0.35000000000000003},0.4106615625,0.5785312408804689,0.5841450734164063,0.6303216246031251,0.6303216246031251,0.6497732553880861,0.6497732553880861,0.6466807050210938,0.6404956042871094,0.6343105035531249,0.6827296876572265,0.6796371372902344,0.6734520365562501,0.6672669358222657,0.6610818350882812,0.9474427675781252,0.9474427675781252,0.9555000000000003,0.9555000000000003]
[{"$nulls":3},"total scorching ray damage per cast",{"$f":"IF(E766>=2,E517*(E767-1)*(E768+E769)+E516*(E768+E769)+E767*E770+E45*E36+IF(E1121,4.5,0),0)","v":0},0,0,0,0,0,0,0,0,0,0,0,0,0,0,0,0,0,0,0,null,"gets damage bonuses for draconic sorc and artillerist arcane firearm"]
[{"$nulls":3},"scorching ray - spirit shroud combo opportunities",{"$f":"MIN(2+E1309,E265,E276)","v":0},0,0,0,0,0,0,0,0,0,0,0,0,0,0,0,0,0,0,0]
[{"$nulls":3},"scorching ray - spirit shroud combo damage per day",{"$f":"E772*(E795-E798)*E767","v":0},{"$f":"F772*(F795-F798)*F767","v":0},0,0,0,0,0,0,0,0,0,0,0,0,0,0,0,0,0,0,null,"additional burst damage for layering Scorching Ray with HM, Hex, or Spirit Shroud"]
[{"$nulls":3},"scorching ray - hex / hunter's mark combo opportunities",{"$f":"MIN(2+E1309-E772,E265,E276)","v":0},0,0,0,0,0,0,0,0,0,0,0,0,0,0,0,0,0,0,0]
[{"$nulls":3},"scorching ray - hex / hunter's mark combo damage per day",{"$f":"E774*E767*(3.5-E549)","v":0},0,0,0,0,0,0,0,0,0,0,0,0,0,0,0,0,0,0,0]
[{"$nulls":3},"avg total scorching ray damage per round",{"$f":"(E771*E265+E773+E775)/('Base Numbers'!$C$5*'Base Numbers'!$C$6)","v":0},{"$f":"(F771*F265+F773+F775)/('Base Numbers'!$C$5*'Base Numbers'!$C$6)","v":0},{"$f":"(G771*G265+G773+G775)/('Base Numbers'!$C$5*'Base Numbers'!$C$6)","v":0},{"$f":"(H771*H265+H773+H775)/('Base Numbers'!$C$5*'Base Numbers'!$C$6)","v":0},{"$f":"(I771*I265+I773+I775)/('Base Numbers'!$C$5*'Base Numbers'!$C$6)","v":0},{"$f":"(J771*J265+J773+J775)/('Base Numbers'!$C$5*'Base Numbers'!$C$6)","v":0},{"$f":"(K771*K265+K773+K775)/('Base Numbers'!$C$5*'Base Numbers'!$C$6)","v":0},{"$f":"(L771*L265+L773+L775)/('Base Numbers'!$C$5*'Base Numbers'!$C$6)","v":0},{"$f":"(M771*M265+M773+M775)/('Base Numbers'!$C$5*'Base Numbers'!$C$6)","v":0},{"$f":"(N771*N265+N773+N775)/('Base Numbers'!$C$5*'Base Numbers'!$C$6)","v":0},{"$f":"(O771*O265+O773+O775)/('Base Numbers'!$C$5*'Base Numbers'!$C$6)","v":0},{"$f":"(P771*P265+P773+P775)/('Base Numbers'!$C$5*'Base Numbers'!$C$6)","v":0},{"$f":"(Q771*Q265+Q773+Q775)/('Base Numbers'!$C$5*'Base Numbers'!$C$6)","v":0},{"$f":"(R771*R265+R773+R775)/('Base Numbers'!$C$5*'Base Numbers'!$C$6)","v":0},{"$f":"(S771*S265+S773+S775)/('Base Numbers'!$C$5*'Base Numbers'!$C$6)","v":0},{"$f":"(T771*T265+T773+T775)/('Base Numbers'!$C$5*'Base Numbers'!$C$6)","v":0},{"$f":"(U771*U265+U773+U775)/('Base Numbers'!$C$5*'Base Numbers'!$C$6)","v":0},{"$f":"(V771*V265+V773+V775)/('Base Numbers'!$C$5*'Base Numbers'!$C$6)","v":0},{"$f":"(W771*W265+W773+W775)/('Base Numbers'!$C$5*'Base Numbers'!$C$6)","v":0},{"$f":"(X771*X265+X773+X775)/('Base Numbers'!$C$5*'Base Numbers'!$C$6)","v":0}]
[]
[{"$nulls":3},"SPIRITUAL WEAPON (spell attack, no smites allowed)"]
[{"$nulls":3},"spiritual weapon slot (leftover from Spirit Guards, Bigby's, An Objs, Fireball)",{"$f":"SpellOrder!CL11","v":0},{"$f":"SpellOrder!CM11","v":0},{"$f":"SpellOrder!CN11","v":0},{"$f":"SpellOrder!CO11","v":0},{"$f":"SpellOrder!CP11","v":0},{"$f":"SpellOrder!CQ11","v":0},{"$f":"SpellOrder!CR11","v":0},{"$f":"SpellOrder!CS11","v":0},{"$f":"SpellOrder!CT11","v":0},{"$f":"SpellOrder!CU11","v":0},{"$f":"SpellOrder!CV11","v":0},{"$f":"SpellOrder!CW11","v":0},{"$f":"SpellOrder!CX11","v":0},{"$f":"SpellOrder!CY11","v":0},{"$f":"SpellOrder!CZ11","v":0},{"$f":"SpellOrder!DA11","v":0},{"$f":"SpellOrder!DB11","v":0},{"$f":"SpellOrder!DC11","v":0},{"$f":"SpellOrder!DD11","v":0},{"$f":"SpellOrder!DE11","v":0}]
[{"$nulls":3},"spiritual weapon dice damage",{"$f":"IF(E779>0,(E779/2*4.5+E582),0)","v":0},0,{"$f":"IF(G779>0,(G779/2*4.5+G582),0)","v":0},0,0,0,0,0,0,0,0,0,0,0,0,0,0,0,0,0]
[{"$nulls":3},"spiritual weapon static damage",{"$f":"MAX(E36,E37,E38)+E584","v":3},3,3,3,3,3,3,3,3,3,3,3,3,3,3,3,3,3,3,3]
[{"$nulls":3},"bonus attacks used on spiritual weapon attacks",{"$f":"IF(E779>0,'Base Numbers'!$C$6*E295,0)","v":0},{"$f":"IF(F779>0,'Base Numbers'!$C$6*F295,0)","v":0},{"$f":"IF(G779>0,'Base Numbers'!$C$6*G295,0)","v":0},{"$f":"IF(H779>0,'Base Numbers'!$C$6*H295,0)","v":0},{"$f":"IF(I779>0,'Base Numbers'!$C$6*I295,0)","v":0},{"$f":"IF(J779>0,'Base Numbers'!$C$6*J295,0)","v":0},{"$f":"IF(K779>0,'Base Numbers'!$C$6*K295,0)","v":0},{"$f":"IF(L779>0,'Base Numbers'!$C$6*L295,0)","v":0},{"$f":"IF(M779>0,'Base Numbers'!$C$6*M295,0)","v":0},{"$f":"IF(N779>0,'Base Numbers'!$C$6*N295,0)","v":0},{"$f":"IF(O779>0,'Base Numbers'!$C$6*O295,0)","v":0},{"$f":"IF(P779>0,'Base Numbers'!$C$6*P295,0)","v":0},{"$f":"IF(Q779>0,'Base Numbers'!$C$6*Q295,0)","v":0},{"$f":"IF(R779>0,'Base Numbers'!$C$6*R295,0)","v":0},{"$f":"IF(S779>0,'Base Numbers'!$C$6*S295,0)","v":0},{"$f":"IF(T779>0,'Base Numbers'!$C$6*T295,0)","v":0},{"$f":"IF(U779>0,'Base Numbers'!$C$6*U295,0)","v":0},{"$f":"IF(V779>0,'Base Numbers'!$C$6*V295,0)","v":0},{"$f":"IF(W779>0,'Base Numbers'!$C$6*W295,0)","v":0},{"$f":"IF(X779>0,'Base Numbers'!$C$6*X295,0)","v":0}]
[{"$nulls":3},"avg spiritual weapon attack damage (no crits, incl hit chance)",{"$f":"(E427*E515+(1-E515)*E425)*(E780+E781)","v":1.9500000000000002},1.9500000000000002,1.7999999999999998,1.7999999999999998,1.9500000000000002,1.7999999999999998,1.7999999999999998,1.7999999999999998,1.7999999999999998,1.7999999999999998,1.7999999999999998,1.6500000000000001,1.7999999999999998,1.7999999999999998,1.6500000000000001,1.6500000000000001,1.7999999999999998,1.6500000000000001,1.6500000000000001,1.6500000000000001]
[{"$nulls":3},"avg spiritual weapon bonus crit damage",{"$f":"E538*E780","v":0},0,0,0,0,0,0,0,0,0,0,0,0,0,0,0,0,0,0,0]
[{"$nulls":3},"total avg spiritual weapon damage",{"$f":"(E784+E783)","v":1.9500000000000002},{"$f":"(F784+F783)","v":1.9500000000000002},1.7999999999999998,1.7999999999999998,1.9500000000000002,1.7999999999999998,1.7999999999999998,1.7999999999999998,1.7999999999999998,1.7999999999999998,1.7999999999999998,1.6500000000000001,1.7999999999999998,1.7999999999999998,1.6500000000000001,1.6500000000000001,1.7999999999999998,1.6500000000000001,1.6500000000000001,1.6500000000000001]
[{"$nulls":3},"percent of rounds w/spiritual weapon attack:",{"$f":"MIN(1,E341*E782/('Base Numbers'!$C$5*'Base Numbers'!$C$6))","v":0},{"$f":"MIN(1,F341*F782/('Base Numbers'!$C$5*'Base Numbers'!$C$6))","v":0},{"$f":"MIN(1,G341*G782/('Base Numbers'!$C$5*'Base Numbers'!$C$6))","v":0},{"$f":"MIN(1,H341*H782/('Base Numbers'!$C$5*'Base Numbers'!$C$6))","v":0},{"$f":"MIN(1,I341*I782/('Base Numbers'!$C$5*'Base Numbers'!$C$6))","v":0},{"$f":"MIN(1,J341*J782/('Base Numbers'!$C$5*'Base Numbers'!$C$6))","v":0},{"$f":"MIN(1,K341*K782/('Base Numbers'!$C$5*'Base Numbers'!$C$6))","v":0},{"$f":"MIN(1,L341*L782/('Base Numbers'!$C$5*'Base Numbers'!$C$6))","v":0},{"$f":"MIN(1,M341*M782/('Base Numbers'!$C$5*'Base Numbers'!$C$6))","v":0},{"$f":"MIN(1,N341*N782/('Base Numbers'!$C$5*'Base Numbers'!$C$6))","v":0},{"$f":"MIN(1,O341*O782/('Base Numbers'!$C$5*'Base Numbers'!$C$6))","v":0},{"$f":"MIN(1,P341*P782/('Base Numbers'!$C$5*'Base Numbers'!$C$6))","v":0},{"$f":"MIN(1,Q341*Q782/('Base Numbers'!$C$5*'Base Numbers'!$C$6))","v":0},{"$f":"MIN(1,R341*R782/('Base Numbers'!$C$5*'Base Numbers'!$C$6))","v":0},{"$f":"MIN(1,S341*S782/('Base Numbers'!$C$5*'Base Numbers'!$C$6))","v":0},{"$f":"MIN(1,T341*T782/('Base Numbers'!$C$5*'Base Numbers'!$C$6))","v":0},{"$f":"MIN(1,U341*U782/('Base Numbers'!$C$5*'Base Numbers'!$C$6))","v":0},{"$f":"MIN(1,V341*V782/('Base Numbers'!$C$5*'Base Numbers'!$C$6))","v":0},{"$f":"MIN(1,W341*W782/('Base Numbers'!$C$5*'Base Numbers'!$C$6))","v":0},{"$f":"MIN(1,X341*X782/('Base Numbers'!$C$5*'Base Numbers'!$C$6))","v":0}]
[]
[{"$nulls":3},"SHADOW BLADE (with upscaling)"]
[{"$nulls":3},"shadow blade slot (left over: Sp Gs, Bigby's, Animate Objs, Fireball, Spr Weap)",{"$f":"SpellOrder!CL18","v":0},{"$f":"SpellOrder!CM18","v":0},{"$f":"SpellOrder!CN18","v":0},{"$f":"SpellOrder!CO18","v":0},{"$f":"SpellOrder!CP18","v":0},{"$f":"SpellOrder!CQ18","v":0},{"$f":"SpellOrder!CR18","v":0},{"$f":"SpellOrder!CS18","v":0},{"$f":"SpellOrder!CT18","v":0},{"$f":"SpellOrder!CU18","v":0},{"$f":"SpellOrder!CV18","v":0},{"$f":"SpellOrder!CW18","v":0},{"$f":"SpellOrder!CX18","v":0},{"$f":"SpellOrder!CY18","v":0},{"$f":"SpellOrder!CZ18","v":0},{"$f":"SpellOrder!DA18","v":0},{"$f":"SpellOrder!DB18","v":0},{"$f":"SpellOrder!DC18","v":0},{"$f":"SpellOrder!DD18","v":0},{"$f":"SpellOrder!DE18","v":0}]
[{"$nulls":3},"avg shadow blade damage",{"$f":"(IF(E789>=2,2,0)+IF(E789>=3,1,0)+IF(E789>=5,1,0)+IF(E789>=7,1,0))*4.5","v":0},{"$f":"(IF(F789>=2,2,0)+IF(F789>=3,1,0)+IF(F789>=5,1,0)+IF(F789>=7,1,0))*4.5","v":0},0,0,0,0,0,0,0,0,0,0,0,0,0,0,0,0,0,0]
[{"$nulls":3},"pct of rounds shadow blade active",{"$f":"E366","v":0},0,0,0,0,0,0,0,0,0,0,0,0,0,0,0,0,0,0,0]
[]
[{"$nulls":3},"SPIRIT SHROUD (with upscaling, conc, bonus action)"]
[{"$nulls":3},"spirit shroud slot (leftover from spirit guardians)",{"$f":"SpellOrder!CL7","v":0},{"$f":"SpellOrder!CM7","v":0},{"$f":"SpellOrder!CN7","v":0},{"$f":"SpellOrder!CO7","v":0},{"$f":"SpellOrder!CP7","v":0},{"$f":"SpellOrder!CQ7","v":0},{"$f":"SpellOrder!CR7","v":0},{"$f":"SpellOrder!CS7","v":0},{"$f":"SpellOrder!CT7","v":0},{"$f":"SpellOrder!CU7","v":0},{"$f":"SpellOrder!CV7","v":0},{"$f":"SpellOrder!CW7","v":0},{"$f":"SpellOrder!CX7","v":0},{"$f":"SpellOrder!CY7","v":0},{"$f":"SpellOrder!CZ7","v":0},{"$f":"SpellOrder!DA7","v":0},{"$f":"SpellOrder!DB7","v":0},{"$f":"SpellOrder!DC7","v":0},{"$f":"SpellOrder!DD7","v":0},{"$f":"SpellOrder!DE7","v":0}]
[{"$nulls":3},"spirit shroud damage per attack (when active)",{"$f":"4.5*(IF(E794>=3,1,0)+IF(E794>=5,1,0)+IF(E794>=7,1,0)+IF(E794>=9,1,0))","v":0},{"$f":"4.5*(IF(F794>=3,1,0)+IF(F794>=5,1,0)+IF(F794>=7,1,0)+IF(F794>=9,1,0))","v":0},0,0,0,0,0,0,0,0,0,0,0,0,0,0,0,0,0,0]
[{"$nulls":3},"percent of rounds w/spirit shroud active",{"$f":"MIN(1,((1+E356)*E276)/('Base Numbers'!$C$5*'Base Numbers'!$C$6))","v":0},{"$f":"MIN(1,((1+F356)*F276)/('Base Numbers'!$C$5*'Base Numbers'!$C$6))","v":0},{"$f":"MIN(1,((1+G356)*G276)/('Base Numbers'!$C$5*'Base Numbers'!$C$6))","v":0},{"$f":"MIN(1,((1+H356)*H276)/('Base Numbers'!$C$5*'Base Numbers'!$C$6))","v":0},{"$f":"MIN(1,((1+I356)*I276)/('Base Numbers'!$C$5*'Base Numbers'!$C$6))","v":0},{"$f":"MIN(1,((1+J356)*J276)/('Base Numbers'!$C$5*'Base Numbers'!$C$6))","v":0},{"$f":"MIN(1,((1+K356)*K276)/('Base Numbers'!$C$5*'Base Numbers'!$C$6))","v":0},{"$f":"MIN(1,((1+L356)*L276)/('Base Numbers'!$C$5*'Base Numbers'!$C$6))","v":0},{"$f":"MIN(1,((1+M356)*M276)/('Base Numbers'!$C$5*'Base Numbers'!$C$6))","v":0},{"$f":"MIN(1,((1+N356)*N276)/('Base Numbers'!$C$5*'Base Numbers'!$C$6))","v":0},{"$f":"MIN(1,((1+O356)*O276)/('Base Numbers'!$C$5*'Base Numbers'!$C$6))","v":0},{"$f":"MIN(1,((1+P356)*P276)/('Base Numbers'!$C$5*'Base Numbers'!$C$6))","v":0},{"$f":"MIN(1,((1+Q356)*Q276)/('Base Numbers'!$C$5*'Base Numbers'!$C$6))","v":0},{"$f":"MIN(1,((1+R356)*R276)/('Base Numbers'!$C$5*'Base Numbers'!$C$6))","v":0},{"$f":"MIN(1,((1+S356)*S276)/('Base Numbers'!$C$5*'Base Numbers'!$C$6))","v":0},{"$f":"MIN(1,((1+T356)*T276)/('Base Numbers'!$C$5*'Base Numbers'!$C$6))","v":0},{"$f":"MIN(1,((1+U356)*U276)/('Base Numbers'!$C$5*'Base Numbers'!$C$6))","v":0},{"$f":"MIN(1,((1+V356)*V276)/('Base Numbers'!$C$5*'Base Numbers'!$C$6))","v":0},{"$f":"MIN(1,((1+W356)*W276)/('Base Numbers'!$C$5*'Base Numbers'!$C$6))","v":0},{"$f":"MIN(1,((1+X356)*X276)/('Base Numbers'!$C$5*'Base Numbers'!$C$6))","v":0}]
[{"$nulls":3},"pct of bonus attacks w/spirit shroud active",{"$f":"MIN(1,((E356)*E276)/('Base Numbers'!$C$5*'Base Numbers'!$C$6))","v":0},{"$f":"MIN(1,((F356)*F276)/('Base Numbers'!$C$5*'Base Numbers'!$C$6))","v":0},{"$f":"MIN(1,((G356)*G276)/('Base Numbers'!$C$5*'Base Numbers'!$C$6))","v":0},{"$f":"MIN(1,((H356)*H276)/('Base Numbers'!$C$5*'Base Numbers'!$C$6))","v":0},{"$f":"MIN(1,((I356)*I276)/('Base Numbers'!$C$5*'Base Numbers'!$C$6))","v":0},{"$f":"MIN(1,((J356)*J276)/('Base Numbers'!$C$5*'Base Numbers'!$C$6))","v":0},{"$f":"MIN(1,((K356)*K276)/('Base Numbers'!$C$5*'Base Numbers'!$C$6))","v":0},{"$f":"MIN(1,((L356)*L276)/('Base Numbers'!$C$5*'Base Numbers'!$C$6))","v":0},{"$f":"MIN(1,((M356)*M276)/('Base Numbers'!$C$5*'Base Numbers'!$C$6))","v":0},{"$f":"MIN(1,((N356)*N276)/('Base Numbers'!$C$5*'Base Numbers'!$C$6))","v":0},{"$f":"MIN(1,((O356)*O276)/('Base Numbers'!$C$5*'Base Numbers'!$C$6))","v":0},{"$f":"MIN(1,((P356)*P276)/('Base Numbers'!$C$5*'Base Numbers'!$C$6))","v":0},{"$f":"MIN(1,((Q356)*Q276)/('Base Numbers'!$C$5*'Base Numbers'!$C$6))","v":0},{"$f":"MIN(1,((R356)*R276)/('Base Numbers'!$C$5*'Base Numbers'!$C$6))","v":0},{"$f":"MIN(1,((S356)*S276)/('Base Numbers'!$C$5*'Base Numbers'!$C$6))","v":0},{"$f":"MIN(1,((T356)*T276)/('Base Numbers'!$C$5*'Base Numbers'!$C$6))","v":0},{"$f":"MIN(1,((U356)*U276)/('Base Numbers'!$C$5*'Base Numbers'!$C$6))","v":0},{"$f":"MIN(1,((V356)*V276)/('Base Numbers'!$C$5*'Base Numbers'!$C$6))","v":0},{"$f":"MIN(1,((W356)*W276)/('Base Numbers'!$C$5*'Base Numbers'!$C$6))","v":0},{"$f":"MIN(1,((X356)*X276)/('Base Numbers'!$C$5*'Base Numbers'!$C$6))","v":0}]
[{"$nulls":3},"average spirit shroud damage per attack",{"$f":"E795*E796","v":0},{"$f":"F795*F796","v":0},0,0,0,0,0,0,0,0,0,0,0,0,0,0,0,0,0,0,null,"* this has a 10' max range, so probably doesn't apply to ranged attacks"]
[{"$nulls":3},"average spirit shroud damage per bonus attack",{"$f":"E795*E797","v":0},{"$f":"F795*F797","v":0},0,0,0,0,0,0,0,0,0,0,0,0,0,0,0,0,0,0,null,"   although could reasonably apply to Eld Blast."]
[{"$nulls":25},"   maybe should apply to ranged if xbow master talent."]
[{"$nulls":3},"FLAMING SPHERE (conc, bonus action save vs damage)"]
[{"$nulls":3},"flaming sphere slot (left over: Sp Gs, Bigby's, Animate Objs, Fireball)",{"$f":"SpellOrder!CL24","v":0},{"$f":"SpellOrder!CM24","v":0},{"$f":"SpellOrder!CN24","v":0},{"$f":"SpellOrder!CO24","v":0},{"$f":"SpellOrder!CP24","v":0},{"$f":"SpellOrder!CQ24","v":0},{"$f":"SpellOrder!CR24","v":0},{"$f":"SpellOrder!CS24","v":0},{"$f":"SpellOrder!CT24","v":0},{"$f":"SpellOrder!CU24","v":0},{"$f":"SpellOrder!CV24","v":0},{"$f":"SpellOrder!CW24","v":0},{"$f":"SpellOrder!CX24","v":0},{"$f":"SpellOrder!CY24","v":0},{"$f":"SpellOrder!CZ24","v":0},{"$f":"SpellOrder!DA24","v":0},{"$f":"SpellOrder!DB24","v":0},{"$f":"SpellOrder!DC24","v":0},{"$f":"SpellOrder!DD24","v":0},{"$f":"SpellOrder!DE24","v":0}]
[{"$nulls":3},"avg flaming sphere damage per round (Dex Save)",{"$f":"MAX(0,(7+(E802-2)*3.5)*(1-E735)+(3.5+(E802-2)*3.5)*E735)","v":0},{"$f":"MAX(0,(7+(F802-2)*3.5)*(1-F735)+(3.5+(F802-2)*3.5)*F735)","v":0},0,0,0,0,0,0,0,0,0,0,0,0,0,0,0,0,0,0]
[{"$nulls":3},"bonus attacks used on flaming sphere attacks",{"$f":"IF(E802>=2,IF(E1364,'Base Numbers'!$C$6,(1+E356)),0)","v":0},{"$f":"IF(F802>=2,IF(F1364,'Base Numbers'!$C$6,(1+F356)),0)","v":0},{"$f":"IF(G802>=2,IF(G1364,'Base Numbers'!$C$6,(1+G356)),0)","v":0},{"$f":"IF(H802>=2,IF(H1364,'Base Numbers'!$C$6,(1+H356)),0)","v":0},{"$f":"IF(I802>=2,IF(I1364,'Base Numbers'!$C$6,(1+I356)),0)","v":0},{"$f":"IF(J802>=2,IF(J1364,'Base Numbers'!$C$6,(1+J356)),0)","v":0},{"$f":"IF(K802>=2,IF(K1364,'Base Numbers'!$C$6,(1+K356)),0)","v":0},{"$f":"IF(L802>=2,IF(L1364,'Base Numbers'!$C$6,(1+L356)),0)","v":0},{"$f":"IF(M802>=2,IF(M1364,'Base Numbers'!$C$6,(1+M356)),0)","v":0},{"$f":"IF(N802>=2,IF(N1364,'Base Numbers'!$C$6,(1+N356)),0)","v":0},{"$f":"IF(O802>=2,IF(O1364,'Base Numbers'!$C$6,(1+O356)),0)","v":0},{"$f":"IF(P802>=2,IF(P1364,'Base Numbers'!$C$6,(1+P356)),0)","v":0},{"$f":"IF(Q802>=2,IF(Q1364,'Base Numbers'!$C$6,(1+Q356)),0)","v":0},{"$f":"IF(R802>=2,IF(R1364,'Base Numbers'!$C$6,(1+R356)),0)","v":0},{"$f":"IF(S802>=2,IF(S1364,'Base Numbers'!$C$6,(1+S356)),0)","v":0},{"$f":"IF(T802>=2,IF(T1364,'Base Numbers'!$C$6,(1+T356)),0)","v":0},{"$f":"IF(U802>=2,IF(U1364,'Base Numbers'!$C$6,(1+U356)),0)","v":0},{"$f":"IF(V802>=2,IF(V1364,'Base Numbers'!$C$6,(1+V356)),0)","v":0},{"$f":"IF(W802>=2,IF(W1364,'Base Numbers'!$C$6,(1+W356)),0)","v":0},{"$f":"IF(X802>=2,IF(X1364,'Base Numbers'!$C$6,(1+X356)),0)","v":0},null,"*conjuration"]
[{"$nulls":3},"percent of rounds w/flaming sphere attack:",{"$f":"MIN(1,E341*E804/('Base Numbers'!$C$5*'Base Numbers'!$C$6))","v":0},{"$f":"MIN(1,F341*F804/('Base Numbers'!$C$5*'Base Numbers'!$C$6))","v":0},{"$f":"MIN(1,G341*G804/('Base Numbers'!$C$5*'Base Numbers'!$C$6))","v":0},{"$f":"MIN(1,H341*H804/('Base Numbers'!$C$5*'Base Numbers'!$C$6))","v":0},{"$f":"MIN(1,I341*I804/('Base Numbers'!$C$5*'Base Numbers'!$C$6))","v":0},{"$f":"MIN(1,J341*J804/('Base Numbers'!$C$5*'Base Numbers'!$C$6))","v":0},{"$f":"MIN(1,K341*K804/('Base Numbers'!$C$5*'Base Numbers'!$C$6))","v":0},{"$f":"MIN(1,L341*L804/('Base Numbers'!$C$5*'Base Numbers'!$C$6))","v":0},{"$f":"MIN(1,M341*M804/('Base Numbers'!$C$5*'Base Numbers'!$C$6))","v":0},{"$f":"MIN(1,N341*N804/('Base Numbers'!$C$5*'Base Numbers'!$C$6))","v":0},{"$f":"MIN(1,O341*O804/('Base Numbers'!$C$5*'Base Numbers'!$C$6))","v":0},{"$f":"MIN(1,P341*P804/('Base Numbers'!$C$5*'Base Numbers'!$C$6))","v":0},{"$f":"MIN(1,Q341*Q804/('Base Numbers'!$C$5*'Base Numbers'!$C$6))","v":0},{"$f":"MIN(1,R341*R804/('Base Numbers'!$C$5*'Base Numbers'!$C$6))","v":0},{"$f":"MIN(1,S341*S804/('Base Numbers'!$C$5*'Base Numbers'!$C$6))","v":0},{"$f":"MIN(1,T341*T804/('Base Numbers'!$C$5*'Base Numbers'!$C$6))","v":0},{"$f":"MIN(1,U341*U804/('Base Numbers'!$C$5*'Base Numbers'!$C$6))","v":0},{"$f":"MIN(1,V341*V804/('Base Numbers'!$C$5*'Base Numbers'!$C$6))","v":0},{"$f":"MIN(1,W341*W804/('Base Numbers'!$C$5*'Base Numbers'!$C$6))","v":0},{"$f":"MIN(1,X341*X804/('Base Numbers'!$C$5*'Base Numbers'!$C$6))","v":0}]
[]
[{"$nulls":3},"MELF'S MINUTE METEORS (conc, bonus action save vs damage)"]
[{"$nulls":3},"melf's minute meteors slot",{"$f":"SpellOrder!CL21","v":0},{"$f":"SpellOrder!CM21","v":0},{"$f":"SpellOrder!CN21","v":0},{"$f":"SpellOrder!CO21","v":0},{"$f":"SpellOrder!CP21","v":0},{"$f":"SpellOrder!CQ21","v":0},{"$f":"SpellOrder!CR21","v":0},{"$f":"SpellOrder!CS21","v":0},{"$f":"SpellOrder!CT21","v":0},{"$f":"SpellOrder!CU21","v":0},{"$f":"SpellOrder!CV21","v":0},{"$f":"SpellOrder!CW21","v":0},{"$f":"SpellOrder!CX21","v":0},{"$f":"SpellOrder!CY21","v":0},{"$f":"SpellOrder!CZ21","v":0},{"$f":"SpellOrder!DA21","v":0},{"$f":"SpellOrder!DB21","v":0},{"$f":"SpellOrder!DC21","v":0},{"$f":"SpellOrder!DD21","v":0},{"$f":"SpellOrder!DE21","v":0}]
[{"$nulls":3},"avg number of meteors per cast",{"$f":"IF(E808>=3, 6)+IF(E808>3,(E808-3)*2,0)","v":0},{"$f":"IF(F808>=3, 6)+IF(F808>3,(F808-3)*2,0)","v":0},0,0,0,0,0,0,0,0,0,0,0,0,0,0,0,0,0,0]
[{"$nulls":3},"max bonus actions usable",{"$f":"MAX(0,(E809-2)/2)","v":0},{"$f":"MAX(0,(F809-2)/2)","v":0},0,0,0,0,0,0,0,0,0,0,0,0,0,0,0,0,0,0]
[{"$nulls":3},"actual bonus actions usable (limited by conc, fight length)",{"$f":"MIN(E810,E352,'Base Numbers'!$C$6-1)","v":0},{"$f":"MIN(F810,F352,'Base Numbers'!$C$6-1)","v":0},{"$f":"MIN(G810,G352,'Base Numbers'!$C$6-1)","v":0},{"$f":"MIN(H810,H352,'Base Numbers'!$C$6-1)","v":0},{"$f":"MIN(I810,I352,'Base Numbers'!$C$6-1)","v":0},{"$f":"MIN(J810,J352,'Base Numbers'!$C$6-1)","v":0},{"$f":"MIN(K810,K352,'Base Numbers'!$C$6-1)","v":0},{"$f":"MIN(L810,L352,'Base Numbers'!$C$6-1)","v":0},{"$f":"MIN(M810,M352,'Base Numbers'!$C$6-1)","v":0},{"$f":"MIN(N810,N352,'Base Numbers'!$C$6-1)","v":0},{"$f":"MIN(O810,O352,'Base Numbers'!$C$6-1)","v":0},{"$f":"MIN(P810,P352,'Base Numbers'!$C$6-1)","v":0},{"$f":"MIN(Q810,Q352,'Base Numbers'!$C$6-1)","v":0},{"$f":"MIN(R810,R352,'Base Numbers'!$C$6-1)","v":0},{"$f":"MIN(S810,S352,'Base Numbers'!$C$6-1)","v":0},{"$f":"MIN(T810,T352,'Base Numbers'!$C$6-1)","v":0},{"$f":"MIN(U810,U352,'Base Numbers'!$C$6-1)","v":0},{"$f":"MIN(V810,V352,'Base Numbers'!$C$6-1)","v":0},{"$f":"MIN(W810,W352,'Base Numbers'!$C$6-1)","v":0},{"$f":"MIN(X810,X352,'Base Numbers'!$C$6-1)","v":0}]
[{"$nulls":3},"avg number of targets per meteor",1.2,1.2,1.2,1.2,1.2,1.2,1.2,1.2,1.2,1.2,1.2,1.2,1.2,1.2,1.2,1.2,1.2,1.2,1.2,1.2]
[{"$nulls":3},"avg damage per action/bonus action",{"$f":"2*E812*(7*(1-E735)+3.5*E735)","v":13.020000000000001},{"$f":"2*F812*(7*(1-F735)+3.5*F735)","v":12.893999999999998},12.81,12.726,13.083,13.020000000000001,12.936000000000002,12.81,13.125,13.020000000000001,12.915,12.81,13.125,13.020000000000001,12.6,12.179999999999998,12.389999999999999,12.179999999999998,11.97,11.76]
[{"$nulls":3},"total casts",{"$f":"E296","v":0},{"$f":"F296","v":0},0,0,0,0,0,0,0,0,0,0,0,0,0,0,0,0,0,0]
[{"$nulls":3},"total bonus actions used",{"$f":"E814*E811","v":0},{"$f":"F814*F811","v":0},0,0,0,0,0,0,0,0,0,0,0,0,0,0,0,0,0,0]
[{"$nulls":3},"total damage",{"$f":"(E814+E815)*E813","v":0},{"$f":"(F814+F815)*F813","v":0},0,0,0,0,0,0,0,0,0,0,0,0,0,0,0,0,0,0]
[{"$nulls":3},"avg damage per round",{"$f":"E816/('Base Numbers'!$C$5*'Base Numbers'!$C$6)","v":0},{"$f":"F816/('Base Numbers'!$C$5*'Base Numbers'!$C$6)","v":0},{"$f":"G816/('Base Numbers'!$C$5*'Base Numbers'!$C$6)","v":0},{"$f":"H816/('Base Numbers'!$C$5*'Base Numbers'!$C$6)","v":0},{"$f":"I816/('Base Numbers'!$C$5*'Base Numbers'!$C$6)","v":0},{"$f":"J816/('Base Numbers'!$C$5*'Base Numbers'!$C$6)","v":0},{"$f":"K816/('Base Numbers'!$C$5*'Base Numbers'!$C$6)","v":0},{"$f":"L816/('Base Numbers'!$C$5*'Base Numbers'!$C$6)","v":0},{"$f":"M816/('Base Numbers'!$C$5*'Base Numbers'!$C$6)","v":0},{"$f":"N816/('Base Numbers'!$C$5*'Base Numbers'!$C$6)","v":0},{"$f":"O816/('Base Numbers'!$C$5*'Base Numbers'!$C$6)","v":0},{"$f":"P816/('Base Numbers'!$C$5*'Base Numbers'!$C$6)","v":0},{"$f":"Q816/('Base Numbers'!$C$5*'Base Numbers'!$C$6)","v":0},{"$f":"R816/('Base Numbers'!$C$5*'Base Numbers'!$C$6)","v":0},{"$f":"S816/('Base Numbers'!$C$5*'Base Numbers'!$C$6)","v":0},{"$f":"T816/('Base Numbers'!$C$5*'Base Numbers'!$C$6)","v":0},{"$f":"U816/('Base Numbers'!$C$5*'Base Numbers'!$C$6)","v":0},{"$f":"V816/('Base Numbers'!$C$5*'Base Numbers'!$C$6)","v":0},{"$f":"W816/('Base Numbers'!$C$5*'Base Numbers'!$C$6)","v":0},{"$f":"X816/('Base Numbers'!$C$5*'Base Numbers'!$C$6)","v":0}]
[]
[{"$nulls":3},"BIGBY'S HAND (spell attack, bonus action, no smites allowed)"]
[{"$nulls":3},"bigby's hand slot (left over from Spirit Guardians+Spirit Shroud)",{"$f":"SpellOrder!CL8","v":0},{"$f":"SpellOrder!CM8","v":0},{"$f":"SpellOrder!CN8","v":0},{"$f":"SpellOrder!CO8","v":0},{"$f":"SpellOrder!CP8","v":0},{"$f":"SpellOrder!CQ8","v":0},{"$f":"SpellOrder!CR8","v":0},{"$f":"SpellOrder!CS8","v":0},{"$f":"SpellOrder!CT8","v":0},{"$f":"SpellOrder!CU8","v":0},{"$f":"SpellOrder!CV8","v":0},{"$f":"SpellOrder!CW8","v":0},{"$f":"SpellOrder!CX8","v":0},{"$f":"SpellOrder!CY8","v":0},{"$f":"SpellOrder!CZ8","v":0},{"$f":"SpellOrder!DA8","v":0},{"$f":"SpellOrder!DB8","v":0},{"$f":"SpellOrder!DC8","v":0},{"$f":"SpellOrder!DD8","v":0},{"$f":"SpellOrder!DE8","v":0}]
[{"$nulls":3},"bigby's hand dice damage",{"$f":"IF(E820>=5,(4+2*(E820-5))*4.5+IF(E1121,4.5,0)+E582,0)","v":0},0,0,0,0,0,0,0,0,0,0,0,0,0,0,0,0,0,0,0]
[{"$nulls":3},"bigby's hand static damage bonuses",{"$f":"IF(AND(E15>=10,E48>=1),E37,0)+E584","v":0},0,0,0,0,0,0,0,0,0,0,0,0,0,0,0,0,0,0,0]
[{"$nulls":3},"bonus attacks used on bigby's hand attacks",{"$f":"IF(E820>=5,(1+E356),0)","v":0},0,0,0,0,0,0,0,0,0,0,0,0,0,0,0,0,0,0,0]
[{"$nulls":3},"avg bigby's hand attack damage (no crits, incl hit chance)",{"$f":"(E394*E515+(1-E515)*E392)*(E821+E822)","v":0},0,0,0,0,0,0,0,0,0,0,0,0,0,0,0,0,0,0,0,null,"melee spell bonus attack"]
[{"$nulls":3},"avg bigby's hand bonus crit damage",{"$f":"E538*E821","v":0},0,0,0,0,0,0,0,0,0,0,0,0,0,0,0,0,0,0,0,null,"melee spell bonus attack"]
[{"$nulls":3},"total avg bigby's hand damage ",{"$f":"E825+E824","v":0},{"$f":"F825+F824","v":0},0,0,0,0,0,0,0,0,0,0,0,0,0,0,0,0,0,{"$f":"X825+X824","v":0}]
[{"$nulls":3},"percent of rounds w/bigby's hand attack",{"$f":"MIN(1,E341*E823/('Base Numbers'!$C$5*'Base Numbers'!$C$6))","v":0},{"$f":"MIN(1,F341*F823/('Base Numbers'!$C$5*'Base Numbers'!$C$6))","v":0},{"$f":"MIN(1,G341*G823/('Base Numbers'!$C$5*'Base Numbers'!$C$6))","v":0},{"$f":"MIN(1,H341*H823/('Base Numbers'!$C$5*'Base Numbers'!$C$6))","v":0},{"$f":"MIN(1,I341*I823/('Base Numbers'!$C$5*'Base Numbers'!$C$6))","v":0},{"$f":"MIN(1,J341*J823/('Base Numbers'!$C$5*'Base Numbers'!$C$6))","v":0},{"$f":"MIN(1,K341*K823/('Base Numbers'!$C$5*'Base Numbers'!$C$6))","v":0},{"$f":"MIN(1,L341*L823/('Base Numbers'!$C$5*'Base Numbers'!$C$6))","v":0},{"$f":"MIN(1,M341*M823/('Base Numbers'!$C$5*'Base Numbers'!$C$6))","v":0},{"$f":"MIN(1,N341*N823/('Base Numbers'!$C$5*'Base Numbers'!$C$6))","v":0},{"$f":"MIN(1,O341*O823/('Base Numbers'!$C$5*'Base Numbers'!$C$6))","v":0},{"$f":"MIN(1,P341*P823/('Base Numbers'!$C$5*'Base Numbers'!$C$6))","v":0},{"$f":"MIN(1,Q341*Q823/('Base Numbers'!$C$5*'Base Numbers'!$C$6))","v":0},{"$f":"MIN(1,R341*R823/('Base Numbers'!$C$5*'Base Numbers'!$C$6))","v":0},{"$f":"MIN(1,S341*S823/('Base Numbers'!$C$5*'Base Numbers'!$C$6))","v":0},{"$f":"MIN(1,T341*T823/('Base Numbers'!$C$5*'Base Numbers'!$C$6))","v":0},{"$f":"MIN(1,U341*U823/('Base Numbers'!$C$5*'Base Numbers'!$C$6))","v":0},{"$f":"MIN(1,V341*V823/('Base Numbers'!$C$5*'Base Numbers'!$C$6))","v":0},{"$f":"MIN(1,W341*W823/('Base Numbers'!$C$5*'Base Numbers'!$C$6))","v":0},{"$f":"MIN(1,X341*X823/('Base Numbers'!$C$5*'Base Numbers'!$C$6))","v":0}]
[]
[{"$nulls":3},"ANIMATE OBJECTS (concentration, bonus action to attack)"]
[{"$nulls":3},"animate objects slot (left over from Sp Guards+Bs Hand+Sp Shrd)",{"$f":"SpellOrder!CL9","v":0},{"$f":"SpellOrder!CM9","v":0},{"$f":"SpellOrder!CN9","v":0},{"$f":"SpellOrder!CO9","v":0},{"$f":"SpellOrder!CP9","v":0},{"$f":"SpellOrder!CQ9","v":0},{"$f":"SpellOrder!CR9","v":0},{"$f":"SpellOrder!CS9","v":0},{"$f":"SpellOrder!CT9","v":0},{"$f":"SpellOrder!CU9","v":0},{"$f":"SpellOrder!CV9","v":0},{"$f":"SpellOrder!CW9","v":0},{"$f":"SpellOrder!CX9","v":0},{"$f":"SpellOrder!CY9","v":0},{"$f":"SpellOrder!CZ9","v":0},{"$f":"SpellOrder!DA9","v":0},{"$f":"SpellOrder!DB9","v":0},{"$f":"SpellOrder!DC9","v":0},{"$f":"SpellOrder!DD9","v":0},{"$f":"SpellOrder!DE9","v":0}]
[{"$nulls":3},"number of objects animated",{"$f":"IF(E830>=5,10+(E830-5)*2,0)","v":0},{"$f":"IF(F830>=5,10+(F830-5)*2,0)","v":0},0,0,0,0,0,0,0,0,0,0,0,0,0,0,0,0,0,0]
[{"$nulls":3},"animate objects survival rate",1,1,1,1,1,0.9,0.9,0.9,0.9,0.8,0.8,0.8,0.75,0.75,0.7,0.7,0.65,0.65,0.6,0.6]
[{"$nulls":3},"hit rate",{"$f":"1-(E153-1-8)/20","v":0.8},0.8,0.75,0.75,0.75,0.7,0.7,0.7,0.65,0.65,0.65,0.6,0.6,0.6,0.55,0.55,0.55,0.5,0.5,0.5]
[{"$nulls":3},"avg animate objects damage",{"$f":"E833*(2.5+4)*E831*E832*'Caster Tables'!$C$81","v":0},{"$f":"F833*(2.5+4)*F831*F832*'Caster Tables'!$C$81","v":0},{"$f":"G833*(2.5+4)*G831*G832*'Caster Tables'!$C$81","v":0},{"$f":"H833*(2.5+4)*H831*H832*'Caster Tables'!$C$81","v":0},{"$f":"I833*(2.5+4)*I831*I832*'Caster Tables'!$C$81","v":0},{"$f":"J833*(2.5+4)*J831*J832*'Caster Tables'!$C$81","v":0},{"$f":"K833*(2.5+4)*K831*K832*'Caster Tables'!$C$81","v":0},{"$f":"L833*(2.5+4)*L831*L832*'Caster Tables'!$C$81","v":0},{"$f":"M833*(2.5+4)*M831*M832*'Caster Tables'!$C$81","v":0},{"$f":"N833*(2.5+4)*N831*N832*'Caster Tables'!$C$81","v":0},{"$f":"O833*(2.5+4)*O831*O832*'Caster Tables'!$C$81","v":0},{"$f":"P833*(2.5+4)*P831*P832*'Caster Tables'!$C$81","v":0},{"$f":"Q833*(2.5+4)*Q831*Q832*'Caster Tables'!$C$81","v":0},{"$f":"R833*(2.5+4)*R831*R832*'Caster Tables'!$C$81","v":0},{"$f":"S833*(2.5+4)*S831*S832*'Caster Tables'!$C$81","v":0},{"$f":"T833*(2.5+4)*T831*T832*'Caster Tables'!$C$81","v":0},{"$f":"U833*(2.5+4)*U831*U832*'Caster Tables'!$C$81","v":0},{"$f":"V833*(2.5+4)*V831*V832*'Caster Tables'!$C$81","v":0},{"$f":"W833*(2.5+4)*W831*W832*'Caster Tables'!$C$81","v":0},{"$f":"X833*(2.5+4)*X831*X832*'Caster Tables'!$C$81","v":0},null,"discounted for nonmagical attack resistance"]
[{"$nulls":3},"avg animate objects bonus crit damage",{"$f":"2.5*0.05*E831","v":0},{"$f":"2.5*0.05*F831","v":0},0,0,0,0,0,0,0,0,0,0,0,0,0,0,0,0,0,0]
[{"$nulls":3},"bonus attacks used on animated object attacks",{"$f":"IF(E830>=5,(1+E356),0)","v":0},0,0,0,0,0,0,0,0,0,0,0,0,0,0,0,0,0,0,0]
[{"$nulls":3},"total avg animate objects damage ",{"$f":"E835+E834","v":0},{"$f":"F835+F834","v":0},0,0,0,0,0,0,0,0,0,0,0,0,0,0,0,0,0,0]
[{"$nulls":3},"percent of rounds w/animate objects attack:",{"$f":"MIN(1,E341*E836/('Base Numbers'!$C$5*'Base Numbers'!$C$6))","v":0},{"$f":"MIN(1,F341*F836/('Base Numbers'!$C$5*'Base Numbers'!$C$6))","v":0},{"$f":"MIN(1,G341*G836/('Base Numbers'!$C$5*'Base Numbers'!$C$6))","v":0},{"$f":"MIN(1,H341*H836/('Base Numbers'!$C$5*'Base Numbers'!$C$6))","v":0},{"$f":"MIN(1,I341*I836/('Base Numbers'!$C$5*'Base Numbers'!$C$6))","v":0},{"$f":"MIN(1,J341*J836/('Base Numbers'!$C$5*'Base Numbers'!$C$6))","v":0},{"$f":"MIN(1,K341*K836/('Base Numbers'!$C$5*'Base Numbers'!$C$6))","v":0},{"$f":"MIN(1,L341*L836/('Base Numbers'!$C$5*'Base Numbers'!$C$6))","v":0},{"$f":"MIN(1,M341*M836/('Base Numbers'!$C$5*'Base Numbers'!$C$6))","v":0},{"$f":"MIN(1,N341*N836/('Base Numbers'!$C$5*'Base Numbers'!$C$6))","v":0},{"$f":"MIN(1,O341*O836/('Base Numbers'!$C$5*'Base Numbers'!$C$6))","v":0},{"$f":"MIN(1,P341*P836/('Base Numbers'!$C$5*'Base Numbers'!$C$6))","v":0},{"$f":"MIN(1,Q341*Q836/('Base Numbers'!$C$5*'Base Numbers'!$C$6))","v":0},{"$f":"MIN(1,R341*R836/('Base Numbers'!$C$5*'Base Numbers'!$C$6))","v":0},{"$f":"MIN(1,S341*S836/('Base Numbers'!$C$5*'Base Numbers'!$C$6))","v":0},{"$f":"MIN(1,T341*T836/('Base Numbers'!$C$5*'Base Numbers'!$C$6))","v":0},{"$f":"MIN(1,U341*U836/('Base Numbers'!$C$5*'Base Numbers'!$C$6))","v":0},{"$f":"MIN(1,V341*V836/('Base Numbers'!$C$5*'Base Numbers'!$C$6))","v":0},{"$f":"MIN(1,W341*W836/('Base Numbers'!$C$5*'Base Numbers'!$C$6))","v":0},{"$f":"MIN(1,X341*X836/('Base Numbers'!$C$5*'Base Numbers'!$C$6))","v":0}]
[]
[{"$nulls":3},"CROWN OF STARS"]
[{"$nulls":3},"crown of stars dice damage per attack",{"$f":"IF(E283>=1,26+E582,0)","v":0},0,0,0,0,0,0,0,0,0,0,0,0,0,0,0,0,0,0,0]
[{"$nulls":3},"crown of stars static damage per attack",{"$f":"E584","v":0},0,0,0,0,0,0,0,0,0,0,0,0,0,0,0,0,0,0,0]
[{"$nulls":3},"crown of stars crit damage per attack",{"$f":"E538*E841","v":0},0,0,0,0,0,0,0,0,0,0,0,0,0,0,0,0,0,0,0]
[{"$nulls":3},"bonus attacks used on crown of stars (assume used on longer fight)",{"$f":"E283*MIN(7,1.25*'Base Numbers'!$C$6)","v":0},{"$f":"F283*MIN(7,1.25*'Base Numbers'!$C$6)","v":0},{"$f":"G283*MIN(7,1.25*'Base Numbers'!$C$6)","v":0},{"$f":"H283*MIN(7,1.25*'Base Numbers'!$C$6)","v":0},{"$f":"I283*MIN(7,1.25*'Base Numbers'!$C$6)","v":0},{"$f":"J283*MIN(7,1.25*'Base Numbers'!$C$6)","v":0},{"$f":"K283*MIN(7,1.25*'Base Numbers'!$C$6)","v":0},{"$f":"L283*MIN(7,1.25*'Base Numbers'!$C$6)","v":0},{"$f":"M283*MIN(7,1.25*'Base Numbers'!$C$6)","v":0},{"$f":"N283*MIN(7,1.25*'Base Numbers'!$C$6)","v":0},{"$f":"O283*MIN(7,1.25*'Base Numbers'!$C$6)","v":0},{"$f":"P283*MIN(7,1.25*'Base Numbers'!$C$6)","v":0},{"$f":"Q283*MIN(7,1.25*'Base Numbers'!$C$6)","v":0},{"$f":"R283*MIN(7,1.25*'Base Numbers'!$C$6)","v":0},{"$f":"S283*MIN(7,1.25*'Base Numbers'!$C$6)","v":0},{"$f":"T283*MIN(7,1.25*'Base Numbers'!$C$6)","v":0},{"$f":"U283*MIN(7,1.25*'Base Numbers'!$C$6)","v":0},{"$f":"V283*MIN(7,1.25*'Base Numbers'!$C$6)","v":0},{"$f":"W283*MIN(7,1.25*'Base Numbers'!$C$6)","v":0},{"$f":"X283*MIN(7,1.25*'Base Numbers'!$C$6)","v":0}]
[{"$nulls":3},"damage including hit chance",{"$f":"E523*(E841+E842)+E843","v":0},0,0,0,0,0,0,0,0,0,0,0,0,0,0,0,0,0,0,0]
[{"$nulls":3},"percent of rounds w/crown of stars attack:",{"$f":"MIN(1,E341*E844/('Base Numbers'!$C$5*'Base Numbers'!$C$6))","v":0},{"$f":"MIN(1,F341*F844/('Base Numbers'!$C$5*'Base Numbers'!$C$6))","v":0},{"$f":"MIN(1,G341*G844/('Base Numbers'!$C$5*'Base Numbers'!$C$6))","v":0},{"$f":"MIN(1,H341*H844/('Base Numbers'!$C$5*'Base Numbers'!$C$6))","v":0},{"$f":"MIN(1,I341*I844/('Base Numbers'!$C$5*'Base Numbers'!$C$6))","v":0},{"$f":"MIN(1,J341*J844/('Base Numbers'!$C$5*'Base Numbers'!$C$6))","v":0},{"$f":"MIN(1,K341*K844/('Base Numbers'!$C$5*'Base Numbers'!$C$6))","v":0},{"$f":"MIN(1,L341*L844/('Base Numbers'!$C$5*'Base Numbers'!$C$6))","v":0},{"$f":"MIN(1,M341*M844/('Base Numbers'!$C$5*'Base Numbers'!$C$6))","v":0},{"$f":"MIN(1,N341*N844/('Base Numbers'!$C$5*'Base Numbers'!$C$6))","v":0},{"$f":"MIN(1,O341*O844/('Base Numbers'!$C$5*'Base Numbers'!$C$6))","v":0},{"$f":"MIN(1,P341*P844/('Base Numbers'!$C$5*'Base Numbers'!$C$6))","v":0},{"$f":"MIN(1,Q341*Q844/('Base Numbers'!$C$5*'Base Numbers'!$C$6))","v":0},{"$f":"MIN(1,R341*R844/('Base Numbers'!$C$5*'Base Numbers'!$C$6))","v":0},{"$f":"MIN(1,S341*S844/('Base Numbers'!$C$5*'Base Numbers'!$C$6))","v":0},{"$f":"MIN(1,T341*T844/('Base Numbers'!$C$5*'Base Numbers'!$C$6))","v":0},{"$f":"MIN(1,U341*U844/('Base Numbers'!$C$5*'Base Numbers'!$C$6))","v":0},{"$f":"MIN(1,V341*V844/('Base Numbers'!$C$5*'Base Numbers'!$C$6))","v":0},{"$f":"MIN(1,W341*W844/('Base Numbers'!$C$5*'Base Numbers'!$C$6))","v":0},{"$f":"MIN(1,X341*X844/('Base Numbers'!$C$5*'Base Numbers'!$C$6))","v":0}]
[]
[{"$nulls":3},"SPIRIT GUARDIANS"]
[{"$nulls":3},"AOE target multiplier",1,1,1,1,1,1,1,1,1,1,1,1,1,1,1,1,1,1,1,1]
[{"$nulls":3},"avg spirit guardians targets",{"$f":"'Base Numbers'!$G$20*E849","v":2.5},{"$f":"'Base Numbers'!$G$20*F849","v":2.5},{"$f":"'Base Numbers'!$G$20*G849","v":2.5},{"$f":"'Base Numbers'!$G$20*H849","v":2.5},{"$f":"'Base Numbers'!$G$20*I849","v":2.5},{"$f":"'Base Numbers'!$G$20*J849","v":2.5},{"$f":"'Base Numbers'!$G$20*K849","v":2.5},{"$f":"'Base Numbers'!$G$20*L849","v":2.5},{"$f":"'Base Numbers'!$G$20*M849","v":2.5},{"$f":"'Base Numbers'!$G$20*N849","v":2.5},{"$f":"'Base Numbers'!$G$20*O849","v":2.5},{"$f":"'Base Numbers'!$G$20*P849","v":2.5},{"$f":"'Base Numbers'!$G$20*Q849","v":2.5},{"$f":"'Base Numbers'!$G$20*R849","v":2.5},{"$f":"'Base Numbers'!$G$20*S849","v":2.5},{"$f":"'Base Numbers'!$G$20*T849","v":2.5},{"$f":"'Base Numbers'!$G$20*U849","v":2.5},{"$f":"'Base Numbers'!$G$20*V849","v":2.5},{"$f":"'Base Numbers'!$G$20*W849","v":2.5},{"$f":"'Base Numbers'!$G$20*X849","v":2.5}]
[{"$nulls":3},"total  spirit guardians casts",{"$f":"E274","v":0},0,0,0,0,0,0,0,0,0,0,0,0,0,0,0,0,0,0,0]
[{"$nulls":3},"average spirit guardians slot",{"$f":"SpellOrder!CL6","v":0},{"$f":"SpellOrder!CM6","v":0},{"$f":"SpellOrder!CN6","v":0},{"$f":"SpellOrder!CO6","v":0},{"$f":"SpellOrder!CP6","v":0},{"$f":"SpellOrder!CQ6","v":0},{"$f":"SpellOrder!CR6","v":0},{"$f":"SpellOrder!CS6","v":0},{"$f":"SpellOrder!CT6","v":0},{"$f":"SpellOrder!CU6","v":0},{"$f":"SpellOrder!CV6","v":0},{"$f":"SpellOrder!CW6","v":0},{"$f":"SpellOrder!CX6","v":0},{"$f":"SpellOrder!CY6","v":0},{"$f":"SpellOrder!CZ6","v":0},{"$f":"SpellOrder!DA6","v":0},{"$f":"SpellOrder!DB6","v":0},{"$f":"SpellOrder!DC6","v":0},{"$f":"SpellOrder!DD6","v":0},{"$f":"SpellOrder!DE6","v":0}]
[{"$nulls":3},"avg spirit guardians dmg per round active",{"$f":"4.5*E852*E850*(1+(1-E738))/2","v":0},0,0,0,0,0,0,0,0,0,0,0,0,0,0,0,0,0,0,0]
[{"$nulls":3},"avg spirit guardians uptime ",{"$f":"IF(E1364,'Base Numbers'!C6,E851*E352)","v":0},{"$f":"IF(F1364,'Base Numbers'!D6,F851*F352)","v":0},{"$f":"IF(G1364,'Base Numbers'!E6,G851*G352)","v":0},{"$f":"IF(H1364,'Base Numbers'!F6,H851*H352)","v":0},{"$f":"IF(I1364,'Base Numbers'!G6,I851*I352)","v":0},{"$f":"IF(J1364,'Base Numbers'!H6,J851*J352)","v":0},{"$f":"IF(K1364,'Base Numbers'!I6,K851*K352)","v":0},{"$f":"IF(L1364,'Base Numbers'!J6,L851*L352)","v":0},{"$f":"IF(M1364,'Base Numbers'!K6,M851*M352)","v":0},{"$f":"IF(N1364,'Base Numbers'!L6,N851*N352)","v":0},{"$f":"IF(O1364,'Base Numbers'!M6,O851*O352)","v":0},{"$f":"IF(P1364,'Base Numbers'!N6,P851*P352)","v":0},{"$f":"IF(Q1364,'Base Numbers'!O6,Q851*Q352)","v":0},{"$f":"IF(R1364,'Base Numbers'!P6,R851*R352)","v":0},{"$f":"IF(S1364,'Base Numbers'!Q6,S851*S352)","v":0},{"$f":"IF(T1364,'Base Numbers'!R6,T851*T352)","v":0},{"$f":"IF(U1364,'Base Numbers'!S6,U851*U352)","v":0},{"$f":"IF(V1364,'Base Numbers'!T6,V851*V352)","v":0},{"$f":"IF(W1364,'Base Numbers'!U6,W851*W352)","v":0},{"$f":"IF(X1364,'Base Numbers'!V6,X851*X352)","v":0}]
[{"$nulls":3},"avg spirit guardians damage per round",{"$f":"E853*E854/('Base Numbers'!$C$5*'Base Numbers'!$C$6)","v":0},{"$f":"F853*F854/('Base Numbers'!$C$5*'Base Numbers'!$C$6)","v":0},{"$f":"G853*G854/('Base Numbers'!$C$5*'Base Numbers'!$C$6)","v":0},{"$f":"H853*H854/('Base Numbers'!$C$5*'Base Numbers'!$C$6)","v":0},{"$f":"I853*I854/('Base Numbers'!$C$5*'Base Numbers'!$C$6)","v":0},{"$f":"J853*J854/('Base Numbers'!$C$5*'Base Numbers'!$C$6)","v":0},{"$f":"K853*K854/('Base Numbers'!$C$5*'Base Numbers'!$C$6)","v":0},{"$f":"L853*L854/('Base Numbers'!$C$5*'Base Numbers'!$C$6)","v":0},{"$f":"M853*M854/('Base Numbers'!$C$5*'Base Numbers'!$C$6)","v":0},{"$f":"N853*N854/('Base Numbers'!$C$5*'Base Numbers'!$C$6)","v":0},{"$f":"O853*O854/('Base Numbers'!$C$5*'Base Numbers'!$C$6)","v":0},{"$f":"P853*P854/('Base Numbers'!$C$5*'Base Numbers'!$C$6)","v":0},{"$f":"Q853*Q854/('Base Numbers'!$C$5*'Base Numbers'!$C$6)","v":0},{"$f":"R853*R854/('Base Numbers'!$C$5*'Base Numbers'!$C$6)","v":0},{"$f":"S853*S854/('Base Numbers'!$C$5*'Base Numbers'!$C$6)","v":0},{"$f":"T853*T854/('Base Numbers'!$C$5*'Base Numbers'!$C$6)","v":0},{"$f":"U853*U854/('Base Numbers'!$C$5*'Base Numbers'!$C$6)","v":0},{"$f":"V853*V854/('Base Numbers'!$C$5*'Base Numbers'!$C$6)","v":0},{"$f":"W853*W854/('Base Numbers'!$C$5*'Base Numbers'!$C$6)","v":0},{"$f":"X853*X854/('Base Numbers'!$C$5*'Base Numbers'!$C$6)","v":0}]
[]
[{"$nulls":3},"FIREBALL"]
[{"$nulls":3},"fireball slot (left over from Spirit Guardians, Bigby's Hand, Animate Objs)",{"$f":"SpellOrder!CL10","v":0},{"$f":"SpellOrder!CM10","v":0},{"$f":"SpellOrder!CN10","v":0},{"$f":"SpellOrder!CO10","v":0},{"$f":"SpellOrder!CP10","v":0},{"$f":"SpellOrder!CQ10","v":0},{"$f":"SpellOrder!CR10","v":0},{"$f":"SpellOrder!CS10","v":0},{"$f":"SpellOrder!CT10","v":0},{"$f":"SpellOrder!CU10","v":0},{"$f":"SpellOrder!CV10","v":0},{"$f":"SpellOrder!CW10","v":0},{"$f":"SpellOrder!CX10","v":0},{"$f":"SpellOrder!CY10","v":0},{"$f":"SpellOrder!CZ10","v":0},{"$f":"SpellOrder!DA10","v":0},{"$f":"SpellOrder!DB10","v":0},{"$f":"SpellOrder!DC10","v":0},{"$f":"SpellOrder!DD10","v":0},{"$f":"SpellOrder!DE10","v":0}]
[{"$nulls":3},"fireball AOE multiplier",2,2,2,2,2,2,2,2,2,2,2,2,2,2,2,2,2,2,2,2]
[{"$nulls":3},"avg fireball targets",{"$f":"E859*'Base Numbers'!$G$20","v":5},{"$f":"F859*'Base Numbers'!$G$20","v":5},{"$f":"G859*'Base Numbers'!$G$20","v":5},{"$f":"H859*'Base Numbers'!$G$20","v":5},{"$f":"I859*'Base Numbers'!$G$20","v":5},{"$f":"J859*'Base Numbers'!$G$20","v":5},{"$f":"K859*'Base Numbers'!$G$20","v":5},{"$f":"L859*'Base Numbers'!$G$20","v":5},{"$f":"M859*'Base Numbers'!$G$20","v":5},{"$f":"N859*'Base Numbers'!$G$20","v":5},{"$f":"O859*'Base Numbers'!$G$20","v":5},{"$f":"P859*'Base Numbers'!$G$20","v":5},{"$f":"Q859*'Base Numbers'!$G$20","v":5},{"$f":"R859*'Base Numbers'!$G$20","v":5},{"$f":"S859*'Base Numbers'!$G$20","v":5},{"$f":"T859*'Base Numbers'!$G$20","v":5},{"$f":"U859*'Base Numbers'!$G$20","v":5},{"$f":"V859*'Base Numbers'!$G$20","v":5},{"$f":"W859*'Base Numbers'!$G$20","v":5},{"$f":"X859*'Base Numbers'!$G$20","v":5}]
[{"$nulls":3},"avg fireball damage per cast",{"$f":"E860*(((MAX(0,E858-3)+8)*3.5+E45*E36+IF(E1121,4.5,0))*(E735)*0.5+((MAX(0,E858-3)+8)*3.5+E45*E36+IF(E1121,4.5,0))*(1-E735))","v":108.50000000000001},107.44999999999999,106.75,106.05000000000001,109.025,108.50000000000001,107.80000000000001,106.75,109.375,108.50000000000001,107.625,106.75,109.375,108.50000000000001,105,101.49999999999999,103.25,101.49999999999999,99.75000000000001,98]
[{"$nulls":3},"avg fireball damage per round (adj for number of rounds)",{"$f":"E861*E297/('Base Numbers'!$C$5*'Base Numbers'!$C$6)","v":0},{"$f":"F861*F297/('Base Numbers'!$C$5*'Base Numbers'!$C$6)","v":0},{"$f":"G861*G297/('Base Numbers'!$C$5*'Base Numbers'!$C$6)","v":0},{"$f":"H861*H297/('Base Numbers'!$C$5*'Base Numbers'!$C$6)","v":0},{"$f":"I861*I297/('Base Numbers'!$C$5*'Base Numbers'!$C$6)","v":0},{"$f":"J861*J297/('Base Numbers'!$C$5*'Base Numbers'!$C$6)","v":0},{"$f":"K861*K297/('Base Numbers'!$C$5*'Base Numbers'!$C$6)","v":0},{"$f":"L861*L297/('Base Numbers'!$C$5*'Base Numbers'!$C$6)","v":0},{"$f":"M861*M297/('Base Numbers'!$C$5*'Base Numbers'!$C$6)","v":0},{"$f":"N861*N297/('Base Numbers'!$C$5*'Base Numbers'!$C$6)","v":0},{"$f":"O861*O297/('Base Numbers'!$C$5*'Base Numbers'!$C$6)","v":0},{"$f":"P861*P297/('Base Numbers'!$C$5*'Base Numbers'!$C$6)","v":0},{"$f":"Q861*Q297/('Base Numbers'!$C$5*'Base Numbers'!$C$6)","v":0},{"$f":"R861*R297/('Base Numbers'!$C$5*'Base Numbers'!$C$6)","v":0},{"$f":"S861*S297/('Base Numbers'!$C$5*'Base Numbers'!$C$6)","v":0},{"$f":"T861*T297/('Base Numbers'!$C$5*'Base Numbers'!$C$6)","v":0},{"$f":"U861*U297/('Base Numbers'!$C$5*'Base Numbers'!$C$6)","v":0},{"$f":"V861*V297/('Base Numbers'!$C$5*'Base Numbers'!$C$6)","v":0},{"$f":"W861*W297/('Base Numbers'!$C$5*'Base Numbers'!$C$6)","v":0},{"$f":"X861*X297/('Base Numbers'!$C$5*'Base Numbers'!$C$6)","v":0}]
[]
[{"$nulls":3},"CALL LIGHTNING"]
[{"$nulls":3},"call lightning slot",{"$f":"SpellOrder!CL23","v":0},{"$f":"SpellOrder!CM23","v":0},{"$f":"SpellOrder!CN23","v":0},{"$f":"SpellOrder!CO23","v":0},{"$f":"SpellOrder!CP23","v":0},{"$f":"SpellOrder!CQ23","v":0},{"$f":"SpellOrder!CR23","v":0},{"$f":"SpellOrder!CS23","v":0},{"$f":"SpellOrder!CT23","v":0},{"$f":"SpellOrder!CU23","v":0},{"$f":"SpellOrder!CV23","v":0},{"$f":"SpellOrder!CW23","v":0},{"$f":"SpellOrder!CX23","v":0},{"$f":"SpellOrder!CY23","v":0},{"$f":"SpellOrder!CZ23","v":0},{"$f":"SpellOrder!DA23","v":0},{"$f":"SpellOrder!DB23","v":0},{"$f":"SpellOrder!DC23","v":0},{"$f":"SpellOrder!DD23","v":0},{"$f":"SpellOrder!DE23","v":0}]
[{"$nulls":3},"average duration (actions) / bolts",{"$f":"IF(E865>=3,MIN('Base Numbers'!$C$6,1+E356),0)","v":0},{"$f":"IF(F865>=3,MIN('Base Numbers'!$C$6,1+F356),0)","v":0},{"$f":"IF(G865>=3,MIN('Base Numbers'!$C$6,1+G356),0)","v":0},{"$f":"IF(H865>=3,MIN('Base Numbers'!$C$6,1+H356),0)","v":0},{"$f":"IF(I865>=3,MIN('Base Numbers'!$C$6,1+I356),0)","v":0},{"$f":"IF(J865>=3,MIN('Base Numbers'!$C$6,1+J356),0)","v":0},{"$f":"IF(K865>=3,MIN('Base Numbers'!$C$6,1+K356),0)","v":0},{"$f":"IF(L865>=3,MIN('Base Numbers'!$C$6,1+L356),0)","v":0},{"$f":"IF(M865>=3,MIN('Base Numbers'!$C$6,1+M356),0)","v":0},{"$f":"IF(N865>=3,MIN('Base Numbers'!$C$6,1+N356),0)","v":0},{"$f":"IF(O865>=3,MIN('Base Numbers'!$C$6,1+O356),0)","v":0},{"$f":"IF(P865>=3,MIN('Base Numbers'!$C$6,1+P356),0)","v":0},{"$f":"IF(Q865>=3,MIN('Base Numbers'!$C$6,1+Q356),0)","v":0},{"$f":"IF(R865>=3,MIN('Base Numbers'!$C$6,1+R356),0)","v":0},{"$f":"IF(S865>=3,MIN('Base Numbers'!$C$6,1+S356),0)","v":0},{"$f":"IF(T865>=3,MIN('Base Numbers'!$C$6,1+T356),0)","v":0},{"$f":"IF(U865>=3,MIN('Base Numbers'!$C$6,1+U356),0)","v":0},{"$f":"IF(V865>=3,MIN('Base Numbers'!$C$6,1+V356),0)","v":0},{"$f":"IF(W865>=3,MIN('Base Numbers'!$C$6,1+W356),0)","v":0},{"$f":"IF(X865>=3,MIN('Base Numbers'!$C$6,1+X356),0)","v":0}]
[{"$nulls":3},"total actions used on call lightnings",{"$f":"E281*E866","v":0},0,0,0,0,0,0,0,0,0,0,0,0,0,0,0,0,0,0,0]
[{"$nulls":3},"targets per bolt",1.5,1.5,1.5,1.5,1.5,1.5,1.5,1.5,1.5,1.5,1.5,1.5,1.5,1.5,1.5,1.5,1.5,1.5,1.5,1.5]
[{"$nulls":3},"damage per bolt",{"$f":"IF(E865>=3,3*5.5+(E865-3)*5.5,0)","v":0},{"$f":"IF(F865>=3,3*5.5+(F865-3)*5.5,0)","v":0},0,0,0,0,0,0,0,0,0,0,0,0,0,0,0,0,0,0]
[{"$nulls":3},"bonus damage (draconic sorc)",{"$f":"E45*E36","v":0},0,0,0,0,0,0,0,0,0,0,0,0,0,0,0,0,0,0,0]
[{"$nulls":3},"total damage",{"$f":"E868*(E869+E870)*E867*(1-E735)+E868*(E869+E870)*E867*E735*0.5","v":0},{"$f":"F868*(F869+F870)*F867*(1-F735)+F868*(F869+F870)*F867*F735*0.5","v":0},{"$f":"G868*(G869+G870)*G867*(1-G735)+G868*(G869+G870)*G867*G735*0.5","v":0},{"$f":"H868*(H869+H870)*H867*(1-H735)+H868*(H869+H870)*H867*H735*0.5","v":0},{"$f":"I868*(I869+I870)*I867*(1-I735)+I868*(I869+I870)*I867*I735*0.5","v":0},{"$f":"J868*(J869+J870)*J867*(1-J735)+J868*(J869+J870)*J867*J735*0.5","v":0},{"$f":"K868*(K869+K870)*K867*(1-K735)+K868*(K869+K870)*K867*K735*0.5","v":0},{"$f":"L868*(L869+L870)*L867*(1-L735)+L868*(L869+L870)*L867*L735*0.5","v":0},{"$f":"M868*(M869+M870)*M867*(1-M735)+M868*(M869+M870)*M867*M735*0.5","v":0},{"$f":"N868*(N869+N870)*N867*(1-N735)+N868*(N869+N870)*N867*N735*0.5","v":0},{"$f":"O868*(O869+O870)*O867*(1-O735)+O868*(O869+O870)*O867*O735*0.5","v":0},{"$f":"P868*(P869+P870)*P867*(1-P735)+P868*(P869+P870)*P867*P735*0.5","v":0},{"$f":"Q868*(Q869+Q870)*Q867*(1-Q735)+Q868*(Q869+Q870)*Q867*Q735*0.5","v":0},{"$f":"R868*(R869+R870)*R867*(1-R735)+R868*(R869+R870)*R867*R735*0.5","v":0},{"$f":"S868*(S869+S870)*S867*(1-S735)+S868*(S869+S870)*S867*S735*0.5","v":0},{"$f":"T868*(T869+T870)*T867*(1-T735)+T868*(T869+T870)*T867*T735*0.5","v":0},{"$f":"U868*(U869+U870)*U867*(1-U735)+U868*(U869+U870)*U867*U735*0.5","v":0},{"$f":"V868*(V869+V870)*V867*(1-V735)+V868*(V869+V870)*V867*V735*0.5","v":0},{"$f":"W868*(W869+W870)*W867*(1-W735)+W868*(W869+W870)*W867*W735*0.5","v":0},{"$f":"X868*(X869+X870)*X867*(1-X735)+X868*(X869+X870)*X867*X735*0.5","v":0}]
[{"$nulls":3},"avg damage per round",{"$f":"IF(E865>=3,E871/('Base Numbers'!$C$5*'Base Numbers'!$C$6),0)","v":0},{"$f":"IF(F865>=3,F871/('Base Numbers'!$C$5*'Base Numbers'!$C$6),0)","v":0},{"$f":"IF(G865>=3,G871/('Base Numbers'!$C$5*'Base Numbers'!$C$6),0)","v":0},{"$f":"IF(H865>=3,H871/('Base Numbers'!$C$5*'Base Numbers'!$C$6),0)","v":0},{"$f":"IF(I865>=3,I871/('Base Numbers'!$C$5*'Base Numbers'!$C$6),0)","v":0},{"$f":"IF(J865>=3,J871/('Base Numbers'!$C$5*'Base Numbers'!$C$6),0)","v":0},{"$f":"IF(K865>=3,K871/('Base Numbers'!$C$5*'Base Numbers'!$C$6),0)","v":0},{"$f":"IF(L865>=3,L871/('Base Numbers'!$C$5*'Base Numbers'!$C$6),0)","v":0},{"$f":"IF(M865>=3,M871/('Base Numbers'!$C$5*'Base Numbers'!$C$6),0)","v":0},{"$f":"IF(N865>=3,N871/('Base Numbers'!$C$5*'Base Numbers'!$C$6),0)","v":0},{"$f":"IF(O865>=3,O871/('Base Numbers'!$C$5*'Base Numbers'!$C$6),0)","v":0},{"$f":"IF(P865>=3,P871/('Base Numbers'!$C$5*'Base Numbers'!$C$6),0)","v":0},{"$f":"IF(Q865>=3,Q871/('Base Numbers'!$C$5*'Base Numbers'!$C$6),0)","v":0},{"$f":"IF(R865>=3,R871/('Base Numbers'!$C$5*'Base Numbers'!$C$6),0)","v":0},{"$f":"IF(S865>=3,S871/('Base Numbers'!$C$5*'Base Numbers'!$C$6),0)","v":0},{"$f":"IF(T865>=3,T871/('Base Numbers'!$C$5*'Base Numbers'!$C$6),0)","v":0},{"$f":"IF(U865>=3,U871/('Base Numbers'!$C$5*'Base Numbers'!$C$6),0)","v":0},{"$f":"IF(V865>=3,V871/('Base Numbers'!$C$5*'Base Numbers'!$C$6),0)","v":0},{"$f":"IF(W865>=3,W871/('Base Numbers'!$C$5*'Base Numbers'!$C$6),0)","v":0},{"$f":"IF(X865>=3,X871/('Base Numbers'!$C$5*'Base Numbers'!$C$6),0)","v":0}]
[]
[{"$nulls":3},"MOONBEAM"]
[{"$nulls":3},"avg moonbeam slot",{"$f":"SpellOrder!CL22","v":0},{"$f":"SpellOrder!CM22","v":0},{"$f":"SpellOrder!CN22","v":0},{"$f":"SpellOrder!CO22","v":0},{"$f":"SpellOrder!CP22","v":0},{"$f":"SpellOrder!CQ22","v":0},{"$f":"SpellOrder!CR22","v":0},{"$f":"SpellOrder!CS22","v":0},{"$f":"SpellOrder!CT22","v":0},{"$f":"SpellOrder!CU22","v":0},{"$f":"SpellOrder!CV22","v":0},{"$f":"SpellOrder!CW22","v":0},{"$f":"SpellOrder!CX22","v":0},{"$f":"SpellOrder!CY22","v":0},{"$f":"SpellOrder!CZ22","v":0},{"$f":"SpellOrder!DA22","v":0},{"$f":"SpellOrder!DB22","v":0},{"$f":"SpellOrder!DC22","v":0},{"$f":"SpellOrder!DD22","v":0},{"$f":"SpellOrder!DE22","v":0}]
[{"$nulls":3},"total moonbeams duration (rounds of damage)",{"$f":"IF(E875>=2,MIN('Base Numbers'!$C$6,1+E356),0)*E282","v":0},{"$f":"IF(F875>=2,MIN('Base Numbers'!$C$6,1+F356),0)*F282","v":0},{"$f":"IF(G875>=2,MIN('Base Numbers'!$C$6,1+G356),0)*G282","v":0},{"$f":"IF(H875>=2,MIN('Base Numbers'!$C$6,1+H356),0)*H282","v":0},{"$f":"IF(I875>=2,MIN('Base Numbers'!$C$6,1+I356),0)*I282","v":0},{"$f":"IF(J875>=2,MIN('Base Numbers'!$C$6,1+J356),0)*J282","v":0},{"$f":"IF(K875>=2,MIN('Base Numbers'!$C$6,1+K356),0)*K282","v":0},{"$f":"IF(L875>=2,MIN('Base Numbers'!$C$6,1+L356),0)*L282","v":0},{"$f":"IF(M875>=2,MIN('Base Numbers'!$C$6,1+M356),0)*M282","v":0},{"$f":"IF(N875>=2,MIN('Base Numbers'!$C$6,1+N356),0)*N282","v":0},{"$f":"IF(O875>=2,MIN('Base Numbers'!$C$6,1+O356),0)*O282","v":0},{"$f":"IF(P875>=2,MIN('Base Numbers'!$C$6,1+P356),0)*P282","v":0},{"$f":"IF(Q875>=2,MIN('Base Numbers'!$C$6,1+Q356),0)*Q282","v":0},{"$f":"IF(R875>=2,MIN('Base Numbers'!$C$6,1+R356),0)*R282","v":0},{"$f":"IF(S875>=2,MIN('Base Numbers'!$C$6,1+S356),0)*S282","v":0},{"$f":"IF(T875>=2,MIN('Base Numbers'!$C$6,1+T356),0)*T282","v":0},{"$f":"IF(U875>=2,MIN('Base Numbers'!$C$6,1+U356),0)*U282","v":0},{"$f":"IF(V875>=2,MIN('Base Numbers'!$C$6,1+V356),0)*V282","v":0},{"$f":"IF(W875>=2,MIN('Base Numbers'!$C$6,1+W356),0)*W282","v":0},{"$f":"IF(X875>=2,MIN('Base Numbers'!$C$6,1+X356),0)*X282","v":0}]
[{"$nulls":3},"average actions used ",{"$f":"IF(E875>=2,MAX(1,E876*0.75),0)","v":0},{"$f":"IF(F875>=2,MAX(1,F876*0.75),0)","v":0},0,0,0,0,0,0,0,0,0,0,0,0,0,0,0,0,0,0]
[{"$nulls":3},"targets per beam",1.5,1.5,1.5,1.5,1.5,1.5,1.5,1.5,1.5,1.5,1.5,1.5,1.5,1.5,1.5,1.5,1.5,1.5,1.5,1.5]
[{"$nulls":3},"damage per beam",{"$f":"IF(E875>=2,2*5.5+(E875-2)*5.5,0)","v":0},{"$f":"IF(F875>=2,2*5.5+(F875-2)*5.5,0)","v":0},0,0,0,0,0,0,0,0,0,0,0,0,0,0,0,0,0,0]
[{"$nulls":3},"total damage",{"$f":"E878*E879*E876*(1-E736)+E878*E879*E876*E736*0.5","v":0},0,0,0,0,0,0,0,0,0,0,0,0,0,0,0,0,0,0,0]
[{"$nulls":3},"avg damage per round",{"$f":"IF(E875>=2,E880/('Base Numbers'!$C$5*'Base Numbers'!$C$6),0)","v":0},{"$f":"IF(F875>=2,F880/('Base Numbers'!$C$5*'Base Numbers'!$C$6),0)","v":0},{"$f":"IF(G875>=2,G880/('Base Numbers'!$C$5*'Base Numbers'!$C$6),0)","v":0},{"$f":"IF(H875>=2,H880/('Base Numbers'!$C$5*'Base Numbers'!$C$6),0)","v":0},{"$f":"IF(I875>=2,I880/('Base Numbers'!$C$5*'Base Numbers'!$C$6),0)","v":0},{"$f":"IF(J875>=2,J880/('Base Numbers'!$C$5*'Base Numbers'!$C$6),0)","v":0},{"$f":"IF(K875>=2,K880/('Base Numbers'!$C$5*'Base Numbers'!$C$6),0)","v":0},{"$f":"IF(L875>=2,L880/('Base Numbers'!$C$5*'Base Numbers'!$C$6),0)","v":0},{"$f":"IF(M875>=2,M880/('Base Numbers'!$C$5*'Base Numbers'!$C$6),0)","v":0},{"$f":"IF(N875>=2,N880/('Base Numbers'!$C$5*'Base Numbers'!$C$6),0)","v":0},{"$f":"IF(O875>=2,O880/('Base Numbers'!$C$5*'Base Numbers'!$C$6),0)","v":0},{"$f":"IF(P875>=2,P880/('Base Numbers'!$C$5*'Base Numbers'!$C$6),0)","v":0},{"$f":"IF(Q875>=2,Q880/('Base Numbers'!$C$5*'Base Numbers'!$C$6),0)","v":0},{"$f":"IF(R875>=2,R880/('Base Numbers'!$C$5*'Base Numbers'!$C$6),0)","v":0},{"$f":"IF(S875>=2,S880/('Base Numbers'!$C$5*'Base Numbers'!$C$6),0)","v":0},{"$f":"IF(T875>=2,T880/('Base Numbers'!$C$5*'Base Numbers'!$C$6),0)","v":0},{"$f":"IF(U875>=2,U880/('Base Numbers'!$C$5*'Base Numbers'!$C$6),0)","v":0},{"$f":"IF(V875>=2,V880/('Base Numbers'!$C$5*'Base Numbers'!$C$6),0)","v":0},{"$f":"IF(W875>=2,W880/('Base Numbers'!$C$5*'Base Numbers'!$C$6),0)","v":0},{"$f":"IF(X875>=2,X880/('Base Numbers'!$C$5*'Base Numbers'!$C$6),0)","v":0}]
[]
[{"$nulls":3},"STEEL WIND STRIKE"]
[{"$nulls":3},"targets",{"$f":"MIN(5,'Base Numbers'!$G$20+1)","v":3.5},{"$f":"MIN(5,'Base Numbers'!$G$20+1)","v":3.5},{"$f":"MIN(5,'Base Numbers'!$G$20+1)","v":3.5},{"$f":"MIN(5,'Base Numbers'!$G$20+1)","v":3.5},{"$f":"MIN(5,'Base Numbers'!$G$20+1)","v":3.5},{"$f":"MIN(5,'Base Numbers'!$G$20+1)","v":3.5},{"$f":"MIN(5,'Base Numbers'!$G$20+1)","v":3.5},{"$f":"MIN(5,'Base Numbers'!$G$20+1)","v":3.5},{"$f":"MIN(5,'Base Numbers'!$G$20+1)","v":3.5},{"$f":"MIN(5,'Base Numbers'!$G$20+1)","v":3.5},{"$f":"MIN(5,'Base Numbers'!$G$20+1)","v":3.5},{"$f":"MIN(5,'Base Numbers'!$G$20+1)","v":3.5},{"$f":"MIN(5,'Base Numbers'!$G$20+1)","v":3.5},{"$f":"MIN(5,'Base Numbers'!$G$20+1)","v":3.5},{"$f":"MIN(5,'Base Numbers'!$G$20+1)","v":3.5},{"$f":"MIN(5,'Base Numbers'!$G$20+1)","v":3.5},{"$f":"MIN(5,'Base Numbers'!$G$20+1)","v":3.5},{"$f":"MIN(5,'Base Numbers'!$G$20+1)","v":3.5},{"$f":"MIN(5,'Base Numbers'!$G$20+1)","v":3.5},{"$f":"MIN(5,'Base Numbers'!$G$20+1)","v":3.5}]
[{"$nulls":3},"dmg per target",33,33,33,33,33,33,33,33,33,33,33,33,33,33,33,33,33,33,33,33]
[{"$nulls":3},"damage including hit chance",{"$f":"(E884-1)*(E507*E393*E885+(1-E507)*E391*E885)+(E506*E393*E885+(1-E506)*E391*E885)","v":75.075},75.075,78.400476,78.77192400000001,84.405696375,79.143372,79.143372,79.143372,84.2296455,83.87754375,83.525442,81.12257999999997,91.032249,90.707232,85.40156625,85.04946450000001,94.24049249999999,89.329865625,88.95261375000001,88.32386062500001]
[{"$nulls":3},"bonus crit damage",{"$f":"(E884-1)*(E507*E528*E885+(1-E507)*E527*E885)+(E506*E528*E885+(1-E506)*E527*E885)","v":5.775},5.775,7.576135875000002,7.649651625000002,7.723167375000003,7.723167375000003,7.723167375000003,7.723167375000003,7.686409500000001,7.612893750000001,7.539378,8.114885625000001,8.078127750000002,8.004612000000002,7.931096250000002,7.857580500000002,8.803801875000003,8.751290625000003,8.672523750000002,8.541245625000002]
[{"$nulls":3},"avg damage per round",{"$f":"(E886+E887)*E277/('Base Numbers'!$C$5*'Base Numbers'!$C$6)","v":0},{"$f":"(F886+F887)*F277/('Base Numbers'!$C$5*'Base Numbers'!$C$6)","v":0},{"$f":"(G886+G887)*G277/('Base Numbers'!$C$5*'Base Numbers'!$C$6)","v":0},{"$f":"(H886+H887)*H277/('Base Numbers'!$C$5*'Base Numbers'!$C$6)","v":0},{"$f":"(I886+I887)*I277/('Base Numbers'!$C$5*'Base Numbers'!$C$6)","v":0},{"$f":"(J886+J887)*J277/('Base Numbers'!$C$5*'Base Numbers'!$C$6)","v":0},{"$f":"(K886+K887)*K277/('Base Numbers'!$C$5*'Base Numbers'!$C$6)","v":0},{"$f":"(L886+L887)*L277/('Base Numbers'!$C$5*'Base Numbers'!$C$6)","v":0},{"$f":"(M886+M887)*M277/('Base Numbers'!$C$5*'Base Numbers'!$C$6)","v":0},{"$f":"(N886+N887)*N277/('Base Numbers'!$C$5*'Base Numbers'!$C$6)","v":0},{"$f":"(O886+O887)*O277/('Base Numbers'!$C$5*'Base Numbers'!$C$6)","v":0},{"$f":"(P886+P887)*P277/('Base Numbers'!$C$5*'Base Numbers'!$C$6)","v":0},{"$f":"(Q886+Q887)*Q277/('Base Numbers'!$C$5*'Base Numbers'!$C$6)","v":0},{"$f":"(R886+R887)*R277/('Base Numbers'!$C$5*'Base Numbers'!$C$6)","v":0},{"$f":"(S886+S887)*S277/('Base Numbers'!$C$5*'Base Numbers'!$C$6)","v":0},{"$f":"(T886+T887)*T277/('Base Numbers'!$C$5*'Base Numbers'!$C$6)","v":0},{"$f":"(U886+U887)*U277/('Base Numbers'!$C$5*'Base Numbers'!$C$6)","v":0},{"$f":"(V886+V887)*V277/('Base Numbers'!$C$5*'Base Numbers'!$C$6)","v":0},{"$f":"(W886+W887)*W277/('Base Numbers'!$C$5*'Base Numbers'!$C$6)","v":0},{"$f":"(X886+X887)*X277/('Base Numbers'!$C$5*'Base Numbers'!$C$6)","v":0}]
[]
[{"$nulls":3},"DESTRUCTIVE WAVE"]
[{"$nulls":3},"AOE target multiplier",1,1,1,1,1,1,1,1,1,1,1,1,1,1,1,1,1,1,1,1]
[{"$nulls":3},"damage per target",{"$f":"10*3.5","v":35},{"$f":"10*3.5","v":35},35,35,35,35,35,35,35,35,35,35,35,35,35,35,35,35,35,35]
[{"$nulls":3},"average damage per cast",{"$f":"E891*E892*(1-0.5*E736)*'Base Numbers'!$G$20","v":67.8125},{"$f":"F891*F892*(1-0.5*F736)*'Base Numbers'!$G$20","v":66.71875},{"$f":"G891*G892*(1-0.5*G736)*'Base Numbers'!$G$20","v":65.625},{"$f":"H891*H892*(1-0.5*H736)*'Base Numbers'!$G$20","v":64.53125},{"$f":"I891*I892*(1-0.5*I736)*'Base Numbers'!$G$20","v":65.625},{"$f":"J891*J892*(1-0.5*J736)*'Base Numbers'!$G$20","v":64.53125},{"$f":"K891*K892*(1-0.5*K736)*'Base Numbers'!$G$20","v":63.4375},{"$f":"L891*L892*(1-0.5*L736)*'Base Numbers'!$G$20","v":62.34375},{"$f":"M891*M892*(1-0.5*M736)*'Base Numbers'!$G$20","v":63.4375},{"$f":"N891*N892*(1-0.5*N736)*'Base Numbers'!$G$20","v":62.34375},{"$f":"O891*O892*(1-0.5*O736)*'Base Numbers'!$G$20","v":61.25},{"$f":"P891*P892*(1-0.5*P736)*'Base Numbers'!$G$20","v":60.15625},{"$f":"Q891*Q892*(1-0.5*Q736)*'Base Numbers'!$G$20","v":61.25},{"$f":"R891*R892*(1-0.5*R736)*'Base Numbers'!$G$20","v":59.0625},{"$f":"S891*S892*(1-0.5*S736)*'Base Numbers'!$G$20","v":56.875},{"$f":"T891*T892*(1-0.5*T736)*'Base Numbers'!$G$20","v":54.6875},{"$f":"U891*U892*(1-0.5*U736)*'Base Numbers'!$G$20","v":54.6875},{"$f":"V891*V892*(1-0.5*V736)*'Base Numbers'!$G$20","v":52.5},{"$f":"W891*W892*(1-0.5*W736)*'Base Numbers'!$G$20","v":50.3125},{"$f":"X891*X892*(1-0.5*X736)*'Base Numbers'!$G$20","v":50.3125}]
[{"$nulls":3},"average damage per day",{"$f":"E278*E893/('Base Numbers'!$C$5*'Base Numbers'!$C$6)","v":0},{"$f":"F278*F893/('Base Numbers'!$C$5*'Base Numbers'!$C$6)","v":0},{"$f":"G278*G893/('Base Numbers'!$C$5*'Base Numbers'!$C$6)","v":0},{"$f":"H278*H893/('Base Numbers'!$C$5*'Base Numbers'!$C$6)","v":0},{"$f":"I278*I893/('Base Numbers'!$C$5*'Base Numbers'!$C$6)","v":0},{"$f":"J278*J893/('Base Numbers'!$C$5*'Base Numbers'!$C$6)","v":0},{"$f":"K278*K893/('Base Numbers'!$C$5*'Base Numbers'!$C$6)","v":0},{"$f":"L278*L893/('Base Numbers'!$C$5*'Base Numbers'!$C$6)","v":0},{"$f":"M278*M893/('Base Numbers'!$C$5*'Base Numbers'!$C$6)","v":0},{"$f":"N278*N893/('Base Numbers'!$C$5*'Base Numbers'!$C$6)","v":0},{"$f":"O278*O893/('Base Numbers'!$C$5*'Base Numbers'!$C$6)","v":0},{"$f":"P278*P893/('Base Numbers'!$C$5*'Base Numbers'!$C$6)","v":0},{"$f":"Q278*Q893/('Base Numbers'!$C$5*'Base Numbers'!$C$6)","v":0},{"$f":"R278*R893/('Base Numbers'!$C$5*'Base Numbers'!$C$6)","v":0},{"$f":"S278*S893/('Base Numbers'!$C$5*'Base Numbers'!$C$6)","v":0},{"$f":"T278*T893/('Base Numbers'!$C$5*'Base Numbers'!$C$6)","v":0},{"$f":"U278*U893/('Base Numbers'!$C$5*'Base Numbers'!$C$6)","v":0},{"$f":"V278*V893/('Base Numbers'!$C$5*'Base Numbers'!$C$6)","v":0},{"$f":"W278*W893/('Base Numbers'!$C$5*'Base Numbers'!$C$6)","v":0},{"$f":"X278*X893/('Base Numbers'!$C$5*'Base Numbers'!$C$6)","v":0}]
[]
[{"$nulls":3},"THUNDEROUS SMITE"]
[{"$nulls":3},"pct change of losing spell before a hit (one round)",{"$f":"E1615","v":0.65},{"$f":"F1615","v":0.65},0.6787920000000001,0.682008,0.9275234183824376,0.9009160698240001,0.9009160698240001,0.9009160698240001,0.926700393879,0.92504040484375,0.923361829104,0.9114104303999999,0.955122967036,0.953922801664,0.93209154894375,0.9304934231190001,0.9757121801297499,0.9618356913902344,0.9609371457294373,0.9594163362474846]
[{"$nulls":3},"damage per cast",{"$f":"IF(E285>0,7,0)","v":0},0,0,0,0,0,0,0,0,0,0,0,0,0,0,0,0,0,0,0]
[{"$nulls":3},"additional crit damage per cast",{"$f":"E531*E898","v":0},0,0,0,0,0,0,0,0,0,0,0,0,0,0,0,0,0,0,0]
[{"$nulls":3},"average damage per round",{"$f":"(E899+E897*E898*E285)/('Base Numbers'!$C$5*'Base Numbers'!$C$6)","v":0},{"$f":"(F899+F897*F898*F285)/('Base Numbers'!$C$5*'Base Numbers'!$C$6)","v":0},{"$f":"(G899+G897*G898*G285)/('Base Numbers'!$C$5*'Base Numbers'!$C$6)","v":0},{"$f":"(H899+H897*H898*H285)/('Base Numbers'!$C$5*'Base Numbers'!$C$6)","v":0},{"$f":"(I899+I897*I898*I285)/('Base Numbers'!$C$5*'Base Numbers'!$C$6)","v":0},{"$f":"(J899+J897*J898*J285)/('Base Numbers'!$C$5*'Base Numbers'!$C$6)","v":0},{"$f":"(K899+K897*K898*K285)/('Base Numbers'!$C$5*'Base Numbers'!$C$6)","v":0},{"$f":"(L899+L897*L898*L285)/('Base Numbers'!$C$5*'Base Numbers'!$C$6)","v":0},{"$f":"(M899+M897*M898*M285)/('Base Numbers'!$C$5*'Base Numbers'!$C$6)","v":0},{"$f":"(N899+N897*N898*N285)/('Base Numbers'!$C$5*'Base Numbers'!$C$6)","v":0},{"$f":"(O899+O897*O898*O285)/('Base Numbers'!$C$5*'Base Numbers'!$C$6)","v":0},{"$f":"(P899+P897*P898*P285)/('Base Numbers'!$C$5*'Base Numbers'!$C$6)","v":0},{"$f":"(Q899+Q897*Q898*Q285)/('Base Numbers'!$C$5*'Base Numbers'!$C$6)","v":0},{"$f":"(R899+R897*R898*R285)/('Base Numbers'!$C$5*'Base Numbers'!$C$6)","v":0},{"$f":"(S899+S897*S898*S285)/('Base Numbers'!$C$5*'Base Numbers'!$C$6)","v":0},{"$f":"(T899+T897*T898*T285)/('Base Numbers'!$C$5*'Base Numbers'!$C$6)","v":0},{"$f":"(U899+U897*U898*U285)/('Base Numbers'!$C$5*'Base Numbers'!$C$6)","v":0},{"$f":"(V899+V897*V898*V285)/('Base Numbers'!$C$5*'Base Numbers'!$C$6)","v":0},{"$f":"(W899+W897*W898*W285)/('Base Numbers'!$C$5*'Base Numbers'!$C$6)","v":0},{"$f":"(X899+X897*X898*X285)/('Base Numbers'!$C$5*'Base Numbers'!$C$6)","v":0}]
[]
[{"$nulls":3},"SWIFT QUIVER"]
[{"$nulls":3},"total switf quiver time",{"$f":"E352*E280","v":0},0,0,0,0,0,0,0,0,0,0,0,0,0,0,0,0,0,0,0,null,"* use the conc calculaiton without action surge, which doesn't affect bonus actions"]
[{"$nulls":3},"bonus attacks attempted",{"$f":"E903","v":0},{"$f":"F903","v":0},0,0,0,0,0,0,0,0,0,0,0,0,0,0,0,0,0,0]
[{"$nulls":3},"two bonus attack ranged damage",{"$f":"E668","v":5.0171875},{"$f":"F668","v":6.6989859375},7.334637296853124,10.444762385416407,11.8609974896875,10.835852952290626,10.99232393309121,10.99232393309121,12.585141190078124,12.513330215820314,12.4415192415625,11.9090194313291,14.670984670946485,14.596575306431252,13.422403835742188,13.347242861484375,16.151675495423145,15.030792594580078,15.02957671875,14.935279453124998]
[{"$nulls":3},"typical bonus attack damage",{"$f":"E1598","v":0},{"$f":"F1598","v":0},0,0,0,0,0,0,0,0,0,0,0,0,0,0,0,0,0,0]
[{"$nulls":3},"damage gain per bonus action",{"$f":"E905-E906","v":5.0171875},{"$f":"F905-F906","v":6.6989859375},7.334637296853124,10.444762385416407,11.8609974896875,10.835852952290626,10.99232393309121,10.99232393309121,12.585141190078124,12.513330215820314,12.4415192415625,11.9090194313291,14.670984670946485,14.596575306431252,13.422403835742188,13.347242861484375,16.151675495423145,15.030792594580078,15.02957671875,14.935279453124998]
[{"$nulls":3},"pct bonus actions used on Swift Quiver",{"$f":"E341*E904/('Base Numbers'!$C$5*'Base Numbers'!$C$6)","v":0},{"$f":"F341*F904/('Base Numbers'!$C$5*'Base Numbers'!$C$6)","v":0},{"$f":"G341*G904/('Base Numbers'!$C$5*'Base Numbers'!$C$6)","v":0},{"$f":"H341*H904/('Base Numbers'!$C$5*'Base Numbers'!$C$6)","v":0},{"$f":"I341*I904/('Base Numbers'!$C$5*'Base Numbers'!$C$6)","v":0},{"$f":"J341*J904/('Base Numbers'!$C$5*'Base Numbers'!$C$6)","v":0},{"$f":"K341*K904/('Base Numbers'!$C$5*'Base Numbers'!$C$6)","v":0},{"$f":"L341*L904/('Base Numbers'!$C$5*'Base Numbers'!$C$6)","v":0},{"$f":"M341*M904/('Base Numbers'!$C$5*'Base Numbers'!$C$6)","v":0},{"$f":"N341*N904/('Base Numbers'!$C$5*'Base Numbers'!$C$6)","v":0},{"$f":"O341*O904/('Base Numbers'!$C$5*'Base Numbers'!$C$6)","v":0},{"$f":"P341*P904/('Base Numbers'!$C$5*'Base Numbers'!$C$6)","v":0},{"$f":"Q341*Q904/('Base Numbers'!$C$5*'Base Numbers'!$C$6)","v":0},{"$f":"R341*R904/('Base Numbers'!$C$5*'Base Numbers'!$C$6)","v":0},{"$f":"S341*S904/('Base Numbers'!$C$5*'Base Numbers'!$C$6)","v":0},{"$f":"T341*T904/('Base Numbers'!$C$5*'Base Numbers'!$C$6)","v":0},{"$f":"U341*U904/('Base Numbers'!$C$5*'Base Numbers'!$C$6)","v":0},{"$f":"V341*V904/('Base Numbers'!$C$5*'Base Numbers'!$C$6)","v":0},{"$f":"W341*W904/('Base Numbers'!$C$5*'Base Numbers'!$C$6)","v":0},{"$f":"X341*X904/('Base Numbers'!$C$5*'Base Numbers'!$C$6)","v":0}]
[{"$nulls":3},"total damage gain per cast",{"$f":"MAX(0,E907)*E908","v":0},{"$f":"MAX(0,F907)*F908","v":0},0,0,0,0,0,0,0,0,0,0,0,0,0,0,0,0,0,0]
[]
[]
[{"$nulls":3},"SUMMONS"]
[{"$nulls":3},"summon beast slot",{"$f":"SpellOrder!CL12","v":0},{"$f":"SpellOrder!CM12","v":0},{"$f":"SpellOrder!CN12","v":0},{"$f":"SpellOrder!CO12","v":0},{"$f":"SpellOrder!CP12","v":0},{"$f":"SpellOrder!CQ12","v":0},{"$f":"SpellOrder!CR12","v":0},{"$f":"SpellOrder!CS12","v":0},{"$f":"SpellOrder!CT12","v":0},{"$f":"SpellOrder!CU12","v":0},{"$f":"SpellOrder!CV12","v":0},{"$f":"SpellOrder!CW12","v":0},{"$f":"SpellOrder!CX12","v":0},{"$f":"SpellOrder!CY12","v":0},{"$f":"SpellOrder!CZ12","v":0},{"$f":"SpellOrder!DA12","v":0},{"$f":"SpellOrder!DB12","v":0},{"$f":"SpellOrder!DC12","v":0},{"$f":"SpellOrder!DD12","v":0},{"$f":"SpellOrder!DE12","v":0}]
[{"$nulls":3},"s. beast hp (flying)",{"$f":"IF(E913>=2,20+(E913-2)*5+E1365+E1415,0)","v":0},0,0,0,0,0,0,0,0,0,0,0,0,0,0,0,0,0,0,0]
[{"$nulls":3},"s. beast damage per attack",{"$f":"IF(E913>=2,8.5+E913,0)","v":0},{"$f":"IF(F913>=2,8.5+F913,0)","v":0},0,0,0,0,0,0,0,0,0,0,0,0,0,0,0,0,0,0]
[{"$nulls":3},"s. beast number of attacks",{"$f":"IF(E913>=2,FLOOR(E913/2,1),0)","v":0},{"$f":"IF(F913>=2,FLOOR(F913/2,1),0)","v":0},0,0,0,0,0,0,0,0,0,0,0,0,0,0,0,0,0,0]
[{"$nulls":3},"s. beast one-die hit chance (WIS)",{"$f":"MIN(0.95,1-(E153-1-E38-E39-E422)/20)","v":0.65},0.65,0.6,0.6,0.65,0.6,0.6,0.6,0.6,0.6,0.6,0.55,0.6,0.6,0.55,0.55,0.6,0.55,0.55,0.55]
[{"$nulls":3},"s. beast avg adv pct (flying)",{"$f":"E442+E541+E474+E462","v":0},0,0,0,0,0,0,0,0,0,0,0,0,0,0,0,0,0,0,0]
[{"$nulls":3},"s. beast avg adv pct (melee, pack tactics)",{"$f":"MIN(1,E918+'Base Numbers'!$G$14^2+E462+E442+E541+E474)","v":0.6400000000000001},{"$f":"MIN(1,F918+'Base Numbers'!$G$14^2+F462+F442+F541+F474)","v":0.6400000000000001},{"$f":"MIN(1,G918+'Base Numbers'!$G$14^2+G462+G442+G541+G474)","v":0.6400000000000001},{"$f":"MIN(1,H918+'Base Numbers'!$G$14^2+H462+H442+H541+H474)","v":0.6400000000000001},{"$f":"MIN(1,I918+'Base Numbers'!$G$14^2+I462+I442+I541+I474)","v":0.6400000000000001},{"$f":"MIN(1,J918+'Base Numbers'!$G$14^2+J462+J442+J541+J474)","v":0.6400000000000001},{"$f":"MIN(1,K918+'Base Numbers'!$G$14^2+K462+K442+K541+K474)","v":0.6400000000000001},{"$f":"MIN(1,L918+'Base Numbers'!$G$14^2+L462+L442+L541+L474)","v":0.6400000000000001},{"$f":"MIN(1,M918+'Base Numbers'!$G$14^2+M462+M442+M541+M474)","v":0.6400000000000001},{"$f":"MIN(1,N918+'Base Numbers'!$G$14^2+N462+N442+N541+N474)","v":0.6400000000000001},{"$f":"MIN(1,O918+'Base Numbers'!$G$14^2+O462+O442+O541+O474)","v":0.6400000000000001},{"$f":"MIN(1,P918+'Base Numbers'!$G$14^2+P462+P442+P541+P474)","v":0.6400000000000001},{"$f":"MIN(1,Q918+'Base Numbers'!$G$14^2+Q462+Q442+Q541+Q474)","v":0.6400000000000001},{"$f":"MIN(1,R918+'Base Numbers'!$G$14^2+R462+R442+R541+R474)","v":0.6400000000000001},{"$f":"MIN(1,S918+'Base Numbers'!$G$14^2+S462+S442+S541+S474)","v":0.6400000000000001},{"$f":"MIN(1,T918+'Base Numbers'!$G$14^2+T462+T442+T541+T474)","v":0.6400000000000001},{"$f":"MIN(1,U918+'Base Numbers'!$G$14^2+U462+U442+U541+U474)","v":0.6400000000000001},{"$f":"MIN(1,V918+'Base Numbers'!$G$14^2+V462+V442+V541+V474)","v":0.6400000000000001},{"$f":"MIN(1,W918+'Base Numbers'!$G$14^2+W462+W442+W541+W474)","v":0.6400000000000001},{"$f":"MIN(1,X918+'Base Numbers'!$G$14^2+X462+X442+X541+X474)","v":0.6400000000000001}]
[{"$nulls":3},"s. beast hit chance (flying, melee spell attack)",{"$f":"E918*(1-(1-E917)^2)+(1-E918)*E917","v":0.65},{"$f":"F918*(1-(1-F917)^2)+(1-F918)*F917","v":0.65},0.6,0.6,0.65,0.6,0.6,0.6,0.6,0.6,0.6,0.55,0.6,0.6,0.55,0.55,0.6,0.55,0.55,0.55]
[{"$nulls":3},"s. beast hit chance (melee beast, melee spell attack)",{"$f":"E919*(1-(1-E917)^2)+(1-E919)*E917","v":0.7956000000000001},{"$f":"F919*(1-(1-F917)^2)+(1-F919)*F917","v":0.7956000000000001},0.7536,0.7536,0.7956000000000001,0.7536,0.7536,0.7536,0.7536,0.7536,0.7536,0.7084000000000001,0.7536,0.7536,0.7084000000000001,0.7084000000000001,0.7536,0.7084000000000001,0.7084000000000001,0.7084000000000001]
[{"$nulls":3},"s. beast crit chance (flying beast)",{"$f":"MIN(1,E918*(1-0.95^2)+(1-E918)*0.05+E542)","v":0.05},0.05,0.05,0.05,0.05,0.05,0.05,0.05,0.05,0.05,0.05,0.05,0.05,0.05,0.05,0.05,0.05,0.05,0.05,0.05]
[{"$nulls":3},"s. beast crit chance (melee beast)",{"$f":"MIN(1,E919*(1-0.95^2)+(1-E919)*0.05+E542)","v":0.08040000000000003},0.08040000000000003,0.08040000000000003,0.08040000000000003,0.08040000000000003,0.08040000000000003,0.08040000000000003,0.08040000000000003,0.08040000000000003,0.08040000000000003,0.08040000000000003,0.08040000000000003,0.08040000000000003,0.08040000000000003,0.08040000000000003,0.08040000000000003,0.08040000000000003,0.08040000000000003,0.08040000000000003,0.08040000000000003]
[{"$nulls":3},"s. beast pct opponent's damage received (arbitrary, flyby)",0.2,0.2,0.2,0.2,0.2,0.2,0.2,0.2,0.2,0.2,0.2,0.2,0.2,0.2,0.2,0.2,0.2,0.2,0.2,0.2]
[{"$nulls":3},"s. beast pct opponent's damage received (arbitrary, melee)",0.5,0.5,0.5,0.5,0.5,0.5,0.5,0.5,0.5,0.5,0.5,0.5,0.5,0.5,0.5,0.5,0.5,0.5,0.5,0.5]
[{"$nulls":3},"s. beast uptime (flying)",{"$f":"MIN(IF(E1364,2*'Base Numbers'!$C$6,E358+1),2*'Base Numbers'!$C$6,ROUND(E914/(E924*'Caster Tables'!C79),2))*E302","v":0},{"$f":"MIN(IF(F1364,2*'Base Numbers'!$C$6,F358+1),2*'Base Numbers'!$C$6,ROUND(F914/(F924*'Caster Tables'!D79),2))*F302","v":0},{"$f":"MIN(IF(G1364,2*'Base Numbers'!$C$6,G358+1),2*'Base Numbers'!$C$6,ROUND(G914/(G924*'Caster Tables'!E79),2))*G302","v":0},{"$f":"MIN(IF(H1364,2*'Base Numbers'!$C$6,H358+1),2*'Base Numbers'!$C$6,ROUND(H914/(H924*'Caster Tables'!F79),2))*H302","v":0},{"$f":"MIN(IF(I1364,2*'Base Numbers'!$C$6,I358+1),2*'Base Numbers'!$C$6,ROUND(I914/(I924*'Caster Tables'!G79),2))*I302","v":0},{"$f":"MIN(IF(J1364,2*'Base Numbers'!$C$6,J358+1),2*'Base Numbers'!$C$6,ROUND(J914/(J924*'Caster Tables'!H79),2))*J302","v":0},{"$f":"MIN(IF(K1364,2*'Base Numbers'!$C$6,K358+1),2*'Base Numbers'!$C$6,ROUND(K914/(K924*'Caster Tables'!I79),2))*K302","v":0},{"$f":"MIN(IF(L1364,2*'Base Numbers'!$C$6,L358+1),2*'Base Numbers'!$C$6,ROUND(L914/(L924*'Caster Tables'!J79),2))*L302","v":0},{"$f":"MIN(IF(M1364,2*'Base Numbers'!$C$6,M358+1),2*'Base Numbers'!$C$6,ROUND(M914/(M924*'Caster Tables'!K79),2))*M302","v":0},{"$f":"MIN(IF(N1364,2*'Base Numbers'!$C$6,N358+1),2*'Base Numbers'!$C$6,ROUND(N914/(N924*'Caster Tables'!L79),2))*N302","v":0},{"$f":"MIN(IF(O1364,2*'Base Numbers'!$C$6,O358+1),2*'Base Numbers'!$C$6,ROUND(O914/(O924*'Caster Tables'!M79),2))*O302","v":0},{"$f":"MIN(IF(P1364,2*'Base Numbers'!$C$6,P358+1),2*'Base Numbers'!$C$6,ROUND(P914/(P924*'Caster Tables'!N79),2))*P302","v":0},{"$f":"MIN(IF(Q1364,2*'Base Numbers'!$C$6,Q358+1),2*'Base Numbers'!$C$6,ROUND(Q914/(Q924*'Caster Tables'!O79),2))*Q302","v":0},{"$f":"MIN(IF(R1364,2*'Base Numbers'!$C$6,R358+1),2*'Base Numbers'!$C$6,ROUND(R914/(R924*'Caster Tables'!P79),2))*R302","v":0},{"$f":"MIN(IF(S1364,2*'Base Numbers'!$C$6,S358+1),2*'Base Numbers'!$C$6,ROUND(S914/(S924*'Caster Tables'!Q79),2))*S302","v":0},{"$f":"MIN(IF(T1364,2*'Base Numbers'!$C$6,T358+1),2*'Base Numbers'!$C$6,ROUND(T914/(T924*'Caster Tables'!R79),2))*T302","v":0},{"$f":"MIN(IF(U1364,2*'Base Numbers'!$C$6,U358+1),2*'Base Numbers'!$C$6,ROUND(U914/(U924*'Caster Tables'!S79),2))*U302","v":0},{"$f":"MIN(IF(V1364,2*'Base Numbers'!$C$6,V358+1),2*'Base Numbers'!$C$6,ROUND(V914/(V924*'Caster Tables'!T79),2))*V302","v":0},{"$f":"MIN(IF(W1364,2*'Base Numbers'!$C$6,W358+1),2*'Base Numbers'!$C$6,ROUND(W914/(W924*'Caster Tables'!U79),2))*W302","v":0},{"$f":"MIN(IF(X1364,2*'Base Numbers'!$C$6,X358+1),2*'Base Numbers'!$C$6,ROUND(X914/(X924*'Caster Tables'!V79),2))*X302","v":0},null,"max uptime is 2 total fights for 1 hour summons"]
[{"$nulls":3},"s. beast uptime (melee)",{"$f":"MIN(IF(E1364,2*'Base Numbers'!$C$6,E358+1),2*'Base Numbers'!$C$6,ROUND((10+E914)/(E925*'Caster Tables'!C79),2))*E302","v":0},{"$f":"MIN(IF(F1364,2*'Base Numbers'!$C$6,F358+1),2*'Base Numbers'!$C$6,ROUND((10+F914)/(F925*'Caster Tables'!D79),2))*F302","v":0},{"$f":"MIN(IF(G1364,2*'Base Numbers'!$C$6,G358+1),2*'Base Numbers'!$C$6,ROUND((10+G914)/(G925*'Caster Tables'!E79),2))*G302","v":0},{"$f":"MIN(IF(H1364,2*'Base Numbers'!$C$6,H358+1),2*'Base Numbers'!$C$6,ROUND((10+H914)/(H925*'Caster Tables'!F79),2))*H302","v":0},{"$f":"MIN(IF(I1364,2*'Base Numbers'!$C$6,I358+1),2*'Base Numbers'!$C$6,ROUND((10+I914)/(I925*'Caster Tables'!G79),2))*I302","v":0},{"$f":"MIN(IF(J1364,2*'Base Numbers'!$C$6,J358+1),2*'Base Numbers'!$C$6,ROUND((10+J914)/(J925*'Caster Tables'!H79),2))*J302","v":0},{"$f":"MIN(IF(K1364,2*'Base Numbers'!$C$6,K358+1),2*'Base Numbers'!$C$6,ROUND((10+K914)/(K925*'Caster Tables'!I79),2))*K302","v":0},{"$f":"MIN(IF(L1364,2*'Base Numbers'!$C$6,L358+1),2*'Base Numbers'!$C$6,ROUND((10+L914)/(L925*'Caster Tables'!J79),2))*L302","v":0},{"$f":"MIN(IF(M1364,2*'Base Numbers'!$C$6,M358+1),2*'Base Numbers'!$C$6,ROUND((10+M914)/(M925*'Caster Tables'!K79),2))*M302","v":0},{"$f":"MIN(IF(N1364,2*'Base Numbers'!$C$6,N358+1),2*'Base Numbers'!$C$6,ROUND((10+N914)/(N925*'Caster Tables'!L79),2))*N302","v":0},{"$f":"MIN(IF(O1364,2*'Base Numbers'!$C$6,O358+1),2*'Base Numbers'!$C$6,ROUND((10+O914)/(O925*'Caster Tables'!M79),2))*O302","v":0},{"$f":"MIN(IF(P1364,2*'Base Numbers'!$C$6,P358+1),2*'Base Numbers'!$C$6,ROUND((10+P914)/(P925*'Caster Tables'!N79),2))*P302","v":0},{"$f":"MIN(IF(Q1364,2*'Base Numbers'!$C$6,Q358+1),2*'Base Numbers'!$C$6,ROUND((10+Q914)/(Q925*'Caster Tables'!O79),2))*Q302","v":0},{"$f":"MIN(IF(R1364,2*'Base Numbers'!$C$6,R358+1),2*'Base Numbers'!$C$6,ROUND((10+R914)/(R925*'Caster Tables'!P79),2))*R302","v":0},{"$f":"MIN(IF(S1364,2*'Base Numbers'!$C$6,S358+1),2*'Base Numbers'!$C$6,ROUND((10+S914)/(S925*'Caster Tables'!Q79),2))*S302","v":0},{"$f":"MIN(IF(T1364,2*'Base Numbers'!$C$6,T358+1),2*'Base Numbers'!$C$6,ROUND((10+T914)/(T925*'Caster Tables'!R79),2))*T302","v":0},{"$f":"MIN(IF(U1364,2*'Base Numbers'!$C$6,U358+1),2*'Base Numbers'!$C$6,ROUND((10+U914)/(U925*'Caster Tables'!S79),2))*U302","v":0},{"$f":"MIN(IF(V1364,2*'Base Numbers'!$C$6,V358+1),2*'Base Numbers'!$C$6,ROUND((10+V914)/(V925*'Caster Tables'!T79),2))*V302","v":0},{"$f":"MIN(IF(W1364,2*'Base Numbers'!$C$6,W358+1),2*'Base Numbers'!$C$6,ROUND((10+W914)/(W925*'Caster Tables'!U79),2))*W302","v":0},{"$f":"MIN(IF(X1364,2*'Base Numbers'!$C$6,X358+1),2*'Base Numbers'!$C$6,ROUND((10+X914)/(X925*'Caster Tables'!V79),2))*X302","v":0},null,"* includes concentration limit"]
[{"$nulls":3},"s. beast avg damage per round of uptime (flying)",{"$f":"E916*(E920*E915+E922*4.5)*IF(AND(E17>=6,E79>=1),1,'Caster Tables'!C$81)","v":0},{"$f":"F916*(F920*F915+F922*4.5)*IF(AND(F17>=6,F79>=1),1,'Caster Tables'!D$81)","v":0},{"$f":"G916*(G920*G915+G922*4.5)*IF(AND(G17>=6,G79>=1),1,'Caster Tables'!E$81)","v":0},{"$f":"H916*(H920*H915+H922*4.5)*IF(AND(H17>=6,H79>=1),1,'Caster Tables'!F$81)","v":0},{"$f":"I916*(I920*I915+I922*4.5)*IF(AND(I17>=6,I79>=1),1,'Caster Tables'!G$81)","v":0},{"$f":"J916*(J920*J915+J922*4.5)*IF(AND(J17>=6,J79>=1),1,'Caster Tables'!H$81)","v":0},{"$f":"K916*(K920*K915+K922*4.5)*IF(AND(K17>=6,K79>=1),1,'Caster Tables'!I$81)","v":0},{"$f":"L916*(L920*L915+L922*4.5)*IF(AND(L17>=6,L79>=1),1,'Caster Tables'!J$81)","v":0},{"$f":"M916*(M920*M915+M922*4.5)*IF(AND(M17>=6,M79>=1),1,'Caster Tables'!K$81)","v":0},{"$f":"N916*(N920*N915+N922*4.5)*IF(AND(N17>=6,N79>=1),1,'Caster Tables'!L$81)","v":0},{"$f":"O916*(O920*O915+O922*4.5)*IF(AND(O17>=6,O79>=1),1,'Caster Tables'!M$81)","v":0},{"$f":"P916*(P920*P915+P922*4.5)*IF(AND(P17>=6,P79>=1),1,'Caster Tables'!N$81)","v":0},{"$f":"Q916*(Q920*Q915+Q922*4.5)*IF(AND(Q17>=6,Q79>=1),1,'Caster Tables'!O$81)","v":0},{"$f":"R916*(R920*R915+R922*4.5)*IF(AND(R17>=6,R79>=1),1,'Caster Tables'!P$81)","v":0},{"$f":"S916*(S920*S915+S922*4.5)*IF(AND(S17>=6,S79>=1),1,'Caster Tables'!Q$81)","v":0},{"$f":"T916*(T920*T915+T922*4.5)*IF(AND(T17>=6,T79>=1),1,'Caster Tables'!R$81)","v":0},{"$f":"U916*(U920*U915+U922*4.5)*IF(AND(U17>=6,U79>=1),1,'Caster Tables'!S$81)","v":0},{"$f":"V916*(V920*V915+V922*4.5)*IF(AND(V17>=6,V79>=1),1,'Caster Tables'!T$81)","v":0},{"$f":"W916*(W920*W915+W922*4.5)*IF(AND(W17>=6,W79>=1),1,'Caster Tables'!U$81)","v":0},{"$f":"X916*(X920*X915+X922*4.5)*IF(AND(X17>=6,X79>=1),1,'Caster Tables'!V$81)","v":0},null,"* reduced by pct of monsters resistant to nonmagical attacks"]
[{"$nulls":3},"s. beast avg damage per round of uptime (melee)",{"$f":"E916*(E921*E915+E923*4.5)*IF(AND(E17>=6,E79>=1),1,'Caster Tables'!C$81)","v":0},{"$f":"F916*(F921*F915+F923*4.5)*IF(AND(F17>=6,F79>=1),1,'Caster Tables'!D$81)","v":0},{"$f":"G916*(G921*G915+G923*4.5)*IF(AND(G17>=6,G79>=1),1,'Caster Tables'!E$81)","v":0},{"$f":"H916*(H921*H915+H923*4.5)*IF(AND(H17>=6,H79>=1),1,'Caster Tables'!F$81)","v":0},{"$f":"I916*(I921*I915+I923*4.5)*IF(AND(I17>=6,I79>=1),1,'Caster Tables'!G$81)","v":0},{"$f":"J916*(J921*J915+J923*4.5)*IF(AND(J17>=6,J79>=1),1,'Caster Tables'!H$81)","v":0},{"$f":"K916*(K921*K915+K923*4.5)*IF(AND(K17>=6,K79>=1),1,'Caster Tables'!I$81)","v":0},{"$f":"L916*(L921*L915+L923*4.5)*IF(AND(L17>=6,L79>=1),1,'Caster Tables'!J$81)","v":0},{"$f":"M916*(M921*M915+M923*4.5)*IF(AND(M17>=6,M79>=1),1,'Caster Tables'!K$81)","v":0},{"$f":"N916*(N921*N915+N923*4.5)*IF(AND(N17>=6,N79>=1),1,'Caster Tables'!L$81)","v":0},{"$f":"O916*(O921*O915+O923*4.5)*IF(AND(O17>=6,O79>=1),1,'Caster Tables'!M$81)","v":0},{"$f":"P916*(P921*P915+P923*4.5)*IF(AND(P17>=6,P79>=1),1,'Caster Tables'!N$81)","v":0},{"$f":"Q916*(Q921*Q915+Q923*4.5)*IF(AND(Q17>=6,Q79>=1),1,'Caster Tables'!O$81)","v":0},{"$f":"R916*(R921*R915+R923*4.5)*IF(AND(R17>=6,R79>=1),1,'Caster Tables'!P$81)","v":0},{"$f":"S916*(S921*S915+S923*4.5)*IF(AND(S17>=6,S79>=1),1,'Caster Tables'!Q$81)","v":0},{"$f":"T916*(T921*T915+T923*4.5)*IF(AND(T17>=6,T79>=1),1,'Caster Tables'!R$81)","v":0},{"$f":"U916*(U921*U915+U923*4.5)*IF(AND(U17>=6,U79>=1),1,'Caster Tables'!S$81)","v":0},{"$f":"V916*(V921*V915+V923*4.5)*IF(AND(V17>=6,V79>=1),1,'Caster Tables'!T$81)","v":0},{"$f":"W916*(W921*W915+W923*4.5)*IF(AND(W17>=6,W79>=1),1,'Caster Tables'!U$81)","v":0},{"$f":"X916*(X921*X915+X923*4.5)*IF(AND(X17>=6,X79>=1),1,'Caster Tables'!V$81)","v":0}]
[{"$nulls":3},"s. beast avg damage per round (incl uptime, flying)",{"$f":"E928*E926/('Base Numbers'!$C$5*'Base Numbers'!$C$6)","v":0},{"$f":"F928*F926/('Base Numbers'!$C$5*'Base Numbers'!$C$6)","v":0},{"$f":"G928*G926/('Base Numbers'!$C$5*'Base Numbers'!$C$6)","v":0},{"$f":"H928*H926/('Base Numbers'!$C$5*'Base Numbers'!$C$6)","v":0},{"$f":"I928*I926/('Base Numbers'!$C$5*'Base Numbers'!$C$6)","v":0},{"$f":"J928*J926/('Base Numbers'!$C$5*'Base Numbers'!$C$6)","v":0},{"$f":"K928*K926/('Base Numbers'!$C$5*'Base Numbers'!$C$6)","v":0},{"$f":"L928*L926/('Base Numbers'!$C$5*'Base Numbers'!$C$6)","v":0},{"$f":"M928*M926/('Base Numbers'!$C$5*'Base Numbers'!$C$6)","v":0},{"$f":"N928*N926/('Base Numbers'!$C$5*'Base Numbers'!$C$6)","v":0},{"$f":"O928*O926/('Base Numbers'!$C$5*'Base Numbers'!$C$6)","v":0},{"$f":"P928*P926/('Base Numbers'!$C$5*'Base Numbers'!$C$6)","v":0},{"$f":"Q928*Q926/('Base Numbers'!$C$5*'Base Numbers'!$C$6)","v":0},{"$f":"R928*R926/('Base Numbers'!$C$5*'Base Numbers'!$C$6)","v":0},{"$f":"S928*S926/('Base Numbers'!$C$5*'Base Numbers'!$C$6)","v":0},{"$f":"T928*T926/('Base Numbers'!$C$5*'Base Numbers'!$C$6)","v":0},{"$f":"U928*U926/('Base Numbers'!$C$5*'Base Numbers'!$C$6)","v":0},{"$f":"V928*V926/('Base Numbers'!$C$5*'Base Numbers'!$C$6)","v":0},{"$f":"W928*W926/('Base Numbers'!$C$5*'Base Numbers'!$C$6)","v":0},{"$f":"X928*X926/('Base Numbers'!$C$5*'Base Numbers'!$C$6)","v":0}]
[{"$nulls":3},"s. beast avg damage per round (incl uptime, melee)",{"$f":"E929*E927/('Base Numbers'!$C$5*'Base Numbers'!$C$6)","v":0},{"$f":"F929*F927/('Base Numbers'!$C$5*'Base Numbers'!$C$6)","v":0},{"$f":"G929*G927/('Base Numbers'!$C$5*'Base Numbers'!$C$6)","v":0},{"$f":"H929*H927/('Base Numbers'!$C$5*'Base Numbers'!$C$6)","v":0},{"$f":"I929*I927/('Base Numbers'!$C$5*'Base Numbers'!$C$6)","v":0},{"$f":"J929*J927/('Base Numbers'!$C$5*'Base Numbers'!$C$6)","v":0},{"$f":"K929*K927/('Base Numbers'!$C$5*'Base Numbers'!$C$6)","v":0},{"$f":"L929*L927/('Base Numbers'!$C$5*'Base Numbers'!$C$6)","v":0},{"$f":"M929*M927/('Base Numbers'!$C$5*'Base Numbers'!$C$6)","v":0},{"$f":"N929*N927/('Base Numbers'!$C$5*'Base Numbers'!$C$6)","v":0},{"$f":"O929*O927/('Base Numbers'!$C$5*'Base Numbers'!$C$6)","v":0},{"$f":"P929*P927/('Base Numbers'!$C$5*'Base Numbers'!$C$6)","v":0},{"$f":"Q929*Q927/('Base Numbers'!$C$5*'Base Numbers'!$C$6)","v":0},{"$f":"R929*R927/('Base Numbers'!$C$5*'Base Numbers'!$C$6)","v":0},{"$f":"S929*S927/('Base Numbers'!$C$5*'Base Numbers'!$C$6)","v":0},{"$f":"T929*T927/('Base Numbers'!$C$5*'Base Numbers'!$C$6)","v":0},{"$f":"U929*U927/('Base Numbers'!$C$5*'Base Numbers'!$C$6)","v":0},{"$f":"V929*V927/('Base Numbers'!$C$5*'Base Numbers'!$C$6)","v":0},{"$f":"W929*W927/('Base Numbers'!$C$5*'Base Numbers'!$C$6)","v":0},{"$f":"X929*X927/('Base Numbers'!$C$5*'Base Numbers'!$C$6)","v":0}]
[{"$nulls":3},"s. beast best beast dmg per round avg",{"$f":"MAX(E930:E931)","v":0},{"$f":"MAX(F930:F931)","v":0},0,0,0,0,0,0,0,0,0,0,0,0,0,0,0,0,0,0]
[]
[{"$nulls":3},"summon fey slot",{"$f":"SpellOrder!CL13","v":0},{"$f":"SpellOrder!CM13","v":0},{"$f":"SpellOrder!CN13","v":0},{"$f":"SpellOrder!CO13","v":0},{"$f":"SpellOrder!CP13","v":0},{"$f":"SpellOrder!CQ13","v":0},{"$f":"SpellOrder!CR13","v":0},{"$f":"SpellOrder!CS13","v":0},{"$f":"SpellOrder!CT13","v":0},{"$f":"SpellOrder!CU13","v":0},{"$f":"SpellOrder!CV13","v":0},{"$f":"SpellOrder!CW13","v":0},{"$f":"SpellOrder!CX13","v":0},{"$f":"SpellOrder!CY13","v":0},{"$f":"SpellOrder!CZ13","v":0},{"$f":"SpellOrder!DA13","v":0},{"$f":"SpellOrder!DB13","v":0},{"$f":"SpellOrder!DC13","v":0},{"$f":"SpellOrder!DD13","v":0},{"$f":"SpellOrder!DE13","v":0}]
[{"$nulls":3},"s. fey hp",{"$f":"IF(E934>=3,30+(E934-3)*10+E1365+E1415,0)","v":0},0,0,0,0,0,0,0,0,0,0,0,0,0,0,0,0,0,0,0]
[{"$nulls":3},"s. fey damage per attack",{"$f":"IF(E934>=3,10+E934,0)","v":0},{"$f":"IF(F934>=3,10+F934,0)","v":0},0,0,0,0,0,0,0,0,0,0,0,0,0,0,0,0,0,0]
[{"$nulls":3},"s. fey number of attacks",{"$f":"IF(E934>=3,FLOOR(E934/2,1),0)","v":0},{"$f":"IF(F934>=3,FLOOR(F934/2,1),0)","v":0},0,0,0,0,0,0,0,0,0,0,0,0,0,0,0,0,0,0]
[{"$nulls":3},"s. fey avg adv pct (fuming)",{"$f":"MIN(1,E442+E541+E474+E462+IF(E937>0,1/E937,0))","v":0},0,0,0,0,0,0,0,0,0,0,0,0,0,0,0,0,0,0,0]
[{"$nulls":3},"s. fey hit chance (melee spell attack)",{"$f":"E938*(1-(1-E424)^2)+(1-E938)*E424","v":0.65},0.65,0.6,0.6,0.65,0.6,0.6,0.6,0.6,0.6,0.6,0.55,0.6,0.6,0.55,0.55,0.6,0.55,0.55,0.55]
[{"$nulls":3},"s. fey crit chance (fuming)",{"$f":"MIN(1,E938*(1-0.95^2)+(1-E938)*0.05+E542)","v":0.05},0.05,0.05,0.05,0.05,0.05,0.05,0.05,0.05,0.05,0.05,0.05,0.05,0.05,0.05,0.05,0.05,0.05,0.05,0.05]
[{"$nulls":3},"s. fey uptime",{"$f":"MIN(IF(E1364,2*'Base Numbers'!$C$6,E358+1),2*'Base Numbers'!$C$6,ROUND((10+E935)/(E925*'Caster Tables'!C79),2))*E303","v":0},{"$f":"MIN(IF(F1364,2*'Base Numbers'!$C$6,F358+1),2*'Base Numbers'!$C$6,ROUND((10+F935)/(F925*'Caster Tables'!D79),2))*F303","v":0},{"$f":"MIN(IF(G1364,2*'Base Numbers'!$C$6,G358+1),2*'Base Numbers'!$C$6,ROUND((10+G935)/(G925*'Caster Tables'!E79),2))*G303","v":0},{"$f":"MIN(IF(H1364,2*'Base Numbers'!$C$6,H358+1),2*'Base Numbers'!$C$6,ROUND((10+H935)/(H925*'Caster Tables'!F79),2))*H303","v":0},{"$f":"MIN(IF(I1364,2*'Base Numbers'!$C$6,I358+1),2*'Base Numbers'!$C$6,ROUND((10+I935)/(I925*'Caster Tables'!G79),2))*I303","v":0},{"$f":"MIN(IF(J1364,2*'Base Numbers'!$C$6,J358+1),2*'Base Numbers'!$C$6,ROUND((10+J935)/(J925*'Caster Tables'!H79),2))*J303","v":0},{"$f":"MIN(IF(K1364,2*'Base Numbers'!$C$6,K358+1),2*'Base Numbers'!$C$6,ROUND((10+K935)/(K925*'Caster Tables'!I79),2))*K303","v":0},{"$f":"MIN(IF(L1364,2*'Base Numbers'!$C$6,L358+1),2*'Base Numbers'!$C$6,ROUND((10+L935)/(L925*'Caster Tables'!J79),2))*L303","v":0},{"$f":"MIN(IF(M1364,2*'Base Numbers'!$C$6,M358+1),2*'Base Numbers'!$C$6,ROUND((10+M935)/(M925*'Caster Tables'!K79),2))*M303","v":0},{"$f":"MIN(IF(N1364,2*'Base Numbers'!$C$6,N358+1),2*'Base Numbers'!$C$6,ROUND((10+N935)/(N925*'Caster Tables'!L79),2))*N303","v":0},{"$f":"MIN(IF(O1364,2*'Base Numbers'!$C$6,O358+1),2*'Base Numbers'!$C$6,ROUND((10+O935)/(O925*'Caster Tables'!M79),2))*O303","v":0},{"$f":"MIN(IF(P1364,2*'Base Numbers'!$C$6,P358+1),2*'Base Numbers'!$C$6,ROUND((10+P935)/(P925*'Caster Tables'!N79),2))*P303","v":0},{"$f":"MIN(IF(Q1364,2*'Base Numbers'!$C$6,Q358+1),2*'Base Numbers'!$C$6,ROUND((10+Q935)/(Q925*'Caster Tables'!O79),2))*Q303","v":0},{"$f":"MIN(IF(R1364,2*'Base Numbers'!$C$6,R358+1),2*'Base Numbers'!$C$6,ROUND((10+R935)/(R925*'Caster Tables'!P79),2))*R303","v":0},{"$f":"MIN(IF(S1364,2*'Base Numbers'!$C$6,S358+1),2*'Base Numbers'!$C$6,ROUND((10+S935)/(S925*'Caster Tables'!Q79),2))*S303","v":0},{"$f":"MIN(IF(T1364,2*'Base Numbers'!$C$6,T358+1),2*'Base Numbers'!$C$6,ROUND((10+T935)/(T925*'Caster Tables'!R79),2))*T303","v":0},{"$f":"MIN(IF(U1364,2*'Base Numbers'!$C$6,U358+1),2*'Base Numbers'!$C$6,ROUND((10+U935)/(U925*'Caster Tables'!S79),2))*U303","v":0},{"$f":"MIN(IF(V1364,2*'Base Numbers'!$C$6,V358+1),2*'Base Numbers'!$C$6,ROUND((10+V935)/(V925*'Caster Tables'!T79),2))*V303","v":0},{"$f":"MIN(IF(W1364,2*'Base Numbers'!$C$6,W358+1),2*'Base Numbers'!$C$6,ROUND((10+W935)/(W925*'Caster Tables'!U79),2))*W303","v":0},{"$f":"MIN(IF(X1364,2*'Base Numbers'!$C$6,X358+1),2*'Base Numbers'!$C$6,ROUND((10+X935)/(X925*'Caster Tables'!V79),2))*X303","v":0}]
[{"$nulls":3},"s. fey avg damage per round of uptime",{"$f":"E937*(E939*(E936-3.5)+E940*3.5)*IF(AND(E17>=6,E79>=1),1,'Caster Tables'!C$81)+E937*(E939*3.5+E940*3.5)","v":0},{"$f":"F937*(F939*(F936-3.5)+F940*3.5)*IF(AND(F17>=6,F79>=1),1,'Caster Tables'!D$81)+F937*(F939*3.5+F940*3.5)","v":0},{"$f":"G937*(G939*(G936-3.5)+G940*3.5)*IF(AND(G17>=6,G79>=1),1,'Caster Tables'!E$81)+G937*(G939*3.5+G940*3.5)","v":0},{"$f":"H937*(H939*(H936-3.5)+H940*3.5)*IF(AND(H17>=6,H79>=1),1,'Caster Tables'!F$81)+H937*(H939*3.5+H940*3.5)","v":0},{"$f":"I937*(I939*(I936-3.5)+I940*3.5)*IF(AND(I17>=6,I79>=1),1,'Caster Tables'!G$81)+I937*(I939*3.5+I940*3.5)","v":0},{"$f":"J937*(J939*(J936-3.5)+J940*3.5)*IF(AND(J17>=6,J79>=1),1,'Caster Tables'!H$81)+J937*(J939*3.5+J940*3.5)","v":0},{"$f":"K937*(K939*(K936-3.5)+K940*3.5)*IF(AND(K17>=6,K79>=1),1,'Caster Tables'!I$81)+K937*(K939*3.5+K940*3.5)","v":0},{"$f":"L937*(L939*(L936-3.5)+L940*3.5)*IF(AND(L17>=6,L79>=1),1,'Caster Tables'!J$81)+L937*(L939*3.5+L940*3.5)","v":0},{"$f":"M937*(M939*(M936-3.5)+M940*3.5)*IF(AND(M17>=6,M79>=1),1,'Caster Tables'!K$81)+M937*(M939*3.5+M940*3.5)","v":0},{"$f":"N937*(N939*(N936-3.5)+N940*3.5)*IF(AND(N17>=6,N79>=1),1,'Caster Tables'!L$81)+N937*(N939*3.5+N940*3.5)","v":0},{"$f":"O937*(O939*(O936-3.5)+O940*3.5)*IF(AND(O17>=6,O79>=1),1,'Caster Tables'!M$81)+O937*(O939*3.5+O940*3.5)","v":0},{"$f":"P937*(P939*(P936-3.5)+P940*3.5)*IF(AND(P17>=6,P79>=1),1,'Caster Tables'!N$81)+P937*(P939*3.5+P940*3.5)","v":0},{"$f":"Q937*(Q939*(Q936-3.5)+Q940*3.5)*IF(AND(Q17>=6,Q79>=1),1,'Caster Tables'!O$81)+Q937*(Q939*3.5+Q940*3.5)","v":0},{"$f":"R937*(R939*(R936-3.5)+R940*3.5)*IF(AND(R17>=6,R79>=1),1,'Caster Tables'!P$81)+R937*(R939*3.5+R940*3.5)","v":0},{"$f":"S937*(S939*(S936-3.5)+S940*3.5)*IF(AND(S17>=6,S79>=1),1,'Caster Tables'!Q$81)+S937*(S939*3.5+S940*3.5)","v":0},{"$f":"T937*(T939*(T936-3.5)+T940*3.5)*IF(AND(T17>=6,T79>=1),1,'Caster Tables'!R$81)+T937*(T939*3.5+T940*3.5)","v":0},{"$f":"U937*(U939*(U936-3.5)+U940*3.5)*IF(AND(U17>=6,U79>=1),1,'Caster Tables'!S$81)+U937*(U939*3.5+U940*3.5)","v":0},{"$f":"V937*(V939*(V936-3.5)+V940*3.5)*IF(AND(V17>=6,V79>=1),1,'Caster Tables'!T$81)+V937*(V939*3.5+V940*3.5)","v":0},{"$f":"W937*(W939*(W936-3.5)+W940*3.5)*IF(AND(W17>=6,W79>=1),1,'Caster Tables'!U$81)+W937*(W939*3.5+W940*3.5)","v":0},{"$f":"X937*(X939*(X936-3.5)+X940*3.5)*IF(AND(X17>=6,X79>=1),1,'Caster Tables'!V$81)+X937*(X939*3.5+X940*3.5)","v":0},null,"* deals mixed piercing and force; piercing portion is reduced by monsters resistant to nonmagical weapons"]
[{"$nulls":3},"s. fey avg damage per round (incl uptime)",{"$f":"E942*E941/('Base Numbers'!$C$5*'Base Numbers'!$C$6)","v":0},{"$f":"F942*F941/('Base Numbers'!$C$5*'Base Numbers'!$C$6)","v":0},{"$f":"G942*G941/('Base Numbers'!$C$5*'Base Numbers'!$C$6)","v":0},{"$f":"H942*H941/('Base Numbers'!$C$5*'Base Numbers'!$C$6)","v":0},{"$f":"I942*I941/('Base Numbers'!$C$5*'Base Numbers'!$C$6)","v":0},{"$f":"J942*J941/('Base Numbers'!$C$5*'Base Numbers'!$C$6)","v":0},{"$f":"K942*K941/('Base Numbers'!$C$5*'Base Numbers'!$C$6)","v":0},{"$f":"L942*L941/('Base Numbers'!$C$5*'Base Numbers'!$C$6)","v":0},{"$f":"M942*M941/('Base Numbers'!$C$5*'Base Numbers'!$C$6)","v":0},{"$f":"N942*N941/('Base Numbers'!$C$5*'Base Numbers'!$C$6)","v":0},{"$f":"O942*O941/('Base Numbers'!$C$5*'Base Numbers'!$C$6)","v":0},{"$f":"P942*P941/('Base Numbers'!$C$5*'Base Numbers'!$C$6)","v":0},{"$f":"Q942*Q941/('Base Numbers'!$C$5*'Base Numbers'!$C$6)","v":0},{"$f":"R942*R941/('Base Numbers'!$C$5*'Base Numbers'!$C$6)","v":0},{"$f":"S942*S941/('Base Numbers'!$C$5*'Base Numbers'!$C$6)","v":0},{"$f":"T942*T941/('Base Numbers'!$C$5*'Base Numbers'!$C$6)","v":0},{"$f":"U942*U941/('Base Numbers'!$C$5*'Base Numbers'!$C$6)","v":0},{"$f":"V942*V941/('Base Numbers'!$C$5*'Base Numbers'!$C$6)","v":0},{"$f":"W942*W941/('Base Numbers'!$C$5*'Base Numbers'!$C$6)","v":0},{"$f":"X942*X941/('Base Numbers'!$C$5*'Base Numbers'!$C$6)","v":0}]
[]
[{"$nulls":3},"summon undead slot",{"$f":"SpellOrder!CL14","v":0},{"$f":"SpellOrder!CM14","v":0},{"$f":"SpellOrder!CN14","v":0},{"$f":"SpellOrder!CO14","v":0},{"$f":"SpellOrder!CP14","v":0},{"$f":"SpellOrder!CQ14","v":0},{"$f":"SpellOrder!CR14","v":0},{"$f":"SpellOrder!CS14","v":0},{"$f":"SpellOrder!CT14","v":0},{"$f":"SpellOrder!CU14","v":0},{"$f":"SpellOrder!CV14","v":0},{"$f":"SpellOrder!CW14","v":0},{"$f":"SpellOrder!CX14","v":0},{"$f":"SpellOrder!CY14","v":0},{"$f":"SpellOrder!CZ14","v":0},{"$f":"SpellOrder!DA14","v":0},{"$f":"SpellOrder!DB14","v":0},{"$f":"SpellOrder!DC14","v":0},{"$f":"SpellOrder!DD14","v":0},{"$f":"SpellOrder!DE14","v":0}]
[{"$nulls":3},"s. undead hp (skeleton)",{"$f":"IF(E945>=3,20+(E945-3)*10+E1365,0)","v":0},0,0,0,0,0,0,0,0,0,0,0,0,0,0,0,0,0,0,0]
[{"$nulls":3},"s. undead damage per attack (skeleton)",{"$f":"IF(E945>=3,8+E945,0)","v":0},{"$f":"IF(F945>=3,8+F945,0)","v":0},0,0,0,0,0,0,0,0,0,0,0,0,0,0,0,0,0,0]
[{"$nulls":3},"s. undead number of attacks",{"$f":"IF(E945>=3,FLOOR(E945/2,1),0)","v":0},{"$f":"IF(F945>=3,FLOOR(F945/2,1),0)","v":0},0,0,0,0,0,0,0,0,0,0,0,0,0,0,0,0,0,0]
[{"$nulls":3},"s. undead avg adv pct (skeleton)",{"$f":"E474+E462+E541","v":0},0,0,0,0,0,0,0,0,0,0,0,0,0,0,0,0,0,0,0]
[{"$nulls":3},"s. undead hit chance (ranged spell attack)",{"$f":"E949*(1-(1-E424)^2)+(1-E949)*E424","v":0.65},0.65,0.6,0.6,0.65,0.6,0.6,0.6,0.6,0.6,0.6,0.55,0.6,0.6,0.55,0.55,0.6,0.55,0.55,0.55]
[{"$nulls":3},"s. undead crit chance",{"$f":"MIN(1,E949*(1-0.95^2)+(1-E949)*0.05)","v":0.05},{"$f":"MIN(1,F949*(1-0.95^2)+(1-F949)*0.05)","v":0.05},0.05,0.05,0.05,0.05,0.05,0.05,0.05,0.05,0.05,0.05,0.05,0.05,0.05,0.05,0.05,0.05,0.05,0.05]
[{"$nulls":3},"s. undead uptime",{"$f":"MIN(IF(E1364,2*'Base Numbers'!$C$6,E358+1),2*'Base Numbers'!$C$6,ROUND(E946/(E924*'Caster Tables'!C$79),2))*E304","v":0},{"$f":"MIN(IF(F1364,2*'Base Numbers'!$C$6,F358+1),2*'Base Numbers'!$C$6,ROUND(F946/(F924*'Caster Tables'!D$79),2))*F304","v":0},{"$f":"MIN(IF(G1364,2*'Base Numbers'!$C$6,G358+1),2*'Base Numbers'!$C$6,ROUND(G946/(G924*'Caster Tables'!E$79),2))*G304","v":0},{"$f":"MIN(IF(H1364,2*'Base Numbers'!$C$6,H358+1),2*'Base Numbers'!$C$6,ROUND(H946/(H924*'Caster Tables'!F$79),2))*H304","v":0},{"$f":"MIN(IF(I1364,2*'Base Numbers'!$C$6,I358+1),2*'Base Numbers'!$C$6,ROUND(I946/(I924*'Caster Tables'!G$79),2))*I304","v":0},{"$f":"MIN(IF(J1364,2*'Base Numbers'!$C$6,J358+1),2*'Base Numbers'!$C$6,ROUND(J946/(J924*'Caster Tables'!H$79),2))*J304","v":0},{"$f":"MIN(IF(K1364,2*'Base Numbers'!$C$6,K358+1),2*'Base Numbers'!$C$6,ROUND(K946/(K924*'Caster Tables'!I$79),2))*K304","v":0},{"$f":"MIN(IF(L1364,2*'Base Numbers'!$C$6,L358+1),2*'Base Numbers'!$C$6,ROUND(L946/(L924*'Caster Tables'!J$79),2))*L304","v":0},{"$f":"MIN(IF(M1364,2*'Base Numbers'!$C$6,M358+1),2*'Base Numbers'!$C$6,ROUND(M946/(M924*'Caster Tables'!K$79),2))*M304","v":0},{"$f":"MIN(IF(N1364,2*'Base Numbers'!$C$6,N358+1),2*'Base Numbers'!$C$6,ROUND(N946/(N924*'Caster Tables'!L$79),2))*N304","v":0},{"$f":"MIN(IF(O1364,2*'Base Numbers'!$C$6,O358+1),2*'Base Numbers'!$C$6,ROUND(O946/(O924*'Caster Tables'!M$79),2))*O304","v":0},{"$f":"MIN(IF(P1364,2*'Base Numbers'!$C$6,P358+1),2*'Base Numbers'!$C$6,ROUND(P946/(P924*'Caster Tables'!N$79),2))*P304","v":0},{"$f":"MIN(IF(Q1364,2*'Base Numbers'!$C$6,Q358+1),2*'Base Numbers'!$C$6,ROUND(Q946/(Q924*'Caster Tables'!O$79),2))*Q304","v":0},{"$f":"MIN(IF(R1364,2*'Base Numbers'!$C$6,R358+1),2*'Base Numbers'!$C$6,ROUND(R946/(R924*'Caster Tables'!P$79),2))*R304","v":0},{"$f":"MIN(IF(S1364,2*'Base Numbers'!$C$6,S358+1),2*'Base Numbers'!$C$6,ROUND(S946/(S924*'Caster Tables'!Q$79),2))*S304","v":0},{"$f":"MIN(IF(T1364,2*'Base Numbers'!$C$6,T358+1),2*'Base Numbers'!$C$6,ROUND(T946/(T924*'Caster Tables'!R$79),2))*T304","v":0},{"$f":"MIN(IF(U1364,2*'Base Numbers'!$C$6,U358+1),2*'Base Numbers'!$C$6,ROUND(U946/(U924*'Caster Tables'!S$79),2))*U304","v":0},{"$f":"MIN(IF(V1364,2*'Base Numbers'!$C$6,V358+1),2*'Base Numbers'!$C$6,ROUND(V946/(V924*'Caster Tables'!T$79),2))*V304","v":0},{"$f":"MIN(IF(W1364,2*'Base Numbers'!$C$6,W358+1),2*'Base Numbers'!$C$6,ROUND(W946/(W924*'Caster Tables'!U$79),2))*W304","v":0},{"$f":"MIN(IF(X1364,2*'Base Numbers'!$C$6,X358+1),2*'Base Numbers'!$C$6,ROUND(X946/(X924*'Caster Tables'!V$79),2))*X304","v":0}]
[{"$nulls":3},"s. undead avg damage per round of uptime",{"$f":"E948*(E950*E947+E951*5)","v":0},{"$f":"F948*(F950*F947+F951*5)","v":0},0,0,0,0,0,0,0,0,0,0,0,0,0,0,0,0,0,0]
[{"$nulls":3},"s. undead avg damage per round (incl uptime)",{"$f":"E953*E952/('Base Numbers'!$C$5*'Base Numbers'!$C$6)","v":0},{"$f":"F953*F952/('Base Numbers'!$C$5*'Base Numbers'!$C$6)","v":0},{"$f":"G953*G952/('Base Numbers'!$C$5*'Base Numbers'!$C$6)","v":0},{"$f":"H953*H952/('Base Numbers'!$C$5*'Base Numbers'!$C$6)","v":0},{"$f":"I953*I952/('Base Numbers'!$C$5*'Base Numbers'!$C$6)","v":0},{"$f":"J953*J952/('Base Numbers'!$C$5*'Base Numbers'!$C$6)","v":0},{"$f":"K953*K952/('Base Numbers'!$C$5*'Base Numbers'!$C$6)","v":0},{"$f":"L953*L952/('Base Numbers'!$C$5*'Base Numbers'!$C$6)","v":0},{"$f":"M953*M952/('Base Numbers'!$C$5*'Base Numbers'!$C$6)","v":0},{"$f":"N953*N952/('Base Numbers'!$C$5*'Base Numbers'!$C$6)","v":0},{"$f":"O953*O952/('Base Numbers'!$C$5*'Base Numbers'!$C$6)","v":0},{"$f":"P953*P952/('Base Numbers'!$C$5*'Base Numbers'!$C$6)","v":0},{"$f":"Q953*Q952/('Base Numbers'!$C$5*'Base Numbers'!$C$6)","v":0},{"$f":"R953*R952/('Base Numbers'!$C$5*'Base Numbers'!$C$6)","v":0},{"$f":"S953*S952/('Base Numbers'!$C$5*'Base Numbers'!$C$6)","v":0},{"$f":"T953*T952/('Base Numbers'!$C$5*'Base Numbers'!$C$6)","v":0},{"$f":"U953*U952/('Base Numbers'!$C$5*'Base Numbers'!$C$6)","v":0},{"$f":"V953*V952/('Base Numbers'!$C$5*'Base Numbers'!$C$6)","v":0},{"$f":"W953*W952/('Base Numbers'!$C$5*'Base Numbers'!$C$6)","v":0},{"$f":"X953*X952/('Base Numbers'!$C$5*'Base Numbers'!$C$6)","v":0}]
[]
[{"$nulls":3},"summon aberration slot",{"$f":"SpellOrder!CL15","v":0},{"$f":"SpellOrder!CM15","v":0},{"$f":"SpellOrder!CN15","v":0},{"$f":"SpellOrder!CO15","v":0},{"$f":"SpellOrder!CP15","v":0},{"$f":"SpellOrder!CQ15","v":0},{"$f":"SpellOrder!CR15","v":0},{"$f":"SpellOrder!CS15","v":0},{"$f":"SpellOrder!CT15","v":0},{"$f":"SpellOrder!CU15","v":0},{"$f":"SpellOrder!CV15","v":0},{"$f":"SpellOrder!CW15","v":0},{"$f":"SpellOrder!CX15","v":0},{"$f":"SpellOrder!CY15","v":0},{"$f":"SpellOrder!CZ15","v":0},{"$f":"SpellOrder!DA15","v":0},{"$f":"SpellOrder!DB15","v":0},{"$f":"SpellOrder!DC15","v":0},{"$f":"SpellOrder!DD15","v":0},{"$f":"SpellOrder!DE15","v":0}]
[{"$nulls":3},"s. aberration hp",{"$f":"IF(E956>=4,40+(E956-4)*10+E1365,0)","v":0},0,0,0,0,0,0,0,0,0,0,0,0,0,0,0,0,0,0,0]
[{"$nulls":3},"s. aberration damage per attack",{"$f":"IF(E956>=4,7.5+E956,0)","v":0},0,0,0,0,0,0,0,0,0,0,0,0,0,0,0,0,0,0,0]
[{"$nulls":3},"s. aberration number of attacks",{"$f":"IF(E956>=4,FLOOR(E956/2,1),0)","v":0},0,0,0,0,0,0,0,0,0,0,0,0,0,0,0,0,0,0,0]
[{"$nulls":3},"s. aberration avg adv pct (beholderkin)",{"$f":"E474+E462+E541","v":0},0,0,0,0,0,0,0,0,0,0,0,0,0,0,0,0,0,0,0]
[{"$nulls":3},"s. aberration hit chance (ranged spell attack)",{"$f":"E960*(1-(1-E424)^2)+(1-E960)*E424","v":0.65},0.65,0.6,0.6,0.65,0.6,0.6,0.6,0.6,0.6,0.6,0.55,0.6,0.6,0.55,0.55,0.6,0.55,0.55,0.55]
[{"$nulls":3},"s. aberration crit chance",{"$f":"MIN(1,E960*(1-0.95^2)+(1-E960)*0.05)","v":0.05},{"$f":"MIN(1,F960*(1-0.95^2)+(1-F960)*0.05)","v":0.05},0.05,0.05,0.05,0.05,0.05,0.05,0.05,0.05,0.05,0.05,0.05,0.05,0.05,0.05,0.05,0.05,0.05,0.05]
[{"$nulls":3},"s. aberration uptime",{"$f":"MIN(IF(E1364,2*'Base Numbers'!$C$6,E358+1),2*'Base Numbers'!$C$6,ROUND(E957/(E924*'Caster Tables'!C$79),2))*E305","v":0},{"$f":"MIN(IF(F1364,2*'Base Numbers'!$C$6,F358+1),2*'Base Numbers'!$C$6,ROUND(F957/(F924*'Caster Tables'!D$79),2))*F305","v":0},{"$f":"MIN(IF(G1364,2*'Base Numbers'!$C$6,G358+1),2*'Base Numbers'!$C$6,ROUND(G957/(G924*'Caster Tables'!E$79),2))*G305","v":0},{"$f":"MIN(IF(H1364,2*'Base Numbers'!$C$6,H358+1),2*'Base Numbers'!$C$6,ROUND(H957/(H924*'Caster Tables'!F$79),2))*H305","v":0},{"$f":"MIN(IF(I1364,2*'Base Numbers'!$C$6,I358+1),2*'Base Numbers'!$C$6,ROUND(I957/(I924*'Caster Tables'!G$79),2))*I305","v":0},{"$f":"MIN(IF(J1364,2*'Base Numbers'!$C$6,J358+1),2*'Base Numbers'!$C$6,ROUND(J957/(J924*'Caster Tables'!H$79),2))*J305","v":0},{"$f":"MIN(IF(K1364,2*'Base Numbers'!$C$6,K358+1),2*'Base Numbers'!$C$6,ROUND(K957/(K924*'Caster Tables'!I$79),2))*K305","v":0},{"$f":"MIN(IF(L1364,2*'Base Numbers'!$C$6,L358+1),2*'Base Numbers'!$C$6,ROUND(L957/(L924*'Caster Tables'!J$79),2))*L305","v":0},{"$f":"MIN(IF(M1364,2*'Base Numbers'!$C$6,M358+1),2*'Base Numbers'!$C$6,ROUND(M957/(M924*'Caster Tables'!K$79),2))*M305","v":0},{"$f":"MIN(IF(N1364,2*'Base Numbers'!$C$6,N358+1),2*'Base Numbers'!$C$6,ROUND(N957/(N924*'Caster Tables'!L$79),2))*N305","v":0},{"$f":"MIN(IF(O1364,2*'Base Numbers'!$C$6,O358+1),2*'Base Numbers'!$C$6,ROUND(O957/(O924*'Caster Tables'!M$79),2))*O305","v":0},{"$f":"MIN(IF(P1364,2*'Base Numbers'!$C$6,P358+1),2*'Base Numbers'!$C$6,ROUND(P957/(P924*'Caster Tables'!N$79),2))*P305","v":0},{"$f":"MIN(IF(Q1364,2*'Base Numbers'!$C$6,Q358+1),2*'Base Numbers'!$C$6,ROUND(Q957/(Q924*'Caster Tables'!O$79),2))*Q305","v":0},{"$f":"MIN(IF(R1364,2*'Base Numbers'!$C$6,R358+1),2*'Base Numbers'!$C$6,ROUND(R957/(R924*'Caster Tables'!P$79),2))*R305","v":0},{"$f":"MIN(IF(S1364,2*'Base Numbers'!$C$6,S358+1),2*'Base Numbers'!$C$6,ROUND(S957/(S924*'Caster Tables'!Q$79),2))*S305","v":0},{"$f":"MIN(IF(T1364,2*'Base Numbers'!$C$6,T358+1),2*'Base Numbers'!$C$6,ROUND(T957/(T924*'Caster Tables'!R$79),2))*T305","v":0},{"$f":"MIN(IF(U1364,2*'Base Numbers'!$C$6,U358+1),2*'Base Numbers'!$C$6,ROUND(U957/(U924*'Caster Tables'!S$79),2))*U305","v":0},{"$f":"MIN(IF(V1364,2*'Base Numbers'!$C$6,V358+1),2*'Base Numbers'!$C$6,ROUND(V957/(V924*'Caster Tables'!T$79),2))*V305","v":0},{"$f":"MIN(IF(W1364,2*'Base Numbers'!$C$6,W358+1),2*'Base Numbers'!$C$6,ROUND(W957/(W924*'Caster Tables'!U$79),2))*W305","v":0},{"$f":"MIN(IF(X1364,2*'Base Numbers'!$C$6,X358+1),2*'Base Numbers'!$C$6,ROUND(X957/(X924*'Caster Tables'!V$79),2))*X305","v":0}]
[{"$nulls":3},"s. aberration avg damage per round of uptime",{"$f":"E959*(E961*E958+E962*4.5)","v":0},{"$f":"F959*(F961*F958+F962*4.5)","v":0},0,0,0,0,0,0,0,0,0,0,0,0,0,0,0,0,0,0]
[{"$nulls":3},"s. aberration avg damage per round (incl uptime)",{"$f":"E964*E963/('Base Numbers'!$C$5*'Base Numbers'!$C$6)","v":0},{"$f":"F964*F963/('Base Numbers'!$C$5*'Base Numbers'!$C$6)","v":0},{"$f":"G964*G963/('Base Numbers'!$C$5*'Base Numbers'!$C$6)","v":0},{"$f":"H964*H963/('Base Numbers'!$C$5*'Base Numbers'!$C$6)","v":0},{"$f":"I964*I963/('Base Numbers'!$C$5*'Base Numbers'!$C$6)","v":0},{"$f":"J964*J963/('Base Numbers'!$C$5*'Base Numbers'!$C$6)","v":0},{"$f":"K964*K963/('Base Numbers'!$C$5*'Base Numbers'!$C$6)","v":0},{"$f":"L964*L963/('Base Numbers'!$C$5*'Base Numbers'!$C$6)","v":0},{"$f":"M964*M963/('Base Numbers'!$C$5*'Base Numbers'!$C$6)","v":0},{"$f":"N964*N963/('Base Numbers'!$C$5*'Base Numbers'!$C$6)","v":0},{"$f":"O964*O963/('Base Numbers'!$C$5*'Base Numbers'!$C$6)","v":0},{"$f":"P964*P963/('Base Numbers'!$C$5*'Base Numbers'!$C$6)","v":0},{"$f":"Q964*Q963/('Base Numbers'!$C$5*'Base Numbers'!$C$6)","v":0},{"$f":"R964*R963/('Base Numbers'!$C$5*'Base Numbers'!$C$6)","v":0},{"$f":"S964*S963/('Base Numbers'!$C$5*'Base Numbers'!$C$6)","v":0},{"$f":"T964*T963/('Base Numbers'!$C$5*'Base Numbers'!$C$6)","v":0},{"$f":"U964*U963/('Base Numbers'!$C$5*'Base Numbers'!$C$6)","v":0},{"$f":"V964*V963/('Base Numbers'!$C$5*'Base Numbers'!$C$6)","v":0},{"$f":"W964*W963/('Base Numbers'!$C$5*'Base Numbers'!$C$6)","v":0},{"$f":"X964*X963/('Base Numbers'!$C$5*'Base Numbers'!$C$6)","v":0}]
[]
[{"$nulls":3},"summon construct slot",{"$f":"SpellOrder!CL16","v":0},{"$f":"SpellOrder!CM16","v":0},{"$f":"SpellOrder!CN16","v":0},{"$f":"SpellOrder!CO16","v":0},{"$f":"SpellOrder!CP16","v":0},{"$f":"SpellOrder!CQ16","v":0},{"$f":"SpellOrder!CR16","v":0},{"$f":"SpellOrder!CS16","v":0},{"$f":"SpellOrder!CT16","v":0},{"$f":"SpellOrder!CU16","v":0},{"$f":"SpellOrder!CV16","v":0},{"$f":"SpellOrder!CW16","v":0},{"$f":"SpellOrder!CX16","v":0},{"$f":"SpellOrder!CY16","v":0},{"$f":"SpellOrder!CZ16","v":0},{"$f":"SpellOrder!DA16","v":0},{"$f":"SpellOrder!DB16","v":0},{"$f":"SpellOrder!DC16","v":0},{"$f":"SpellOrder!DD16","v":0},{"$f":"SpellOrder!DE16","v":0}]
[{"$nulls":3},"s. construct hp",{"$f":"IF(E967>=4,40+(E967-4)*15+E1365,0)","v":0},0,0,0,0,0,0,0,0,0,0,0,0,0,0,0,0,0,0,0]
[{"$nulls":3},"s. construct damage per attack",{"$f":"IF(E967>=4,8.5+E967,0)","v":0},{"$f":"IF(F967>=4,8.5+F967,0)","v":0},0,0,0,0,0,0,0,0,0,0,0,{"$f":"IF(R967>=4,8.5+R967,0)","v":0},0,0,0,0,0,0]
[{"$nulls":3},"s. construct number of attacks (incl reactions)",{"$f":"IF(E967>=4,FLOOR(E967/2,1)+'Base Numbers'!$C$15,0)","v":0},{"$f":"IF(F967>=4,FLOOR(F967/2,1)+'Base Numbers'!$C$15,0)","v":0},{"$f":"IF(G967>=4,FLOOR(G967/2,1)+'Base Numbers'!$C$15,0)","v":0},{"$f":"IF(H967>=4,FLOOR(H967/2,1)+'Base Numbers'!$C$15,0)","v":0},{"$f":"IF(I967>=4,FLOOR(I967/2,1)+'Base Numbers'!$C$15,0)","v":0},{"$f":"IF(J967>=4,FLOOR(J967/2,1)+'Base Numbers'!$C$15,0)","v":0},{"$f":"IF(K967>=4,FLOOR(K967/2,1)+'Base Numbers'!$C$15,0)","v":0},{"$f":"IF(L967>=4,FLOOR(L967/2,1)+'Base Numbers'!$C$15,0)","v":0},{"$f":"IF(M967>=4,FLOOR(M967/2,1)+'Base Numbers'!$C$15,0)","v":0},{"$f":"IF(N967>=4,FLOOR(N967/2,1)+'Base Numbers'!$C$15,0)","v":0},{"$f":"IF(O967>=4,FLOOR(O967/2,1)+'Base Numbers'!$C$15,0)","v":0},{"$f":"IF(P967>=4,FLOOR(P967/2,1)+'Base Numbers'!$C$15,0)","v":0},{"$f":"IF(Q967>=4,FLOOR(Q967/2,1)+'Base Numbers'!$C$15,0)","v":0},{"$f":"IF(R967>=4,FLOOR(R967/2,1)+'Base Numbers'!$C$15,0)","v":0},{"$f":"IF(S967>=4,FLOOR(S967/2,1)+'Base Numbers'!$C$15,0)","v":0},{"$f":"IF(T967>=4,FLOOR(T967/2,1)+'Base Numbers'!$C$15,0)","v":0},{"$f":"IF(U967>=4,FLOOR(U967/2,1)+'Base Numbers'!$C$15,0)","v":0},{"$f":"IF(V967>=4,FLOOR(V967/2,1)+'Base Numbers'!$C$15,0)","v":0},{"$f":"IF(W967>=4,FLOOR(W967/2,1)+'Base Numbers'!$C$15,0)","v":0},{"$f":"IF(X967>=4,FLOOR(X967/2,1)+'Base Numbers'!$C$15,0)","v":0}]
[{"$nulls":3},"s. construct avg adv pct ",{"$f":"E442+E541+E474+E462","v":0},0,0,0,0,0,0,0,0,0,0,0,0,0,0,0,0,0,0,0]
[{"$nulls":3},"s. construct hit chance (melee spell attack)",{"$f":"E971*(1-(1-E424)^2)+(1-E971)*E424","v":0.65},0.65,0.6,0.6,0.65,0.6,0.6,0.6,0.6,0.6,0.6,0.55,0.6,0.6,0.55,0.55,0.6,0.55,0.55,0.55]
[{"$nulls":3},"s. construct crit chance",{"$f":"MIN(1,E971*(1-0.95^2)+(1-E971)*0.05+E542)","v":0.05},0.05,0.05,0.05,0.05,0.05,0.05,0.05,0.05,0.05,0.05,0.05,0.05,0.05,0.05,0.05,0.05,0.05,0.05,0.05]
[{"$nulls":3},"s. construct uptime",{"$f":"MIN(IF(E1364,2*'Base Numbers'!$C$6,E358+1),2*'Base Numbers'!$C$6,ROUND(E968/(E925*'Caster Tables'!C$79),2))","v":0},{"$f":"MIN(IF(F1364,2*'Base Numbers'!$C$6,F358+1),2*'Base Numbers'!$C$6,ROUND(F968/(F925*'Caster Tables'!D$79),2))","v":0},{"$f":"MIN(IF(G1364,2*'Base Numbers'!$C$6,G358+1),2*'Base Numbers'!$C$6,ROUND(G968/(G925*'Caster Tables'!E$79),2))","v":0},{"$f":"MIN(IF(H1364,2*'Base Numbers'!$C$6,H358+1),2*'Base Numbers'!$C$6,ROUND(H968/(H925*'Caster Tables'!F$79),2))","v":0},{"$f":"MIN(IF(I1364,2*'Base Numbers'!$C$6,I358+1),2*'Base Numbers'!$C$6,ROUND(I968/(I925*'Caster Tables'!G$79),2))","v":0},{"$f":"MIN(IF(J1364,2*'Base Numbers'!$C$6,J358+1),2*'Base Numbers'!$C$6,ROUND(J968/(J925*'Caster Tables'!H$79),2))","v":0},{"$f":"MIN(IF(K1364,2*'Base Numbers'!$C$6,K358+1),2*'Base Numbers'!$C$6,ROUND(K968/(K925*'Caster Tables'!I$79),2))","v":0},{"$f":"MIN(IF(L1364,2*'Base Numbers'!$C$6,L358+1),2*'Base Numbers'!$C$6,ROUND(L968/(L925*'Caster Tables'!J$79),2))","v":0},{"$f":"MIN(IF(M1364,2*'Base Numbers'!$C$6,M358+1),2*'Base Numbers'!$C$6,ROUND(M968/(M925*'Caster Tables'!K$79),2))","v":0},{"$f":"MIN(IF(N1364,2*'Base Numbers'!$C$6,N358+1),2*'Base Numbers'!$C$6,ROUND(N968/(N925*'Caster Tables'!L$79),2))","v":0},{"$f":"MIN(IF(O1364,2*'Base Numbers'!$C$6,O358+1),2*'Base Numbers'!$C$6,ROUND(O968/(O925*'Caster Tables'!M$79),2))","v":0},{"$f":"MIN(IF(P1364,2*'Base Numbers'!$C$6,P358+1),2*'Base Numbers'!$C$6,ROUND(P968/(P925*'Caster Tables'!N$79),2))","v":0},{"$f":"MIN(IF(Q1364,2*'Base Numbers'!$C$6,Q358+1),2*'Base Numbers'!$C$6,ROUND(Q968/(Q925*'Caster Tables'!O$79),2))","v":0},{"$f":"MIN(IF(R1364,2*'Base Numbers'!$C$6,R358+1),2*'Base Numbers'!$C$6,ROUND(R968/(R925*'Caster Tables'!P$79),2))","v":0},{"$f":"MIN(IF(S1364,2*'Base Numbers'!$C$6,S358+1),2*'Base Numbers'!$C$6,ROUND(S968/(S925*'Caster Tables'!Q$79),2))","v":0},{"$f":"MIN(IF(T1364,2*'Base Numbers'!$C$6,T358+1),2*'Base Numbers'!$C$6,ROUND(T968/(T925*'Caster Tables'!R$79),2))","v":0},{"$f":"MIN(IF(U1364,2*'Base Numbers'!$C$6,U358+1),2*'Base Numbers'!$C$6,ROUND(U968/(U925*'Caster Tables'!S$79),2))","v":0},{"$f":"MIN(IF(V1364,2*'Base Numbers'!$C$6,V358+1),2*'Base Numbers'!$C$6,ROUND(V968/(V925*'Caster Tables'!T$79),2))","v":0},{"$f":"MIN(IF(W1364,2*'Base Numbers'!$C$6,W358+1),2*'Base Numbers'!$C$6,ROUND(W968/(W925*'Caster Tables'!U$79),2))","v":0},{"$f":"MIN(IF(X1364,2*'Base Numbers'!$C$6,X358+1),2*'Base Numbers'!$C$6,ROUND(X968/(X925*'Caster Tables'!V$79),2))","v":0},null,"*reduced by % of creatures resistant to nonmagical weapon dmg"]
[{"$nulls":3},"s. construct avg damage per round of uptime",{"$f":"E970*(E972*E969+E973*4.5)*IF(AND(E17>=6,E79>=1),1,'Caster Tables'!C$81)","v":0},{"$f":"F970*(F972*F969+F973*4.5)*IF(AND(F17>=6,F79>=1),1,'Caster Tables'!D$81)","v":0},{"$f":"G970*(G972*G969+G973*4.5)*IF(AND(G17>=6,G79>=1),1,'Caster Tables'!E$81)","v":0},{"$f":"H970*(H972*H969+H973*4.5)*IF(AND(H17>=6,H79>=1),1,'Caster Tables'!F$81)","v":0},{"$f":"I970*(I972*I969+I973*4.5)*IF(AND(I17>=6,I79>=1),1,'Caster Tables'!G$81)","v":0},{"$f":"J970*(J972*J969+J973*4.5)*IF(AND(J17>=6,J79>=1),1,'Caster Tables'!H$81)","v":0},{"$f":"K970*(K972*K969+K973*4.5)*IF(AND(K17>=6,K79>=1),1,'Caster Tables'!I$81)","v":0},{"$f":"L970*(L972*L969+L973*4.5)*IF(AND(L17>=6,L79>=1),1,'Caster Tables'!J$81)","v":0},{"$f":"M970*(M972*M969+M973*4.5)*IF(AND(M17>=6,M79>=1),1,'Caster Tables'!K$81)","v":0},{"$f":"N970*(N972*N969+N973*4.5)*IF(AND(N17>=6,N79>=1),1,'Caster Tables'!L$81)","v":0},{"$f":"O970*(O972*O969+O973*4.5)*IF(AND(O17>=6,O79>=1),1,'Caster Tables'!M$81)","v":0},{"$f":"P970*(P972*P969+P973*4.5)*IF(AND(P17>=6,P79>=1),1,'Caster Tables'!N$81)","v":0},{"$f":"Q970*(Q972*Q969+Q973*4.5)*IF(AND(Q17>=6,Q79>=1),1,'Caster Tables'!O$81)","v":0},{"$f":"R970*(R972*R969+R973*4.5)*IF(AND(R17>=6,R79>=1),1,'Caster Tables'!P$81)","v":0},{"$f":"S970*(S972*S969+S973*4.5)*IF(AND(S17>=6,S79>=1),1,'Caster Tables'!Q$81)","v":0},{"$f":"T970*(T972*T969+T973*4.5)*IF(AND(T17>=6,T79>=1),1,'Caster Tables'!R$81)","v":0},{"$f":"U970*(U972*U969+U973*4.5)*IF(AND(U17>=6,U79>=1),1,'Caster Tables'!S$81)","v":0},{"$f":"V970*(V972*V969+V973*4.5)*IF(AND(V17>=6,V79>=1),1,'Caster Tables'!T$81)","v":0},{"$f":"W970*(W972*W969+W973*4.5)*IF(AND(W17>=6,W79>=1),1,'Caster Tables'!U$81)","v":0},{"$f":"X970*(X972*X969+X973*4.5)*IF(AND(X17>=6,X79>=1),1,'Caster Tables'!V$81)","v":0}]
[{"$nulls":3},"s. construct avg damage per round (incl uptime)",{"$f":"E975*E974/('Base Numbers'!$C$5*'Base Numbers'!$C$6)","v":0},{"$f":"F975*F974/('Base Numbers'!$C$5*'Base Numbers'!$C$6)","v":0},{"$f":"G975*G974/('Base Numbers'!$C$5*'Base Numbers'!$C$6)","v":0},{"$f":"H975*H974/('Base Numbers'!$C$5*'Base Numbers'!$C$6)","v":0},{"$f":"I975*I974/('Base Numbers'!$C$5*'Base Numbers'!$C$6)","v":0},{"$f":"J975*J974/('Base Numbers'!$C$5*'Base Numbers'!$C$6)","v":0},{"$f":"K975*K974/('Base Numbers'!$C$5*'Base Numbers'!$C$6)","v":0},{"$f":"L975*L974/('Base Numbers'!$C$5*'Base Numbers'!$C$6)","v":0},{"$f":"M975*M974/('Base Numbers'!$C$5*'Base Numbers'!$C$6)","v":0},{"$f":"N975*N974/('Base Numbers'!$C$5*'Base Numbers'!$C$6)","v":0},{"$f":"O975*O974/('Base Numbers'!$C$5*'Base Numbers'!$C$6)","v":0},{"$f":"P975*P974/('Base Numbers'!$C$5*'Base Numbers'!$C$6)","v":0},{"$f":"Q975*Q974/('Base Numbers'!$C$5*'Base Numbers'!$C$6)","v":0},{"$f":"R975*R974/('Base Numbers'!$C$5*'Base Numbers'!$C$6)","v":0},{"$f":"S975*S974/('Base Numbers'!$C$5*'Base Numbers'!$C$6)","v":0},{"$f":"T975*T974/('Base Numbers'!$C$5*'Base Numbers'!$C$6)","v":0},{"$f":"U975*U974/('Base Numbers'!$C$5*'Base Numbers'!$C$6)","v":0},{"$f":"V975*V974/('Base Numbers'!$C$5*'Base Numbers'!$C$6)","v":0},{"$f":"W975*W974/('Base Numbers'!$C$5*'Base Numbers'!$C$6)","v":0},{"$f":"X975*X974/('Base Numbers'!$C$5*'Base Numbers'!$C$6)","v":0}]
[]
[{"$nulls":3},"summon celestial slot",{"$f":"SpellOrder!CL17","v":0},{"$f":"SpellOrder!CM17","v":0},{"$f":"SpellOrder!CN17","v":0},{"$f":"SpellOrder!CO17","v":0},{"$f":"SpellOrder!CP17","v":0},{"$f":"SpellOrder!CQ17","v":0},{"$f":"SpellOrder!CR17","v":0},{"$f":"SpellOrder!CS17","v":0},{"$f":"SpellOrder!CT17","v":0},{"$f":"SpellOrder!CU17","v":0},{"$f":"SpellOrder!CV17","v":0},{"$f":"SpellOrder!CW17","v":0},{"$f":"SpellOrder!CX17","v":0},{"$f":"SpellOrder!CY17","v":0},{"$f":"SpellOrder!CZ17","v":0},{"$f":"SpellOrder!DA17","v":0},{"$f":"SpellOrder!DB17","v":0},{"$f":"SpellOrder!DC17","v":0},{"$f":"SpellOrder!DD17","v":0},{"$f":"SpellOrder!DE17","v":0}]
[{"$nulls":3},"s. celestial hp",{"$f":"IF(E978>=5,40+(E978-5)*10+E1365,0)","v":0},0,0,0,0,0,0,0,0,0,0,0,0,0,0,0,0,0,0,0]
[{"$nulls":3},"s. celestial damage per attack",{"$f":"IF(E978>=4,9+E978,0)","v":0},{"$f":"IF(F978>=4,9+F978,0)","v":0},0,0,0,0,0,0,0,0,0,0,0,0,0,0,0,0,0,0]
[{"$nulls":3},"s. celestial number of attacks",{"$f":"IF(E978>=5,FLOOR(E978/2,1),0)","v":0},{"$f":"IF(F978>=5,FLOOR(F978/2,1),0)","v":0},0,0,0,0,0,0,0,0,0,0,0,0,0,0,0,0,0,0]
[{"$nulls":3},"s. celestial avg adv pct (ranged)",{"$f":"E474+E462+E541","v":0},0,0,0,0,0,0,0,0,0,0,0,0,0,0,0,0,0,0,0]
[{"$nulls":3},"s. celestial hit chance (ranged spell attack)",{"$f":"E982*(1-(1-E424)^2)+(1-E982)*E424","v":0.65},0.65,0.6,0.6,0.65,0.6,0.6,0.6,0.6,0.6,0.6,0.55,0.6,0.6,0.55,0.55,0.6,0.55,0.55,0.55]
[{"$nulls":3},"s. celestial crit chance",{"$f":"MIN(1,E982*(1-0.95^2)+(1-E982)*0.05)","v":0.05},{"$f":"MIN(1,F982*(1-0.95^2)+(1-F982)*0.05)","v":0.05},0.05,0.05,0.05,0.05,0.05,0.05,0.05,0.05,0.05,0.05,0.05,0.05,0.05,0.05,0.05,0.05,0.05,0.05]
[{"$nulls":3},"s. celestial uptime",{"$f":"MIN(IF(E1364,2*'Base Numbers'!$C$6,E358+1),2*'Base Numbers'!$C$6,ROUND(E979/(E924*'Caster Tables'!C$79),2))*E306","v":0},{"$f":"MIN(IF(F1364,2*'Base Numbers'!$C$6,F358+1),2*'Base Numbers'!$C$6,ROUND(F979/(F924*'Caster Tables'!D$79),2))*F306","v":0},{"$f":"MIN(IF(G1364,2*'Base Numbers'!$C$6,G358+1),2*'Base Numbers'!$C$6,ROUND(G979/(G924*'Caster Tables'!E$79),2))*G306","v":0},{"$f":"MIN(IF(H1364,2*'Base Numbers'!$C$6,H358+1),2*'Base Numbers'!$C$6,ROUND(H979/(H924*'Caster Tables'!F$79),2))*H306","v":0},{"$f":"MIN(IF(I1364,2*'Base Numbers'!$C$6,I358+1),2*'Base Numbers'!$C$6,ROUND(I979/(I924*'Caster Tables'!G$79),2))*I306","v":0},{"$f":"MIN(IF(J1364,2*'Base Numbers'!$C$6,J358+1),2*'Base Numbers'!$C$6,ROUND(J979/(J924*'Caster Tables'!H$79),2))*J306","v":0},{"$f":"MIN(IF(K1364,2*'Base Numbers'!$C$6,K358+1),2*'Base Numbers'!$C$6,ROUND(K979/(K924*'Caster Tables'!I$79),2))*K306","v":0},{"$f":"MIN(IF(L1364,2*'Base Numbers'!$C$6,L358+1),2*'Base Numbers'!$C$6,ROUND(L979/(L924*'Caster Tables'!J$79),2))*L306","v":0},{"$f":"MIN(IF(M1364,2*'Base Numbers'!$C$6,M358+1),2*'Base Numbers'!$C$6,ROUND(M979/(M924*'Caster Tables'!K$79),2))*M306","v":0},{"$f":"MIN(IF(N1364,2*'Base Numbers'!$C$6,N358+1),2*'Base Numbers'!$C$6,ROUND(N979/(N924*'Caster Tables'!L$79),2))*N306","v":0},{"$f":"MIN(IF(O1364,2*'Base Numbers'!$C$6,O358+1),2*'Base Numbers'!$C$6,ROUND(O979/(O924*'Caster Tables'!M$79),2))*O306","v":0},{"$f":"MIN(IF(P1364,2*'Base Numbers'!$C$6,P358+1),2*'Base Numbers'!$C$6,ROUND(P979/(P924*'Caster Tables'!N$79),2))*P306","v":0},{"$f":"MIN(IF(Q1364,2*'Base Numbers'!$C$6,Q358+1),2*'Base Numbers'!$C$6,ROUND(Q979/(Q924*'Caster Tables'!O$79),2))*Q306","v":0},{"$f":"MIN(IF(R1364,2*'Base Numbers'!$C$6,R358+1),2*'Base Numbers'!$C$6,ROUND(R979/(R924*'Caster Tables'!P$79),2))*R306","v":0},{"$f":"MIN(IF(S1364,2*'Base Numbers'!$C$6,S358+1),2*'Base Numbers'!$C$6,ROUND(S979/(S924*'Caster Tables'!Q$79),2))*S306","v":0},{"$f":"MIN(IF(T1364,2*'Base Numbers'!$C$6,T358+1),2*'Base Numbers'!$C$6,ROUND(T979/(T924*'Caster Tables'!R$79),2))*T306","v":0},{"$f":"MIN(IF(U1364,2*'Base Numbers'!$C$6,U358+1),2*'Base Numbers'!$C$6,ROUND(U979/(U924*'Caster Tables'!S$79),2))*U306","v":0},{"$f":"MIN(IF(V1364,2*'Base Numbers'!$C$6,V358+1),2*'Base Numbers'!$C$6,ROUND(V979/(V924*'Caster Tables'!T$79),2))*V306","v":0},{"$f":"MIN(IF(W1364,2*'Base Numbers'!$C$6,W358+1),2*'Base Numbers'!$C$6,ROUND(W979/(W924*'Caster Tables'!U$79),2))*W306","v":0},{"$f":"MIN(IF(X1364,2*'Base Numbers'!$C$6,X358+1),2*'Base Numbers'!$C$6,ROUND(X979/(X924*'Caster Tables'!V$79),2))*X306","v":0}]
[{"$nulls":3},"s. celestial avg damage per round of uptime",{"$f":"E981*(E983*E980+E984*7)","v":0},{"$f":"F981*(F983*F980+F984*7)*IF(AND(F17>=6,F79>=1),1,'Caster Tables'!D$81)","v":0},{"$f":"G981*(G983*G980+G984*7)*IF(AND(G17>=6,G79>=1),1,'Caster Tables'!E$81)","v":0},{"$f":"H981*(H983*H980+H984*7)*IF(AND(H17>=6,H79>=1),1,'Caster Tables'!F$81)","v":0},{"$f":"I981*(I983*I980+I984*7)*IF(AND(I17>=6,I79>=1),1,'Caster Tables'!G$81)","v":0},{"$f":"J981*(J983*J980+J984*7)*IF(AND(J17>=6,J79>=1),1,'Caster Tables'!H$81)","v":0},{"$f":"K981*(K983*K980+K984*7)*IF(AND(K17>=6,K79>=1),1,'Caster Tables'!I$81)","v":0},{"$f":"L981*(L983*L980+L984*7)*IF(AND(L17>=6,L79>=1),1,'Caster Tables'!J$81)","v":0},{"$f":"M981*(M983*M980+M984*7)*IF(AND(M17>=6,M79>=1),1,'Caster Tables'!K$81)","v":0},{"$f":"N981*(N983*N980+N984*7)*IF(AND(N17>=6,N79>=1),1,'Caster Tables'!L$81)","v":0},{"$f":"O981*(O983*O980+O984*7)*IF(AND(O17>=6,O79>=1),1,'Caster Tables'!M$81)","v":0},{"$f":"P981*(P983*P980+P984*7)*IF(AND(P17>=6,P79>=1),1,'Caster Tables'!N$81)","v":0},{"$f":"Q981*(Q983*Q980+Q984*7)*IF(AND(Q17>=6,Q79>=1),1,'Caster Tables'!O$81)","v":0},{"$f":"R981*(R983*R980+R984*7)*IF(AND(R17>=6,R79>=1),1,'Caster Tables'!P$81)","v":0},{"$f":"S981*(S983*S980+S984*7)*IF(AND(S17>=6,S79>=1),1,'Caster Tables'!Q$81)","v":0},{"$f":"T981*(T983*T980+T984*7)*IF(AND(T17>=6,T79>=1),1,'Caster Tables'!R$81)","v":0},{"$f":"U981*(U983*U980+U984*7)*IF(AND(U17>=6,U79>=1),1,'Caster Tables'!S$81)","v":0},{"$f":"V981*(V983*V980+V984*7)*IF(AND(V17>=6,V79>=1),1,'Caster Tables'!T$81)","v":0},{"$f":"W981*(W983*W980+W984*7)*IF(AND(W17>=6,W79>=1),1,'Caster Tables'!U$81)","v":0},{"$f":"X981*(X983*X980+X984*7)*IF(AND(X17>=6,X79>=1),1,'Caster Tables'!V$81)","v":0}]
[{"$nulls":3},"s. celestial avg damage per round (incl uptime)",{"$f":"E986*E985/('Base Numbers'!$C$5*'Base Numbers'!$C$6)","v":0},{"$f":"F986*F985/('Base Numbers'!$C$5*'Base Numbers'!$C$6)","v":0},{"$f":"G986*G985/('Base Numbers'!$C$5*'Base Numbers'!$C$6)","v":0},{"$f":"H986*H985/('Base Numbers'!$C$5*'Base Numbers'!$C$6)","v":0},{"$f":"I986*I985/('Base Numbers'!$C$5*'Base Numbers'!$C$6)","v":0},{"$f":"J986*J985/('Base Numbers'!$C$5*'Base Numbers'!$C$6)","v":0},{"$f":"K986*K985/('Base Numbers'!$C$5*'Base Numbers'!$C$6)","v":0},{"$f":"L986*L985/('Base Numbers'!$C$5*'Base Numbers'!$C$6)","v":0},{"$f":"M986*M985/('Base Numbers'!$C$5*'Base Numbers'!$C$6)","v":0},{"$f":"N986*N985/('Base Numbers'!$C$5*'Base Numbers'!$C$6)","v":0},{"$f":"O986*O985/('Base Numbers'!$C$5*'Base Numbers'!$C$6)","v":0},{"$f":"P986*P985/('Base Numbers'!$C$5*'Base Numbers'!$C$6)","v":0},{"$f":"Q986*Q985/('Base Numbers'!$C$5*'Base Numbers'!$C$6)","v":0},{"$f":"R986*R985/('Base Numbers'!$C$5*'Base Numbers'!$C$6)","v":0},{"$f":"S986*S985/('Base Numbers'!$C$5*'Base Numbers'!$C$6)","v":0},{"$f":"T986*T985/('Base Numbers'!$C$5*'Base Numbers'!$C$6)","v":0},{"$f":"U986*U985/('Base Numbers'!$C$5*'Base Numbers'!$C$6)","v":0},{"$f":"V986*V985/('Base Numbers'!$C$5*'Base Numbers'!$C$6)","v":0},{"$f":"W986*W985/('Base Numbers'!$C$5*'Base Numbers'!$C$6)","v":0},{"$f":"X986*X985/('Base Numbers'!$C$5*'Base Numbers'!$C$6)","v":0}]
[]
[{"$nulls":3},"summon greater demon (barlgura)"]
[{"$nulls":3},"barlgura hp",{"$f":"68+E1365","v":68},{"$f":"68+F1365","v":68},68,68,68,68,68,68,68,68,68,68,68,68,68,68,68,68,68,68]
[{"$nulls":3},"barlgura damage per attack",{"$f":"(11+9+9)/3","v":9.666666666666666},{"$f":"(11+9+9)/3","v":9.666666666666666},9.666666666666666,9.666666666666666,9.666666666666666,9.666666666666666,9.666666666666666,9.666666666666666,9.666666666666666,9.666666666666666,9.666666666666666,9.666666666666666,9.666666666666666,9.666666666666666,9.666666666666666,9.666666666666666,9.666666666666666,9.666666666666666,9.666666666666666,9.666666666666666]
[{"$nulls":3},"barlgura number of attacks",3,3,3,3,3,3,3,3,3,3,3,3,3,3,3,3,3,3,3,3]
[{"$nulls":3},"barlgura avg adv pct (reckless)",1,1,1,1,1,1,1,1,1,1,1,1,1,1,1,1,1,1,1,1]
[{"$nulls":3},"barlgura one die hit chance (hit +7)",{"$f":"MIN(0.95,1-(E153-1-7)/20)","v":0.75},0.75,0.7,0.7,0.7,0.65,0.65,0.65,0.6,0.6,0.6,0.55,0.55,0.55,0.5,0.5,0.5,0.44999999999999996,0.44999999999999996,0.44999999999999996]
[{"$nulls":3},"barlgura avg hit chance (with adv)",{"$f":"(1-(1-E994)^2)","v":0.9375},{"$f":"(1-(1-F994)^2)","v":0.9375},0.9099999999999999,0.9099999999999999,0.9099999999999999,0.8775000000000001,0.8775000000000001,0.8775000000000001,0.84,0.84,0.84,0.7975000000000001,0.7975000000000001,0.7975000000000001,0.75,0.75,0.75,0.6975,0.6975,0.6975]
[{"$nulls":3},"barlgura crit chance",{"$f":"1-0.95^2","v":0.09750000000000003},{"$f":"1-0.95^2","v":0.09750000000000003},0.09750000000000003,0.09750000000000003,0.09750000000000003,0.09750000000000003,0.09750000000000003,0.09750000000000003,0.09750000000000003,0.09750000000000003,0.09750000000000003,0.09750000000000003,0.09750000000000003,0.09750000000000003,0.09750000000000003,0.09750000000000003,0.09750000000000003,0.09750000000000003,0.09750000000000003,0.09750000000000003]
[{"$nulls":3},"barlgura uptime",{"$f":"MIN('Base Numbers'!$C$6,E357+3.5,'Base Numbers'!$C$6,ROUND(E990/(E925*'Caster Tables'!C$79),2))*E301","v":0},{"$f":"MIN('Base Numbers'!$C$6,F357+3.5,'Base Numbers'!$C$6,ROUND(F990/(F925*'Caster Tables'!D$79),2))*F301","v":0},{"$f":"MIN('Base Numbers'!$C$6,G357+3.5,'Base Numbers'!$C$6,ROUND(G990/(G925*'Caster Tables'!E$79),2))*G301","v":0},{"$f":"MIN('Base Numbers'!$C$6,H357+3.5,'Base Numbers'!$C$6,ROUND(H990/(H925*'Caster Tables'!F$79),2))*H301","v":0},{"$f":"MIN('Base Numbers'!$C$6,I357+3.5,'Base Numbers'!$C$6,ROUND(I990/(I925*'Caster Tables'!G$79),2))*I301","v":0},{"$f":"MIN('Base Numbers'!$C$6,J357+3.5,'Base Numbers'!$C$6,ROUND(J990/(J925*'Caster Tables'!H$79),2))*J301","v":0},{"$f":"MIN('Base Numbers'!$C$6,K357+3.5,'Base Numbers'!$C$6,ROUND(K990/(K925*'Caster Tables'!I$79),2))*K301","v":0},{"$f":"MIN('Base Numbers'!$C$6,L357+3.5,'Base Numbers'!$C$6,ROUND(L990/(L925*'Caster Tables'!J$79),2))*L301","v":0},{"$f":"MIN('Base Numbers'!$C$6,M357+3.5,'Base Numbers'!$C$6,ROUND(M990/(M925*'Caster Tables'!K$79),2))*M301","v":0},{"$f":"MIN('Base Numbers'!$C$6,N357+3.5,'Base Numbers'!$C$6,ROUND(N990/(N925*'Caster Tables'!L$79),2))*N301","v":0},{"$f":"MIN('Base Numbers'!$C$6,O357+3.5,'Base Numbers'!$C$6,ROUND(O990/(O925*'Caster Tables'!M$79),2))*O301","v":0},{"$f":"MIN('Base Numbers'!$C$6,P357+3.5,'Base Numbers'!$C$6,ROUND(P990/(P925*'Caster Tables'!N$79),2))*P301","v":0},{"$f":"MIN('Base Numbers'!$C$6,Q357+3.5,'Base Numbers'!$C$6,ROUND(Q990/(Q925*'Caster Tables'!O$79),2))*Q301","v":0},{"$f":"MIN('Base Numbers'!$C$6,R357+3.5,'Base Numbers'!$C$6,ROUND(R990/(R925*'Caster Tables'!P$79),2))*R301","v":0},{"$f":"MIN('Base Numbers'!$C$6,S357+3.5,'Base Numbers'!$C$6,ROUND(S990/(S925*'Caster Tables'!Q$79),2))*S301","v":0},{"$f":"MIN('Base Numbers'!$C$6,T357+3.5,'Base Numbers'!$C$6,ROUND(T990/(T925*'Caster Tables'!R$79),2))*T301","v":0},{"$f":"MIN('Base Numbers'!$C$6,U357+3.5,'Base Numbers'!$C$6,ROUND(U990/(U925*'Caster Tables'!S$79),2))*U301","v":0},{"$f":"MIN('Base Numbers'!$C$6,V357+3.5,'Base Numbers'!$C$6,ROUND(V990/(V925*'Caster Tables'!T$79),2))*V301","v":0},{"$f":"MIN('Base Numbers'!$C$6,W357+3.5,'Base Numbers'!$C$6,ROUND(W990/(W925*'Caster Tables'!U$79),2))*W301","v":0},{"$f":"MIN('Base Numbers'!$C$6,X357+3.5,'Base Numbers'!$C$6,ROUND(X990/(X925*'Caster Tables'!V$79),2))*X301","v":0}]
[{"$nulls":3},"barlgura avg damage per round of uptime",{"$f":"E992*(E995*E991+E996*6)","v":28.942500000000003},{"$f":"F992*(F995*F991+F996*6)","v":28.942500000000003},28.144999999999996,28.144999999999996,28.144999999999996,27.2025,27.2025,27.2025,26.115000000000002,26.115000000000002,26.115000000000002,24.8825,24.8825,24.8825,23.505,23.505,23.505,21.982499999999998,21.982499999999998,21.982499999999998]
[{"$nulls":3},"barlgura avg damage per round (incl uptime)",{"$f":"E998*E997/('Base Numbers'!$C$5*'Base Numbers'!$C$6)","v":0},{"$f":"F998*F997/('Base Numbers'!$C$5*'Base Numbers'!$C$6)","v":0},{"$f":"G998*G997/('Base Numbers'!$C$5*'Base Numbers'!$C$6)","v":0},{"$f":"H998*H997/('Base Numbers'!$C$5*'Base Numbers'!$C$6)","v":0},{"$f":"I998*I997/('Base Numbers'!$C$5*'Base Numbers'!$C$6)","v":0},{"$f":"J998*J997/('Base Numbers'!$C$5*'Base Numbers'!$C$6)","v":0},{"$f":"K998*K997/('Base Numbers'!$C$5*'Base Numbers'!$C$6)","v":0},{"$f":"L998*L997/('Base Numbers'!$C$5*'Base Numbers'!$C$6)","v":0},{"$f":"M998*M997/('Base Numbers'!$C$5*'Base Numbers'!$C$6)","v":0},{"$f":"N998*N997/('Base Numbers'!$C$5*'Base Numbers'!$C$6)","v":0},{"$f":"O998*O997/('Base Numbers'!$C$5*'Base Numbers'!$C$6)","v":0},{"$f":"P998*P997/('Base Numbers'!$C$5*'Base Numbers'!$C$6)","v":0},{"$f":"Q998*Q997/('Base Numbers'!$C$5*'Base Numbers'!$C$6)","v":0},{"$f":"R998*R997/('Base Numbers'!$C$5*'Base Numbers'!$C$6)","v":0},{"$f":"S998*S997/('Base Numbers'!$C$5*'Base Numbers'!$C$6)","v":0},{"$f":"T998*T997/('Base Numbers'!$C$5*'Base Numbers'!$C$6)","v":0},{"$f":"U998*U997/('Base Numbers'!$C$5*'Base Numbers'!$C$6)","v":0},{"$f":"V998*V997/('Base Numbers'!$C$5*'Base Numbers'!$C$6)","v":0},{"$f":"W998*W997/('Base Numbers'!$C$5*'Base Numbers'!$C$6)","v":0},{"$f":"X998*X997/('Base Numbers'!$C$5*'Base Numbers'!$C$6)","v":0}]
[]
[{"$nulls":3},"conjure animals slot",{"$f":"SpellOrder!CL20","v":0},{"$f":"SpellOrder!CM20","v":0},{"$f":"SpellOrder!CN20","v":0},{"$f":"SpellOrder!CO20","v":0},{"$f":"SpellOrder!CP20","v":0},{"$f":"SpellOrder!CQ20","v":0},{"$f":"SpellOrder!CR20","v":0},{"$f":"SpellOrder!CS20","v":0},{"$f":"SpellOrder!CT20","v":0},{"$f":"SpellOrder!CU20","v":0},{"$f":"SpellOrder!CV20","v":0},{"$f":"SpellOrder!CW20","v":0},{"$f":"SpellOrder!CX20","v":0},{"$f":"SpellOrder!CY20","v":0},{"$f":"SpellOrder!CZ20","v":0},{"$f":"SpellOrder!DA20","v":0},{"$f":"SpellOrder!DB20","v":0},{"$f":"SpellOrder!DC20","v":0},{"$f":"SpellOrder!DD20","v":0},{"$f":"SpellOrder!DE20","v":0}]
[{"$nulls":3},"average animal hp",{"$f":"16+2*2.2*E1412+E1415*0.33+E1365","v":16},16,16,16,16,16,16,16,16,16,16,16,16,16,16,16,16,16,16,16]
[{"$nulls":3},"average animal damage per attack",{"$f":"7","v":7},{"$f":"7","v":7},{"$f":"7","v":7},{"$f":"7","v":7},{"$f":"7","v":7},{"$f":"7","v":7},{"$f":"7","v":7},{"$f":"7","v":7},{"$f":"7","v":7},{"$f":"7","v":7},{"$f":"7","v":7},{"$f":"7","v":7},{"$f":"7","v":7},{"$f":"7","v":7},{"$f":"7","v":7},{"$f":"7","v":7},{"$f":"7","v":7},{"$f":"7","v":7},{"$f":"7","v":7},{"$f":"7","v":7}]
[{"$nulls":3},"average animal number of attacks",{"$f":"1.15","v":1.15},{"$f":"1.15","v":1.15},1.15,1.15,1.15,1.15,1.15,1.15,1.15,1.15,1.15,1.15,1.15,1.15,1.15,1.15,1.15,1.15,1.15,1.15]
[{"$nulls":3},"average numer of animals per cast",{"$f":"IF(E1001>=3,8,0)+IF(E1001>=5,8,0)+IF(E1001>=7,8,0)+IF(E1001>=9,8,0)","v":0},{"$f":"IF(F1001>=3,8,0)+IF(F1001>=5,8,0)+IF(F1001>=7,8,0)+IF(F1001>=9,8,0)","v":0},0,0,0,0,0,0,0,0,0,0,0,0,0,0,0,0,0,0]
[{"$nulls":3},"average adv pct (melee)",{"$f":"E462+E474+E442+E541","v":0},0,0,0,0,0,0,0,0,0,0,0,0,0,0,0,0,0,0,0]
[{"$nulls":3},"average animal one-die hit chance",{"$f":"MIN(0.95,1-(E153-1-4)/20)","v":0.6},0.6,0.55,0.55,0.55,0.5,0.5,0.5,0.44999999999999996,0.44999999999999996,0.44999999999999996,0.4,0.4,0.4,0.35,0.35,0.35,0.30000000000000004,0.30000000000000004,0.30000000000000004]
[{"$nulls":3},"average animal total hit chance (incl adv)",{"$f":"E1006*(1-(1-E1007)^2)+(1-E1006)*E1007","v":0.6},{"$f":"F1006*(1-(1-F1007)^2)+(1-F1006)*F1007","v":0.6},0.55,0.55,0.55,0.5,0.5,0.5,0.44999999999999996,0.44999999999999996,0.44999999999999996,0.4,0.4,0.4,0.35,0.35,0.35,0.30000000000000004,0.30000000000000004,0.30000000000000004]
[{"$nulls":3},"average animal crit chance",{"$f":"MIN(1,E1006*(1-0.95^2)+(1-E1006)*0.05)","v":0.05},{"$f":"MIN(1,F1006*(1-0.95^2)+(1-F1006)*0.05)","v":0.05},0.05,0.05,0.05,0.05,0.05,0.05,0.05,0.05,0.05,0.05,0.05,0.05,0.05,0.05,0.05,0.05,0.05,0.05]
[{"$nulls":3},"single animal uptime (average)",{"$f":"MIN(IF(E1364,2*'Base Numbers'!$C$6,E358+1),2*'Base Numbers'!$C$6,ROUND(E1002/(E925*'Caster Tables'!C$79),2))","v":3.9961815361756905},{"$f":"MIN(IF(F1364,2*'Base Numbers'!$C$6,F358+1),2*'Base Numbers'!$C$6,ROUND(F1002/(F925*'Caster Tables'!D$79),2))","v":3.9961815361756905},{"$f":"MIN(IF(G1364,2*'Base Numbers'!$C$6,G358+1),2*'Base Numbers'!$C$6,ROUND(G1002/(G925*'Caster Tables'!E$79),2))","v":3.9961815361756905},{"$f":"MIN(IF(H1364,2*'Base Numbers'!$C$6,H358+1),2*'Base Numbers'!$C$6,ROUND(H1002/(H925*'Caster Tables'!F$79),2))","v":2.78},{"$f":"MIN(IF(I1364,2*'Base Numbers'!$C$6,I358+1),2*'Base Numbers'!$C$6,ROUND(I1002/(I925*'Caster Tables'!G$79),2))","v":1.83},{"$f":"MIN(IF(J1364,2*'Base Numbers'!$C$6,J358+1),2*'Base Numbers'!$C$6,ROUND(J1002/(J925*'Caster Tables'!H$79),2))","v":1.36},{"$f":"MIN(IF(K1364,2*'Base Numbers'!$C$6,K358+1),2*'Base Numbers'!$C$6,ROUND(K1002/(K925*'Caster Tables'!I$79),2))","v":1.08},{"$f":"MIN(IF(L1364,2*'Base Numbers'!$C$6,L358+1),2*'Base Numbers'!$C$6,ROUND(L1002/(L925*'Caster Tables'!J$79),2))","v":0.9},{"$f":"MIN(IF(M1364,2*'Base Numbers'!$C$6,M358+1),2*'Base Numbers'!$C$6,ROUND(M1002/(M925*'Caster Tables'!K$79),2))","v":0.77},{"$f":"MIN(IF(N1364,2*'Base Numbers'!$C$6,N358+1),2*'Base Numbers'!$C$6,ROUND(N1002/(N925*'Caster Tables'!L$79),2))","v":0.67},{"$f":"MIN(IF(O1364,2*'Base Numbers'!$C$6,O358+1),2*'Base Numbers'!$C$6,ROUND(O1002/(O925*'Caster Tables'!M$79),2))","v":0.6},{"$f":"MIN(IF(P1364,2*'Base Numbers'!$C$6,P358+1),2*'Base Numbers'!$C$6,ROUND(P1002/(P925*'Caster Tables'!N$79),2))","v":0.54},{"$f":"MIN(IF(Q1364,2*'Base Numbers'!$C$6,Q358+1),2*'Base Numbers'!$C$6,ROUND(Q1002/(Q925*'Caster Tables'!O$79),2))","v":0.49},{"$f":"MIN(IF(R1364,2*'Base Numbers'!$C$6,R358+1),2*'Base Numbers'!$C$6,ROUND(R1002/(R925*'Caster Tables'!P$79),2))","v":0.45},{"$f":"MIN(IF(S1364,2*'Base Numbers'!$C$6,S358+1),2*'Base Numbers'!$C$6,ROUND(S1002/(S925*'Caster Tables'!Q$79),2))","v":0.41},{"$f":"MIN(IF(T1364,2*'Base Numbers'!$C$6,T358+1),2*'Base Numbers'!$C$6,ROUND(T1002/(T925*'Caster Tables'!R$79),2))","v":0.38},{"$f":"MIN(IF(U1364,2*'Base Numbers'!$C$6,U358+1),2*'Base Numbers'!$C$6,ROUND(U1002/(U925*'Caster Tables'!S$79),2))","v":0.36},{"$f":"MIN(IF(V1364,2*'Base Numbers'!$C$6,V358+1),2*'Base Numbers'!$C$6,ROUND(V1002/(V925*'Caster Tables'!T$79),2))","v":0.34},{"$f":"MIN(IF(W1364,2*'Base Numbers'!$C$6,W358+1),2*'Base Numbers'!$C$6,ROUND(W1002/(W925*'Caster Tables'!U$79),2))","v":0.32},{"$f":"MIN(IF(X1364,2*'Base Numbers'!$C$6,X358+1),2*'Base Numbers'!$C$6,ROUND(X1002/(X925*'Caster Tables'!V$79),2))","v":0.3}]
[{"$nulls":3},"theoretical rounds until all animals are dead",{"$f":"E1010*E1005","v":0},{"$f":"F1010*F1005","v":0},0,0,0,0,0,0,0,0,0,0,0,0,0,0,0,0,0,0,null,"* limited by assumption of activity only in two fights, max"]
[{"$nulls":3},"spell duration limit",{"$f":"MIN(2*'Base Numbers'!$C$5,E358+1,E1011)","v":0},{"$f":"MIN(2*'Base Numbers'!$C$5,F358+1,F1011)","v":0},{"$f":"MIN(2*'Base Numbers'!$C$5,G358+1,G1011)","v":0},{"$f":"MIN(2*'Base Numbers'!$C$5,H358+1,H1011)","v":0},{"$f":"MIN(2*'Base Numbers'!$C$5,I358+1,I1011)","v":0},{"$f":"MIN(2*'Base Numbers'!$C$5,J358+1,J1011)","v":0},{"$f":"MIN(2*'Base Numbers'!$C$5,K358+1,K1011)","v":0},{"$f":"MIN(2*'Base Numbers'!$C$5,L358+1,L1011)","v":0},{"$f":"MIN(2*'Base Numbers'!$C$5,M358+1,M1011)","v":0},{"$f":"MIN(2*'Base Numbers'!$C$5,N358+1,N1011)","v":0},{"$f":"MIN(2*'Base Numbers'!$C$5,O358+1,O1011)","v":0},{"$f":"MIN(2*'Base Numbers'!$C$5,P358+1,P1011)","v":0},{"$f":"MIN(2*'Base Numbers'!$C$5,Q358+1,Q1011)","v":0},{"$f":"MIN(2*'Base Numbers'!$C$5,R358+1,R1011)","v":0},{"$f":"MIN(2*'Base Numbers'!$C$5,S358+1,S1011)","v":0},{"$f":"MIN(2*'Base Numbers'!$C$5,T358+1,T1011)","v":0},{"$f":"MIN(2*'Base Numbers'!$C$5,U358+1,U1011)","v":0},{"$f":"MIN(2*'Base Numbers'!$C$5,V358+1,V1011)","v":0},{"$f":"MIN(2*'Base Numbers'!$C$5,W358+1,W1011)","v":0},{"$f":"MIN(2*'Base Numbers'!$C$5,X358+1,X1011)","v":0}]
[{"$nulls":3},"average number of animals active per round of concentration",{"$f":"0.5*(E1005+(E1005-1/E1010*E1012))","v":0},{"$f":"0.5*(F1005+(F1005-1/F1010*F1012))","v":0},0,0,0,0,0,0,0,0,0,0,0,0,0,0,0,0,0,0]
[{"$nulls":3},"single animal single round damage (incl hit chance, crits)",{"$f":"E1004*(E1008*E1003+E1009*(E1003-2))*IF(E1413=0,'Caster Tables'!C$81,1)","v":4.861624999999999},{"$f":"F1004*(F1008*F1003+F1009*(F1003-2))*IF(F1413=0,'Caster Tables'!D$81,1)","v":4.60575},{"$f":"G1004*(G1008*G1003+G1009*(G1003-2))*IF(G1413=0,'Caster Tables'!E$81,1)","v":4.10205},{"$f":"H1004*(H1008*H1003+H1009*(H1003-2))*IF(H1413=0,'Caster Tables'!F$81,1)","v":3.9134499999999997},{"$f":"I1004*(I1008*I1003+I1009*(I1003-2))*IF(I1413=0,'Caster Tables'!G$81,1)","v":3.7720000000000002},{"$f":"J1004*(J1008*J1003+J1009*(J1003-2))*IF(J1413=0,'Caster Tables'!H$81,1)","v":3.36375},{"$f":"K1004*(K1008*K1003+K1009*(K1003-2))*IF(K1413=0,'Caster Tables'!I$81,1)","v":3.234375},{"$f":"L1004*(L1008*L1003+L1009*(L1003-2))*IF(L1413=0,'Caster Tables'!J$81,1)","v":3.148125},{"$f":"M1004*(M1008*M1003+M1009*(M1003-2))*IF(M1413=0,'Caster Tables'!K$81,1)","v":2.776099999999999},{"$f":"N1004*(N1008*N1003+N1009*(N1003-2))*IF(N1413=0,'Caster Tables'!L$81,1)","v":2.6978999999999993},{"$f":"O1004*(O1008*O1003+O1009*(O1003-2))*IF(O1413=0,'Caster Tables'!M$81,1)","v":2.6196999999999995},{"$f":"P1004*(P1008*P1003+P1009*(P1003-2))*IF(P1413=0,'Caster Tables'!N$81,1)","v":2.2448},{"$f":"Q1004*(Q1008*Q1003+Q1009*(Q1003-2))*IF(Q1413=0,'Caster Tables'!O$81,1)","v":2.1746499999999997},{"$f":"R1004*(R1008*R1003+R1009*(R1003-2))*IF(R1413=0,'Caster Tables'!P$81,1)","v":2.069425},{"$f":"S1004*(S1008*S1003+S1009*(S1003-2))*IF(S1413=0,'Caster Tables'!Q$81,1)","v":1.7388},{"$f":"T1004*(T1008*T1003+T1009*(T1003-2))*IF(T1413=0,'Caster Tables'!R$81,1)","v":1.6766999999999999},{"$f":"U1004*(U1008*U1003+U1009*(U1003-2))*IF(U1413=0,'Caster Tables'!S$81,1)","v":1.6145999999999998},{"$f":"V1004*(V1008*V1003+V1009*(V1003-2))*IF(V1413=0,'Caster Tables'!T$81,1)","v":1.3512500000000003},{"$f":"W1004*(W1008*W1003+W1009*(W1003-2))*IF(W1413=0,'Caster Tables'!U$81,1)","v":1.3512500000000003},{"$f":"X1004*(X1008*X1003+X1009*(X1003-2))*IF(X1413=0,'Caster Tables'!V$81,1)","v":1.3512500000000003},null,"*reduced by % of creatures resistant to nonmagical weapon dmg"]
[{"$nulls":3},"all animals avg damage per round of concentration",{"$f":"E1014*E1013","v":0},{"$f":"F1014*F1013","v":0},0,0,0,0,0,0,0,0,0,0,0,0,0,0,0,0,0,0]
[{"$nulls":3},"total animals avg damage per round (incl uptime, number of casts)",{"$f":"E1015*E1012/('Base Numbers'!$C$5*'Base Numbers'!$C$6)*E300","v":0},{"$f":"F1015*F1012/('Base Numbers'!$C$5*'Base Numbers'!$C$6)*F300","v":0},{"$f":"G1015*G1012/('Base Numbers'!$C$5*'Base Numbers'!$C$6)*G300","v":0},{"$f":"H1015*H1012/('Base Numbers'!$C$5*'Base Numbers'!$C$6)*H300","v":0},{"$f":"I1015*I1012/('Base Numbers'!$C$5*'Base Numbers'!$C$6)*I300","v":0},{"$f":"J1015*J1012/('Base Numbers'!$C$5*'Base Numbers'!$C$6)*J300","v":0},{"$f":"K1015*K1012/('Base Numbers'!$C$5*'Base Numbers'!$C$6)*K300","v":0},{"$f":"L1015*L1012/('Base Numbers'!$C$5*'Base Numbers'!$C$6)*L300","v":0},{"$f":"M1015*M1012/('Base Numbers'!$C$5*'Base Numbers'!$C$6)*M300","v":0},{"$f":"N1015*N1012/('Base Numbers'!$C$5*'Base Numbers'!$C$6)*N300","v":0},{"$f":"O1015*O1012/('Base Numbers'!$C$5*'Base Numbers'!$C$6)*O300","v":0},{"$f":"P1015*P1012/('Base Numbers'!$C$5*'Base Numbers'!$C$6)*P300","v":0},{"$f":"Q1015*Q1012/('Base Numbers'!$C$5*'Base Numbers'!$C$6)*Q300","v":0},{"$f":"R1015*R1012/('Base Numbers'!$C$5*'Base Numbers'!$C$6)*R300","v":0},{"$f":"S1015*S1012/('Base Numbers'!$C$5*'Base Numbers'!$C$6)*S300","v":0},{"$f":"T1015*T1012/('Base Numbers'!$C$5*'Base Numbers'!$C$6)*T300","v":0},{"$f":"U1015*U1012/('Base Numbers'!$C$5*'Base Numbers'!$C$6)*U300","v":0},{"$f":"V1015*V1012/('Base Numbers'!$C$5*'Base Numbers'!$C$6)*V300","v":0},{"$f":"W1015*W1012/('Base Numbers'!$C$5*'Base Numbers'!$C$6)*W300","v":0},{"$f":"X1015*X1012/('Base Numbers'!$C$5*'Base Numbers'!$C$6)*X300","v":0}]
[]
[{"$nulls":3},"animate dead slot",{"$f":"SpellOrder!CL27","v":0},{"$f":"SpellOrder!CM27","v":0},{"$f":"SpellOrder!CN27","v":0},{"$f":"SpellOrder!CO27","v":0},{"$f":"SpellOrder!CP27","v":0},{"$f":"SpellOrder!CQ27","v":0},{"$f":"SpellOrder!CR27","v":0},{"$f":"SpellOrder!CS27","v":0},{"$f":"SpellOrder!CT27","v":0},{"$f":"SpellOrder!CU27","v":0},{"$f":"SpellOrder!CV27","v":0},{"$f":"SpellOrder!CW27","v":0},{"$f":"SpellOrder!CX27","v":0},{"$f":"SpellOrder!CY27","v":0},{"$f":"SpellOrder!CZ27","v":0},{"$f":"SpellOrder!DA27","v":0},{"$f":"SpellOrder!DB27","v":0},{"$f":"SpellOrder!DC27","v":0},{"$f":"SpellOrder!DD27","v":0},{"$f":"SpellOrder!DE27","v":0}]
[{"$nulls":3},"number of skeletons active per day",{"$f":"IF(E1018>=3,1+IF(E1018>3,FLOOR(E1018-3,1),0)*2+IF(AND(E15>=5,E49>=1),1,0),0)*E298","v":0},0,0,0,0,0,0,0,0,0,0,0,0,0,0,0,0,0,0,0]
[{"$nulls":3},"skeleton hp",{"$f":"13+IF(AND(E15>=5,E49>=1),E15,0)","v":13},13,13,13,13,13,13,13,13,13,13,13,13,13,13,13,13,13,13,13]
[{"$nulls":3},"skeleton number of attacks each",1,1,1,1,1,1,1,1,1,1,1,1,1,1,1,1,1,1,1,1]
[{"$nulls":3},"skeleton avg adv pct (ranged)",{"$f":"E541+E474+E462","v":0},0,0,0,0,0,0,0,0,0,0,0,0,0,0,0,0,0,0,0]
[{"$nulls":3},"skeleton one-die hit chance",{"$f":"(21-E153+4+IF(AND(E15>=5,E49>=1),E39,0))/20","v":0.6},0.6,0.55,0.55,0.55,0.5,0.5,0.5,0.45,0.45,0.45,0.4,0.4,0.4,0.35,0.35,0.35,0.3,0.3,0.3]
[{"$nulls":3},"skeleton hit chance",{"$f":"E1022*(1-(1-E1023)^2)+(1-E1022)*E1023","v":0.6},{"$f":"F1022*(1-(1-F1023)^2)+(1-F1022)*F1023","v":0.6},0.55,0.55,0.55,0.5,0.5,0.5,0.45,0.45,0.45,0.4,0.4,0.4,0.35,0.35,0.35,0.3,0.3,0.3]
[{"$nulls":3},"skeleton crit chance",{"$f":"E982*(1-0.95^2)+(1-E982)*0.05","v":0.05},0.05,0.05,0.05,0.05,0.05,0.05,0.05,0.05,0.05,0.05,0.05,0.05,0.05,0.05,0.05,0.05,0.05,0.05,0.05]
[{"$nulls":3},"skeleton uptime (single skeleton)",{"$f":"MIN('Base Numbers'!$C$5*'Base Numbers'!$C$6,ROUND(E1020/(0.33*'Caster Tables'!C$79),2))","v":15.76},{"$f":"MIN('Base Numbers'!$C$5*'Base Numbers'!$C$6,ROUND(F1020/(0.33*'Caster Tables'!D$79),2))","v":8.75},{"$f":"MIN('Base Numbers'!$C$5*'Base Numbers'!$C$6,ROUND(G1020/(0.33*'Caster Tables'!E$79),2))","v":5.63},{"$f":"MIN('Base Numbers'!$C$5*'Base Numbers'!$C$6,ROUND(H1020/(0.33*'Caster Tables'!F$79),2))","v":3.43},{"$f":"MIN('Base Numbers'!$C$5*'Base Numbers'!$C$6,ROUND(I1020/(0.33*'Caster Tables'!G$79),2))","v":2.25},{"$f":"MIN('Base Numbers'!$C$5*'Base Numbers'!$C$6,ROUND(J1020/(0.33*'Caster Tables'!H$79),2))","v":1.68},{"$f":"MIN('Base Numbers'!$C$5*'Base Numbers'!$C$6,ROUND(K1020/(0.33*'Caster Tables'!I$79),2))","v":1.34},{"$f":"MIN('Base Numbers'!$C$5*'Base Numbers'!$C$6,ROUND(L1020/(0.33*'Caster Tables'!J$79),2))","v":1.11},{"$f":"MIN('Base Numbers'!$C$5*'Base Numbers'!$C$6,ROUND(M1020/(0.33*'Caster Tables'!K$79),2))","v":0.95},{"$f":"MIN('Base Numbers'!$C$5*'Base Numbers'!$C$6,ROUND(N1020/(0.33*'Caster Tables'!L$79),2))","v":0.83},{"$f":"MIN('Base Numbers'!$C$5*'Base Numbers'!$C$6,ROUND(O1020/(0.33*'Caster Tables'!M$79),2))","v":0.74},{"$f":"MIN('Base Numbers'!$C$5*'Base Numbers'!$C$6,ROUND(P1020/(0.33*'Caster Tables'!N$79),2))","v":0.66},{"$f":"MIN('Base Numbers'!$C$5*'Base Numbers'!$C$6,ROUND(Q1020/(0.33*'Caster Tables'!O$79),2))","v":0.6},{"$f":"MIN('Base Numbers'!$C$5*'Base Numbers'!$C$6,ROUND(R1020/(0.33*'Caster Tables'!P$79),2))","v":0.55},{"$f":"MIN('Base Numbers'!$C$5*'Base Numbers'!$C$6,ROUND(S1020/(0.33*'Caster Tables'!Q$79),2))","v":0.51},{"$f":"MIN('Base Numbers'!$C$5*'Base Numbers'!$C$6,ROUND(T1020/(0.33*'Caster Tables'!R$79),2))","v":0.47},{"$f":"MIN('Base Numbers'!$C$5*'Base Numbers'!$C$6,ROUND(U1020/(0.33*'Caster Tables'!S$79),2))","v":0.44},{"$f":"MIN('Base Numbers'!$C$5*'Base Numbers'!$C$6,ROUND(V1020/(0.33*'Caster Tables'!T$79),2))","v":0.41},{"$f":"MIN('Base Numbers'!$C$5*'Base Numbers'!$C$6,ROUND(W1020/(0.33*'Caster Tables'!U$79),2))","v":0.39},{"$f":"MIN('Base Numbers'!$C$5*'Base Numbers'!$C$6,ROUND(X1020/(0.33*'Caster Tables'!V$79),2))","v":0.37}]
[{"$nulls":3},"rounds until all skeletons are dead",{"$f":"E1019*E1026","v":0},{"$f":"F1019*F1026","v":0},0,0,0,0,0,0,0,0,0,0,0,0,0,0,0,0,0,0]
[{"$nulls":3},"single skeleton single round damage (incl hit chance, crits)",{"$f":"E1021*(E1024*5.5+E1025*3.5)*'Caster Tables'!C$81","v":3.3012499999999996},{"$f":"F1021*(F1024*5.5+F1025*3.5)*'Caster Tables'!D$81","v":3.1275},{"$f":"G1021*(G1024*5.5+G1025*3.5)*'Caster Tables'!E$81","v":2.7840000000000003},{"$f":"H1021*(H1024*5.5+H1025*3.5)*'Caster Tables'!F$81","v":2.656},{"$f":"I1021*(I1024*5.5+I1025*3.5)*'Caster Tables'!G$81","v":2.5600000000000005},{"$f":"J1021*(J1024*5.5+J1025*3.5)*'Caster Tables'!H$81","v":2.2815},{"$f":"K1021*(K1024*5.5+K1025*3.5)*'Caster Tables'!I$81","v":2.1937499999999996},{"$f":"L1021*(L1024*5.5+L1025*3.5)*'Caster Tables'!J$81","v":2.1352499999999996},{"$f":"M1021*(M1024*5.5+M1025*3.5)*'Caster Tables'!K$81","v":1.8815},{"$f":"N1021*(N1024*5.5+N1025*3.5)*'Caster Tables'!L$81","v":1.8284999999999998},{"$f":"O1021*(O1024*5.5+O1025*3.5)*'Caster Tables'!M$81","v":1.7755},{"$f":"P1021*(P1024*5.5+P1025*3.5)*'Caster Tables'!N$81","v":1.52},{"$f":"Q1021*(Q1024*5.5+Q1025*3.5)*'Caster Tables'!O$81","v":1.4725},{"$f":"R1021*(R1024*5.5+R1025*3.5)*'Caster Tables'!P$81","v":1.4012499999999999},{"$f":"S1021*(S1024*5.5+S1025*3.5)*'Caster Tables'!Q$81","v":1.176},{"$f":"T1021*(T1024*5.5+T1025*3.5)*'Caster Tables'!R$81","v":1.134},{"$f":"U1021*(U1024*5.5+U1025*3.5)*'Caster Tables'!S$81","v":1.0919999999999999},{"$f":"V1021*(V1024*5.5+V1025*3.5)*'Caster Tables'!T$81","v":0.9125},{"$f":"W1021*(W1024*5.5+W1025*3.5)*'Caster Tables'!U$81","v":0.9125},{"$f":"X1021*(X1024*5.5+X1025*3.5)*'Caster Tables'!V$81","v":0.9125},null,"*reduced by % of creatures resistant to nonmagical weapon dmg"]
[{"$nulls":3},"skeleton avg damage per round of uptime",{"$f":"0.5*E1028*(1+E1019)","v":1.6506249999999998},{"$f":"0.5*F1028*(1+F1019)","v":1.56375},1.3920000000000001,1.328,1.2800000000000002,1.14075,1.0968749999999998,1.0676249999999998,0.94075,0.9142499999999999,0.88775,0.76,0.73625,0.7006249999999999,0.588,0.567,0.5459999999999999,0.45625,0.45625,0.45625]
[{"$nulls":3},"skeleton avg damage per round (incl uptime)",{"$f":"E1029*E1027/('Base Numbers'!$C$5*'Base Numbers'!$C$6)","v":0},{"$f":"F1029*F1027/('Base Numbers'!$C$5*'Base Numbers'!$C$6)","v":0},{"$f":"G1029*G1027/('Base Numbers'!$C$5*'Base Numbers'!$C$6)","v":0},{"$f":"H1029*H1027/('Base Numbers'!$C$5*'Base Numbers'!$C$6)","v":0},{"$f":"I1029*I1027/('Base Numbers'!$C$5*'Base Numbers'!$C$6)","v":0},{"$f":"J1029*J1027/('Base Numbers'!$C$5*'Base Numbers'!$C$6)","v":0},{"$f":"K1029*K1027/('Base Numbers'!$C$5*'Base Numbers'!$C$6)","v":0},{"$f":"L1029*L1027/('Base Numbers'!$C$5*'Base Numbers'!$C$6)","v":0},{"$f":"M1029*M1027/('Base Numbers'!$C$5*'Base Numbers'!$C$6)","v":0},{"$f":"N1029*N1027/('Base Numbers'!$C$5*'Base Numbers'!$C$6)","v":0},{"$f":"O1029*O1027/('Base Numbers'!$C$5*'Base Numbers'!$C$6)","v":0},{"$f":"P1029*P1027/('Base Numbers'!$C$5*'Base Numbers'!$C$6)","v":0},{"$f":"Q1029*Q1027/('Base Numbers'!$C$5*'Base Numbers'!$C$6)","v":0},{"$f":"R1029*R1027/('Base Numbers'!$C$5*'Base Numbers'!$C$6)","v":0},{"$f":"S1029*S1027/('Base Numbers'!$C$5*'Base Numbers'!$C$6)","v":0},{"$f":"T1029*T1027/('Base Numbers'!$C$5*'Base Numbers'!$C$6)","v":0},{"$f":"U1029*U1027/('Base Numbers'!$C$5*'Base Numbers'!$C$6)","v":0},{"$f":"V1029*V1027/('Base Numbers'!$C$5*'Base Numbers'!$C$6)","v":0},{"$f":"W1029*W1027/('Base Numbers'!$C$5*'Base Numbers'!$C$6)","v":0},{"$f":"X1029*X1027/('Base Numbers'!$C$5*'Base Numbers'!$C$6)","v":0}]
[]
[{"$nulls":3},"tiny servant slot",{"$f":"SpellOrder!CL28","v":0},{"$f":"SpellOrder!CM28","v":0},{"$f":"SpellOrder!CN28","v":0},{"$f":"SpellOrder!CO28","v":0},{"$f":"SpellOrder!CP28","v":0},{"$f":"SpellOrder!CQ28","v":0},{"$f":"SpellOrder!CR28","v":0},{"$f":"SpellOrder!CS28","v":0},{"$f":"SpellOrder!CT28","v":0},{"$f":"SpellOrder!CU28","v":0},{"$f":"SpellOrder!CV28","v":0},{"$f":"SpellOrder!CW28","v":0},{"$f":"SpellOrder!CX28","v":0},{"$f":"SpellOrder!CY28","v":0},{"$f":"SpellOrder!CZ28","v":0},{"$f":"SpellOrder!DA28","v":0},{"$f":"SpellOrder!DB28","v":0},{"$f":"SpellOrder!DC28","v":0},{"$f":"SpellOrder!DD28","v":0},{"$f":"SpellOrder!DE28","v":0},null,"*assumes you can cast these and they last potentially until next long rest"]
[{"$nulls":3},"number of tiny servants active per day",{"$f":"IF(E1032>=3,1+IF(E1032>3,FLOOR(E1032-3,1),0)*2,0)*E299","v":0},0,0,0,0,0,0,0,0,0,0,0,0,0,0,0,0,0,0,0]
[{"$nulls":3},"tiny servant hp",{"$f":"10","v":10},{"$f":"10","v":10},{"$f":"10","v":10},{"$f":"10","v":10},{"$f":"10","v":10},{"$f":"10","v":10},{"$f":"10","v":10},{"$f":"10","v":10},{"$f":"10","v":10},{"$f":"10","v":10},{"$f":"10","v":10},{"$f":"10","v":10},{"$f":"10","v":10},{"$f":"10","v":10},{"$f":"10","v":10},{"$f":"10","v":10},{"$f":"10","v":10},{"$f":"10","v":10},{"$f":"10","v":10},{"$f":"10","v":10}]
[{"$nulls":3},"tiny servant number of attacks each",1,1,1,1,1,1,1,1,1,1,1,1,1,1,1,1,1,1,1,1]
[{"$nulls":3},"tiny servant avg adv pct (melee)",{"$f":"MIN(1,E442+E541+E474+E451+E452+E462)","v":0},0,0,0,0,0,0,0,0,0,0,0,0,0,0,0,0,0,0,0]
[{"$nulls":3},"tiny servant one-die hit chance",{"$f":"(21-E153+5)/20","v":0.65},0.65,0.6,0.6,0.6,0.55,0.55,0.55,0.5,0.5,0.5,0.45,0.45,0.45,0.4,0.4,0.4,0.35,0.35,0.35]
[{"$nulls":3},"tiny servant hit chance",{"$f":"E1036*(1-(1-E1037)^2)+(1-E1036)*E1037","v":0.65},{"$f":"F1036*(1-(1-F1037)^2)+(1-F1036)*F1037","v":0.65},0.6,0.6,0.6,0.55,0.55,0.55,0.5,0.5,0.5,0.45,0.45,0.45,0.4,0.4,0.4,0.35,0.35,0.35]
[{"$nulls":3},"tiny servant crit chance",{"$f":"E1036*(1-0.95^2)+(1-E1036)*0.05","v":0.05},{"$f":"F1036*(1-0.95^2)+(1-F1036)*0.05","v":0.05},0.05,0.05,0.05,0.05,0.05,0.05,0.05,0.05,0.05,0.05,0.05,0.05,0.05,0.05,0.05,0.05,0.05,0.05]
[{"$nulls":3},"tiny servant uptime (single tiny servant)",{"$f":"MIN('Base Numbers'!$C$5*'Base Numbers'!$C$6,ROUND(E1034/(0.33*'Caster Tables'!C$79),2))","v":12.12},{"$f":"MIN('Base Numbers'!$C$5*'Base Numbers'!$C$6,ROUND(F1034/(0.33*'Caster Tables'!D$79),2))","v":6.73},{"$f":"MIN('Base Numbers'!$C$5*'Base Numbers'!$C$6,ROUND(G1034/(0.33*'Caster Tables'!E$79),2))","v":4.33},{"$f":"MIN('Base Numbers'!$C$5*'Base Numbers'!$C$6,ROUND(H1034/(0.33*'Caster Tables'!F$79),2))","v":2.64},{"$f":"MIN('Base Numbers'!$C$5*'Base Numbers'!$C$6,ROUND(I1034/(0.33*'Caster Tables'!G$79),2))","v":1.73},{"$f":"MIN('Base Numbers'!$C$5*'Base Numbers'!$C$6,ROUND(J1034/(0.33*'Caster Tables'!H$79),2))","v":1.29},{"$f":"MIN('Base Numbers'!$C$5*'Base Numbers'!$C$6,ROUND(K1034/(0.33*'Caster Tables'!I$79),2))","v":1.03},{"$f":"MIN('Base Numbers'!$C$5*'Base Numbers'!$C$6,ROUND(L1034/(0.33*'Caster Tables'!J$79),2))","v":0.85},{"$f":"MIN('Base Numbers'!$C$5*'Base Numbers'!$C$6,ROUND(M1034/(0.33*'Caster Tables'!K$79),2))","v":0.73},{"$f":"MIN('Base Numbers'!$C$5*'Base Numbers'!$C$6,ROUND(N1034/(0.33*'Caster Tables'!L$79),2))","v":0.64},{"$f":"MIN('Base Numbers'!$C$5*'Base Numbers'!$C$6,ROUND(O1034/(0.33*'Caster Tables'!M$79),2))","v":0.57},{"$f":"MIN('Base Numbers'!$C$5*'Base Numbers'!$C$6,ROUND(P1034/(0.33*'Caster Tables'!N$79),2))","v":0.51},{"$f":"MIN('Base Numbers'!$C$5*'Base Numbers'!$C$6,ROUND(Q1034/(0.33*'Caster Tables'!O$79),2))","v":0.46},{"$f":"MIN('Base Numbers'!$C$5*'Base Numbers'!$C$6,ROUND(R1034/(0.33*'Caster Tables'!P$79),2))","v":0.42},{"$f":"MIN('Base Numbers'!$C$5*'Base Numbers'!$C$6,ROUND(S1034/(0.33*'Caster Tables'!Q$79),2))","v":0.39},{"$f":"MIN('Base Numbers'!$C$5*'Base Numbers'!$C$6,ROUND(T1034/(0.33*'Caster Tables'!R$79),2))","v":0.36},{"$f":"MIN('Base Numbers'!$C$5*'Base Numbers'!$C$6,ROUND(U1034/(0.33*'Caster Tables'!S$79),2))","v":0.34},{"$f":"MIN('Base Numbers'!$C$5*'Base Numbers'!$C$6,ROUND(V1034/(0.33*'Caster Tables'!T$79),2))","v":0.32},{"$f":"MIN('Base Numbers'!$C$5*'Base Numbers'!$C$6,ROUND(W1034/(0.33*'Caster Tables'!U$79),2))","v":0.3},{"$f":"MIN('Base Numbers'!$C$5*'Base Numbers'!$C$6,ROUND(X1034/(0.33*'Caster Tables'!V$79),2))","v":0.28}]
[{"$nulls":3},"rounds until all tiny servants are dead",{"$f":"E1033*E1040","v":0},{"$f":"F1033*F1040","v":0},0,0,0,0,0,0,0,0,0,0,0,0,0,0,0,0,0,0]
[{"$nulls":3},"tiny servants left at end of day",{"$f":"IF(E1041<='Base Numbers'!$C$5*'Base Numbers'!$C$6,0,(1-('Base Numbers'!$C$5*'Base Numbers'!$C$6)/E1041)*E1033)","v":0},{"$f":"IF(F1041<='Base Numbers'!$C$5*'Base Numbers'!$C$6,0,(1-('Base Numbers'!$C$5*'Base Numbers'!$C$6)/F1041)*F1033)","v":0},{"$f":"IF(G1041<='Base Numbers'!$C$5*'Base Numbers'!$C$6,0,(1-('Base Numbers'!$C$5*'Base Numbers'!$C$6)/G1041)*G1033)","v":0},{"$f":"IF(H1041<='Base Numbers'!$C$5*'Base Numbers'!$C$6,0,(1-('Base Numbers'!$C$5*'Base Numbers'!$C$6)/H1041)*H1033)","v":0},{"$f":"IF(I1041<='Base Numbers'!$C$5*'Base Numbers'!$C$6,0,(1-('Base Numbers'!$C$5*'Base Numbers'!$C$6)/I1041)*I1033)","v":0},{"$f":"IF(J1041<='Base Numbers'!$C$5*'Base Numbers'!$C$6,0,(1-('Base Numbers'!$C$5*'Base Numbers'!$C$6)/J1041)*J1033)","v":0},{"$f":"IF(K1041<='Base Numbers'!$C$5*'Base Numbers'!$C$6,0,(1-('Base Numbers'!$C$5*'Base Numbers'!$C$6)/K1041)*K1033)","v":0},{"$f":"IF(L1041<='Base Numbers'!$C$5*'Base Numbers'!$C$6,0,(1-('Base Numbers'!$C$5*'Base Numbers'!$C$6)/L1041)*L1033)","v":0},{"$f":"IF(M1041<='Base Numbers'!$C$5*'Base Numbers'!$C$6,0,(1-('Base Numbers'!$C$5*'Base Numbers'!$C$6)/M1041)*M1033)","v":0},{"$f":"IF(N1041<='Base Numbers'!$C$5*'Base Numbers'!$C$6,0,(1-('Base Numbers'!$C$5*'Base Numbers'!$C$6)/N1041)*N1033)","v":0},{"$f":"IF(O1041<='Base Numbers'!$C$5*'Base Numbers'!$C$6,0,(1-('Base Numbers'!$C$5*'Base Numbers'!$C$6)/O1041)*O1033)","v":0},{"$f":"IF(P1041<='Base Numbers'!$C$5*'Base Numbers'!$C$6,0,(1-('Base Numbers'!$C$5*'Base Numbers'!$C$6)/P1041)*P1033)","v":0},{"$f":"IF(Q1041<='Base Numbers'!$C$5*'Base Numbers'!$C$6,0,(1-('Base Numbers'!$C$5*'Base Numbers'!$C$6)/Q1041)*Q1033)","v":0},{"$f":"IF(R1041<='Base Numbers'!$C$5*'Base Numbers'!$C$6,0,(1-('Base Numbers'!$C$5*'Base Numbers'!$C$6)/R1041)*R1033)","v":0},{"$f":"IF(S1041<='Base Numbers'!$C$5*'Base Numbers'!$C$6,0,(1-('Base Numbers'!$C$5*'Base Numbers'!$C$6)/S1041)*S1033)","v":0},{"$f":"IF(T1041<='Base Numbers'!$C$5*'Base Numbers'!$C$6,0,(1-('Base Numbers'!$C$5*'Base Numbers'!$C$6)/T1041)*T1033)","v":0},{"$f":"IF(U1041<='Base Numbers'!$C$5*'Base Numbers'!$C$6,0,(1-('Base Numbers'!$C$5*'Base Numbers'!$C$6)/U1041)*U1033)","v":0},{"$f":"IF(V1041<='Base Numbers'!$C$5*'Base Numbers'!$C$6,0,(1-('Base Numbers'!$C$5*'Base Numbers'!$C$6)/V1041)*V1033)","v":0},{"$f":"IF(W1041<='Base Numbers'!$C$5*'Base Numbers'!$C$6,0,(1-('Base Numbers'!$C$5*'Base Numbers'!$C$6)/W1041)*W1033)","v":0},{"$f":"IF(X1041<='Base Numbers'!$C$5*'Base Numbers'!$C$6,0,(1-('Base Numbers'!$C$5*'Base Numbers'!$C$6)/X1041)*X1033)","v":0}]
[{"$nulls":3},"single tiny servant single round damage (incl hit chance, crits)",{"$f":"E1035*(E1038*5.5+E1039*2.5)*'Caster Tables'!C$81","v":3.515},{"$f":"F1035*(F1038*5.5+F1039*2.5)*'Caster Tables'!D$81","v":3.33},{"$f":"G1035*(G1038*5.5+G1039*2.5)*'Caster Tables'!E$81","v":2.9797499999999997},{"$f":"H1035*(H1038*5.5+H1039*2.5)*'Caster Tables'!F$81","v":2.8427499999999997},{"$f":"I1035*(I1038*5.5+I1039*2.5)*'Caster Tables'!G$81","v":2.74},{"$f":"J1035*(J1038*5.5+J1039*2.5)*'Caster Tables'!H$81","v":2.4570000000000003},{"$f":"K1035*(K1038*5.5+K1039*2.5)*'Caster Tables'!I$81","v":2.3625000000000003},{"$f":"L1035*(L1038*5.5+L1039*2.5)*'Caster Tables'!J$81","v":2.2995},{"$f":"M1035*(M1038*5.5+M1039*2.5)*'Caster Tables'!K$81","v":2.04125},{"$f":"N1035*(N1038*5.5+N1039*2.5)*'Caster Tables'!L$81","v":1.98375},{"$f":"O1035*(O1038*5.5+O1039*2.5)*'Caster Tables'!M$81","v":1.92625},{"$f":"P1035*(P1038*5.5+P1039*2.5)*'Caster Tables'!N$81","v":1.6640000000000001},{"$f":"Q1035*(Q1038*5.5+Q1039*2.5)*'Caster Tables'!O$81","v":1.612},{"$f":"R1035*(R1038*5.5+R1039*2.5)*'Caster Tables'!P$81","v":1.534},{"$f":"S1035*(S1038*5.5+S1039*2.5)*'Caster Tables'!Q$81","v":1.3020000000000003},{"$f":"T1035*(T1038*5.5+T1039*2.5)*'Caster Tables'!R$81","v":1.2555000000000003},{"$f":"U1035*(U1038*5.5+U1039*2.5)*'Caster Tables'!S$81","v":1.209},{"$f":"V1035*(V1038*5.5+V1039*2.5)*'Caster Tables'!T$81","v":1.025},{"$f":"W1035*(W1038*5.5+W1039*2.5)*'Caster Tables'!U$81","v":1.025},{"$f":"X1035*(X1038*5.5+X1039*2.5)*'Caster Tables'!V$81","v":1.025},null,"*reduced by % of creatures resistant to nonmagical weapon dmg"]
[{"$nulls":3},"tiny servant avg damage per round of uptime",{"$f":"E1043*((E1033+MAX(1,E1042))/2)","v":1.7575},{"$f":"F1043*((F1033+MAX(1,F1042))/2)","v":1.665},1.4898749999999998,1.4213749999999998,1.37,1.2285000000000001,1.1812500000000001,1.14975,1.020625,0.991875,0.963125,0.8320000000000001,0.806,0.767,0.6510000000000001,0.6277500000000001,0.6045,0.5125,0.5125,0.5125]
[{"$nulls":3},"tiny servant avg damage per round (incl uptime)",{"$f":"MIN('Base Numbers'!$C$5*'Base Numbers'!$C$6,E1041)*E1044/('Base Numbers'!$C$5*'Base Numbers'!$C$6)","v":0},{"$f":"MIN('Base Numbers'!$C$5*'Base Numbers'!$C$6,F1041)*F1044/('Base Numbers'!$C$5*'Base Numbers'!$C$6)","v":0},{"$f":"MIN('Base Numbers'!$C$5*'Base Numbers'!$C$6,G1041)*G1044/('Base Numbers'!$C$5*'Base Numbers'!$C$6)","v":0},{"$f":"MIN('Base Numbers'!$C$5*'Base Numbers'!$C$6,H1041)*H1044/('Base Numbers'!$C$5*'Base Numbers'!$C$6)","v":0},{"$f":"MIN('Base Numbers'!$C$5*'Base Numbers'!$C$6,I1041)*I1044/('Base Numbers'!$C$5*'Base Numbers'!$C$6)","v":0},{"$f":"MIN('Base Numbers'!$C$5*'Base Numbers'!$C$6,J1041)*J1044/('Base Numbers'!$C$5*'Base Numbers'!$C$6)","v":0},{"$f":"MIN('Base Numbers'!$C$5*'Base Numbers'!$C$6,K1041)*K1044/('Base Numbers'!$C$5*'Base Numbers'!$C$6)","v":0},{"$f":"MIN('Base Numbers'!$C$5*'Base Numbers'!$C$6,L1041)*L1044/('Base Numbers'!$C$5*'Base Numbers'!$C$6)","v":0},{"$f":"MIN('Base Numbers'!$C$5*'Base Numbers'!$C$6,M1041)*M1044/('Base Numbers'!$C$5*'Base Numbers'!$C$6)","v":0},{"$f":"MIN('Base Numbers'!$C$5*'Base Numbers'!$C$6,N1041)*N1044/('Base Numbers'!$C$5*'Base Numbers'!$C$6)","v":0},{"$f":"MIN('Base Numbers'!$C$5*'Base Numbers'!$C$6,O1041)*O1044/('Base Numbers'!$C$5*'Base Numbers'!$C$6)","v":0},{"$f":"MIN('Base Numbers'!$C$5*'Base Numbers'!$C$6,P1041)*P1044/('Base Numbers'!$C$5*'Base Numbers'!$C$6)","v":0},{"$f":"MIN('Base Numbers'!$C$5*'Base Numbers'!$C$6,Q1041)*Q1044/('Base Numbers'!$C$5*'Base Numbers'!$C$6)","v":0},{"$f":"MIN('Base Numbers'!$C$5*'Base Numbers'!$C$6,R1041)*R1044/('Base Numbers'!$C$5*'Base Numbers'!$C$6)","v":0},{"$f":"MIN('Base Numbers'!$C$5*'Base Numbers'!$C$6,S1041)*S1044/('Base Numbers'!$C$5*'Base Numbers'!$C$6)","v":0},{"$f":"MIN('Base Numbers'!$C$5*'Base Numbers'!$C$6,T1041)*T1044/('Base Numbers'!$C$5*'Base Numbers'!$C$6)","v":0},{"$f":"MIN('Base Numbers'!$C$5*'Base Numbers'!$C$6,U1041)*U1044/('Base Numbers'!$C$5*'Base Numbers'!$C$6)","v":0},{"$f":"MIN('Base Numbers'!$C$5*'Base Numbers'!$C$6,V1041)*V1044/('Base Numbers'!$C$5*'Base Numbers'!$C$6)","v":0},{"$f":"MIN('Base Numbers'!$C$5*'Base Numbers'!$C$6,W1041)*W1044/('Base Numbers'!$C$5*'Base Numbers'!$C$6)","v":0},{"$f":"MIN('Base Numbers'!$C$5*'Base Numbers'!$C$6,X1041)*X1044/('Base Numbers'!$C$5*'Base Numbers'!$C$6)","v":0}]
[]
[{"$nulls":3},"total summons damage per round",{"$f":"E932+E943+E954+E965+E976+E987+E1030+E1045+E999+E1016","v":0},{"$f":"F932+F943+F954+F965+F976+F987+F1030+F1045+F999+F1016","v":0},0,0,0,0,0,0,0,0,0,0,0,0,0,0,0,0,0,0]
[]
[{"$nulls":3},"FEATS"]
[{"$nulls":3},"Piercer melee bonus damage",{"$f":"IF(AND($B$27>=1,E6>=$B$27,OR(E30=0,$B$33=1)),IF(E370=2.5,'Caster Tables'!$AB$6,0)+IF(E370=3.5,'Caster Tables'!$AB$7,0)+IF(E370=4.5,'Caster Tables'!$AB$8,0)+IF(E370=5.5,'Caster Tables'!$AB$9,0),0)","v":0},{"$f":"IF(AND($B$27>=1,F6>=$B$27,OR(F30=0,$B$33=1)),IF(F370=2.5,'Caster Tables'!$AB$6,0)+IF(F370=3.5,'Caster Tables'!$AB$7,0)+IF(F370=4.5,'Caster Tables'!$AB$8,0)+IF(F370=5.5,'Caster Tables'!$AB$9,0),0)","v":0},{"$f":"IF(AND($B$27>=1,G6>=$B$27,OR(G30=0,$B$33=1)),IF(G370=2.5,'Caster Tables'!$AB$6,0)+IF(G370=3.5,'Caster Tables'!$AB$7,0)+IF(G370=4.5,'Caster Tables'!$AB$8,0)+IF(G370=5.5,'Caster Tables'!$AB$9,0),0)","v":0},{"$f":"IF(AND($B$27>=1,H6>=$B$27,OR(H30=0,$B$33=1)),IF(H370=2.5,'Caster Tables'!$AB$6,0)+IF(H370=3.5,'Caster Tables'!$AB$7,0)+IF(H370=4.5,'Caster Tables'!$AB$8,0)+IF(H370=5.5,'Caster Tables'!$AB$9,0),0)","v":0},{"$f":"IF(AND($B$27>=1,I6>=$B$27,OR(I30=0,$B$33=1)),IF(I370=2.5,'Caster Tables'!$AB$6,0)+IF(I370=3.5,'Caster Tables'!$AB$7,0)+IF(I370=4.5,'Caster Tables'!$AB$8,0)+IF(I370=5.5,'Caster Tables'!$AB$9,0),0)","v":0},{"$f":"IF(AND($B$27>=1,J6>=$B$27,OR(J30=0,$B$33=1)),IF(J370=2.5,'Caster Tables'!$AB$6,0)+IF(J370=3.5,'Caster Tables'!$AB$7,0)+IF(J370=4.5,'Caster Tables'!$AB$8,0)+IF(J370=5.5,'Caster Tables'!$AB$9,0),0)","v":0},{"$f":"IF(AND($B$27>=1,K6>=$B$27,OR(K30=0,$B$33=1)),IF(K370=2.5,'Caster Tables'!$AB$6,0)+IF(K370=3.5,'Caster Tables'!$AB$7,0)+IF(K370=4.5,'Caster Tables'!$AB$8,0)+IF(K370=5.5,'Caster Tables'!$AB$9,0),0)","v":0},{"$f":"IF(AND($B$27>=1,L6>=$B$27,OR(L30=0,$B$33=1)),IF(L370=2.5,'Caster Tables'!$AB$6,0)+IF(L370=3.5,'Caster Tables'!$AB$7,0)+IF(L370=4.5,'Caster Tables'!$AB$8,0)+IF(L370=5.5,'Caster Tables'!$AB$9,0),0)","v":0},{"$f":"IF(AND($B$27>=1,M6>=$B$27,OR(M30=0,$B$33=1)),IF(M370=2.5,'Caster Tables'!$AB$6,0)+IF(M370=3.5,'Caster Tables'!$AB$7,0)+IF(M370=4.5,'Caster Tables'!$AB$8,0)+IF(M370=5.5,'Caster Tables'!$AB$9,0),0)","v":0},{"$f":"IF(AND($B$27>=1,N6>=$B$27,OR(N30=0,$B$33=1)),IF(N370=2.5,'Caster Tables'!$AB$6,0)+IF(N370=3.5,'Caster Tables'!$AB$7,0)+IF(N370=4.5,'Caster Tables'!$AB$8,0)+IF(N370=5.5,'Caster Tables'!$AB$9,0),0)","v":0},{"$f":"IF(AND($B$27>=1,O6>=$B$27,OR(O30=0,$B$33=1)),IF(O370=2.5,'Caster Tables'!$AB$6,0)+IF(O370=3.5,'Caster Tables'!$AB$7,0)+IF(O370=4.5,'Caster Tables'!$AB$8,0)+IF(O370=5.5,'Caster Tables'!$AB$9,0),0)","v":0},{"$f":"IF(AND($B$27>=1,P6>=$B$27,OR(P30=0,$B$33=1)),IF(P370=2.5,'Caster Tables'!$AB$6,0)+IF(P370=3.5,'Caster Tables'!$AB$7,0)+IF(P370=4.5,'Caster Tables'!$AB$8,0)+IF(P370=5.5,'Caster Tables'!$AB$9,0),0)","v":0},{"$f":"IF(AND($B$27>=1,Q6>=$B$27,OR(Q30=0,$B$33=1)),IF(Q370=2.5,'Caster Tables'!$AB$6,0)+IF(Q370=3.5,'Caster Tables'!$AB$7,0)+IF(Q370=4.5,'Caster Tables'!$AB$8,0)+IF(Q370=5.5,'Caster Tables'!$AB$9,0),0)","v":0},{"$f":"IF(AND($B$27>=1,R6>=$B$27,OR(R30=0,$B$33=1)),IF(R370=2.5,'Caster Tables'!$AB$6,0)+IF(R370=3.5,'Caster Tables'!$AB$7,0)+IF(R370=4.5,'Caster Tables'!$AB$8,0)+IF(R370=5.5,'Caster Tables'!$AB$9,0),0)","v":0},{"$f":"IF(AND($B$27>=1,S6>=$B$27,OR(S30=0,$B$33=1)),IF(S370=2.5,'Caster Tables'!$AB$6,0)+IF(S370=3.5,'Caster Tables'!$AB$7,0)+IF(S370=4.5,'Caster Tables'!$AB$8,0)+IF(S370=5.5,'Caster Tables'!$AB$9,0),0)","v":0},{"$f":"IF(AND($B$27>=1,T6>=$B$27,OR(T30=0,$B$33=1)),IF(T370=2.5,'Caster Tables'!$AB$6,0)+IF(T370=3.5,'Caster Tables'!$AB$7,0)+IF(T370=4.5,'Caster Tables'!$AB$8,0)+IF(T370=5.5,'Caster Tables'!$AB$9,0),0)","v":0},{"$f":"IF(AND($B$27>=1,U6>=$B$27,OR(U30=0,$B$33=1)),IF(U370=2.5,'Caster Tables'!$AB$6,0)+IF(U370=3.5,'Caster Tables'!$AB$7,0)+IF(U370=4.5,'Caster Tables'!$AB$8,0)+IF(U370=5.5,'Caster Tables'!$AB$9,0),0)","v":0},{"$f":"IF(AND($B$27>=1,V6>=$B$27,OR(V30=0,$B$33=1)),IF(V370=2.5,'Caster Tables'!$AB$6,0)+IF(V370=3.5,'Caster Tables'!$AB$7,0)+IF(V370=4.5,'Caster Tables'!$AB$8,0)+IF(V370=5.5,'Caster Tables'!$AB$9,0),0)","v":0},{"$f":"IF(AND($B$27>=1,W6>=$B$27,OR(W30=0,$B$33=1)),IF(W370=2.5,'Caster Tables'!$AB$6,0)+IF(W370=3.5,'Caster Tables'!$AB$7,0)+IF(W370=4.5,'Caster Tables'!$AB$8,0)+IF(W370=5.5,'Caster Tables'!$AB$9,0),0)","v":0},{"$f":"IF(AND($B$27>=1,X6>=$B$27,OR(X30=0,$B$33=1)),IF(X370=2.5,'Caster Tables'!$AB$6,0)+IF(X370=3.5,'Caster Tables'!$AB$7,0)+IF(X370=4.5,'Caster Tables'!$AB$8,0)+IF(X370=5.5,'Caster Tables'!$AB$9,0),0)","v":0}]
[{"$nulls":3},"Piercer ranged bonus damage",{"$f":"IF(AND($B$27>=1,E6>=$B$27),IF(E655=3.5,'Caster Tables'!$AB$7,0)+IF(E655=4.5,'Caster Tables'!$AB$8,0)+IF(E655=5.5,'Caster Tables'!$AB$9,0),0)","v":0},{"$f":"IF(AND($B$27>=1,F6>=$B$27),IF(F655=3.5,'Caster Tables'!$AB$7,0)+IF(F655=4.5,'Caster Tables'!$AB$8,0)+IF(F655=5.5,'Caster Tables'!$AB$9,0),0)","v":0},{"$f":"IF(AND($B$27>=1,G6>=$B$27),IF(G655=3.5,'Caster Tables'!$AB$7,0)+IF(G655=4.5,'Caster Tables'!$AB$8,0)+IF(G655=5.5,'Caster Tables'!$AB$9,0),0)","v":0},{"$f":"IF(AND($B$27>=1,H6>=$B$27),IF(H655=3.5,'Caster Tables'!$AB$7,0)+IF(H655=4.5,'Caster Tables'!$AB$8,0)+IF(H655=5.5,'Caster Tables'!$AB$9,0),0)","v":0},{"$f":"IF(AND($B$27>=1,I6>=$B$27),IF(I655=3.5,'Caster Tables'!$AB$7,0)+IF(I655=4.5,'Caster Tables'!$AB$8,0)+IF(I655=5.5,'Caster Tables'!$AB$9,0),0)","v":0},{"$f":"IF(AND($B$27>=1,J6>=$B$27),IF(J655=3.5,'Caster Tables'!$AB$7,0)+IF(J655=4.5,'Caster Tables'!$AB$8,0)+IF(J655=5.5,'Caster Tables'!$AB$9,0),0)","v":0},{"$f":"IF(AND($B$27>=1,K6>=$B$27),IF(K655=3.5,'Caster Tables'!$AB$7,0)+IF(K655=4.5,'Caster Tables'!$AB$8,0)+IF(K655=5.5,'Caster Tables'!$AB$9,0),0)","v":0},{"$f":"IF(AND($B$27>=1,L6>=$B$27),IF(L655=3.5,'Caster Tables'!$AB$7,0)+IF(L655=4.5,'Caster Tables'!$AB$8,0)+IF(L655=5.5,'Caster Tables'!$AB$9,0),0)","v":0},{"$f":"IF(AND($B$27>=1,M6>=$B$27),IF(M655=3.5,'Caster Tables'!$AB$7,0)+IF(M655=4.5,'Caster Tables'!$AB$8,0)+IF(M655=5.5,'Caster Tables'!$AB$9,0),0)","v":1},{"$f":"IF(AND($B$27>=1,N6>=$B$27),IF(N655=3.5,'Caster Tables'!$AB$7,0)+IF(N655=4.5,'Caster Tables'!$AB$8,0)+IF(N655=5.5,'Caster Tables'!$AB$9,0),0)","v":1},{"$f":"IF(AND($B$27>=1,O6>=$B$27),IF(O655=3.5,'Caster Tables'!$AB$7,0)+IF(O655=4.5,'Caster Tables'!$AB$8,0)+IF(O655=5.5,'Caster Tables'!$AB$9,0),0)","v":1},{"$f":"IF(AND($B$27>=1,P6>=$B$27),IF(P655=3.5,'Caster Tables'!$AB$7,0)+IF(P655=4.5,'Caster Tables'!$AB$8,0)+IF(P655=5.5,'Caster Tables'!$AB$9,0),0)","v":1},{"$f":"IF(AND($B$27>=1,Q6>=$B$27),IF(Q655=3.5,'Caster Tables'!$AB$7,0)+IF(Q655=4.5,'Caster Tables'!$AB$8,0)+IF(Q655=5.5,'Caster Tables'!$AB$9,0),0)","v":1},{"$f":"IF(AND($B$27>=1,R6>=$B$27),IF(R655=3.5,'Caster Tables'!$AB$7,0)+IF(R655=4.5,'Caster Tables'!$AB$8,0)+IF(R655=5.5,'Caster Tables'!$AB$9,0),0)","v":1},{"$f":"IF(AND($B$27>=1,S6>=$B$27),IF(S655=3.5,'Caster Tables'!$AB$7,0)+IF(S655=4.5,'Caster Tables'!$AB$8,0)+IF(S655=5.5,'Caster Tables'!$AB$9,0),0)","v":1},{"$f":"IF(AND($B$27>=1,T6>=$B$27),IF(T655=3.5,'Caster Tables'!$AB$7,0)+IF(T655=4.5,'Caster Tables'!$AB$8,0)+IF(T655=5.5,'Caster Tables'!$AB$9,0),0)","v":1},{"$f":"IF(AND($B$27>=1,U6>=$B$27),IF(U655=3.5,'Caster Tables'!$AB$7,0)+IF(U655=4.5,'Caster Tables'!$AB$8,0)+IF(U655=5.5,'Caster Tables'!$AB$9,0),0)","v":1},{"$f":"IF(AND($B$27>=1,V6>=$B$27),IF(V655=3.5,'Caster Tables'!$AB$7,0)+IF(V655=4.5,'Caster Tables'!$AB$8,0)+IF(V655=5.5,'Caster Tables'!$AB$9,0),0)","v":1},{"$f":"IF(AND($B$27>=1,W6>=$B$27),IF(W655=3.5,'Caster Tables'!$AB$7,0)+IF(W655=4.5,'Caster Tables'!$AB$8,0)+IF(W655=5.5,'Caster Tables'!$AB$9,0),0)","v":1},{"$f":"IF(AND($B$27>=1,X6>=$B$27),IF(X655=3.5,'Caster Tables'!$AB$7,0)+IF(X655=4.5,'Caster Tables'!$AB$8,0)+IF(X655=5.5,'Caster Tables'!$AB$9,0),0)","v":1}]
[{"$nulls":3},"Piercer bonus damage per own turn (incl crits)",{"$f":"E1615*(1+E1587)*IF(E1592,E1051,E1050)","v":0},0,0,0,0,0,0,0,1.0500423629035072,1.0469838562122775,1.0439085626171853,1.039479545553732,1.0887265227879626,1.0861441333570439,1.06010034181794,1.0570982192554175,1.1369122726174812,1.1201310025953966,1.1181671229194066,1.1148708050637486]
[{"$nulls":3},"Piercer  bonus damage per opp att",{"$f":"IF(E1595=1,E418,0)*(1+E535)*E1050","v":0},0,0,0,0,0,0,0,0,0,0,0,0,0,0,0,0,0,0,0]
[{"$nulls":3},"Crusher number of attacks benefitting from adv",{"$f":"IF(AND($B$28>=1,E6>=$B$28),E1587*(E1600+E1601+E1602-1)/2,0)","v":0},0,0,0,0,0,0,0,0,0,0,0,0,0,0,0,0,0,0,0]
[{"$nulls":3},"total increased adv pct",{"$f":"IF(E1600+E1601+E1602>0,(1-E512)*E1054/(E1600+E1601+E1602),0)","v":0},0,0,0,0,0,0,0,0,0,0,0,0,0,0,0,0,0,0,0]
[{"$nulls":3},"total avg adv with Crusher",{"$f":"E1055+E512","v":0},0,0.32830000000000004,0.3417,0.3551,0.3551,0.3551,0.3551,0.34840000000000004,0.335,0.3216,0.42650000000000005,0.4198,0.4064,0.393,0.3796,0.68645,0.67975,0.6697,0.65295]
[{"$nulls":3},"Total damage with Crusher",{"$f":"((1-E1056)*E391+E1056*E393)*(E1597+E1598+E1599+E1626)/((1-E512)*E391+E512*E393)","v":5.253125000000001},6.995585,7.763531654921093,10.877818560395314,24.677556400456247,22.6272673256625,22.979112548833594,22.979112548833594,26.758954977698437,26.60013835896485,26.44132174023125,25.495271441097657,31.011604585223438,30.847591185975002,28.484053574378905,28.318536955645314,34.2753488322082,32.025985695413084,32.025679340625004,31.817959973437496]
[{"$nulls":3},"damage gain per round with Crusher",{"$f":"ROUND(E1057-E1597-E1598-E1599-E1626,4)","v":0},0,0,0,0,0,0,0,0,0,0,0,0,0,0,0,0,0,0,0]
[{"$nulls":3},"Total bonus feats damage per round",{"$f":"E1058+E1052+E1053","v":0},{"$f":"F1058+F1052+F1053","v":0},0,0,0,0,0,0,1.0500423629035072,1.0469838562122775,1.0439085626171853,1.039479545553732,1.0887265227879626,1.0861441333570439,1.06010034181794,1.0570982192554175,1.1369122726174812,1.1201310025953966,1.1181671229194066,1.1148708050637486]
[]
[{"$nulls":3},"CHANNEL DIVINITY"]
[{"$nulls":3},"Channel Divs from Paladin",{"$f":"IF(E7>=3,1+'Base Numbers'!$C$7,0)","v":0},{"$f":"IF(F7>=3,1+'Base Numbers'!$C$7,0)","v":0},{"$f":"IF(G7>=3,1+'Base Numbers'!$C$7,0)","v":0},{"$f":"IF(H7>=3,1+'Base Numbers'!$C$7,0)","v":0},{"$f":"IF(I7>=3,1+'Base Numbers'!$C$7,0)","v":0},{"$f":"IF(J7>=3,1+'Base Numbers'!$C$7,0)","v":0},{"$f":"IF(K7>=3,1+'Base Numbers'!$C$7,0)","v":0},{"$f":"IF(L7>=3,1+'Base Numbers'!$C$7,0)","v":0},{"$f":"IF(M7>=3,1+'Base Numbers'!$C$7,0)","v":0},{"$f":"IF(N7>=3,1+'Base Numbers'!$C$7,0)","v":0},{"$f":"IF(O7>=3,1+'Base Numbers'!$C$7,0)","v":0},{"$f":"IF(P7>=3,1+'Base Numbers'!$C$7,0)","v":0},{"$f":"IF(Q7>=3,1+'Base Numbers'!$C$7,0)","v":0},{"$f":"IF(R7>=3,1+'Base Numbers'!$C$7,0)","v":0},{"$f":"IF(S7>=3,1+'Base Numbers'!$C$7,0)","v":0},{"$f":"IF(T7>=3,1+'Base Numbers'!$C$7,0)","v":0},{"$f":"IF(U7>=3,1+'Base Numbers'!$C$7,0)","v":0},{"$f":"IF(V7>=3,1+'Base Numbers'!$C$7,0)","v":0},{"$f":"IF(W7>=3,1+'Base Numbers'!$C$7,0)","v":0},{"$f":"IF(X7>=3,1+'Base Numbers'!$C$7,0)","v":0}]
[{"$nulls":3},"Channel Divs from Cleric",{"$f":"(1+'Base Numbers'!$C$7)*IF(E16>=2,IF(E16>=6,IF(E16>=18,3,2),1),0)","v":0},{"$f":"(1+'Base Numbers'!$C$7)*IF(F16>=2,IF(F16>=6,IF(F16>=18,3,2),1),0)","v":0},{"$f":"(1+'Base Numbers'!$C$7)*IF(G16>=2,IF(G16>=6,IF(G16>=18,3,2),1),0)","v":0},{"$f":"(1+'Base Numbers'!$C$7)*IF(H16>=2,IF(H16>=6,IF(H16>=18,3,2),1),0)","v":0},{"$f":"(1+'Base Numbers'!$C$7)*IF(I16>=2,IF(I16>=6,IF(I16>=18,3,2),1),0)","v":0},{"$f":"(1+'Base Numbers'!$C$7)*IF(J16>=2,IF(J16>=6,IF(J16>=18,3,2),1),0)","v":0},{"$f":"(1+'Base Numbers'!$C$7)*IF(K16>=2,IF(K16>=6,IF(K16>=18,3,2),1),0)","v":0},{"$f":"(1+'Base Numbers'!$C$7)*IF(L16>=2,IF(L16>=6,IF(L16>=18,3,2),1),0)","v":0},{"$f":"(1+'Base Numbers'!$C$7)*IF(M16>=2,IF(M16>=6,IF(M16>=18,3,2),1),0)","v":0},{"$f":"(1+'Base Numbers'!$C$7)*IF(N16>=2,IF(N16>=6,IF(N16>=18,3,2),1),0)","v":0},{"$f":"(1+'Base Numbers'!$C$7)*IF(O16>=2,IF(O16>=6,IF(O16>=18,3,2),1),0)","v":0},{"$f":"(1+'Base Numbers'!$C$7)*IF(P16>=2,IF(P16>=6,IF(P16>=18,3,2),1),0)","v":0},{"$f":"(1+'Base Numbers'!$C$7)*IF(Q16>=2,IF(Q16>=6,IF(Q16>=18,3,2),1),0)","v":0},{"$f":"(1+'Base Numbers'!$C$7)*IF(R16>=2,IF(R16>=6,IF(R16>=18,3,2),1),0)","v":0},{"$f":"(1+'Base Numbers'!$C$7)*IF(S16>=2,IF(S16>=6,IF(S16>=18,3,2),1),0)","v":0},{"$f":"(1+'Base Numbers'!$C$7)*IF(T16>=2,IF(T16>=6,IF(T16>=18,3,2),1),0)","v":0},{"$f":"(1+'Base Numbers'!$C$7)*IF(U16>=2,IF(U16>=6,IF(U16>=18,3,2),1),0)","v":0},{"$f":"(1+'Base Numbers'!$C$7)*IF(V16>=2,IF(V16>=6,IF(V16>=18,3,2),1),0)","v":0},{"$f":"(1+'Base Numbers'!$C$7)*IF(W16>=2,IF(W16>=6,IF(W16>=18,3,2),1),0)","v":0},{"$f":"(1+'Base Numbers'!$C$7)*IF(X16>=2,IF(X16>=6,IF(X16>=18,3,2),1),0)","v":0}]
[{"$nulls":3},"Total Channel Divs per day",{"$f":"MAX(E1062,E1063)","v":0},{"$f":"MAX(F1062,F1063)","v":0},0,0,0,0,0,0,0,0,0,0,0,0,0,0,0,0,0,0]
[{"$nulls":3},"Channel Divs used on Vow of Emnity",{"$f":"IF(AND(E7>=3,E40>=1),MIN(E1064,'Base Numbers'!$C$5),0)","v":0},{"$f":"IF(AND(F7>=3,F40>=1),MIN(F1064,'Base Numbers'!$C$5),0)","v":0},{"$f":"IF(AND(G7>=3,G40>=1),MIN(G1064,'Base Numbers'!$C$5),0)","v":0},{"$f":"IF(AND(H7>=3,H40>=1),MIN(H1064,'Base Numbers'!$C$5),0)","v":0},{"$f":"IF(AND(I7>=3,I40>=1),MIN(I1064,'Base Numbers'!$C$5),0)","v":0},{"$f":"IF(AND(J7>=3,J40>=1),MIN(J1064,'Base Numbers'!$C$5),0)","v":0},{"$f":"IF(AND(K7>=3,K40>=1),MIN(K1064,'Base Numbers'!$C$5),0)","v":0},{"$f":"IF(AND(L7>=3,L40>=1),MIN(L1064,'Base Numbers'!$C$5),0)","v":0},{"$f":"IF(AND(M7>=3,M40>=1),MIN(M1064,'Base Numbers'!$C$5),0)","v":0},{"$f":"IF(AND(N7>=3,N40>=1),MIN(N1064,'Base Numbers'!$C$5),0)","v":0},{"$f":"IF(AND(O7>=3,O40>=1),MIN(O1064,'Base Numbers'!$C$5),0)","v":0},{"$f":"IF(AND(P7>=3,P40>=1),MIN(P1064,'Base Numbers'!$C$5),0)","v":0},{"$f":"IF(AND(Q7>=3,Q40>=1),MIN(Q1064,'Base Numbers'!$C$5),0)","v":0},{"$f":"IF(AND(R7>=3,R40>=1),MIN(R1064,'Base Numbers'!$C$5),0)","v":0},{"$f":"IF(AND(S7>=3,S40>=1),MIN(S1064,'Base Numbers'!$C$5),0)","v":0},{"$f":"IF(AND(T7>=3,T40>=1),MIN(T1064,'Base Numbers'!$C$5),0)","v":0},{"$f":"IF(AND(U7>=3,U40>=1),MIN(U1064,'Base Numbers'!$C$5),0)","v":0},{"$f":"IF(AND(V7>=3,V40>=1),MIN(V1064,'Base Numbers'!$C$5),0)","v":0},{"$f":"IF(AND(W7>=3,W40>=1),MIN(W1064,'Base Numbers'!$C$5),0)","v":0},{"$f":"IF(AND(X7>=3,X40>=1),MIN(X1064,'Base Numbers'!$C$5),0)","v":0}]
[{"$nulls":3},"Channel Divs remaining after Vow of Emnity",{"$f":"MAX(0,E1064-E1065)","v":0},{"$f":"MAX(0,F1064-F1065)","v":0},0,0,0,0,0,0,0,0,0,0,0,0,0,0,0,0,0,0]
[{"$nulls":3},"Channel Divs used on Conquering Presence",{"$f":"IF(AND(E7>=3,E42>=1),E1066,0)","v":0},0,0,0,0,0,0,0,0,0,0,0,0,0,0,0,0,0,0,0]
[{"$nulls":3},"Channel Divs remaining after Conq Presence",{"$f":"MAX(0,E1066-E1067)","v":0},{"$f":"MAX(0,F1066-F1067)","v":0},0,0,0,0,0,0,0,0,0,0,0,0,0,0,0,0,0,0]
[]
[{"$nulls":3},"PALADIN ABILITIES"]
[{"$nulls":3},"Fear from Undead Warlock (avg feared targets per round)",{"$f":"E1387*E1384*(1-'Caster Tables'!C85)*(1-E738)","v":0},{"$f":"F1387*F1384*(1-'Caster Tables'!D85)*(1-F738)","v":0},{"$f":"G1387*G1384*(1-'Caster Tables'!E85)*(1-G738)","v":0},{"$f":"H1387*H1384*(1-'Caster Tables'!F85)*(1-H738)","v":0},{"$f":"I1387*I1384*(1-'Caster Tables'!G85)*(1-I738)","v":0},{"$f":"J1387*J1384*(1-'Caster Tables'!H85)*(1-J738)","v":0},{"$f":"K1387*K1384*(1-'Caster Tables'!I85)*(1-K738)","v":0},{"$f":"L1387*L1384*(1-'Caster Tables'!J85)*(1-L738)","v":0},{"$f":"M1387*M1384*(1-'Caster Tables'!K85)*(1-M738)","v":0},{"$f":"N1387*N1384*(1-'Caster Tables'!L85)*(1-N738)","v":0},{"$f":"O1387*O1384*(1-'Caster Tables'!M85)*(1-O738)","v":0},{"$f":"P1387*P1384*(1-'Caster Tables'!N85)*(1-P738)","v":0},{"$f":"Q1387*Q1384*(1-'Caster Tables'!O85)*(1-Q738)","v":0},{"$f":"R1387*R1384*(1-'Caster Tables'!P85)*(1-R738)","v":0},{"$f":"S1387*S1384*(1-'Caster Tables'!Q85)*(1-S738)","v":0},{"$f":"T1387*T1384*(1-'Caster Tables'!R85)*(1-T738)","v":0},{"$f":"U1387*U1384*(1-'Caster Tables'!S85)*(1-U738)","v":0},{"$f":"V1387*V1384*(1-'Caster Tables'!T85)*(1-V738)","v":0},{"$f":"W1387*W1384*(1-'Caster Tables'!U85)*(1-W738)","v":0},{"$f":"X1387*X1384*(1-'Caster Tables'!V85)*(1-X738)","v":0}]
[{"$nulls":3},"Fear spell save rate (WIS) vs. Caster Stat",{"$f":"E738","v":0.375},0.4,0.425,0.45,0.425,0.45,0.475,0.5,0.475,0.5,0.525,0.55,0.525,0.55,0.575,0.6,0.575,0.6,0.625,0.65]
[{"$nulls":3},"max total target rounds of Fear (limited by Fear immunity, saves)",{"$f":"(1-'Caster Tables'!C85)*(1-E738)*('Base Numbers'!$G$20*'Base Numbers'!$G$21+'Base Numbers'!$C$5*'Base Numbers'!$C$6)*E540","v":16.12731170654297},{"$f":"(1-'Caster Tables'!D85)*(1-F738)*('Base Numbers'!$G$20*'Base Numbers'!$G$21+'Base Numbers'!$C$5*'Base Numbers'!$C$6)*F540","v":14.1474816},{"$f":"(1-'Caster Tables'!E85)*(1-G738)*('Base Numbers'!$G$20*'Base Numbers'!$G$21+'Base Numbers'!$C$5*'Base Numbers'!$C$6)*G540","v":12.368303872558592},{"$f":"(1-'Caster Tables'!F85)*(1-H738)*('Base Numbers'!$G$20*'Base Numbers'!$G$21+'Base Numbers'!$C$5*'Base Numbers'!$C$6)*H540","v":10.772918887500001},{"$f":"(1-'Caster Tables'!G85)*(1-I738)*('Base Numbers'!$G$20*'Base Numbers'!$G$21+'Base Numbers'!$C$5*'Base Numbers'!$C$6)*I540","v":12.077284957910154},{"$f":"(1-'Caster Tables'!H85)*(1-J738)*('Base Numbers'!$G$20*'Base Numbers'!$G$21+'Base Numbers'!$C$5*'Base Numbers'!$C$6)*J540","v":10.388171784375002},{"$f":"(1-'Caster Tables'!I85)*(1-K738)*('Base Numbers'!$G$20*'Base Numbers'!$G$21+'Base Numbers'!$C$5*'Base Numbers'!$C$6)*K540","v":8.895243859277345},{"$f":"(1-'Caster Tables'!J85)*(1-L738)*('Base Numbers'!$G$20*'Base Numbers'!$G$21+'Base Numbers'!$C$5*'Base Numbers'!$C$6)*L540","v":7.5796875},{"$f":"(1-'Caster Tables'!K85)*(1-M738)*('Base Numbers'!$G$20*'Base Numbers'!$G$21+'Base Numbers'!$C$5*'Base Numbers'!$C$6)*M540","v":8.444851765136718},{"$f":"(1-'Caster Tables'!L85)*(1-N738)*('Base Numbers'!$G$20*'Base Numbers'!$G$21+'Base Numbers'!$C$5*'Base Numbers'!$C$6)*N540","v":7.0874999999999995},{"$f":"(1-'Caster Tables'!M85)*(1-O738)*('Base Numbers'!$G$20*'Base Numbers'!$G$21+'Base Numbers'!$C$5*'Base Numbers'!$C$6)*O540","v":5.9958972978515614},{"$f":"(1-'Caster Tables'!N85)*(1-P738)*('Base Numbers'!$G$20*'Base Numbers'!$G$21+'Base Numbers'!$C$5*'Base Numbers'!$C$6)*P540","v":4.893745106249998},{"$f":"(1-'Caster Tables'!O85)*(1-Q738)*('Base Numbers'!$G$20*'Base Numbers'!$G$21+'Base Numbers'!$C$5*'Base Numbers'!$C$6)*Q540","v":5.48196324375},{"$f":"(1-'Caster Tables'!P85)*(1-R738)*('Base Numbers'!$G$20*'Base Numbers'!$G$21+'Base Numbers'!$C$5*'Base Numbers'!$C$6)*R540","v":4.523006840624999},{"$f":"(1-'Caster Tables'!Q85)*(1-S738)*('Base Numbers'!$G$20*'Base Numbers'!$G$21+'Base Numbers'!$C$5*'Base Numbers'!$C$6)*S540","v":3.7012804048828145},{"$f":"(1-'Caster Tables'!R85)*(1-T738)*('Base Numbers'!$G$20*'Base Numbers'!$G$21+'Base Numbers'!$C$5*'Base Numbers'!$C$6)*T540","v":2.946585600000001},{"$f":"(1-'Caster Tables'!S85)*(1-U738)*('Base Numbers'!$G$20*'Base Numbers'!$G$21+'Base Numbers'!$C$5*'Base Numbers'!$C$6)*U540","v":3.2545741491210953},{"$f":"(1-'Caster Tables'!T85)*(1-V738)*('Base Numbers'!$G$20*'Base Numbers'!$G$21+'Base Numbers'!$C$5*'Base Numbers'!$C$6)*V540","v":2.6737536000000013},{"$f":"(1-'Caster Tables'!U85)*(1-W738)*('Base Numbers'!$G$20*'Base Numbers'!$G$21+'Base Numbers'!$C$5*'Base Numbers'!$C$6)*W540","v":2.1768338012695314},{"$f":"(1-'Caster Tables'!V85)*(1-X738)*('Base Numbers'!$G$20*'Base Numbers'!$G$21+'Base Numbers'!$C$5*'Base Numbers'!$C$6)*X540","v":1.7152529624999995},null,"limited by number of fights against monsters immune to fear"]
[{"$nulls":3},"total target-rounds Feared by Fear spell",{"$f":"MIN('Base Numbers'!$G$21,E290)*'Base Numbers'!$G$20*(1+E357)*E540*(1-E1072)","v":0},{"$f":"MIN('Base Numbers'!$G$21,F290)*'Base Numbers'!$G$20*(1+F357)*F540*(1-F1072)","v":0},{"$f":"MIN('Base Numbers'!$G$21,G290)*'Base Numbers'!$G$20*(1+G357)*G540*(1-G1072)","v":0},{"$f":"MIN('Base Numbers'!$G$21,H290)*'Base Numbers'!$G$20*(1+H357)*H540*(1-H1072)","v":0},{"$f":"MIN('Base Numbers'!$G$21,I290)*'Base Numbers'!$G$20*(1+I357)*I540*(1-I1072)","v":0},{"$f":"MIN('Base Numbers'!$G$21,J290)*'Base Numbers'!$G$20*(1+J357)*J540*(1-J1072)","v":0},{"$f":"MIN('Base Numbers'!$G$21,K290)*'Base Numbers'!$G$20*(1+K357)*K540*(1-K1072)","v":0},{"$f":"MIN('Base Numbers'!$G$21,L290)*'Base Numbers'!$G$20*(1+L357)*L540*(1-L1072)","v":0},{"$f":"MIN('Base Numbers'!$G$21,M290)*'Base Numbers'!$G$20*(1+M357)*M540*(1-M1072)","v":0},{"$f":"MIN('Base Numbers'!$G$21,N290)*'Base Numbers'!$G$20*(1+N357)*N540*(1-N1072)","v":0},{"$f":"MIN('Base Numbers'!$G$21,O290)*'Base Numbers'!$G$20*(1+O357)*O540*(1-O1072)","v":0},{"$f":"MIN('Base Numbers'!$G$21,P290)*'Base Numbers'!$G$20*(1+P357)*P540*(1-P1072)","v":0},{"$f":"MIN('Base Numbers'!$G$21,Q290)*'Base Numbers'!$G$20*(1+Q357)*Q540*(1-Q1072)","v":0},{"$f":"MIN('Base Numbers'!$G$21,R290)*'Base Numbers'!$G$20*(1+R357)*R540*(1-R1072)","v":0},{"$f":"MIN('Base Numbers'!$G$21,S290)*'Base Numbers'!$G$20*(1+S357)*S540*(1-S1072)","v":0},{"$f":"MIN('Base Numbers'!$G$21,T290)*'Base Numbers'!$G$20*(1+T357)*T540*(1-T1072)","v":0},{"$f":"MIN('Base Numbers'!$G$21,U290)*'Base Numbers'!$G$20*(1+U357)*U540*(1-U1072)","v":0},{"$f":"MIN('Base Numbers'!$G$21,V290)*'Base Numbers'!$G$20*(1+V357)*V540*(1-V1072)","v":0},{"$f":"MIN('Base Numbers'!$G$21,W290)*'Base Numbers'!$G$20*(1+W357)*W540*(1-W1072)","v":0},{"$f":"MIN('Base Numbers'!$G$21,X290)*'Base Numbers'!$G$20*(1+X357)*X540*(1-X1072)","v":0},null,"   and also the save probability in remaining fights"]
[{"$nulls":3},"total target-rounds of Feared targets by Conq Presences",{"$f":"MIN('Base Numbers'!$G$21,E1067)*'Base Numbers'!$G$20*E540*(1-E1072)","v":0},{"$f":"MIN('Base Numbers'!$G$21,F1067)*'Base Numbers'!$G$20*F540*(1-F1072)","v":0},{"$f":"MIN('Base Numbers'!$G$21,G1067)*'Base Numbers'!$G$20*G540*(1-G1072)","v":0},{"$f":"MIN('Base Numbers'!$G$21,H1067)*'Base Numbers'!$G$20*H540*(1-H1072)","v":0},{"$f":"MIN('Base Numbers'!$G$21,I1067)*'Base Numbers'!$G$20*I540*(1-I1072)","v":0},{"$f":"MIN('Base Numbers'!$G$21,J1067)*'Base Numbers'!$G$20*J540*(1-J1072)","v":0},{"$f":"MIN('Base Numbers'!$G$21,K1067)*'Base Numbers'!$G$20*K540*(1-K1072)","v":0},{"$f":"MIN('Base Numbers'!$G$21,L1067)*'Base Numbers'!$G$20*L540*(1-L1072)","v":0},{"$f":"MIN('Base Numbers'!$G$21,M1067)*'Base Numbers'!$G$20*M540*(1-M1072)","v":0},{"$f":"MIN('Base Numbers'!$G$21,N1067)*'Base Numbers'!$G$20*N540*(1-N1072)","v":0},{"$f":"MIN('Base Numbers'!$G$21,O1067)*'Base Numbers'!$G$20*O540*(1-O1072)","v":0},{"$f":"MIN('Base Numbers'!$G$21,P1067)*'Base Numbers'!$G$20*P540*(1-P1072)","v":0},{"$f":"MIN('Base Numbers'!$G$21,Q1067)*'Base Numbers'!$G$20*Q540*(1-Q1072)","v":0},{"$f":"MIN('Base Numbers'!$G$21,R1067)*'Base Numbers'!$G$20*R540*(1-R1072)","v":0},{"$f":"MIN('Base Numbers'!$G$21,S1067)*'Base Numbers'!$G$20*S540*(1-S1072)","v":0},{"$f":"MIN('Base Numbers'!$G$21,T1067)*'Base Numbers'!$G$20*T540*(1-T1072)","v":0},{"$f":"MIN('Base Numbers'!$G$21,U1067)*'Base Numbers'!$G$20*U540*(1-U1072)","v":0},{"$f":"MIN('Base Numbers'!$G$21,V1067)*'Base Numbers'!$G$20*V540*(1-V1072)","v":0},{"$f":"MIN('Base Numbers'!$G$21,W1067)*'Base Numbers'!$G$20*W540*(1-W1072)","v":0},{"$f":"MIN('Base Numbers'!$G$21,X1067)*'Base Numbers'!$G$20*X540*(1-X1072)","v":0}]
[{"$nulls":3},"total target-rounds of Fear by Undead Warlock",{"$f":"E1071*'Base Numbers'!$C$5*'Base Numbers'!$C$6","v":0},{"$f":"F1071*'Base Numbers'!$C$5*'Base Numbers'!$C$6","v":0},{"$f":"G1071*'Base Numbers'!$C$5*'Base Numbers'!$C$6","v":0},{"$f":"H1071*'Base Numbers'!$C$5*'Base Numbers'!$C$6","v":0},{"$f":"I1071*'Base Numbers'!$C$5*'Base Numbers'!$C$6","v":0},{"$f":"J1071*'Base Numbers'!$C$5*'Base Numbers'!$C$6","v":0},{"$f":"K1071*'Base Numbers'!$C$5*'Base Numbers'!$C$6","v":0},{"$f":"L1071*'Base Numbers'!$C$5*'Base Numbers'!$C$6","v":0},{"$f":"M1071*'Base Numbers'!$C$5*'Base Numbers'!$C$6","v":0},{"$f":"N1071*'Base Numbers'!$C$5*'Base Numbers'!$C$6","v":0},{"$f":"O1071*'Base Numbers'!$C$5*'Base Numbers'!$C$6","v":0},{"$f":"P1071*'Base Numbers'!$C$5*'Base Numbers'!$C$6","v":0},{"$f":"Q1071*'Base Numbers'!$C$5*'Base Numbers'!$C$6","v":0},{"$f":"R1071*'Base Numbers'!$C$5*'Base Numbers'!$C$6","v":0},{"$f":"S1071*'Base Numbers'!$C$5*'Base Numbers'!$C$6","v":0},{"$f":"T1071*'Base Numbers'!$C$5*'Base Numbers'!$C$6","v":0},{"$f":"U1071*'Base Numbers'!$C$5*'Base Numbers'!$C$6","v":0},{"$f":"V1071*'Base Numbers'!$C$5*'Base Numbers'!$C$6","v":0},{"$f":"W1071*'Base Numbers'!$C$5*'Base Numbers'!$C$6","v":0},{"$f":"X1071*'Base Numbers'!$C$5*'Base Numbers'!$C$6","v":0}]
[{"$nulls":3},"avg Feared targets per round",{"$f":"MIN(E1073,E1075+E1074+E1076)/('Base Numbers'!$C$5*'Base Numbers'!$C$6)","v":0},{"$f":"MIN(F1073,F1075+F1074+F1076)/('Base Numbers'!$C$5*'Base Numbers'!$C$6)","v":0},{"$f":"MIN(G1073,G1075+G1074+G1076)/('Base Numbers'!$C$5*'Base Numbers'!$C$6)","v":0},{"$f":"MIN(H1073,H1075+H1074+H1076)/('Base Numbers'!$C$5*'Base Numbers'!$C$6)","v":0},{"$f":"MIN(I1073,I1075+I1074+I1076)/('Base Numbers'!$C$5*'Base Numbers'!$C$6)","v":0},{"$f":"MIN(J1073,J1075+J1074+J1076)/('Base Numbers'!$C$5*'Base Numbers'!$C$6)","v":0},{"$f":"MIN(K1073,K1075+K1074+K1076)/('Base Numbers'!$C$5*'Base Numbers'!$C$6)","v":0},{"$f":"MIN(L1073,L1075+L1074+L1076)/('Base Numbers'!$C$5*'Base Numbers'!$C$6)","v":0},{"$f":"MIN(M1073,M1075+M1074+M1076)/('Base Numbers'!$C$5*'Base Numbers'!$C$6)","v":0},{"$f":"MIN(N1073,N1075+N1074+N1076)/('Base Numbers'!$C$5*'Base Numbers'!$C$6)","v":0},{"$f":"MIN(O1073,O1075+O1074+O1076)/('Base Numbers'!$C$5*'Base Numbers'!$C$6)","v":0},{"$f":"MIN(P1073,P1075+P1074+P1076)/('Base Numbers'!$C$5*'Base Numbers'!$C$6)","v":0},{"$f":"MIN(Q1073,Q1075+Q1074+Q1076)/('Base Numbers'!$C$5*'Base Numbers'!$C$6)","v":0},{"$f":"MIN(R1073,R1075+R1074+R1076)/('Base Numbers'!$C$5*'Base Numbers'!$C$6)","v":0},{"$f":"MIN(S1073,S1075+S1074+S1076)/('Base Numbers'!$C$5*'Base Numbers'!$C$6)","v":0},{"$f":"MIN(T1073,T1075+T1074+T1076)/('Base Numbers'!$C$5*'Base Numbers'!$C$6)","v":0},{"$f":"MIN(U1073,U1075+U1074+U1076)/('Base Numbers'!$C$5*'Base Numbers'!$C$6)","v":0},{"$f":"MIN(V1073,V1075+V1074+V1076)/('Base Numbers'!$C$5*'Base Numbers'!$C$6)","v":0},{"$f":"MIN(W1073,W1075+W1074+W1076)/('Base Numbers'!$C$5*'Base Numbers'!$C$6)","v":0},{"$f":"MIN(X1073,X1075+X1074+X1076)/('Base Numbers'!$C$5*'Base Numbers'!$C$6)","v":0}]
[{"$nulls":3},"aura of conquest damage per round (Conq)",{"$f":"E1077*ROUND(E7/2,1)","v":0},0,0,0,0,0,0,0,0,0,0,0,0,0,0,0,0,0,0,0]
[{"$nulls":3},"has Invincible Conquoror (L20)",{"$f":"IF(AND(E7>=20,E42>=1),1,0)","v":0},0,0,0,0,0,0,0,0,0,0,0,0,0,0,0,0,0,0,0]
[]
[{"$nulls":3},"BARD DAMAGE"]
[{"$nulls":3},"bardic inspirations per day",{"$f":"IF(E14>=5,E36*(1+'Base Numbers'!$C$7),IF(E14>=1,E36,0))","v":0},{"$f":"IF(F14>=5,F36*(1+'Base Numbers'!$C$7),IF(F14>=1,F36,0))","v":0},{"$f":"IF(G14>=5,G36*(1+'Base Numbers'!$C$7),IF(G14>=1,G36,0))","v":0},{"$f":"IF(H14>=5,H36*(1+'Base Numbers'!$C$7),IF(H14>=1,H36,0))","v":0},{"$f":"IF(I14>=5,I36*(1+'Base Numbers'!$C$7),IF(I14>=1,I36,0))","v":0},{"$f":"IF(J14>=5,J36*(1+'Base Numbers'!$C$7),IF(J14>=1,J36,0))","v":0},{"$f":"IF(K14>=5,K36*(1+'Base Numbers'!$C$7),IF(K14>=1,K36,0))","v":0},{"$f":"IF(L14>=5,L36*(1+'Base Numbers'!$C$7),IF(L14>=1,L36,0))","v":0},{"$f":"IF(M14>=5,M36*(1+'Base Numbers'!$C$7),IF(M14>=1,M36,0))","v":0},{"$f":"IF(N14>=5,N36*(1+'Base Numbers'!$C$7),IF(N14>=1,N36,0))","v":0},{"$f":"IF(O14>=5,O36*(1+'Base Numbers'!$C$7),IF(O14>=1,O36,0))","v":0},{"$f":"IF(P14>=5,P36*(1+'Base Numbers'!$C$7),IF(P14>=1,P36,0))","v":0},{"$f":"IF(Q14>=5,Q36*(1+'Base Numbers'!$C$7),IF(Q14>=1,Q36,0))","v":0},{"$f":"IF(R14>=5,R36*(1+'Base Numbers'!$C$7),IF(R14>=1,R36,0))","v":0},{"$f":"IF(S14>=5,S36*(1+'Base Numbers'!$C$7),IF(S14>=1,S36,0))","v":0},{"$f":"IF(T14>=5,T36*(1+'Base Numbers'!$C$7),IF(T14>=1,T36,0))","v":0},{"$f":"IF(U14>=5,U36*(1+'Base Numbers'!$C$7),IF(U14>=1,U36,0))","v":0},{"$f":"IF(V14>=5,V36*(1+'Base Numbers'!$C$7),IF(V14>=1,V36,0))","v":0},{"$f":"IF(W14>=5,W36*(1+'Base Numbers'!$C$7),IF(W14>=1,W36,0))","v":0},{"$f":"IF(X14>=5,X36*(1+'Base Numbers'!$C$7),IF(X14>=1,X36,0))","v":0}]
[{"$nulls":3},"bardic dice size",{"$f":"IF(E14>=15,6.5,IF(E14>=10,5.5,IF(E14>=5,4.5,IF(E14>=1,3.5,0))))","v":0},0,0,0,0,0,0,0,0,0,0,0,0,0,0,0,0,0,0,0]
[{"$nulls":3},"total blade flourish damage / day on crits",{"$f":"IF(AND(E14>=3,E65>=1),MIN(E1082,E1587)*E1083*2,0)","v":0},0,0,0,0,0,0,0,0,0,0,0,0,0,0,0,0,0,0,0]
[{"$nulls":3},"remaining blade flourishes for non-crits",{"$f":"IF(AND(E14>=3,E65>=1),MAX(0,E1082-E1587),0)","v":0},0,0,0,0,0,0,0,0,0,0,0,0,0,0,0,0,0,0,0]
[{"$nulls":3},"total blade flourish damage / day on non-crits",{"$f":"E1085*E1083","v":0},{"$f":"F1085*F1083","v":0},0,0,0,0,0,0,0,0,0,0,0,0,0,0,0,0,0,0]
[{"$nulls":3},"master's flourish (L14 swords) damage/day on crits",{"$f":"IF(E14>=14,MAX(0,E1587-E1082)*2*3.5,0)","v":0},0,0,0,0,0,0,0,0,0,0,0,0,0,0,0,0,0,0,0]
[{"$nulls":3},"master's flourish (L14 Bard) damage/day on non-crits (not incl Opp att)",{"$f":"IF(E14>=14,MAX(0,(E1586-E418)*'Base Numbers'!$C$5*'Base Numbers'!$C$6-E1082)*3.5,0)","v":0},{"$f":"IF(F14>=14,MAX(0,(F1586-F418)*'Base Numbers'!$C$5*'Base Numbers'!$C$6-F1082)*3.5,0)","v":0},{"$f":"IF(G14>=14,MAX(0,(G1586-G418)*'Base Numbers'!$C$5*'Base Numbers'!$C$6-G1082)*3.5,0)","v":0},{"$f":"IF(H14>=14,MAX(0,(H1586-H418)*'Base Numbers'!$C$5*'Base Numbers'!$C$6-H1082)*3.5,0)","v":0},{"$f":"IF(I14>=14,MAX(0,(I1586-I418)*'Base Numbers'!$C$5*'Base Numbers'!$C$6-I1082)*3.5,0)","v":0},{"$f":"IF(J14>=14,MAX(0,(J1586-J418)*'Base Numbers'!$C$5*'Base Numbers'!$C$6-J1082)*3.5,0)","v":0},{"$f":"IF(K14>=14,MAX(0,(K1586-K418)*'Base Numbers'!$C$5*'Base Numbers'!$C$6-K1082)*3.5,0)","v":0},{"$f":"IF(L14>=14,MAX(0,(L1586-L418)*'Base Numbers'!$C$5*'Base Numbers'!$C$6-L1082)*3.5,0)","v":0},{"$f":"IF(M14>=14,MAX(0,(M1586-M418)*'Base Numbers'!$C$5*'Base Numbers'!$C$6-M1082)*3.5,0)","v":0},{"$f":"IF(N14>=14,MAX(0,(N1586-N418)*'Base Numbers'!$C$5*'Base Numbers'!$C$6-N1082)*3.5,0)","v":0},{"$f":"IF(O14>=14,MAX(0,(O1586-O418)*'Base Numbers'!$C$5*'Base Numbers'!$C$6-O1082)*3.5,0)","v":0},{"$f":"IF(P14>=14,MAX(0,(P1586-P418)*'Base Numbers'!$C$5*'Base Numbers'!$C$6-P1082)*3.5,0)","v":0},{"$f":"IF(Q14>=14,MAX(0,(Q1586-Q418)*'Base Numbers'!$C$5*'Base Numbers'!$C$6-Q1082)*3.5,0)","v":0},{"$f":"IF(R14>=14,MAX(0,(R1586-R418)*'Base Numbers'!$C$5*'Base Numbers'!$C$6-R1082)*3.5,0)","v":0},{"$f":"IF(S14>=14,MAX(0,(S1586-S418)*'Base Numbers'!$C$5*'Base Numbers'!$C$6-S1082)*3.5,0)","v":0},{"$f":"IF(T14>=14,MAX(0,(T1586-T418)*'Base Numbers'!$C$5*'Base Numbers'!$C$6-T1082)*3.5,0)","v":0},{"$f":"IF(U14>=14,MAX(0,(U1586-U418)*'Base Numbers'!$C$5*'Base Numbers'!$C$6-U1082)*3.5,0)","v":0},{"$f":"IF(V14>=14,MAX(0,(V1586-V418)*'Base Numbers'!$C$5*'Base Numbers'!$C$6-V1082)*3.5,0)","v":0},{"$f":"IF(W14>=14,MAX(0,(W1586-W418)*'Base Numbers'!$C$5*'Base Numbers'!$C$6-W1082)*3.5,0)","v":0},{"$f":"IF(X14>=14,MAX(0,(X1586-X418)*'Base Numbers'!$C$5*'Base Numbers'!$C$6-X1082)*3.5,0)","v":0}]
[{"$nulls":3},"total blade flourish damage per day (Bard)",{"$f":"E1088+E1087+E1086+E1084","v":0},{"$f":"F1088+F1087+F1086+F1084","v":0},0,0,0,0,0,0,0,0,0,0,0,0,0,0,0,0,0,0]
[{"$nulls":3},"whipsers psychic blade dmg per use",{"$f":"IF(E66>=1,IF(E14>=15,28,IF(E14>=10, 16.5,IF(E14>=5,10.5,IF(E14>=3,7,0)))),0)","v":0},{"$f":"IF(F66>=1,IF(F14>=15,28,IF(F14>=10, 16.5,IF(F14>=5,10.5,IF(F14>=3,7,0)))),0)","v":0},0,0,0,0,0,0,0,0,0,0,0,0,0,0,0,0,{"$f":"IF(W66>=1,IF(W14>=15,28,IF(W14>=10, 16.5,IF(W14>=5,10.5,IF(W14>=3,7,0)))),0)","v":0},0]
[{"$nulls":3},"whipsers psychic blade damage / day on crits",{"$f":"IF(AND(E14>=3,E66>=1),MIN(E1082,E1587)*E1090*2,0)","v":0},0,0,0,0,0,0,0,0,0,0,0,0,0,0,0,0,0,0,0]
[{"$nulls":3},"remaining psychic blades for non-crits",{"$f":"IF(AND(E14>=3,E66>=1),MAX(0,E1082-E1587),0)","v":0},0,0,0,0,0,0,0,0,0,0,0,0,0,0,0,0,0,0,0]
[{"$nulls":3},"total psychic blades damage / day on non-crits",{"$f":"IF(AND(E14>=3,E66>=1),E1092*E1090,0)","v":0},0,0,0,0,0,0,0,0,0,0,0,0,0,0,0,0,0,0,0]
[{"$nulls":3},"total bonus Bard damage per round",{"$f":"(E1093+E1091+E1088+E1087+E1086+E1084)/('Base Numbers'!$C$5*'Base Numbers'!$C$6)","v":0},{"$f":"(F1093+F1091+F1088+F1087+F1086+F1084)/('Base Numbers'!$C$5*'Base Numbers'!$C$6)","v":0},{"$f":"(G1093+G1091+G1088+G1087+G1086+G1084)/('Base Numbers'!$C$5*'Base Numbers'!$C$6)","v":0},{"$f":"(H1093+H1091+H1088+H1087+H1086+H1084)/('Base Numbers'!$C$5*'Base Numbers'!$C$6)","v":0},{"$f":"(I1093+I1091+I1088+I1087+I1086+I1084)/('Base Numbers'!$C$5*'Base Numbers'!$C$6)","v":0},{"$f":"(J1093+J1091+J1088+J1087+J1086+J1084)/('Base Numbers'!$C$5*'Base Numbers'!$C$6)","v":0},{"$f":"(K1093+K1091+K1088+K1087+K1086+K1084)/('Base Numbers'!$C$5*'Base Numbers'!$C$6)","v":0},{"$f":"(L1093+L1091+L1088+L1087+L1086+L1084)/('Base Numbers'!$C$5*'Base Numbers'!$C$6)","v":0},{"$f":"(M1093+M1091+M1088+M1087+M1086+M1084)/('Base Numbers'!$C$5*'Base Numbers'!$C$6)","v":0},{"$f":"(N1093+N1091+N1088+N1087+N1086+N1084)/('Base Numbers'!$C$5*'Base Numbers'!$C$6)","v":0},{"$f":"(O1093+O1091+O1088+O1087+O1086+O1084)/('Base Numbers'!$C$5*'Base Numbers'!$C$6)","v":0},{"$f":"(P1093+P1091+P1088+P1087+P1086+P1084)/('Base Numbers'!$C$5*'Base Numbers'!$C$6)","v":0},{"$f":"(Q1093+Q1091+Q1088+Q1087+Q1086+Q1084)/('Base Numbers'!$C$5*'Base Numbers'!$C$6)","v":0},{"$f":"(R1093+R1091+R1088+R1087+R1086+R1084)/('Base Numbers'!$C$5*'Base Numbers'!$C$6)","v":0},{"$f":"(S1093+S1091+S1088+S1087+S1086+S1084)/('Base Numbers'!$C$5*'Base Numbers'!$C$6)","v":0},{"$f":"(T1093+T1091+T1088+T1087+T1086+T1084)/('Base Numbers'!$C$5*'Base Numbers'!$C$6)","v":0},{"$f":"(U1093+U1091+U1088+U1087+U1086+U1084)/('Base Numbers'!$C$5*'Base Numbers'!$C$6)","v":0},{"$f":"(V1093+V1091+V1088+V1087+V1086+V1084)/('Base Numbers'!$C$5*'Base Numbers'!$C$6)","v":0},{"$f":"(W1093+W1091+W1088+W1087+W1086+W1084)/('Base Numbers'!$C$5*'Base Numbers'!$C$6)","v":0},{"$f":"(X1093+X1091+X1088+X1087+X1086+X1084)/('Base Numbers'!$C$5*'Base Numbers'!$C$6)","v":0}]
[]
[{"$nulls":3},"ARTIFICER ABILITIES"]
[{"$nulls":3},"spell storing item (SSI) uses per day",{"$f":"IF(E19>=11,2*E37,0)","v":0},0,0,0,0,0,0,0,0,0,0,0,0,0,0,0,0,0,0,0]
[{"$nulls":3},"SSI heat metal rounds per day",{"$f":"MIN('Base Numbers'!$C$5*'Base Numbers'!$C$6,1.5*E1097)","v":0},{"$f":"MIN('Base Numbers'!$C$5*'Base Numbers'!$C$6,1.5*F1097)","v":0},{"$f":"MIN('Base Numbers'!$C$5*'Base Numbers'!$C$6,1.5*G1097)","v":0},{"$f":"MIN('Base Numbers'!$C$5*'Base Numbers'!$C$6,1.5*H1097)","v":0},{"$f":"MIN('Base Numbers'!$C$5*'Base Numbers'!$C$6,1.5*I1097)","v":0},{"$f":"MIN('Base Numbers'!$C$5*'Base Numbers'!$C$6,1.5*J1097)","v":0},{"$f":"MIN('Base Numbers'!$C$5*'Base Numbers'!$C$6,1.5*K1097)","v":0},{"$f":"MIN('Base Numbers'!$C$5*'Base Numbers'!$C$6,1.5*L1097)","v":0},{"$f":"MIN('Base Numbers'!$C$5*'Base Numbers'!$C$6,1.5*M1097)","v":0},{"$f":"MIN('Base Numbers'!$C$5*'Base Numbers'!$C$6,1.5*N1097)","v":0},{"$f":"MIN('Base Numbers'!$C$5*'Base Numbers'!$C$6,1.5*O1097)","v":0},{"$f":"MIN('Base Numbers'!$C$5*'Base Numbers'!$C$6,1.5*P1097)","v":0},{"$f":"MIN('Base Numbers'!$C$5*'Base Numbers'!$C$6,1.5*Q1097)","v":0},{"$f":"MIN('Base Numbers'!$C$5*'Base Numbers'!$C$6,1.5*R1097)","v":0},{"$f":"MIN('Base Numbers'!$C$5*'Base Numbers'!$C$6,1.5*S1097)","v":0},{"$f":"MIN('Base Numbers'!$C$5*'Base Numbers'!$C$6,1.5*T1097)","v":0},{"$f":"MIN('Base Numbers'!$C$5*'Base Numbers'!$C$6,1.5*U1097)","v":0},{"$f":"MIN('Base Numbers'!$C$5*'Base Numbers'!$C$6,1.5*V1097)","v":0},{"$f":"MIN('Base Numbers'!$C$5*'Base Numbers'!$C$6,1.5*W1097)","v":0},{"$f":"MIN('Base Numbers'!$C$5*'Base Numbers'!$C$6,1.5*X1097)","v":0}]
[{"$nulls":3},"SSI shatter targets per day (artillerist)",{"$f":"IF(E76>=1,1.5*MIN('Base Numbers'!$C$5*'Base Numbers'!$C$6,E1097),0)","v":0},{"$f":"IF(F76>=1,1.5*MIN('Base Numbers'!$C$5*'Base Numbers'!$C$6,F1097),0)","v":0},{"$f":"IF(G76>=1,1.5*MIN('Base Numbers'!$C$5*'Base Numbers'!$C$6,G1097),0)","v":0},{"$f":"IF(H76>=1,1.5*MIN('Base Numbers'!$C$5*'Base Numbers'!$C$6,H1097),0)","v":0},{"$f":"IF(I76>=1,1.5*MIN('Base Numbers'!$C$5*'Base Numbers'!$C$6,I1097),0)","v":0},{"$f":"IF(J76>=1,1.5*MIN('Base Numbers'!$C$5*'Base Numbers'!$C$6,J1097),0)","v":0},{"$f":"IF(K76>=1,1.5*MIN('Base Numbers'!$C$5*'Base Numbers'!$C$6,K1097),0)","v":0},{"$f":"IF(L76>=1,1.5*MIN('Base Numbers'!$C$5*'Base Numbers'!$C$6,L1097),0)","v":0},{"$f":"IF(M76>=1,1.5*MIN('Base Numbers'!$C$5*'Base Numbers'!$C$6,M1097),0)","v":0},{"$f":"IF(N76>=1,1.5*MIN('Base Numbers'!$C$5*'Base Numbers'!$C$6,N1097),0)","v":0},{"$f":"IF(O76>=1,1.5*MIN('Base Numbers'!$C$5*'Base Numbers'!$C$6,O1097),0)","v":0},{"$f":"IF(P76>=1,1.5*MIN('Base Numbers'!$C$5*'Base Numbers'!$C$6,P1097),0)","v":0},{"$f":"IF(Q76>=1,1.5*MIN('Base Numbers'!$C$5*'Base Numbers'!$C$6,Q1097),0)","v":0},{"$f":"IF(R76>=1,1.5*MIN('Base Numbers'!$C$5*'Base Numbers'!$C$6,R1097),0)","v":0},{"$f":"IF(S76>=1,1.5*MIN('Base Numbers'!$C$5*'Base Numbers'!$C$6,S1097),0)","v":0},{"$f":"IF(T76>=1,1.5*MIN('Base Numbers'!$C$5*'Base Numbers'!$C$6,T1097),0)","v":0},{"$f":"IF(U76>=1,1.5*MIN('Base Numbers'!$C$5*'Base Numbers'!$C$6,U1097),0)","v":0},{"$f":"IF(V76>=1,1.5*MIN('Base Numbers'!$C$5*'Base Numbers'!$C$6,V1097),0)","v":0},{"$f":"IF(W76>=1,1.5*MIN('Base Numbers'!$C$5*'Base Numbers'!$C$6,W1097),0)","v":0},{"$f":"IF(X76>=1,1.5*MIN('Base Numbers'!$C$5*'Base Numbers'!$C$6,X1097),0)","v":0}]
[{"$nulls":3},"average heat metal damage per round",{"$f":"7","v":7},{"$f":"7","v":7},{"$f":"7","v":7},{"$f":"7","v":7},{"$f":"7","v":7},{"$f":"7","v":7},{"$f":"7","v":7},{"$f":"7","v":7},{"$f":"7","v":7},{"$f":"7","v":7},{"$f":"7","v":7},{"$f":"7","v":7},{"$f":"7","v":7},{"$f":"7","v":7},{"$f":"7","v":7},{"$f":"7","v":7},{"$f":"7","v":7},{"$f":"7","v":7},{"$f":"7","v":7},{"$f":"7","v":7}]
[{"$nulls":3},"average shatter damage per target (artillerist)",{"$f":"13.5*(13-'Caster Tables'!C75+E37+E39)/20+(1-(13-'Caster Tables'!C75+E37+E39)/20)*6.75","v":12.4875},{"$f":"13.5*(13-'Caster Tables'!D75+F37+F39)/20+(1-(13-'Caster Tables'!D75+F37+F39)/20)*6.75","v":12.31875},{"$f":"13.5*(13-'Caster Tables'!E75+G37+G39)/20+(1-(13-'Caster Tables'!E75+G37+G39)/20)*6.75","v":12.15},{"$f":"13.5*(13-'Caster Tables'!F75+H37+H39)/20+(1-(13-'Caster Tables'!F75+H37+H39)/20)*6.75","v":11.98125},{"$f":"13.5*(13-'Caster Tables'!G75+I37+I39)/20+(1-(13-'Caster Tables'!G75+I37+I39)/20)*6.75","v":12.15},{"$f":"13.5*(13-'Caster Tables'!H75+J37+J39)/20+(1-(13-'Caster Tables'!H75+J37+J39)/20)*6.75","v":11.98125},{"$f":"13.5*(13-'Caster Tables'!I75+K37+K39)/20+(1-(13-'Caster Tables'!I75+K37+K39)/20)*6.75","v":11.8125},{"$f":"13.5*(13-'Caster Tables'!J75+L37+L39)/20+(1-(13-'Caster Tables'!J75+L37+L39)/20)*6.75","v":11.64375},{"$f":"13.5*(13-'Caster Tables'!K75+M37+M39)/20+(1-(13-'Caster Tables'!K75+M37+M39)/20)*6.75","v":11.8125},{"$f":"13.5*(13-'Caster Tables'!L75+N37+N39)/20+(1-(13-'Caster Tables'!L75+N37+N39)/20)*6.75","v":11.64375},{"$f":"13.5*(13-'Caster Tables'!M75+O37+O39)/20+(1-(13-'Caster Tables'!M75+O37+O39)/20)*6.75","v":11.475},{"$f":"13.5*(13-'Caster Tables'!N75+P37+P39)/20+(1-(13-'Caster Tables'!N75+P37+P39)/20)*6.75","v":11.30625},{"$f":"13.5*(13-'Caster Tables'!O75+Q37+Q39)/20+(1-(13-'Caster Tables'!O75+Q37+Q39)/20)*6.75","v":11.475},{"$f":"13.5*(13-'Caster Tables'!P75+R37+R39)/20+(1-(13-'Caster Tables'!P75+R37+R39)/20)*6.75","v":11.1375},{"$f":"13.5*(13-'Caster Tables'!Q75+S37+S39)/20+(1-(13-'Caster Tables'!Q75+S37+S39)/20)*6.75","v":10.8},{"$f":"13.5*(13-'Caster Tables'!R75+T37+T39)/20+(1-(13-'Caster Tables'!R75+T37+T39)/20)*6.75","v":10.462499999999999},{"$f":"13.5*(13-'Caster Tables'!S75+U37+U39)/20+(1-(13-'Caster Tables'!S75+U37+U39)/20)*6.75","v":10.462499999999999},{"$f":"13.5*(13-'Caster Tables'!T75+V37+V39)/20+(1-(13-'Caster Tables'!T75+V37+V39)/20)*6.75","v":10.125},{"$f":"13.5*(13-'Caster Tables'!U75+W37+W39)/20+(1-(13-'Caster Tables'!U75+W37+W39)/20)*6.75","v":9.787500000000001},{"$f":"13.5*(13-'Caster Tables'!V75+X37+X39)/20+(1-(13-'Caster Tables'!V75+X37+X39)/20)*6.75","v":9.787500000000001}]
[{"$nulls":3},"total SSI damage per day",{"$f":"MAX(E1101*E1099,E1100*E1098)","v":0},{"$f":"MAX(F1101*F1099,F1100*F1098)","v":0},0,0,0,0,0,0,0,0,0,0,0,0,0,0,0,0,0,0]
[{"$nulls":3},"avg SSI damage per round",{"$f":"E1102/('Base Numbers'!$C$5*'Base Numbers'!$C$6)","v":0},{"$f":"F1102/('Base Numbers'!$C$5*'Base Numbers'!$C$6)","v":0},{"$f":"G1102/('Base Numbers'!$C$5*'Base Numbers'!$C$6)","v":0},{"$f":"H1102/('Base Numbers'!$C$5*'Base Numbers'!$C$6)","v":0},{"$f":"I1102/('Base Numbers'!$C$5*'Base Numbers'!$C$6)","v":0},{"$f":"J1102/('Base Numbers'!$C$5*'Base Numbers'!$C$6)","v":0},{"$f":"K1102/('Base Numbers'!$C$5*'Base Numbers'!$C$6)","v":0},{"$f":"L1102/('Base Numbers'!$C$5*'Base Numbers'!$C$6)","v":0},{"$f":"M1102/('Base Numbers'!$C$5*'Base Numbers'!$C$6)","v":0},{"$f":"N1102/('Base Numbers'!$C$5*'Base Numbers'!$C$6)","v":0},{"$f":"O1102/('Base Numbers'!$C$5*'Base Numbers'!$C$6)","v":0},{"$f":"P1102/('Base Numbers'!$C$5*'Base Numbers'!$C$6)","v":0},{"$f":"Q1102/('Base Numbers'!$C$5*'Base Numbers'!$C$6)","v":0},{"$f":"R1102/('Base Numbers'!$C$5*'Base Numbers'!$C$6)","v":0},{"$f":"S1102/('Base Numbers'!$C$5*'Base Numbers'!$C$6)","v":0},{"$f":"T1102/('Base Numbers'!$C$5*'Base Numbers'!$C$6)","v":0},{"$f":"U1102/('Base Numbers'!$C$5*'Base Numbers'!$C$6)","v":0},{"$f":"V1102/('Base Numbers'!$C$5*'Base Numbers'!$C$6)","v":0},{"$f":"W1102/('Base Numbers'!$C$5*'Base Numbers'!$C$6)","v":0},{"$f":"X1102/('Base Numbers'!$C$5*'Base Numbers'!$C$6)","v":0}]
[{"$nulls":3},"battlesmith steel defender bonus attack damage",{"$f":"IF(AND(E19>=3, E75),4.5+E39,0)","v":0},0,0,0,0,0,0,0,0,0,0,0,0,0,0,0,0,0,0,0,null,"use a bonus action to atack with defender using spell hit"]
[{"$nulls":3},"unused bonus action pct",{"$f":"1-E1604-IF(E381>0,E1601/E381,0)","v":1},0.811345,0.6795175,0.6795175,0.54769,0.54769,0.5144443750000001,0.5144443750000001,0.5144443750000001,0.5144443750000001,0.5144443750000001,0.5144443750000001,0.5144443750000001,0.5144443750000001,0.5144443750000001,0.5144443750000001,0.5144443750000001,0.5144443750000001,0.5531769877269079,0.5531769877269079,null,"based on damage scenarios"]
[{"$nulls":3},"steel defender bonus attack dmg per round",{"$f":"E524*E1105*E1104+E538*IF(E1104>0,4.5,0)","v":0},0,0,0,0,0,0,0,0,0,0,0,0,0,0,0,0,0,0,0]
[{"$nulls":3},"arcane jolt damage per use",{"$f":"IF(AND(E19>=15, E75),14,IF(AND(E19>=9, E75),7,0))","v":0},0,0,0,0,0,0,0,0,0,0,0,0,0,0,0,0,0,0,0]
[{"$nulls":3},"arcane jolt uses per day",{"$f":"IF(AND(E19>=9, E75),E37,0)","v":0},0,0,0,0,0,0,0,0,0,0,0,0,0,0,0,0,0,0,0]
[{"$nulls":3},"battlesmith avg crits per round (attacks + steel defender attacks)",{"$f":"E1587+E1105*E538","v":0.1},0.09056725,0.09957012500000002,0.10020662500000001,0.16111900000000004,0.16111900000000004,0.15945671875000003,0.15945671875000003,0.15882021875000002,0.15754721875000002,0.15627421875,0.16623971875000002,0.16560321875000003,0.16433021875000003,0.16305721875000004,0.16178421875000001,0.19093496875000004,0.19029846875000003,0.19128034938634542,0.18968909938634543]
[{"$nulls":3},"battlesmith crits per day",{"$f":"E1109*'Base Numbers'!$C$5*'Base Numbers'!$C$6","v":1.6},{"$f":"F1109*'Base Numbers'!$C$5*'Base Numbers'!$C$6","v":1.449076},{"$f":"G1109*'Base Numbers'!$C$5*'Base Numbers'!$C$6","v":1.5931220000000004},{"$f":"H1109*'Base Numbers'!$C$5*'Base Numbers'!$C$6","v":1.6033060000000001},{"$f":"I1109*'Base Numbers'!$C$5*'Base Numbers'!$C$6","v":2.5779040000000006},{"$f":"J1109*'Base Numbers'!$C$5*'Base Numbers'!$C$6","v":2.5779040000000006},{"$f":"K1109*'Base Numbers'!$C$5*'Base Numbers'!$C$6","v":2.5513075000000005},{"$f":"L1109*'Base Numbers'!$C$5*'Base Numbers'!$C$6","v":2.5513075000000005},{"$f":"M1109*'Base Numbers'!$C$5*'Base Numbers'!$C$6","v":2.5411235000000003},{"$f":"N1109*'Base Numbers'!$C$5*'Base Numbers'!$C$6","v":2.5207555000000004},{"$f":"O1109*'Base Numbers'!$C$5*'Base Numbers'!$C$6","v":2.5003875},{"$f":"P1109*'Base Numbers'!$C$5*'Base Numbers'!$C$6","v":2.6598355000000002},{"$f":"Q1109*'Base Numbers'!$C$5*'Base Numbers'!$C$6","v":2.6496515000000005},{"$f":"R1109*'Base Numbers'!$C$5*'Base Numbers'!$C$6","v":2.6292835000000006},{"$f":"S1109*'Base Numbers'!$C$5*'Base Numbers'!$C$6","v":2.6089155000000006},{"$f":"T1109*'Base Numbers'!$C$5*'Base Numbers'!$C$6","v":2.5885475000000002},{"$f":"U1109*'Base Numbers'!$C$5*'Base Numbers'!$C$6","v":3.0549595000000007},{"$f":"V1109*'Base Numbers'!$C$5*'Base Numbers'!$C$6","v":3.0447755000000005},{"$f":"W1109*'Base Numbers'!$C$5*'Base Numbers'!$C$6","v":3.0604855901815267},{"$f":"X1109*'Base Numbers'!$C$5*'Base Numbers'!$C$6","v":3.035025590181527}]
[{"$nulls":3},"arcane jolt damage per day",{"$f":"MIN(E1108,E1110)*E1107*2+MAX(0,E1108-E1110)*E1107","v":0},{"$f":"MIN(F1108,F1110)*F1107*2+MAX(0,F1108-F1110)*F1107","v":0},0,0,0,0,0,0,0,0,0,0,0,0,0,0,0,0,0,0]
[{"$nulls":3},"improved defender damage per round available",{"$f":"IF(AND(E19>=15, E75),2.5+E37,0)","v":0},0,0,0,0,0,0,0,0,0,0,0,0,0,0,0,0,0,0,0]
[{"$nulls":3},"improved defender availability",{"$f":"IF(AND(E19>=15, E75),'Base Numbers'!$C$14,0)","v":0},{"$f":"IF(AND(F19>=15, F75),'Base Numbers'!$C$14,0)","v":0},{"$f":"IF(AND(G19>=15, G75),'Base Numbers'!$C$14,0)","v":0},{"$f":"IF(AND(H19>=15, H75),'Base Numbers'!$C$14,0)","v":0},{"$f":"IF(AND(I19>=15, I75),'Base Numbers'!$C$14,0)","v":0},{"$f":"IF(AND(J19>=15, J75),'Base Numbers'!$C$14,0)","v":0},{"$f":"IF(AND(K19>=15, K75),'Base Numbers'!$C$14,0)","v":0},{"$f":"IF(AND(L19>=15, L75),'Base Numbers'!$C$14,0)","v":0},{"$f":"IF(AND(M19>=15, M75),'Base Numbers'!$C$14,0)","v":0},{"$f":"IF(AND(N19>=15, N75),'Base Numbers'!$C$14,0)","v":0},{"$f":"IF(AND(O19>=15, O75),'Base Numbers'!$C$14,0)","v":0},{"$f":"IF(AND(P19>=15, P75),'Base Numbers'!$C$14,0)","v":0},{"$f":"IF(AND(Q19>=15, Q75),'Base Numbers'!$C$14,0)","v":0},{"$f":"IF(AND(R19>=15, R75),'Base Numbers'!$C$14,0)","v":0},{"$f":"IF(AND(S19>=15, S75),'Base Numbers'!$C$14,0)","v":0},{"$f":"IF(AND(T19>=15, T75),'Base Numbers'!$C$14,0)","v":0},{"$f":"IF(AND(U19>=15, U75),'Base Numbers'!$C$14,0)","v":0},{"$f":"IF(AND(V19>=15, V75),'Base Numbers'!$C$14,0)","v":0},{"$f":"IF(AND(W19>=15, W75),'Base Numbers'!$C$14,0)","v":0},{"$f":"IF(AND(X19>=15, X75),'Base Numbers'!$C$14,0)","v":0}]
[{"$nulls":3},"avg improved defender damage per round",{"$f":"E1112*E1113","v":0},{"$f":"F1112*F1113","v":0},0,0,0,0,0,0,0,0,0,0,0,0,0,0,0,0,0,0]
[{"$nulls":3},"total extra battlesmith damage per round",{"$f":"E1114+E1106+E1111/('Base Numbers'!$C$5*'Base Numbers'!$C$6)","v":0},{"$f":"F1114+F1106+F1111/('Base Numbers'!$C$5*'Base Numbers'!$C$6)","v":0},{"$f":"G1114+G1106+G1111/('Base Numbers'!$C$5*'Base Numbers'!$C$6)","v":0},{"$f":"H1114+H1106+H1111/('Base Numbers'!$C$5*'Base Numbers'!$C$6)","v":0},{"$f":"I1114+I1106+I1111/('Base Numbers'!$C$5*'Base Numbers'!$C$6)","v":0},{"$f":"J1114+J1106+J1111/('Base Numbers'!$C$5*'Base Numbers'!$C$6)","v":0},{"$f":"K1114+K1106+K1111/('Base Numbers'!$C$5*'Base Numbers'!$C$6)","v":0},{"$f":"L1114+L1106+L1111/('Base Numbers'!$C$5*'Base Numbers'!$C$6)","v":0},{"$f":"M1114+M1106+M1111/('Base Numbers'!$C$5*'Base Numbers'!$C$6)","v":0},{"$f":"N1114+N1106+N1111/('Base Numbers'!$C$5*'Base Numbers'!$C$6)","v":0},{"$f":"O1114+O1106+O1111/('Base Numbers'!$C$5*'Base Numbers'!$C$6)","v":0},{"$f":"P1114+P1106+P1111/('Base Numbers'!$C$5*'Base Numbers'!$C$6)","v":0},{"$f":"Q1114+Q1106+Q1111/('Base Numbers'!$C$5*'Base Numbers'!$C$6)","v":0},{"$f":"R1114+R1106+R1111/('Base Numbers'!$C$5*'Base Numbers'!$C$6)","v":0},{"$f":"S1114+S1106+S1111/('Base Numbers'!$C$5*'Base Numbers'!$C$6)","v":0},{"$f":"T1114+T1106+T1111/('Base Numbers'!$C$5*'Base Numbers'!$C$6)","v":0},{"$f":"U1114+U1106+U1111/('Base Numbers'!$C$5*'Base Numbers'!$C$6)","v":0},{"$f":"V1114+V1106+V1111/('Base Numbers'!$C$5*'Base Numbers'!$C$6)","v":0},{"$f":"W1114+W1106+W1111/('Base Numbers'!$C$5*'Base Numbers'!$C$6)","v":0},{"$f":"X1114+X1106+X1111/('Base Numbers'!$C$5*'Base Numbers'!$C$6)","v":0}]
[{"$nulls":3},"eldritch cannon flamethrower avg targets",{"$f":"IF(AND(E19>=3,E76),1.5,0)","v":0},0,0,0,0,0,0,0,0,0,0,0,0,0,0,0,0,0,0,0]
[{"$nulls":3},"eldritch cannon flamethrower base damage",{"$f":"IF(AND(E19>=15,E76),2,1)*(IF(AND(E19>=9,E76),4.5,0)+IF(AND(E19>=3,E76),9,0))","v":0},0,0,0,0,0,0,0,0,0,0,0,0,0,0,0,0,0,0,0]
[{"$nulls":3},"opp avg save prob vs. eldritch cannon flamethrower (dex save)",{"$f":"E735","v":0.45},0.465,0.475,0.485,0.4425,0.45,0.45999999999999996,0.475,0.4375,0.45,0.4625,0.475,0.4375,0.45,0.5,0.55,0.525,0.55,0.575,0.6]
[{"$nulls":3},"eldritch cannon flamethrower avg damage per use",{"$f":"(1-E1118)*E1116*E1117","v":0},{"$f":"(1-F1118)*F1116*F1117","v":0},0,0,0,0,0,0,0,0,0,0,0,0,0,0,0,0,0,0]
[{"$nulls":3},"avg eldritch cannon flamethrower dmg per round",{"$f":"E1105*E1119","v":0},{"$f":"F1105*F1119","v":0},0,0,0,0,0,0,0,0,0,0,0,0,0,0,0,0,0,0]
[{"$nulls":3},"has arcane firearm",{"$f":"IF(AND(E19>=5,E76),1,0)","v":0},0,0,0,0,0,0,0,0,0,0,0,0,0,0,0,0,0,0,0,null,"added to all \"artificer\" spells, incl eld blast"]
[{"$nulls":3},"total extra artificer damage per round",{"$f":"E1120+E1115+E1103","v":0},{"$f":"F1120+F1115+F1103","v":0},{"$f":"G1120+G1115+G1103","v":0},0,0,0,0,0,0,0,0,0,0,0,0,0,0,0,0,0]
[]
[{"$nulls":3},"CLERIC ABILITIES"]
[{"$nulls":3},"Channel Divinity Uses per day (after Paladin uses)",{"$f":"E1068","v":0},0,0,0,0,0,0,0,0,0,0,0,0,0,0,0,0,0,0,0,null,"this combines with paladin channel divs, which take priority"]
[{"$nulls":3},"Cleric uses Divine Strike (1/turn d8 at L8, 2d8 at L14)",{"$f":"IF(AND(E149=0,E16>=8,OR(E86>=1,E87>=1,E88>=1)),1,0)","v":0},0,0,0,0,0,0,0,0,0,0,0,0,0,0,0,0,0,0,0]
[{"$nulls":3},"Cleric uses Blessed Strikes (L8, Tasha's)",{"$f":"IF(AND(E149=1,E16>=8),1,0)","v":0},0,0,0,0,0,0,0,0,0,0,0,0,0,0,0,0,0,0,0]
[{"$nulls":3},"Cleric uses Potent Spellcasting (L8, +WIS to cantrip damage)",{"$f":"IF(AND(E149=0,E16>=8,OR(E89=1,E90=1)),1,0)","v":0},0,0,0,0,0,0,0,0,0,0,0,0,0,0,0,0,0,0,0]
[{"$nulls":3},"Once per Round bonus damage on hit (Divine/Blessed Strike)",{"$f":"IF(OR(E1127,E1126),4.5,0)+IF(AND(E1126,E16>=14),4.5,0)","v":0},0,0,0,0,0,0,0,0,0,0,0,0,0,0,0,0,0,0,0]
[{"$nulls":3},"bonus melee damage per round ",{"$f":"E1129*E1615","v":0},0,0,0,0,0,0,0,0,0,0,0,0,0,0,0,0,0,0,0]
[{"$nulls":3},"bonus melee crit damage per round",{"$f":"E1587*E1129","v":0},0,0,0,0,0,0,0,0,0,0,0,0,0,0,0,0,0,0,0]
[{"$nulls":3},"avg booming blade crits per day",{"$f":"IF(E1588,E1587,0)*'Base Numbers'!$C$5*'Base Numbers'!$C$6","v":0},{"$f":"IF(F1588,F1587,0)*'Base Numbers'!$C$5*'Base Numbers'!$C$6","v":0},{"$f":"IF(G1588,G1587,0)*'Base Numbers'!$C$5*'Base Numbers'!$C$6","v":0},{"$f":"IF(H1588,H1587,0)*'Base Numbers'!$C$5*'Base Numbers'!$C$6","v":0},{"$f":"IF(I1588,I1587,0)*'Base Numbers'!$C$5*'Base Numbers'!$C$6","v":0},{"$f":"IF(J1588,J1587,0)*'Base Numbers'!$C$5*'Base Numbers'!$C$6","v":0},{"$f":"IF(K1588,K1587,0)*'Base Numbers'!$C$5*'Base Numbers'!$C$6","v":0},{"$f":"IF(L1588,L1587,0)*'Base Numbers'!$C$5*'Base Numbers'!$C$6","v":0},{"$f":"IF(M1588,M1587,0)*'Base Numbers'!$C$5*'Base Numbers'!$C$6","v":0},{"$f":"IF(N1588,N1587,0)*'Base Numbers'!$C$5*'Base Numbers'!$C$6","v":0},{"$f":"IF(O1588,O1587,0)*'Base Numbers'!$C$5*'Base Numbers'!$C$6","v":0},{"$f":"IF(P1588,P1587,0)*'Base Numbers'!$C$5*'Base Numbers'!$C$6","v":0},{"$f":"IF(Q1588,Q1587,0)*'Base Numbers'!$C$5*'Base Numbers'!$C$6","v":0},{"$f":"IF(R1588,R1587,0)*'Base Numbers'!$C$5*'Base Numbers'!$C$6","v":0},{"$f":"IF(S1588,S1587,0)*'Base Numbers'!$C$5*'Base Numbers'!$C$6","v":0},{"$f":"IF(T1588,T1587,0)*'Base Numbers'!$C$5*'Base Numbers'!$C$6","v":0},{"$f":"IF(U1588,U1587,0)*'Base Numbers'!$C$5*'Base Numbers'!$C$6","v":0},{"$f":"IF(V1588,V1587,0)*'Base Numbers'!$C$5*'Base Numbers'!$C$6","v":0},{"$f":"IF(W1588,W1587,0)*'Base Numbers'!$C$5*'Base Numbers'!$C$6","v":0},{"$f":"IF(X1588,X1587,0)*'Base Numbers'!$C$5*'Base Numbers'!$C$6","v":0}]
[{"$nulls":3},"tempest cleric Destructive Wrath damage on BB crits",{"$f":"IF(AND(E16>=2,E88>=1),E1132,0)*3*E605","v":0},0,0,0,0,0,0,0,0,0,0,0,0,0,0,0,0,0,0,0]
[{"$nulls":3},"tempest cleric remaining Destructive Wrath uses after BB crits",{"$f":"IF(AND(E16>=2,E88>=1),MAX(0,E1125-E1132),0)","v":0},0,0,0,0,0,0,0,0,0,0,0,0,0,0,0,0,0,0,0]
[{"$nulls":3},"tempest cleric Destructive Wrath damage on Destructive Wave casts",{"$f":"MIN(E1134,E278)*E891*'Base Numbers'!$G$20*(12.5*(1-E736)+6.25*E736)","v":0},{"$f":"MIN(F1134,F278)*F891*'Base Numbers'!$G$20*(12.5*(1-F736)+6.25*F736)","v":0},{"$f":"MIN(G1134,G278)*G891*'Base Numbers'!$G$20*(12.5*(1-G736)+6.25*G736)","v":0},{"$f":"MIN(H1134,H278)*H891*'Base Numbers'!$G$20*(12.5*(1-H736)+6.25*H736)","v":0},{"$f":"MIN(I1134,I278)*I891*'Base Numbers'!$G$20*(12.5*(1-I736)+6.25*I736)","v":0},{"$f":"MIN(J1134,J278)*J891*'Base Numbers'!$G$20*(12.5*(1-J736)+6.25*J736)","v":0},{"$f":"MIN(K1134,K278)*K891*'Base Numbers'!$G$20*(12.5*(1-K736)+6.25*K736)","v":0},{"$f":"MIN(L1134,L278)*L891*'Base Numbers'!$G$20*(12.5*(1-L736)+6.25*L736)","v":0},{"$f":"MIN(M1134,M278)*M891*'Base Numbers'!$G$20*(12.5*(1-M736)+6.25*M736)","v":0},{"$f":"MIN(N1134,N278)*N891*'Base Numbers'!$G$20*(12.5*(1-N736)+6.25*N736)","v":0},{"$f":"MIN(O1134,O278)*O891*'Base Numbers'!$G$20*(12.5*(1-O736)+6.25*O736)","v":0},{"$f":"MIN(P1134,P278)*P891*'Base Numbers'!$G$20*(12.5*(1-P736)+6.25*P736)","v":0},{"$f":"MIN(Q1134,Q278)*Q891*'Base Numbers'!$G$20*(12.5*(1-Q736)+6.25*Q736)","v":0},{"$f":"MIN(R1134,R278)*R891*'Base Numbers'!$G$20*(12.5*(1-R736)+6.25*R736)","v":0},{"$f":"MIN(S1134,S278)*S891*'Base Numbers'!$G$20*(12.5*(1-S736)+6.25*S736)","v":0},{"$f":"MIN(T1134,T278)*T891*'Base Numbers'!$G$20*(12.5*(1-T736)+6.25*T736)","v":0},{"$f":"MIN(U1134,U278)*U891*'Base Numbers'!$G$20*(12.5*(1-U736)+6.25*U736)","v":0},{"$f":"MIN(V1134,V278)*V891*'Base Numbers'!$G$20*(12.5*(1-V736)+6.25*V736)","v":0},{"$f":"MIN(W1134,W278)*W891*'Base Numbers'!$G$20*(12.5*(1-W736)+6.25*W736)","v":0},{"$f":"MIN(X1134,X278)*X891*'Base Numbers'!$G$20*(12.5*(1-X736)+6.25*X736)","v":0},null,"* prob include destructive wave here as a possibility"]
[{"$nulls":3},"tempest cleric Destructive Wrath uses after Destructive Wave casts",{"$f":"E1134-MIN(E1134,E278)","v":0},0,0,0,0,0,0,0,0,0,0,0,0,0,0,0,0,0,0,0]
[{"$nulls":3},"tempest cleric Destructive Wrath damage per Call Lightning Strike",{"$f":"E868*E869*(1-E735)+E868*E869*E735*0.5","v":0},{"$f":"F868*F869*(1-F735)+F868*F869*F735*0.5","v":0},0,0,0,0,0,0,0,0,0,0,0,0,0,0,0,0,0,0,null,"* prob include call lightning here as a possibility"]
[{"$nulls":3},"tempest cleric Destructive Wrath damage on Call Lightning strikes",{"$f":"MIN(E1136,E867)*E1137","v":0},{"$f":"MIN(F1136,F867)*F1137","v":0},0,0,0,0,0,0,0,0,0,0,0,0,0,0,0,0,0,0]
[{"$nulls":3},"tempest cleric Destructive Wrath uses after Call Lightning casts",{"$f":"E1136-MIN(E1136,E867)","v":0},{"$f":"F1136-MIN(F1136,F867)","v":0},0,0,0,0,0,0,0,0,0,0,0,0,0,0,0,0,0,0]
[{"$nulls":3},"tempest cleric Destructive Wrath damage per BB non-crit",{"$f":"IF(AND(E16>=2,E88>=1),E605,0)","v":0},0,0,0,0,0,0,0,0,0,0,0,0,0,0,0,0,0,0,0]
[{"$nulls":3},"tempest cleric Destructive Wrath damage on BB non-crits",{"$f":"IF(AND(E16>=2,E88>=1),IF(E1588,E1139,0),0)*E605","v":0},0,0,0,0,0,0,0,0,0,0,0,0,0,0,0,0,0,0,0]
[{"$nulls":3},"total wrath of the storm opportunities",{"$f":"IF(AND(E16>=1,E88>=1),IF(E1592=0,MIN(E38,0.8*(1-E418)*'Base Numbers'!$C$5*'Base Numbers'!$C$6),0),0)","v":0},{"$f":"IF(AND(F16>=1,F88>=1),IF(F1592=0,MIN(F38,0.8*(1-F418)*'Base Numbers'!$C$5*'Base Numbers'!$C$6),0),0)","v":0},{"$f":"IF(AND(G16>=1,G88>=1),IF(G1592=0,MIN(G38,0.8*(1-G418)*'Base Numbers'!$C$5*'Base Numbers'!$C$6),0),0)","v":0},{"$f":"IF(AND(H16>=1,H88>=1),IF(H1592=0,MIN(H38,0.8*(1-H418)*'Base Numbers'!$C$5*'Base Numbers'!$C$6),0),0)","v":0},{"$f":"IF(AND(I16>=1,I88>=1),IF(I1592=0,MIN(I38,0.8*(1-I418)*'Base Numbers'!$C$5*'Base Numbers'!$C$6),0),0)","v":0},{"$f":"IF(AND(J16>=1,J88>=1),IF(J1592=0,MIN(J38,0.8*(1-J418)*'Base Numbers'!$C$5*'Base Numbers'!$C$6),0),0)","v":0},{"$f":"IF(AND(K16>=1,K88>=1),IF(K1592=0,MIN(K38,0.8*(1-K418)*'Base Numbers'!$C$5*'Base Numbers'!$C$6),0),0)","v":0},{"$f":"IF(AND(L16>=1,L88>=1),IF(L1592=0,MIN(L38,0.8*(1-L418)*'Base Numbers'!$C$5*'Base Numbers'!$C$6),0),0)","v":0},{"$f":"IF(AND(M16>=1,M88>=1),IF(M1592=0,MIN(M38,0.8*(1-M418)*'Base Numbers'!$C$5*'Base Numbers'!$C$6),0),0)","v":0},{"$f":"IF(AND(N16>=1,N88>=1),IF(N1592=0,MIN(N38,0.8*(1-N418)*'Base Numbers'!$C$5*'Base Numbers'!$C$6),0),0)","v":0},{"$f":"IF(AND(O16>=1,O88>=1),IF(O1592=0,MIN(O38,0.8*(1-O418)*'Base Numbers'!$C$5*'Base Numbers'!$C$6),0),0)","v":0},{"$f":"IF(AND(P16>=1,P88>=1),IF(P1592=0,MIN(P38,0.8*(1-P418)*'Base Numbers'!$C$5*'Base Numbers'!$C$6),0),0)","v":0},{"$f":"IF(AND(Q16>=1,Q88>=1),IF(Q1592=0,MIN(Q38,0.8*(1-Q418)*'Base Numbers'!$C$5*'Base Numbers'!$C$6),0),0)","v":0},{"$f":"IF(AND(R16>=1,R88>=1),IF(R1592=0,MIN(R38,0.8*(1-R418)*'Base Numbers'!$C$5*'Base Numbers'!$C$6),0),0)","v":0},{"$f":"IF(AND(S16>=1,S88>=1),IF(S1592=0,MIN(S38,0.8*(1-S418)*'Base Numbers'!$C$5*'Base Numbers'!$C$6),0),0)","v":0},{"$f":"IF(AND(T16>=1,T88>=1),IF(T1592=0,MIN(T38,0.8*(1-T418)*'Base Numbers'!$C$5*'Base Numbers'!$C$6),0),0)","v":0},{"$f":"IF(AND(U16>=1,U88>=1),IF(U1592=0,MIN(U38,0.8*(1-U418)*'Base Numbers'!$C$5*'Base Numbers'!$C$6),0),0)","v":0},{"$f":"IF(AND(V16>=1,V88>=1),IF(V1592=0,MIN(V38,0.8*(1-V418)*'Base Numbers'!$C$5*'Base Numbers'!$C$6),0),0)","v":0},{"$f":"IF(AND(W16>=1,W88>=1),IF(W1592=0,MIN(W38,0.8*(1-W418)*'Base Numbers'!$C$5*'Base Numbers'!$C$6),0),0)","v":0},{"$f":"IF(AND(X16>=1,X88>=1),IF(X1592=0,MIN(X38,0.8*(1-X418)*'Base Numbers'!$C$5*'Base Numbers'!$C$6),0),0)","v":0}]
[{"$nulls":3},"total tempest wrath of the storm damage per day",{"$f":"IF(AND(E16>=1,E88>=1),(13-E38-E39+'Caster Tables'!C74)/20*0.5*9+(1-(13-E38-E39+'Caster Tables'!C74)/20)*9,0)","v":0},{"$f":"IF(AND(F16>=1,F88>=1),(13-F38-F39+'Caster Tables'!D74)/20*0.5*9+(1-(13-F38-F39+'Caster Tables'!D74)/20)*9,0)","v":0},{"$f":"IF(AND(G16>=1,G88>=1),(13-G38-G39+'Caster Tables'!E74)/20*0.5*9+(1-(13-G38-G39+'Caster Tables'!E74)/20)*9,0)","v":0},{"$f":"IF(AND(H16>=1,H88>=1),(13-H38-H39+'Caster Tables'!F74)/20*0.5*9+(1-(13-H38-H39+'Caster Tables'!F74)/20)*9,0)","v":0},{"$f":"IF(AND(I16>=1,I88>=1),(13-I38-I39+'Caster Tables'!G74)/20*0.5*9+(1-(13-I38-I39+'Caster Tables'!G74)/20)*9,0)","v":0},{"$f":"IF(AND(J16>=1,J88>=1),(13-J38-J39+'Caster Tables'!H74)/20*0.5*9+(1-(13-J38-J39+'Caster Tables'!H74)/20)*9,0)","v":0},{"$f":"IF(AND(K16>=1,K88>=1),(13-K38-K39+'Caster Tables'!I74)/20*0.5*9+(1-(13-K38-K39+'Caster Tables'!I74)/20)*9,0)","v":0},{"$f":"IF(AND(L16>=1,L88>=1),(13-L38-L39+'Caster Tables'!J74)/20*0.5*9+(1-(13-L38-L39+'Caster Tables'!J74)/20)*9,0)","v":0},{"$f":"IF(AND(M16>=1,M88>=1),(13-M38-M39+'Caster Tables'!K74)/20*0.5*9+(1-(13-M38-M39+'Caster Tables'!K74)/20)*9,0)","v":0},{"$f":"IF(AND(N16>=1,N88>=1),(13-N38-N39+'Caster Tables'!L74)/20*0.5*9+(1-(13-N38-N39+'Caster Tables'!L74)/20)*9,0)","v":0},{"$f":"IF(AND(O16>=1,O88>=1),(13-O38-O39+'Caster Tables'!M74)/20*0.5*9+(1-(13-O38-O39+'Caster Tables'!M74)/20)*9,0)","v":0},{"$f":"IF(AND(P16>=1,P88>=1),(13-P38-P39+'Caster Tables'!N74)/20*0.5*9+(1-(13-P38-P39+'Caster Tables'!N74)/20)*9,0)","v":0},{"$f":"IF(AND(Q16>=1,Q88>=1),(13-Q38-Q39+'Caster Tables'!O74)/20*0.5*9+(1-(13-Q38-Q39+'Caster Tables'!O74)/20)*9,0)","v":0},{"$f":"IF(AND(R16>=1,R88>=1),(13-R38-R39+'Caster Tables'!P74)/20*0.5*9+(1-(13-R38-R39+'Caster Tables'!P74)/20)*9,0)","v":0},{"$f":"IF(AND(S16>=1,S88>=1),(13-S38-S39+'Caster Tables'!Q74)/20*0.5*9+(1-(13-S38-S39+'Caster Tables'!Q74)/20)*9,0)","v":0},{"$f":"IF(AND(T16>=1,T88>=1),(13-T38-T39+'Caster Tables'!R74)/20*0.5*9+(1-(13-T38-T39+'Caster Tables'!R74)/20)*9,0)","v":0},{"$f":"IF(AND(U16>=1,U88>=1),(13-U38-U39+'Caster Tables'!S74)/20*0.5*9+(1-(13-U38-U39+'Caster Tables'!S74)/20)*9,0)","v":0},{"$f":"IF(AND(V16>=1,V88>=1),(13-V38-V39+'Caster Tables'!T74)/20*0.5*9+(1-(13-V38-V39+'Caster Tables'!T74)/20)*9,0)","v":0},{"$f":"IF(AND(W16>=1,W88>=1),(13-W38-W39+'Caster Tables'!U74)/20*0.5*9+(1-(13-W38-W39+'Caster Tables'!U74)/20)*9,0)","v":0},{"$f":"IF(AND(X16>=1,X88>=1),(13-X38-X39+'Caster Tables'!V74)/20*0.5*9+(1-(13-X38-X39+'Caster Tables'!V74)/20)*9,0)","v":0}]
[{"$nulls":3},"death cleric alternative cantrip prob of 2 targets",{"$f":"IF(AND(E16>=1,E87>=1),0.33,0)","v":0},0,0,0,0,0,0,0,0,0,0,0,0,0,0,0,0,0,0,0]
[{"$nulls":3},"death cleric alternative toll the dead damage single target",{"$f":"IF(AND(E16>=1,E87>=1),(1-E738)*('Caster Tables'!C8+1)*6,0)","v":0},{"$f":"IF(AND(F16>=1,F87>=1),(1-F738)*('Caster Tables'!D8+1)*6,0)","v":0},{"$f":"IF(AND(G16>=1,G87>=1),(1-G738)*('Caster Tables'!E8+1)*6,0)","v":0},{"$f":"IF(AND(H16>=1,H87>=1),(1-H738)*('Caster Tables'!F8+1)*6,0)","v":0},{"$f":"IF(AND(I16>=1,I87>=1),(1-I738)*('Caster Tables'!G8+1)*6,0)","v":0},{"$f":"IF(AND(J16>=1,J87>=1),(1-J738)*('Caster Tables'!H8+1)*6,0)","v":0},{"$f":"IF(AND(K16>=1,K87>=1),(1-K738)*('Caster Tables'!I8+1)*6,0)","v":0},{"$f":"IF(AND(L16>=1,L87>=1),(1-L738)*('Caster Tables'!J8+1)*6,0)","v":0},{"$f":"IF(AND(M16>=1,M87>=1),(1-M738)*('Caster Tables'!K8+1)*6,0)","v":0},{"$f":"IF(AND(N16>=1,N87>=1),(1-N738)*('Caster Tables'!L8+1)*6,0)","v":0},{"$f":"IF(AND(O16>=1,O87>=1),(1-O738)*('Caster Tables'!M8+1)*6,0)","v":0},{"$f":"IF(AND(P16>=1,P87>=1),(1-P738)*('Caster Tables'!N8+1)*6,0)","v":0},{"$f":"IF(AND(Q16>=1,Q87>=1),(1-Q738)*('Caster Tables'!O8+1)*6,0)","v":0},{"$f":"IF(AND(R16>=1,R87>=1),(1-R738)*('Caster Tables'!P8+1)*6,0)","v":0},{"$f":"IF(AND(S16>=1,S87>=1),(1-S738)*('Caster Tables'!Q8+1)*6,0)","v":0},{"$f":"IF(AND(T16>=1,T87>=1),(1-T738)*('Caster Tables'!R8+1)*6,0)","v":0},{"$f":"IF(AND(U16>=1,U87>=1),(1-U738)*('Caster Tables'!S8+1)*6,0)","v":0},{"$f":"IF(AND(V16>=1,V87>=1),(1-V738)*('Caster Tables'!T8+1)*6,0)","v":0},{"$f":"IF(AND(W16>=1,W87>=1),(1-W738)*('Caster Tables'!U8+1)*6,0)","v":0},{"$f":"IF(AND(X16>=1,X87>=1),(1-X738)*('Caster Tables'!V8+1)*6,0)","v":0}]
[{"$nulls":3},"death cleric comparison main damage scenario (main + bonus)",{"$f":"E1597+E1598","v":5.253125000000001},{"$f":"F1597+F1598","v":6.995585},7.763531654921093,10.877818560395314,24.67755640045625,22.6272673256625,22.979112548833594,22.979112548833594,26.758954977698437,26.60013835896485,26.44132174023125,25.495271441097653,31.011604585223438,30.847591185975002,28.484053574378905,28.318536955645314,34.2753488322082,32.025985695413084,32.025679340625004,31.817959973437496]
[{"$nulls":3},"death cleric gain on double necro toll the dead:",{"$f":"MAX(0,2*E1145-E1146)","v":0},{"$f":"MAX(0,2*F1145-F1146)","v":0},0,0,0,0,0,0,0,0,0,0,0,0,0,0,0,0,0,0]
[{"$nulls":3},"death cleric gain on single necro toll the dead:",{"$f":"MAX(0,E1145-E1146)","v":0},{"$f":"MAX(0,F1145-F1146)","v":0},0,0,0,0,0,0,0,0,0,0,0,0,0,0,0,0,0,0]
[{"$nulls":3},"death cleric toll the dead damage gain",{"$f":"E1144*E1147+(1-E1144)*E1148","v":0},{"$f":"F1144*F1147+(1-F1144)*F1148","v":0},0,0,0,0,0,0,0,0,0,0,0,0,0,0,0,0,0,0]
[{"$nulls":3},"peace cleric emboldening bond uses",{"$f":"IF(AND(E16>=1,E89>=1),E39,0)","v":0},0,0,0,0,0,0,0,0,0,0,0,0,0,0,0,0,0,0,0]
[{"$nulls":3},"peace cleric emboldening bond avg hit gain per turn",{"$f":"MIN(1,E1150/'Base Numbers'!$C$5)*2.5","v":0},{"$f":"MIN(1,F1150/'Base Numbers'!$C$5)*2.5","v":0},{"$f":"MIN(1,G1150/'Base Numbers'!$C$5)*2.5","v":0},{"$f":"MIN(1,H1150/'Base Numbers'!$C$5)*2.5","v":0},{"$f":"MIN(1,I1150/'Base Numbers'!$C$5)*2.5","v":0},{"$f":"MIN(1,J1150/'Base Numbers'!$C$5)*2.5","v":0},{"$f":"MIN(1,K1150/'Base Numbers'!$C$5)*2.5","v":0},{"$f":"MIN(1,L1150/'Base Numbers'!$C$5)*2.5","v":0},{"$f":"MIN(1,M1150/'Base Numbers'!$C$5)*2.5","v":0},{"$f":"MIN(1,N1150/'Base Numbers'!$C$5)*2.5","v":0},{"$f":"MIN(1,O1150/'Base Numbers'!$C$5)*2.5","v":0},{"$f":"MIN(1,P1150/'Base Numbers'!$C$5)*2.5","v":0},{"$f":"MIN(1,Q1150/'Base Numbers'!$C$5)*2.5","v":0},{"$f":"MIN(1,R1150/'Base Numbers'!$C$5)*2.5","v":0},{"$f":"MIN(1,S1150/'Base Numbers'!$C$5)*2.5","v":0},{"$f":"MIN(1,T1150/'Base Numbers'!$C$5)*2.5","v":0},{"$f":"MIN(1,U1150/'Base Numbers'!$C$5)*2.5","v":0},{"$f":"MIN(1,V1150/'Base Numbers'!$C$5)*2.5","v":0},{"$f":"MIN(1,W1150/'Base Numbers'!$C$5)*2.5","v":0},{"$f":"MIN(1,X1150/'Base Numbers'!$C$5)*2.5","v":0}]
[{"$nulls":3},"war cleric channel div extra hits",{"$f":"IF(AND(E16>=2,E86>=1),E1125*(E571+E573),0)","v":0},0,0,0,0,0,0,0,0,0,0,0,0,0,0,0,0,0,0,0]
[{"$nulls":3},"total bonus cleric damage per round",{"$f":"E1130+E1131+E1149+(E1133+E1135+E1138+E1141+E1143+E1152)/('Base Numbers'!$C$5*'Base Numbers'!$C$6)","v":0},{"$f":"F1130+F1131+F1149+(F1133+F1135+F1138+F1141+F1143+F1152)/('Base Numbers'!$C$5*'Base Numbers'!$C$6)","v":0},{"$f":"G1130+G1131+G1149+(G1133+G1135+G1138+G1141+G1143+G1152)/('Base Numbers'!$C$5*'Base Numbers'!$C$6)","v":0},{"$f":"H1130+H1131+H1149+(H1133+H1135+H1138+H1141+H1143+H1152)/('Base Numbers'!$C$5*'Base Numbers'!$C$6)","v":0},{"$f":"I1130+I1131+I1149+(I1133+I1135+I1138+I1141+I1143+I1152)/('Base Numbers'!$C$5*'Base Numbers'!$C$6)","v":0},{"$f":"J1130+J1131+J1149+(J1133+J1135+J1138+J1141+J1143+J1152)/('Base Numbers'!$C$5*'Base Numbers'!$C$6)","v":0},{"$f":"K1130+K1131+K1149+(K1133+K1135+K1138+K1141+K1143+K1152)/('Base Numbers'!$C$5*'Base Numbers'!$C$6)","v":0},{"$f":"L1130+L1131+L1149+(L1133+L1135+L1138+L1141+L1143+L1152)/('Base Numbers'!$C$5*'Base Numbers'!$C$6)","v":0},{"$f":"M1130+M1131+M1149+(M1133+M1135+M1138+M1141+M1143+M1152)/('Base Numbers'!$C$5*'Base Numbers'!$C$6)","v":0},{"$f":"N1130+N1131+N1149+(N1133+N1135+N1138+N1141+N1143+N1152)/('Base Numbers'!$C$5*'Base Numbers'!$C$6)","v":0},{"$f":"O1130+O1131+O1149+(O1133+O1135+O1138+O1141+O1143+O1152)/('Base Numbers'!$C$5*'Base Numbers'!$C$6)","v":0},{"$f":"P1130+P1131+P1149+(P1133+P1135+P1138+P1141+P1143+P1152)/('Base Numbers'!$C$5*'Base Numbers'!$C$6)","v":0},{"$f":"Q1130+Q1131+Q1149+(Q1133+Q1135+Q1138+Q1141+Q1143+Q1152)/('Base Numbers'!$C$5*'Base Numbers'!$C$6)","v":0},{"$f":"R1130+R1131+R1149+(R1133+R1135+R1138+R1141+R1143+R1152)/('Base Numbers'!$C$5*'Base Numbers'!$C$6)","v":0},{"$f":"S1130+S1131+S1149+(S1133+S1135+S1138+S1141+S1143+S1152)/('Base Numbers'!$C$5*'Base Numbers'!$C$6)","v":0},{"$f":"T1130+T1131+T1149+(T1133+T1135+T1138+T1141+T1143+T1152)/('Base Numbers'!$C$5*'Base Numbers'!$C$6)","v":0},{"$f":"U1130+U1131+U1149+(U1133+U1135+U1138+U1141+U1143+U1152)/('Base Numbers'!$C$5*'Base Numbers'!$C$6)","v":0},{"$f":"V1130+V1131+V1149+(V1133+V1135+V1138+V1141+V1143+V1152)/('Base Numbers'!$C$5*'Base Numbers'!$C$6)","v":0},{"$f":"W1130+W1131+W1149+(W1133+W1135+W1138+W1141+W1143+W1152)/('Base Numbers'!$C$5*'Base Numbers'!$C$6)","v":0},{"$f":"X1130+X1131+X1149+(X1133+X1135+X1138+X1141+X1143+X1152)/('Base Numbers'!$C$5*'Base Numbers'!$C$6)","v":0}]
[]
[{"$nulls":3},"MONK ABILITIES"]
[{"$nulls":3},"Ki points per day",{"$f":"IF(E18>=2,E18,0)*(1+'Base Numbers'!$C$7)","v":0},{"$f":"IF(F18>=2,F18,0)*(1+'Base Numbers'!$C$7)","v":0},{"$f":"IF(G18>=2,G18,0)*(1+'Base Numbers'!$C$7)","v":0},{"$f":"IF(H18>=2,H18,0)*(1+'Base Numbers'!$C$7)","v":0},{"$f":"IF(I18>=2,I18,0)*(1+'Base Numbers'!$C$7)","v":0},{"$f":"IF(J18>=2,J18,0)*(1+'Base Numbers'!$C$7)","v":0},{"$f":"IF(K18>=2,K18,0)*(1+'Base Numbers'!$C$7)","v":0},{"$f":"IF(L18>=2,L18,0)*(1+'Base Numbers'!$C$7)","v":0},{"$f":"IF(M18>=2,M18,0)*(1+'Base Numbers'!$C$7)","v":0},{"$f":"IF(N18>=2,N18,0)*(1+'Base Numbers'!$C$7)","v":0},{"$f":"IF(O18>=2,O18,0)*(1+'Base Numbers'!$C$7)","v":0},{"$f":"IF(P18>=2,P18,0)*(1+'Base Numbers'!$C$7)","v":0},{"$f":"IF(Q18>=2,Q18,0)*(1+'Base Numbers'!$C$7)","v":0},{"$f":"IF(R18>=2,R18,0)*(1+'Base Numbers'!$C$7)","v":0},{"$f":"IF(S18>=2,S18,0)*(1+'Base Numbers'!$C$7)","v":0},{"$f":"IF(T18>=2,T18,0)*(1+'Base Numbers'!$C$7)","v":0},{"$f":"IF(U18>=2,U18,0)*(1+'Base Numbers'!$C$7)","v":0},{"$f":"IF(V18>=2,V18,0)*(1+'Base Numbers'!$C$7)","v":0},{"$f":"IF(W18>=2,W18,0)*(1+'Base Numbers'!$C$7)","v":0},{"$f":"IF(X18>=2,X18,0)*(1+'Base Numbers'!$C$7)","v":0}]
[{"$nulls":3},"martial arts damage",{"$f":"IF(E18>=1,2.5,0)+IF(E18>=5,1,0)+IF(E18>=11,1,0)+IF(E18>=17,1,0)","v":0},0,0,0,0,0,0,0,0,0,0,0,0,0,0,0,0,0,0,0]
[{"$nulls":3},"unarmed damage",{"$f":"MAX(E1157,IF(AND($B$65>=1,E6>=$B$65),4.5,0))","v":0},0,0,0,0,0,0,0,0,0,0,0,0,0,0,0,0,0,0,0]
[{"$nulls":3},"avg bonus attacks (Flurry of Blows)",{"$f":"IF(E163,0,MAX(IF(E18>=1,1,0),MIN(2,IF(E18>=2,1+E1156/('Base Numbers'!$C$5*'Base Numbers'!$C$6),0))))","v":0},{"$f":"IF(F163,0,MAX(IF(F18>=1,1,0),MIN(2,IF(F18>=2,1+F1156/('Base Numbers'!$C$5*'Base Numbers'!$C$6),0))))","v":0},{"$f":"IF(G163,0,MAX(IF(G18>=1,1,0),MIN(2,IF(G18>=2,1+G1156/('Base Numbers'!$C$5*'Base Numbers'!$C$6),0))))","v":0},{"$f":"IF(H163,0,MAX(IF(H18>=1,1,0),MIN(2,IF(H18>=2,1+H1156/('Base Numbers'!$C$5*'Base Numbers'!$C$6),0))))","v":0},{"$f":"IF(I163,0,MAX(IF(I18>=1,1,0),MIN(2,IF(I18>=2,1+I1156/('Base Numbers'!$C$5*'Base Numbers'!$C$6),0))))","v":0},{"$f":"IF(J163,0,MAX(IF(J18>=1,1,0),MIN(2,IF(J18>=2,1+J1156/('Base Numbers'!$C$5*'Base Numbers'!$C$6),0))))","v":0},{"$f":"IF(K163,0,MAX(IF(K18>=1,1,0),MIN(2,IF(K18>=2,1+K1156/('Base Numbers'!$C$5*'Base Numbers'!$C$6),0))))","v":0},{"$f":"IF(L163,0,MAX(IF(L18>=1,1,0),MIN(2,IF(L18>=2,1+L1156/('Base Numbers'!$C$5*'Base Numbers'!$C$6),0))))","v":0},{"$f":"IF(M163,0,MAX(IF(M18>=1,1,0),MIN(2,IF(M18>=2,1+M1156/('Base Numbers'!$C$5*'Base Numbers'!$C$6),0))))","v":0},{"$f":"IF(N163,0,MAX(IF(N18>=1,1,0),MIN(2,IF(N18>=2,1+N1156/('Base Numbers'!$C$5*'Base Numbers'!$C$6),0))))","v":0},{"$f":"IF(O163,0,MAX(IF(O18>=1,1,0),MIN(2,IF(O18>=2,1+O1156/('Base Numbers'!$C$5*'Base Numbers'!$C$6),0))))","v":0},{"$f":"IF(P163,0,MAX(IF(P18>=1,1,0),MIN(2,IF(P18>=2,1+P1156/('Base Numbers'!$C$5*'Base Numbers'!$C$6),0))))","v":0},{"$f":"IF(Q163,0,MAX(IF(Q18>=1,1,0),MIN(2,IF(Q18>=2,1+Q1156/('Base Numbers'!$C$5*'Base Numbers'!$C$6),0))))","v":0},{"$f":"IF(R163,0,MAX(IF(R18>=1,1,0),MIN(2,IF(R18>=2,1+R1156/('Base Numbers'!$C$5*'Base Numbers'!$C$6),0))))","v":0},{"$f":"IF(S163,0,MAX(IF(S18>=1,1,0),MIN(2,IF(S18>=2,1+S1156/('Base Numbers'!$C$5*'Base Numbers'!$C$6),0))))","v":0},{"$f":"IF(T163,0,MAX(IF(T18>=1,1,0),MIN(2,IF(T18>=2,1+T1156/('Base Numbers'!$C$5*'Base Numbers'!$C$6),0))))","v":0},{"$f":"IF(U163,0,MAX(IF(U18>=1,1,0),MIN(2,IF(U18>=2,1+U1156/('Base Numbers'!$C$5*'Base Numbers'!$C$6),0))))","v":0},{"$f":"IF(V163,0,MAX(IF(V18>=1,1,0),MIN(2,IF(V18>=2,1+V1156/('Base Numbers'!$C$5*'Base Numbers'!$C$6),0))))","v":0},{"$f":"IF(W163,0,MAX(IF(W18>=1,1,0),MIN(2,IF(W18>=2,1+W1156/('Base Numbers'!$C$5*'Base Numbers'!$C$6),0))))","v":0},{"$f":"IF(X163,0,MAX(IF(X18>=1,1,0),MIN(2,IF(X18>=2,1+X1156/('Base Numbers'!$C$5*'Base Numbers'!$C$6),0))))","v":0}]
[{"$nulls":3},"Ki used on flurry of blows (adj for spells)",{"$f":"IF(E163,0,MIN(E1156,E342*('Base Numbers'!$C$5*'Base Numbers'!$C$6)))","v":0},{"$f":"IF(F163,0,MIN(F1156,F342*('Base Numbers'!$C$5*'Base Numbers'!$C$6)))","v":0},{"$f":"IF(G163,0,MIN(G1156,G342*('Base Numbers'!$C$5*'Base Numbers'!$C$6)))","v":0},{"$f":"IF(H163,0,MIN(H1156,H342*('Base Numbers'!$C$5*'Base Numbers'!$C$6)))","v":0},{"$f":"IF(I163,0,MIN(I1156,I342*('Base Numbers'!$C$5*'Base Numbers'!$C$6)))","v":0},{"$f":"IF(J163,0,MIN(J1156,J342*('Base Numbers'!$C$5*'Base Numbers'!$C$6)))","v":0},{"$f":"IF(K163,0,MIN(K1156,K342*('Base Numbers'!$C$5*'Base Numbers'!$C$6)))","v":0},{"$f":"IF(L163,0,MIN(L1156,L342*('Base Numbers'!$C$5*'Base Numbers'!$C$6)))","v":0},{"$f":"IF(M163,0,MIN(M1156,M342*('Base Numbers'!$C$5*'Base Numbers'!$C$6)))","v":0},{"$f":"IF(N163,0,MIN(N1156,N342*('Base Numbers'!$C$5*'Base Numbers'!$C$6)))","v":0},{"$f":"IF(O163,0,MIN(O1156,O342*('Base Numbers'!$C$5*'Base Numbers'!$C$6)))","v":0},{"$f":"IF(P163,0,MIN(P1156,P342*('Base Numbers'!$C$5*'Base Numbers'!$C$6)))","v":0},{"$f":"IF(Q163,0,MIN(Q1156,Q342*('Base Numbers'!$C$5*'Base Numbers'!$C$6)))","v":0},{"$f":"IF(R163,0,MIN(R1156,R342*('Base Numbers'!$C$5*'Base Numbers'!$C$6)))","v":0},{"$f":"IF(S163,0,MIN(S1156,S342*('Base Numbers'!$C$5*'Base Numbers'!$C$6)))","v":0},{"$f":"IF(T163,0,MIN(T1156,T342*('Base Numbers'!$C$5*'Base Numbers'!$C$6)))","v":0},{"$f":"IF(U163,0,MIN(U1156,U342*('Base Numbers'!$C$5*'Base Numbers'!$C$6)))","v":0},{"$f":"IF(V163,0,MIN(V1156,V342*('Base Numbers'!$C$5*'Base Numbers'!$C$6)))","v":0},{"$f":"IF(W163,0,MIN(W1156,W342*('Base Numbers'!$C$5*'Base Numbers'!$C$6)))","v":0},{"$f":"IF(X163,0,MIN(X1156,X342*('Base Numbers'!$C$5*'Base Numbers'!$C$6)))","v":0}]
[{"$nulls":3},"remaining Ki after Flurry",{"$f":"E1156-E1160","v":0},0,0,0,0,0,0,0,0,0,0,0,0,0,0,0,0,0,0,0]
[{"$nulls":3},"avg bonus weapon attacks from Ki-Fueled Attack (L3)",{"$f":"IF(E18>=3,MIN(E1161,'Base Numbers'!$C$5*'Base Numbers'!$C$6),0)/('Base Numbers'!$C$5*'Base Numbers'!$C$6)","v":0},{"$f":"IF(F18>=3,MIN(F1161,'Base Numbers'!$C$5*'Base Numbers'!$C$6),0)/('Base Numbers'!$C$5*'Base Numbers'!$C$6)","v":0},{"$f":"IF(G18>=3,MIN(G1161,'Base Numbers'!$C$5*'Base Numbers'!$C$6),0)/('Base Numbers'!$C$5*'Base Numbers'!$C$6)","v":0},{"$f":"IF(H18>=3,MIN(H1161,'Base Numbers'!$C$5*'Base Numbers'!$C$6),0)/('Base Numbers'!$C$5*'Base Numbers'!$C$6)","v":0},{"$f":"IF(I18>=3,MIN(I1161,'Base Numbers'!$C$5*'Base Numbers'!$C$6),0)/('Base Numbers'!$C$5*'Base Numbers'!$C$6)","v":0},{"$f":"IF(J18>=3,MIN(J1161,'Base Numbers'!$C$5*'Base Numbers'!$C$6),0)/('Base Numbers'!$C$5*'Base Numbers'!$C$6)","v":0},{"$f":"IF(K18>=3,MIN(K1161,'Base Numbers'!$C$5*'Base Numbers'!$C$6),0)/('Base Numbers'!$C$5*'Base Numbers'!$C$6)","v":0},{"$f":"IF(L18>=3,MIN(L1161,'Base Numbers'!$C$5*'Base Numbers'!$C$6),0)/('Base Numbers'!$C$5*'Base Numbers'!$C$6)","v":0},{"$f":"IF(M18>=3,MIN(M1161,'Base Numbers'!$C$5*'Base Numbers'!$C$6),0)/('Base Numbers'!$C$5*'Base Numbers'!$C$6)","v":0},{"$f":"IF(N18>=3,MIN(N1161,'Base Numbers'!$C$5*'Base Numbers'!$C$6),0)/('Base Numbers'!$C$5*'Base Numbers'!$C$6)","v":0},{"$f":"IF(O18>=3,MIN(O1161,'Base Numbers'!$C$5*'Base Numbers'!$C$6),0)/('Base Numbers'!$C$5*'Base Numbers'!$C$6)","v":0},{"$f":"IF(P18>=3,MIN(P1161,'Base Numbers'!$C$5*'Base Numbers'!$C$6),0)/('Base Numbers'!$C$5*'Base Numbers'!$C$6)","v":0},{"$f":"IF(Q18>=3,MIN(Q1161,'Base Numbers'!$C$5*'Base Numbers'!$C$6),0)/('Base Numbers'!$C$5*'Base Numbers'!$C$6)","v":0},{"$f":"IF(R18>=3,MIN(R1161,'Base Numbers'!$C$5*'Base Numbers'!$C$6),0)/('Base Numbers'!$C$5*'Base Numbers'!$C$6)","v":0},{"$f":"IF(S18>=3,MIN(S1161,'Base Numbers'!$C$5*'Base Numbers'!$C$6),0)/('Base Numbers'!$C$5*'Base Numbers'!$C$6)","v":0},{"$f":"IF(T18>=3,MIN(T1161,'Base Numbers'!$C$5*'Base Numbers'!$C$6),0)/('Base Numbers'!$C$5*'Base Numbers'!$C$6)","v":0},{"$f":"IF(U18>=3,MIN(U1161,'Base Numbers'!$C$5*'Base Numbers'!$C$6),0)/('Base Numbers'!$C$5*'Base Numbers'!$C$6)","v":0},{"$f":"IF(V18>=3,MIN(V1161,'Base Numbers'!$C$5*'Base Numbers'!$C$6),0)/('Base Numbers'!$C$5*'Base Numbers'!$C$6)","v":0},{"$f":"IF(W18>=3,MIN(W1161,'Base Numbers'!$C$5*'Base Numbers'!$C$6),0)/('Base Numbers'!$C$5*'Base Numbers'!$C$6)","v":0},{"$f":"IF(X18>=3,MIN(X1161,'Base Numbers'!$C$5*'Base Numbers'!$C$6),0)/('Base Numbers'!$C$5*'Base Numbers'!$C$6)","v":0},null,"Just assume that Ki is spent to acquire bonus attacks somehow."]
[{"$nulls":3},"number of misses per day",{"$f":"E1319","v":5.6},{"$f":"F1319","v":4},3.696912000000001,7.446868,13.159199999999998,14.787607999999999,14.787607999999999,14.787607999999999,13.212800000000001,13.32,13.4272,14.22212,11.075183999999997,11.181311999999998,12.856000000000002,12.9632,8.963315999999999,10.561999999999998,10.642399999999999,10.776400000000002,null,"this all has to happen after the damage scenarios; "]
[{"$nulls":3},"avg \"miss size\"",{"$f":"E1320","v":1.25},{"$f":"F1320","v":1.25},1.25,1.25,0.625,0.6250000000000001,0.6250000000000001,0.6250000000000001,0.625,0.6249999999999999,0.625,0.625,0.625,0.625,0.6249999999999999,0.625,0.625,0.625,0.625,0.625,null,"so flurry must have priority"]
[{"$nulls":3},"number of misses convertible by Focused Aim (L5)",{"$f":"IF(E18>=5,2/E1164,0)","v":0},0,0,0,0,0,0,0,0,0,0,0,0,0,0,0,0,0,0,0]
[{"$nulls":3},"total additional damage from Focused Aim (L5)",{"$f":"MIN(E1161,E1165)*(IF(E1592,E656+E658,E571+E573))","v":0},0,0,0,0,0,0,0,0,0,0,0,0,0,0,0,0,0,0,0]
[{"$nulls":3},"Focused aim failure chance (L5)",0.3,0.3,0.3,0.3,0.3,0.3,0.3,0.3,0.3,0.3,0.3,0.3,0.3,0.3,0.3,0.3,0.3,0.3,0.3,0.3]
[{"$nulls":3},"ki left over after Focused Aim, Flurry Of Blows",{"$f":"E1161-MIN(E1161,E1165*(1/(1-E1167)))","v":0},{"$f":"F1161-MIN(F1161,F1165*(1/(1-F1167)))","v":0},0,0,0,0,0,0,0,0,0,0,0,0,0,0,0,0,0,0]
[{"$nulls":3},"kensei deft strike damage per day",{"$f":"IF(AND(E18>=6,E80>=1),E1157*MIN(E1168,E1615*'Base Numbers'!$C$5*'Base Numbers'!$C$6),0)","v":0},{"$f":"IF(AND(F18>=6,F80>=1),F1157*MIN(F1168,F1615*'Base Numbers'!$C$5*'Base Numbers'!$C$6),0)","v":0},{"$f":"IF(AND(G18>=6,G80>=1),G1157*MIN(G1168,G1615*'Base Numbers'!$C$5*'Base Numbers'!$C$6),0)","v":0},{"$f":"IF(AND(H18>=6,H80>=1),H1157*MIN(H1168,H1615*'Base Numbers'!$C$5*'Base Numbers'!$C$6),0)","v":0},{"$f":"IF(AND(I18>=6,I80>=1),I1157*MIN(I1168,I1615*'Base Numbers'!$C$5*'Base Numbers'!$C$6),0)","v":0},{"$f":"IF(AND(J18>=6,J80>=1),J1157*MIN(J1168,J1615*'Base Numbers'!$C$5*'Base Numbers'!$C$6),0)","v":0},{"$f":"IF(AND(K18>=6,K80>=1),K1157*MIN(K1168,K1615*'Base Numbers'!$C$5*'Base Numbers'!$C$6),0)","v":0},{"$f":"IF(AND(L18>=6,L80>=1),L1157*MIN(L1168,L1615*'Base Numbers'!$C$5*'Base Numbers'!$C$6),0)","v":0},{"$f":"IF(AND(M18>=6,M80>=1),M1157*MIN(M1168,M1615*'Base Numbers'!$C$5*'Base Numbers'!$C$6),0)","v":0},{"$f":"IF(AND(N18>=6,N80>=1),N1157*MIN(N1168,N1615*'Base Numbers'!$C$5*'Base Numbers'!$C$6),0)","v":0},{"$f":"IF(AND(O18>=6,O80>=1),O1157*MIN(O1168,O1615*'Base Numbers'!$C$5*'Base Numbers'!$C$6),0)","v":0},{"$f":"IF(AND(P18>=6,P80>=1),P1157*MIN(P1168,P1615*'Base Numbers'!$C$5*'Base Numbers'!$C$6),0)","v":0},{"$f":"IF(AND(Q18>=6,Q80>=1),Q1157*MIN(Q1168,Q1615*'Base Numbers'!$C$5*'Base Numbers'!$C$6),0)","v":0},{"$f":"IF(AND(R18>=6,R80>=1),R1157*MIN(R1168,R1615*'Base Numbers'!$C$5*'Base Numbers'!$C$6),0)","v":0},{"$f":"IF(AND(S18>=6,S80>=1),S1157*MIN(S1168,S1615*'Base Numbers'!$C$5*'Base Numbers'!$C$6),0)","v":0},{"$f":"IF(AND(T18>=6,T80>=1),T1157*MIN(T1168,T1615*'Base Numbers'!$C$5*'Base Numbers'!$C$6),0)","v":0},{"$f":"IF(AND(U18>=6,U80>=1),U1157*MIN(U1168,U1615*'Base Numbers'!$C$5*'Base Numbers'!$C$6),0)","v":0},{"$f":"IF(AND(V18>=6,V80>=1),V1157*MIN(V1168,V1615*'Base Numbers'!$C$5*'Base Numbers'!$C$6),0)","v":0},{"$f":"IF(AND(W18>=6,W80>=1),W1157*MIN(W1168,W1615*'Base Numbers'!$C$5*'Base Numbers'!$C$6),0)","v":0},{"$f":"IF(AND(X18>=6,X80>=1),X1157*MIN(X1168,X1615*'Base Numbers'!$C$5*'Base Numbers'!$C$6),0)","v":0},null,"limit by number of rounds with at least one hit"]
[{"$nulls":3},"Ki used on kensei deft strike",{"$f":"IF(AND(E18>=6,E80>=1),MIN(E1168,E1615*'Base Numbers'!$C$5*'Base Numbers'!$C$6),0)","v":0},{"$f":"IF(AND(F18>=6,F80>=1),MIN(F1168,F1615*'Base Numbers'!$C$5*'Base Numbers'!$C$6),0)","v":0},{"$f":"IF(AND(G18>=6,G80>=1),MIN(G1168,G1615*'Base Numbers'!$C$5*'Base Numbers'!$C$6),0)","v":0},{"$f":"IF(AND(H18>=6,H80>=1),MIN(H1168,H1615*'Base Numbers'!$C$5*'Base Numbers'!$C$6),0)","v":0},{"$f":"IF(AND(I18>=6,I80>=1),MIN(I1168,I1615*'Base Numbers'!$C$5*'Base Numbers'!$C$6),0)","v":0},{"$f":"IF(AND(J18>=6,J80>=1),MIN(J1168,J1615*'Base Numbers'!$C$5*'Base Numbers'!$C$6),0)","v":0},{"$f":"IF(AND(K18>=6,K80>=1),MIN(K1168,K1615*'Base Numbers'!$C$5*'Base Numbers'!$C$6),0)","v":0},{"$f":"IF(AND(L18>=6,L80>=1),MIN(L1168,L1615*'Base Numbers'!$C$5*'Base Numbers'!$C$6),0)","v":0},{"$f":"IF(AND(M18>=6,M80>=1),MIN(M1168,M1615*'Base Numbers'!$C$5*'Base Numbers'!$C$6),0)","v":0},{"$f":"IF(AND(N18>=6,N80>=1),MIN(N1168,N1615*'Base Numbers'!$C$5*'Base Numbers'!$C$6),0)","v":0},{"$f":"IF(AND(O18>=6,O80>=1),MIN(O1168,O1615*'Base Numbers'!$C$5*'Base Numbers'!$C$6),0)","v":0},{"$f":"IF(AND(P18>=6,P80>=1),MIN(P1168,P1615*'Base Numbers'!$C$5*'Base Numbers'!$C$6),0)","v":0},{"$f":"IF(AND(Q18>=6,Q80>=1),MIN(Q1168,Q1615*'Base Numbers'!$C$5*'Base Numbers'!$C$6),0)","v":0},{"$f":"IF(AND(R18>=6,R80>=1),MIN(R1168,R1615*'Base Numbers'!$C$5*'Base Numbers'!$C$6),0)","v":0},{"$f":"IF(AND(S18>=6,S80>=1),MIN(S1168,S1615*'Base Numbers'!$C$5*'Base Numbers'!$C$6),0)","v":0},{"$f":"IF(AND(T18>=6,T80>=1),MIN(T1168,T1615*'Base Numbers'!$C$5*'Base Numbers'!$C$6),0)","v":0},{"$f":"IF(AND(U18>=6,U80>=1),MIN(U1168,U1615*'Base Numbers'!$C$5*'Base Numbers'!$C$6),0)","v":0},{"$f":"IF(AND(V18>=6,V80>=1),MIN(V1168,V1615*'Base Numbers'!$C$5*'Base Numbers'!$C$6),0)","v":0},{"$f":"IF(AND(W18>=6,W80>=1),MIN(W1168,W1615*'Base Numbers'!$C$5*'Base Numbers'!$C$6),0)","v":0},{"$f":"IF(AND(X18>=6,X80>=1),MIN(X1168,X1615*'Base Numbers'!$C$5*'Base Numbers'!$C$6),0)","v":0}]
[{"$nulls":3},"remaining Ki after Deft Strike, FoB, Focused Aim",{"$f":"E1168-E1170","v":0},{"$f":"F1168-F1170","v":0},0,0,0,0,0,0,0,0,0,0,0,0,0,0,0,0,0,0]
[{"$nulls":3},"way of mercy hands of harm damage per use",{"$f":"IF(AND(E18>=3,E81>=1),E1157+E38,0)","v":0},0,0,0,0,0,0,0,0,0,0,0,0,0,0,0,0,0,0,0]
[{"$nulls":3},"Ki used on hands of harm",{"$f":"IF(E163,0,IF(AND(E18<11,E18>=3,E81>=1),MIN(E1171,E1615*('Base Numbers'!$C$5*'Base Numbers'!$C$6)),0))","v":0},{"$f":"IF(F163,0,IF(AND(F18<11,F18>=3,F81>=1),MIN(F1171,F1615*('Base Numbers'!$C$5*'Base Numbers'!$C$6)),0))","v":0},{"$f":"IF(G163,0,IF(AND(G18<11,G18>=3,G81>=1),MIN(G1171,G1615*('Base Numbers'!$C$5*'Base Numbers'!$C$6)),0))","v":0},{"$f":"IF(H163,0,IF(AND(H18<11,H18>=3,H81>=1),MIN(H1171,H1615*('Base Numbers'!$C$5*'Base Numbers'!$C$6)),0))","v":0},{"$f":"IF(I163,0,IF(AND(I18<11,I18>=3,I81>=1),MIN(I1171,I1615*('Base Numbers'!$C$5*'Base Numbers'!$C$6)),0))","v":0},{"$f":"IF(J163,0,IF(AND(J18<11,J18>=3,J81>=1),MIN(J1171,J1615*('Base Numbers'!$C$5*'Base Numbers'!$C$6)),0))","v":0},{"$f":"IF(K163,0,IF(AND(K18<11,K18>=3,K81>=1),MIN(K1171,K1615*('Base Numbers'!$C$5*'Base Numbers'!$C$6)),0))","v":0},{"$f":"IF(L163,0,IF(AND(L18<11,L18>=3,L81>=1),MIN(L1171,L1615*('Base Numbers'!$C$5*'Base Numbers'!$C$6)),0))","v":0},{"$f":"IF(M163,0,IF(AND(M18<11,M18>=3,M81>=1),MIN(M1171,M1615*('Base Numbers'!$C$5*'Base Numbers'!$C$6)),0))","v":0},{"$f":"IF(N163,0,IF(AND(N18<11,N18>=3,N81>=1),MIN(N1171,N1615*('Base Numbers'!$C$5*'Base Numbers'!$C$6)),0))","v":0},{"$f":"IF(O163,0,IF(AND(O18<11,O18>=3,O81>=1),MIN(O1171,O1615*('Base Numbers'!$C$5*'Base Numbers'!$C$6)),0))","v":0},{"$f":"IF(P163,0,IF(AND(P18<11,P18>=3,P81>=1),MIN(P1171,P1615*('Base Numbers'!$C$5*'Base Numbers'!$C$6)),0))","v":0},{"$f":"IF(Q163,0,IF(AND(Q18<11,Q18>=3,Q81>=1),MIN(Q1171,Q1615*('Base Numbers'!$C$5*'Base Numbers'!$C$6)),0))","v":0},{"$f":"IF(R163,0,IF(AND(R18<11,R18>=3,R81>=1),MIN(R1171,R1615*('Base Numbers'!$C$5*'Base Numbers'!$C$6)),0))","v":0},{"$f":"IF(S163,0,IF(AND(S18<11,S18>=3,S81>=1),MIN(S1171,S1615*('Base Numbers'!$C$5*'Base Numbers'!$C$6)),0))","v":0},{"$f":"IF(T163,0,IF(AND(T18<11,T18>=3,T81>=1),MIN(T1171,T1615*('Base Numbers'!$C$5*'Base Numbers'!$C$6)),0))","v":0},{"$f":"IF(U163,0,IF(AND(U18<11,U18>=3,U81>=1),MIN(U1171,U1615*('Base Numbers'!$C$5*'Base Numbers'!$C$6)),0))","v":0},{"$f":"IF(V163,0,IF(AND(V18<11,V18>=3,V81>=1),MIN(V1171,V1615*('Base Numbers'!$C$5*'Base Numbers'!$C$6)),0))","v":0},{"$f":"IF(W163,0,IF(AND(W18<11,W18>=3,W81>=1),MIN(W1171,W1615*('Base Numbers'!$C$5*'Base Numbers'!$C$6)),0))","v":0},{"$f":"IF(X163,0,IF(AND(X18<11,X18>=3,X81>=1),MIN(X1171,X1615*('Base Numbers'!$C$5*'Base Numbers'!$C$6)),0))","v":0},null,"should come before flurry of blows"]
[{"$nulls":3},"hands of harm damage per day",{"$f":"IF(AND(E163=0,E18<11,E18>=3,E81>=1),MIN(E1171,E1615*('Base Numbers'!$C$5*'Base Numbers'!$C$6))*E1172,IF(AND(E18>=11,E81>=1),MIN(E1160,E1615*('Base Numbers'!$C$5*'Base Numbers'!$C$6))*E1172,0))","v":0},{"$f":"IF(AND(F163=0,F18<11,F18>=3,F81>=1),MIN(F1171,F1615*('Base Numbers'!$C$5*'Base Numbers'!$C$6))*F1172,IF(AND(F18>=11,F81>=1),MIN(F1160,F1615*('Base Numbers'!$C$5*'Base Numbers'!$C$6))*F1172,0))","v":0},{"$f":"IF(AND(G163=0,G18<11,G18>=3,G81>=1),MIN(G1171,G1615*('Base Numbers'!$C$5*'Base Numbers'!$C$6))*G1172,IF(AND(G18>=11,G81>=1),MIN(G1160,G1615*('Base Numbers'!$C$5*'Base Numbers'!$C$6))*G1172,0))","v":0},{"$f":"IF(AND(H163=0,H18<11,H18>=3,H81>=1),MIN(H1171,H1615*('Base Numbers'!$C$5*'Base Numbers'!$C$6))*H1172,IF(AND(H18>=11,H81>=1),MIN(H1160,H1615*('Base Numbers'!$C$5*'Base Numbers'!$C$6))*H1172,0))","v":0},{"$f":"IF(AND(I163=0,I18<11,I18>=3,I81>=1),MIN(I1171,I1615*('Base Numbers'!$C$5*'Base Numbers'!$C$6))*I1172,IF(AND(I18>=11,I81>=1),MIN(I1160,I1615*('Base Numbers'!$C$5*'Base Numbers'!$C$6))*I1172,0))","v":0},{"$f":"IF(AND(J163=0,J18<11,J18>=3,J81>=1),MIN(J1171,J1615*('Base Numbers'!$C$5*'Base Numbers'!$C$6))*J1172,IF(AND(J18>=11,J81>=1),MIN(J1160,J1615*('Base Numbers'!$C$5*'Base Numbers'!$C$6))*J1172,0))","v":0},{"$f":"IF(AND(K163=0,K18<11,K18>=3,K81>=1),MIN(K1171,K1615*('Base Numbers'!$C$5*'Base Numbers'!$C$6))*K1172,IF(AND(K18>=11,K81>=1),MIN(K1160,K1615*('Base Numbers'!$C$5*'Base Numbers'!$C$6))*K1172,0))","v":0},{"$f":"IF(AND(L163=0,L18<11,L18>=3,L81>=1),MIN(L1171,L1615*('Base Numbers'!$C$5*'Base Numbers'!$C$6))*L1172,IF(AND(L18>=11,L81>=1),MIN(L1160,L1615*('Base Numbers'!$C$5*'Base Numbers'!$C$6))*L1172,0))","v":0},{"$f":"IF(AND(M163=0,M18<11,M18>=3,M81>=1),MIN(M1171,M1615*('Base Numbers'!$C$5*'Base Numbers'!$C$6))*M1172,IF(AND(M18>=11,M81>=1),MIN(M1160,M1615*('Base Numbers'!$C$5*'Base Numbers'!$C$6))*M1172,0))","v":0},{"$f":"IF(AND(N163=0,N18<11,N18>=3,N81>=1),MIN(N1171,N1615*('Base Numbers'!$C$5*'Base Numbers'!$C$6))*N1172,IF(AND(N18>=11,N81>=1),MIN(N1160,N1615*('Base Numbers'!$C$5*'Base Numbers'!$C$6))*N1172,0))","v":0},{"$f":"IF(AND(O163=0,O18<11,O18>=3,O81>=1),MIN(O1171,O1615*('Base Numbers'!$C$5*'Base Numbers'!$C$6))*O1172,IF(AND(O18>=11,O81>=1),MIN(O1160,O1615*('Base Numbers'!$C$5*'Base Numbers'!$C$6))*O1172,0))","v":0},{"$f":"IF(AND(P163=0,P18<11,P18>=3,P81>=1),MIN(P1171,P1615*('Base Numbers'!$C$5*'Base Numbers'!$C$6))*P1172,IF(AND(P18>=11,P81>=1),MIN(P1160,P1615*('Base Numbers'!$C$5*'Base Numbers'!$C$6))*P1172,0))","v":0},{"$f":"IF(AND(Q163=0,Q18<11,Q18>=3,Q81>=1),MIN(Q1171,Q1615*('Base Numbers'!$C$5*'Base Numbers'!$C$6))*Q1172,IF(AND(Q18>=11,Q81>=1),MIN(Q1160,Q1615*('Base Numbers'!$C$5*'Base Numbers'!$C$6))*Q1172,0))","v":0},{"$f":"IF(AND(R163=0,R18<11,R18>=3,R81>=1),MIN(R1171,R1615*('Base Numbers'!$C$5*'Base Numbers'!$C$6))*R1172,IF(AND(R18>=11,R81>=1),MIN(R1160,R1615*('Base Numbers'!$C$5*'Base Numbers'!$C$6))*R1172,0))","v":0},{"$f":"IF(AND(S163=0,S18<11,S18>=3,S81>=1),MIN(S1171,S1615*('Base Numbers'!$C$5*'Base Numbers'!$C$6))*S1172,IF(AND(S18>=11,S81>=1),MIN(S1160,S1615*('Base Numbers'!$C$5*'Base Numbers'!$C$6))*S1172,0))","v":0},{"$f":"IF(AND(T163=0,T18<11,T18>=3,T81>=1),MIN(T1171,T1615*('Base Numbers'!$C$5*'Base Numbers'!$C$6))*T1172,IF(AND(T18>=11,T81>=1),MIN(T1160,T1615*('Base Numbers'!$C$5*'Base Numbers'!$C$6))*T1172,0))","v":0},{"$f":"IF(AND(U163=0,U18<11,U18>=3,U81>=1),MIN(U1171,U1615*('Base Numbers'!$C$5*'Base Numbers'!$C$6))*U1172,IF(AND(U18>=11,U81>=1),MIN(U1160,U1615*('Base Numbers'!$C$5*'Base Numbers'!$C$6))*U1172,0))","v":0},{"$f":"IF(AND(V163=0,V18<11,V18>=3,V81>=1),MIN(V1171,V1615*('Base Numbers'!$C$5*'Base Numbers'!$C$6))*V1172,IF(AND(V18>=11,V81>=1),MIN(V1160,V1615*('Base Numbers'!$C$5*'Base Numbers'!$C$6))*V1172,0))","v":0},{"$f":"IF(AND(W163=0,W18<11,W18>=3,W81>=1),MIN(W1171,W1615*('Base Numbers'!$C$5*'Base Numbers'!$C$6))*W1172,IF(AND(W18>=11,W81>=1),MIN(W1160,W1615*('Base Numbers'!$C$5*'Base Numbers'!$C$6))*W1172,0))","v":0},{"$f":"IF(AND(X163=0,X18<11,X18>=3,X81>=1),MIN(X1171,X1615*('Base Numbers'!$C$5*'Base Numbers'!$C$6))*X1172,IF(AND(X18>=11,X81>=1),MIN(X1160,X1615*('Base Numbers'!$C$5*'Base Numbers'!$C$6))*X1172,0))","v":0}]
[{"$nulls":3},"remaining Ki after DS, FoB, FA, and Hands of Harm",{"$f":"E1171-E1173","v":0},{"$f":"F1171-F1173","v":0},0,0,0,0,0,0,0,0,0,0,0,0,0,0,0,0,0,0]
[{"$nulls":3},"stunning strike success prob",{"$f":"1-(13-E$39-E$38+'Caster Tables'!C75)/20","v":0.55},{"$f":"1-(13-F$39-F$38+'Caster Tables'!D75)/20","v":0.525},{"$f":"1-(13-G$39-G$38+'Caster Tables'!E75)/20","v":0.5},{"$f":"1-(13-H$39-H$38+'Caster Tables'!F75)/20","v":0.475},{"$f":"1-(13-I$39-I$38+'Caster Tables'!G75)/20","v":0.5},{"$f":"1-(13-J$39-J$38+'Caster Tables'!H75)/20","v":0.475},{"$f":"1-(13-K$39-K$38+'Caster Tables'!I75)/20","v":0.44999999999999996},{"$f":"1-(13-L$39-L$38+'Caster Tables'!J75)/20","v":0.42500000000000004},{"$f":"1-(13-M$39-M$38+'Caster Tables'!K75)/20","v":0.44999999999999996},{"$f":"1-(13-N$39-N$38+'Caster Tables'!L75)/20","v":0.42500000000000004},{"$f":"1-(13-O$39-O$38+'Caster Tables'!M75)/20","v":0.4},{"$f":"1-(13-P$39-P$38+'Caster Tables'!N75)/20","v":0.375},{"$f":"1-(13-Q$39-Q$38+'Caster Tables'!O75)/20","v":0.4},{"$f":"1-(13-R$39-R$38+'Caster Tables'!P75)/20","v":0.35},{"$f":"1-(13-S$39-S$38+'Caster Tables'!Q75)/20","v":0.30000000000000004},{"$f":"1-(13-T$39-T$38+'Caster Tables'!R75)/20","v":0.25},{"$f":"1-(13-U$39-U$38+'Caster Tables'!S75)/20","v":0.25},{"$f":"1-(13-V$39-V$38+'Caster Tables'!T75)/20","v":0.19999999999999996},{"$f":"1-(13-W$39-W$38+'Caster Tables'!U75)/20","v":0.15000000000000002},{"$f":"1-(13-X$39-X$38+'Caster Tables'!V75)/20","v":0.15000000000000002},null,"This equation describes how a change in adv pct increases damage:"]
[{"$nulls":3},"avg number of stunned opponents per day",{"$f":"IF(E163,0,E1175*E1176)","v":0},0,0,0,0,0,0,0,0,0,0,0,0,0,0,0,0,0,0,0,null,"T2 = ((1-a2)h+a2h')*T1/((1-a1)h+a1h')"]
[{"$nulls":3},"proportion of attacks benefitting from stunned when applicable",{"$f":"IF(E1600+E1601>0,IF(E1600+E1601>=3,(E1600+E1601-1.5),(E1600+E1601-1))/(E1600+E1601),0)","v":0},0,0,0,0.5,0.5,0.5,0.5,0.5,0.5,0.5,0.5,0.5,0.5,0.5,0.5,0.5,0.5,0.5,0.5,null,null,"T2 = new total damage"]
[{"$nulls":3},"total avg adv, increased from stunned opponents",{"$f":"E511+E1178*E1177/('Base Numbers'!$C$5*'Base Numbers'!$C$6)","v":0},{"$f":"F511+F1178*F1177/('Base Numbers'!$C$5*'Base Numbers'!$C$6)","v":0},{"$f":"G511+G1178*G1177/('Base Numbers'!$C$5*'Base Numbers'!$C$6)","v":0.32830000000000004},{"$f":"H511+H1178*H1177/('Base Numbers'!$C$5*'Base Numbers'!$C$6)","v":0.3417},{"$f":"I511+I1178*I1177/('Base Numbers'!$C$5*'Base Numbers'!$C$6)","v":0.3551},{"$f":"J511+J1178*J1177/('Base Numbers'!$C$5*'Base Numbers'!$C$6)","v":0.3551},{"$f":"K511+K1178*K1177/('Base Numbers'!$C$5*'Base Numbers'!$C$6)","v":0.3551},{"$f":"L511+L1178*L1177/('Base Numbers'!$C$5*'Base Numbers'!$C$6)","v":0.3551},{"$f":"M511+M1178*M1177/('Base Numbers'!$C$5*'Base Numbers'!$C$6)","v":0.34840000000000004},{"$f":"N511+N1178*N1177/('Base Numbers'!$C$5*'Base Numbers'!$C$6)","v":0.335},{"$f":"O511+O1178*O1177/('Base Numbers'!$C$5*'Base Numbers'!$C$6)","v":0.3216},{"$f":"P511+P1178*P1177/('Base Numbers'!$C$5*'Base Numbers'!$C$6)","v":0.42650000000000005},{"$f":"Q511+Q1178*Q1177/('Base Numbers'!$C$5*'Base Numbers'!$C$6)","v":0.4198},{"$f":"R511+R1178*R1177/('Base Numbers'!$C$5*'Base Numbers'!$C$6)","v":0.4064},{"$f":"S511+S1178*S1177/('Base Numbers'!$C$5*'Base Numbers'!$C$6)","v":0.393},{"$f":"T511+T1178*T1177/('Base Numbers'!$C$5*'Base Numbers'!$C$6)","v":0.3796},{"$f":"U511+U1178*U1177/('Base Numbers'!$C$5*'Base Numbers'!$C$6)","v":0.68645},{"$f":"V511+V1178*V1177/('Base Numbers'!$C$5*'Base Numbers'!$C$6)","v":0.67975},{"$f":"W511+W1178*W1177/('Base Numbers'!$C$5*'Base Numbers'!$C$6)","v":0.6697},{"$f":"X511+X1178*X1177/('Base Numbers'!$C$5*'Base Numbers'!$C$6)","v":0.65295},null,null,"a2 = new adv pct"]
[{"$nulls":3},"new total damage from stunned opponents",{"$f":"((1-E1179)*E391+E1179*E393)*(E1597+E1598+E1626)/((1-E511)*E391+E511*E393)","v":5.253125000000001},6.995585,7.763531654921093,10.877818560395314,24.677556400456247,22.6272673256625,22.979112548833594,22.979112548833594,26.758954977698437,26.60013835896485,26.44132174023125,25.495271441097657,31.011604585223438,30.847591185975002,28.484053574378905,28.318536955645314,34.2753488322082,32.025985695413084,32.025679340625004,31.817959973437496,null,null,"h = hit chance without adv"]
[{"$nulls":3},"increased damage from stunned opponents",{"$f":"ROUND(E1180-E1597-E1598-E1626,4)","v":0},{"$f":"ROUND(F1180-F1597-F1598-F1626,4)","v":0},0,0,0,0,0,0,0,0,0,0,0,0,0,0,0,0,0,0,null,null,"h' = hit chance with adv"]
[{"$nulls":3},"pct free bonus actions for Kensei Shot (ranged only)",{"$f":"IF(AND(E18>=3,E80,E163),MAX(0,1-E639)*E342,0)","v":0},0,0,0,0,0,0,0,0,0,0,0,0,0,0,0,0,0,0,0,null,null,"T1 = old total damage"]
[{"$nulls":3},"additional main and haste Kensei Shot damage per round",{"$f":"E1182*E1600*E653*2.5","v":0},0,0,0,0,0,0,0,0,0,0,0,0,0,0,0,0,0,0,0,null,null,"a1 = old adv pct"]
[{"$nulls":3},"additional main and haste Kensei Shot crit damage per round",{"$f":"E1182*E1600*(E660*(1-E643)+E643*E661)*2.5","v":0},0,0,0,0,0,0,0,0,0,0,0,0,0,0,0,0,0,0,0]
[{"$nulls":3},"kensei unerring accuracy damage per round (L17)",{"$f":"IF(AND(E18>=17,E80>=1),E1621,0)*(E590+E591)","v":0},0,0,0,0,0,0,0,0,0,0,0,0,0,0,0,0,0,0,0]
[{"$nulls":3},"total bonus monk damage",{"$f":"E1185+E1181+E1183+E1184+(E1169+E1174+E1166)/('Base Numbers'!$C$5*'Base Numbers'!$C$6)","v":0},{"$f":"F1185+F1181+F1183+F1184+(F1169+F1174+F1166)/('Base Numbers'!$C$5*'Base Numbers'!$C$6)","v":0},{"$f":"G1185+G1181+G1183+G1184+(G1169+G1174+G1166)/('Base Numbers'!$C$5*'Base Numbers'!$C$6)","v":0},{"$f":"H1185+H1181+H1183+H1184+(H1169+H1174+H1166)/('Base Numbers'!$C$5*'Base Numbers'!$C$6)","v":0},{"$f":"I1185+I1181+I1183+I1184+(I1169+I1174+I1166)/('Base Numbers'!$C$5*'Base Numbers'!$C$6)","v":0},{"$f":"J1185+J1181+J1183+J1184+(J1169+J1174+J1166)/('Base Numbers'!$C$5*'Base Numbers'!$C$6)","v":0},{"$f":"K1185+K1181+K1183+K1184+(K1169+K1174+K1166)/('Base Numbers'!$C$5*'Base Numbers'!$C$6)","v":0},{"$f":"L1185+L1181+L1183+L1184+(L1169+L1174+L1166)/('Base Numbers'!$C$5*'Base Numbers'!$C$6)","v":0},{"$f":"M1185+M1181+M1183+M1184+(M1169+M1174+M1166)/('Base Numbers'!$C$5*'Base Numbers'!$C$6)","v":0},{"$f":"N1185+N1181+N1183+N1184+(N1169+N1174+N1166)/('Base Numbers'!$C$5*'Base Numbers'!$C$6)","v":0},{"$f":"O1185+O1181+O1183+O1184+(O1169+O1174+O1166)/('Base Numbers'!$C$5*'Base Numbers'!$C$6)","v":0},{"$f":"P1185+P1181+P1183+P1184+(P1169+P1174+P1166)/('Base Numbers'!$C$5*'Base Numbers'!$C$6)","v":0},{"$f":"Q1185+Q1181+Q1183+Q1184+(Q1169+Q1174+Q1166)/('Base Numbers'!$C$5*'Base Numbers'!$C$6)","v":0},{"$f":"R1185+R1181+R1183+R1184+(R1169+R1174+R1166)/('Base Numbers'!$C$5*'Base Numbers'!$C$6)","v":0},{"$f":"S1185+S1181+S1183+S1184+(S1169+S1174+S1166)/('Base Numbers'!$C$5*'Base Numbers'!$C$6)","v":0},{"$f":"T1185+T1181+T1183+T1184+(T1169+T1174+T1166)/('Base Numbers'!$C$5*'Base Numbers'!$C$6)","v":0},{"$f":"U1185+U1181+U1183+U1184+(U1169+U1174+U1166)/('Base Numbers'!$C$5*'Base Numbers'!$C$6)","v":0},{"$f":"V1185+V1181+V1183+V1184+(V1169+V1174+V1166)/('Base Numbers'!$C$5*'Base Numbers'!$C$6)","v":0},{"$f":"W1185+W1181+W1183+W1184+(W1169+W1174+W1166)/('Base Numbers'!$C$5*'Base Numbers'!$C$6)","v":0},{"$f":"X1185+X1181+X1183+X1184+(X1169+X1174+X1166)/('Base Numbers'!$C$5*'Base Numbers'!$C$6)","v":0}]
[]
[{"$nulls":3},"BARBARIAN DAMAGE"]
[{"$nulls":3},"rages per day (bonus action)",{"$f":"IF(E8>=17,6,IF(E8>=12,5,IF(E8>=6,4,IF(E8>=3,3,IF(E8>=1,2,0)))))","v":0},0,0,0,0,0,0,0,0,0,0,0,0,0,0,0,0,0,0,0]
[{"$nulls":3},"average rage length ",{"$f":"IF(E8>=15,1,0.85)","v":0.85},0.85,0.85,0.85,0.85,0.85,0.85,0.85,0.85,0.85,0.85,0.85,0.85,0.85,0.85,0.85,0.85,0.85,0.85,0.85]
[{"$nulls":3},"pct of rounds spent spellcasting or concentrating",{"$f":"MAX(E327,E359)/('Base Numbers'!$C$5*'Base Numbers'!$C$6)","v":0},{"$f":"MAX(F327,F359)/('Base Numbers'!$C$5*'Base Numbers'!$C$6)","v":0.22163749999999993},{"$f":"MAX(G327,G359)/('Base Numbers'!$C$5*'Base Numbers'!$C$6)","v":0.3324562499999999},{"$f":"MAX(H327,H359)/('Base Numbers'!$C$5*'Base Numbers'!$C$6)","v":0.3324562499999999},{"$f":"MAX(I327,I359)/('Base Numbers'!$C$5*'Base Numbers'!$C$6)","v":0.44327499999999986},{"$f":"MAX(J327,J359)/('Base Numbers'!$C$5*'Base Numbers'!$C$6)","v":0.44327499999999986},{"$f":"MAX(K327,K359)/('Base Numbers'!$C$5*'Base Numbers'!$C$6)","v":0.5263890624999998},{"$f":"MAX(L327,L359)/('Base Numbers'!$C$5*'Base Numbers'!$C$6)","v":0.5263890624999998},{"$f":"MAX(M327,M359)/('Base Numbers'!$C$5*'Base Numbers'!$C$6)","v":0.5263890624999998},{"$f":"MAX(N327,N359)/('Base Numbers'!$C$5*'Base Numbers'!$C$6)","v":0.5263890624999998},{"$f":"MAX(O327,O359)/('Base Numbers'!$C$5*'Base Numbers'!$C$6)","v":0.5263890624999998},{"$f":"MAX(P327,P359)/('Base Numbers'!$C$5*'Base Numbers'!$C$6)","v":0.5263890624999998},{"$f":"MAX(Q327,Q359)/('Base Numbers'!$C$5*'Base Numbers'!$C$6)","v":0.5263890624999998},{"$f":"MAX(R327,R359)/('Base Numbers'!$C$5*'Base Numbers'!$C$6)","v":0.5263890624999998},{"$f":"MAX(S327,S359)/('Base Numbers'!$C$5*'Base Numbers'!$C$6)","v":0.6579863281249998},{"$f":"MAX(T327,T359)/('Base Numbers'!$C$5*'Base Numbers'!$C$6)","v":0.6579863281249998},{"$f":"MAX(U327,U359)/('Base Numbers'!$C$5*'Base Numbers'!$C$6)","v":0.6579863281249998},{"$f":"MAX(V327,V359)/('Base Numbers'!$C$5*'Base Numbers'!$C$6)","v":0.6579863281249998},{"$f":"MAX(W327,W359)/('Base Numbers'!$C$5*'Base Numbers'!$C$6)","v":0.7477212346586349},{"$f":"MAX(X327,X359)/('Base Numbers'!$C$5*'Base Numbers'!$C$6)","v":0.7477212346586349}]
[{"$nulls":3},"pct of rounds spent raging",{"$f":"MAX(0,MIN(1-E1191,E1190*E1189/'Base Numbers'!$C$5))","v":0},{"$f":"MAX(0,MIN(1-F1191,F1190*F1189/'Base Numbers'!$C$5))","v":0},{"$f":"MAX(0,MIN(1-G1191,G1190*G1189/'Base Numbers'!$C$5))","v":0},{"$f":"MAX(0,MIN(1-H1191,H1190*H1189/'Base Numbers'!$C$5))","v":0},{"$f":"MAX(0,MIN(1-I1191,I1190*I1189/'Base Numbers'!$C$5))","v":0},{"$f":"MAX(0,MIN(1-J1191,J1190*J1189/'Base Numbers'!$C$5))","v":0},{"$f":"MAX(0,MIN(1-K1191,K1190*K1189/'Base Numbers'!$C$5))","v":0},{"$f":"MAX(0,MIN(1-L1191,L1190*L1189/'Base Numbers'!$C$5))","v":0},{"$f":"MAX(0,MIN(1-M1191,M1190*M1189/'Base Numbers'!$C$5))","v":0},{"$f":"MAX(0,MIN(1-N1191,N1190*N1189/'Base Numbers'!$C$5))","v":0},{"$f":"MAX(0,MIN(1-O1191,O1190*O1189/'Base Numbers'!$C$5))","v":0},{"$f":"MAX(0,MIN(1-P1191,P1190*P1189/'Base Numbers'!$C$5))","v":0},{"$f":"MAX(0,MIN(1-Q1191,Q1190*Q1189/'Base Numbers'!$C$5))","v":0},{"$f":"MAX(0,MIN(1-R1191,R1190*R1189/'Base Numbers'!$C$5))","v":0},{"$f":"MAX(0,MIN(1-S1191,S1190*S1189/'Base Numbers'!$C$5))","v":0},{"$f":"MAX(0,MIN(1-T1191,T1190*T1189/'Base Numbers'!$C$5))","v":0},{"$f":"MAX(0,MIN(1-U1191,U1190*U1189/'Base Numbers'!$C$5))","v":0},{"$f":"MAX(0,MIN(1-V1191,V1190*V1189/'Base Numbers'!$C$5))","v":0},{"$f":"MAX(0,MIN(1-W1191,W1190*W1189/'Base Numbers'!$C$5))","v":0},{"$f":"MAX(0,MIN(1-X1191,X1190*X1189/'Base Numbers'!$C$5))","v":0}]
[{"$nulls":3},"average static rage damage bonus (can't apply to BB or GFB)",{"$f":"IF(AND(E158,E163=0),1,0)*IF(E8>=16, 4, IF(E8>=9,3,IF(E8>=1,2,0)))*E1192","v":0},0,0,0,0,0,0,0,0,0,0,0,0,0,0,0,0,0,0,0,null,"* melee only, STR attacks only"]
[{"$nulls":3},"brutal criticals",{"$f":"IF(E8>=17,3,IF(E8>=13,2,IF(E8>=9,1,0)))","v":0},0,0,0,0,0,0,0,0,0,0,0,0,0,0,0,0,0,0,0]
[{"$nulls":3},"divine fury (Zealot) bonus damage per round",{"$f":"IF(AND(E8>=3,E68>=1),3.5+ROUNDDOWN(E8/2,0),0)","v":0},0,0,0,0,0,0,0,0,0,0,0,0,0,0,0,0,0,0,0]
[{"$nulls":3},"avg divine fury (Zealot) bonus damage per round (incl hit chance)",{"$f":"E1195*E1615","v":0},0,0,0,0,0,0,0,0,0,0,0,0,0,0,0,0,0,0,0]
[{"$nulls":3},"total divine fury (Zealot) bonus crit damage per round",{"$f":"IF(AND(E8>=3,E68>=1),3.5*E536,0)","v":0},0,0,0,0,0,0,0,0,0,0,0,0,0,0,0,0,0,0,0]
[{"$nulls":3},"vengeful ancestors frequency",{"$f":"IF(AND(E8>=14,E69>=1),1-E418,0)","v":0},0,0,0,0,0,0,0,0,0,0,0,0,0,0,0,0,0,0,0]
[{"$nulls":3},"vengeful ancestors damage (Ancestral Guardian, L14)",{"$f":"IF(AND(E8>=14,E69>=1),14,0)","v":0},0,0,0,0,0,0,0,0,0,0,0,0,0,0,0,0,0,0,0]
[{"$nulls":3},"avg veng ancestors damage per round",{"$f":"E1198*E1199*E1192","v":0},0,0,0,0,0,0,0,0,0,0,0,0,0,0,0,0,0,0,0]
[{"$nulls":3},"beast barb claw avg weapon damage",{"$f":"IF(AND(E8>=3,E70>=1),3.5,0)","v":0},0,0,0,0,0,0,0,0,0,0,0,0,0,0,0,0,0,0,0]
[{"$nulls":3},"beast barb claw static damage bonuses",{"$f":"E546+E34+E555+E559+E1193","v":3},3,3,3,3,3,3,3,3,3,3,3,3,3,3,3,3,3,3,3]
[{"$nulls":3},"beast barb claw dice damage bonuses",{"$f":"E545","v":0},0,0,0,0,0,0,0,0,0,0,0,0,0,0,0,0,0,0,0]
[{"$nulls":3},"beast barb claw hit chance",{"$f":"E518","v":0.65},0.65,0.6787920000000001,0.682008,0.73078525,0.685224,0.685224,0.685224,0.729261,0.7262125,0.723164,0.7023599999999999,0.788158,0.785344,0.7394075,0.7363590000000001,0.8441544999999999,0.804643125,0.80235675,0.7985461250000001]
[{"$nulls":3},"beast barb claw crit chance",{"$f":"E532","v":0.05},0.05,0.06559425000000002,0.06623075,0.06686725000000002,0.06686725000000002,0.06686725000000002,0.06686725000000002,0.06654900000000001,0.06591250000000001,0.065276,0.07025875000000001,0.06994050000000002,0.06930400000000002,0.06866750000000002,0.06803100000000001,0.06771275000000002,0.06707625000000002,0.06612150000000001,0.06453025000000001]
[{"$nulls":3},"beast barb damage (2 attacks)",{"$f":"2*(E1204*(E1201+E1202+E1203)+E1205*(E1201+E1203+E578))","v":3.9000000000000004},3.9000000000000004,4.072752,4.092048,4.3847115,4.111344000000001,4.111344000000001,4.111344000000001,4.375566,4.3572750000000005,4.338984,4.21416,4.728948,4.712064,4.436445,4.418154,5.064926999999999,4.82785875,4.8141405,4.791276750000001]
[{"$nulls":3},"number of main attacks replaced by beast claws",1,1,1,1,1,1,1,1,1,1,1,1,1,1,1,1,1,1,1,1,null,"GWM bonus attacks should still work, just with reduced likelihood"]
[{"$nulls":3},"pct of bonus attacks remaining with beast barb claw attacks ",{"$f":"IF(OR(E18>=2,AND(E18>=1,E378-E1207>=1)),1,IF(E362,1,0)+IF(E28,(E378-1)/E378*E382,0))","v":0},0,0,0,0,0,0,0,0,0,0,0,0,0,0,0,0,0,0,0,null,"* a dual weilding beast with extra attack can make a bonus offhand weapon attack"]
[{"$nulls":3},"total potential weapon damage replaced by beast claws",{"$f":"IF(E1600>0,E1207*(E1597/E1600),0)+(1-E1208)*E1598","v":5.253125000000001},6.995585,7.763531654921093,10.877818560395314,12.338778200228125,11.31363366283125,11.489556274416797,11.489556274416797,13.379477488849219,13.300069179482424,13.220660870115625,12.747635720548827,15.505802292611719,15.423795592987501,14.242026787189452,14.159268477822657,17.1376744161041,16.012992847706542,16.012839670312502,15.908979986718748,null,"   at the cost of their object interaction by stowing and drawing the offhand weapon"]
[{"$nulls":3},"net beast claw damage difference",{"$f":"IF(AND(E8>=3,E70>=1),E1206-E1209,0)","v":0},0,0,0,0,0,0,0,0,0,0,0,0,0,0,0,0,0,0,0,null,"   on alternate turns."]
[{"$nulls":3},"beast barb Infectious Fury uses",{"$f":"IF(AND(E8>=10,E70>=1),E39,0)","v":0},0,0,0,0,0,0,0,0,0,0,0,0,0,0,0,0,0,0,0,null,"   monk interaction here; bonus actions from monk rely on attacking with a weapon"]
[{"$nulls":3},"beast barb avg Infectious Fury dmg per use (WIS save)",{"$f":"13*(1-(20-8-E34-E39+1+'Caster Tables'!C$77)/20)","v":8.125},{"$f":"13*(1-(20-8-F34-F39+1+'Caster Tables'!D$77)/20)","v":7.8},{"$f":"13*(1-(20-8-G34-G39+1+'Caster Tables'!E$77)/20)","v":7.475},{"$f":"13*(1-(20-8-H34-H39+1+'Caster Tables'!F$77)/20)","v":7.15},{"$f":"13*(1-(20-8-I34-I39+1+'Caster Tables'!G$77)/20)","v":7.475},{"$f":"13*(1-(20-8-J34-J39+1+'Caster Tables'!H$77)/20)","v":7.15},{"$f":"13*(1-(20-8-K34-K39+1+'Caster Tables'!I$77)/20)","v":6.825},{"$f":"13*(1-(20-8-L34-L39+1+'Caster Tables'!J$77)/20)","v":6.5},{"$f":"13*(1-(20-8-M34-M39+1+'Caster Tables'!K$77)/20)","v":6.825},{"$f":"13*(1-(20-8-N34-N39+1+'Caster Tables'!L$77)/20)","v":6.5},{"$f":"13*(1-(20-8-O34-O39+1+'Caster Tables'!M$77)/20)","v":6.175},{"$f":"13*(1-(20-8-P34-P39+1+'Caster Tables'!N$77)/20)","v":5.85},{"$f":"13*(1-(20-8-Q34-Q39+1+'Caster Tables'!O$77)/20)","v":6.175},{"$f":"13*(1-(20-8-R34-R39+1+'Caster Tables'!P$77)/20)","v":5.85},{"$f":"13*(1-(20-8-S34-S39+1+'Caster Tables'!Q$77)/20)","v":5.525},{"$f":"13*(1-(20-8-T34-T39+1+'Caster Tables'!R$77)/20)","v":5.2},{"$f":"13*(1-(20-8-U34-U39+1+'Caster Tables'!S$77)/20)","v":5.525},{"$f":"13*(1-(20-8-V34-V39+1+'Caster Tables'!T$77)/20)","v":5.2},{"$f":"13*(1-(20-8-W34-W39+1+'Caster Tables'!U$77)/20)","v":4.875},{"$f":"13*(1-(20-8-X34-X39+1+'Caster Tables'!V$77)/20)","v":4.55}]
[{"$nulls":3},"beast barb avg Infectious Fury dmg per day",{"$f":"E1211*E1212/('Base Numbers'!$C$5*'Base Numbers'!$C$6)","v":0},{"$f":"F1211*F1212/('Base Numbers'!$C$5*'Base Numbers'!$C$6)","v":0},{"$f":"G1211*G1212/('Base Numbers'!$C$5*'Base Numbers'!$C$6)","v":0},{"$f":"H1211*H1212/('Base Numbers'!$C$5*'Base Numbers'!$C$6)","v":0},{"$f":"I1211*I1212/('Base Numbers'!$C$5*'Base Numbers'!$C$6)","v":0},{"$f":"J1211*J1212/('Base Numbers'!$C$5*'Base Numbers'!$C$6)","v":0},{"$f":"K1211*K1212/('Base Numbers'!$C$5*'Base Numbers'!$C$6)","v":0},{"$f":"L1211*L1212/('Base Numbers'!$C$5*'Base Numbers'!$C$6)","v":0},{"$f":"M1211*M1212/('Base Numbers'!$C$5*'Base Numbers'!$C$6)","v":0},{"$f":"N1211*N1212/('Base Numbers'!$C$5*'Base Numbers'!$C$6)","v":0},{"$f":"O1211*O1212/('Base Numbers'!$C$5*'Base Numbers'!$C$6)","v":0},{"$f":"P1211*P1212/('Base Numbers'!$C$5*'Base Numbers'!$C$6)","v":0},{"$f":"Q1211*Q1212/('Base Numbers'!$C$5*'Base Numbers'!$C$6)","v":0},{"$f":"R1211*R1212/('Base Numbers'!$C$5*'Base Numbers'!$C$6)","v":0},{"$f":"S1211*S1212/('Base Numbers'!$C$5*'Base Numbers'!$C$6)","v":0},{"$f":"T1211*T1212/('Base Numbers'!$C$5*'Base Numbers'!$C$6)","v":0},{"$f":"U1211*U1212/('Base Numbers'!$C$5*'Base Numbers'!$C$6)","v":0},{"$f":"V1211*V1212/('Base Numbers'!$C$5*'Base Numbers'!$C$6)","v":0},{"$f":"W1211*W1212/('Base Numbers'!$C$5*'Base Numbers'!$C$6)","v":0},{"$f":"X1211*X1212/('Base Numbers'!$C$5*'Base Numbers'!$C$6)","v":0}]
[{"$nulls":3},"total additional barbarian damage",{"$f":"E1196+E1197+E1200+E1210*E1192+E1213","v":0},0,0,0,0,{"$f":"J1196+J1197+J1200+J1210*J1192+J1213","v":0},0,0,0,0,{"$f":"O1196+O1197+O1200+O1210*O1192+O1213","v":0},0,0,0,0,0,0,0,0,0]
[]
[{"$nulls":3},"ROGUE DAMAGE"]
[{"$nulls":3},"sneak attack damage (requires ranged or finesse weapon)",{"$f":"IF(OR(E28>=1,E30>=1,$B$35>=1,$B$36>=1,$B$37>=1),0,CEILING(E11/2,1)*3.5)","v":0},0,0,0,0,0,0,0,0,3.5,3.5,7,7,10.5,10.5,14,14,17.5,17.5,21,null,"does work with gfb and bb"]
[{"$nulls":3},"base sneak attack availability",{"$f":"MAX(E506,'Base Numbers'!$G$14, IF(AND(E11>=3,E74),1,0))","v":0.8},{"$f":"MAX(F506,'Base Numbers'!$G$14)","v":0.8},{"$f":"MAX(G506,'Base Numbers'!$G$14)","v":0.8},{"$f":"MAX(H506,'Base Numbers'!$G$14)","v":0.8},{"$f":"MAX(I506,'Base Numbers'!$G$14)","v":0.8},{"$f":"MAX(J506,'Base Numbers'!$G$14)","v":0.8},{"$f":"MAX(K506,'Base Numbers'!$G$14)","v":0.8},{"$f":"MAX(L506,'Base Numbers'!$G$14)","v":0.8},{"$f":"MAX(M506,'Base Numbers'!$G$14)","v":0.8},{"$f":"MAX(N506,'Base Numbers'!$G$14)","v":0.8},{"$f":"MAX(O506,'Base Numbers'!$G$14)","v":0.8},{"$f":"MAX(P506,'Base Numbers'!$G$14)","v":0.8},{"$f":"MAX(Q506,'Base Numbers'!$G$14)","v":0.8},{"$f":"MAX(R506,'Base Numbers'!$G$14)","v":0.8},{"$f":"MAX(S506,'Base Numbers'!$G$14)","v":0.8},{"$f":"MAX(T506,'Base Numbers'!$G$14)","v":0.8},{"$f":"MAX(U506,'Base Numbers'!$G$14)","v":1},{"$f":"MAX(V506,'Base Numbers'!$G$14)","v":1},{"$f":"MAX(W506,'Base Numbers'!$G$14)","v":1},{"$f":"MAX(X506,'Base Numbers'!$G$14)","v":1}]
[{"$nulls":3},"total sneak attack availability",{"$f":"MIN(1,MAX(E465+E1218,E506))","v":0.8},0.8,0.8,0.8,0.8,0.8,0.8,0.8,0.8,0.8,0.8,0.8,0.8,0.8,0.8,0.8,1,1,1,1]
[{"$nulls":3},"number of qualifying attacks per round (everything but opp)",{"$f":"IF(E163=0,E1586-E418,E638+E640)","v":1},1,1,1,2,2,2,2,2,2,2,2,2,2,2,2,2,2,2,2]
[{"$nulls":3},"prob at least 1 qualifying hit per round",{"$f":"E1615","v":0.65},{"$f":"F1615","v":0.65},0.6787920000000001,0.682008,0.9275234183824376,0.9009160698240001,0.9009160698240001,0.9009160698240001,0.926700393879,0.92504040484375,0.923361829104,0.9114104303999999,0.955122967036,0.953922801664,0.93209154894375,0.9304934231190001,0.9757121801297499,0.9618356913902344,0.9609371457294373,0.9594163362474846]
[{"$nulls":3},"own turn avg sneak damage",{"$f":"E1219*E1221*E1217","v":0},{"$f":"F1219*F1221*F1217","v":0},0,0,0,0,0,0,0,2.5901131335625003,2.5854131214912,5.103898410239999,5.348688615401601,8.0129515339776,7.829569011127501,10.421526338932802,13.659970521816499,{"$f":"V1219*V1221*V1217","v":16.832124599329102},16.816400050265152,20.147743061197176]
[{"$nulls":3},"bonus sneak crit damage",{"$f":"IF(E163=0,E531,(E660*(1-E645)+E645*E661))*E1217*E1615","v":0},0,0,0,0,0,0,0,0,0.2134010398949229,0.21095678364807446,0.448241903038062,0.4676124451318696,0.6941619913884797,0.6720461625894972,0.8862335729549218,1.1284006474141197,1.3850839730451683,1.3757623004122301,1.6322719225707722]
[{"$nulls":3},"prob opp attack hit (includes riposte)",{"$f":"E520*E1602","v":0},0,0,0,0,0,0,0,0,0,0,0,0,0,0,0,0,0,0,0]
[{"$nulls":3},"prob sneak attack available on opp attack",{"$f":"MAX(E510,0.33*'Base Numbers'!$G$14, IF(AND(E11>=3,E74),0.75*'Base Numbers'!$G$14,0))","v":0.264},{"$f":"MAX(F510,0.33*'Base Numbers'!$G$14, IF(AND(F11>=3,F74),0.75*'Base Numbers'!$G$14,0))","v":0.264},{"$f":"MAX(G510,0.33*'Base Numbers'!$G$14, IF(AND(G11>=3,G74),0.75*'Base Numbers'!$G$14,0))","v":0.32830000000000004},{"$f":"MAX(H510,0.33*'Base Numbers'!$G$14, IF(AND(H11>=3,H74),0.75*'Base Numbers'!$G$14,0))","v":0.3417},{"$f":"MAX(I510,0.33*'Base Numbers'!$G$14, IF(AND(I11>=3,I74),0.75*'Base Numbers'!$G$14,0))","v":0.3551},{"$f":"MAX(J510,0.33*'Base Numbers'!$G$14, IF(AND(J11>=3,J74),0.75*'Base Numbers'!$G$14,0))","v":0.3551},{"$f":"MAX(K510,0.33*'Base Numbers'!$G$14, IF(AND(K11>=3,K74),0.75*'Base Numbers'!$G$14,0))","v":0.3551},{"$f":"MAX(L510,0.33*'Base Numbers'!$G$14, IF(AND(L11>=3,L74),0.75*'Base Numbers'!$G$14,0))","v":0.3551},{"$f":"MAX(M510,0.33*'Base Numbers'!$G$14, IF(AND(M11>=3,M74),0.75*'Base Numbers'!$G$14,0))","v":0.34840000000000004},{"$f":"MAX(N510,0.33*'Base Numbers'!$G$14, IF(AND(N11>=3,N74),0.75*'Base Numbers'!$G$14,0))","v":0.335},{"$f":"MAX(O510,0.33*'Base Numbers'!$G$14, IF(AND(O11>=3,O74),0.75*'Base Numbers'!$G$14,0))","v":0.3216},{"$f":"MAX(P510,0.33*'Base Numbers'!$G$14, IF(AND(P11>=3,P74),0.75*'Base Numbers'!$G$14,0))","v":0.30150000000000005},{"$f":"MAX(Q510,0.33*'Base Numbers'!$G$14, IF(AND(Q11>=3,Q74),0.75*'Base Numbers'!$G$14,0))","v":0.2948},{"$f":"MAX(R510,0.33*'Base Numbers'!$G$14, IF(AND(R11>=3,R74),0.75*'Base Numbers'!$G$14,0))","v":0.2814},{"$f":"MAX(S510,0.33*'Base Numbers'!$G$14, IF(AND(S11>=3,S74),0.75*'Base Numbers'!$G$14,0))","v":0.268},{"$f":"MAX(T510,0.33*'Base Numbers'!$G$14, IF(AND(T11>=3,T74),0.75*'Base Numbers'!$G$14,0))","v":0.264},{"$f":"MAX(U510,0.33*'Base Numbers'!$G$14, IF(AND(U11>=3,U74),0.75*'Base Numbers'!$G$14,0))","v":0.264},{"$f":"MAX(V510,0.33*'Base Numbers'!$G$14, IF(AND(V11>=3,V74),0.75*'Base Numbers'!$G$14,0))","v":0.264},{"$f":"MAX(W510,0.33*'Base Numbers'!$G$14, IF(AND(W11>=3,W74),0.75*'Base Numbers'!$G$14,0))","v":0.264},{"$f":"MAX(X510,0.33*'Base Numbers'!$G$14, IF(AND(X11>=3,X74),0.75*'Base Numbers'!$G$14,0))","v":0.264}]
[{"$nulls":3},"bonus opp attack sneak damage",{"$f":"E1225*E1224*E1217","v":0},0,0,0,0,0,0,0,0,0,0,0,0,0,0,0,0,0,0,0]
[{"$nulls":3},"bonus opp att sneak crit damage",{"$f":"IF(E163=0,E1217*E535*E1225*E1224,0)","v":0},0,0,0,0,0,0,0,0,0,0,0,0,0,0,0,0,0,0,0]
[{"$nulls":3},"pct rounds w/o concentration avail for held action",{"$f":"1-E359/('Base Numbers'!$C$5*'Base Numbers'!$C$6)","v":1},{"$f":"1-F359/('Base Numbers'!$C$5*'Base Numbers'!$C$6)","v":0.7783625000000001},{"$f":"1-G359/('Base Numbers'!$C$5*'Base Numbers'!$C$6)","v":0.6675437500000001},{"$f":"1-H359/('Base Numbers'!$C$5*'Base Numbers'!$C$6)","v":0.6675437500000001},{"$f":"1-I359/('Base Numbers'!$C$5*'Base Numbers'!$C$6)","v":0.5567250000000001},{"$f":"1-J359/('Base Numbers'!$C$5*'Base Numbers'!$C$6)","v":0.5567250000000001},{"$f":"1-K359/('Base Numbers'!$C$5*'Base Numbers'!$C$6)","v":0.47361093750000016},{"$f":"1-L359/('Base Numbers'!$C$5*'Base Numbers'!$C$6)","v":0.47361093750000016},{"$f":"1-M359/('Base Numbers'!$C$5*'Base Numbers'!$C$6)","v":0.47361093750000016},{"$f":"1-N359/('Base Numbers'!$C$5*'Base Numbers'!$C$6)","v":0.47361093750000016},{"$f":"1-O359/('Base Numbers'!$C$5*'Base Numbers'!$C$6)","v":0.47361093750000016},{"$f":"1-P359/('Base Numbers'!$C$5*'Base Numbers'!$C$6)","v":0.47361093750000016},{"$f":"1-Q359/('Base Numbers'!$C$5*'Base Numbers'!$C$6)","v":0.47361093750000016},{"$f":"1-R359/('Base Numbers'!$C$5*'Base Numbers'!$C$6)","v":0.47361093750000016},{"$f":"1-S359/('Base Numbers'!$C$5*'Base Numbers'!$C$6)","v":0.3420136718750002},{"$f":"1-T359/('Base Numbers'!$C$5*'Base Numbers'!$C$6)","v":0.3420136718750002},{"$f":"1-U359/('Base Numbers'!$C$5*'Base Numbers'!$C$6)","v":0.3420136718750002},{"$f":"1-V359/('Base Numbers'!$C$5*'Base Numbers'!$C$6)","v":0.3420136718750002},{"$f":"1-W359/('Base Numbers'!$C$5*'Base Numbers'!$C$6)","v":0.25227876534136506},{"$f":"1-X359/('Base Numbers'!$C$5*'Base Numbers'!$C$6)","v":0.25227876534136506}]
[{"$nulls":3},"haste action held action sneak attacks",{"$f":"E379","v":0},0,0,0,0,0,0,0,0,0,0,0,0,0,0,0,0,0,0,0,null,"* note haste does allow held action sneak attacks, except that haste is CONC, so BB doesn't work"]
[{"$nulls":3},"quicken BB sneak - hold action sneak max pct",{"$f":"IF(E1589,MIN(E1228,E627),0)","v":0},0,0,0,0,0,0,0,0,0,0,0,0,0,0,0,0,0,0,0,null,"* Quicken BB alows a bonus action SNEAK with a main action hold to SNEAK on another turn"]
[{"$nulls":3},"quicken BB recomputed chance of hit",{"$f":"E516*E1230+(1-E1230)*E1221","v":0.65},0.65,0.6787920000000001,0.682008,0.9275234183824376,0.9009160698240001,0.9009160698240001,0.9009160698240001,0.926700393879,0.92504040484375,0.923361829104,0.9114104303999999,0.955122967036,0.953922801664,0.93209154894375,0.9304934231190001,0.9757121801297499,0.9618356913902344,0.9609371457294373,0.9594163362474846]
[{"$nulls":3},"quicken BB main turn Sneak damage loss for reduced hit chance",{"$f":"MAX(0,E1217*E1219*(E1221-E1231))","v":0},0,0,0,0,0,0,0,0,0,0,0,0,0,0,0,0,0,0,0,null,"* the trick here is to replace base attack damage with reaction attack damage"]
[{"$nulls":3},"modified reaction attack percent ",{"$f":"(1-MIN(1,E1230+E1229))*E418","v":0},0,0,0,0,0,0,0,0,0,0,0,0,0,0,0,0,0,0,0,null,"* This strategy takes a reaction so limits Opp Atts and is limited by Conc-free rounds"]
[{"$nulls":3},"held action sneak damage  (avg per round)",{"$f":"MIN(E1230+E1229,E1219)*E1217*E520","v":0},0,0,0,0,0,0,0,0,0,0,0,0,0,0,0,0,0,0,0,null,"* assumes this action is only attempted when you would qualify for sneak attack"]
[{"$nulls":3},"held action sneak crit damage (avg per round)",{"$f":"MIN(E1230+E1229,E1219)*E1217*E535","v":0},0,0,0,0,0,0,0,0,0,0,0,0,0,0,0,0,0,0,0]
[{"$nulls":3},"held action sneak damage gain (avg per round)",{"$f":"IF(E1592,0,E1234+E1235-IF(E418=0,0,E1599*(E418-E1233)/E418)-E1238-E1232)","v":0},0,0,0,0,0,0,0,0,0,0,0,0,0,0,0,0,0,0,0]
[{"$nulls":3},"total own-turn sneak damage",{"$f":"E1223+E1222","v":0},0,0,0,0,0,0,0,0,2.8035141734574234,2.7963699051392745,5.552140313278061,5.816301060533471,8.70711352536608,8.501615173716997,11.307759911887723,14.788371169230619,18.217208572374272,18.192162350677382,21.78001498376795]
[{"$nulls":3},"total opp attack sneak damage",{"$f":"E1227+E1226","v":0},0,0,0,0,0,0,0,0,0,0,0,0,0,0,0,0,0,0,0]
[{"$nulls":3},"phantom sneak attack damage bonus (avg per round)",{"$f":"IF(AND(E11>=3,E73>=1),IF(E11<=8,0.5,IF(E11<=16,1,2))*E1237*MIN(1,E39/('Base Numbers'!$C$5*'Base Numbers'!$C$6)),0)","v":0},{"$f":"IF(AND(F11>=3,F73>=1),IF(F11<=8,0.5,IF(F11<=16,1,2))*F1237*MIN(1,F39/('Base Numbers'!$C$5*'Base Numbers'!$C$6)),0)","v":0},{"$f":"IF(AND(G11>=3,G73>=1),IF(G11<=8,0.5,IF(G11<=16,1,2))*G1237*MIN(1,G39/('Base Numbers'!$C$5*'Base Numbers'!$C$6)),0)","v":0},{"$f":"IF(AND(H11>=3,H73>=1),IF(H11<=8,0.5,IF(H11<=16,1,2))*H1237*MIN(1,H39/('Base Numbers'!$C$5*'Base Numbers'!$C$6)),0)","v":0},{"$f":"IF(AND(I11>=3,I73>=1),IF(I11<=8,0.5,IF(I11<=16,1,2))*I1237*MIN(1,I39/('Base Numbers'!$C$5*'Base Numbers'!$C$6)),0)","v":0},{"$f":"IF(AND(J11>=3,J73>=1),IF(J11<=8,0.5,IF(J11<=16,1,2))*J1237*MIN(1,J39/('Base Numbers'!$C$5*'Base Numbers'!$C$6)),0)","v":0},{"$f":"IF(AND(K11>=3,K73>=1),IF(K11<=8,0.5,IF(K11<=16,1,2))*K1237*MIN(1,K39/('Base Numbers'!$C$5*'Base Numbers'!$C$6)),0)","v":0},{"$f":"IF(AND(L11>=3,L73>=1),IF(L11<=8,0.5,IF(L11<=16,1,2))*L1237*MIN(1,L39/('Base Numbers'!$C$5*'Base Numbers'!$C$6)),0)","v":0},{"$f":"IF(AND(M11>=3,M73>=1),IF(M11<=8,0.5,IF(M11<=16,1,2))*M1237*MIN(1,M39/('Base Numbers'!$C$5*'Base Numbers'!$C$6)),0)","v":0},{"$f":"IF(AND(N11>=3,N73>=1),IF(N11<=8,0.5,IF(N11<=16,1,2))*N1237*MIN(1,N39/('Base Numbers'!$C$5*'Base Numbers'!$C$6)),0)","v":0},{"$f":"IF(AND(O11>=3,O73>=1),IF(O11<=8,0.5,IF(O11<=16,1,2))*O1237*MIN(1,O39/('Base Numbers'!$C$5*'Base Numbers'!$C$6)),0)","v":0},{"$f":"IF(AND(P11>=3,P73>=1),IF(P11<=8,0.5,IF(P11<=16,1,2))*P1237*MIN(1,P39/('Base Numbers'!$C$5*'Base Numbers'!$C$6)),0)","v":0},{"$f":"IF(AND(Q11>=3,Q73>=1),IF(Q11<=8,0.5,IF(Q11<=16,1,2))*Q1237*MIN(1,Q39/('Base Numbers'!$C$5*'Base Numbers'!$C$6)),0)","v":0},{"$f":"IF(AND(R11>=3,R73>=1),IF(R11<=8,0.5,IF(R11<=16,1,2))*R1237*MIN(1,R39/('Base Numbers'!$C$5*'Base Numbers'!$C$6)),0)","v":0},{"$f":"IF(AND(S11>=3,S73>=1),IF(S11<=8,0.5,IF(S11<=16,1,2))*S1237*MIN(1,S39/('Base Numbers'!$C$5*'Base Numbers'!$C$6)),0)","v":0},{"$f":"IF(AND(T11>=3,T73>=1),IF(T11<=8,0.5,IF(T11<=16,1,2))*T1237*MIN(1,T39/('Base Numbers'!$C$5*'Base Numbers'!$C$6)),0)","v":0},{"$f":"IF(AND(U11>=3,U73>=1),IF(U11<=8,0.5,IF(U11<=16,1,2))*U1237*MIN(1,U39/('Base Numbers'!$C$5*'Base Numbers'!$C$6)),0)","v":0},{"$f":"IF(AND(V11>=3,V73>=1),IF(V11<=8,0.5,IF(V11<=16,1,2))*V1237*MIN(1,V39/('Base Numbers'!$C$5*'Base Numbers'!$C$6)),0)","v":0},{"$f":"IF(AND(W11>=3,W73>=1),IF(W11<=8,0.5,IF(W11<=16,1,2))*W1237*MIN(1,W39/('Base Numbers'!$C$5*'Base Numbers'!$C$6)),0)","v":0},{"$f":"IF(AND(X11>=3,X73>=1),IF(X11<=8,0.5,IF(X11<=16,1,2))*X1237*MIN(1,X39/('Base Numbers'!$C$5*'Base Numbers'!$C$6)),0)","v":0}]
[{"$nulls":3},"prob at least 1 hit during assassination round (assassin)",{"$f":"IF(AND(E11>=3,E71>=1),IF(E163=0,(1-(1-E393)^(E1220)),(1-(1-E651)^E638*(1-E652)^E640)),0)","v":0},0,0,0,0,0,0,0,0,0,0,0.90849375,0.9589937500000001,0.9589937500000001,0.9375,0.9375,0.9589937500000001,0.9375,0.9375,0.9375,null,"* assume no wasted time casting spells during assassinations"]
[{"$nulls":3},"increased adv pct on assassination round",{"$f":"1-IF(E163=0,E511,E645)","v":1},1,0.6717,0.6583,0.6449,0.6449,0.6449,0.6449,0.6516,0.665,0.6784,0.5734999999999999,0.5802,0.5936,0.607,0.6204000000000001,0.31355,0.32025000000000003,0.33030000000000004,0.34704999999999997]
[{"$nulls":3},"max assassination dmg (melee, range, BB, cantrip) main + haste only",{"$f":"MAX(E730,E699,E666*(E637+E1259)/E637,E596*(E378+E1259)/E378,E618)","v":10.91390625},{"$f":"MAX(F730,F699,F666*(F637+F1259)/F637,F596*(F378+F1259)/F378,F618)","v":13.934964843749999},29.260492624999998,36.37768528125,61.40345625,57.1052143125,58.322627542968746,58.322627542968746,75.087502734375,75.087502734375,75.087502734375,69.83137754296874,82.23554457421875,82.23554457421875,77.337502734375,77.337502734375,82.23554457421875,77.337502734375,77.70937500000001,77.70937500000001,null,"doesn't really include haste appropriately"]
[{"$nulls":3},"additional damage from first-turn per-attack damage (bugbear)",{"$f":"2*E1265*(E1600+E1601+E1259)*IF(E163,E651,E393)","v":11.901093750000001},{"$f":"2*F1265*(F1600+F1601+F1259)*IF(F163,F651,F393)","v":12.71484375},24.683749999999996,18.919687500000002,{"$f":"2*I1265*(I1600+I1601+I1259)*IF(I163,I651,I393)","v":30.515625},28.37953125,28.37953125,28.37953125,30.515625,30.515625,30.515625,28.37953125,32.44828125,32.44828125,30.515625,30.515625,32.44828125,30.515625,30.515625,30.515625,null,"* bugbear is good for assassins!"]
[{"$nulls":3},"once per turn bonus dice damage (for assassination crits)",{"$f":"(E1217+E1129+E1262+E1083+E1107+IF(E1169>0,E1157,0)+E1172+E1282+E1335+E1314+E1277+E1349)*(1-E1587)","v":2.375},{"$f":"(F1217+F1129+F1262+F1083+F1107+IF(F1169>0,F1157,0)+F1172+F1282+F1335+F1314+F1277+F1349)*(1-F1587)","v":2.375},6.5408402500000005,6.53638475,6.063858499999999,6.063858499999999,6.063858499999999,12.993982499999998,13.00353,16.061237499999997,16.084788,18.908614999999998,18.922618,21.965495999999998,21.997957500000002,25.054202,24.20883025,27.151271874999996,27.18230125,30.166911,null,"* most of these only apply to a weapon hit"]
[{"$nulls":3},"once per turn bonus dice damage for spell attacks",{"$f":"(E1107+E1282+E1277)*(1-E1587)","v":2.375},2.375,2.336014375,2.334423125,2.1656637499999998,2.1656637499999998,2.1656637499999998,2.1656637499999998,2.167255,2.1704375,2.17362,2.14870625,2.1502974999999998,2.15348,2.1566625,2.159845,2.086968125,2.088559375,2.09094625,2.0949243749999997,null,"* based on spell crits per round"]
[{"$nulls":3},"max assassination dmg (melee, range, BB, cantrip) total",{"$f":"MAX(IF(E622,2,1)*E730,IF(E622,2,1)*E699,E666*(E637+E1260)/E637+E667,E596*(E378+E1260)/E378+E597,E618+IF(E622,E619,E597))","v":10.91390625},{"$f":"MAX(IF(F622,2,1)*F730,IF(F622,2,1)*F699,F666*(F637+F1260)/F637+F667,F596*(F378+F1260)/F378+F597,F618+IF(F622,F619,F597))","v":13.934964843749999},{"$f":"MAX(IF(G622,2,1)*G730,IF(G622,2,1)*G699,G666*(G637+G1260)/G637+G667,G596*(G378+G1260)/G378+G597,G618+IF(G622,G619,G597))","v":29.260492624999998},36.37768528125,61.40345625,57.1052143125,72.90328442871093,72.90328442871093,93.85937841796874,93.85937841796874,93.85937841796874,87.28922192871093,102.79443071777344,102.79443071777344,96.67187841796874,96.67187841796874,102.79443071777344,96.67187841796874,97.13671875000001,97.13671875000001]
[{"$nulls":3},"avg damage per round (max damage scenario)",{"$f":"E1597+E1598","v":5.253125000000001},{"$f":"F1597+F1598","v":6.995585},7.763531654921093,10.877818560395314,24.67755640045625,22.6272673256625,22.979112548833594,22.979112548833594,26.758954977698437,26.60013835896485,26.44132174023125,25.495271441097653,31.011604585223438,30.847591185975002,28.484053574378905,28.318536955645314,34.2753488322082,32.025985695413084,32.025679340625004,31.817959973437496]
[{"$nulls":3},"total assassinations per day",{"$f":"IF(AND(E11>=3,E71>=1),'Base Numbers'!$G$15*'Base Numbers'!$C$5,0)","v":0},{"$f":"IF(AND(F11>=3,F71>=1),'Base Numbers'!$G$15*'Base Numbers'!$C$5,0)","v":0},{"$f":"IF(AND(G11>=3,G71>=1),'Base Numbers'!$G$15*'Base Numbers'!$C$5,0)","v":0},{"$f":"IF(AND(H11>=3,H71>=1),'Base Numbers'!$G$15*'Base Numbers'!$C$5,0)","v":0},{"$f":"IF(AND(I11>=3,I71>=1),'Base Numbers'!$G$15*'Base Numbers'!$C$5,0)","v":0},{"$f":"IF(AND(J11>=3,J71>=1),'Base Numbers'!$G$15*'Base Numbers'!$C$5,0)","v":0},{"$f":"IF(AND(K11>=3,K71>=1),'Base Numbers'!$G$15*'Base Numbers'!$C$5,0)","v":0},{"$f":"IF(AND(L11>=3,L71>=1),'Base Numbers'!$G$15*'Base Numbers'!$C$5,0)","v":0},{"$f":"IF(AND(M11>=3,M71>=1),'Base Numbers'!$G$15*'Base Numbers'!$C$5,0)","v":0},{"$f":"IF(AND(N11>=3,N71>=1),'Base Numbers'!$G$15*'Base Numbers'!$C$5,0)","v":0},{"$f":"IF(AND(O11>=3,O71>=1),'Base Numbers'!$G$15*'Base Numbers'!$C$5,0)","v":0},{"$f":"IF(AND(P11>=3,P71>=1),'Base Numbers'!$G$15*'Base Numbers'!$C$5,0)","v":1.32},{"$f":"IF(AND(Q11>=3,Q71>=1),'Base Numbers'!$G$15*'Base Numbers'!$C$5,0)","v":1.32},{"$f":"IF(AND(R11>=3,R71>=1),'Base Numbers'!$G$15*'Base Numbers'!$C$5,0)","v":1.32},{"$f":"IF(AND(S11>=3,S71>=1),'Base Numbers'!$G$15*'Base Numbers'!$C$5,0)","v":1.32},{"$f":"IF(AND(T11>=3,T71>=1),'Base Numbers'!$G$15*'Base Numbers'!$C$5,0)","v":1.32},{"$f":"IF(AND(U11>=3,U71>=1),'Base Numbers'!$G$15*'Base Numbers'!$C$5,0)","v":1.32},{"$f":"IF(AND(V11>=3,V71>=1),'Base Numbers'!$G$15*'Base Numbers'!$C$5,0)","v":1.32},{"$f":"IF(AND(W11>=3,W71>=1),'Base Numbers'!$G$15*'Base Numbers'!$C$5,0)","v":1.32},{"$f":"IF(AND(X11>=3,X71>=1),'Base Numbers'!$G$15*'Base Numbers'!$C$5,0)","v":1.32},null,"  barbarian"]
[{"$nulls":3},"additional assassination crits per day",{"$f":"MAX(0,E1220*E1248-E1587)","v":0},0,0,0,0,0,0,0,0,0,0,2.4994825,2.500119,2.501392,2.502665,2.503938,2.47478725,2.47542375,2.4763785,2.47796975,null,"  cleric divine damage"]
[{"$nulls":3},"total smite dice used on assassinations per day",{"$f":"MIN(E1582,E324*E1248*E1240*E1249)","v":0},0,0,0,0,0,0,0,0,0,0,0,0,0,0,0,0,0,0,0,null,"  ranger ambush"]
[{"$nulls":3},"avg additional smite assassination damage per day",{"$f":"4.5*E1250","v":0},{"$f":"4.5*F1250","v":0},0,0,0,0,0,0,0,0,0,0,0,0,0,0,0,0,0,0,null,"  battlemaster dice"]
[{"$nulls":3},"avg additional action surge assassination damage ",{"$f":"MIN(E1248,E1309)*(E1243+E1242+E1253-E1597)","v":0},{"$f":"MIN(F1248,F1309)*(F1243+F1242+F1253-F1597)","v":0},0,0,0,0,0,0,0,0,0,95.98464130446983,110.44733203547382,110.66382972248176,104.76717789119485,104.98565982792319,106.13918962945392,100.09182749142973,100.583103270375,100.85729283506252,null,"orc racial"]
[{"$nulls":3},"average death strike damage during assassination (assassin L17,Con save)",{"$f":"IF(AND(E11>=17,E71>=1),(E1246+E1244)*(13-E35-E39+'Caster Tables'!C75)/20,0)","v":0},{"$f":"IF(AND(F11>=17,F71>=1),(F1246+F1244)*(13-F35-F39+'Caster Tables'!D75)/20,0)","v":0},{"$f":"IF(AND(G11>=17,G71>=1),(G1246+G1244)*(13-G35-G39+'Caster Tables'!E75)/20,0)","v":0},{"$f":"IF(AND(H11>=17,H71>=1),(H1246+H1244)*(13-H35-H39+'Caster Tables'!F75)/20,0)","v":0},{"$f":"IF(AND(I11>=17,I71>=1),(I1246+I1244)*(13-I35-I39+'Caster Tables'!G75)/20,0)","v":0},{"$f":"IF(AND(J11>=17,J71>=1),(J1246+J1244)*(13-J35-J39+'Caster Tables'!H75)/20,0)","v":0},{"$f":"IF(AND(K11>=17,K71>=1),(K1246+K1244)*(13-K35-K39+'Caster Tables'!I75)/20,0)","v":0},{"$f":"IF(AND(L11>=17,L71>=1),(L1246+L1244)*(13-L35-L39+'Caster Tables'!J75)/20,0)","v":0},{"$f":"IF(AND(M11>=17,M71>=1),(M1246+M1244)*(13-M35-M39+'Caster Tables'!K75)/20,0)","v":0},{"$f":"IF(AND(N11>=17,N71>=1),(N1246+N1244)*(13-N35-N39+'Caster Tables'!L75)/20,0)","v":0},{"$f":"IF(AND(O11>=17,O71>=1),(O1246+O1244)*(13-O35-O39+'Caster Tables'!M75)/20,0)","v":0},{"$f":"IF(AND(P11>=17,P71>=1),(P1246+P1244)*(13-P35-P39+'Caster Tables'!N75)/20,0)","v":0},{"$f":"IF(AND(Q11>=17,Q71>=1),(Q1246+Q1244)*(13-Q35-Q39+'Caster Tables'!O75)/20,0)","v":0},{"$f":"IF(AND(R11>=17,R71>=1),(R1246+R1244)*(13-R35-R39+'Caster Tables'!P75)/20,0)","v":0},{"$f":"IF(AND(S11>=17,S71>=1),(S1246+S1244)*(13-S35-S39+'Caster Tables'!Q75)/20,0)","v":0},{"$f":"IF(AND(T11>=17,T71>=1),(T1246+T1244)*(13-T35-T39+'Caster Tables'!R75)/20,0)","v":0},{"$f":"IF(AND(U11>=17,U71>=1),(U1246+U1244)*(13-U35-U39+'Caster Tables'!S75)/20,0)","v":0},{"$f":"IF(AND(V11>=17,V71>=1),(V1246+V1244)*(13-V35-V39+'Caster Tables'!T75)/20,0)","v":0},{"$f":"IF(AND(W11>=17,W71>=1),(W1246+W1244)*(13-W35-W39+'Caster Tables'!U75)/20,0)","v":0},{"$f":"IF(AND(X11>=17,X71>=1),(X1246+X1244)*(13-X35-X39+'Caster Tables'!V75)/20,0)","v":0},null,"foe slayer ?"]
[{"$nulls":3},"average death strike damage per round (assassin L17, Con save)",{"$f":"E1253/('Base Numbers'!$C$5*'Base Numbers'!$C$6)","v":0},{"$f":"F1253/('Base Numbers'!$C$5*'Base Numbers'!$C$6)","v":0},{"$f":"G1253/('Base Numbers'!$C$5*'Base Numbers'!$C$6)","v":0},{"$f":"H1253/('Base Numbers'!$C$5*'Base Numbers'!$C$6)","v":0},{"$f":"I1253/('Base Numbers'!$C$5*'Base Numbers'!$C$6)","v":0},{"$f":"J1253/('Base Numbers'!$C$5*'Base Numbers'!$C$6)","v":0},{"$f":"K1253/('Base Numbers'!$C$5*'Base Numbers'!$C$6)","v":0},{"$f":"L1253/('Base Numbers'!$C$5*'Base Numbers'!$C$6)","v":0},{"$f":"M1253/('Base Numbers'!$C$5*'Base Numbers'!$C$6)","v":0},{"$f":"N1253/('Base Numbers'!$C$5*'Base Numbers'!$C$6)","v":0},{"$f":"O1253/('Base Numbers'!$C$5*'Base Numbers'!$C$6)","v":0},{"$f":"P1253/('Base Numbers'!$C$5*'Base Numbers'!$C$6)","v":0},{"$f":"Q1253/('Base Numbers'!$C$5*'Base Numbers'!$C$6)","v":0},{"$f":"R1253/('Base Numbers'!$C$5*'Base Numbers'!$C$6)","v":0},{"$f":"S1253/('Base Numbers'!$C$5*'Base Numbers'!$C$6)","v":0},{"$f":"T1253/('Base Numbers'!$C$5*'Base Numbers'!$C$6)","v":0},{"$f":"U1253/('Base Numbers'!$C$5*'Base Numbers'!$C$6)","v":0},{"$f":"V1253/('Base Numbers'!$C$5*'Base Numbers'!$C$6)","v":0},{"$f":"W1253/('Base Numbers'!$C$5*'Base Numbers'!$C$6)","v":0},{"$f":"X1253/('Base Numbers'!$C$5*'Base Numbers'!$C$6)","v":0},null,"battlesmith jolt"]
[{"$nulls":3},"average total assassination damage per round",{"$f":"IF(AND(E11>=3,E71>=1),(E1246-E1247+E1244*(1-E1587)+E1251+E1243+E1252+E1254)/('Base Numbers'!$C$5*'Base Numbers'!$C$6),0)","v":0},{"$f":"IF(AND(F11>=3,F71>=1),(F1246-F1247+F1244*(1-F1587)+F1251+F1243+F1252+F1254)/('Base Numbers'!$C$5*'Base Numbers'!$C$6),0)","v":0},{"$f":"IF(AND(G11>=3,G71>=1),(G1246-G1247+G1244*(1-G1587)+G1251+G1243+G1252+G1254)/('Base Numbers'!$C$5*'Base Numbers'!$C$6),0)","v":0},{"$f":"IF(AND(H11>=3,H71>=1),(H1246-H1247+H1244*(1-H1587)+H1251+H1243+H1252+H1254)/('Base Numbers'!$C$5*'Base Numbers'!$C$6),0)","v":0},{"$f":"IF(AND(I11>=3,I71>=1),(I1246-I1247+I1244*(1-I1587)+I1251+I1243+I1252+I1254)/('Base Numbers'!$C$5*'Base Numbers'!$C$6),0)","v":0},{"$f":"IF(AND(J11>=3,J71>=1),(J1246-J1247+J1244*(1-J1587)+J1251+J1243+J1252+J1254)/('Base Numbers'!$C$5*'Base Numbers'!$C$6),0)","v":0},{"$f":"IF(AND(K11>=3,K71>=1),(K1246-K1247+K1244*(1-K1587)+K1251+K1243+K1252+K1254)/('Base Numbers'!$C$5*'Base Numbers'!$C$6),0)","v":0},{"$f":"IF(AND(L11>=3,L71>=1),(L1246-L1247+L1244*(1-L1587)+L1251+L1243+L1252+L1254)/('Base Numbers'!$C$5*'Base Numbers'!$C$6),0)","v":0},{"$f":"IF(AND(M11>=3,M71>=1),(M1246-M1247+M1244*(1-M1587)+M1251+M1243+M1252+M1254)/('Base Numbers'!$C$5*'Base Numbers'!$C$6),0)","v":0},{"$f":"IF(AND(N11>=3,N71>=1),(N1246-N1247+N1244*(1-N1587)+N1251+N1243+N1252+N1254)/('Base Numbers'!$C$5*'Base Numbers'!$C$6),0)","v":0},{"$f":"IF(AND(O11>=3,O71>=1),(O1246-O1247+O1244*(1-O1587)+O1251+O1243+O1252+O1254)/('Base Numbers'!$C$5*'Base Numbers'!$C$6),0)","v":0},{"$f":"IF(AND(P11>=3,P71>=1),(P1246-P1247+P1244*(1-P1587)+P1251+P1243+P1252+P1254)/('Base Numbers'!$C$5*'Base Numbers'!$C$6),0)","v":12.650609170863788},{"$f":"IF(AND(Q11>=3,Q71>=1),(Q1246-Q1247+Q1244*(1-Q1587)+Q1251+Q1243+Q1252+Q1254)/('Base Numbers'!$C$5*'Base Numbers'!$C$6),0)","v":14.434633918097862},{"$f":"IF(AND(R11>=3,R71>=1),(R1246-R1247+R1244*(1-R1587)+R1251+R1243+R1252+R1254)/('Base Numbers'!$C$5*'Base Numbers'!$C$6),0)","v":14.623740814669514},{"$f":"IF(AND(S11>=3,S71>=1),(S1246-S1247+S1244*(1-S1587)+S1251+S1243+S1252+S1254)/('Base Numbers'!$C$5*'Base Numbers'!$C$6),0)","v":13.902968483845136},{"$f":"IF(AND(T11>=3,T71>=1),(T1246-T1247+T1244*(1-T1587)+T1251+T1243+T1252+T1254)/('Base Numbers'!$C$5*'Base Numbers'!$C$6),0)","v":14.093743966107663},{"$f":"IF(AND(U11>=3,U71>=1),(U1246-U1247+U1244*(1-U1587)+U1251+U1243+U1252+U1254)/('Base Numbers'!$C$5*'Base Numbers'!$C$6),0)","v":14.207235974695841},{"$f":"IF(AND(V11>=3,V71>=1),(V1246-V1247+V1244*(1-V1587)+V1251+V1243+V1252+V1254)/('Base Numbers'!$C$5*'Base Numbers'!$C$6),0)","v":13.621010161316713},{"$f":"IF(AND(W11>=3,W71>=1),(W1246-W1247+W1244*(1-W1587)+W1251+W1243+W1252+W1254)/('Base Numbers'!$C$5*'Base Numbers'!$C$6),0)","v":13.684028751610821},{"$f":"IF(AND(X11>=3,X71>=1),(X1246-X1247+X1244*(1-X1587)+X1251+X1243+X1252+X1254)/('Base Numbers'!$C$5*'Base Numbers'!$C$6),0)","v":13.873164717535456}]
[{"$nulls":3},"Total Rogue Additional Damage",{"$f":"E1237+E1238+E1255+E1239+MAX(0,E1236)","v":0},{"$f":"F1237+F1238+F1255+F1239+MAX(0,F1236)","v":0},0,0,0,0,0,0,0,2.8035141734574234,2.7963699051392745,18.202749484141847,20.250934978631335,23.330854340035593,22.404583657562135,25.40150387799539,28.99560714392646,31.838218733690987,31.876191102288203,35.6531797013034]
[]
[{"$nulls":3},"RANGER DAMAGE (Tasha's Cauldron of Everything)"]
[{"$nulls":3},"Has gloomstalker extra attack in first round (GS L3)",{"$f":"IF(AND(E82>=1,E9>=3),1,0)","v":0},{"$f":"IF(AND(F82>=1,F9>=3),1,0)","v":0},1,1,1,1,1,1,1,1,1,1,1,1,1,1,1,1,1,1]
[{"$nulls":3},"Extra attacks in first round (gloomstalker L3 + avg action surges F2)",{"$f":"IF(E1259,1+MIN(E1309,'Base Numbers'!$C$5)/'Base Numbers'!$C$5,0)","v":0},{"$f":"IF(F1259,1+MIN(F1309,'Base Numbers'!$C$5)/'Base Numbers'!$C$5,0)","v":0},{"$f":"IF(G1259,1+MIN(G1309,'Base Numbers'!$C$5)/'Base Numbers'!$C$5,0)","v":1},{"$f":"IF(H1259,1+MIN(H1309,'Base Numbers'!$C$5)/'Base Numbers'!$C$5,0)","v":1},{"$f":"IF(I1259,1+MIN(I1309,'Base Numbers'!$C$5)/'Base Numbers'!$C$5,0)","v":1},{"$f":"IF(J1259,1+MIN(J1309,'Base Numbers'!$C$5)/'Base Numbers'!$C$5,0)","v":1},{"$f":"IF(K1259,1+MIN(K1309,'Base Numbers'!$C$5)/'Base Numbers'!$C$5,0)","v":1.75},{"$f":"IF(L1259,1+MIN(L1309,'Base Numbers'!$C$5)/'Base Numbers'!$C$5,0)","v":1.75},{"$f":"IF(M1259,1+MIN(M1309,'Base Numbers'!$C$5)/'Base Numbers'!$C$5,0)","v":1.75},{"$f":"IF(N1259,1+MIN(N1309,'Base Numbers'!$C$5)/'Base Numbers'!$C$5,0)","v":1.75},{"$f":"IF(O1259,1+MIN(O1309,'Base Numbers'!$C$5)/'Base Numbers'!$C$5,0)","v":1.75},{"$f":"IF(P1259,1+MIN(P1309,'Base Numbers'!$C$5)/'Base Numbers'!$C$5,0)","v":1.75},{"$f":"IF(Q1259,1+MIN(Q1309,'Base Numbers'!$C$5)/'Base Numbers'!$C$5,0)","v":1.75},{"$f":"IF(R1259,1+MIN(R1309,'Base Numbers'!$C$5)/'Base Numbers'!$C$5,0)","v":1.75},{"$f":"IF(S1259,1+MIN(S1309,'Base Numbers'!$C$5)/'Base Numbers'!$C$5,0)","v":1.75},{"$f":"IF(T1259,1+MIN(T1309,'Base Numbers'!$C$5)/'Base Numbers'!$C$5,0)","v":1.75},{"$f":"IF(U1259,1+MIN(U1309,'Base Numbers'!$C$5)/'Base Numbers'!$C$5,0)","v":1.75},{"$f":"IF(V1259,1+MIN(V1309,'Base Numbers'!$C$5)/'Base Numbers'!$C$5,0)","v":1.75},{"$f":"IF(W1259,1+MIN(W1309,'Base Numbers'!$C$5)/'Base Numbers'!$C$5,0)","v":1.75},{"$f":"IF(X1259,1+MIN(X1309,'Base Numbers'!$C$5)/'Base Numbers'!$C$5,0)","v":1.75},null,"* assume action surge used with gloomstalker ambush"]
[{"$nulls":3},"gloomstalker invisibility advantage bonus",{"$f":"IF(AND(E82>=1,E9>=3),1,0)","v":0},0,1,1,1,1,1,1,1,1,1,1,1,1,1,1,1,1,1,1]
[{"$nulls":3},"Gloomstalker Dread ambush bonus damage per first combat round (if hits)",{"$f":"IF(AND(E82>=1,E9>=3),4.5,0)","v":0},0,4.5,4.5,4.5,4.5,4.5,4.5,4.5,4.5,4.5,4.5,4.5,4.5,4.5,4.5,4.5,4.5,4.5,4.5]
[{"$nulls":3},"avg Gloomstalker dread ambush damage per round",{"$f":"E1262*((1-E508)*E391+E508*E393)/'Base Numbers'!$C$6","v":0},{"$f":"F1262*((1-F508)*F391+F508*F393)/'Base Numbers'!$C$6","v":0},{"$f":"G1262*((1-G508)*G391+G508*G393)/'Base Numbers'!$C$6","v":0.763641},{"$f":"H1262*((1-H508)*H391+H508*H393)/'Base Numbers'!$C$6","v":0.7672589999999999},{"$f":"I1262*((1-I508)*I391+I508*I393)/'Base Numbers'!$C$6","v":0.8221334062500001},{"$f":"J1262*((1-J508)*J391+J508*J393)/'Base Numbers'!$C$6","v":0.770877},{"$f":"K1262*((1-K508)*K391+K508*K393)/'Base Numbers'!$C$6","v":0.770877},{"$f":"L1262*((1-L508)*L391+L508*L393)/'Base Numbers'!$C$6","v":0.770877},{"$f":"M1262*((1-M508)*M391+M508*M393)/'Base Numbers'!$C$6","v":0.8204186250000001},{"$f":"N1262*((1-N508)*N391+N508*N393)/'Base Numbers'!$C$6","v":0.8169890625},{"$f":"O1262*((1-O508)*O391+O508*O393)/'Base Numbers'!$C$6","v":0.8135595},{"$f":"P1262*((1-P508)*P391+P508*P393)/'Base Numbers'!$C$6","v":0.7901549999999998},{"$f":"Q1262*((1-Q508)*Q391+Q508*Q393)/'Base Numbers'!$C$6","v":0.88667775},{"$f":"R1262*((1-R508)*R391+R508*R393)/'Base Numbers'!$C$6","v":0.8835120000000001},{"$f":"S1262*((1-S508)*S391+S508*S393)/'Base Numbers'!$C$6","v":0.8318334375},{"$f":"T1262*((1-T508)*T391+T508*T393)/'Base Numbers'!$C$6","v":0.8284038750000001},{"$f":"U1262*((1-U508)*U391+U508*U393)/'Base Numbers'!$C$6","v":0.9496738124999999},{"$f":"V1262*((1-V508)*V391+V508*V393)/'Base Numbers'!$C$6","v":0.905223515625},{"$f":"W1262*((1-W508)*W391+W508*W393)/'Base Numbers'!$C$6","v":0.9026513437499999},{"$f":"X1262*((1-X508)*X391+X508*X393)/'Base Numbers'!$C$6","v":0.8983643906250001}]
[{"$nulls":3},"avg gloomstalker dread ambush crit damage per round",{"$f":"E1262*(E531)","v":0},0,0.29517412500000006,0.298038375,0.3009026250000001,0.3009026250000001,0.3009026250000001,0.3009026250000001,0.29947050000000003,0.29660625000000007,0.293742,0.31616437500000005,0.31473225000000005,0.3118680000000001,0.3090037500000001,0.3061395,{"$f":"U1262*(U531)","v":0.43875000000000014},0.43875000000000014,0.43875000000000014,0.43875000000000014]
[{"$nulls":3},"avg additional per-attack damage on first round (bugbear)",{"$f":"IF($B$55,7-E568,0)","v":6.78125},{"$f":"IF($B$55,7-F568,0)","v":6.78125},6.78125,6.78125,6.78125,6.78125,6.78125,6.78125,6.78125,6.78125,6.78125,6.78125,6.78125,6.78125,6.78125,6.78125,6.78125,6.78125,6.78125,6.78125,null,"* this is the amount of 2d6 damage not already averaged into every attack"]
[{"$nulls":3},"avg additional per-attack melee damage incl hit and crit chance",{"$f":"E1260*E1265*((1-E508)*E391+E508*E393+E533)","v":0},{"$f":"F1260*F1265*((1-F508)*F391+F508*F393+F533)","v":0},5.047869257812501,5.0739940234375,5.409081015625,5.100118789062501,8.925207880859377,8.925207880859377,9.444026484375,9.4002958984375,9.3565653125,9.168811572265623,10.18321579296875,10.142268062500001,9.5895775390625,9.545846953125002,10.998045071289061,10.525379443359375,10.49258150390625,10.437918271484376]
[{"$nulls":3},"extra attack melee damage on first round",{"$f":"E1260*IF(E163=0,E590+E591+E1266,0)","v":0},{"$f":"F1260*IF(F163=0,F590+F591+F1266,0)","v":0},0,0,0,0,0,0,0,0,0,0,0,0,0,0,0,0,0,0]
[{"$nulls":3},"extra attack ranged damage on first round",{"$f":"IF(E163>=1,E1260*(E642*E651*(E656+E658+E1265)+(1-E642)*E649*(E656+E658+E1265)),0)","v":0},{"$f":"IF(F163>=1,F1260*(F642*F651*(F656+F658+F1265)+(1-F642)*F649*(F656+F658+F1265)),0)","v":0},{"$f":"IF(G163>=1,G1260*(G642*G651*(G656+G658+G1265)+(1-G642)*G649*(G656+G658+G1265)),0)","v":12.549032015603123},14.069820283853906,15.853627958437501,14.483400866353126,25.619775732518992,25.619775732518992,28.991222863886716,28.825798580810545,28.66037429773438,27.43370385834155,33.434183014000105,33.26460909875469,30.58875163442383,30.417464851347656,32.84067431064116,30.1605346767334,29.98818375,29.558755625000003]
[{"$nulls":3},"extra attack crit ranged damage on first round",{"$f":"IF(E163>=1,E663+E645*E661*E1265+(1-E645)*E660*E1265,0)*E1260","v":0},{"$f":"IF(F163>=1,F663+F645*F661*F1265+(1-F645)*F660*F1265,0)*F1260","v":0},0.873705365880469,0.8821834484164064,0.9312242496031253,0.9312242496031253,1.6636827906791507,1.6636827906791507,2.179837983786914,2.1589891825024417,2.1381403812179687,2.3013522659001464,2.29092786525791,2.2700790639734376,2.2492302626889646,2.2283814614044926,2.705803452011988,2.6953790513697515,2.6915736750000008,2.665397612500001]
[{"$nulls":3},"total possible attack action damage with extra first-round attack",{"$f":"IF(E163=0,E1267+E592+E593,E1268+E1269+E669)*(1-E337)","v":5.253125000000001},{"$f":"IF(F163=0,F1267+F592+F593,F1268+F1269+F669)*(1-F337)","v":6.995585},{"$f":"IF(G163=0,G1267+G592+G593,G1268+G1269+G669)*(1-G337)","v":21.186269036404685},{"$f":"IF(H163=0,H1267+H592+H593,H1268+H1269+H669)*(1-H337)","v":25.829822292665625},{"$f":"IF(I163=0,I1267+I592+I593,I1268+I1269+I669)*(1-I337)","v":41.46240860849687},{"$f":"IF(J163=0,J1267+J592+J593,J1268+J1269+J669)*(1-J337)","v":38.04189244161876},{"$f":"IF(K163=0,K1267+K592+K593,K1268+K1269+K669)*(1-K337)","v":50.26257107203173},{"$f":"IF(L163=0,L1267+L592+L593,L1268+L1269+L669)*(1-L337)","v":50.26257107203173},{"$f":"IF(M163=0,M1267+M592+M593,M1268+M1269+M669)*(1-M337)","v":57.93001582537207},{"$f":"IF(N163=0,N1267+N592+N593,N1268+N1269+N669)*(1-N337)","v":57.584926122277835},{"$f":"IF(O163=0,O1267+O592+O593,O1268+O1269+O669)*(1-O337)","v":57.2398364191836},{"$f":"IF(P163=0,P1267+P592+P593,P1268+P1269+P669)*(1-P337)","v":55.23032756533935},{"$f":"IF(Q163=0,Q1267+Q592+Q593,Q1268+Q1269+Q669)*(1-Q337)","v":66.73671546448145},{"$f":"IF(R163=0,R1267+R592+R593,R1268+R1269+R669)*(1-R337)","v":66.38227934870314},{"$f":"IF(S163=0,S1267+S592+S593,S1268+S1269+S669)*(1-S337)","v":61.3220354714917},{"$f":"IF(T163=0,T1267+T592+T593,T1268+T1269+T669)*(1-T337)","v":60.96438326839746},{"$f":"IF(U163=0,U1267+U592+U593,U1268+U1269+U669)*(1-U337)","v":69.82182659486135},{"$f":"IF(V163=0,V1267+V592+V593,V1268+V1269+V669)*(1-V337)","v":64.88189942351623},{"$f":"IF(W163=0,W1267+W592+W593,W1268+W1269+W669)*(1-W337)","v":64.70543676562501},{"$f":"IF(X163=0,X1267+X592+X593,X1268+X1269+X669)*(1-X337)","v":64.0421132109375},null,"* adjusted for spells"]
[{"$nulls":3},"total damage gain with extra attack in attack action (vs. damage scenario)",{"$f":"MAX(0,E1270-E1597)","v":0},0,13.422737381483593,14.952003732270311,16.784852208040622,15.414625115956255,27.28345852319814,27.28345852319814,31.17106084767363,30.984787763312987,30.798514678952348,29.735056124241698,35.72511087925801,35.53468816272813,32.8379818971128,32.64584631275215,35.54647776265315,32.85591372810315,32.679757425000005,32.224153237500005]
[{"$nulls":3},"prob at least one miss per own turn (not opp att)  (damage scenario)",{"$f":"E1621","v":0.35},{"$f":"F1621","v":0.35},0.32120799999999994,0.31799200000000005,0.46595291838243746,0.5304680698239999,0.5304680698239999,0.5304680698239999,0.46817839387899995,0.47261540484375,0.47703382910399994,0.5066904304000002,0.3788069670359999,0.3832348016639999,0.45327654894375,0.4577754231189999,0.2874031801297502,0.35254944139023436,0.35622364572943754,0.36232408624748424,null,"(this is using damage scenario)"]
[{"$nulls":3},"(gloom)stalker's flurry L11 (miss gives additional att roll) melee damage",{"$f":"E1272*E391*(E571+E574)","v":0.7322656249999999},1.008275734375,0.9710625750149997,0.961340098485,1.70976210552161,1.79676298717279,1.8893506354229632,1.8893506354229632,2.110769468762295,2.130773611199031,2.150693955987485,2.1086768592455534,2.1043780871669804,2.1289759403629507,2.3382146657395837,2.3614219849807827,1.5966046220836092,1.8186166396162733,1.856704433475403,1.8885010732880596]
[{"$nulls":3},"(gloom)stalker's flurry L11 (miss gives additional att roll) ranged damage",{"$f":"E1272*(E653*(E656+E658)+E663)","v":1.83859375},2.44845475,2.493708475813894,3.4590592796572266,5.749289711669895,6.001521411817923,6.094842740024105,6.094842740024105,6.263982281669662,6.285817579710966,6.306702478156676,6.4591050298273025,5.8737059379241,5.91093524498464,6.4555767520616785,6.481765118490784,4.925422127216579,5.645371683444761,5.704152125839684,5.764206636817384,null,"should include crit and adv "]
[{"$nulls":3},"total stalker's flurry dmg per round",{"$f":"IF(AND(E82>=1,E9>=11),IF(E163=0,E1273,E1274),0)","v":0},0,0,0,0,0,0,0,0,0,0,0,0,0,0,0,0,0,0,0]
[{"$nulls":3},"chance of at least one hit (damage scenario)",{"$f":"E1615","v":0.65},{"$f":"F1615","v":0.65},0.6787920000000001,0.682008,0.9275234183824376,0.9009160698240001,0.9009160698240001,0.9009160698240001,0.926700393879,0.92504040484375,0.923361829104,0.9114104303999999,0.955122967036,0.953922801664,0.93209154894375,0.9304934231190001,0.9757121801297499,0.9618356913902344,0.9609371457294373,0.9594163362474846,null,"Possible this should be separated into Ambush Rounds vs. other"]
[{"$nulls":3},"base favored foe damage (conc)",{"$f":"IF(E9>=1,2.5,0)+IF(E9>=6,1,0)+IF(E9>=14,1,0)","v":2.5},2.5,2.5,2.5,2.5,2.5,2.5,2.5,2.5,2.5,2.5,2.5,2.5,2.5,2.5,2.5,2.5,2.5,2.5,2.5,null," *requires concentration!!"]
[{"$nulls":3},"avg favored foe damage per combat",{"$f":"E1277*E255*E356/('Base Numbers'!$C$5*'Base Numbers'!$C$6)","v":0},{"$f":"F1277*F255*F356/('Base Numbers'!$C$5*'Base Numbers'!$C$6)","v":0},{"$f":"G1277*G255*G356/('Base Numbers'!$C$5*'Base Numbers'!$C$6)","v":0},{"$f":"H1277*H255*H356/('Base Numbers'!$C$5*'Base Numbers'!$C$6)","v":0},{"$f":"I1277*I255*I356/('Base Numbers'!$C$5*'Base Numbers'!$C$6)","v":0},{"$f":"J1277*J255*J356/('Base Numbers'!$C$5*'Base Numbers'!$C$6)","v":0},{"$f":"K1277*K255*K356/('Base Numbers'!$C$5*'Base Numbers'!$C$6)","v":0},{"$f":"L1277*L255*L356/('Base Numbers'!$C$5*'Base Numbers'!$C$6)","v":0},{"$f":"M1277*M255*M356/('Base Numbers'!$C$5*'Base Numbers'!$C$6)","v":0},{"$f":"N1277*N255*N356/('Base Numbers'!$C$5*'Base Numbers'!$C$6)","v":0},{"$f":"O1277*O255*O356/('Base Numbers'!$C$5*'Base Numbers'!$C$6)","v":0},{"$f":"P1277*P255*P356/('Base Numbers'!$C$5*'Base Numbers'!$C$6)","v":0},{"$f":"Q1277*Q255*Q356/('Base Numbers'!$C$5*'Base Numbers'!$C$6)","v":0},{"$f":"R1277*R255*R356/('Base Numbers'!$C$5*'Base Numbers'!$C$6)","v":0},{"$f":"S1277*S255*S356/('Base Numbers'!$C$5*'Base Numbers'!$C$6)","v":0.3289931640624999},{"$f":"T1277*T255*T356/('Base Numbers'!$C$5*'Base Numbers'!$C$6)","v":0.3289931640624999},{"$f":"U1277*U255*U356/('Base Numbers'!$C$5*'Base Numbers'!$C$6)","v":0.3289931640624999},{"$f":"V1277*V255*V356/('Base Numbers'!$C$5*'Base Numbers'!$C$6)","v":0.3289931640624999},{"$f":"W1277*W255*W356/('Base Numbers'!$C$5*'Base Numbers'!$C$6)","v":0.37386061732931747},{"$f":"X1277*X255*X356/('Base Numbers'!$C$5*'Base Numbers'!$C$6)","v":0.37386061732931747}]
[{"$nulls":3},"avg bonus favored foe dmg per round",{"$f":"E1276*E1278","v":0},{"$f":"F1276*F1278","v":0},0,0,0,0,0,0,0,0,0,0,0,0,0.3066517478829208,0.30612597541126635,0.3210026373552063,0.3164373674187154,0.3592565545170797,0.35868798374531663,null,"only applies to the first hit"]
[{"$nulls":3},"avg bonus favored foe crit damage per round",{"$f":"IF(E163>0,(1-E643)*E660+E643*E661,E536)* E1586*E1278*E1615","v":0},0,0,0,0,0,0,0,0,0,0,0,0,0,0.04211401779550094,0.04165211246640772,0.05303372847470637,0.05207807528964437,0.05878209633491637,0.058118303678249605]
[{"$nulls":3},"base swarmkeeper damage per round",{"$f":"IF(AND(E83>=1,E9>=3),3.5,0)+IF(AND(E83>=1,E9>=11),1,0)","v":0},0,0,0,0,0,0,0,0,0,0,0,0,0,0,0,0,0,0,0]
[{"$nulls":3},"avg swarmkeeper crit damage per round",{"$f":"E1281*E1276*E533","v":0},0,0,0,0,0,0,0,0,0,0,0,0,0,0,0,0,0,0,0]
[{"$nulls":3},"avg bonus swarmkeeper damage per round",{"$f":"E1615*E1281","v":0},0,0,0,0,0,0,0,0,0,0,0,0,0,0,0,0,0,0,0]
[{"$nulls":3},"beastmaster beast of the sky hp",{"$f":"4+4*E9","v":8},12,16,20,24,24,24,24,24,24,24,24,24,24,24,24,24,24,24,24]
[{"$nulls":3},"beastmaster beast of the sky one-die hit chance",{"$f":"MIN(0.95,1-(E153-1-E38-E39-E422)/20)","v":0.65},0.65,0.6,0.6,0.65,0.6,0.6,0.6,0.6,0.6,0.6,0.55,0.6,0.6,0.55,0.55,0.6,0.55,0.55,0.55]
[{"$nulls":3},"beastmaster beast of the sky adv pct",{"$f":"E442+E541+E474","v":0},0,0,0,0,0,0,0,0,0,0,0,0,0,0,0,0,0,0,0]
[{"$nulls":3},"beastmaster beast of the sky attacks",{"$f":"IF(AND(E9>=11,E84>=1),2,IF(AND(E84>=1,E9>=3),1,0))","v":0},0,0,0,0,0,0,0,0,0,0,0,0,0,0,0,0,0,0,0]
[{"$nulls":3},"beastmaster beast of the sky damage per attack",{"$f":"2.5+3+E39","v":7.5},7.5,7.5,7.5,8.5,8.5,8.5,8.5,9.5,9.5,9.5,9.5,10.5,10.5,10.5,10.5,11.5,11.5,11.5,11.5]
[{"$nulls":3},"beastmaster beast of the sky crit chance",{"$f":"MIN(1,E1286*(1-0.95^2)+(1-E1286)*0.05+E542)","v":0.05},0.05,0.05,0.05,0.05,0.05,0.05,0.05,0.05,0.05,0.05,0.05,0.05,0.05,0.05,0.05,0.05,0.05,0.05,0.05]
[{"$nulls":3},"beastmaster beast of the sky max possible uptime",{"$f":"IF(AND(E9>=3,E84>=1),IF(ROUND(E1284/(E924*'Caster Tables'!C79),2)>='Base Numbers'!$C$6,'Base Numbers'!$C$5*'Base Numbers'!$C$6,ROUND(E1284/(E924*'Caster Tables'!C79)*'Base Numbers'!$C$5,2)),0)","v":0},{"$f":"IF(AND(F9>=3,F84>=1),IF(ROUND(F1284/(F924*'Caster Tables'!D79),2)>='Base Numbers'!$C$6,'Base Numbers'!$C$5*'Base Numbers'!$C$6,ROUND(F1284/(F924*'Caster Tables'!D79)*'Base Numbers'!$C$5,2)),0)","v":0},{"$f":"IF(AND(G9>=3,G84>=1),IF(ROUND(G1284/(G924*'Caster Tables'!E79),2)>='Base Numbers'!$C$6,'Base Numbers'!$C$5*'Base Numbers'!$C$6,ROUND(G1284/(G924*'Caster Tables'!E79)*'Base Numbers'!$C$5,2)),0)","v":0},{"$f":"IF(AND(H9>=3,H84>=1),IF(ROUND(H1284/(H924*'Caster Tables'!F79),2)>='Base Numbers'!$C$6,'Base Numbers'!$C$5*'Base Numbers'!$C$6,ROUND(H1284/(H924*'Caster Tables'!F79)*'Base Numbers'!$C$5,2)),0)","v":0},{"$f":"IF(AND(I9>=3,I84>=1),IF(ROUND(I1284/(I924*'Caster Tables'!G79),2)>='Base Numbers'!$C$6,'Base Numbers'!$C$5*'Base Numbers'!$C$6,ROUND(I1284/(I924*'Caster Tables'!G79)*'Base Numbers'!$C$5,2)),0)","v":0},{"$f":"IF(AND(J9>=3,J84>=1),IF(ROUND(J1284/(J924*'Caster Tables'!H79),2)>='Base Numbers'!$C$6,'Base Numbers'!$C$5*'Base Numbers'!$C$6,ROUND(J1284/(J924*'Caster Tables'!H79)*'Base Numbers'!$C$5,2)),0)","v":0},{"$f":"IF(AND(K9>=3,K84>=1),IF(ROUND(K1284/(K924*'Caster Tables'!I79),2)>='Base Numbers'!$C$6,'Base Numbers'!$C$5*'Base Numbers'!$C$6,ROUND(K1284/(K924*'Caster Tables'!I79)*'Base Numbers'!$C$5,2)),0)","v":0},{"$f":"IF(AND(L9>=3,L84>=1),IF(ROUND(L1284/(L924*'Caster Tables'!J79),2)>='Base Numbers'!$C$6,'Base Numbers'!$C$5*'Base Numbers'!$C$6,ROUND(L1284/(L924*'Caster Tables'!J79)*'Base Numbers'!$C$5,2)),0)","v":0},{"$f":"IF(AND(M9>=3,M84>=1),IF(ROUND(M1284/(M924*'Caster Tables'!K79),2)>='Base Numbers'!$C$6,'Base Numbers'!$C$5*'Base Numbers'!$C$6,ROUND(M1284/(M924*'Caster Tables'!K79)*'Base Numbers'!$C$5,2)),0)","v":0},{"$f":"IF(AND(N9>=3,N84>=1),IF(ROUND(N1284/(N924*'Caster Tables'!L79),2)>='Base Numbers'!$C$6,'Base Numbers'!$C$5*'Base Numbers'!$C$6,ROUND(N1284/(N924*'Caster Tables'!L79)*'Base Numbers'!$C$5,2)),0)","v":0},{"$f":"IF(AND(O9>=3,O84>=1),IF(ROUND(O1284/(O924*'Caster Tables'!M79),2)>='Base Numbers'!$C$6,'Base Numbers'!$C$5*'Base Numbers'!$C$6,ROUND(O1284/(O924*'Caster Tables'!M79)*'Base Numbers'!$C$5,2)),0)","v":0},{"$f":"IF(AND(P9>=3,P84>=1),IF(ROUND(P1284/(P924*'Caster Tables'!N79),2)>='Base Numbers'!$C$6,'Base Numbers'!$C$5*'Base Numbers'!$C$6,ROUND(P1284/(P924*'Caster Tables'!N79)*'Base Numbers'!$C$5,2)),0)","v":0},{"$f":"IF(AND(Q9>=3,Q84>=1),IF(ROUND(Q1284/(Q924*'Caster Tables'!O79),2)>='Base Numbers'!$C$6,'Base Numbers'!$C$5*'Base Numbers'!$C$6,ROUND(Q1284/(Q924*'Caster Tables'!O79)*'Base Numbers'!$C$5,2)),0)","v":0},{"$f":"IF(AND(R9>=3,R84>=1),IF(ROUND(R1284/(R924*'Caster Tables'!P79),2)>='Base Numbers'!$C$6,'Base Numbers'!$C$5*'Base Numbers'!$C$6,ROUND(R1284/(R924*'Caster Tables'!P79)*'Base Numbers'!$C$5,2)),0)","v":0},{"$f":"IF(AND(S9>=3,S84>=1),IF(ROUND(S1284/(S924*'Caster Tables'!Q79),2)>='Base Numbers'!$C$6,'Base Numbers'!$C$5*'Base Numbers'!$C$6,ROUND(S1284/(S924*'Caster Tables'!Q79)*'Base Numbers'!$C$5,2)),0)","v":0},{"$f":"IF(AND(T9>=3,T84>=1),IF(ROUND(T1284/(T924*'Caster Tables'!R79),2)>='Base Numbers'!$C$6,'Base Numbers'!$C$5*'Base Numbers'!$C$6,ROUND(T1284/(T924*'Caster Tables'!R79)*'Base Numbers'!$C$5,2)),0)","v":0},{"$f":"IF(AND(U9>=3,U84>=1),IF(ROUND(U1284/(U924*'Caster Tables'!S79),2)>='Base Numbers'!$C$6,'Base Numbers'!$C$5*'Base Numbers'!$C$6,ROUND(U1284/(U924*'Caster Tables'!S79)*'Base Numbers'!$C$5,2)),0)","v":0},{"$f":"IF(AND(V9>=3,V84>=1),IF(ROUND(V1284/(V924*'Caster Tables'!T79),2)>='Base Numbers'!$C$6,'Base Numbers'!$C$5*'Base Numbers'!$C$6,ROUND(V1284/(V924*'Caster Tables'!T79)*'Base Numbers'!$C$5,2)),0)","v":0},{"$f":"IF(AND(W9>=3,W84>=1),IF(ROUND(W1284/(W924*'Caster Tables'!U79),2)>='Base Numbers'!$C$6,'Base Numbers'!$C$5*'Base Numbers'!$C$6,ROUND(W1284/(W924*'Caster Tables'!U79)*'Base Numbers'!$C$5,2)),0)","v":0},{"$f":"IF(AND(X9>=3,X84>=1),IF(ROUND(X1284/(X924*'Caster Tables'!V79),2)>='Base Numbers'!$C$6,'Base Numbers'!$C$5*'Base Numbers'!$C$6,ROUND(X1284/(X924*'Caster Tables'!V79)*'Base Numbers'!$C$5,2)),0)","v":0},null,"assume beast is resummoned after combats"]
[{"$nulls":3},"bonus actions available after spells for beast direction",{"$f":"MAX(0,E342-IF(E163,E640,E342*IF(E381+E382<=1,E381+E382,E381)))*E1290","v":0},0,0,0,0,0,0,0,0,0,0,0,0,0,0,0,0,0,0,0,null,"* beast doesn't attack if Ranger has spells or other bonus attacks"]
[{"$nulls":3},"beastmaster: pct rounds spent directing beast of the sky",{"$f":"MIN(1,E1291/('Base Numbers'!$C$5*'Base Numbers'!$C$6))","v":0},{"$f":"MIN(1,F1291/('Base Numbers'!$C$5*'Base Numbers'!$C$6))","v":0},{"$f":"MIN(1,G1291/('Base Numbers'!$C$5*'Base Numbers'!$C$6))","v":0},{"$f":"MIN(1,H1291/('Base Numbers'!$C$5*'Base Numbers'!$C$6))","v":0},{"$f":"MIN(1,I1291/('Base Numbers'!$C$5*'Base Numbers'!$C$6))","v":0},{"$f":"MIN(1,J1291/('Base Numbers'!$C$5*'Base Numbers'!$C$6))","v":0},{"$f":"MIN(1,K1291/('Base Numbers'!$C$5*'Base Numbers'!$C$6))","v":0},{"$f":"MIN(1,L1291/('Base Numbers'!$C$5*'Base Numbers'!$C$6))","v":0},{"$f":"MIN(1,M1291/('Base Numbers'!$C$5*'Base Numbers'!$C$6))","v":0},{"$f":"MIN(1,N1291/('Base Numbers'!$C$5*'Base Numbers'!$C$6))","v":0},{"$f":"MIN(1,O1291/('Base Numbers'!$C$5*'Base Numbers'!$C$6))","v":0},{"$f":"MIN(1,P1291/('Base Numbers'!$C$5*'Base Numbers'!$C$6))","v":0},{"$f":"MIN(1,Q1291/('Base Numbers'!$C$5*'Base Numbers'!$C$6))","v":0},{"$f":"MIN(1,R1291/('Base Numbers'!$C$5*'Base Numbers'!$C$6))","v":0},{"$f":"MIN(1,S1291/('Base Numbers'!$C$5*'Base Numbers'!$C$6))","v":0},{"$f":"MIN(1,T1291/('Base Numbers'!$C$5*'Base Numbers'!$C$6))","v":0},{"$f":"MIN(1,U1291/('Base Numbers'!$C$5*'Base Numbers'!$C$6))","v":0},{"$f":"MIN(1,V1291/('Base Numbers'!$C$5*'Base Numbers'!$C$6))","v":0},{"$f":"MIN(1,W1291/('Base Numbers'!$C$5*'Base Numbers'!$C$6))","v":0},{"$f":"MIN(1,X1291/('Base Numbers'!$C$5*'Base Numbers'!$C$6))","v":0}]
[{"$nulls":3},"beastmaster spellslots to resummon",{"$f":"IF(AND(E9>=3,E84>=1),ROUND('Base Numbers'!$C$5*'Base Numbers'!$C$6/ROUND(E1284/(E924*'Caster Tables'!C79),2),0),0)","v":0},{"$f":"IF(AND(F9>=3,F84>=1),ROUND('Base Numbers'!$C$5*'Base Numbers'!$C$6/ROUND(F1284/(F924*'Caster Tables'!D79),2),0),0)","v":0},{"$f":"IF(AND(G9>=3,G84>=1),ROUND('Base Numbers'!$C$5*'Base Numbers'!$C$6/ROUND(G1284/(G924*'Caster Tables'!E79),2),0),0)","v":0},{"$f":"IF(AND(H9>=3,H84>=1),ROUND('Base Numbers'!$C$5*'Base Numbers'!$C$6/ROUND(H1284/(H924*'Caster Tables'!F79),2),0),0)","v":0},{"$f":"IF(AND(I9>=3,I84>=1),ROUND('Base Numbers'!$C$5*'Base Numbers'!$C$6/ROUND(I1284/(I924*'Caster Tables'!G79),2),0),0)","v":0},{"$f":"IF(AND(J9>=3,J84>=1),ROUND('Base Numbers'!$C$5*'Base Numbers'!$C$6/ROUND(J1284/(J924*'Caster Tables'!H79),2),0),0)","v":0},{"$f":"IF(AND(K9>=3,K84>=1),ROUND('Base Numbers'!$C$5*'Base Numbers'!$C$6/ROUND(K1284/(K924*'Caster Tables'!I79),2),0),0)","v":0},{"$f":"IF(AND(L9>=3,L84>=1),ROUND('Base Numbers'!$C$5*'Base Numbers'!$C$6/ROUND(L1284/(L924*'Caster Tables'!J79),2),0),0)","v":0},{"$f":"IF(AND(M9>=3,M84>=1),ROUND('Base Numbers'!$C$5*'Base Numbers'!$C$6/ROUND(M1284/(M924*'Caster Tables'!K79),2),0),0)","v":0},{"$f":"IF(AND(N9>=3,N84>=1),ROUND('Base Numbers'!$C$5*'Base Numbers'!$C$6/ROUND(N1284/(N924*'Caster Tables'!L79),2),0),0)","v":0},{"$f":"IF(AND(O9>=3,O84>=1),ROUND('Base Numbers'!$C$5*'Base Numbers'!$C$6/ROUND(O1284/(O924*'Caster Tables'!M79),2),0),0)","v":0},{"$f":"IF(AND(P9>=3,P84>=1),ROUND('Base Numbers'!$C$5*'Base Numbers'!$C$6/ROUND(P1284/(P924*'Caster Tables'!N79),2),0),0)","v":0},{"$f":"IF(AND(Q9>=3,Q84>=1),ROUND('Base Numbers'!$C$5*'Base Numbers'!$C$6/ROUND(Q1284/(Q924*'Caster Tables'!O79),2),0),0)","v":0},{"$f":"IF(AND(R9>=3,R84>=1),ROUND('Base Numbers'!$C$5*'Base Numbers'!$C$6/ROUND(R1284/(R924*'Caster Tables'!P79),2),0),0)","v":0},{"$f":"IF(AND(S9>=3,S84>=1),ROUND('Base Numbers'!$C$5*'Base Numbers'!$C$6/ROUND(S1284/(S924*'Caster Tables'!Q79),2),0),0)","v":0},{"$f":"IF(AND(T9>=3,T84>=1),ROUND('Base Numbers'!$C$5*'Base Numbers'!$C$6/ROUND(T1284/(T924*'Caster Tables'!R79),2),0),0)","v":0},{"$f":"IF(AND(U9>=3,U84>=1),ROUND('Base Numbers'!$C$5*'Base Numbers'!$C$6/ROUND(U1284/(U924*'Caster Tables'!S79),2),0),0)","v":0},{"$f":"IF(AND(V9>=3,V84>=1),ROUND('Base Numbers'!$C$5*'Base Numbers'!$C$6/ROUND(V1284/(V924*'Caster Tables'!T79),2),0),0)","v":0},{"$f":"IF(AND(W9>=3,W84>=1),ROUND('Base Numbers'!$C$5*'Base Numbers'!$C$6/ROUND(W1284/(W924*'Caster Tables'!U79),2),0),0)","v":0},{"$f":"IF(AND(X9>=3,X84>=1),ROUND('Base Numbers'!$C$5*'Base Numbers'!$C$6/ROUND(X1284/(X924*'Caster Tables'!V79),2),0),0)","v":0}]
[{"$nulls":3},"beastmaster beast of the sky damage per round of uptime (bonus action)",{"$f":"E1287*(E1286*(1-(1-E1285)^2)*E1288+(1-E1286)*E1285*E1288+E1289*2.5)","v":0},{"$f":"F1287*(F1286*(1-(1-F1285)^2)*F1288+(1-F1286)*F1285*F1288+F1289*2.5)","v":0},0,0,0,0,0,0,0,0,0,0,0,0,0,0,0,0,0,0,null,"requires bonus action to direct"]
[{"$nulls":3},"avg beastmaster beast damage per round",{"$f":"E1292*E1294","v":0},{"$f":"F1292*F1294","v":0},0,0,0,0,0,0,0,0,0,0,0,0,0,0,0,0,0,0]
[{"$nulls":3},"hunter colossus slayer trigger pct",0.85,0.85,0.85,0.85,0.85,0.85,0.85,0.85,0.85,0.85,0.85,0.85,0.85,0.85,0.85,0.85,0.85,0.85,0.85,0.85]
[{"$nulls":3},"avg hunter colossus slayer dmg own turn",{"$f":"IF(AND(E9>=3,E85>=1),E1615*4.5*E1296,0)","v":0},0,0,0,0,0,0,0,0,0,0,0,0,0,0,0,0,0,0,0]
[{"$nulls":3},"avg hunter colossus slayer crit dmg own turn",{"$f":"IF(AND(E9>=3,E85>=1),4.5*IF(E1592,(E645*E661+(1-E645)*E660)*4.5,E536),0)","v":0},0,0,0,0,0,0,0,0,0,0,0,0,0,0,0,0,0,0,0]
[{"$nulls":3},"avg hunter colossus slayer opp att dmg",{"$f":"IF(AND(E9>=3,E85>=1,E418>0),E418*E520*4.5+E535*4.5,0)","v":0},0,0,0,0,0,0,0,0,0,0,0,0,0,0,0,0,0,0,0]
[{"$nulls":3},"avg hunter multiattack opportunities per day",{"$f":"IF(AND(E9>=11,E85>=1),2*'Base Numbers'!$G$21,0)","v":0},{"$f":"IF(AND(F9>=11,F85>=1),2*'Base Numbers'!$G$21,0)","v":0},{"$f":"IF(AND(G9>=11,G85>=1),2*'Base Numbers'!$G$21,0)","v":0},{"$f":"IF(AND(H9>=11,H85>=1),2*'Base Numbers'!$G$21,0)","v":0},{"$f":"IF(AND(I9>=11,I85>=1),2*'Base Numbers'!$G$21,0)","v":0},{"$f":"IF(AND(J9>=11,J85>=1),2*'Base Numbers'!$G$21,0)","v":0},{"$f":"IF(AND(K9>=11,K85>=1),2*'Base Numbers'!$G$21,0)","v":0},{"$f":"IF(AND(L9>=11,L85>=1),2*'Base Numbers'!$G$21,0)","v":0},{"$f":"IF(AND(M9>=11,M85>=1),2*'Base Numbers'!$G$21,0)","v":0},{"$f":"IF(AND(N9>=11,N85>=1),2*'Base Numbers'!$G$21,0)","v":0},{"$f":"IF(AND(O9>=11,O85>=1),2*'Base Numbers'!$G$21,0)","v":0},{"$f":"IF(AND(P9>=11,P85>=1),2*'Base Numbers'!$G$21,0)","v":0},{"$f":"IF(AND(Q9>=11,Q85>=1),2*'Base Numbers'!$G$21,0)","v":0},{"$f":"IF(AND(R9>=11,R85>=1),2*'Base Numbers'!$G$21,0)","v":0},{"$f":"IF(AND(S9>=11,S85>=1),2*'Base Numbers'!$G$21,0)","v":0},{"$f":"IF(AND(T9>=11,T85>=1),2*'Base Numbers'!$G$21,0)","v":0},{"$f":"IF(AND(U9>=11,U85>=1),2*'Base Numbers'!$G$21,0)","v":0},{"$f":"IF(AND(V9>=11,V85>=1),2*'Base Numbers'!$G$21,0)","v":0},{"$f":"IF(AND(W9>=11,W85>=1),2*'Base Numbers'!$G$21,0)","v":0},{"$f":"IF(AND(X9>=11,X85>=1),2*'Base Numbers'!$G$21,0)","v":0}]
[{"$nulls":3},"avg hunter multiattack targets",{"$f":"3","v":3},{"$f":"3","v":3},{"$f":"3","v":3},{"$f":"3","v":3},{"$f":"3","v":3},{"$f":"3","v":3},{"$f":"3","v":3},{"$f":"3","v":3},{"$f":"3","v":3},{"$f":"3","v":3},{"$f":"3","v":3},{"$f":"3","v":3},{"$f":"3","v":3},{"$f":"3","v":3},{"$f":"3","v":3},{"$f":"3","v":3},{"$f":"3","v":3},{"$f":"3","v":3},{"$f":"3","v":3},{"$f":"3","v":3}]
[{"$nulls":3},"avg hunter multiattack damage per instance",{"$f":"IF(E1592,E1301*(E668+E663),E1301*(E590+E591))","v":15.759375000000002},20.986755000000002,23.29059496476328,32.63345568118594,37.016334600684374,33.94090098849375,34.46866882325039,34.46866882325039,40.138432466547656,39.900207538447276,39.661982610346875,38.24290716164648,46.51740687783516,46.2713867789625,42.72608036156836,42.47780543346797,51.4130232483123,48.038978543119626,48.038519010937506,47.726939960156244]
[{"$nulls":3},"avg hunter multiattack damage gain per round",{"$f":"E1300*(E1302-E1597-E1598)/('Base Numbers'!$C$5*'Base Numbers'!$C$6)","v":0},{"$f":"F1300*(F1302-F1597-F1598)/('Base Numbers'!$C$5*'Base Numbers'!$C$6)","v":0},{"$f":"G1300*(G1302-G1597-G1598)/('Base Numbers'!$C$5*'Base Numbers'!$C$6)","v":0},{"$f":"H1300*(H1302-H1597-H1598)/('Base Numbers'!$C$5*'Base Numbers'!$C$6)","v":0},{"$f":"I1300*(I1302-I1597-I1598)/('Base Numbers'!$C$5*'Base Numbers'!$C$6)","v":0},{"$f":"J1300*(J1302-J1597-J1598)/('Base Numbers'!$C$5*'Base Numbers'!$C$6)","v":0},{"$f":"K1300*(K1302-K1597-K1598)/('Base Numbers'!$C$5*'Base Numbers'!$C$6)","v":0},{"$f":"L1300*(L1302-L1597-L1598)/('Base Numbers'!$C$5*'Base Numbers'!$C$6)","v":0},{"$f":"M1300*(M1302-M1597-M1598)/('Base Numbers'!$C$5*'Base Numbers'!$C$6)","v":0},{"$f":"N1300*(N1302-N1597-N1598)/('Base Numbers'!$C$5*'Base Numbers'!$C$6)","v":0},{"$f":"O1300*(O1302-O1597-O1598)/('Base Numbers'!$C$5*'Base Numbers'!$C$6)","v":0},{"$f":"P1300*(P1302-P1597-P1598)/('Base Numbers'!$C$5*'Base Numbers'!$C$6)","v":0},{"$f":"Q1300*(Q1302-Q1597-Q1598)/('Base Numbers'!$C$5*'Base Numbers'!$C$6)","v":0},{"$f":"R1300*(R1302-R1597-R1598)/('Base Numbers'!$C$5*'Base Numbers'!$C$6)","v":0},{"$f":"S1300*(S1302-S1597-S1598)/('Base Numbers'!$C$5*'Base Numbers'!$C$6)","v":0},{"$f":"T1300*(T1302-T1597-T1598)/('Base Numbers'!$C$5*'Base Numbers'!$C$6)","v":0},{"$f":"U1300*(U1302-U1597-U1598)/('Base Numbers'!$C$5*'Base Numbers'!$C$6)","v":0},{"$f":"V1300*(V1302-V1597-V1598)/('Base Numbers'!$C$5*'Base Numbers'!$C$6)","v":0},{"$f":"W1300*(W1302-W1597-W1598)/('Base Numbers'!$C$5*'Base Numbers'!$C$6)","v":0},{"$f":"X1300*(X1302-X1597-X1598)/('Base Numbers'!$C$5*'Base Numbers'!$C$6)","v":0}]
[{"$nulls":3},"total hunter bonus damage per round",{"$f":"E1303+E1297+E1298+E1299","v":0},{"$f":"F1303+F1297+F1298+F1299","v":0},0,0,0,0,0,0,0,0,0,0,0,0,0,0,0,0,0,0]
[{"$nulls":3},"additional Foe Slayer daamge per round (L20)",{"$f":"IF(E9>=20,E38*0.05*IF(E1592,(E656+E658),E571+E573),0)","v":0},0,0,0,0,0,0,0,0,0,0,0,0,0,0,0,0,0,0,0]
[{"$nulls":3},"total bonus Ranger damage avg per round",{"$f":"IF(E9>=3,(E1271)/'Base Numbers'!$C$6,0)+E1275+E1279+E1280+E1263+E1264+E1282+E1283+E1295+E1304+E1305","v":0},{"$f":"IF(F9>=3,(F1271)/'Base Numbers'!$C$6,0)+F1275+F1279+F1280+F1263+F1264+F1282+F1283+F1295+F1304+F1305","v":0},{"$f":"IF(G9>=3,(G1271)/'Base Numbers'!$C$6,0)+G1275+G1279+G1280+G1263+G1264+G1282+G1283+G1295+G1304+G1305","v":4.414499470370898},{"$f":"IF(H9>=3,(H1271)/'Base Numbers'!$C$6,0)+H1275+H1279+H1280+H1263+H1264+H1282+H1283+H1295+H1304+H1305","v":4.8032983080675775},{"$f":"IF(I9>=3,(I1271)/'Base Numbers'!$C$6,0)+I1275+I1279+I1280+I1263+I1264+I1282+I1283+I1295+I1304+I1305","v":5.319249083260155},{"$f":"IF(J9>=3,(J1271)/'Base Numbers'!$C$6,0)+J1275+J1279+J1280+J1263+J1264+J1282+J1283+J1295+J1304+J1305","v":4.925435903989064},{"$f":"IF(K9>=3,(K1271)/'Base Numbers'!$C$6,0)+K1275+K1279+K1280+K1263+K1264+K1282+K1283+K1295+K1304+K1305","v":7.892644255799534},{"$f":"IF(L9>=3,(L1271)/'Base Numbers'!$C$6,0)+L1275+L1279+L1280+L1263+L1264+L1282+L1283+L1295+L1304+L1305","v":7.892644255799534},{"$f":"IF(M9>=3,(M1271)/'Base Numbers'!$C$6,0)+M1275+M1279+M1280+M1263+M1264+M1282+M1283+M1295+M1304+M1305","v":8.912654336918408},{"$f":"IF(N9>=3,(N1271)/'Base Numbers'!$C$6,0)+N1275+N1279+N1280+N1263+N1264+N1282+N1283+N1295+N1304+N1305","v":8.859792253328246},{"$f":"IF(O9>=3,(O1271)/'Base Numbers'!$C$6,0)+O1275+O1279+O1280+O1263+O1264+O1282+O1283+O1295+O1304+O1305","v":8.806930169738086},{"$f":"IF(P9>=3,(P1271)/'Base Numbers'!$C$6,0)+P1275+P1279+P1280+P1263+P1264+P1282+P1283+P1295+P1304+P1305","v":8.540083406060424},{"$f":"IF(Q9>=3,(Q1271)/'Base Numbers'!$C$6,0)+Q1275+Q1279+Q1280+Q1263+Q1264+Q1282+Q1283+Q1295+Q1304+Q1305","v":10.132687719814504},{"$f":"IF(R9>=3,(R1271)/'Base Numbers'!$C$6,0)+R1275+R1279+R1280+R1263+R1264+R1282+R1283+R1295+R1304+R1305","v":10.079052040682033},{"$f":"IF(S9>=3,(S1271)/'Base Numbers'!$C$6,0)+S1275+S1279+S1280+S1263+S1264+S1282+S1283+S1295+S1304+S1305","v":9.699098427456622},{"$f":"IF(T9>=3,(T1271)/'Base Numbers'!$C$6,0)+T1275+T1279+T1280+T1263+T1264+T1282+T1283+T1295+T1304+T1305","v":9.64378304106571},{"$f":"IF(U9>=3,(U1271)/'Base Numbers'!$C$6,0)+U1275+U1279+U1280+U1263+U1264+U1282+U1283+U1295+U1304+U1305","v":10.6490796189932},{"$f":"IF(V9>=3,(V1271)/'Base Numbers'!$C$6,0)+V1275+V1279+V1280+V1263+V1264+V1282+V1283+V1295+V1304+V1305","v":9.926467390359146},{"$f":"IF(W9>=3,(W1271)/'Base Numbers'!$C$6,0)+W1275+W1279+W1280+W1263+W1264+W1282+W1283+W1295+W1304+W1305","v":9.929379350851997},{"$f":"IF(X9>=3,(X1271)/'Base Numbers'!$C$6,0)+X1275+X1279+X1280+X1263+X1264+X1282+X1283+X1295+X1304+X1305","v":9.809958987423567}]
[]
[{"$nulls":3},"FIGHTER DAMAGE"]
[{"$nulls":3},"action surges per day",{"$f":"IF(E10>=17,2,IF(E10>=2,1,0))*(1+'Base Numbers'!$C$7)","v":0},{"$f":"IF(F10>=17,2,IF(F10>=2,1,0))*(1+'Base Numbers'!$C$7)","v":0},{"$f":"IF(G10>=17,2,IF(G10>=2,1,0))*(1+'Base Numbers'!$C$7)","v":0},{"$f":"IF(H10>=17,2,IF(H10>=2,1,0))*(1+'Base Numbers'!$C$7)","v":0},{"$f":"IF(I10>=17,2,IF(I10>=2,1,0))*(1+'Base Numbers'!$C$7)","v":0},{"$f":"IF(J10>=17,2,IF(J10>=2,1,0))*(1+'Base Numbers'!$C$7)","v":0},{"$f":"IF(K10>=17,2,IF(K10>=2,1,0))*(1+'Base Numbers'!$C$7)","v":3},{"$f":"IF(L10>=17,2,IF(L10>=2,1,0))*(1+'Base Numbers'!$C$7)","v":3},{"$f":"IF(M10>=17,2,IF(M10>=2,1,0))*(1+'Base Numbers'!$C$7)","v":3},{"$f":"IF(N10>=17,2,IF(N10>=2,1,0))*(1+'Base Numbers'!$C$7)","v":3},{"$f":"IF(O10>=17,2,IF(O10>=2,1,0))*(1+'Base Numbers'!$C$7)","v":3},{"$f":"IF(P10>=17,2,IF(P10>=2,1,0))*(1+'Base Numbers'!$C$7)","v":3},{"$f":"IF(Q10>=17,2,IF(Q10>=2,1,0))*(1+'Base Numbers'!$C$7)","v":3},{"$f":"IF(R10>=17,2,IF(R10>=2,1,0))*(1+'Base Numbers'!$C$7)","v":3},{"$f":"IF(S10>=17,2,IF(S10>=2,1,0))*(1+'Base Numbers'!$C$7)","v":3},{"$f":"IF(T10>=17,2,IF(T10>=2,1,0))*(1+'Base Numbers'!$C$7)","v":3},{"$f":"IF(U10>=17,2,IF(U10>=2,1,0))*(1+'Base Numbers'!$C$7)","v":3},{"$f":"IF(V10>=17,2,IF(V10>=2,1,0))*(1+'Base Numbers'!$C$7)","v":3},{"$f":"IF(W10>=17,2,IF(W10>=2,1,0))*(1+'Base Numbers'!$C$7)","v":3},{"$f":"IF(X10>=17,2,IF(X10>=2,1,0))*(1+'Base Numbers'!$C$7)","v":3}]
[{"$nulls":3},"eldritch knight L7: weapon bonus attack with BB cantrip main action",{"$f":"(E598+E599)*E342/E378+E616*(1-E337)","v":2.103125},2.146929922846875,2.0829766404835923,2.0931513898824594,0.9870387508895083,0.9275221427715882,0.9274959021209568,0.9274959021209568,1.172237984940497,1.1671477644806751,1.1620575440208536,1.132264690581308,1.4685912699509014,1.4631428240467672,1.3793720765972428,1.3734977142988274,1.4495217092864316,1.364686170851204,1.5130914957700603,1.4966596627654656]
[{"$nulls":3},"eldritch knight: max damage scenario regular damage (main + bonus)",{"$f":"E1597+E1598","v":5.253125000000001},{"$f":"F1597+F1598","v":6.995585},7.763531654921093,10.877818560395314,24.67755640045625,22.6272673256625,22.979112548833594,22.979112548833594,26.758954977698437,26.60013835896485,26.44132174023125,25.495271441097653,31.011604585223438,30.847591185975002,28.484053574378905,28.318536955645314,34.2753488322082,32.025985695413084,32.025679340625004,31.817959973437496]
[{"$nulls":3},"total bonus L7 Eldritch Knight damage",{"$f":"IF(AND(E10>=7,E59>=1),MAX(0,E1310-E1311),0)","v":0},0,0,0,0,0,0,0,0,0,0,0,0,0,0,0,0,0,0,0]
[{"$nulls":3},"battlemsaster dice per day",{"$f":"(IF(AND($B$62>=1,E6>=$B$62),1,0)+IF(E57>=1,IF(E10>=15,6,IF(E10>=7,5,IF(E10>=3,4,0))),0))*(1+'Base Numbers'!$C$7)+IF(AND(E57>=1,E10>=15),'Base Numbers'!$C$5-(1+'Base Numbers'!$C$7),0)","v":0},{"$f":"(IF(AND($B$62>=1,F6>=$B$62),1,0)+IF(F57>=1,IF(F10>=15,6,IF(F10>=7,5,IF(F10>=3,4,0))),0))*(1+'Base Numbers'!$C$7)+IF(AND(F57>=1,F10>=15),'Base Numbers'!$C$5-(1+'Base Numbers'!$C$7),0)","v":0},{"$f":"(IF(AND($B$62>=1,G6>=$B$62),1,0)+IF(G57>=1,IF(G10>=15,6,IF(G10>=7,5,IF(G10>=3,4,0))),0))*(1+'Base Numbers'!$C$7)+IF(AND(G57>=1,G10>=15),'Base Numbers'!$C$5-(1+'Base Numbers'!$C$7),0)","v":0},{"$f":"(IF(AND($B$62>=1,H6>=$B$62),1,0)+IF(H57>=1,IF(H10>=15,6,IF(H10>=7,5,IF(H10>=3,4,0))),0))*(1+'Base Numbers'!$C$7)+IF(AND(H57>=1,H10>=15),'Base Numbers'!$C$5-(1+'Base Numbers'!$C$7),0)","v":0},{"$f":"(IF(AND($B$62>=1,I6>=$B$62),1,0)+IF(I57>=1,IF(I10>=15,6,IF(I10>=7,5,IF(I10>=3,4,0))),0))*(1+'Base Numbers'!$C$7)+IF(AND(I57>=1,I10>=15),'Base Numbers'!$C$5-(1+'Base Numbers'!$C$7),0)","v":0},{"$f":"(IF(AND($B$62>=1,J6>=$B$62),1,0)+IF(J57>=1,IF(J10>=15,6,IF(J10>=7,5,IF(J10>=3,4,0))),0))*(1+'Base Numbers'!$C$7)+IF(AND(J57>=1,J10>=15),'Base Numbers'!$C$5-(1+'Base Numbers'!$C$7),0)","v":0},{"$f":"(IF(AND($B$62>=1,K6>=$B$62),1,0)+IF(K57>=1,IF(K10>=15,6,IF(K10>=7,5,IF(K10>=3,4,0))),0))*(1+'Base Numbers'!$C$7)+IF(AND(K57>=1,K10>=15),'Base Numbers'!$C$5-(1+'Base Numbers'!$C$7),0)","v":0},{"$f":"(IF(AND($B$62>=1,L6>=$B$62),1,0)+IF(L57>=1,IF(L10>=15,6,IF(L10>=7,5,IF(L10>=3,4,0))),0))*(1+'Base Numbers'!$C$7)+IF(AND(L57>=1,L10>=15),'Base Numbers'!$C$5-(1+'Base Numbers'!$C$7),0)","v":12},{"$f":"(IF(AND($B$62>=1,M6>=$B$62),1,0)+IF(M57>=1,IF(M10>=15,6,IF(M10>=7,5,IF(M10>=3,4,0))),0))*(1+'Base Numbers'!$C$7)+IF(AND(M57>=1,M10>=15),'Base Numbers'!$C$5-(1+'Base Numbers'!$C$7),0)","v":12},{"$f":"(IF(AND($B$62>=1,N6>=$B$62),1,0)+IF(N57>=1,IF(N10>=15,6,IF(N10>=7,5,IF(N10>=3,4,0))),0))*(1+'Base Numbers'!$C$7)+IF(AND(N57>=1,N10>=15),'Base Numbers'!$C$5-(1+'Base Numbers'!$C$7),0)","v":12},{"$f":"(IF(AND($B$62>=1,O6>=$B$62),1,0)+IF(O57>=1,IF(O10>=15,6,IF(O10>=7,5,IF(O10>=3,4,0))),0))*(1+'Base Numbers'!$C$7)+IF(AND(O57>=1,O10>=15),'Base Numbers'!$C$5-(1+'Base Numbers'!$C$7),0)","v":12},{"$f":"(IF(AND($B$62>=1,P6>=$B$62),1,0)+IF(P57>=1,IF(P10>=15,6,IF(P10>=7,5,IF(P10>=3,4,0))),0))*(1+'Base Numbers'!$C$7)+IF(AND(P57>=1,P10>=15),'Base Numbers'!$C$5-(1+'Base Numbers'!$C$7),0)","v":12},{"$f":"(IF(AND($B$62>=1,Q6>=$B$62),1,0)+IF(Q57>=1,IF(Q10>=15,6,IF(Q10>=7,5,IF(Q10>=3,4,0))),0))*(1+'Base Numbers'!$C$7)+IF(AND(Q57>=1,Q10>=15),'Base Numbers'!$C$5-(1+'Base Numbers'!$C$7),0)","v":12},{"$f":"(IF(AND($B$62>=1,R6>=$B$62),1,0)+IF(R57>=1,IF(R10>=15,6,IF(R10>=7,5,IF(R10>=3,4,0))),0))*(1+'Base Numbers'!$C$7)+IF(AND(R57>=1,R10>=15),'Base Numbers'!$C$5-(1+'Base Numbers'!$C$7),0)","v":12},{"$f":"(IF(AND($B$62>=1,S6>=$B$62),1,0)+IF(S57>=1,IF(S10>=15,6,IF(S10>=7,5,IF(S10>=3,4,0))),0))*(1+'Base Numbers'!$C$7)+IF(AND(S57>=1,S10>=15),'Base Numbers'!$C$5-(1+'Base Numbers'!$C$7),0)","v":12},{"$f":"(IF(AND($B$62>=1,T6>=$B$62),1,0)+IF(T57>=1,IF(T10>=15,6,IF(T10>=7,5,IF(T10>=3,4,0))),0))*(1+'Base Numbers'!$C$7)+IF(AND(T57>=1,T10>=15),'Base Numbers'!$C$5-(1+'Base Numbers'!$C$7),0)","v":12},{"$f":"(IF(AND($B$62>=1,U6>=$B$62),1,0)+IF(U57>=1,IF(U10>=15,6,IF(U10>=7,5,IF(U10>=3,4,0))),0))*(1+'Base Numbers'!$C$7)+IF(AND(U57>=1,U10>=15),'Base Numbers'!$C$5-(1+'Base Numbers'!$C$7),0)","v":12},{"$f":"(IF(AND($B$62>=1,V6>=$B$62),1,0)+IF(V57>=1,IF(V10>=15,6,IF(V10>=7,5,IF(V10>=3,4,0))),0))*(1+'Base Numbers'!$C$7)+IF(AND(V57>=1,V10>=15),'Base Numbers'!$C$5-(1+'Base Numbers'!$C$7),0)","v":12},{"$f":"(IF(AND($B$62>=1,W6>=$B$62),1,0)+IF(W57>=1,IF(W10>=15,6,IF(W10>=7,5,IF(W10>=3,4,0))),0))*(1+'Base Numbers'!$C$7)+IF(AND(W57>=1,W10>=15),'Base Numbers'!$C$5-(1+'Base Numbers'!$C$7),0)","v":12},{"$f":"(IF(AND($B$62>=1,X6>=$B$62),1,0)+IF(X57>=1,IF(X10>=15,6,IF(X10>=7,5,IF(X10>=3,4,0))),0))*(1+'Base Numbers'!$C$7)+IF(AND(X57>=1,X10>=15),'Base Numbers'!$C$5-(1+'Base Numbers'!$C$7),0)","v":12}]
[{"$nulls":3},"battlemaster dice size",{"$f":"IF(E57>=1,IF(E10>=18,6.5,IF(E10>=10,5.5,IF(E10>=3,4.5,0))),IF(E1313>0,3.5,0))","v":0},0,0,0,0,0,0,4.5,4.5,4.5,4.5,4.5,4.5,4.5,4.5,4.5,4.5,4.5,4.5,4.5]
[{"$nulls":3},"max possible opp attacks from reposte per round",{"$f":"IF(E163,0,0.65*E1313/('Base Numbers'!$C$5*'Base Numbers'!$C$6))","v":0},{"$f":"IF(F163,0,0.65*F1313/('Base Numbers'!$C$5*'Base Numbers'!$C$6))","v":0},{"$f":"IF(G163,0,0.65*G1313/('Base Numbers'!$C$5*'Base Numbers'!$C$6))","v":0},{"$f":"IF(H163,0,0.65*H1313/('Base Numbers'!$C$5*'Base Numbers'!$C$6))","v":0},{"$f":"IF(I163,0,0.65*I1313/('Base Numbers'!$C$5*'Base Numbers'!$C$6))","v":0},{"$f":"IF(J163,0,0.65*J1313/('Base Numbers'!$C$5*'Base Numbers'!$C$6))","v":0},{"$f":"IF(K163,0,0.65*K1313/('Base Numbers'!$C$5*'Base Numbers'!$C$6))","v":0},{"$f":"IF(L163,0,0.65*L1313/('Base Numbers'!$C$5*'Base Numbers'!$C$6))","v":0},{"$f":"IF(M163,0,0.65*M1313/('Base Numbers'!$C$5*'Base Numbers'!$C$6))","v":0},{"$f":"IF(N163,0,0.65*N1313/('Base Numbers'!$C$5*'Base Numbers'!$C$6))","v":0},{"$f":"IF(O163,0,0.65*O1313/('Base Numbers'!$C$5*'Base Numbers'!$C$6))","v":0},{"$f":"IF(P163,0,0.65*P1313/('Base Numbers'!$C$5*'Base Numbers'!$C$6))","v":0},{"$f":"IF(Q163,0,0.65*Q1313/('Base Numbers'!$C$5*'Base Numbers'!$C$6))","v":0},{"$f":"IF(R163,0,0.65*R1313/('Base Numbers'!$C$5*'Base Numbers'!$C$6))","v":0},{"$f":"IF(S163,0,0.65*S1313/('Base Numbers'!$C$5*'Base Numbers'!$C$6))","v":0},{"$f":"IF(T163,0,0.65*T1313/('Base Numbers'!$C$5*'Base Numbers'!$C$6))","v":0},{"$f":"IF(U163,0,0.65*U1313/('Base Numbers'!$C$5*'Base Numbers'!$C$6))","v":0},{"$f":"IF(V163,0,0.65*V1313/('Base Numbers'!$C$5*'Base Numbers'!$C$6))","v":0},{"$f":"IF(W163,0,0.65*W1313/('Base Numbers'!$C$5*'Base Numbers'!$C$6))","v":0},{"$f":"IF(X163,0,0.65*X1313/('Base Numbers'!$C$5*'Base Numbers'!$C$6))","v":0},null,"riposte gets priority"]
[{"$nulls":3},"actual riposte opp attacks used per round",{"$f":"E417","v":0},0,0,0,0,0,0,0,0,0,0,0,0,0,0,0,0,0,0,0]
[{"$nulls":3},"battlemaster dice left after riposte",{"$f":"MAX(0,E1313-E1316*'Base Numbers'!$C$5*'Base Numbers'!$C$6)","v":0},{"$f":"MAX(0,F1313-F1316*'Base Numbers'!$C$5*'Base Numbers'!$C$6)","v":0},{"$f":"MAX(0,G1313-G1316*'Base Numbers'!$C$5*'Base Numbers'!$C$6)","v":0},{"$f":"MAX(0,H1313-H1316*'Base Numbers'!$C$5*'Base Numbers'!$C$6)","v":0},{"$f":"MAX(0,I1313-I1316*'Base Numbers'!$C$5*'Base Numbers'!$C$6)","v":0},{"$f":"MAX(0,J1313-J1316*'Base Numbers'!$C$5*'Base Numbers'!$C$6)","v":0},{"$f":"MAX(0,K1313-K1316*'Base Numbers'!$C$5*'Base Numbers'!$C$6)","v":0},{"$f":"MAX(0,L1313-L1316*'Base Numbers'!$C$5*'Base Numbers'!$C$6)","v":12},{"$f":"MAX(0,M1313-M1316*'Base Numbers'!$C$5*'Base Numbers'!$C$6)","v":12},{"$f":"MAX(0,N1313-N1316*'Base Numbers'!$C$5*'Base Numbers'!$C$6)","v":12},{"$f":"MAX(0,O1313-O1316*'Base Numbers'!$C$5*'Base Numbers'!$C$6)","v":12},{"$f":"MAX(0,P1313-P1316*'Base Numbers'!$C$5*'Base Numbers'!$C$6)","v":12},{"$f":"MAX(0,Q1313-Q1316*'Base Numbers'!$C$5*'Base Numbers'!$C$6)","v":12},{"$f":"MAX(0,R1313-R1316*'Base Numbers'!$C$5*'Base Numbers'!$C$6)","v":12},{"$f":"MAX(0,S1313-S1316*'Base Numbers'!$C$5*'Base Numbers'!$C$6)","v":12},{"$f":"MAX(0,T1313-T1316*'Base Numbers'!$C$5*'Base Numbers'!$C$6)","v":12},{"$f":"MAX(0,U1313-U1316*'Base Numbers'!$C$5*'Base Numbers'!$C$6)","v":12},{"$f":"MAX(0,V1313-V1316*'Base Numbers'!$C$5*'Base Numbers'!$C$6)","v":12},{"$f":"MAX(0,W1313-W1316*'Base Numbers'!$C$5*'Base Numbers'!$C$6)","v":12},{"$f":"MAX(0,X1313-X1316*'Base Numbers'!$C$5*'Base Numbers'!$C$6)","v":12},null,"BM dice left over after riposte are used on precision attack"]
[{"$nulls":3},"avg number of misses per round",{"$f":"(E1600+E1601+E1602)*IF(E1592,1-E653,1-E522)","v":0.35},0.25,0.23105700000000007,0.46542925,0.8224499999999999,0.9242254999999999,0.9242254999999999,0.9242254999999999,0.8258000000000001,0.8325,0.8392,0.8888825,0.6921989999999998,0.6988319999999999,0.8035000000000001,0.8102,0.5602072499999999,0.6601249999999999,0.6651499999999999,0.6735250000000002]
[{"$nulls":3},"total misses per day",{"$f":"E1318*'Base Numbers'!$C$5*'Base Numbers'!$C$6","v":5.6},{"$f":"F1318*'Base Numbers'!$C$5*'Base Numbers'!$C$6","v":4},{"$f":"G1318*'Base Numbers'!$C$5*'Base Numbers'!$C$6","v":3.696912000000001},{"$f":"H1318*'Base Numbers'!$C$5*'Base Numbers'!$C$6","v":7.446868},{"$f":"I1318*'Base Numbers'!$C$5*'Base Numbers'!$C$6","v":13.159199999999998},{"$f":"J1318*'Base Numbers'!$C$5*'Base Numbers'!$C$6","v":14.787607999999999},{"$f":"K1318*'Base Numbers'!$C$5*'Base Numbers'!$C$6","v":14.787607999999999},{"$f":"L1318*'Base Numbers'!$C$5*'Base Numbers'!$C$6","v":14.787607999999999},{"$f":"M1318*'Base Numbers'!$C$5*'Base Numbers'!$C$6","v":13.212800000000001},{"$f":"N1318*'Base Numbers'!$C$5*'Base Numbers'!$C$6","v":13.32},{"$f":"O1318*'Base Numbers'!$C$5*'Base Numbers'!$C$6","v":13.4272},{"$f":"P1318*'Base Numbers'!$C$5*'Base Numbers'!$C$6","v":14.22212},{"$f":"Q1318*'Base Numbers'!$C$5*'Base Numbers'!$C$6","v":11.075183999999997},{"$f":"R1318*'Base Numbers'!$C$5*'Base Numbers'!$C$6","v":11.181311999999998},{"$f":"S1318*'Base Numbers'!$C$5*'Base Numbers'!$C$6","v":12.856000000000002},{"$f":"T1318*'Base Numbers'!$C$5*'Base Numbers'!$C$6","v":12.9632},{"$f":"U1318*'Base Numbers'!$C$5*'Base Numbers'!$C$6","v":8.963315999999999},{"$f":"V1318*'Base Numbers'!$C$5*'Base Numbers'!$C$6","v":10.561999999999998},{"$f":"W1318*'Base Numbers'!$C$5*'Base Numbers'!$C$6","v":10.642399999999999},{"$f":"X1318*'Base Numbers'!$C$5*'Base Numbers'!$C$6","v":10.776400000000002}]
[{"$nulls":3},"miss \"size\" for misses",{"$f":"IF(E1319>0,((1-IF(E1592,E653,E522))*20/E1319),0)","v":1.25},1.25,1.25,1.25,0.625,0.6250000000000001,0.6250000000000001,0.6250000000000001,0.625,0.6249999999999999,0.625,0.625,0.625,0.625,0.6249999999999999,0.625,0.625,0.625,0.625,0.625,null,"\"miss size\" is the probability of missing divided by the number of misses"]
[{"$nulls":3},"battlemaster dice used on precision attack",{"$f":"IF(E1320 >0,MIN(E1317,E1319,E1314/E1320),0)","v":0},{"$f":"IF(F1320 >0,MIN(F1317,F1319,F1314/F1320),0)","v":0},0,0,0,0,0,7.199999999999998,7.2,7.200000000000001,7.2,7.2,7.2,7.2,7.200000000000001,7.2,7.2,7.2,7.2,7.2,null,"if miss size is small, then a precision attack BM die is more likely to convert it to a hit"]
[{"$nulls":3},"precision attack conversion prob (assumes used on nearest misses)",{"$f":"IF(E1314>0,MAX(0,1-E1321*E1320/2/(2*E1314-1)),0)","v":0},{"$f":"IF(F1314>0,MAX(0,1-F1321*F1320/2/(2*F1314-1)),0)","v":0},{"$f":"IF(G1314>0,MAX(0,1-G1321*G1320/2/(2*G1314-1)),0)","v":0},0,0,0,0,0.71875,0.71875,0.71875,0.71875,0.71875,0.71875,0.71875,0.71875,0.71875,0.71875,0.71875,0.71875,0.71875]
[{"$nulls":3},"additional precision attack damage per day ",{"$f":"E1322*E1321*(IF(E1592,E656+E658,E571+E573))","v":0},0,0,0,0,0,0,105.75687814453121,110.93187814453124,110.93187814453125,110.93187814453124,110.93187814453124,116.10687814453124,116.10687814453124,116.10687814453127,116.10687814453124,116.10687814453124,116.10687814453124,116.53453125,116.53453125]
[{"$nulls":3},"battlemaster dice left over for trip attack",{"$f":"E1317-E1321","v":0},0,0,0,0,0,0,4.800000000000002,4.8,4.799999999999999,4.8,4.8,4.8,4.8,4.799999999999999,4.8,4.8,4.8,4.8,4.8,null,"BM dice left over after riposte and precision attack are used on Trip attack"]
[{"$nulls":3},"trip attack success prob",{"$f":"1-E437","v":0.5900000000000001},0.5650000000000001,0.525,0.49,0.525,0.5,0.5,0.485,0.52,0.5,0.485,0.47,0.5,0.49,0.48,0.47,0.51,0.5,0.44999999999999996,0.4,null,"   - which at least just adds the die as a damage die"]
[{"$nulls":3},"number of possible trip attacks (adj for pronable targets)",{"$f":"MAX(0,MIN('Caster Tables'!C87*'Base Numbers'!$C$6*'Base Numbers'!$C$5,E1324))","v":0},{"$f":"MAX(0,MIN('Caster Tables'!D87*'Base Numbers'!$C$6*'Base Numbers'!$C$5,F1324))","v":0},{"$f":"MAX(0,MIN('Caster Tables'!E87*'Base Numbers'!$C$6*'Base Numbers'!$C$5,G1324))","v":0},{"$f":"MAX(0,MIN('Caster Tables'!F87*'Base Numbers'!$C$6*'Base Numbers'!$C$5,H1324))","v":0},{"$f":"MAX(0,MIN('Caster Tables'!G87*'Base Numbers'!$C$6*'Base Numbers'!$C$5,I1324))","v":0},{"$f":"MAX(0,MIN('Caster Tables'!H87*'Base Numbers'!$C$6*'Base Numbers'!$C$5,J1324))","v":0},{"$f":"MAX(0,MIN('Caster Tables'!I87*'Base Numbers'!$C$6*'Base Numbers'!$C$5,K1324))","v":0},{"$f":"MAX(0,MIN('Caster Tables'!J87*'Base Numbers'!$C$6*'Base Numbers'!$C$5,L1324))","v":3.594425783338736},{"$f":"MAX(0,MIN('Caster Tables'!K87*'Base Numbers'!$C$6*'Base Numbers'!$C$5,M1324))","v":3.975901259930944},{"$f":"MAX(0,MIN('Caster Tables'!L87*'Base Numbers'!$C$6*'Base Numbers'!$C$5,N1324))","v":4.398134263190064},{"$f":"MAX(0,MIN('Caster Tables'!M87*'Base Numbers'!$C$6*'Base Numbers'!$C$5,O1324))","v":4.8},{"$f":"MAX(0,MIN('Caster Tables'!N87*'Base Numbers'!$C$6*'Base Numbers'!$C$5,P1324))","v":4.8},{"$f":"MAX(0,MIN('Caster Tables'!O87*'Base Numbers'!$C$6*'Base Numbers'!$C$5,Q1324))","v":4.8},{"$f":"MAX(0,MIN('Caster Tables'!P87*'Base Numbers'!$C$6*'Base Numbers'!$C$5,R1324))","v":4.8},{"$f":"MAX(0,MIN('Caster Tables'!Q87*'Base Numbers'!$C$6*'Base Numbers'!$C$5,S1324))","v":4.799999999999999},{"$f":"MAX(0,MIN('Caster Tables'!R87*'Base Numbers'!$C$6*'Base Numbers'!$C$5,T1324))","v":4.8},{"$f":"MAX(0,MIN('Caster Tables'!S87*'Base Numbers'!$C$6*'Base Numbers'!$C$5,U1324))","v":4.8},{"$f":"MAX(0,MIN('Caster Tables'!T87*'Base Numbers'!$C$6*'Base Numbers'!$C$5,V1324))","v":4.8},{"$f":"MAX(0,MIN('Caster Tables'!U87*'Base Numbers'!$C$6*'Base Numbers'!$C$5,W1324))","v":4.8},{"$f":"MAX(0,MIN('Caster Tables'!V87*'Base Numbers'!$C$6*'Base Numbers'!$C$5,X1324))","v":4.8}]
[{"$nulls":3},"advantage gain from prone targets",{"$f":"E1325*E1326/('Base Numbers'!$C$5*'Base Numbers'!$C$6)*E1329","v":0},{"$f":"F1325*F1326/('Base Numbers'!$C$5*'Base Numbers'!$C$6)*F1329","v":0},{"$f":"G1325*G1326/('Base Numbers'!$C$5*'Base Numbers'!$C$6)*G1329","v":0},{"$f":"H1325*H1326/('Base Numbers'!$C$5*'Base Numbers'!$C$6)*H1329","v":0},{"$f":"I1325*I1326/('Base Numbers'!$C$5*'Base Numbers'!$C$6)*I1329","v":0},{"$f":"J1325*J1326/('Base Numbers'!$C$5*'Base Numbers'!$C$6)*J1329","v":0},{"$f":"K1325*K1326/('Base Numbers'!$C$5*'Base Numbers'!$C$6)*K1329","v":0},{"$f":"L1325*L1326/('Base Numbers'!$C$5*'Base Numbers'!$C$6)*L1329","v":0},{"$f":"M1325*M1326/('Base Numbers'!$C$5*'Base Numbers'!$C$6)*M1329","v":0},{"$f":"N1325*N1326/('Base Numbers'!$C$5*'Base Numbers'!$C$6)*N1329","v":0},{"$f":"O1325*O1326/('Base Numbers'!$C$5*'Base Numbers'!$C$6)*O1329","v":0},{"$f":"P1325*P1326/('Base Numbers'!$C$5*'Base Numbers'!$C$6)*P1329","v":0},{"$f":"Q1325*Q1326/('Base Numbers'!$C$5*'Base Numbers'!$C$6)*Q1329","v":0},{"$f":"R1325*R1326/('Base Numbers'!$C$5*'Base Numbers'!$C$6)*R1329","v":0},{"$f":"S1325*S1326/('Base Numbers'!$C$5*'Base Numbers'!$C$6)*S1329","v":0},{"$f":"T1325*T1326/('Base Numbers'!$C$5*'Base Numbers'!$C$6)*T1329","v":0},{"$f":"U1325*U1326/('Base Numbers'!$C$5*'Base Numbers'!$C$6)*U1329","v":0},{"$f":"V1325*V1326/('Base Numbers'!$C$5*'Base Numbers'!$C$6)*V1329","v":0},{"$f":"W1325*W1326/('Base Numbers'!$C$5*'Base Numbers'!$C$6)*W1329","v":0},{"$f":"X1325*X1326/('Base Numbers'!$C$5*'Base Numbers'!$C$6)*X1329","v":0}]
[{"$nulls":3},"total avg advantage",{"$f":"MIN(1,E511+E1327)","v":0},0,0.32830000000000004,0.3417,0.3551,0.3551,0.3551,0.3551,0.34840000000000004,0.335,0.3216,0.42650000000000005,0.4198,0.4064,0.393,0.3796,0.68645,0.67975,0.6697,0.65295]
[{"$nulls":3},"proportion of attacks benefitting from prone",{"$f":"IF(AND(E1326>0,E1592=0,E1600+E379+E1601>0),(E1600+E379+E1601-1*(1-E337))/(E1600+E379+E1601),0)","v":0},0,0,0,0,0,0,0,0,0,0,0,0,0,0,0,0,0,0,0]
[{"$nulls":3},"total damage with increased prone adv",{"$f":"((1-E1328)*E391+E1328*E393)*(E1597+E1598+E1626)/((1-E511)*E391+E511*E393)","v":5.253125000000001},6.995585,7.763531654921093,10.877818560395314,24.677556400456247,22.6272673256625,22.979112548833594,22.979112548833594,26.758954977698437,26.60013835896485,26.44132174023125,25.495271441097657,31.011604585223438,30.847591185975002,28.484053574378905,28.318536955645314,34.2753488322082,32.025985695413084,32.025679340625004,31.817959973437496]
[{"$nulls":3},"damage gain for increased prone adv",{"$f":"IF(E1592,0,ROUND(E1330-E1597-E1598-E1626,4))","v":0},0,0,0,0,0,0,0,0,0,0,0,0,0,0,0,0,0,0,0]
[{"$nulls":3},"total battlemaster dice damage per day",{"$f":"1.25*E1324*E1314+E1323","v":0},{"$f":"1.25*F1324*F1314+F1323","v":0},{"$f":"1.25*G1324*G1314+G1323","v":0},0,0,0,0,132.7568781445312,137.93187814453125,137.93187814453125,137.93187814453125,137.93187814453125,143.10687814453124,143.10687814453124,143.10687814453127,143.10687814453124,143.10687814453124,143.10687814453124,143.53453125,143.53453125,null,"left over dice are just added damage (meancing attack, eg)"]
[{"$nulls":3},"avg battlemaster dice damage per round",{"$f":"E1332/('Base Numbers'!$C$5*'Base Numbers'!$C$6)+E1331","v":0},{"$f":"F1332/('Base Numbers'!$C$5*'Base Numbers'!$C$6)+F1331","v":0},{"$f":"G1332/('Base Numbers'!$C$5*'Base Numbers'!$C$6)+G1331","v":0},{"$f":"H1332/('Base Numbers'!$C$5*'Base Numbers'!$C$6)+H1331","v":0},{"$f":"I1332/('Base Numbers'!$C$5*'Base Numbers'!$C$6)+I1331","v":0},{"$f":"J1332/('Base Numbers'!$C$5*'Base Numbers'!$C$6)+J1331","v":0},{"$f":"K1332/('Base Numbers'!$C$5*'Base Numbers'!$C$6)+K1331","v":0},{"$f":"L1332/('Base Numbers'!$C$5*'Base Numbers'!$C$6)+L1331","v":8.2973048840332},{"$f":"M1332/('Base Numbers'!$C$5*'Base Numbers'!$C$6)+M1331","v":8.620742384033203},{"$f":"N1332/('Base Numbers'!$C$5*'Base Numbers'!$C$6)+N1331","v":8.620742384033203},{"$f":"O1332/('Base Numbers'!$C$5*'Base Numbers'!$C$6)+O1331","v":8.620742384033203},{"$f":"P1332/('Base Numbers'!$C$5*'Base Numbers'!$C$6)+P1331","v":8.620742384033203},{"$f":"Q1332/('Base Numbers'!$C$5*'Base Numbers'!$C$6)+Q1331","v":8.944179884033202},{"$f":"R1332/('Base Numbers'!$C$5*'Base Numbers'!$C$6)+R1331","v":8.944179884033202},{"$f":"S1332/('Base Numbers'!$C$5*'Base Numbers'!$C$6)+S1331","v":8.944179884033204},{"$f":"T1332/('Base Numbers'!$C$5*'Base Numbers'!$C$6)+T1331","v":8.944179884033202},{"$f":"U1332/('Base Numbers'!$C$5*'Base Numbers'!$C$6)+U1331","v":8.944179884033202},{"$f":"V1332/('Base Numbers'!$C$5*'Base Numbers'!$C$6)+V1331","v":8.944179884033202},{"$f":"W1332/('Base Numbers'!$C$5*'Base Numbers'!$C$6)+W1331","v":8.970908203125},{"$f":"X1332/('Base Numbers'!$C$5*'Base Numbers'!$C$6)+X1331","v":8.970908203125}]
[{"$nulls":3},"psi-warrior dice per day",{"$f":"IF(AND(E10>=3,E63),2*E39+1+'Base Numbers'!$C$7,0)","v":0},{"$f":"IF(AND(F10>=3,F63),2*F39+1+'Base Numbers'!$C$7,0)","v":0},{"$f":"IF(AND(G10>=3,G63),2*G39+1+'Base Numbers'!$C$7,0)","v":0},{"$f":"IF(AND(H10>=3,H63),2*H39+1+'Base Numbers'!$C$7,0)","v":0},{"$f":"IF(AND(I10>=3,I63),2*I39+1+'Base Numbers'!$C$7,0)","v":0},{"$f":"IF(AND(J10>=3,J63),2*J39+1+'Base Numbers'!$C$7,0)","v":0},{"$f":"IF(AND(K10>=3,K63),2*K39+1+'Base Numbers'!$C$7,0)","v":0},{"$f":"IF(AND(L10>=3,L63),2*L39+1+'Base Numbers'!$C$7,0)","v":0},{"$f":"IF(AND(M10>=3,M63),2*M39+1+'Base Numbers'!$C$7,0)","v":0},{"$f":"IF(AND(N10>=3,N63),2*N39+1+'Base Numbers'!$C$7,0)","v":0},{"$f":"IF(AND(O10>=3,O63),2*O39+1+'Base Numbers'!$C$7,0)","v":0},{"$f":"IF(AND(P10>=3,P63),2*P39+1+'Base Numbers'!$C$7,0)","v":0},{"$f":"IF(AND(Q10>=3,Q63),2*Q39+1+'Base Numbers'!$C$7,0)","v":0},{"$f":"IF(AND(R10>=3,R63),2*R39+1+'Base Numbers'!$C$7,0)","v":0},{"$f":"IF(AND(S10>=3,S63),2*S39+1+'Base Numbers'!$C$7,0)","v":0},{"$f":"IF(AND(T10>=3,T63),2*T39+1+'Base Numbers'!$C$7,0)","v":0},{"$f":"IF(AND(U10>=3,U63),2*U39+1+'Base Numbers'!$C$7,0)","v":0},{"$f":"IF(AND(V10>=3,V63),2*V39+1+'Base Numbers'!$C$7,0)","v":0},{"$f":"IF(AND(W10>=3,W63),2*W39+1+'Base Numbers'!$C$7,0)","v":0},{"$f":"IF(AND(X10>=3,X63),2*X39+1+'Base Numbers'!$C$7,0)","v":0}]
[{"$nulls":3},"psi-warrior avg dice roll",{"$f":"IF(E10>=3,3.5,0)+IF(E10>=5,1,0)+IF(E10>=11,1,0)+IF(E10>=17,1,0)","v":0},0,0,0,0,0,0,3.5,3.5,3.5,3.5,3.5,3.5,3.5,3.5,3.5,3.5,3.5,3.5,3.5]
[{"$nulls":3},"avg psionic strike dmg per day (incl Int mod)",{"$f":"E1335*(MIN(E1587,E1334))*2+E1335*MAX(0,E1334-E1587)+E1334*E37","v":0},0,0,0,0,0,0,0,0,0,0,0,0,0,0,0,0,0,0,0,null,"assumes use on as many crits as possible"]
[{"$nulls":3},"avg psionic strike dmg per round",{"$f":"E1336/('Base Numbers'!$C$5*'Base Numbers'!$C$6)","v":0},{"$f":"F1336/('Base Numbers'!$C$5*'Base Numbers'!$C$6)","v":0},{"$f":"G1336/('Base Numbers'!$C$5*'Base Numbers'!$C$6)","v":0},{"$f":"H1336/('Base Numbers'!$C$5*'Base Numbers'!$C$6)","v":0},{"$f":"I1336/('Base Numbers'!$C$5*'Base Numbers'!$C$6)","v":0},{"$f":"J1336/('Base Numbers'!$C$5*'Base Numbers'!$C$6)","v":0},{"$f":"K1336/('Base Numbers'!$C$5*'Base Numbers'!$C$6)","v":0},{"$f":"L1336/('Base Numbers'!$C$5*'Base Numbers'!$C$6)","v":0},{"$f":"M1336/('Base Numbers'!$C$5*'Base Numbers'!$C$6)","v":0},{"$f":"N1336/('Base Numbers'!$C$5*'Base Numbers'!$C$6)","v":0},{"$f":"O1336/('Base Numbers'!$C$5*'Base Numbers'!$C$6)","v":0},{"$f":"P1336/('Base Numbers'!$C$5*'Base Numbers'!$C$6)","v":0},{"$f":"Q1336/('Base Numbers'!$C$5*'Base Numbers'!$C$6)","v":0},{"$f":"R1336/('Base Numbers'!$C$5*'Base Numbers'!$C$6)","v":0},{"$f":"S1336/('Base Numbers'!$C$5*'Base Numbers'!$C$6)","v":0},{"$f":"T1336/('Base Numbers'!$C$5*'Base Numbers'!$C$6)","v":0},{"$f":"U1336/('Base Numbers'!$C$5*'Base Numbers'!$C$6)","v":0},{"$f":"V1336/('Base Numbers'!$C$5*'Base Numbers'!$C$6)","v":0},{"$f":"W1336/('Base Numbers'!$C$5*'Base Numbers'!$C$6)","v":0},{"$f":"X1336/('Base Numbers'!$C$5*'Base Numbers'!$C$6)","v":0}]
[{"$nulls":3},"total bonus echo knight attacks",{"$f":"IF(AND(E10>=3,E60),E34,0)","v":0},0,0,0,0,0,0,0,0,0,0,0,0,0,0,0,0,0,0,0]
[{"$nulls":3},"avg echo knight damage per round (echo knight also incr opp atts)",{"$f":"E1338*IF(E163,E668+E663,E590+E591)/('Base Numbers'!$C$6*'Base Numbers'!$C$5)","v":0},{"$f":"F1338*IF(F163,F668+F663,F590+F591)/('Base Numbers'!$C$6*'Base Numbers'!$C$5)","v":0},{"$f":"G1338*IF(G163,G668+G663,G590+G591)/('Base Numbers'!$C$6*'Base Numbers'!$C$5)","v":0},{"$f":"H1338*IF(H163,H668+H663,H590+H591)/('Base Numbers'!$C$6*'Base Numbers'!$C$5)","v":0},{"$f":"I1338*IF(I163,I668+I663,I590+I591)/('Base Numbers'!$C$6*'Base Numbers'!$C$5)","v":0},{"$f":"J1338*IF(J163,J668+J663,J590+J591)/('Base Numbers'!$C$6*'Base Numbers'!$C$5)","v":0},{"$f":"K1338*IF(K163,K668+K663,K590+K591)/('Base Numbers'!$C$6*'Base Numbers'!$C$5)","v":0},{"$f":"L1338*IF(L163,L668+L663,L590+L591)/('Base Numbers'!$C$6*'Base Numbers'!$C$5)","v":0},{"$f":"M1338*IF(M163,M668+M663,M590+M591)/('Base Numbers'!$C$6*'Base Numbers'!$C$5)","v":0},{"$f":"N1338*IF(N163,N668+N663,N590+N591)/('Base Numbers'!$C$6*'Base Numbers'!$C$5)","v":0},{"$f":"O1338*IF(O163,O668+O663,O590+O591)/('Base Numbers'!$C$6*'Base Numbers'!$C$5)","v":0},{"$f":"P1338*IF(P163,P668+P663,P590+P591)/('Base Numbers'!$C$6*'Base Numbers'!$C$5)","v":0},{"$f":"Q1338*IF(Q163,Q668+Q663,Q590+Q591)/('Base Numbers'!$C$6*'Base Numbers'!$C$5)","v":0},{"$f":"R1338*IF(R163,R668+R663,R590+R591)/('Base Numbers'!$C$6*'Base Numbers'!$C$5)","v":0},{"$f":"S1338*IF(S163,S668+S663,S590+S591)/('Base Numbers'!$C$6*'Base Numbers'!$C$5)","v":0},{"$f":"T1338*IF(T163,T668+T663,T590+T591)/('Base Numbers'!$C$6*'Base Numbers'!$C$5)","v":0},{"$f":"U1338*IF(U163,U668+U663,U590+U591)/('Base Numbers'!$C$6*'Base Numbers'!$C$5)","v":0},{"$f":"V1338*IF(V163,V668+V663,V590+V591)/('Base Numbers'!$C$6*'Base Numbers'!$C$5)","v":0},{"$f":"W1338*IF(W163,W668+W663,W590+W591)/('Base Numbers'!$C$6*'Base Numbers'!$C$5)","v":0},{"$f":"X1338*IF(X163,X668+X663,X590+X591)/('Base Numbers'!$C$6*'Base Numbers'!$C$5)","v":0}]
[{"$nulls":3},"total bonus cavalier opportunity attacks",{"$f":"IF(AND(E10>=3,E62),E34,0)","v":0},0,0,0,0,0,0,0,0,0,0,0,0,0,0,0,0,0,0,0]
[{"$nulls":3},"additional cavalier vigilant defender opp atts (L17)",{"$f":"IF(AND(E10>=17,E62),0.75,0)","v":0},0,0,0,0,0,0,0,0,0,0,0,0,0,0,0,0,0,0,0]
[{"$nulls":3},"avg additional cavalier vigiliant defender damage",{"$f":"(E600+E601)*E1341","v":0},0,0,0,0,0,0,0,0,0,0,0,0,0,0,0,0,0,0,0]
[{"$nulls":3},"avg cavalier damage per round",{"$f":"E1342+E1340*IF(E163,0,E590+E591+E10/2)/('Base Numbers'!$C$6*'Base Numbers'!$C$5)","v":0},{"$f":"F1342+F1340*IF(F163,0,F590+F591+F10/2)/('Base Numbers'!$C$6*'Base Numbers'!$C$5)","v":0},{"$f":"G1342+G1340*IF(G163,0,G590+G591+G10/2)/('Base Numbers'!$C$6*'Base Numbers'!$C$5)","v":0},{"$f":"H1342+H1340*IF(H163,0,H590+H591+H10/2)/('Base Numbers'!$C$6*'Base Numbers'!$C$5)","v":0},{"$f":"I1342+I1340*IF(I163,0,I590+I591+I10/2)/('Base Numbers'!$C$6*'Base Numbers'!$C$5)","v":0},{"$f":"J1342+J1340*IF(J163,0,J590+J591+J10/2)/('Base Numbers'!$C$6*'Base Numbers'!$C$5)","v":0},{"$f":"K1342+K1340*IF(K163,0,K590+K591+K10/2)/('Base Numbers'!$C$6*'Base Numbers'!$C$5)","v":0},{"$f":"L1342+L1340*IF(L163,0,L590+L591+L10/2)/('Base Numbers'!$C$6*'Base Numbers'!$C$5)","v":0},{"$f":"M1342+M1340*IF(M163,0,M590+M591+M10/2)/('Base Numbers'!$C$6*'Base Numbers'!$C$5)","v":0},{"$f":"N1342+N1340*IF(N163,0,N590+N591+N10/2)/('Base Numbers'!$C$6*'Base Numbers'!$C$5)","v":0},{"$f":"O1342+O1340*IF(O163,0,O590+O591+O10/2)/('Base Numbers'!$C$6*'Base Numbers'!$C$5)","v":0},{"$f":"P1342+P1340*IF(P163,0,P590+P591+P10/2)/('Base Numbers'!$C$6*'Base Numbers'!$C$5)","v":0},{"$f":"Q1342+Q1340*IF(Q163,0,Q590+Q591+Q10/2)/('Base Numbers'!$C$6*'Base Numbers'!$C$5)","v":0},{"$f":"R1342+R1340*IF(R163,0,R590+R591+R10/2)/('Base Numbers'!$C$6*'Base Numbers'!$C$5)","v":0},{"$f":"S1342+S1340*IF(S163,0,S590+S591+S10/2)/('Base Numbers'!$C$6*'Base Numbers'!$C$5)","v":0},{"$f":"T1342+T1340*IF(T163,0,T590+T591+T10/2)/('Base Numbers'!$C$6*'Base Numbers'!$C$5)","v":0},{"$f":"U1342+U1340*IF(U163,0,U590+U591+U10/2)/('Base Numbers'!$C$6*'Base Numbers'!$C$5)","v":0},{"$f":"V1342+V1340*IF(V163,0,V590+V591+V10/2)/('Base Numbers'!$C$6*'Base Numbers'!$C$5)","v":0},{"$f":"W1342+W1340*IF(W163,0,W590+W591+W10/2)/('Base Numbers'!$C$6*'Base Numbers'!$C$5)","v":0},{"$f":"X1342+X1340*IF(X163,0,X590+X591+X10/2)/('Base Numbers'!$C$6*'Base Numbers'!$C$5)","v":0}]
[{"$nulls":3},"samurai fighting spirit uses",{"$f":"IF(AND(E10>=3,E61),3,0)+IF(AND(E10>=10,E61),'Base Numbers'!$C$5-1,0)","v":0},{"$f":"IF(AND(F10>=3,F61),3,0)+IF(AND(F10>=10,F61),'Base Numbers'!$C$5-1,0)","v":0},{"$f":"IF(AND(G10>=3,G61),3,0)+IF(AND(G10>=10,G61),'Base Numbers'!$C$5-1,0)","v":0},{"$f":"IF(AND(H10>=3,H61),3,0)+IF(AND(H10>=10,H61),'Base Numbers'!$C$5-1,0)","v":0},{"$f":"IF(AND(I10>=3,I61),3,0)+IF(AND(I10>=10,I61),'Base Numbers'!$C$5-1,0)","v":0},{"$f":"IF(AND(J10>=3,J61),3,0)+IF(AND(J10>=10,J61),'Base Numbers'!$C$5-1,0)","v":0},{"$f":"IF(AND(K10>=3,K61),3,0)+IF(AND(K10>=10,K61),'Base Numbers'!$C$5-1,0)","v":0},{"$f":"IF(AND(L10>=3,L61),3,0)+IF(AND(L10>=10,L61),'Base Numbers'!$C$5-1,0)","v":0},{"$f":"IF(AND(M10>=3,M61),3,0)+IF(AND(M10>=10,M61),'Base Numbers'!$C$5-1,0)","v":0},{"$f":"IF(AND(N10>=3,N61),3,0)+IF(AND(N10>=10,N61),'Base Numbers'!$C$5-1,0)","v":0},{"$f":"IF(AND(O10>=3,O61),3,0)+IF(AND(O10>=10,O61),'Base Numbers'!$C$5-1,0)","v":0},{"$f":"IF(AND(P10>=3,P61),3,0)+IF(AND(P10>=10,P61),'Base Numbers'!$C$5-1,0)","v":0},{"$f":"IF(AND(Q10>=3,Q61),3,0)+IF(AND(Q10>=10,Q61),'Base Numbers'!$C$5-1,0)","v":0},{"$f":"IF(AND(R10>=3,R61),3,0)+IF(AND(R10>=10,R61),'Base Numbers'!$C$5-1,0)","v":0},{"$f":"IF(AND(S10>=3,S61),3,0)+IF(AND(S10>=10,S61),'Base Numbers'!$C$5-1,0)","v":0},{"$f":"IF(AND(T10>=3,T61),3,0)+IF(AND(T10>=10,T61),'Base Numbers'!$C$5-1,0)","v":0},{"$f":"IF(AND(U10>=3,U61),3,0)+IF(AND(U10>=10,U61),'Base Numbers'!$C$5-1,0)","v":0},{"$f":"IF(AND(V10>=3,V61),3,0)+IF(AND(V10>=10,V61),'Base Numbers'!$C$5-1,0)","v":0},{"$f":"IF(AND(W10>=3,W61),3,0)+IF(AND(W10>=10,W61),'Base Numbers'!$C$5-1,0)","v":0},{"$f":"IF(AND(X10>=3,X61),3,0)+IF(AND(X10>=10,X61),'Base Numbers'!$C$5-1,0)","v":0}]
[{"$nulls":3},"avg samurai number of Rapid Strike (L15) attacks",{"$f":"IF(AND(E10>=15,E61),IF(E163,E643,E508)*'Base Numbers'!$C$6*'Base Numbers'!$C$5,0)","v":0},{"$f":"IF(AND(F10>=15,F61),IF(F163,F643,F508)*'Base Numbers'!$C$6*'Base Numbers'!$C$5,0)","v":0},{"$f":"IF(AND(G10>=15,G61),IF(G163,G643,G508)*'Base Numbers'!$C$6*'Base Numbers'!$C$5,0)","v":0},{"$f":"IF(AND(H10>=15,H61),IF(H163,H643,H508)*'Base Numbers'!$C$6*'Base Numbers'!$C$5,0)","v":0},{"$f":"IF(AND(I10>=15,I61),IF(I163,I643,I508)*'Base Numbers'!$C$6*'Base Numbers'!$C$5,0)","v":0},{"$f":"IF(AND(J10>=15,J61),IF(J163,J643,J508)*'Base Numbers'!$C$6*'Base Numbers'!$C$5,0)","v":0},{"$f":"IF(AND(K10>=15,K61),IF(K163,K643,K508)*'Base Numbers'!$C$6*'Base Numbers'!$C$5,0)","v":0},{"$f":"IF(AND(L10>=15,L61),IF(L163,L643,L508)*'Base Numbers'!$C$6*'Base Numbers'!$C$5,0)","v":0},{"$f":"IF(AND(M10>=15,M61),IF(M163,M643,M508)*'Base Numbers'!$C$6*'Base Numbers'!$C$5,0)","v":0},{"$f":"IF(AND(N10>=15,N61),IF(N163,N643,N508)*'Base Numbers'!$C$6*'Base Numbers'!$C$5,0)","v":0},{"$f":"IF(AND(O10>=15,O61),IF(O163,O643,O508)*'Base Numbers'!$C$6*'Base Numbers'!$C$5,0)","v":0},{"$f":"IF(AND(P10>=15,P61),IF(P163,P643,P508)*'Base Numbers'!$C$6*'Base Numbers'!$C$5,0)","v":0},{"$f":"IF(AND(Q10>=15,Q61),IF(Q163,Q643,Q508)*'Base Numbers'!$C$6*'Base Numbers'!$C$5,0)","v":0},{"$f":"IF(AND(R10>=15,R61),IF(R163,R643,R508)*'Base Numbers'!$C$6*'Base Numbers'!$C$5,0)","v":0},{"$f":"IF(AND(S10>=15,S61),IF(S163,S643,S508)*'Base Numbers'!$C$6*'Base Numbers'!$C$5,0)","v":0},{"$f":"IF(AND(T10>=15,T61),IF(T163,T643,T508)*'Base Numbers'!$C$6*'Base Numbers'!$C$5,0)","v":0},{"$f":"IF(AND(U10>=15,U61),IF(U163,U643,U508)*'Base Numbers'!$C$6*'Base Numbers'!$C$5,0)","v":0},{"$f":"IF(AND(V10>=15,V61),IF(V163,V643,V508)*'Base Numbers'!$C$6*'Base Numbers'!$C$5,0)","v":0},{"$f":"IF(AND(W10>=15,W61),IF(W163,W643,W508)*'Base Numbers'!$C$6*'Base Numbers'!$C$5,0)","v":0},{"$f":"IF(AND(X10>=15,X61),IF(X163,X643,X508)*'Base Numbers'!$C$6*'Base Numbers'!$C$5,0)","v":0}]
[{"$nulls":3},"total additional attack samurai damage",{"$f":"E1345*IF(E163,(E668+E663)*(1-(E651-E649)),(E590+E591)*(1-E393-E391))","v":0},0,0,0,0,0,0,0,0,0,0,0,0,0,0,0,0,0,0,0]
[{"$nulls":3},"avg samurai additional damage per round",{"$f":"E1346/('Base Numbers'!$C$5*'Base Numbers'!$C$6)","v":0},{"$f":"F1346/('Base Numbers'!$C$5*'Base Numbers'!$C$6)","v":0},{"$f":"G1346/('Base Numbers'!$C$5*'Base Numbers'!$C$6)","v":0},{"$f":"H1346/('Base Numbers'!$C$5*'Base Numbers'!$C$6)","v":0},{"$f":"I1346/('Base Numbers'!$C$5*'Base Numbers'!$C$6)","v":0},{"$f":"J1346/('Base Numbers'!$C$5*'Base Numbers'!$C$6)","v":0},{"$f":"K1346/('Base Numbers'!$C$5*'Base Numbers'!$C$6)","v":0},{"$f":"L1346/('Base Numbers'!$C$5*'Base Numbers'!$C$6)","v":0},{"$f":"M1346/('Base Numbers'!$C$5*'Base Numbers'!$C$6)","v":0},{"$f":"N1346/('Base Numbers'!$C$5*'Base Numbers'!$C$6)","v":0},{"$f":"O1346/('Base Numbers'!$C$5*'Base Numbers'!$C$6)","v":0},{"$f":"P1346/('Base Numbers'!$C$5*'Base Numbers'!$C$6)","v":0},{"$f":"Q1346/('Base Numbers'!$C$5*'Base Numbers'!$C$6)","v":0},{"$f":"R1346/('Base Numbers'!$C$5*'Base Numbers'!$C$6)","v":0},{"$f":"S1346/('Base Numbers'!$C$5*'Base Numbers'!$C$6)","v":0},{"$f":"T1346/('Base Numbers'!$C$5*'Base Numbers'!$C$6)","v":0},{"$f":"U1346/('Base Numbers'!$C$5*'Base Numbers'!$C$6)","v":0},{"$f":"V1346/('Base Numbers'!$C$5*'Base Numbers'!$C$6)","v":0},{"$f":"W1346/('Base Numbers'!$C$5*'Base Numbers'!$C$6)","v":0},{"$f":"X1346/('Base Numbers'!$C$5*'Base Numbers'!$C$6)","v":0}]
[{"$nulls":3},"number of fights with Giant's Mights per day",{"$f":"IF(AND(E10>=3,E64>=1),MIN('Base Numbers'!$C$5,E39),0)","v":0},{"$f":"IF(AND(F10>=3,F64>=1),MIN('Base Numbers'!$C$5,F39),0)","v":0},{"$f":"IF(AND(G10>=3,G64>=1),MIN('Base Numbers'!$C$5,G39),0)","v":0},{"$f":"IF(AND(H10>=3,H64>=1),MIN('Base Numbers'!$C$5,H39),0)","v":0},{"$f":"IF(AND(I10>=3,I64>=1),MIN('Base Numbers'!$C$5,I39),0)","v":0},{"$f":"IF(AND(J10>=3,J64>=1),MIN('Base Numbers'!$C$5,J39),0)","v":0},{"$f":"IF(AND(K10>=3,K64>=1),MIN('Base Numbers'!$C$5,K39),0)","v":0},{"$f":"IF(AND(L10>=3,L64>=1),MIN('Base Numbers'!$C$5,L39),0)","v":0},{"$f":"IF(AND(M10>=3,M64>=1),MIN('Base Numbers'!$C$5,M39),0)","v":0},{"$f":"IF(AND(N10>=3,N64>=1),MIN('Base Numbers'!$C$5,N39),0)","v":0},{"$f":"IF(AND(O10>=3,O64>=1),MIN('Base Numbers'!$C$5,O39),0)","v":0},{"$f":"IF(AND(P10>=3,P64>=1),MIN('Base Numbers'!$C$5,P39),0)","v":0},{"$f":"IF(AND(Q10>=3,Q64>=1),MIN('Base Numbers'!$C$5,Q39),0)","v":0},{"$f":"IF(AND(R10>=3,R64>=1),MIN('Base Numbers'!$C$5,R39),0)","v":0},{"$f":"IF(AND(S10>=3,S64>=1),MIN('Base Numbers'!$C$5,S39),0)","v":0},{"$f":"IF(AND(T10>=3,T64>=1),MIN('Base Numbers'!$C$5,T39),0)","v":0},{"$f":"IF(AND(U10>=3,U64>=1),MIN('Base Numbers'!$C$5,U39),0)","v":0},{"$f":"IF(AND(V10>=3,V64>=1),MIN('Base Numbers'!$C$5,V39),0)","v":0},{"$f":"IF(AND(W10>=3,W64>=1),MIN('Base Numbers'!$C$5,W39),0)","v":0},{"$f":"IF(AND(X10>=3,X64>=1),MIN('Base Numbers'!$C$5,X39),0)","v":0}]
[{"$nulls":3},"avg rune knight Giant's Might damage per hit",{"$f":"IF(AND(E10>=3,E64>=1),3.5+IF(E10>=10,1,0)+IF(E10>=18,1,0),0)","v":0},{"$f":"IF(AND(F10>=3,F64>=1),3.5+IF(F10>=10,1,0)+IF(F10>=18,1,0),0)","v":0},0,0,0,0,0,0,0,0,0,0,0,0,0,0,0,0,0,0]
[{"$nulls":3},"ang Giant's Might damage per round",{"$f":"(E1349*E1614+E533*E1349)*(E1348/'Base Numbers'!$C$5)","v":0},{"$f":"(F1349*F1614+F533*F1349)*(F1348/'Base Numbers'!$C$5)","v":0},{"$f":"(G1349*G1614+G533*G1349)*(G1348/'Base Numbers'!$C$5)","v":0},{"$f":"(H1349*H1614+H533*H1349)*(H1348/'Base Numbers'!$C$5)","v":0},{"$f":"(I1349*I1614+I533*I1349)*(I1348/'Base Numbers'!$C$5)","v":0},{"$f":"(J1349*J1614+J533*J1349)*(J1348/'Base Numbers'!$C$5)","v":0},{"$f":"(K1349*K1614+K533*K1349)*(K1348/'Base Numbers'!$C$5)","v":0},{"$f":"(L1349*L1614+L533*L1349)*(L1348/'Base Numbers'!$C$5)","v":0},{"$f":"(M1349*M1614+M533*M1349)*(M1348/'Base Numbers'!$C$5)","v":0},{"$f":"(N1349*N1614+N533*N1349)*(N1348/'Base Numbers'!$C$5)","v":0},{"$f":"(O1349*O1614+O533*O1349)*(O1348/'Base Numbers'!$C$5)","v":0},{"$f":"(P1349*P1614+P533*P1349)*(P1348/'Base Numbers'!$C$5)","v":0},{"$f":"(Q1349*Q1614+Q533*Q1349)*(Q1348/'Base Numbers'!$C$5)","v":0},{"$f":"(R1349*R1614+R533*R1349)*(R1348/'Base Numbers'!$C$5)","v":0},{"$f":"(S1349*S1614+S533*S1349)*(S1348/'Base Numbers'!$C$5)","v":0},{"$f":"(T1349*T1614+T533*T1349)*(T1348/'Base Numbers'!$C$5)","v":0},{"$f":"(U1349*U1614+U533*U1349)*(U1348/'Base Numbers'!$C$5)","v":0},{"$f":"(V1349*V1614+V533*V1349)*(V1348/'Base Numbers'!$C$5)","v":0},{"$f":"(W1349*W1614+W533*W1349)*(W1348/'Base Numbers'!$C$5)","v":0},{"$f":"(X1349*X1614+X533*X1349)*(X1348/'Base Numbers'!$C$5)","v":0}]
[{"$nulls":3},"avg rune knight's fire rune save prob",{"$f":"1-(8+E39+3-1-'Caster Tables'!C73)/20","v":0.4099999999999999},{"$f":"1-(8+F39+3-1-'Caster Tables'!D$73)/20","v":0.43499999999999994},{"$f":"1-(8+G39+3-1-'Caster Tables'!E$73)/20","v":0.475},{"$f":"1-(8+H39+3-1-'Caster Tables'!F$73)/20","v":0.51},{"$f":"1-(8+I39+3-1-'Caster Tables'!G$73)/20","v":0.475},{"$f":"1-(8+J39+3-1-'Caster Tables'!H$73)/20","v":0.5},{"$f":"1-(8+K39+3-1-'Caster Tables'!I$73)/20","v":0.5},{"$f":"1-(8+L39+3-1-'Caster Tables'!J$73)/20","v":0.515},{"$f":"1-(8+M39+3-1-'Caster Tables'!K$73)/20","v":0.48},{"$f":"1-(8+N39+3-1-'Caster Tables'!L$73)/20","v":0.5},{"$f":"1-(8+O39+3-1-'Caster Tables'!M$73)/20","v":0.515},{"$f":"1-(8+P39+3-1-'Caster Tables'!N$73)/20","v":0.53},{"$f":"1-(8+Q39+3-1-'Caster Tables'!O$73)/20","v":0.5},{"$f":"1-(8+R39+3-1-'Caster Tables'!P$73)/20","v":0.51},{"$f":"1-(8+S39+3-1-'Caster Tables'!Q$73)/20","v":0.52},{"$f":"1-(8+T39+3-1-'Caster Tables'!R$73)/20","v":0.53},{"$f":"1-(8+U39+3-1-'Caster Tables'!S$73)/20","v":0.49},{"$f":"1-(8+V39+3-1-'Caster Tables'!T$73)/20","v":0.5},{"$f":"1-(8+W39+3-1-'Caster Tables'!U$73)/20","v":0.55},{"$f":"1-(8+X39+3-1-'Caster Tables'!V$73)/20","v":0.6}]
[{"$nulls":3},"avg rune knight's fire run duration",{"$f":"IF(AND(E10>=3,E64>=1),E1351+(1-E1351)*E1351*2+(1-E1351)^2*E1351*3,0)","v":0},0,0,0,0,0,0,0,0,0,0,0,0,0,0,0,0,0,0,0]
[{"$nulls":3},"avg rune knight's fire rune damage per day",{"$f":"7*E1352*(1+'Base Numbers'!$C$7)*IF(AND(E10>=15,E64>=1),2,1)","v":0},{"$f":"7*F1352*(1+'Base Numbers'!$C$7)*IF(AND(F10>=15,F64>=1),2,1)","v":0},{"$f":"7*G1352*(1+'Base Numbers'!$C$7)*IF(AND(G10>=15,G64>=1),2,1)","v":0},{"$f":"7*H1352*(1+'Base Numbers'!$C$7)*IF(AND(H10>=15,H64>=1),2,1)","v":0},{"$f":"7*I1352*(1+'Base Numbers'!$C$7)*IF(AND(I10>=15,I64>=1),2,1)","v":0},{"$f":"7*J1352*(1+'Base Numbers'!$C$7)*IF(AND(J10>=15,J64>=1),2,1)","v":0},{"$f":"7*K1352*(1+'Base Numbers'!$C$7)*IF(AND(K10>=15,K64>=1),2,1)","v":0},{"$f":"7*L1352*(1+'Base Numbers'!$C$7)*IF(AND(L10>=15,L64>=1),2,1)","v":0},{"$f":"7*M1352*(1+'Base Numbers'!$C$7)*IF(AND(M10>=15,M64>=1),2,1)","v":0},{"$f":"7*N1352*(1+'Base Numbers'!$C$7)*IF(AND(N10>=15,N64>=1),2,1)","v":0},{"$f":"7*O1352*(1+'Base Numbers'!$C$7)*IF(AND(O10>=15,O64>=1),2,1)","v":0},{"$f":"7*P1352*(1+'Base Numbers'!$C$7)*IF(AND(P10>=15,P64>=1),2,1)","v":0},{"$f":"7*Q1352*(1+'Base Numbers'!$C$7)*IF(AND(Q10>=15,Q64>=1),2,1)","v":0},{"$f":"7*R1352*(1+'Base Numbers'!$C$7)*IF(AND(R10>=15,R64>=1),2,1)","v":0},{"$f":"7*S1352*(1+'Base Numbers'!$C$7)*IF(AND(S10>=15,S64>=1),2,1)","v":0},{"$f":"7*T1352*(1+'Base Numbers'!$C$7)*IF(AND(T10>=15,T64>=1),2,1)","v":0},{"$f":"7*U1352*(1+'Base Numbers'!$C$7)*IF(AND(U10>=15,U64>=1),2,1)","v":0},{"$f":"7*V1352*(1+'Base Numbers'!$C$7)*IF(AND(V10>=15,V64>=1),2,1)","v":0},{"$f":"7*W1352*(1+'Base Numbers'!$C$7)*IF(AND(W10>=15,W64>=1),2,1)","v":0},{"$f":"7*X1352*(1+'Base Numbers'!$C$7)*IF(AND(X10>=15,X64>=1),2,1)","v":0}]
[{"$nulls":3},"avg rune knight's damage per round",{"$f":"E1350+E1353/('Base Numbers'!$C$5*'Base Numbers'!$C$6)","v":0},{"$f":"F1350+F1353/('Base Numbers'!$C$5*'Base Numbers'!$C$6)","v":0},{"$f":"G1350+G1353/('Base Numbers'!$C$5*'Base Numbers'!$C$6)","v":0},{"$f":"H1350+H1353/('Base Numbers'!$C$5*'Base Numbers'!$C$6)","v":0},{"$f":"I1350+I1353/('Base Numbers'!$C$5*'Base Numbers'!$C$6)","v":0},{"$f":"J1350+J1353/('Base Numbers'!$C$5*'Base Numbers'!$C$6)","v":0},{"$f":"K1350+K1353/('Base Numbers'!$C$5*'Base Numbers'!$C$6)","v":0},{"$f":"L1350+L1353/('Base Numbers'!$C$5*'Base Numbers'!$C$6)","v":0},{"$f":"M1350+M1353/('Base Numbers'!$C$5*'Base Numbers'!$C$6)","v":0},{"$f":"N1350+N1353/('Base Numbers'!$C$5*'Base Numbers'!$C$6)","v":0},{"$f":"O1350+O1353/('Base Numbers'!$C$5*'Base Numbers'!$C$6)","v":0},{"$f":"P1350+P1353/('Base Numbers'!$C$5*'Base Numbers'!$C$6)","v":0},{"$f":"Q1350+Q1353/('Base Numbers'!$C$5*'Base Numbers'!$C$6)","v":0},{"$f":"R1350+R1353/('Base Numbers'!$C$5*'Base Numbers'!$C$6)","v":0},{"$f":"S1350+S1353/('Base Numbers'!$C$5*'Base Numbers'!$C$6)","v":0},{"$f":"T1350+T1353/('Base Numbers'!$C$5*'Base Numbers'!$C$6)","v":0},{"$f":"U1350+U1353/('Base Numbers'!$C$5*'Base Numbers'!$C$6)","v":0},{"$f":"V1350+V1353/('Base Numbers'!$C$5*'Base Numbers'!$C$6)","v":0},{"$f":"W1350+W1353/('Base Numbers'!$C$5*'Base Numbers'!$C$6)","v":0},{"$f":"X1350+X1353/('Base Numbers'!$C$5*'Base Numbers'!$C$6)","v":0}]
[{"$nulls":3},"total bonus fighter damage per round",{"$f":"E1337+E1333+E1312+E1339+E1347+E1343+E1354","v":0},0,0,0,0,0,0,8.2973048840332,8.620742384033203,8.620742384033203,8.620742384033203,8.620742384033203,8.944179884033202,8.944179884033202,8.944179884033204,8.944179884033202,8.944179884033202,8.944179884033202,8.970908203125,8.970908203125]
[]
[{"$nulls":3},"WIZARD ABILITIES"]
[{"$nulls":3},"Simulacrum available? (Wiz L13, Sorc L17, Bard L14, Genie Warlock L17)",{"$f":"IF(AND('Base Numbers'!$C$20=0,OR(E15>=13,OR(E13>=17,OR(AND(E12>=17,E52>=1),E14>=14)))),1,0)","v":0},{"$f":"IF(AND('Base Numbers'!$C$20=0,OR(F15>=13,OR(F13>=17,OR(AND(F12>=17,F52>=1),F14>=14)))),1,0)","v":0},{"$f":"IF(AND('Base Numbers'!$C$20=0,OR(G15>=13,OR(G13>=17,OR(AND(G12>=17,G52>=1),G14>=14)))),1,0)","v":0},{"$f":"IF(AND('Base Numbers'!$C$20=0,OR(H15>=13,OR(H13>=17,OR(AND(H12>=17,H52>=1),H14>=14)))),1,0)","v":0},{"$f":"IF(AND('Base Numbers'!$C$20=0,OR(I15>=13,OR(I13>=17,OR(AND(I12>=17,I52>=1),I14>=14)))),1,0)","v":0},{"$f":"IF(AND('Base Numbers'!$C$20=0,OR(J15>=13,OR(J13>=17,OR(AND(J12>=17,J52>=1),J14>=14)))),1,0)","v":0},{"$f":"IF(AND('Base Numbers'!$C$20=0,OR(K15>=13,OR(K13>=17,OR(AND(K12>=17,K52>=1),K14>=14)))),1,0)","v":0},{"$f":"IF(AND('Base Numbers'!$C$20=0,OR(L15>=13,OR(L13>=17,OR(AND(L12>=17,L52>=1),L14>=14)))),1,0)","v":0},{"$f":"IF(AND('Base Numbers'!$C$20=0,OR(M15>=13,OR(M13>=17,OR(AND(M12>=17,M52>=1),M14>=14)))),1,0)","v":0},{"$f":"IF(AND('Base Numbers'!$C$20=0,OR(N15>=13,OR(N13>=17,OR(AND(N12>=17,N52>=1),N14>=14)))),1,0)","v":0},{"$f":"IF(AND('Base Numbers'!$C$20=0,OR(O15>=13,OR(O13>=17,OR(AND(O12>=17,O52>=1),O14>=14)))),1,0)","v":0},{"$f":"IF(AND('Base Numbers'!$C$20=0,OR(P15>=13,OR(P13>=17,OR(AND(P12>=17,P52>=1),P14>=14)))),1,0)","v":0},{"$f":"IF(AND('Base Numbers'!$C$20=0,OR(Q15>=13,OR(Q13>=17,OR(AND(Q12>=17,Q52>=1),Q14>=14)))),1,0)","v":0},{"$f":"IF(AND('Base Numbers'!$C$20=0,OR(R15>=13,OR(R13>=17,OR(AND(R12>=17,R52>=1),R14>=14)))),1,0)","v":0},{"$f":"IF(AND('Base Numbers'!$C$20=0,OR(S15>=13,OR(S13>=17,OR(AND(S12>=17,S52>=1),S14>=14)))),1,0)","v":0},{"$f":"IF(AND('Base Numbers'!$C$20=0,OR(T15>=13,OR(T13>=17,OR(AND(T12>=17,T52>=1),T14>=14)))),1,0)","v":0},{"$f":"IF(AND('Base Numbers'!$C$20=0,OR(U15>=13,OR(U13>=17,OR(AND(U12>=17,U52>=1),U14>=14)))),1,0)","v":0},{"$f":"IF(AND('Base Numbers'!$C$20=0,OR(V15>=13,OR(V13>=17,OR(AND(V12>=17,V52>=1),V14>=14)))),1,0)","v":0},{"$f":"IF(AND('Base Numbers'!$C$20=0,OR(W15>=13,OR(W13>=17,OR(AND(W12>=17,W52>=1),W14>=14)))),1,0)","v":0},{"$f":"IF(AND('Base Numbers'!$C$20=0,OR(X15>=13,OR(X13>=17,OR(AND(X12>=17,X52>=1),X14>=14)))),1,0)","v":0},null,"*Sorcs get access to Simulacrum at L17 with Wish"]
[{"$nulls":3},"percentage of fights with simulacrum",0,0,0,0,0,0,0,0,0,0,0,0,0.2,0.3,0.4,0.5,0.6,0.7,0.8,0.8]
[{"$nulls":3},"simulacrum effectiveness damage discount",{"$f":"0.9-0.05*E12*('Base Numbers'!$C$7)/('Base Numbers'!$C$7+1)","v":0.9},{"$f":"0.9-0.05*F12*('Base Numbers'!$C$7)/('Base Numbers'!$C$7+1)","v":0.9},{"$f":"0.9-0.05*G12*('Base Numbers'!$C$7)/('Base Numbers'!$C$7+1)","v":0.9},{"$f":"0.9-0.05*H12*('Base Numbers'!$C$7)/('Base Numbers'!$C$7+1)","v":0.9},{"$f":"0.9-0.05*I12*('Base Numbers'!$C$7)/('Base Numbers'!$C$7+1)","v":0.9},{"$f":"0.9-0.05*J12*('Base Numbers'!$C$7)/('Base Numbers'!$C$7+1)","v":0.9},{"$f":"0.9-0.05*K12*('Base Numbers'!$C$7)/('Base Numbers'!$C$7+1)","v":0.9},{"$f":"0.9-0.05*L12*('Base Numbers'!$C$7)/('Base Numbers'!$C$7+1)","v":0.9},{"$f":"0.9-0.05*M12*('Base Numbers'!$C$7)/('Base Numbers'!$C$7+1)","v":0.9},{"$f":"0.9-0.05*N12*('Base Numbers'!$C$7)/('Base Numbers'!$C$7+1)","v":0.9},{"$f":"0.9-0.05*O12*('Base Numbers'!$C$7)/('Base Numbers'!$C$7+1)","v":0.9},{"$f":"0.9-0.05*P12*('Base Numbers'!$C$7)/('Base Numbers'!$C$7+1)","v":0.9},{"$f":"0.9-0.05*Q12*('Base Numbers'!$C$7)/('Base Numbers'!$C$7+1)","v":0.9},{"$f":"0.9-0.05*R12*('Base Numbers'!$C$7)/('Base Numbers'!$C$7+1)","v":0.9},{"$f":"0.9-0.05*S12*('Base Numbers'!$C$7)/('Base Numbers'!$C$7+1)","v":0.9},{"$f":"0.9-0.05*T12*('Base Numbers'!$C$7)/('Base Numbers'!$C$7+1)","v":0.9},{"$f":"0.9-0.05*U12*('Base Numbers'!$C$7)/('Base Numbers'!$C$7+1)","v":0.9},{"$f":"0.9-0.05*V12*('Base Numbers'!$C$7)/('Base Numbers'!$C$7+1)","v":0.9},{"$f":"0.9-0.05*W12*('Base Numbers'!$C$7)/('Base Numbers'!$C$7+1)","v":0.9},{"$f":"0.9-0.05*X12*('Base Numbers'!$C$7)/('Base Numbers'!$C$7+1)","v":0.9},null,"Depends on warlock level."]
[{"$nulls":3},"avg bonus simulacrum damage",{"$f":"E1358*E1359*E1360*(SUM(E1625:E1639)+SUM(E1641:E1643))","v":0},0,0,0,0,0,0,0,0,0,0,0,0,0,0,0,0,0,0,0]
[{"$nulls":3},"avg additional tenser's transformation attacks per round if only 1 attack",{"$f":"E356*E291/('Base Numbers'!$C$5*'Base Numbers'!$C$6)","v":0},{"$f":"F356*F291/('Base Numbers'!$C$5*'Base Numbers'!$C$6)","v":0},{"$f":"G356*G291/('Base Numbers'!$C$5*'Base Numbers'!$C$6)","v":0},{"$f":"H356*H291/('Base Numbers'!$C$5*'Base Numbers'!$C$6)","v":0},{"$f":"I356*I291/('Base Numbers'!$C$5*'Base Numbers'!$C$6)","v":0},{"$f":"J356*J291/('Base Numbers'!$C$5*'Base Numbers'!$C$6)","v":0},{"$f":"K356*K291/('Base Numbers'!$C$5*'Base Numbers'!$C$6)","v":0},{"$f":"L356*L291/('Base Numbers'!$C$5*'Base Numbers'!$C$6)","v":0},{"$f":"M356*M291/('Base Numbers'!$C$5*'Base Numbers'!$C$6)","v":0},{"$f":"N356*N291/('Base Numbers'!$C$5*'Base Numbers'!$C$6)","v":0},{"$f":"O356*O291/('Base Numbers'!$C$5*'Base Numbers'!$C$6)","v":0},{"$f":"P356*P291/('Base Numbers'!$C$5*'Base Numbers'!$C$6)","v":0},{"$f":"Q356*Q291/('Base Numbers'!$C$5*'Base Numbers'!$C$6)","v":0},{"$f":"R356*R291/('Base Numbers'!$C$5*'Base Numbers'!$C$6)","v":0},{"$f":"S356*S291/('Base Numbers'!$C$5*'Base Numbers'!$C$6)","v":0},{"$f":"T356*T291/('Base Numbers'!$C$5*'Base Numbers'!$C$6)","v":0},{"$f":"U356*U291/('Base Numbers'!$C$5*'Base Numbers'!$C$6)","v":0},{"$f":"V356*V291/('Base Numbers'!$C$5*'Base Numbers'!$C$6)","v":0},{"$f":"W356*W291/('Base Numbers'!$C$5*'Base Numbers'!$C$6)","v":0},{"$f":"X356*X291/('Base Numbers'!$C$5*'Base Numbers'!$C$6)","v":0}]
[{"$nulls":3},"avg additional tenser's transformation damage per attack",{"$f":"13*E356*E291/('Base Numbers'!$C$5*'Base Numbers'!$C$6)","v":0},{"$f":"13*F356*F291/('Base Numbers'!$C$5*'Base Numbers'!$C$6)","v":0},{"$f":"13*G356*G291/('Base Numbers'!$C$5*'Base Numbers'!$C$6)","v":0},{"$f":"13*H356*H291/('Base Numbers'!$C$5*'Base Numbers'!$C$6)","v":0},{"$f":"13*I356*I291/('Base Numbers'!$C$5*'Base Numbers'!$C$6)","v":0},{"$f":"13*J356*J291/('Base Numbers'!$C$5*'Base Numbers'!$C$6)","v":0},{"$f":"13*K356*K291/('Base Numbers'!$C$5*'Base Numbers'!$C$6)","v":0},{"$f":"13*L356*L291/('Base Numbers'!$C$5*'Base Numbers'!$C$6)","v":0},{"$f":"13*M356*M291/('Base Numbers'!$C$5*'Base Numbers'!$C$6)","v":0},{"$f":"13*N356*N291/('Base Numbers'!$C$5*'Base Numbers'!$C$6)","v":0},{"$f":"13*O356*O291/('Base Numbers'!$C$5*'Base Numbers'!$C$6)","v":0},{"$f":"13*P356*P291/('Base Numbers'!$C$5*'Base Numbers'!$C$6)","v":0},{"$f":"13*Q356*Q291/('Base Numbers'!$C$5*'Base Numbers'!$C$6)","v":0},{"$f":"13*R356*R291/('Base Numbers'!$C$5*'Base Numbers'!$C$6)","v":0},{"$f":"13*S356*S291/('Base Numbers'!$C$5*'Base Numbers'!$C$6)","v":0},{"$f":"13*T356*T291/('Base Numbers'!$C$5*'Base Numbers'!$C$6)","v":0},{"$f":"13*U356*U291/('Base Numbers'!$C$5*'Base Numbers'!$C$6)","v":0},{"$f":"13*V356*V291/('Base Numbers'!$C$5*'Base Numbers'!$C$6)","v":0},{"$f":"13*W356*W291/('Base Numbers'!$C$5*'Base Numbers'!$C$6)","v":0},{"$f":"13*X356*X291/('Base Numbers'!$C$5*'Base Numbers'!$C$6)","v":0}]
[{"$nulls":3},"conjurer unbreakable summons concentration (L10)",{"$f":"IF(AND(E15>=10,E47>=1),1,0)","v":0},0,0,0,0,0,0,0,0,0,0,0,0,0,0,0,0,0,0,0]
[{"$nulls":3},"conjurer durable summons bonus HP (L14)",{"$f":"IF(AND(E15>=14,E47>=1),30,0)","v":0},0,0,0,0,0,0,0,0,0,0,0,0,0,0,0,0,0,0,0]
[{"$nulls":3},"pct of fights with bladesinger active (damage at L14)",{"$f":"IF(OR($B$37,$B$36, $B$35),0,IF(AND(E15>=2,E46),MIN(1,E39/'Base Numbers'!$C$5),0))","v":0},{"$f":"IF(OR($B$37,$B$36, $B$35),0,IF(AND(F15>=2,F46),MIN(1,F39/'Base Numbers'!$C$5),0))","v":0},{"$f":"IF(OR($B$37,$B$36, $B$35),0,IF(AND(G15>=2,G46),MIN(1,G39/'Base Numbers'!$C$5),0))","v":0},{"$f":"IF(OR($B$37,$B$36, $B$35),0,IF(AND(H15>=2,H46),MIN(1,H39/'Base Numbers'!$C$5),0))","v":0},{"$f":"IF(OR($B$37,$B$36, $B$35),0,IF(AND(I15>=2,I46),MIN(1,I39/'Base Numbers'!$C$5),0))","v":0},{"$f":"IF(OR($B$37,$B$36, $B$35),0,IF(AND(J15>=2,J46),MIN(1,J39/'Base Numbers'!$C$5),0))","v":0},{"$f":"IF(OR($B$37,$B$36, $B$35),0,IF(AND(K15>=2,K46),MIN(1,K39/'Base Numbers'!$C$5),0))","v":0},{"$f":"IF(OR($B$37,$B$36, $B$35),0,IF(AND(L15>=2,L46),MIN(1,L39/'Base Numbers'!$C$5),0))","v":0},{"$f":"IF(OR($B$37,$B$36, $B$35),0,IF(AND(M15>=2,M46),MIN(1,M39/'Base Numbers'!$C$5),0))","v":0},{"$f":"IF(OR($B$37,$B$36, $B$35),0,IF(AND(N15>=2,N46),MIN(1,N39/'Base Numbers'!$C$5),0))","v":0},{"$f":"IF(OR($B$37,$B$36, $B$35),0,IF(AND(O15>=2,O46),MIN(1,O39/'Base Numbers'!$C$5),0))","v":0},{"$f":"IF(OR($B$37,$B$36, $B$35),0,IF(AND(P15>=2,P46),MIN(1,P39/'Base Numbers'!$C$5),0))","v":0},{"$f":"IF(OR($B$37,$B$36, $B$35),0,IF(AND(Q15>=2,Q46),MIN(1,Q39/'Base Numbers'!$C$5),0))","v":0},{"$f":"IF(OR($B$37,$B$36, $B$35),0,IF(AND(R15>=2,R46),MIN(1,R39/'Base Numbers'!$C$5),0))","v":0},{"$f":"IF(OR($B$37,$B$36, $B$35),0,IF(AND(S15>=2,S46),MIN(1,S39/'Base Numbers'!$C$5),0))","v":0},{"$f":"IF(OR($B$37,$B$36, $B$35),0,IF(AND(T15>=2,T46),MIN(1,T39/'Base Numbers'!$C$5),0))","v":0},{"$f":"IF(OR($B$37,$B$36, $B$35),0,IF(AND(U15>=2,U46),MIN(1,U39/'Base Numbers'!$C$5),0))","v":0},{"$f":"IF(OR($B$37,$B$36, $B$35),0,IF(AND(V15>=2,V46),MIN(1,V39/'Base Numbers'!$C$5),0))","v":0},{"$f":"IF(OR($B$37,$B$36, $B$35),0,IF(AND(W15>=2,W46),MIN(1,W39/'Base Numbers'!$C$5),0))","v":0},{"$f":"IF(OR($B$37,$B$36, $B$35),0,IF(AND(X15>=2,X46),MIN(1,X39/'Base Numbers'!$C$5),0))","v":0},null,"*bladesinger incompatible with 2 hander attacks"]
[{"$nulls":3},"bladesinger cantrip (BB) with attack action  (included in main attack dmg)",{"$f":"IF(AND(E15>=6,E46),1,0)","v":0},0,0,0,0,0,0,0,0,0,0,0,0,0,0,0,0,0,0,0,null,"This allows Bonus Action offhand-weapon attacks with a BB main action"]
[{"$nulls":3},"evoker overchanneled fireball bonus damage (assume max 2 per day)",{"$f":"MIN(2,'Base Numbers'!$G$21)*IF(AND(E15>=14,E48>=1),'Base Numbers'!$G$20*8*3.5,0)","v":0},{"$f":"MIN(2,'Base Numbers'!$G$21)*IF(AND(F15>=14,F48>=1),'Base Numbers'!$G$20*8*3.5,0)","v":0},{"$f":"MIN(2,'Base Numbers'!$G$21)*IF(AND(G15>=14,G48>=1),'Base Numbers'!$G$20*8*3.5,0)","v":0},{"$f":"MIN(2,'Base Numbers'!$G$21)*IF(AND(H15>=14,H48>=1),'Base Numbers'!$G$20*8*3.5,0)","v":0},{"$f":"MIN(2,'Base Numbers'!$G$21)*IF(AND(I15>=14,I48>=1),'Base Numbers'!$G$20*8*3.5,0)","v":0},{"$f":"MIN(2,'Base Numbers'!$G$21)*IF(AND(J15>=14,J48>=1),'Base Numbers'!$G$20*8*3.5,0)","v":0},{"$f":"MIN(2,'Base Numbers'!$G$21)*IF(AND(K15>=14,K48>=1),'Base Numbers'!$G$20*8*3.5,0)","v":0},{"$f":"MIN(2,'Base Numbers'!$G$21)*IF(AND(L15>=14,L48>=1),'Base Numbers'!$G$20*8*3.5,0)","v":0},{"$f":"MIN(2,'Base Numbers'!$G$21)*IF(AND(M15>=14,M48>=1),'Base Numbers'!$G$20*8*3.5,0)","v":0},{"$f":"MIN(2,'Base Numbers'!$G$21)*IF(AND(N15>=14,N48>=1),'Base Numbers'!$G$20*8*3.5,0)","v":0},{"$f":"MIN(2,'Base Numbers'!$G$21)*IF(AND(O15>=14,O48>=1),'Base Numbers'!$G$20*8*3.5,0)","v":0},{"$f":"MIN(2,'Base Numbers'!$G$21)*IF(AND(P15>=14,P48>=1),'Base Numbers'!$G$20*8*3.5,0)","v":0},{"$f":"MIN(2,'Base Numbers'!$G$21)*IF(AND(Q15>=14,Q48>=1),'Base Numbers'!$G$20*8*3.5,0)","v":0},{"$f":"MIN(2,'Base Numbers'!$G$21)*IF(AND(R15>=14,R48>=1),'Base Numbers'!$G$20*8*3.5,0)","v":0},{"$f":"MIN(2,'Base Numbers'!$G$21)*IF(AND(S15>=14,S48>=1),'Base Numbers'!$G$20*8*3.5,0)","v":0},{"$f":"MIN(2,'Base Numbers'!$G$21)*IF(AND(T15>=14,T48>=1),'Base Numbers'!$G$20*8*3.5,0)","v":0},{"$f":"MIN(2,'Base Numbers'!$G$21)*IF(AND(U15>=14,U48>=1),'Base Numbers'!$G$20*8*3.5,0)","v":0},{"$f":"MIN(2,'Base Numbers'!$G$21)*IF(AND(V15>=14,V48>=1),'Base Numbers'!$G$20*8*3.5,0)","v":0},{"$f":"MIN(2,'Base Numbers'!$G$21)*IF(AND(W15>=14,W48>=1),'Base Numbers'!$G$20*8*3.5,0)","v":0},{"$f":"MIN(2,'Base Numbers'!$G$21)*IF(AND(X15>=14,X48>=1),'Base Numbers'!$G$20*8*3.5,0)","v":0},null,null,"by hiding the BB in the main weapon attack damage scenario"]
[{"$nulls":3},"avg additional evoker damage per round",{"$f":"E1368/('Base Numbers'!$C$5*'Base Numbers'!$C$6)","v":0},{"$f":"F1368/('Base Numbers'!$C$5*'Base Numbers'!$C$6)","v":0},{"$f":"G1368/('Base Numbers'!$C$5*'Base Numbers'!$C$6)","v":0},{"$f":"H1368/('Base Numbers'!$C$5*'Base Numbers'!$C$6)","v":0},{"$f":"I1368/('Base Numbers'!$C$5*'Base Numbers'!$C$6)","v":0},{"$f":"J1368/('Base Numbers'!$C$5*'Base Numbers'!$C$6)","v":0},{"$f":"K1368/('Base Numbers'!$C$5*'Base Numbers'!$C$6)","v":0},{"$f":"L1368/('Base Numbers'!$C$5*'Base Numbers'!$C$6)","v":0},{"$f":"M1368/('Base Numbers'!$C$5*'Base Numbers'!$C$6)","v":0},{"$f":"N1368/('Base Numbers'!$C$5*'Base Numbers'!$C$6)","v":0},{"$f":"O1368/('Base Numbers'!$C$5*'Base Numbers'!$C$6)","v":0},{"$f":"P1368/('Base Numbers'!$C$5*'Base Numbers'!$C$6)","v":0},{"$f":"Q1368/('Base Numbers'!$C$5*'Base Numbers'!$C$6)","v":0},{"$f":"R1368/('Base Numbers'!$C$5*'Base Numbers'!$C$6)","v":0},{"$f":"S1368/('Base Numbers'!$C$5*'Base Numbers'!$C$6)","v":0},{"$f":"T1368/('Base Numbers'!$C$5*'Base Numbers'!$C$6)","v":0},{"$f":"U1368/('Base Numbers'!$C$5*'Base Numbers'!$C$6)","v":0},{"$f":"V1368/('Base Numbers'!$C$5*'Base Numbers'!$C$6)","v":0},{"$f":"W1368/('Base Numbers'!$C$5*'Base Numbers'!$C$6)","v":0},{"$f":"X1368/('Base Numbers'!$C$5*'Base Numbers'!$C$6)","v":0}]
[]
[{"$nulls":3},"WARLOCK DAMAGE"]
[{"$nulls":3},"hexblade curses per day",{"$f":"IF(AND(E50>0,E12>0),1+'Base Numbers'!$C$7,0)","v":0},{"$f":"IF(AND(F50>0,F12>0),1+'Base Numbers'!$C$7,0)","v":0},{"$f":"IF(AND(G50>0,G12>0),1+'Base Numbers'!$C$7,0)","v":0},{"$f":"IF(AND(H50>0,H12>0),1+'Base Numbers'!$C$7,0)","v":0},{"$f":"IF(AND(I50>0,I12>0),1+'Base Numbers'!$C$7,0)","v":0},{"$f":"IF(AND(J50>0,J12>0),1+'Base Numbers'!$C$7,0)","v":0},{"$f":"IF(AND(K50>0,K12>0),1+'Base Numbers'!$C$7,0)","v":0},{"$f":"IF(AND(L50>0,L12>0),1+'Base Numbers'!$C$7,0)","v":0},{"$f":"IF(AND(M50>0,M12>0),1+'Base Numbers'!$C$7,0)","v":0},{"$f":"IF(AND(N50>0,N12>0),1+'Base Numbers'!$C$7,0)","v":0},{"$f":"IF(AND(O50>0,O12>0),1+'Base Numbers'!$C$7,0)","v":0},{"$f":"IF(AND(P50>0,P12>0),1+'Base Numbers'!$C$7,0)","v":0},{"$f":"IF(AND(Q50>0,Q12>0),1+'Base Numbers'!$C$7,0)","v":0},{"$f":"IF(AND(R50>0,R12>0),1+'Base Numbers'!$C$7,0)","v":0},{"$f":"IF(AND(S50>0,S12>0),1+'Base Numbers'!$C$7,0)","v":0},{"$f":"IF(AND(T50>0,T12>0),1+'Base Numbers'!$C$7,0)","v":0},{"$f":"IF(AND(U50>0,U12>0),1+'Base Numbers'!$C$7,0)","v":0},{"$f":"IF(AND(V50>0,V12>0),1+'Base Numbers'!$C$7,0)","v":0},{"$f":"IF(AND(W50>0,W12>0),1+'Base Numbers'!$C$7,0)","v":0},{"$f":"IF(AND(X50>0,X12>0),1+'Base Numbers'!$C$7,0)","v":0}]
[{"$nulls":3},"eldritch smite levels per warlock smite",{"$f":"IF(AND($B$74>0,$B$74<=E6,E12>=5,E54>=1),1+CELL(\"contents\",INDIRECT(ADDRESS(12+E12,12,1,1,\"Caster Tables\"))),0)","v":0},{"$f":"IF(AND($B$74>0,$B$74<=F6,F12>=5,F54>=1),1+CELL(\"contents\",INDIRECT(ADDRESS(12+F12,12,1,1,\"Caster Tables\"))),0)","v":0},{"$f":"IF(AND($B$74>0,$B$74<=G6,G12>=5,G54>=1),1+CELL(\"contents\",INDIRECT(ADDRESS(12+G12,12,1,1,\"Caster Tables\"))),0)","v":0},{"$f":"IF(AND($B$74>0,$B$74<=H6,H12>=5,H54>=1),1+CELL(\"contents\",INDIRECT(ADDRESS(12+H12,12,1,1,\"Caster Tables\"))),0)","v":0},{"$f":"IF(AND($B$74>0,$B$74<=I6,I12>=5,I54>=1),1+CELL(\"contents\",INDIRECT(ADDRESS(12+I12,12,1,1,\"Caster Tables\"))),0)","v":0},{"$f":"IF(AND($B$74>0,$B$74<=J6,J12>=5,J54>=1),1+CELL(\"contents\",INDIRECT(ADDRESS(12+J12,12,1,1,\"Caster Tables\"))),0)","v":0},{"$f":"IF(AND($B$74>0,$B$74<=K6,K12>=5,K54>=1),1+CELL(\"contents\",INDIRECT(ADDRESS(12+K12,12,1,1,\"Caster Tables\"))),0)","v":0},{"$f":"IF(AND($B$74>0,$B$74<=L6,L12>=5,L54>=1),1+CELL(\"contents\",INDIRECT(ADDRESS(12+L12,12,1,1,\"Caster Tables\"))),0)","v":0},{"$f":"IF(AND($B$74>0,$B$74<=M6,M12>=5,M54>=1),1+CELL(\"contents\",INDIRECT(ADDRESS(12+M12,12,1,1,\"Caster Tables\"))),0)","v":0},{"$f":"IF(AND($B$74>0,$B$74<=N6,N12>=5,N54>=1),1+CELL(\"contents\",INDIRECT(ADDRESS(12+N12,12,1,1,\"Caster Tables\"))),0)","v":0},{"$f":"IF(AND($B$74>0,$B$74<=O6,O12>=5,O54>=1),1+CELL(\"contents\",INDIRECT(ADDRESS(12+O12,12,1,1,\"Caster Tables\"))),0)","v":0},{"$f":"IF(AND($B$74>0,$B$74<=P6,P12>=5,P54>=1),1+CELL(\"contents\",INDIRECT(ADDRESS(12+P12,12,1,1,\"Caster Tables\"))),0)","v":0},{"$f":"IF(AND($B$74>0,$B$74<=Q6,Q12>=5,Q54>=1),1+CELL(\"contents\",INDIRECT(ADDRESS(12+Q12,12,1,1,\"Caster Tables\"))),0)","v":0},{"$f":"IF(AND($B$74>0,$B$74<=R6,R12>=5,R54>=1),1+CELL(\"contents\",INDIRECT(ADDRESS(12+R12,12,1,1,\"Caster Tables\"))),0)","v":0},{"$f":"IF(AND($B$74>0,$B$74<=S6,S12>=5,S54>=1),1+CELL(\"contents\",INDIRECT(ADDRESS(12+S12,12,1,1,\"Caster Tables\"))),0)","v":0},{"$f":"IF(AND($B$74>0,$B$74<=T6,T12>=5,T54>=1),1+CELL(\"contents\",INDIRECT(ADDRESS(12+T12,12,1,1,\"Caster Tables\"))),0)","v":0},{"$f":"IF(AND($B$74>0,$B$74<=U6,U12>=5,U54>=1),1+CELL(\"contents\",INDIRECT(ADDRESS(12+U12,12,1,1,\"Caster Tables\"))),0)","v":0},{"$f":"IF(AND($B$74>0,$B$74<=V6,V12>=5,V54>=1),1+CELL(\"contents\",INDIRECT(ADDRESS(12+V12,12,1,1,\"Caster Tables\"))),0)","v":0},{"$f":"IF(AND($B$74>0,$B$74<=W6,W12>=5,W54>=1),1+CELL(\"contents\",INDIRECT(ADDRESS(12+W12,12,1,1,\"Caster Tables\"))),0)","v":0},{"$f":"IF(AND($B$74>0,$B$74<=X6,X12>=5,X54>=1),1+CELL(\"contents\",INDIRECT(ADDRESS(12+X12,12,1,1,\"Caster Tables\"))),0)","v":0},null,"requires pact of the blade and L5"]
[{"$nulls":3},"number of eldlritch smites per day (Warlock L5, knocks prone)",{"$f":"IF(E1373>0,MIN(E332,E331/E1373,E316),0)","v":0},0,0,0,0,0,0,0,0,0,0,0,0,0,0,0,0,0,0,0,null,"min of : (1) number of warlock slots, (2) remianing spell levels/smite dice per level, (3) total remaining slots."]
[{"$nulls":3},"number of spell slot levels for eldritch smites",{"$f":"MIN(E1373*E1374,E331,E314)","v":0},0,0,0,0,0,0,0,0,0,0,0,0,0,0,0,0,0,0,0]
[{"$nulls":3},"number of spell slot levels remaining after eldritch smites",{"$f":"MAX(0,E331-E1375)","v":0},0,0,0,4,4,4,4,4,4,4,4,4,4,4,4,4,4,4.770831803630529,4.770831803630529]
[{"$nulls":3},"number of Eld Smites performed in max Damage Scenario",{"$f":"E1585","v":0},{"$f":"F1585","v":0},0,0,0,0,0,0,0,0,0,0,0,0,0,0,0,0,0,0]
[{"$nulls":3},"number of additional rounds with prone target",{"$f":"MAX(0,MIN((1-'Caster Tables'!C88)*'Base Numbers'!$C$6*'Base Numbers'!$C$5,E1377))","v":0},{"$f":"MAX(0,MIN((1-'Caster Tables'!D88)*'Base Numbers'!$C$6*'Base Numbers'!$C$5,F1377))","v":0},{"$f":"MAX(0,MIN((1-'Caster Tables'!E88)*'Base Numbers'!$C$6*'Base Numbers'!$C$5,G1377))","v":0},{"$f":"MAX(0,MIN((1-'Caster Tables'!F88)*'Base Numbers'!$C$6*'Base Numbers'!$C$5,H1377))","v":0},{"$f":"MAX(0,MIN((1-'Caster Tables'!G88)*'Base Numbers'!$C$6*'Base Numbers'!$C$5,I1377))","v":0},{"$f":"MAX(0,MIN((1-'Caster Tables'!H88)*'Base Numbers'!$C$6*'Base Numbers'!$C$5,J1377))","v":0},{"$f":"MAX(0,MIN((1-'Caster Tables'!I88)*'Base Numbers'!$C$6*'Base Numbers'!$C$5,K1377))","v":0},{"$f":"MAX(0,MIN((1-'Caster Tables'!J88)*'Base Numbers'!$C$6*'Base Numbers'!$C$5,L1377))","v":0},{"$f":"MAX(0,MIN((1-'Caster Tables'!K88)*'Base Numbers'!$C$6*'Base Numbers'!$C$5,M1377))","v":0},{"$f":"MAX(0,MIN((1-'Caster Tables'!L88)*'Base Numbers'!$C$6*'Base Numbers'!$C$5,N1377))","v":0},{"$f":"MAX(0,MIN((1-'Caster Tables'!M88)*'Base Numbers'!$C$6*'Base Numbers'!$C$5,O1377))","v":0},{"$f":"MAX(0,MIN((1-'Caster Tables'!N88)*'Base Numbers'!$C$6*'Base Numbers'!$C$5,P1377))","v":0},{"$f":"MAX(0,MIN((1-'Caster Tables'!O88)*'Base Numbers'!$C$6*'Base Numbers'!$C$5,Q1377))","v":0},{"$f":"MAX(0,MIN((1-'Caster Tables'!P88)*'Base Numbers'!$C$6*'Base Numbers'!$C$5,R1377))","v":0},{"$f":"MAX(0,MIN((1-'Caster Tables'!Q88)*'Base Numbers'!$C$6*'Base Numbers'!$C$5,S1377))","v":0},{"$f":"MAX(0,MIN((1-'Caster Tables'!R88)*'Base Numbers'!$C$6*'Base Numbers'!$C$5,T1377))","v":0},{"$f":"MAX(0,MIN((1-'Caster Tables'!S88)*'Base Numbers'!$C$6*'Base Numbers'!$C$5,U1377))","v":0},{"$f":"MAX(0,MIN((1-'Caster Tables'!T88)*'Base Numbers'!$C$6*'Base Numbers'!$C$5,V1377))","v":0},{"$f":"MAX(0,MIN((1-'Caster Tables'!U88)*'Base Numbers'!$C$6*'Base Numbers'!$C$5,W1377))","v":0},{"$f":"MAX(0,MIN((1-'Caster Tables'!V88)*'Base Numbers'!$C$6*'Base Numbers'!$C$5,X1377))","v":0}]
[{"$nulls":3},"proportion of attacks benefiting from prone",{"$f":"IF(AND(E1377>0,E1592=0,E1600+E379+E1601>0),(E1600+E379+E1601-1*(1-E337))/(E1600+E379+E1601),0)","v":0},0,0,0,0,0,0,0,0,0,0,0,0,0,0,0,0,0,0,0,null,"* subtract avg attacks in rounds when you are attacking"]
[{"$nulls":3},"total adv average (increased by warlock prone smites)",{"$f":"E1378/('Base Numbers'!$C$5*'Base Numbers'!$C$6)*E1379+E511","v":0},{"$f":"F1378/('Base Numbers'!$C$5*'Base Numbers'!$C$6)*F1379+F511","v":0},{"$f":"G1378/('Base Numbers'!$C$5*'Base Numbers'!$C$6)*G1379+G511","v":0.32830000000000004},{"$f":"H1378/('Base Numbers'!$C$5*'Base Numbers'!$C$6)*H1379+H511","v":0.3417},{"$f":"I1378/('Base Numbers'!$C$5*'Base Numbers'!$C$6)*I1379+I511","v":0.3551},{"$f":"J1378/('Base Numbers'!$C$5*'Base Numbers'!$C$6)*J1379+J511","v":0.3551},{"$f":"K1378/('Base Numbers'!$C$5*'Base Numbers'!$C$6)*K1379+K511","v":0.3551},{"$f":"L1378/('Base Numbers'!$C$5*'Base Numbers'!$C$6)*L1379+L511","v":0.3551},{"$f":"M1378/('Base Numbers'!$C$5*'Base Numbers'!$C$6)*M1379+M511","v":0.34840000000000004},{"$f":"N1378/('Base Numbers'!$C$5*'Base Numbers'!$C$6)*N1379+N511","v":0.335},{"$f":"O1378/('Base Numbers'!$C$5*'Base Numbers'!$C$6)*O1379+O511","v":0.3216},{"$f":"P1378/('Base Numbers'!$C$5*'Base Numbers'!$C$6)*P1379+P511","v":0.42650000000000005},{"$f":"Q1378/('Base Numbers'!$C$5*'Base Numbers'!$C$6)*Q1379+Q511","v":0.4198},{"$f":"R1378/('Base Numbers'!$C$5*'Base Numbers'!$C$6)*R1379+R511","v":0.4064},{"$f":"S1378/('Base Numbers'!$C$5*'Base Numbers'!$C$6)*S1379+S511","v":0.393},{"$f":"T1378/('Base Numbers'!$C$5*'Base Numbers'!$C$6)*T1379+T511","v":0.3796},{"$f":"U1378/('Base Numbers'!$C$5*'Base Numbers'!$C$6)*U1379+U511","v":0.68645},{"$f":"V1378/('Base Numbers'!$C$5*'Base Numbers'!$C$6)*V1379+V511","v":0.67975},{"$f":"W1378/('Base Numbers'!$C$5*'Base Numbers'!$C$6)*W1379+W511","v":0.6697},{"$f":"X1378/('Base Numbers'!$C$5*'Base Numbers'!$C$6)*X1379+X511","v":0.65295},null,null,"This equation describes how a change in adv pct increases damage:"]
[{"$nulls":3},"new total damage (main + bonus + haste) with increased adv",{"$f":"((1-E1380)*E391+E1380*E393)*(E1597+E1598+E1626)/((1-E511)*E391+E511*E393)","v":5.253125000000001},6.995585,7.763531654921093,10.877818560395314,24.677556400456247,22.6272673256625,22.979112548833594,22.979112548833594,26.758954977698437,26.60013835896485,26.44132174023125,25.495271441097657,31.011604585223438,30.847591185975002,28.484053574378905,28.318536955645314,34.2753488322082,32.025985695413084,32.025679340625004,31.817959973437496,null,null,"T2 = ((1-a2)h+a2h')*T1/((1-a1)h+a1h')"]
[{"$nulls":3},"damage gain from inc advantage",{"$f":"ROUND(E1381-E1597-E1598-E1626,4)","v":0},0,0,0,0,0,0,0,0,0,0,0,0,0,0,0,0,0,0,0,{"$nulls":3},"T2 = new total damage"]
[{"$nulls":3},"Genie Patron damage bonus once/round",{"$f":"IF(AND(E12>=1,E52>=1),E39,0)","v":0},0,0,0,0,0,0,0,0,0,0,0,0,0,0,0,0,0,0,0,{"$nulls":3},"a2 = new adv pct"]
[{"$nulls":3},"pct of rounds with at least one hit (incl spell hits)",{"$f":"E1614","v":0.65},{"$f":"F1614","v":0.65},0.6787920000000001,0.682008,0.9275234183824376,0.9009160698240001,0.9009160698240001,0.9009160698240001,0.926700393879,0.92504040484375,0.923361829104,0.9114104303999999,0.955122967036,0.953922801664,0.93209154894375,0.9304934231190001,0.9757121801297499,0.9618356913902344,0.9609371457294373,0.9594163362474846,{"$nulls":3},"h = hit chance without adv"]
[{"$nulls":3},"Undead form of Dread uses",{"$f":"IF(AND(E12>=1,E53>=1),E39,0)","v":0},0,0,0,0,0,0,0,0,0,0,0,0,0,0,0,0,0,0,0,{"$nulls":3},"h' = hit chance with adv"]
[{"$nulls":3},"bonus actions used on Form of Dread",{"$f":"MIN(E1385,'Base Numbers'!$C$5)","v":0},{"$f":"MIN(F1385,'Base Numbers'!$C$5)","v":0},{"$f":"MIN(G1385,'Base Numbers'!$C$5)","v":0},{"$f":"MIN(H1385,'Base Numbers'!$C$5)","v":0},{"$f":"MIN(I1385,'Base Numbers'!$C$5)","v":0},{"$f":"MIN(J1385,'Base Numbers'!$C$5)","v":0},{"$f":"MIN(K1385,'Base Numbers'!$C$5)","v":0},{"$f":"MIN(L1385,'Base Numbers'!$C$5)","v":0},{"$f":"MIN(M1385,'Base Numbers'!$C$5)","v":0},{"$f":"MIN(N1385,'Base Numbers'!$C$5)","v":0},{"$f":"MIN(O1385,'Base Numbers'!$C$5)","v":0},{"$f":"MIN(P1385,'Base Numbers'!$C$5)","v":0},{"$f":"MIN(Q1385,'Base Numbers'!$C$5)","v":0},{"$f":"MIN(R1385,'Base Numbers'!$C$5)","v":0},{"$f":"MIN(S1385,'Base Numbers'!$C$5)","v":0},{"$f":"MIN(T1385,'Base Numbers'!$C$5)","v":0},{"$f":"MIN(U1385,'Base Numbers'!$C$5)","v":0},{"$f":"MIN(V1385,'Base Numbers'!$C$5)","v":0},{"$f":"MIN(W1385,'Base Numbers'!$C$5)","v":0},{"$f":"MIN(X1385,'Base Numbers'!$C$5)","v":0},{"$nulls":3},"T1 = old total damage"]
[{"$nulls":3},"Undead form of dread uptime",{"$f":"MIN(1,E1385/'Base Numbers'!$C$5)","v":0},{"$f":"MIN(1,F1385/'Base Numbers'!$C$5)","v":0},{"$f":"MIN(1,G1385/'Base Numbers'!$C$5)","v":0},{"$f":"MIN(1,H1385/'Base Numbers'!$C$5)","v":0},{"$f":"MIN(1,I1385/'Base Numbers'!$C$5)","v":0},{"$f":"MIN(1,J1385/'Base Numbers'!$C$5)","v":0},{"$f":"MIN(1,K1385/'Base Numbers'!$C$5)","v":0},{"$f":"MIN(1,L1385/'Base Numbers'!$C$5)","v":0},{"$f":"MIN(1,M1385/'Base Numbers'!$C$5)","v":0},{"$f":"MIN(1,N1385/'Base Numbers'!$C$5)","v":0},{"$f":"MIN(1,O1385/'Base Numbers'!$C$5)","v":0},{"$f":"MIN(1,P1385/'Base Numbers'!$C$5)","v":0},{"$f":"MIN(1,Q1385/'Base Numbers'!$C$5)","v":0},{"$f":"MIN(1,R1385/'Base Numbers'!$C$5)","v":0},{"$f":"MIN(1,S1385/'Base Numbers'!$C$5)","v":0},{"$f":"MIN(1,T1385/'Base Numbers'!$C$5)","v":0},{"$f":"MIN(1,U1385/'Base Numbers'!$C$5)","v":0},{"$f":"MIN(1,V1385/'Base Numbers'!$C$5)","v":0},{"$f":"MIN(1,W1385/'Base Numbers'!$C$5)","v":0},{"$f":"MIN(1,X1385/'Base Numbers'!$C$5)","v":0},{"$nulls":3},"a1 = old adv pct"]
[{"$nulls":3},"Undead Grave Touched damage die",{"$f":"IF(AND(E12>=6,E53>=1),IF(E1591,5.5,IF(E1592,E656,E370)),0)","v":0},0,0,0,0,0,0,0,0,0,0,0,0,0,0,0,0,0,0,0]
[{"$nulls":3},"Additional avg Grave Touched damage per round",{"$f":"E1384*E1388","v":0},{"$f":"F1384*F1388","v":0},0,0,0,0,0,0,0,0,0,0,0,0,0,0,0,0,0,0]
[{"$nulls":3},"total bonus warlock damage per round",{"$f":"E1383*E1384+E1382+E1389","v":0},{"$f":"F1383*F1384+F1382+F1389","v":0},0,0,0,0,0,0,0,0,0,0,0,0,0,0,0,0,0,0]
[]
[{"$nulls":3},"DRUID DAMAGE"]
[{"$nulls":3},"wild shapes per day",{"$f":"IF(E17>=2,2,0)*(1+'Base Numbers'!$C$7)","v":0},{"$f":"IF(F17>=2,2,0)*(1+'Base Numbers'!$C$7)","v":0},{"$f":"IF(G17>=2,2,0)*(1+'Base Numbers'!$C$7)","v":0},{"$f":"IF(H17>=2,2,0)*(1+'Base Numbers'!$C$7)","v":0},{"$f":"IF(I17>=2,2,0)*(1+'Base Numbers'!$C$7)","v":0},{"$f":"IF(J17>=2,2,0)*(1+'Base Numbers'!$C$7)","v":0},{"$f":"IF(K17>=2,2,0)*(1+'Base Numbers'!$C$7)","v":0},{"$f":"IF(L17>=2,2,0)*(1+'Base Numbers'!$C$7)","v":0},{"$f":"IF(M17>=2,2,0)*(1+'Base Numbers'!$C$7)","v":0},{"$f":"IF(N17>=2,2,0)*(1+'Base Numbers'!$C$7)","v":0},{"$f":"IF(O17>=2,2,0)*(1+'Base Numbers'!$C$7)","v":0},{"$f":"IF(P17>=2,2,0)*(1+'Base Numbers'!$C$7)","v":0},{"$f":"IF(Q17>=2,2,0)*(1+'Base Numbers'!$C$7)","v":0},{"$f":"IF(R17>=2,2,0)*(1+'Base Numbers'!$C$7)","v":0},{"$f":"IF(S17>=2,2,0)*(1+'Base Numbers'!$C$7)","v":0},{"$f":"IF(T17>=2,2,0)*(1+'Base Numbers'!$C$7)","v":0},{"$f":"IF(U17>=2,2,0)*(1+'Base Numbers'!$C$7)","v":0},{"$f":"IF(V17>=2,2,0)*(1+'Base Numbers'!$C$7)","v":0},{"$f":"IF(W17>=2,2,0)*(1+'Base Numbers'!$C$7)","v":0},{"$f":"IF(X17>=2,2,0)*(1+'Base Numbers'!$C$7)","v":0}]
[{"$nulls":3},"Circle of Stars additional Guiding Bolt casts per day",{"$f":"IF(AND(E17>=2,E77),E39,0)","v":0},0,0,0,0,0,0,0,0,0,0,0,0,0,0,0,0,0,0,0]
[{"$nulls":3},"Circle of Stars Archer form uses per day",{"$f":"IF(AND(E17>=2,E77),E1393,0)","v":0},0,0,0,0,0,0,0,0,0,0,0,0,0,0,0,0,0,0,0]
[{"$nulls":3},"Circle of Stars Archer form dice damage per bonus action",{"$f":"IF(AND(E17>=2,E77),(IF(E17>=10,9,4.5)+E582),0)","v":0},0,0,0,0,0,0,0,0,0,0,0,0,0,0,0,0,0,0,0]
[{"$nulls":3},"Circle of Stars Archer form static damage per bonus action",{"$f":"E38+E584","v":3},3,3,3,3,3,3,3,3,3,3,3,3,3,3,3,3,3,3,3]
[{"$nulls":3},"Circle of Stars Archer crit damage",{"$f":"E538*E1396","v":0},0,0,0,0,0,0,0,0,0,0,0,0,0,0,0,0,0,0,0]
[{"$nulls":3},"Circle of Stars Archer damage incl hit chance, per use",{"$f":"E524*(E1396+E1397)+E1398","v":1.9500000000000002},1.9500000000000002,1.7999999999999998,1.7999999999999998,1.9500000000000002,1.7999999999999998,1.7999999999999998,1.7999999999999998,1.7999999999999998,1.7999999999999998,1.7999999999999998,1.6500000000000001,1.7999999999999998,1.7999999999999998,1.6500000000000001,1.6500000000000001,1.7999999999999998,1.6500000000000001,1.6500000000000001,1.6500000000000001]
[{"$nulls":3},"max bonus rounds used",{"$f":"MIN(E1395,'Base Numbers'!$C$5)*'Base Numbers'!$C$6","v":0},{"$f":"MIN(F1395,'Base Numbers'!$C$5)*'Base Numbers'!$C$6","v":0},{"$f":"MIN(G1395,'Base Numbers'!$C$5)*'Base Numbers'!$C$6","v":0},{"$f":"MIN(H1395,'Base Numbers'!$C$5)*'Base Numbers'!$C$6","v":0},{"$f":"MIN(I1395,'Base Numbers'!$C$5)*'Base Numbers'!$C$6","v":0},{"$f":"MIN(J1395,'Base Numbers'!$C$5)*'Base Numbers'!$C$6","v":0},{"$f":"MIN(K1395,'Base Numbers'!$C$5)*'Base Numbers'!$C$6","v":0},{"$f":"MIN(L1395,'Base Numbers'!$C$5)*'Base Numbers'!$C$6","v":0},{"$f":"MIN(M1395,'Base Numbers'!$C$5)*'Base Numbers'!$C$6","v":0},{"$f":"MIN(N1395,'Base Numbers'!$C$5)*'Base Numbers'!$C$6","v":0},{"$f":"MIN(O1395,'Base Numbers'!$C$5)*'Base Numbers'!$C$6","v":0},{"$f":"MIN(P1395,'Base Numbers'!$C$5)*'Base Numbers'!$C$6","v":0},{"$f":"MIN(Q1395,'Base Numbers'!$C$5)*'Base Numbers'!$C$6","v":0},{"$f":"MIN(R1395,'Base Numbers'!$C$5)*'Base Numbers'!$C$6","v":0},{"$f":"MIN(S1395,'Base Numbers'!$C$5)*'Base Numbers'!$C$6","v":0},{"$f":"MIN(T1395,'Base Numbers'!$C$5)*'Base Numbers'!$C$6","v":0},{"$f":"MIN(U1395,'Base Numbers'!$C$5)*'Base Numbers'!$C$6","v":0},{"$f":"MIN(V1395,'Base Numbers'!$C$5)*'Base Numbers'!$C$6","v":0},{"$f":"MIN(W1395,'Base Numbers'!$C$5)*'Base Numbers'!$C$6","v":0},{"$f":"MIN(X1395,'Base Numbers'!$C$5)*'Base Numbers'!$C$6","v":0}]
[{"$nulls":3},"pct  bonus rounds with Circle of Stars Archer",{"$f":"MIN(1,E341*E1400/('Base Numbers'!$C$5*'Base Numbers'!$C$6))","v":0},{"$f":"MIN(1,F341*F1400/('Base Numbers'!$C$5*'Base Numbers'!$C$6))","v":0},{"$f":"MIN(1,G341*G1400/('Base Numbers'!$C$5*'Base Numbers'!$C$6))","v":0},{"$f":"MIN(1,H341*H1400/('Base Numbers'!$C$5*'Base Numbers'!$C$6))","v":0},{"$f":"MIN(1,I341*I1400/('Base Numbers'!$C$5*'Base Numbers'!$C$6))","v":0},{"$f":"MIN(1,J341*J1400/('Base Numbers'!$C$5*'Base Numbers'!$C$6))","v":0},{"$f":"MIN(1,K341*K1400/('Base Numbers'!$C$5*'Base Numbers'!$C$6))","v":0},{"$f":"MIN(1,L341*L1400/('Base Numbers'!$C$5*'Base Numbers'!$C$6))","v":0},{"$f":"MIN(1,M341*M1400/('Base Numbers'!$C$5*'Base Numbers'!$C$6))","v":0},{"$f":"MIN(1,N341*N1400/('Base Numbers'!$C$5*'Base Numbers'!$C$6))","v":0},{"$f":"MIN(1,O341*O1400/('Base Numbers'!$C$5*'Base Numbers'!$C$6))","v":0},{"$f":"MIN(1,P341*P1400/('Base Numbers'!$C$5*'Base Numbers'!$C$6))","v":0},{"$f":"MIN(1,Q341*Q1400/('Base Numbers'!$C$5*'Base Numbers'!$C$6))","v":0},{"$f":"MIN(1,R341*R1400/('Base Numbers'!$C$5*'Base Numbers'!$C$6))","v":0},{"$f":"MIN(1,S341*S1400/('Base Numbers'!$C$5*'Base Numbers'!$C$6))","v":0},{"$f":"MIN(1,T341*T1400/('Base Numbers'!$C$5*'Base Numbers'!$C$6))","v":0},{"$f":"MIN(1,U341*U1400/('Base Numbers'!$C$5*'Base Numbers'!$C$6))","v":0},{"$f":"MIN(1,V341*V1400/('Base Numbers'!$C$5*'Base Numbers'!$C$6))","v":0},{"$f":"MIN(1,W341*W1400/('Base Numbers'!$C$5*'Base Numbers'!$C$6))","v":0},{"$f":"MIN(1,X341*X1400/('Base Numbers'!$C$5*'Base Numbers'!$C$6))","v":0}]
[{"$nulls":3},"Circle of Spores avg damage buff (an action) melee weapon only",{"$f":"IF(AND(E17>=2,E78),3.5,0)*E1393/('Base Numbers'!$C$5)","v":0},{"$f":"IF(AND(F17>=2,F78),3.5,0)*F1393/('Base Numbers'!$C$5)","v":0},{"$f":"IF(AND(G17>=2,G78),3.5,0)*G1393/('Base Numbers'!$C$5)","v":0},{"$f":"IF(AND(H17>=2,H78),3.5,0)*H1393/('Base Numbers'!$C$5)","v":0},{"$f":"IF(AND(I17>=2,I78),3.5,0)*I1393/('Base Numbers'!$C$5)","v":0},{"$f":"IF(AND(J17>=2,J78),3.5,0)*J1393/('Base Numbers'!$C$5)","v":0},{"$f":"IF(AND(K17>=2,K78),3.5,0)*K1393/('Base Numbers'!$C$5)","v":0},{"$f":"IF(AND(L17>=2,L78),3.5,0)*L1393/('Base Numbers'!$C$5)","v":0},{"$f":"IF(AND(M17>=2,M78),3.5,0)*M1393/('Base Numbers'!$C$5)","v":0},{"$f":"IF(AND(N17>=2,N78),3.5,0)*N1393/('Base Numbers'!$C$5)","v":0},{"$f":"IF(AND(O17>=2,O78),3.5,0)*O1393/('Base Numbers'!$C$5)","v":0},{"$f":"IF(AND(P17>=2,P78),3.5,0)*P1393/('Base Numbers'!$C$5)","v":0},{"$f":"IF(AND(Q17>=2,Q78),3.5,0)*Q1393/('Base Numbers'!$C$5)","v":0},{"$f":"IF(AND(R17>=2,R78),3.5,0)*R1393/('Base Numbers'!$C$5)","v":0},{"$f":"IF(AND(S17>=2,S78),3.5,0)*S1393/('Base Numbers'!$C$5)","v":0},{"$f":"IF(AND(T17>=2,T78),3.5,0)*T1393/('Base Numbers'!$C$5)","v":0},{"$f":"IF(AND(U17>=2,U78),3.5,0)*U1393/('Base Numbers'!$C$5)","v":0},{"$f":"IF(AND(V17>=2,V78),3.5,0)*V1393/('Base Numbers'!$C$5)","v":0},{"$f":"IF(AND(W17>=2,W78),3.5,0)*W1393/('Base Numbers'!$C$5)","v":0},{"$f":"IF(AND(X17>=2,X78),3.5,0)*X1393/('Base Numbers'!$C$5)","v":0}]
[{"$nulls":3},"Halo of Spores base reaction damage",{"$f":"IF(AND(E17>=2,E78),3.5,0)+IF(AND(E17>=6,E78),1,0)+IF(AND(E17>=10,E78),1,0)+IF(AND(E17>=14,E78),1,0)","v":0},0,0,0,0,0,0,0,0,0,0,0,0,0,0,0,0,0,0,0]
[{"$nulls":3},"halo of spores opponent save pct (Con save)",{"$f":"(13-E39-E38+'Caster Tables'!C75)/20","v":0.45},{"$f":"(13-F39-F38+'Caster Tables'!D75)/20","v":0.475},{"$f":"(13-G39-G38+'Caster Tables'!E75)/20","v":0.5},{"$f":"(13-H39-H38+'Caster Tables'!F75)/20","v":0.525},{"$f":"(13-I39-I38+'Caster Tables'!G75)/20","v":0.5},{"$f":"(13-J39-J38+'Caster Tables'!H75)/20","v":0.525},{"$f":"(13-K39-K38+'Caster Tables'!I75)/20","v":0.55},{"$f":"(13-L39-L38+'Caster Tables'!J75)/20","v":0.575},{"$f":"(13-M39-M38+'Caster Tables'!K75)/20","v":0.55},{"$f":"(13-N39-N38+'Caster Tables'!L75)/20","v":0.575},{"$f":"(13-O39-O38+'Caster Tables'!M75)/20","v":0.6},{"$f":"(13-P39-P38+'Caster Tables'!N75)/20","v":0.625},{"$f":"(13-Q39-Q38+'Caster Tables'!O75)/20","v":0.6},{"$f":"(13-R39-R38+'Caster Tables'!P75)/20","v":0.65},{"$f":"(13-S39-S38+'Caster Tables'!Q75)/20","v":0.7},{"$f":"(13-T39-T38+'Caster Tables'!R75)/20","v":0.75},{"$f":"(13-U39-U38+'Caster Tables'!S75)/20","v":0.75},{"$f":"(13-V39-V38+'Caster Tables'!T75)/20","v":0.8},{"$f":"(13-W39-W38+'Caster Tables'!U75)/20","v":0.85},{"$f":"(13-X39-X38+'Caster Tables'!V75)/20","v":0.85}]
[{"$nulls":3},"spores temp hp",{"$f":"IF(AND(E17>=2,E78),4*E17,0)","v":0},0,0,0,0,0,0,0,0,0,0,0,0,0,0,0,0,0,0,0]
[{"$nulls":3},"spores uptime in rounds per activation",{"$f":"MIN('Base Numbers'!$C$6,ROUND(E1405/(0.5*'Caster Tables'!C79),2))","v":0},{"$f":"MIN('Base Numbers'!$C$6,ROUND(F1405/(0.5*'Caster Tables'!D79),2))","v":0},{"$f":"MIN('Base Numbers'!$C$6,ROUND(G1405/(0.5*'Caster Tables'!E79),2))","v":0},{"$f":"MIN('Base Numbers'!$C$6,ROUND(H1405/(0.5*'Caster Tables'!F79),2))","v":0},{"$f":"MIN('Base Numbers'!$C$6,ROUND(I1405/(0.5*'Caster Tables'!G79),2))","v":0},{"$f":"MIN('Base Numbers'!$C$6,ROUND(J1405/(0.5*'Caster Tables'!H79),2))","v":0},{"$f":"MIN('Base Numbers'!$C$6,ROUND(K1405/(0.5*'Caster Tables'!I79),2))","v":0},{"$f":"MIN('Base Numbers'!$C$6,ROUND(L1405/(0.5*'Caster Tables'!J79),2))","v":0},{"$f":"MIN('Base Numbers'!$C$6,ROUND(M1405/(0.5*'Caster Tables'!K79),2))","v":0},{"$f":"MIN('Base Numbers'!$C$6,ROUND(N1405/(0.5*'Caster Tables'!L79),2))","v":0},{"$f":"MIN('Base Numbers'!$C$6,ROUND(O1405/(0.5*'Caster Tables'!M79),2))","v":0},{"$f":"MIN('Base Numbers'!$C$6,ROUND(P1405/(0.5*'Caster Tables'!N79),2))","v":0},{"$f":"MIN('Base Numbers'!$C$6,ROUND(Q1405/(0.5*'Caster Tables'!O79),2))","v":0},{"$f":"MIN('Base Numbers'!$C$6,ROUND(R1405/(0.5*'Caster Tables'!P79),2))","v":0},{"$f":"MIN('Base Numbers'!$C$6,ROUND(S1405/(0.5*'Caster Tables'!Q79),2))","v":0},{"$f":"MIN('Base Numbers'!$C$6,ROUND(T1405/(0.5*'Caster Tables'!R79),2))","v":0},{"$f":"MIN('Base Numbers'!$C$6,ROUND(U1405/(0.5*'Caster Tables'!S79),2))","v":0},{"$f":"MIN('Base Numbers'!$C$6,ROUND(V1405/(0.5*'Caster Tables'!T79),2))","v":0},{"$f":"MIN('Base Numbers'!$C$6,ROUND(W1405/(0.5*'Caster Tables'!U79),2))","v":0},{"$f":"MIN('Base Numbers'!$C$6,ROUND(X1405/(0.5*'Caster Tables'!V79),2))","v":0}]
[{"$nulls":3},"spores avg damage per attack incl uptime",{"$f":"E1402*E1406/'Base Numbers'!$C$6","v":0},{"$f":"F1402*F1406/'Base Numbers'!$C$6","v":0},{"$f":"G1402*G1406/'Base Numbers'!$C$6","v":0},{"$f":"H1402*H1406/'Base Numbers'!$C$6","v":0},{"$f":"I1402*I1406/'Base Numbers'!$C$6","v":0},{"$f":"J1402*J1406/'Base Numbers'!$C$6","v":0},{"$f":"K1402*K1406/'Base Numbers'!$C$6","v":0},{"$f":"L1402*L1406/'Base Numbers'!$C$6","v":0},{"$f":"M1402*M1406/'Base Numbers'!$C$6","v":0},{"$f":"N1402*N1406/'Base Numbers'!$C$6","v":0},{"$f":"O1402*O1406/'Base Numbers'!$C$6","v":0},{"$f":"P1402*P1406/'Base Numbers'!$C$6","v":0},{"$f":"Q1402*Q1406/'Base Numbers'!$C$6","v":0},{"$f":"R1402*R1406/'Base Numbers'!$C$6","v":0},{"$f":"S1402*S1406/'Base Numbers'!$C$6","v":0},{"$f":"T1402*T1406/'Base Numbers'!$C$6","v":0},{"$f":"U1402*U1406/'Base Numbers'!$C$6","v":0},{"$f":"V1402*V1406/'Base Numbers'!$C$6","v":0},{"$f":"W1402*W1406/'Base Numbers'!$C$6","v":0},{"$f":"X1402*X1406/'Base Numbers'!$C$6","v":0}]
[{"$nulls":3},"spores avg damage per bonus attack incl uptime",{"$f":"E1402*(E1406+1)/'Base Numbers'!$C$6","v":0},{"$f":"F1402*(F1406+1)/'Base Numbers'!$C$6","v":0},{"$f":"G1402*(G1406+1)/'Base Numbers'!$C$6","v":0},{"$f":"H1402*(H1406+1)/'Base Numbers'!$C$6","v":0},{"$f":"I1402*(I1406+1)/'Base Numbers'!$C$6","v":0},{"$f":"J1402*(J1406+1)/'Base Numbers'!$C$6","v":0},{"$f":"K1402*(K1406+1)/'Base Numbers'!$C$6","v":0},{"$f":"L1402*(L1406+1)/'Base Numbers'!$C$6","v":0},{"$f":"M1402*(M1406+1)/'Base Numbers'!$C$6","v":0},{"$f":"N1402*(N1406+1)/'Base Numbers'!$C$6","v":0},{"$f":"O1402*(O1406+1)/'Base Numbers'!$C$6","v":0},{"$f":"P1402*(P1406+1)/'Base Numbers'!$C$6","v":0},{"$f":"Q1402*(Q1406+1)/'Base Numbers'!$C$6","v":0},{"$f":"R1402*(R1406+1)/'Base Numbers'!$C$6","v":0},{"$f":"S1402*(S1406+1)/'Base Numbers'!$C$6","v":0},{"$f":"T1402*(T1406+1)/'Base Numbers'!$C$6","v":0},{"$f":"U1402*(U1406+1)/'Base Numbers'!$C$6","v":0},{"$f":"V1402*(V1406+1)/'Base Numbers'!$C$6","v":0},{"$f":"W1402*(W1406+1)/'Base Numbers'!$C$6","v":0},{"$f":"X1402*(X1406+1)/'Base Numbers'!$C$6","v":0}]
[{"$nulls":3},"halo of spores damage incl spores uptime",{"$f":"E1403*(1+(E1406+1)/'Base Numbers'!$C$6*E1393/'Base Numbers'!$C$5)","v":0},{"$f":"F1403*(1+(F1406+1)/'Base Numbers'!$C$6*F1393/'Base Numbers'!$C$5)","v":0},{"$f":"G1403*(1+(G1406+1)/'Base Numbers'!$C$6*G1393/'Base Numbers'!$C$5)","v":0},{"$f":"H1403*(1+(H1406+1)/'Base Numbers'!$C$6*H1393/'Base Numbers'!$C$5)","v":0},{"$f":"I1403*(1+(I1406+1)/'Base Numbers'!$C$6*I1393/'Base Numbers'!$C$5)","v":0},{"$f":"J1403*(1+(J1406+1)/'Base Numbers'!$C$6*J1393/'Base Numbers'!$C$5)","v":0},{"$f":"K1403*(1+(K1406+1)/'Base Numbers'!$C$6*K1393/'Base Numbers'!$C$5)","v":0},{"$f":"L1403*(1+(L1406+1)/'Base Numbers'!$C$6*L1393/'Base Numbers'!$C$5)","v":0},{"$f":"M1403*(1+(M1406+1)/'Base Numbers'!$C$6*M1393/'Base Numbers'!$C$5)","v":0},{"$f":"N1403*(1+(N1406+1)/'Base Numbers'!$C$6*N1393/'Base Numbers'!$C$5)","v":0},{"$f":"O1403*(1+(O1406+1)/'Base Numbers'!$C$6*O1393/'Base Numbers'!$C$5)","v":0},{"$f":"P1403*(1+(P1406+1)/'Base Numbers'!$C$6*P1393/'Base Numbers'!$C$5)","v":0},{"$f":"Q1403*(1+(Q1406+1)/'Base Numbers'!$C$6*Q1393/'Base Numbers'!$C$5)","v":0},{"$f":"R1403*(1+(R1406+1)/'Base Numbers'!$C$6*R1393/'Base Numbers'!$C$5)","v":0},{"$f":"S1403*(1+(S1406+1)/'Base Numbers'!$C$6*S1393/'Base Numbers'!$C$5)","v":0},{"$f":"T1403*(1+(T1406+1)/'Base Numbers'!$C$6*T1393/'Base Numbers'!$C$5)","v":0},{"$f":"U1403*(1+(U1406+1)/'Base Numbers'!$C$6*U1393/'Base Numbers'!$C$5)","v":0},{"$f":"V1403*(1+(V1406+1)/'Base Numbers'!$C$6*V1393/'Base Numbers'!$C$5)","v":0},{"$f":"W1403*(1+(W1406+1)/'Base Numbers'!$C$6*W1393/'Base Numbers'!$C$5)","v":0},{"$f":"X1403*(1+(X1406+1)/'Base Numbers'!$C$6*X1393/'Base Numbers'!$C$5)","v":0}]
[{"$nulls":3},"pct reactions available for halo of spores",{"$f":"MAX(0,1-E418)","v":1},1,1,1,1,1,1,1,1,1,1,1,1,1,1,1,1,1,1,1]
[{"$nulls":3},"avg halo of spores damage per turn",{"$f":"E1410*E1409*E1404","v":0},{"$f":"F1410*F1409*F1404","v":0},0,0,0,0,0,0,0,0,0,0,0,0,0,0,0,0,0,0]
[{"$nulls":3},"Mighty Summoner hp per summon (Shepherd) (2 per hit die)",{"$f":"IF(AND(E17>=6,E79>=1),1,0)","v":0},0,0,0,0,0,0,0,0,0,0,0,0,0,0,0,0,0,0,0,null,"* these benefits only apply to Beasts or Fey, not other stuff (undead, demons, etc)"]
[{"$nulls":3},"Mighty Summoner beasts with magical weapons (Shepherd)",{"$f":"IF(AND(E17>=6,E79>=1),1,0)","v":0},0,0,0,0,0,0,0,0,0,0,0,0,0,0,0,0,0,0,0]
[{"$nulls":3},"total summon beast/fey spells per day",{"$f":"E303+E302","v":0},0,0,0,0,0,0,0,0,0,0,0,0,0,0,0,0,0,0,0]
[{"$nulls":3},"Guardian Spirit (shepherd L10) additional HP for summons",{"$f":"IF(AND(E17>=10,E79>=1),IF(E1414>0,MIN((1+'Base Numbers'!$C$7),(1+'Base Numbers'!$C$7)/E1414)*E17*0.5*'Base Numbers'!$C$6,0),0)","v":0},{"$f":"IF(AND(F17>=10,F79>=1),IF(F1414>0,MIN((1+'Base Numbers'!$C$7),(1+'Base Numbers'!$C$7)/F1414)*F17*0.5*'Base Numbers'!$C$6,0),0)","v":0},{"$f":"IF(AND(G17>=10,G79>=1),IF(G1414>0,MIN((1+'Base Numbers'!$C$7),(1+'Base Numbers'!$C$7)/G1414)*G17*0.5*'Base Numbers'!$C$6,0),0)","v":0},{"$f":"IF(AND(H17>=10,H79>=1),IF(H1414>0,MIN((1+'Base Numbers'!$C$7),(1+'Base Numbers'!$C$7)/H1414)*H17*0.5*'Base Numbers'!$C$6,0),0)","v":0},{"$f":"IF(AND(I17>=10,I79>=1),IF(I1414>0,MIN((1+'Base Numbers'!$C$7),(1+'Base Numbers'!$C$7)/I1414)*I17*0.5*'Base Numbers'!$C$6,0),0)","v":0},{"$f":"IF(AND(J17>=10,J79>=1),IF(J1414>0,MIN((1+'Base Numbers'!$C$7),(1+'Base Numbers'!$C$7)/J1414)*J17*0.5*'Base Numbers'!$C$6,0),0)","v":0},{"$f":"IF(AND(K17>=10,K79>=1),IF(K1414>0,MIN((1+'Base Numbers'!$C$7),(1+'Base Numbers'!$C$7)/K1414)*K17*0.5*'Base Numbers'!$C$6,0),0)","v":0},{"$f":"IF(AND(L17>=10,L79>=1),IF(L1414>0,MIN((1+'Base Numbers'!$C$7),(1+'Base Numbers'!$C$7)/L1414)*L17*0.5*'Base Numbers'!$C$6,0),0)","v":0},{"$f":"IF(AND(M17>=10,M79>=1),IF(M1414>0,MIN((1+'Base Numbers'!$C$7),(1+'Base Numbers'!$C$7)/M1414)*M17*0.5*'Base Numbers'!$C$6,0),0)","v":0},{"$f":"IF(AND(N17>=10,N79>=1),IF(N1414>0,MIN((1+'Base Numbers'!$C$7),(1+'Base Numbers'!$C$7)/N1414)*N17*0.5*'Base Numbers'!$C$6,0),0)","v":0},{"$f":"IF(AND(O17>=10,O79>=1),IF(O1414>0,MIN((1+'Base Numbers'!$C$7),(1+'Base Numbers'!$C$7)/O1414)*O17*0.5*'Base Numbers'!$C$6,0),0)","v":0},{"$f":"IF(AND(P17>=10,P79>=1),IF(P1414>0,MIN((1+'Base Numbers'!$C$7),(1+'Base Numbers'!$C$7)/P1414)*P17*0.5*'Base Numbers'!$C$6,0),0)","v":0},{"$f":"IF(AND(Q17>=10,Q79>=1),IF(Q1414>0,MIN((1+'Base Numbers'!$C$7),(1+'Base Numbers'!$C$7)/Q1414)*Q17*0.5*'Base Numbers'!$C$6,0),0)","v":0},{"$f":"IF(AND(R17>=10,R79>=1),IF(R1414>0,MIN((1+'Base Numbers'!$C$7),(1+'Base Numbers'!$C$7)/R1414)*R17*0.5*'Base Numbers'!$C$6,0),0)","v":0},{"$f":"IF(AND(S17>=10,S79>=1),IF(S1414>0,MIN((1+'Base Numbers'!$C$7),(1+'Base Numbers'!$C$7)/S1414)*S17*0.5*'Base Numbers'!$C$6,0),0)","v":0},{"$f":"IF(AND(T17>=10,T79>=1),IF(T1414>0,MIN((1+'Base Numbers'!$C$7),(1+'Base Numbers'!$C$7)/T1414)*T17*0.5*'Base Numbers'!$C$6,0),0)","v":0},{"$f":"IF(AND(U17>=10,U79>=1),IF(U1414>0,MIN((1+'Base Numbers'!$C$7),(1+'Base Numbers'!$C$7)/U1414)*U17*0.5*'Base Numbers'!$C$6,0),0)","v":0},{"$f":"IF(AND(V17>=10,V79>=1),IF(V1414>0,MIN((1+'Base Numbers'!$C$7),(1+'Base Numbers'!$C$7)/V1414)*V17*0.5*'Base Numbers'!$C$6,0),0)","v":0},{"$f":"IF(AND(W17>=10,W79>=1),IF(W1414>0,MIN((1+'Base Numbers'!$C$7),(1+'Base Numbers'!$C$7)/W1414)*W17*0.5*'Base Numbers'!$C$6,0),0)","v":0},{"$f":"IF(AND(X17>=10,X79>=1),IF(X1414>0,MIN((1+'Base Numbers'!$C$7),(1+'Base Numbers'!$C$7)/X1414)*X17*0.5*'Base Numbers'!$C$6,0),0)","v":0},null,"* assumes this only used in conjunction with summon beast/fey spells"]
[{"$nulls":3},"total bonus druid damage per turn",{"$f":"E1411+E1399*E1401","v":0},0,0,0,0,0,0,0,0,0,0,0,0,0,0,0,0,0,0,0]
[]
[{"$nulls":3},"SORCERER DAMAGE"]
[{"$nulls":3},"Remaining Sorc points after Quicken, Smites",{"$f":"MAX(0,E1583)","v":0},{"$f":"MAX(0,F1583)","v":0},0,0,4,4,4,4,4,4,4,4,4,4,4,4,4,4,4.770831803630529,4.770831803630529]
[{"$nulls":3},"avg Empowered Spell damage per Sorc point",{"$f":"IF(E13>=3,(3.5-1.5)*E36,0)","v":0},0,0,0,0,0,0,0,0,0,0,0,0,0,0,0,0,0,0,0]
[{"$nulls":3},"total Empowered Spell damage per day",{"$f":"E1420*E1419/('Base Numbers'!$C$5*'Base Numbers'!$C$6)","v":0},{"$f":"F1420*F1419/('Base Numbers'!$C$5*'Base Numbers'!$C$6)","v":0},{"$f":"G1420*G1419/('Base Numbers'!$C$5*'Base Numbers'!$C$6)","v":0},{"$f":"H1420*H1419/('Base Numbers'!$C$5*'Base Numbers'!$C$6)","v":0},{"$f":"I1420*I1419/('Base Numbers'!$C$5*'Base Numbers'!$C$6)","v":0},{"$f":"J1420*J1419/('Base Numbers'!$C$5*'Base Numbers'!$C$6)","v":0},{"$f":"K1420*K1419/('Base Numbers'!$C$5*'Base Numbers'!$C$6)","v":0},{"$f":"L1420*L1419/('Base Numbers'!$C$5*'Base Numbers'!$C$6)","v":0},{"$f":"M1420*M1419/('Base Numbers'!$C$5*'Base Numbers'!$C$6)","v":0},{"$f":"N1420*N1419/('Base Numbers'!$C$5*'Base Numbers'!$C$6)","v":0},{"$f":"O1420*O1419/('Base Numbers'!$C$5*'Base Numbers'!$C$6)","v":0},{"$f":"P1420*P1419/('Base Numbers'!$C$5*'Base Numbers'!$C$6)","v":0},{"$f":"Q1420*Q1419/('Base Numbers'!$C$5*'Base Numbers'!$C$6)","v":0},{"$f":"R1420*R1419/('Base Numbers'!$C$5*'Base Numbers'!$C$6)","v":0},{"$f":"S1420*S1419/('Base Numbers'!$C$5*'Base Numbers'!$C$6)","v":0},{"$f":"T1420*T1419/('Base Numbers'!$C$5*'Base Numbers'!$C$6)","v":0},{"$f":"U1420*U1419/('Base Numbers'!$C$5*'Base Numbers'!$C$6)","v":0},{"$f":"V1420*V1419/('Base Numbers'!$C$5*'Base Numbers'!$C$6)","v":0},{"$f":"W1420*W1419/('Base Numbers'!$C$5*'Base Numbers'!$C$6)","v":0},{"$f":"X1420*X1419/('Base Numbers'!$C$5*'Base Numbers'!$C$6)","v":0}]
[{"$nulls":3},"total bonus Sorcerer damage",{"$f":"E1421","v":0},{"$f":"F1421","v":0},0,0,0,0,0,0,0,0,0,0,0,0,0,0,0,0,0,0]
[]
[]
[{"$nulls":3},"Damage Scenarios",1,2,3,4,5,6,7,8,9,10,11,12,13,14,15,16,17,18,19,20]
[]
[{"$nulls":3},"Main Attack Scenarios"]
[{"$nulls":3},"(M1) main attack attack action (adj for spells)",{"$f":"IF(E163>0,0,(E592+E593)*(1-E337))","v":0},0,0,0,0,0,0,0,0,0,0,0,0,0,0,0,0,0,0,0,null,"* turned off if ranged is forced"]
[{"$nulls":3},"(M2) main attack BB",{"$f":"IF(E163>0,0,E616*(1-E337))","v":0},0,0,0,0,0,0,0,0,0,0,0,0,0,0,0,0,0,0,0]
[{"$nulls":3},"(M3) main attack melee EB",{"$f":"IF(OR(E164>=1,E163>0),0,(E707)*(1-E337))","v":0},0,0,0,0,0,0,0,0,0,0,0,0,0,0,0,0,0,0,0]
[{"$nulls":3},"(M4) main attack ranged EB",{"$f":"IF(OR(E162>=1,E164>=1),0,(E705)*(1-E337))","v":0},0.7886003124999998,1.2352974999749997,1.2411501275249996,1.7732230046781248,1.6626703400999996,1.8620014663687496,1.8620014663687496,1.8576319487249995,1.8488929134374996,1.8401538781499993,1.7813902516416011,1.9041966591374997,1.8954576238499996,1.7588599262910154,1.7498477961507812,23.172526611328124,22.12203873828125,22.195999999999998,22.195999999999998]
[{"$nulls":3},"(M5) main attack ranged bow",{"$f":"IF(E162>=1,0,E669*(1-E337))","v":5.253125000000001},6.995585,7.763531654921093,10.877818560395314,24.67755640045625,22.6272673256625,22.979112548833594,22.979112548833594,26.758954977698437,26.60013835896485,26.44132174023125,25.495271441097653,31.011604585223438,30.847591185975002,28.484053574378905,28.318536955645314,34.2753488322082,32.025985695413084,32.025679340625004,31.817959973437496]
[]
[{"$nulls":3},"M1 avg main attack action crits per round",{"$f":"E1440*MIN(1,E508*E528+(1-E508)*E527+E542)","v":0},0,0,0,0,0,0,0,0,0,0,0,0,0,0,0,0,0,0,0,null,"* others don't actually include haste crits"]
[{"$nulls":3},"M2 avg main attack action crits per round",{"$f":"E1441*E531","v":0},0,0,0,0,0,0,0,0,0,0,0,0,0,0,0,0,0,0,0]
[{"$nulls":3},"M3 has no smite-qualifying attacks",0,0,0,0,0,0,0,0,0,0,0,0,0,0,0,0,0,0,0,0]
[{"$nulls":3},"M4 has no smite-qualifying attacks",0,0,0,0,0,0,0,0,0,0,0,0,0,0,0,0,0,0,0,0]
[{"$nulls":3},"M5 avg ranged warlock smite-qualifying crits per round (incl haste)",{"$f":"(E643*E661+(1-E643)*E660)*E638","v":0.05},0.05,0.06559425000000002,0.06623075,0.13373450000000003,0.13373450000000003,0.13373450000000003,0.13373450000000003,0.13309800000000002,0.13182500000000003,0.130552,0.14051750000000002,0.13988100000000003,0.13860800000000004,0.13733500000000004,0.13606200000000002,0.16521275000000005,0.16457625000000004,0.16362150000000003,0.16203025000000004,null,"* ranged adv is computed with haste included, so main+haste crits are shown"]
[]
[{"$nulls":3},"M1 avg attacks per round (adj for spells)",{"$f":"IF(E163>0,0,E378*(1-E337))","v":0},0,0,0,0,0,0,0,0,0,0,0,0,0,0,0,0,0,0,0]
[{"$nulls":3},"M2 avg attacks per round",{"$f":"IF(E163>0,0,(1-E337))","v":0},0,0,0,0,0,0,0,0,0,0,0,0,0,0,0,0,0,0,0]
[{"$nulls":3},"M3 avg spell attacks per round (EB)",{"$f":"E1436","v":0},{"$f":"F1436","v":0},0,0,0,0,0,0,0,0,0,0,0,0,0,0,0,0,0,0]
[{"$nulls":3},"M4 avg spell attacks per round (EB)",{"$f":"IF(OR(E162>=1,E164>=1),0,IF(E677,E682,IF(E703,1,0))*(1-E337))","v":0},0,0,0,0,0,0,0,0,0,0,0,0,0,0,0,1,1,1,1]
[{"$nulls":3},"M5 avg attacks per round (ranged bow, adjust for spells, haste)",{"$f":"E637*(1-E337)","v":1},1,1,1,2,2,2,2,2,2,2,2,2,2,2,2,2,2,2,2]
[]
[{"$nulls":3},"Opportunity Attack Scenarios:"]
[{"$nulls":3},"(O1) opp att damage option: melee attack / BB when possible",{"$f":"MAX(E418*(E600+E601),E1448)","v":0},0,0,0,0,0,0,0,0,0,0,0,0,0,0,0,0,0,0,0]
[{"$nulls":3},"(O2) opp att: BB when possible, melee fallback",{"$f":"E617*E419+(E418-E419)*(E600+E601)","v":0},0,0,0,0,0,0,0,0,0,0,0,0,0,0,0,0,0,0,0]
[{"$nulls":3},"(O3) opp att: melee-range EB when possible, melee fallback",{"$f":"E709*E419+(E418-E419)*(E600+E601)","v":0},0,0,0,0,0,0,0,0,0,0,0,0,0,0,0,0,0,0,0]
[]
[{"$nulls":3},"O1/O2 crit rate:",{"$f":"E418*E535","v":0},0,0,0,0,0,0,0,0,0,0,0,0,0,0,0,0,0,0,0]
[{"$nulls":3},"O3 crit rate:",{"$f":"(E418-E419)*E535","v":0},0,0,0,0,0,0,0,0,0,0,0,0,0,0,0,0,0,0,0]
[]
[{"$nulls":3},"(O1), (O2) smite-qualified attacks ",{"$f":"E418","v":0},0,0,0,0,0,0,0,0,0,0,0,0,0,0,0,0,0,0,0]
[{"$nulls":3},"(O3) smite-qualified attacks",{"$f":"(E418-E419)","v":0},0,0,0,0,0,0,0,0,0,0,0,0,0,0,0,0,0,0,0]
[]
[{"$nulls":3},"Bonus Attack Scenarios:"]
[{"$nulls":3},"(B1) weapon-based bonus attack (no Quicken BB or EB)",{"$f":"(E598+E599)*MAX(0,E342)*IF(E382+E381<=1,E381+E382,E381)","v":0},0,0,0,0,0,0,0,0,0,0,0,0,0,0,0,0,0,0,0,null,"* BB is turned off if Ranged is forced"]
[{"$nulls":3},"(B2) weapon-based bonus attack when possible, otherwise Q BB",{"$f":"MAX(0,MIN(E342-E380-E382,E627))*E633+E342*IF(E382+E381<=1,E381+E382,E381)*(E598+E599)","v":0},0,0,0,0,0,0,0,0,0,0,0,0,0,0,0,0,0,0,0]
[{"$nulls":3},"(B3) weapon-based bonus attack when possible, otherwise Q EB",{"$f":"MAX(0,MIN(E342-E380-E382,E627))*E708+E342*IF(E382+E381<=1,E381+E382,E381)*(E598+E599)","v":0},0,0,0,0,0,0,0,0,0,0,0,0,0,0,0,0,0,0,0]
[{"$nulls":3},"(B4) bonus attack Q BB when possible, otherwise weapon attack",{"$f":"E627*E633+MAX(0,IF(E382+E381<=1,E381+E382,E381)*(E342-E627)*(E598+E599))","v":0},0,0,0,0,0,0,0,0,0,0,0,0,0,0,0,0,0,0,0]
[{"$nulls":3},"(B5) bonus attack Q EB when possible, otherwise weapon attack",{"$f":"E627*E708+MAX(0,IF(E382+E381<=1,E381+E382,E381)*(E342-E627)*(E598+E599))","v":0},0,0,0,0,0,0,0,0,0,0,0,0,0,0,0,0,0,0,0]
[{"$nulls":3},"(B6) bonus attack Q BB and GWM bonus melee attacks (with main action BB)",{"$f":"E627*E633+MAX(0,MIN(E382*(E342-E627)))*(E598+E599)","v":0},0,0,0,0,0,0,0,0,0,0,0,0,0,0,0,0,0,0,0]
[{"$nulls":3},"(B7) bonus attack Q EB and GWM bonus melee attacks (with main action BB)",{"$f":"E627*E708+MAX(0,MIN(E382*(E342-E627)))*(E598+E599)","v":0},0,0,0,0,0,0,0,0,0,0,0,0,0,0,0,0,0,0,0]
[{"$nulls":3},"(B8) bonus attack QQ EB melee range (only, with main action EB)",{"$f":"IF(E164>=1,0,E627*(E708))","v":0},0,0,0,0,0,0,0,0,0,0,0,0,0,0,0,0,0,0,0]
[{"$nulls":3},"(B9) bonus attack QQ EB ranged (only, with main action EB)",{"$f":"IF(E164>=1,0,E627*(E706))","v":0},0,0,0,0,0,0,0,0,0,0,0,0,0,0,0,0,0,0,0]
[{"$nulls":3},"(B10) bonus attack QQ EB ranged, or Ranged bonus attack",{"$f":"IF(E162>=1,0,E627*(E706)+MAX(E640-E627,0)*(E670+E671))","v":0},0,0,0,0,0,0,0,0,0,0,0,0,0,0,0,0,0,0,0]
[{"$nulls":3},"(B11) ranged bonus attack (no Quicken BB or EB)",{"$f":"IF(E162>=1,0,E640*(E670+E671))","v":0},0,0,0,0,0,0,0,0,0,0,0,0,0,0,0,0,0,0,0]
[{"$nulls":3},"(B12) bonus attack GWM bons att w Q BB fallback  (with main action BB)",{"$f":"E633*MAX(0,MIN(E627,1-E342*E382))+E342*E382*(E598+E599)","v":0},0,0,0,0,0,0,0,0,0,0,0,0,0,0,0,0,0,0,0]
[{"$nulls":3},"(B13) bonus attack GWM bons att w Q EB fallback  (with main action BB)",{"$f":"(E708)*MAX(0,MIN(E627,1-E342*E382))+E342*E382*(E598+E599)","v":0},0,0,0,0,0,0,0,0,0,0,0,0,0,0,0,0,0,0,0]
[]
[{"$nulls":3},"B1 crits per weapon-based bonus attack",{"$f":"E1486*E$534","v":0},{"$f":"F1486*F$534","v":0},0,0,0,0,0,0,0,0,0,0,0,0,0,0,0,0,0,0]
[{"$nulls":3},"B2 crits per weapon based, with Q BB fallback",{"$f":"E1487*E$534","v":0},0,0,0,0,0,0,0,0,0,0,0,0,0,0,0,0,0,0,0]
[{"$nulls":3},"B3 crits per weapon based, with Q EB fallback",{"$f":"E1488*E$534","v":0},0,0,0,0,0,0,0,0,0,0,0,0,0,0,0,0,0,0,0]
[{"$nulls":3},"B4 crits per Q BB, with weapon fallback",{"$f":"E1489*E$534","v":0},0,0,0,0,0,0,0,0,0,0,0,0,0,0,0,0,0,0,0]
[{"$nulls":3},"B5 crits per Q EB, with weapon fallback",{"$f":"E1490*E$534","v":0},0,0,0,0,0,0,0,0,0,0,0,0,0,0,0,0,0,0,0]
[{"$nulls":3},"B6 & B12 crits per Q BB with GWM attacks (main action BB)",{"$f":"E1491*E$534","v":0},0,0,0,0,0,0,0,0,0,0,0,0,0,0,0,0,0,0,0]
[{"$nulls":3},"B7 & B13 crits per Q EB with GWM attacks (main action BB)",{"$f":"E1492*E$534","v":0},0,0,0,0,0,0,0,0,0,0,0,0,0,0,0,0,0,0,0]
[{"$nulls":3},"B8 & B9 have no smite-qualifying crits",{"$f":"E1493*E$534","v":0},0,0,0,0,0,0,0,0,0,0,0,0,0,0,0,0,0,0,0]
[{"$nulls":3},"B8 & B9 have no smite-qualifying crits",{"$f":"E1494*E$534","v":0},{"$f":"F1494*F$534","v":0},0,0,0,0,0,0,0,0,0,0,0,0,0,0,0,0,0,0]
[{"$nulls":3},"B10 ranged weapon warlock-smite qualifying crits",{"$f":"E1495*E$534","v":0},0,0,0,0,0,0,0,0,0,0,0,0,0,0,0,0,0,0,0]
[{"$nulls":3},"B11 ranged weapon warlock-smite qualifying crits",0,0,0,0,0,0,0,0,0,0,0,0,0,0,0,0,0,0,0,0]
[{"$nulls":3},"B6 & B12 crits per Q BB with GWM attacks (main action BB)",{"$f":"E1491*E$534","v":0},0,0,0,0,0,0,0,0,0,0,0,0,0,0,0,0,0,0,0]
[{"$nulls":3},"B7 & B13 crits per Q EB with GWM attacks (main action BB)",{"$f":"E1492*E$534","v":0},0,0,0,0,0,0,0,0,0,0,0,0,0,0,0,0,0,0,0]
[]
[{"$nulls":3},"B1 attacks per weapon-based bonus attack",{"$f":"E342*IF(E382+E381<=1,E381+E382,E381)","v":0},0,0,0,0,0,0,0,0,0,0,0,0,0,0,0,0,0,0,0]
[{"$nulls":3},"B2 attacks per weapon based, with Q BB fallback",{"$f":"E342*IF(E382+E381<=1,E381+E382,E381)+MAX(0,MIN(E342-E380-E382,E627))","v":0},0,0,0,0,0,0,0,0,0,0,0,0,0,0,0,0,0,0,0]
[{"$nulls":3},"B3 attacks per weapon based, with Q EB fallback",{"$f":"E342*IF(E382+E381<=1,E381+E382,E381)","v":0},0,0,0,0,0,0,0,0,0,0,0,0,0,0,0,0,0,0,0]
[{"$nulls":3},"B4 attacks per Q BB, with weapon fallback",{"$f":"E627+MAX(0,IF(E382+E381<=1,E381+E382,E381)*(E342-E627))","v":0},0,0,0,0,0,0,0,0,0,0,0,0,0,0,0,0,0,0,0]
[{"$nulls":3},"B5 attacks per Q EB, with weapon fallback",{"$f":"MAX(0,IF(E382+E381<=1,E381+E382,E381)*(E342-E627))","v":0},0,0,0,0,0,0,0,0,0,0,0,0,0,0,0,0,0,0,0]
[{"$nulls":3},"B6 attacks per Q BB with GWM attacks (main action BB)",{"$f":"E627+MAX(0,E382*(E342-E627))","v":0},0,0,0,0,0,0,0,0,0,0,0,0,0,0,0,0,0,0,0]
[{"$nulls":3},"B7 attacks per Q EB with GWM attacks (main action BB)",{"$f":"MAX(0,E382*(E342-E627))","v":0},0,0,0,0,0,0,0,0,0,0,0,0,0,0,0,0,0,0,0]
[{"$nulls":3},"B8 & B9 have no smite-qualifying attacks",0,0,0,0,0,0,0,0,0,0,0,0,0,0,0,0,0,0,0,0]
[{"$nulls":3},"B8 & B9 have no smite-qualifying attacks",0,0,0,0,0,0,0,0,0,0,0,0,0,0,0,0,0,0,0,0]
[{"$nulls":3},"B10 ranged weapon bonus attacks",{"$f":"IF(E162>=1,0,MAX(E640-E627,0))","v":0},0,0,0,0,0,0,0,0,0,0,0,0,0,0,0,0,0,0,0]
[{"$nulls":3},"B11 ranged weapon bonus attacks",{"$f":"E640","v":0},0,0,0,0,0,0,0,0,0,0,0,0,0,0,0,0,0,0,0]
[{"$nulls":3},"B12 attacks per Q BB with GWM attacks (main action BB)",{"$f":"MAX(0,MIN(E627,1-E342*E382))+E342*E382","v":0},0,0,0,0,0,0,0,0,0,0,0,0,0,0,0,0,0,0,0]
[{"$nulls":3},"B13 attacks per Q EB with GWM attacks (main action BB)",{"$f":"MAX(0,MIN(E627,1-E342*E382))+E342*E382","v":0},0,0,0,0,0,0,0,0,0,0,0,0,0,0,0,0,0,0,0]
[]
[{"$nulls":3},"B1 & B11 total used sorc points plus spell slots",0,0,0,0,0,0,0,0,0,0,0,0,0,0,0,0,0,0,0,0]
[{"$nulls":3},"B2 & B3 total used sorc points plus spell slots (melee,  Q BB fallback)",{"$f":"MIN(MAX(0,E342*(1-E380-E382)),E627)*2*'Base Numbers'!$C$6*'Base Numbers'!$C$5","v":0},{"$f":"MIN(MAX(0,F342*(1-F380-F382)),F627)*2*'Base Numbers'!$C$6*'Base Numbers'!$C$5","v":0},{"$f":"MIN(MAX(0,G342*(1-G380-G382)),G627)*2*'Base Numbers'!$C$6*'Base Numbers'!$C$5","v":0},{"$f":"MIN(MAX(0,H342*(1-H380-H382)),H627)*2*'Base Numbers'!$C$6*'Base Numbers'!$C$5","v":0},{"$f":"MIN(MAX(0,I342*(1-I380-I382)),I627)*2*'Base Numbers'!$C$6*'Base Numbers'!$C$5","v":0},{"$f":"MIN(MAX(0,J342*(1-J380-J382)),J627)*2*'Base Numbers'!$C$6*'Base Numbers'!$C$5","v":0},{"$f":"MIN(MAX(0,K342*(1-K380-K382)),K627)*2*'Base Numbers'!$C$6*'Base Numbers'!$C$5","v":0},{"$f":"MIN(MAX(0,L342*(1-L380-L382)),L627)*2*'Base Numbers'!$C$6*'Base Numbers'!$C$5","v":0},{"$f":"MIN(MAX(0,M342*(1-M380-M382)),M627)*2*'Base Numbers'!$C$6*'Base Numbers'!$C$5","v":0},{"$f":"MIN(MAX(0,N342*(1-N380-N382)),N627)*2*'Base Numbers'!$C$6*'Base Numbers'!$C$5","v":0},{"$f":"MIN(MAX(0,O342*(1-O380-O382)),O627)*2*'Base Numbers'!$C$6*'Base Numbers'!$C$5","v":0},{"$f":"MIN(MAX(0,P342*(1-P380-P382)),P627)*2*'Base Numbers'!$C$6*'Base Numbers'!$C$5","v":0},{"$f":"MIN(MAX(0,Q342*(1-Q380-Q382)),Q627)*2*'Base Numbers'!$C$6*'Base Numbers'!$C$5","v":0},{"$f":"MIN(MAX(0,R342*(1-R380-R382)),R627)*2*'Base Numbers'!$C$6*'Base Numbers'!$C$5","v":0},{"$f":"MIN(MAX(0,S342*(1-S380-S382)),S627)*2*'Base Numbers'!$C$6*'Base Numbers'!$C$5","v":0},{"$f":"MIN(MAX(0,T342*(1-T380-T382)),T627)*2*'Base Numbers'!$C$6*'Base Numbers'!$C$5","v":0},{"$f":"MIN(MAX(0,U342*(1-U380-U382)),U627)*2*'Base Numbers'!$C$6*'Base Numbers'!$C$5","v":0},{"$f":"MIN(MAX(0,V342*(1-V380-V382)),V627)*2*'Base Numbers'!$C$6*'Base Numbers'!$C$5","v":0},{"$f":"MIN(MAX(0,W342*(1-W380-W382)),W627)*2*'Base Numbers'!$C$6*'Base Numbers'!$C$5","v":0},{"$f":"MIN(MAX(0,X342*(1-X380-X382)),X627)*2*'Base Numbers'!$C$6*'Base Numbers'!$C$5","v":0}]
[{"$nulls":3},"B4-B10 total used sorc points plus spell slots  (Q BB, melee fallback)",{"$f":"E627*2*'Base Numbers'!$C$6*'Base Numbers'!$C$5","v":0},{"$f":"F627*2*'Base Numbers'!$C$6*'Base Numbers'!$C$5","v":0},{"$f":"G627*2*'Base Numbers'!$C$6*'Base Numbers'!$C$5","v":0},{"$f":"H627*2*'Base Numbers'!$C$6*'Base Numbers'!$C$5","v":0},{"$f":"I627*2*'Base Numbers'!$C$6*'Base Numbers'!$C$5","v":0},{"$f":"J627*2*'Base Numbers'!$C$6*'Base Numbers'!$C$5","v":0},{"$f":"K627*2*'Base Numbers'!$C$6*'Base Numbers'!$C$5","v":0},{"$f":"L627*2*'Base Numbers'!$C$6*'Base Numbers'!$C$5","v":0},{"$f":"M627*2*'Base Numbers'!$C$6*'Base Numbers'!$C$5","v":0},{"$f":"N627*2*'Base Numbers'!$C$6*'Base Numbers'!$C$5","v":0},{"$f":"O627*2*'Base Numbers'!$C$6*'Base Numbers'!$C$5","v":0},{"$f":"P627*2*'Base Numbers'!$C$6*'Base Numbers'!$C$5","v":0},{"$f":"Q627*2*'Base Numbers'!$C$6*'Base Numbers'!$C$5","v":0},{"$f":"R627*2*'Base Numbers'!$C$6*'Base Numbers'!$C$5","v":0},{"$f":"S627*2*'Base Numbers'!$C$6*'Base Numbers'!$C$5","v":0},{"$f":"T627*2*'Base Numbers'!$C$6*'Base Numbers'!$C$5","v":0},{"$f":"U627*2*'Base Numbers'!$C$6*'Base Numbers'!$C$5","v":0},{"$f":"V627*2*'Base Numbers'!$C$6*'Base Numbers'!$C$5","v":0},{"$f":"W627*2*'Base Numbers'!$C$6*'Base Numbers'!$C$5","v":0},{"$f":"X627*2*'Base Numbers'!$C$6*'Base Numbers'!$C$5","v":0}]
[{"$nulls":3},"B12 & B13 total used sorc points plus spell slots (GWM, Q BB fallback)",{"$f":"MIN(E627,MAX(0,E342*(1-E382)))*2*'Base Numbers'!$C$6*'Base Numbers'!$C$5","v":0},{"$f":"MIN(F627,MAX(0,F342*(1-F382)))*2*'Base Numbers'!$C$6*'Base Numbers'!$C$5","v":0},{"$f":"MIN(G627,MAX(0,G342*(1-G382)))*2*'Base Numbers'!$C$6*'Base Numbers'!$C$5","v":0},{"$f":"MIN(H627,MAX(0,H342*(1-H382)))*2*'Base Numbers'!$C$6*'Base Numbers'!$C$5","v":0},{"$f":"MIN(I627,MAX(0,I342*(1-I382)))*2*'Base Numbers'!$C$6*'Base Numbers'!$C$5","v":0},{"$f":"MIN(J627,MAX(0,J342*(1-J382)))*2*'Base Numbers'!$C$6*'Base Numbers'!$C$5","v":0},{"$f":"MIN(K627,MAX(0,K342*(1-K382)))*2*'Base Numbers'!$C$6*'Base Numbers'!$C$5","v":0},{"$f":"MIN(L627,MAX(0,L342*(1-L382)))*2*'Base Numbers'!$C$6*'Base Numbers'!$C$5","v":0},{"$f":"MIN(M627,MAX(0,M342*(1-M382)))*2*'Base Numbers'!$C$6*'Base Numbers'!$C$5","v":0},{"$f":"MIN(N627,MAX(0,N342*(1-N382)))*2*'Base Numbers'!$C$6*'Base Numbers'!$C$5","v":0},{"$f":"MIN(O627,MAX(0,O342*(1-O382)))*2*'Base Numbers'!$C$6*'Base Numbers'!$C$5","v":0},{"$f":"MIN(P627,MAX(0,P342*(1-P382)))*2*'Base Numbers'!$C$6*'Base Numbers'!$C$5","v":0},{"$f":"MIN(Q627,MAX(0,Q342*(1-Q382)))*2*'Base Numbers'!$C$6*'Base Numbers'!$C$5","v":0},{"$f":"MIN(R627,MAX(0,R342*(1-R382)))*2*'Base Numbers'!$C$6*'Base Numbers'!$C$5","v":0},{"$f":"MIN(S627,MAX(0,S342*(1-S382)))*2*'Base Numbers'!$C$6*'Base Numbers'!$C$5","v":0},{"$f":"MIN(T627,MAX(0,T342*(1-T382)))*2*'Base Numbers'!$C$6*'Base Numbers'!$C$5","v":0},{"$f":"MIN(U627,MAX(0,U342*(1-U382)))*2*'Base Numbers'!$C$6*'Base Numbers'!$C$5","v":0},{"$f":"MIN(V627,MAX(0,V342*(1-V382)))*2*'Base Numbers'!$C$6*'Base Numbers'!$C$5","v":0},{"$f":"MIN(W627,MAX(0,W342*(1-W382)))*2*'Base Numbers'!$C$6*'Base Numbers'!$C$5","v":0},{"$f":"MIN(X627,MAX(0,X342*(1-X382)))*2*'Base Numbers'!$C$6*'Base Numbers'!$C$5","v":0}]
[]
[{"$nulls":3},"Damage Scenarios"]
[{"$nulls":3},"Smite-qualified attacks per round incl haste"]
[{"$nulls":3},"M1, B1, O1/O2",{"$f":"E1440+E379+E1486+E418","v":0},0,0,0,0,0,0,0,0,0,0,0,0,0,0,0,0,0,0,0]
[{"$nulls":3},"M1, B1, O3",{"$f":"E1440+E379+E1486+E1455","v":0},0,0,0,0,0,0,0,0,0,0,0,0,0,0,0,0,0,0,0]
[{"$nulls":3},"M1, B2, O1/O2",{"$f":"E1440+E379+E1487+E418","v":0},0,0,0,0,0,0,0,0,0,0,0,0,0,0,0,0,0,0,0]
[{"$nulls":3},"M1, B2, O3",{"$f":"E1440+E379+E1487+E1455","v":0},0,0,0,0,0,0,0,0,0,0,0,0,0,0,0,0,0,0,0]
[{"$nulls":3},"M1, B3, O1/O2",{"$f":"E1440+E379+E1488+E418","v":0},0,0,0,0,0,0,0,0,0,0,0,0,0,0,0,0,0,0,0]
[{"$nulls":3},"M1, B3, O3",{"$f":"E1440+E379+E1488+E1455","v":0},0,0,0,0,0,0,0,0,0,0,0,0,0,0,0,0,0,0,0]
[{"$nulls":3},"M1, B4, O1/O2",{"$f":"E1440+E379+E1489+E418","v":0},0,0,0,0,0,0,0,0,0,0,0,0,0,0,0,0,0,0,0]
[{"$nulls":3},"M1, B4, O3",{"$f":"E1440+E379+E1489+E1455","v":0},0,0,0,0,0,0,0,0,0,0,0,0,0,0,0,0,0,0,0]
[{"$nulls":3},"M1, B5, O1/O2",{"$f":"E1440+E379+E1490+E418","v":0},0,0,0,0,0,0,0,0,0,0,0,0,0,0,0,0,0,0,0]
[{"$nulls":3},"M1, B5, O3",{"$f":"E1440+E379+E1490+E1455","v":0},0,0,0,0,0,0,0,0,0,0,0,0,0,0,0,0,0,0,0]
[{"$nulls":3},"M2, B6, O1/O2",{"$f":"E1441+E379+E1491+E418","v":0},0,0,0,0,0,0,0,0,0,0,0,0,0,0,0,0,0,0,0]
[{"$nulls":3},"M2, B6, O3",{"$f":"E1441+E379+E1491+E1455","v":0},0,0,0,0,0,0,0,0,0,0,0,0,0,0,0,0,0,0,0]
[{"$nulls":3},"M2, B7, O1/O2",{"$f":"E1441+E379+E1492+E418","v":0},0,0,0,0,0,0,0,0,0,0,0,0,0,0,0,0,0,0,0]
[{"$nulls":3},"M2, B7, O3",{"$f":"E1441+E379+E1492+E1455","v":0},0,0,0,0,0,0,0,0,0,0,0,0,0,0,0,0,0,0,0]
[{"$nulls":3},"M2, B12, O1/O2",{"$f":"E1441+E379+E1491+E418","v":0},0,0,0,0,0,0,0,0,0,0,0,0,0,0,0,0,0,0,0]
[{"$nulls":3},"M2, B12, O3",{"$f":"E1441+E379+E1491+E1455","v":0},0,0,0,0,0,0,0,0,0,0,0,0,0,0,0,0,0,0,0]
[{"$nulls":3},"M2, B13, O1/O2",{"$f":"E1441+E379+E1492+E418","v":0},0,0,0,0,0,0,0,0,0,0,0,0,0,0,0,0,0,0,0]
[{"$nulls":3},"M2, B13, O3",{"$f":"E1441+E379+E1492+E1455","v":0},0,0,0,0,0,0,0,0,0,0,0,0,0,0,0,0,0,0,0]
[{"$nulls":3},"M3, B8, O1/O2",{"$f":"E379+E1493+E418","v":0},0,0,0,0,0,0,0,0,0,0,0,0,0,0,0,0,0,0,0]
[{"$nulls":3},"M3, B8, O3",{"$f":"E1455+E379","v":0},0,0,0,0,0,0,0,0,0,0,0,0,0,0,0,0,0,0,0]
[{"$nulls":3},"M4, B9",{"$f":"E379","v":0},0,0,0,0,0,0,0,0,0,0,0,0,0,0,0,0,0,0,0]
[{"$nulls":3},"M5, B10",{"$f":"E1444+E1495+E379","v":1},1,1,1,2,2,2,2,2,2,2,2,2,2,2,2,2,2,2,2]
[{"$nulls":3},"M5, B11",{"$f":"E1444+E1496+E379","v":1},1,1,1,2,2,2,2,2,2,2,2,2,2,2,2,2,2,2,2]
[]
[{"$nulls":3},"Crit rate per round: (incl haste)"]
[{"$nulls":3},"M1, B1, O1/O2",{"$f":"E1434+E1472+E1451+E532*E379","v":0},0,0,0,0,0,0,0,0,0,0,0,0,0,0,0,0,0,0,0]
[{"$nulls":3},"M1, B1, O3",{"$f":"E1434+E1472+E1452+E532*E379","v":0},0,0,0,0,0,0,0,0,0,0,0,0,0,0,0,0,0,0,0]
[{"$nulls":3},"M1, B2, O1/O2",{"$f":"E1434+E1473+E1451+E532*E379","v":0},0,0,0,0,0,0,0,0,0,0,0,0,0,0,0,0,0,0,0]
[{"$nulls":3},"M1, B2, O3",{"$f":"E1434+E1473+E532*E379","v":0},0,0,0,0,0,0,0,0,0,0,0,0,0,0,0,0,0,0,0]
[{"$nulls":3},"M1, B3, O1/O2",{"$f":"E1434+E1474+E1451+E532*E379","v":0},0,0,0,0,0,0,0,0,0,0,0,0,0,0,0,0,0,0,0]
[{"$nulls":3},"M1, B3, O3",{"$f":"E1434+E1474+E1452+E532*E379","v":0},0,0,0,0,0,0,0,0,0,0,0,0,0,0,0,0,0,0,0]
[{"$nulls":3},"M1, B4, O1/O2",{"$f":"E1434+E1475+E1451+E532*E379","v":0},0,0,0,0,0,0,0,0,0,0,0,0,0,0,0,0,0,0,0]
[{"$nulls":3},"M1, B4, O3",{"$f":"E1434+E1475+E1452+E532*E379","v":0},0,0,0,0,0,0,0,0,0,0,0,0,0,0,0,0,0,0,0]
[{"$nulls":3},"M1, B5, O1/O2",{"$f":"E1434+E1476+E1451+E532*E379","v":0},0,0,0,0,0,0,0,0,0,0,0,0,0,0,0,0,0,0,0]
[{"$nulls":3},"M1, B5, O3",{"$f":"E1434+E1476+E1452+E532*E379","v":0},0,0,0,0,0,0,0,0,0,0,0,0,0,0,0,0,0,0,0]
[{"$nulls":3},"M2, B6, O1/O2",{"$f":"E1435+E1477+E1451+E532*E379","v":0},0,0,0,0,0,0,0,0,0,0,0,0,0,0,0,0,0,0,0]
[{"$nulls":3},"M2, B6, O3",{"$f":"E1435+E1477+E1452+E532*E379","v":0},0,0,0,0,0,0,0,0,0,0,0,0,0,0,0,0,0,0,0]
[{"$nulls":3},"M2, B7, O1/O2",{"$f":"E1435+E1478+E1451+E532*E379","v":0},0,0,0,0,0,0,0,0,0,0,0,0,0,0,0,0,0,0,0]
[{"$nulls":3},"M2, B7, O3",{"$f":"E1435+E1478+E1452+E532*E379","v":0},0,0,0,0,0,0,0,0,0,0,0,0,0,0,0,0,0,0,0]
[{"$nulls":3},"M2, B12, O1/O2",{"$f":"E1435+E1477+E1451+E532*E379","v":0},0,0,0,0,0,0,0,0,0,0,0,0,0,0,0,0,0,0,0]
[{"$nulls":3},"M2, B12, O3",{"$f":"E1435+E1477+E1452+E532*E379","v":0},0,0,0,0,0,0,0,0,0,0,0,0,0,0,0,0,0,0,0]
[{"$nulls":3},"M2, B13, O1/O2",{"$f":"E1435+E1478+E1451+E532*E379","v":0},0,0,0,0,0,0,0,0,0,0,0,0,0,0,0,0,0,0,0]
[{"$nulls":3},"M2, B13, O3",{"$f":"E1435+E1478+E1452+E532*E379","v":0},0,0,0,0,0,0,0,0,0,0,0,0,0,0,0,0,0,0,0]
[{"$nulls":3},"M3, B8, O1/O2",{"$f":"E1451+E532*E379","v":0},0,0,0,0,0,0,0,0,0,0,0,0,0,0,0,0,0,0,0]
[{"$nulls":3},"M3, B8, O3",{"$f":"E1436+E1479+E1452+E532*E379","v":0},0,0,0,0,0,0,0,0,0,0,0,0,0,0,0,0,0,0,0]
[{"$nulls":3},"M4, B9",{"$f":"E1480+E1437+E532*E379","v":0},0,0,0,0,0,0,0,0,0,0,0,0,0,0,0,0,0,0,0]
[{"$nulls":3},"M5, B10",{"$f":"E1438+E1481+E532*E379","v":0.05},0.05,0.06559425000000002,0.06623075,0.13373450000000003,0.13373450000000003,0.13373450000000003,0.13373450000000003,0.13309800000000002,0.13182500000000003,0.130552,0.14051750000000002,0.13988100000000003,0.13860800000000004,0.13733500000000004,0.13606200000000002,0.16521275000000005,0.16457625000000004,0.16362150000000003,0.16203025000000004]
[{"$nulls":3},"M5, B11",{"$f":"E1438+E1482+E532*E379","v":0.05},0.05,0.06559425000000002,0.06623075,0.13373450000000003,0.13373450000000003,0.13373450000000003,0.13373450000000003,0.13309800000000002,0.13182500000000003,0.130552,0.14051750000000002,0.13988100000000003,0.13860800000000004,0.13733500000000004,0.13606200000000002,0.16521275000000005,0.16457625000000004,0.16362150000000003,0.16203025000000004]
[]
[{"$nulls":3},"damage per round: (main, bonus, opp, smites, only)"]
[{"$nulls":3},"M1, B1, O1/O2",{"$f":"E1428+E1458+MAX(E1447,E1448)+Smites!E26/('Base Numbers'!$C$5*'Base Numbers'!$C$6)","v":0},{"$f":"F1428+F1458+MAX(F1447,F1448)+Smites!F26/('Base Numbers'!$C$5*'Base Numbers'!$C$6)","v":0},{"$f":"G1428+G1458+MAX(G1447,G1448)+Smites!G26/('Base Numbers'!$C$5*'Base Numbers'!$C$6)","v":0},{"$f":"H1428+H1458+MAX(H1447,H1448)+Smites!H26/('Base Numbers'!$C$5*'Base Numbers'!$C$6)","v":0},{"$f":"I1428+I1458+MAX(I1447,I1448)+Smites!I26/('Base Numbers'!$C$5*'Base Numbers'!$C$6)","v":0},{"$f":"J1428+J1458+MAX(J1447,J1448)+Smites!J26/('Base Numbers'!$C$5*'Base Numbers'!$C$6)","v":0},{"$f":"K1428+K1458+MAX(K1447,K1448)+Smites!K26/('Base Numbers'!$C$5*'Base Numbers'!$C$6)","v":0},{"$f":"L1428+L1458+MAX(L1447,L1448)+Smites!L26/('Base Numbers'!$C$5*'Base Numbers'!$C$6)","v":0},{"$f":"M1428+M1458+MAX(M1447,M1448)+Smites!M26/('Base Numbers'!$C$5*'Base Numbers'!$C$6)","v":0},{"$f":"N1428+N1458+MAX(N1447,N1448)+Smites!N26/('Base Numbers'!$C$5*'Base Numbers'!$C$6)","v":0},{"$f":"O1428+O1458+MAX(O1447,O1448)+Smites!O26/('Base Numbers'!$C$5*'Base Numbers'!$C$6)","v":0},{"$f":"P1428+P1458+MAX(P1447,P1448)+Smites!P26/('Base Numbers'!$C$5*'Base Numbers'!$C$6)","v":0},{"$f":"Q1428+Q1458+MAX(Q1447,Q1448)+Smites!Q26/('Base Numbers'!$C$5*'Base Numbers'!$C$6)","v":0},{"$f":"R1428+R1458+MAX(R1447,R1448)+Smites!R26/('Base Numbers'!$C$5*'Base Numbers'!$C$6)","v":0},{"$f":"S1428+S1458+MAX(S1447,S1448)+Smites!S26/('Base Numbers'!$C$5*'Base Numbers'!$C$6)","v":0},{"$f":"T1428+T1458+MAX(T1447,T1448)+Smites!T26/('Base Numbers'!$C$5*'Base Numbers'!$C$6)","v":0},{"$f":"U1428+U1458+MAX(U1447,U1448)+Smites!U26/('Base Numbers'!$C$5*'Base Numbers'!$C$6)","v":0},{"$f":"V1428+V1458+MAX(V1447,V1448)+Smites!V26/('Base Numbers'!$C$5*'Base Numbers'!$C$6)","v":0},{"$f":"W1428+W1458+MAX(W1447,W1448)+Smites!W26/('Base Numbers'!$C$5*'Base Numbers'!$C$6)","v":0},{"$f":"X1428+X1458+MAX(X1447,X1448)+Smites!X26/('Base Numbers'!$C$5*'Base Numbers'!$C$6)","v":0}]
[{"$nulls":3},"M1, B1, O3",{"$f":"E1428+E1458+E1449+Smites!E45/('Base Numbers'!$C$5*'Base Numbers'!$C$6)","v":0},{"$f":"F1428+F1458+F1449+Smites!F45/('Base Numbers'!$C$5*'Base Numbers'!$C$6)","v":0},{"$f":"G1428+G1458+G1449+Smites!G45/('Base Numbers'!$C$5*'Base Numbers'!$C$6)","v":0},{"$f":"H1428+H1458+H1449+Smites!H45/('Base Numbers'!$C$5*'Base Numbers'!$C$6)","v":0},{"$f":"I1428+I1458+I1449+Smites!I45/('Base Numbers'!$C$5*'Base Numbers'!$C$6)","v":0},{"$f":"J1428+J1458+J1449+Smites!J45/('Base Numbers'!$C$5*'Base Numbers'!$C$6)","v":0},{"$f":"K1428+K1458+K1449+Smites!K45/('Base Numbers'!$C$5*'Base Numbers'!$C$6)","v":0},{"$f":"L1428+L1458+L1449+Smites!L45/('Base Numbers'!$C$5*'Base Numbers'!$C$6)","v":0},{"$f":"M1428+M1458+M1449+Smites!M45/('Base Numbers'!$C$5*'Base Numbers'!$C$6)","v":0},{"$f":"N1428+N1458+N1449+Smites!N45/('Base Numbers'!$C$5*'Base Numbers'!$C$6)","v":0},{"$f":"O1428+O1458+O1449+Smites!O45/('Base Numbers'!$C$5*'Base Numbers'!$C$6)","v":0},{"$f":"P1428+P1458+P1449+Smites!P45/('Base Numbers'!$C$5*'Base Numbers'!$C$6)","v":0},{"$f":"Q1428+Q1458+Q1449+Smites!Q45/('Base Numbers'!$C$5*'Base Numbers'!$C$6)","v":0},{"$f":"R1428+R1458+R1449+Smites!R45/('Base Numbers'!$C$5*'Base Numbers'!$C$6)","v":0},{"$f":"S1428+S1458+S1449+Smites!S45/('Base Numbers'!$C$5*'Base Numbers'!$C$6)","v":0},{"$f":"T1428+T1458+T1449+Smites!T45/('Base Numbers'!$C$5*'Base Numbers'!$C$6)","v":0},{"$f":"U1428+U1458+U1449+Smites!U45/('Base Numbers'!$C$5*'Base Numbers'!$C$6)","v":0},{"$f":"V1428+V1458+V1449+Smites!V45/('Base Numbers'!$C$5*'Base Numbers'!$C$6)","v":0},{"$f":"W1428+W1458+W1449+Smites!W45/('Base Numbers'!$C$5*'Base Numbers'!$C$6)","v":0},{"$f":"X1428+X1458+X1449+Smites!X45/('Base Numbers'!$C$5*'Base Numbers'!$C$6)","v":0}]
[{"$nulls":3},"M1, B2, O1/O2",{"$f":"E1428+E1459+MAX(E1447,E1448)+Smites!E64/('Base Numbers'!$C$5*'Base Numbers'!$C$6)","v":0},{"$f":"F1428+F1459+MAX(F1447,F1448)+Smites!F64/('Base Numbers'!$C$5*'Base Numbers'!$C$6)","v":0},{"$f":"G1428+G1459+MAX(G1447,G1448)+Smites!G64/('Base Numbers'!$C$5*'Base Numbers'!$C$6)","v":0},{"$f":"H1428+H1459+MAX(H1447,H1448)+Smites!H64/('Base Numbers'!$C$5*'Base Numbers'!$C$6)","v":0},{"$f":"I1428+I1459+MAX(I1447,I1448)+Smites!I64/('Base Numbers'!$C$5*'Base Numbers'!$C$6)","v":0},{"$f":"J1428+J1459+MAX(J1447,J1448)+Smites!J64/('Base Numbers'!$C$5*'Base Numbers'!$C$6)","v":0},{"$f":"K1428+K1459+MAX(K1447,K1448)+Smites!K64/('Base Numbers'!$C$5*'Base Numbers'!$C$6)","v":0},{"$f":"L1428+L1459+MAX(L1447,L1448)+Smites!L64/('Base Numbers'!$C$5*'Base Numbers'!$C$6)","v":0},{"$f":"M1428+M1459+MAX(M1447,M1448)+Smites!M64/('Base Numbers'!$C$5*'Base Numbers'!$C$6)","v":0},{"$f":"N1428+N1459+MAX(N1447,N1448)+Smites!N64/('Base Numbers'!$C$5*'Base Numbers'!$C$6)","v":0},{"$f":"O1428+O1459+MAX(O1447,O1448)+Smites!O64/('Base Numbers'!$C$5*'Base Numbers'!$C$6)","v":0},{"$f":"P1428+P1459+MAX(P1447,P1448)+Smites!P64/('Base Numbers'!$C$5*'Base Numbers'!$C$6)","v":0},{"$f":"Q1428+Q1459+MAX(Q1447,Q1448)+Smites!Q64/('Base Numbers'!$C$5*'Base Numbers'!$C$6)","v":0},{"$f":"R1428+R1459+MAX(R1447,R1448)+Smites!R64/('Base Numbers'!$C$5*'Base Numbers'!$C$6)","v":0},{"$f":"S1428+S1459+MAX(S1447,S1448)+Smites!S64/('Base Numbers'!$C$5*'Base Numbers'!$C$6)","v":0},{"$f":"T1428+T1459+MAX(T1447,T1448)+Smites!T64/('Base Numbers'!$C$5*'Base Numbers'!$C$6)","v":0},{"$f":"U1428+U1459+MAX(U1447,U1448)+Smites!U64/('Base Numbers'!$C$5*'Base Numbers'!$C$6)","v":0},{"$f":"V1428+V1459+MAX(V1447,V1448)+Smites!V64/('Base Numbers'!$C$5*'Base Numbers'!$C$6)","v":0},{"$f":"W1428+W1459+MAX(W1447,W1448)+Smites!W64/('Base Numbers'!$C$5*'Base Numbers'!$C$6)","v":0},{"$f":"X1428+X1459+MAX(X1447,X1448)+Smites!X64/('Base Numbers'!$C$5*'Base Numbers'!$C$6)","v":0}]
[{"$nulls":3},"M1, B2, O3",{"$f":"E1428+E1459+E1449+Smites!E83/('Base Numbers'!$C$5*'Base Numbers'!$C$6)","v":0},{"$f":"F1428+F1459+F1449+Smites!F83/('Base Numbers'!$C$5*'Base Numbers'!$C$6)","v":0},{"$f":"G1428+G1459+G1449+Smites!G83/('Base Numbers'!$C$5*'Base Numbers'!$C$6)","v":0},{"$f":"H1428+H1459+H1449+Smites!H83/('Base Numbers'!$C$5*'Base Numbers'!$C$6)","v":0},{"$f":"I1428+I1459+I1449+Smites!I83/('Base Numbers'!$C$5*'Base Numbers'!$C$6)","v":0},{"$f":"J1428+J1459+J1449+Smites!J83/('Base Numbers'!$C$5*'Base Numbers'!$C$6)","v":0},{"$f":"K1428+K1459+K1449+Smites!K83/('Base Numbers'!$C$5*'Base Numbers'!$C$6)","v":0},{"$f":"L1428+L1459+L1449+Smites!L83/('Base Numbers'!$C$5*'Base Numbers'!$C$6)","v":0},{"$f":"M1428+M1459+M1449+Smites!M83/('Base Numbers'!$C$5*'Base Numbers'!$C$6)","v":0},{"$f":"N1428+N1459+N1449+Smites!N83/('Base Numbers'!$C$5*'Base Numbers'!$C$6)","v":0},{"$f":"O1428+O1459+O1449+Smites!O83/('Base Numbers'!$C$5*'Base Numbers'!$C$6)","v":0},{"$f":"P1428+P1459+P1449+Smites!P83/('Base Numbers'!$C$5*'Base Numbers'!$C$6)","v":0},{"$f":"Q1428+Q1459+Q1449+Smites!Q83/('Base Numbers'!$C$5*'Base Numbers'!$C$6)","v":0},{"$f":"R1428+R1459+R1449+Smites!R83/('Base Numbers'!$C$5*'Base Numbers'!$C$6)","v":0},{"$f":"S1428+S1459+S1449+Smites!S83/('Base Numbers'!$C$5*'Base Numbers'!$C$6)","v":0},{"$f":"T1428+T1459+T1449+Smites!T83/('Base Numbers'!$C$5*'Base Numbers'!$C$6)","v":0},{"$f":"U1428+U1459+U1449+Smites!U83/('Base Numbers'!$C$5*'Base Numbers'!$C$6)","v":0},{"$f":"V1428+V1459+V1449+Smites!V83/('Base Numbers'!$C$5*'Base Numbers'!$C$6)","v":0},{"$f":"W1428+W1459+W1449+Smites!W83/('Base Numbers'!$C$5*'Base Numbers'!$C$6)","v":0},{"$f":"X1428+X1459+X1449+Smites!X83/('Base Numbers'!$C$5*'Base Numbers'!$C$6)","v":0}]
[{"$nulls":3},"M1, B3, O1/O2",{"$f":"E1428+E1460+MAX(E1447,E1448)+Smites!E102/('Base Numbers'!$C$5*'Base Numbers'!$C$6)","v":0},{"$f":"F1428+F1460+MAX(F1447,F1448)+Smites!F102/('Base Numbers'!$C$5*'Base Numbers'!$C$6)","v":0},{"$f":"G1428+G1460+MAX(G1447,G1448)+Smites!G102/('Base Numbers'!$C$5*'Base Numbers'!$C$6)","v":0},{"$f":"H1428+H1460+MAX(H1447,H1448)+Smites!H102/('Base Numbers'!$C$5*'Base Numbers'!$C$6)","v":0},{"$f":"I1428+I1460+MAX(I1447,I1448)+Smites!I102/('Base Numbers'!$C$5*'Base Numbers'!$C$6)","v":0},{"$f":"J1428+J1460+MAX(J1447,J1448)+Smites!J102/('Base Numbers'!$C$5*'Base Numbers'!$C$6)","v":0},{"$f":"K1428+K1460+MAX(K1447,K1448)+Smites!K102/('Base Numbers'!$C$5*'Base Numbers'!$C$6)","v":0},{"$f":"L1428+L1460+MAX(L1447,L1448)+Smites!L102/('Base Numbers'!$C$5*'Base Numbers'!$C$6)","v":0},{"$f":"M1428+M1460+MAX(M1447,M1448)+Smites!M102/('Base Numbers'!$C$5*'Base Numbers'!$C$6)","v":0},{"$f":"N1428+N1460+MAX(N1447,N1448)+Smites!N102/('Base Numbers'!$C$5*'Base Numbers'!$C$6)","v":0},{"$f":"O1428+O1460+MAX(O1447,O1448)+Smites!O102/('Base Numbers'!$C$5*'Base Numbers'!$C$6)","v":0},{"$f":"P1428+P1460+MAX(P1447,P1448)+Smites!P102/('Base Numbers'!$C$5*'Base Numbers'!$C$6)","v":0},{"$f":"Q1428+Q1460+MAX(Q1447,Q1448)+Smites!Q102/('Base Numbers'!$C$5*'Base Numbers'!$C$6)","v":0},{"$f":"R1428+R1460+MAX(R1447,R1448)+Smites!R102/('Base Numbers'!$C$5*'Base Numbers'!$C$6)","v":0},{"$f":"S1428+S1460+MAX(S1447,S1448)+Smites!S102/('Base Numbers'!$C$5*'Base Numbers'!$C$6)","v":0},{"$f":"T1428+T1460+MAX(T1447,T1448)+Smites!T102/('Base Numbers'!$C$5*'Base Numbers'!$C$6)","v":0},{"$f":"U1428+U1460+MAX(U1447,U1448)+Smites!U102/('Base Numbers'!$C$5*'Base Numbers'!$C$6)","v":0},{"$f":"V1428+V1460+MAX(V1447,V1448)+Smites!V102/('Base Numbers'!$C$5*'Base Numbers'!$C$6)","v":0},{"$f":"W1428+W1460+MAX(W1447,W1448)+Smites!W102/('Base Numbers'!$C$5*'Base Numbers'!$C$6)","v":0},{"$f":"X1428+X1460+MAX(X1447,X1448)+Smites!X102/('Base Numbers'!$C$5*'Base Numbers'!$C$6)","v":0}]
[{"$nulls":3},"M1, B3, O3",{"$f":"E1428+E1460+E1449+Smites!E121/('Base Numbers'!$C$5*'Base Numbers'!$C$6)","v":0},{"$f":"F1428+F1460+F1449+Smites!F121/('Base Numbers'!$C$5*'Base Numbers'!$C$6)","v":0},{"$f":"G1428+G1460+G1449+Smites!G121/('Base Numbers'!$C$5*'Base Numbers'!$C$6)","v":0},{"$f":"H1428+H1460+H1449+Smites!H121/('Base Numbers'!$C$5*'Base Numbers'!$C$6)","v":0},{"$f":"I1428+I1460+I1449+Smites!I121/('Base Numbers'!$C$5*'Base Numbers'!$C$6)","v":0},{"$f":"J1428+J1460+J1449+Smites!J121/('Base Numbers'!$C$5*'Base Numbers'!$C$6)","v":0},{"$f":"K1428+K1460+K1449+Smites!K121/('Base Numbers'!$C$5*'Base Numbers'!$C$6)","v":0},{"$f":"L1428+L1460+L1449+Smites!L121/('Base Numbers'!$C$5*'Base Numbers'!$C$6)","v":0},{"$f":"M1428+M1460+M1449+Smites!M121/('Base Numbers'!$C$5*'Base Numbers'!$C$6)","v":0},{"$f":"N1428+N1460+N1449+Smites!N121/('Base Numbers'!$C$5*'Base Numbers'!$C$6)","v":0},{"$f":"O1428+O1460+O1449+Smites!O121/('Base Numbers'!$C$5*'Base Numbers'!$C$6)","v":0},{"$f":"P1428+P1460+P1449+Smites!P121/('Base Numbers'!$C$5*'Base Numbers'!$C$6)","v":0},{"$f":"Q1428+Q1460+Q1449+Smites!Q121/('Base Numbers'!$C$5*'Base Numbers'!$C$6)","v":0},{"$f":"R1428+R1460+R1449+Smites!R121/('Base Numbers'!$C$5*'Base Numbers'!$C$6)","v":0},{"$f":"S1428+S1460+S1449+Smites!S121/('Base Numbers'!$C$5*'Base Numbers'!$C$6)","v":0},{"$f":"T1428+T1460+T1449+Smites!T121/('Base Numbers'!$C$5*'Base Numbers'!$C$6)","v":0},{"$f":"U1428+U1460+U1449+Smites!U121/('Base Numbers'!$C$5*'Base Numbers'!$C$6)","v":0},{"$f":"V1428+V1460+V1449+Smites!V121/('Base Numbers'!$C$5*'Base Numbers'!$C$6)","v":0},{"$f":"W1428+W1460+W1449+Smites!W121/('Base Numbers'!$C$5*'Base Numbers'!$C$6)","v":0},{"$f":"X1428+X1460+X1449+Smites!X121/('Base Numbers'!$C$5*'Base Numbers'!$C$6)","v":0}]
[{"$nulls":3},"M1, B4, O1/O2",{"$f":"E1428+E1461+MAX(E1447,E1448)+Smites!E140/('Base Numbers'!$C$5*'Base Numbers'!$C$6)","v":0},{"$f":"F1428+F1461+MAX(F1447,F1448)+Smites!F140/('Base Numbers'!$C$5*'Base Numbers'!$C$6)","v":0},{"$f":"G1428+G1461+MAX(G1447,G1448)+Smites!G140/('Base Numbers'!$C$5*'Base Numbers'!$C$6)","v":0},{"$f":"H1428+H1461+MAX(H1447,H1448)+Smites!H140/('Base Numbers'!$C$5*'Base Numbers'!$C$6)","v":0},{"$f":"I1428+I1461+MAX(I1447,I1448)+Smites!I140/('Base Numbers'!$C$5*'Base Numbers'!$C$6)","v":0},{"$f":"J1428+J1461+MAX(J1447,J1448)+Smites!J140/('Base Numbers'!$C$5*'Base Numbers'!$C$6)","v":0},{"$f":"K1428+K1461+MAX(K1447,K1448)+Smites!K140/('Base Numbers'!$C$5*'Base Numbers'!$C$6)","v":0},{"$f":"L1428+L1461+MAX(L1447,L1448)+Smites!L140/('Base Numbers'!$C$5*'Base Numbers'!$C$6)","v":0},{"$f":"M1428+M1461+MAX(M1447,M1448)+Smites!M140/('Base Numbers'!$C$5*'Base Numbers'!$C$6)","v":0},{"$f":"N1428+N1461+MAX(N1447,N1448)+Smites!N140/('Base Numbers'!$C$5*'Base Numbers'!$C$6)","v":0},{"$f":"O1428+O1461+MAX(O1447,O1448)+Smites!O140/('Base Numbers'!$C$5*'Base Numbers'!$C$6)","v":0},{"$f":"P1428+P1461+MAX(P1447,P1448)+Smites!P140/('Base Numbers'!$C$5*'Base Numbers'!$C$6)","v":0},{"$f":"Q1428+Q1461+MAX(Q1447,Q1448)+Smites!Q140/('Base Numbers'!$C$5*'Base Numbers'!$C$6)","v":0},{"$f":"R1428+R1461+MAX(R1447,R1448)+Smites!R140/('Base Numbers'!$C$5*'Base Numbers'!$C$6)","v":0},{"$f":"S1428+S1461+MAX(S1447,S1448)+Smites!S140/('Base Numbers'!$C$5*'Base Numbers'!$C$6)","v":0},{"$f":"T1428+T1461+MAX(T1447,T1448)+Smites!T140/('Base Numbers'!$C$5*'Base Numbers'!$C$6)","v":0},{"$f":"U1428+U1461+MAX(U1447,U1448)+Smites!U140/('Base Numbers'!$C$5*'Base Numbers'!$C$6)","v":0},{"$f":"V1428+V1461+MAX(V1447,V1448)+Smites!V140/('Base Numbers'!$C$5*'Base Numbers'!$C$6)","v":0},{"$f":"W1428+W1461+MAX(W1447,W1448)+Smites!W140/('Base Numbers'!$C$5*'Base Numbers'!$C$6)","v":0},{"$f":"X1428+X1461+MAX(X1447,X1448)+Smites!X140/('Base Numbers'!$C$5*'Base Numbers'!$C$6)","v":0}]
[{"$nulls":3},"M1, B4, O3",{"$f":"E1428+E1461+E1449+Smites!E159/('Base Numbers'!$C$5*'Base Numbers'!$C$6)","v":0},{"$f":"F1428+F1461+F1449+Smites!F159/('Base Numbers'!$C$5*'Base Numbers'!$C$6)","v":0},{"$f":"G1428+G1461+G1449+Smites!G159/('Base Numbers'!$C$5*'Base Numbers'!$C$6)","v":0},{"$f":"H1428+H1461+H1449+Smites!H159/('Base Numbers'!$C$5*'Base Numbers'!$C$6)","v":0},{"$f":"I1428+I1461+I1449+Smites!I159/('Base Numbers'!$C$5*'Base Numbers'!$C$6)","v":0},{"$f":"J1428+J1461+J1449+Smites!J159/('Base Numbers'!$C$5*'Base Numbers'!$C$6)","v":0},{"$f":"K1428+K1461+K1449+Smites!K159/('Base Numbers'!$C$5*'Base Numbers'!$C$6)","v":0},{"$f":"L1428+L1461+L1449+Smites!L159/('Base Numbers'!$C$5*'Base Numbers'!$C$6)","v":0},{"$f":"M1428+M1461+M1449+Smites!M159/('Base Numbers'!$C$5*'Base Numbers'!$C$6)","v":0},{"$f":"N1428+N1461+N1449+Smites!N159/('Base Numbers'!$C$5*'Base Numbers'!$C$6)","v":0},{"$f":"O1428+O1461+O1449+Smites!O159/('Base Numbers'!$C$5*'Base Numbers'!$C$6)","v":0},{"$f":"P1428+P1461+P1449+Smites!P159/('Base Numbers'!$C$5*'Base Numbers'!$C$6)","v":0},{"$f":"Q1428+Q1461+Q1449+Smites!Q159/('Base Numbers'!$C$5*'Base Numbers'!$C$6)","v":0},{"$f":"R1428+R1461+R1449+Smites!R159/('Base Numbers'!$C$5*'Base Numbers'!$C$6)","v":0},{"$f":"S1428+S1461+S1449+Smites!S159/('Base Numbers'!$C$5*'Base Numbers'!$C$6)","v":0},{"$f":"T1428+T1461+T1449+Smites!T159/('Base Numbers'!$C$5*'Base Numbers'!$C$6)","v":0},{"$f":"U1428+U1461+U1449+Smites!U159/('Base Numbers'!$C$5*'Base Numbers'!$C$6)","v":0},{"$f":"V1428+V1461+V1449+Smites!V159/('Base Numbers'!$C$5*'Base Numbers'!$C$6)","v":0},{"$f":"W1428+W1461+W1449+Smites!W159/('Base Numbers'!$C$5*'Base Numbers'!$C$6)","v":0},{"$f":"X1428+X1461+X1449+Smites!X159/('Base Numbers'!$C$5*'Base Numbers'!$C$6)","v":0}]
[{"$nulls":3},"M1, B5, O1/O2",{"$f":"E1428+E1462+MAX(E1447,E1448)+Smites!E178/('Base Numbers'!$C$5*'Base Numbers'!$C$6)","v":0},{"$f":"F1428+F1462+MAX(F1447,F1448)+Smites!F178/('Base Numbers'!$C$5*'Base Numbers'!$C$6)","v":0},{"$f":"G1428+G1462+MAX(G1447,G1448)+Smites!G178/('Base Numbers'!$C$5*'Base Numbers'!$C$6)","v":0},{"$f":"H1428+H1462+MAX(H1447,H1448)+Smites!H178/('Base Numbers'!$C$5*'Base Numbers'!$C$6)","v":0},{"$f":"I1428+I1462+MAX(I1447,I1448)+Smites!I178/('Base Numbers'!$C$5*'Base Numbers'!$C$6)","v":0},{"$f":"J1428+J1462+MAX(J1447,J1448)+Smites!J178/('Base Numbers'!$C$5*'Base Numbers'!$C$6)","v":0},{"$f":"K1428+K1462+MAX(K1447,K1448)+Smites!K178/('Base Numbers'!$C$5*'Base Numbers'!$C$6)","v":0},{"$f":"L1428+L1462+MAX(L1447,L1448)+Smites!L178/('Base Numbers'!$C$5*'Base Numbers'!$C$6)","v":0},{"$f":"M1428+M1462+MAX(M1447,M1448)+Smites!M178/('Base Numbers'!$C$5*'Base Numbers'!$C$6)","v":0},{"$f":"N1428+N1462+MAX(N1447,N1448)+Smites!N178/('Base Numbers'!$C$5*'Base Numbers'!$C$6)","v":0},{"$f":"O1428+O1462+MAX(O1447,O1448)+Smites!O178/('Base Numbers'!$C$5*'Base Numbers'!$C$6)","v":0},{"$f":"P1428+P1462+MAX(P1447,P1448)+Smites!P178/('Base Numbers'!$C$5*'Base Numbers'!$C$6)","v":0},{"$f":"Q1428+Q1462+MAX(Q1447,Q1448)+Smites!Q178/('Base Numbers'!$C$5*'Base Numbers'!$C$6)","v":0},{"$f":"R1428+R1462+MAX(R1447,R1448)+Smites!R178/('Base Numbers'!$C$5*'Base Numbers'!$C$6)","v":0},{"$f":"S1428+S1462+MAX(S1447,S1448)+Smites!S178/('Base Numbers'!$C$5*'Base Numbers'!$C$6)","v":0},{"$f":"T1428+T1462+MAX(T1447,T1448)+Smites!T178/('Base Numbers'!$C$5*'Base Numbers'!$C$6)","v":0},{"$f":"U1428+U1462+MAX(U1447,U1448)+Smites!U178/('Base Numbers'!$C$5*'Base Numbers'!$C$6)","v":0},{"$f":"V1428+V1462+MAX(V1447,V1448)+Smites!V178/('Base Numbers'!$C$5*'Base Numbers'!$C$6)","v":0},{"$f":"W1428+W1462+MAX(W1447,W1448)+Smites!W178/('Base Numbers'!$C$5*'Base Numbers'!$C$6)","v":0},{"$f":"X1428+X1462+MAX(X1447,X1448)+Smites!X178/('Base Numbers'!$C$5*'Base Numbers'!$C$6)","v":0}]
[{"$nulls":3},"M1, B5, O3",{"$f":"E1428+E1462+E1449+Smites!E197/('Base Numbers'!$C$5*'Base Numbers'!$C$6)","v":0},{"$f":"F1428+F1462+F1449+Smites!F197/('Base Numbers'!$C$5*'Base Numbers'!$C$6)","v":0},{"$f":"G1428+G1462+G1449+Smites!G197/('Base Numbers'!$C$5*'Base Numbers'!$C$6)","v":0},{"$f":"H1428+H1462+H1449+Smites!H197/('Base Numbers'!$C$5*'Base Numbers'!$C$6)","v":0},{"$f":"I1428+I1462+I1449+Smites!I197/('Base Numbers'!$C$5*'Base Numbers'!$C$6)","v":0},{"$f":"J1428+J1462+J1449+Smites!J197/('Base Numbers'!$C$5*'Base Numbers'!$C$6)","v":0},{"$f":"K1428+K1462+K1449+Smites!K197/('Base Numbers'!$C$5*'Base Numbers'!$C$6)","v":0},{"$f":"L1428+L1462+L1449+Smites!L197/('Base Numbers'!$C$5*'Base Numbers'!$C$6)","v":0},{"$f":"M1428+M1462+M1449+Smites!M197/('Base Numbers'!$C$5*'Base Numbers'!$C$6)","v":0},{"$f":"N1428+N1462+N1449+Smites!N197/('Base Numbers'!$C$5*'Base Numbers'!$C$6)","v":0},{"$f":"O1428+O1462+O1449+Smites!O197/('Base Numbers'!$C$5*'Base Numbers'!$C$6)","v":0},{"$f":"P1428+P1462+P1449+Smites!P197/('Base Numbers'!$C$5*'Base Numbers'!$C$6)","v":0},{"$f":"Q1428+Q1462+Q1449+Smites!Q197/('Base Numbers'!$C$5*'Base Numbers'!$C$6)","v":0},{"$f":"R1428+R1462+R1449+Smites!R197/('Base Numbers'!$C$5*'Base Numbers'!$C$6)","v":0},{"$f":"S1428+S1462+S1449+Smites!S197/('Base Numbers'!$C$5*'Base Numbers'!$C$6)","v":0},{"$f":"T1428+T1462+T1449+Smites!T197/('Base Numbers'!$C$5*'Base Numbers'!$C$6)","v":0},{"$f":"U1428+U1462+U1449+Smites!U197/('Base Numbers'!$C$5*'Base Numbers'!$C$6)","v":0},{"$f":"V1428+V1462+V1449+Smites!V197/('Base Numbers'!$C$5*'Base Numbers'!$C$6)","v":0},{"$f":"W1428+W1462+W1449+Smites!W197/('Base Numbers'!$C$5*'Base Numbers'!$C$6)","v":0},{"$f":"X1428+X1462+X1449+Smites!X197/('Base Numbers'!$C$5*'Base Numbers'!$C$6)","v":0}]
[{"$nulls":3},"M2, B6, O1/O2",{"$f":"E1429+E1463+MAX(E1447,E1448)+Smites!E216/('Base Numbers'!$C$5*'Base Numbers'!$C$6)","v":0},{"$f":"F1429+F1463+MAX(F1447,F1448)+Smites!F216/('Base Numbers'!$C$5*'Base Numbers'!$C$6)","v":0},{"$f":"G1429+G1463+MAX(G1447,G1448)+Smites!G216/('Base Numbers'!$C$5*'Base Numbers'!$C$6)","v":0},{"$f":"H1429+H1463+MAX(H1447,H1448)+Smites!H216/('Base Numbers'!$C$5*'Base Numbers'!$C$6)","v":0},{"$f":"I1429+I1463+MAX(I1447,I1448)+Smites!I216/('Base Numbers'!$C$5*'Base Numbers'!$C$6)","v":0},{"$f":"J1429+J1463+MAX(J1447,J1448)+Smites!J216/('Base Numbers'!$C$5*'Base Numbers'!$C$6)","v":0},{"$f":"K1429+K1463+MAX(K1447,K1448)+Smites!K216/('Base Numbers'!$C$5*'Base Numbers'!$C$6)","v":0},{"$f":"L1429+L1463+MAX(L1447,L1448)+Smites!L216/('Base Numbers'!$C$5*'Base Numbers'!$C$6)","v":0},{"$f":"M1429+M1463+MAX(M1447,M1448)+Smites!M216/('Base Numbers'!$C$5*'Base Numbers'!$C$6)","v":0},{"$f":"N1429+N1463+MAX(N1447,N1448)+Smites!N216/('Base Numbers'!$C$5*'Base Numbers'!$C$6)","v":0},{"$f":"O1429+O1463+MAX(O1447,O1448)+Smites!O216/('Base Numbers'!$C$5*'Base Numbers'!$C$6)","v":0},{"$f":"P1429+P1463+MAX(P1447,P1448)+Smites!P216/('Base Numbers'!$C$5*'Base Numbers'!$C$6)","v":0},{"$f":"Q1429+Q1463+MAX(Q1447,Q1448)+Smites!Q216/('Base Numbers'!$C$5*'Base Numbers'!$C$6)","v":0},{"$f":"R1429+R1463+MAX(R1447,R1448)+Smites!R216/('Base Numbers'!$C$5*'Base Numbers'!$C$6)","v":0},{"$f":"S1429+S1463+MAX(S1447,S1448)+Smites!S216/('Base Numbers'!$C$5*'Base Numbers'!$C$6)","v":0},{"$f":"T1429+T1463+MAX(T1447,T1448)+Smites!T216/('Base Numbers'!$C$5*'Base Numbers'!$C$6)","v":0},{"$f":"U1429+U1463+MAX(U1447,U1448)+Smites!U216/('Base Numbers'!$C$5*'Base Numbers'!$C$6)","v":0},{"$f":"V1429+V1463+MAX(V1447,V1448)+Smites!V216/('Base Numbers'!$C$5*'Base Numbers'!$C$6)","v":0},{"$f":"W1429+W1463+MAX(W1447,W1448)+Smites!W216/('Base Numbers'!$C$5*'Base Numbers'!$C$6)","v":0},{"$f":"X1429+X1463+MAX(X1447,X1448)+Smites!X216/('Base Numbers'!$C$5*'Base Numbers'!$C$6)","v":0}]
[{"$nulls":3},"M2, B6, O3",{"$f":"E1429+E1463+E1449+Smites!E235/('Base Numbers'!$C$5*'Base Numbers'!$C$6)","v":0},{"$f":"F1429+F1463+F1449+Smites!F235/('Base Numbers'!$C$5*'Base Numbers'!$C$6)","v":0},{"$f":"G1429+G1463+G1449+Smites!G235/('Base Numbers'!$C$5*'Base Numbers'!$C$6)","v":0},{"$f":"H1429+H1463+H1449+Smites!H235/('Base Numbers'!$C$5*'Base Numbers'!$C$6)","v":0},{"$f":"I1429+I1463+I1449+Smites!I235/('Base Numbers'!$C$5*'Base Numbers'!$C$6)","v":0},{"$f":"J1429+J1463+J1449+Smites!J235/('Base Numbers'!$C$5*'Base Numbers'!$C$6)","v":0},{"$f":"K1429+K1463+K1449+Smites!K235/('Base Numbers'!$C$5*'Base Numbers'!$C$6)","v":0},{"$f":"L1429+L1463+L1449+Smites!L235/('Base Numbers'!$C$5*'Base Numbers'!$C$6)","v":0},{"$f":"M1429+M1463+M1449+Smites!M235/('Base Numbers'!$C$5*'Base Numbers'!$C$6)","v":0},{"$f":"N1429+N1463+N1449+Smites!N235/('Base Numbers'!$C$5*'Base Numbers'!$C$6)","v":0},{"$f":"O1429+O1463+O1449+Smites!O235/('Base Numbers'!$C$5*'Base Numbers'!$C$6)","v":0},{"$f":"P1429+P1463+P1449+Smites!P235/('Base Numbers'!$C$5*'Base Numbers'!$C$6)","v":0},{"$f":"Q1429+Q1463+Q1449+Smites!Q235/('Base Numbers'!$C$5*'Base Numbers'!$C$6)","v":0},{"$f":"R1429+R1463+R1449+Smites!R235/('Base Numbers'!$C$5*'Base Numbers'!$C$6)","v":0},{"$f":"S1429+S1463+S1449+Smites!S235/('Base Numbers'!$C$5*'Base Numbers'!$C$6)","v":0},{"$f":"T1429+T1463+T1449+Smites!T235/('Base Numbers'!$C$5*'Base Numbers'!$C$6)","v":0},{"$f":"U1429+U1463+U1449+Smites!U235/('Base Numbers'!$C$5*'Base Numbers'!$C$6)","v":0},{"$f":"V1429+V1463+V1449+Smites!V235/('Base Numbers'!$C$5*'Base Numbers'!$C$6)","v":0},{"$f":"W1429+W1463+W1449+Smites!W235/('Base Numbers'!$C$5*'Base Numbers'!$C$6)","v":0},{"$f":"X1429+X1463+X1449+Smites!X235/('Base Numbers'!$C$5*'Base Numbers'!$C$6)","v":0}]
[{"$nulls":3},"M2, B7, O1/O2",{"$f":"E1429+E1464+MAX(E1447,E1448)+Smites!E254/('Base Numbers'!$C$5*'Base Numbers'!$C$6)","v":0},{"$f":"F1429+F1464+MAX(F1447,F1448)+Smites!F254/('Base Numbers'!$C$5*'Base Numbers'!$C$6)","v":0},{"$f":"G1429+G1464+MAX(G1447,G1448)+Smites!G254/('Base Numbers'!$C$5*'Base Numbers'!$C$6)","v":0},{"$f":"H1429+H1464+MAX(H1447,H1448)+Smites!H254/('Base Numbers'!$C$5*'Base Numbers'!$C$6)","v":0},{"$f":"I1429+I1464+MAX(I1447,I1448)+Smites!I254/('Base Numbers'!$C$5*'Base Numbers'!$C$6)","v":0},{"$f":"J1429+J1464+MAX(J1447,J1448)+Smites!J254/('Base Numbers'!$C$5*'Base Numbers'!$C$6)","v":0},{"$f":"K1429+K1464+MAX(K1447,K1448)+Smites!K254/('Base Numbers'!$C$5*'Base Numbers'!$C$6)","v":0},{"$f":"L1429+L1464+MAX(L1447,L1448)+Smites!L254/('Base Numbers'!$C$5*'Base Numbers'!$C$6)","v":0},{"$f":"M1429+M1464+MAX(M1447,M1448)+Smites!M254/('Base Numbers'!$C$5*'Base Numbers'!$C$6)","v":0},{"$f":"N1429+N1464+MAX(N1447,N1448)+Smites!N254/('Base Numbers'!$C$5*'Base Numbers'!$C$6)","v":0},{"$f":"O1429+O1464+MAX(O1447,O1448)+Smites!O254/('Base Numbers'!$C$5*'Base Numbers'!$C$6)","v":0},{"$f":"P1429+P1464+MAX(P1447,P1448)+Smites!P254/('Base Numbers'!$C$5*'Base Numbers'!$C$6)","v":0},{"$f":"Q1429+Q1464+MAX(Q1447,Q1448)+Smites!Q254/('Base Numbers'!$C$5*'Base Numbers'!$C$6)","v":0},{"$f":"R1429+R1464+MAX(R1447,R1448)+Smites!R254/('Base Numbers'!$C$5*'Base Numbers'!$C$6)","v":0},{"$f":"S1429+S1464+MAX(S1447,S1448)+Smites!S254/('Base Numbers'!$C$5*'Base Numbers'!$C$6)","v":0},{"$f":"T1429+T1464+MAX(T1447,T1448)+Smites!T254/('Base Numbers'!$C$5*'Base Numbers'!$C$6)","v":0},{"$f":"U1429+U1464+MAX(U1447,U1448)+Smites!U254/('Base Numbers'!$C$5*'Base Numbers'!$C$6)","v":0},{"$f":"V1429+V1464+MAX(V1447,V1448)+Smites!V254/('Base Numbers'!$C$5*'Base Numbers'!$C$6)","v":0},{"$f":"W1429+W1464+MAX(W1447,W1448)+Smites!W254/('Base Numbers'!$C$5*'Base Numbers'!$C$6)","v":0},{"$f":"X1429+X1464+MAX(X1447,X1448)+Smites!X254/('Base Numbers'!$C$5*'Base Numbers'!$C$6)","v":0}]
[{"$nulls":3},"M2, B7, O3",{"$f":"E1429+E1464+E1449+Smites!E273/('Base Numbers'!$C$5*'Base Numbers'!$C$6)","v":0},{"$f":"F1429+F1464+F1449+Smites!F273/('Base Numbers'!$C$5*'Base Numbers'!$C$6)","v":0},{"$f":"G1429+G1464+G1449+Smites!G273/('Base Numbers'!$C$5*'Base Numbers'!$C$6)","v":0},{"$f":"H1429+H1464+H1449+Smites!H273/('Base Numbers'!$C$5*'Base Numbers'!$C$6)","v":0},{"$f":"I1429+I1464+I1449+Smites!I273/('Base Numbers'!$C$5*'Base Numbers'!$C$6)","v":0},{"$f":"J1429+J1464+J1449+Smites!J273/('Base Numbers'!$C$5*'Base Numbers'!$C$6)","v":0},{"$f":"K1429+K1464+K1449+Smites!K273/('Base Numbers'!$C$5*'Base Numbers'!$C$6)","v":0},{"$f":"L1429+L1464+L1449+Smites!L273/('Base Numbers'!$C$5*'Base Numbers'!$C$6)","v":0},{"$f":"M1429+M1464+M1449+Smites!M273/('Base Numbers'!$C$5*'Base Numbers'!$C$6)","v":0},{"$f":"N1429+N1464+N1449+Smites!N273/('Base Numbers'!$C$5*'Base Numbers'!$C$6)","v":0},{"$f":"O1429+O1464+O1449+Smites!O273/('Base Numbers'!$C$5*'Base Numbers'!$C$6)","v":0},{"$f":"P1429+P1464+P1449+Smites!P273/('Base Numbers'!$C$5*'Base Numbers'!$C$6)","v":0},{"$f":"Q1429+Q1464+Q1449+Smites!Q273/('Base Numbers'!$C$5*'Base Numbers'!$C$6)","v":0},{"$f":"R1429+R1464+R1449+Smites!R273/('Base Numbers'!$C$5*'Base Numbers'!$C$6)","v":0},{"$f":"S1429+S1464+S1449+Smites!S273/('Base Numbers'!$C$5*'Base Numbers'!$C$6)","v":0},{"$f":"T1429+T1464+T1449+Smites!T273/('Base Numbers'!$C$5*'Base Numbers'!$C$6)","v":0},{"$f":"U1429+U1464+U1449+Smites!U273/('Base Numbers'!$C$5*'Base Numbers'!$C$6)","v":0},{"$f":"V1429+V1464+V1449+Smites!V273/('Base Numbers'!$C$5*'Base Numbers'!$C$6)","v":0},{"$f":"W1429+W1464+W1449+Smites!W273/('Base Numbers'!$C$5*'Base Numbers'!$C$6)","v":0},{"$f":"X1429+X1464+X1449+Smites!X273/('Base Numbers'!$C$5*'Base Numbers'!$C$6)","v":0}]
[{"$nulls":3},"M2, B12, O1/O2",{"$f":"E1429+E1469+MAX(E1447,E1448)+Smites!E292/('Base Numbers'!$C$5*'Base Numbers'!$C$6)","v":0},{"$f":"F1429+F1469+MAX(F1447,F1448)+Smites!F292/('Base Numbers'!$C$5*'Base Numbers'!$C$6)","v":0},{"$f":"G1429+G1469+MAX(G1447,G1448)+Smites!G292/('Base Numbers'!$C$5*'Base Numbers'!$C$6)","v":0},{"$f":"H1429+H1469+MAX(H1447,H1448)+Smites!H292/('Base Numbers'!$C$5*'Base Numbers'!$C$6)","v":0},{"$f":"I1429+I1469+MAX(I1447,I1448)+Smites!I292/('Base Numbers'!$C$5*'Base Numbers'!$C$6)","v":0},{"$f":"J1429+J1469+MAX(J1447,J1448)+Smites!J292/('Base Numbers'!$C$5*'Base Numbers'!$C$6)","v":0},{"$f":"K1429+K1469+MAX(K1447,K1448)+Smites!K292/('Base Numbers'!$C$5*'Base Numbers'!$C$6)","v":0},{"$f":"L1429+L1469+MAX(L1447,L1448)+Smites!L292/('Base Numbers'!$C$5*'Base Numbers'!$C$6)","v":0},{"$f":"M1429+M1469+MAX(M1447,M1448)+Smites!M292/('Base Numbers'!$C$5*'Base Numbers'!$C$6)","v":0},{"$f":"N1429+N1469+MAX(N1447,N1448)+Smites!N292/('Base Numbers'!$C$5*'Base Numbers'!$C$6)","v":0},{"$f":"O1429+O1469+MAX(O1447,O1448)+Smites!O292/('Base Numbers'!$C$5*'Base Numbers'!$C$6)","v":0},{"$f":"P1429+P1469+MAX(P1447,P1448)+Smites!P292/('Base Numbers'!$C$5*'Base Numbers'!$C$6)","v":0},{"$f":"Q1429+Q1469+MAX(Q1447,Q1448)+Smites!Q292/('Base Numbers'!$C$5*'Base Numbers'!$C$6)","v":0},{"$f":"R1429+R1469+MAX(R1447,R1448)+Smites!R292/('Base Numbers'!$C$5*'Base Numbers'!$C$6)","v":0},{"$f":"S1429+S1469+MAX(S1447,S1448)+Smites!S292/('Base Numbers'!$C$5*'Base Numbers'!$C$6)","v":0},{"$f":"T1429+T1469+MAX(T1447,T1448)+Smites!T292/('Base Numbers'!$C$5*'Base Numbers'!$C$6)","v":0},{"$f":"U1429+U1469+MAX(U1447,U1448)+Smites!U292/('Base Numbers'!$C$5*'Base Numbers'!$C$6)","v":0},{"$f":"V1429+V1469+MAX(V1447,V1448)+Smites!V292/('Base Numbers'!$C$5*'Base Numbers'!$C$6)","v":0},{"$f":"W1429+W1469+MAX(W1447,W1448)+Smites!W292/('Base Numbers'!$C$5*'Base Numbers'!$C$6)","v":0},{"$f":"X1429+X1469+MAX(X1447,X1448)+Smites!X292/('Base Numbers'!$C$5*'Base Numbers'!$C$6)","v":0}]
[{"$nulls":3},"M2, B12, O3",{"$f":"E1429+E1469+E1449+Smites!E311/('Base Numbers'!$C$5*'Base Numbers'!$C$6)","v":0},{"$f":"F1429+F1469+F1449+Smites!F311/('Base Numbers'!$C$5*'Base Numbers'!$C$6)","v":0},{"$f":"G1429+G1469+G1449+Smites!G311/('Base Numbers'!$C$5*'Base Numbers'!$C$6)","v":0},{"$f":"H1429+H1469+H1449+Smites!H311/('Base Numbers'!$C$5*'Base Numbers'!$C$6)","v":0},{"$f":"I1429+I1469+I1449+Smites!I311/('Base Numbers'!$C$5*'Base Numbers'!$C$6)","v":0},{"$f":"J1429+J1469+J1449+Smites!J311/('Base Numbers'!$C$5*'Base Numbers'!$C$6)","v":0},{"$f":"K1429+K1469+K1449+Smites!K311/('Base Numbers'!$C$5*'Base Numbers'!$C$6)","v":0},{"$f":"L1429+L1469+L1449+Smites!L311/('Base Numbers'!$C$5*'Base Numbers'!$C$6)","v":0},{"$f":"M1429+M1469+M1449+Smites!M311/('Base Numbers'!$C$5*'Base Numbers'!$C$6)","v":0},{"$f":"N1429+N1469+N1449+Smites!N311/('Base Numbers'!$C$5*'Base Numbers'!$C$6)","v":0},{"$f":"O1429+O1469+O1449+Smites!O311/('Base Numbers'!$C$5*'Base Numbers'!$C$6)","v":0},{"$f":"P1429+P1469+P1449+Smites!P311/('Base Numbers'!$C$5*'Base Numbers'!$C$6)","v":0},{"$f":"Q1429+Q1469+Q1449+Smites!Q311/('Base Numbers'!$C$5*'Base Numbers'!$C$6)","v":0},{"$f":"R1429+R1469+R1449+Smites!R311/('Base Numbers'!$C$5*'Base Numbers'!$C$6)","v":0},{"$f":"S1429+S1469+S1449+Smites!S311/('Base Numbers'!$C$5*'Base Numbers'!$C$6)","v":0},{"$f":"T1429+T1469+T1449+Smites!T311/('Base Numbers'!$C$5*'Base Numbers'!$C$6)","v":0},{"$f":"U1429+U1469+U1449+Smites!U311/('Base Numbers'!$C$5*'Base Numbers'!$C$6)","v":0},{"$f":"V1429+V1469+V1449+Smites!V311/('Base Numbers'!$C$5*'Base Numbers'!$C$6)","v":0},{"$f":"W1429+W1469+W1449+Smites!W311/('Base Numbers'!$C$5*'Base Numbers'!$C$6)","v":0},{"$f":"X1429+X1469+X1449+Smites!X311/('Base Numbers'!$C$5*'Base Numbers'!$C$6)","v":0}]
[{"$nulls":3},"M2, B13, O1/O2",{"$f":"E1429+E1470+MAX(E1447,E1448)+Smites!E330/('Base Numbers'!$C$5*'Base Numbers'!$C$6)","v":0},{"$f":"F1429+F1470+MAX(F1447,F1448)+Smites!F330/('Base Numbers'!$C$5*'Base Numbers'!$C$6)","v":0},{"$f":"G1429+G1470+MAX(G1447,G1448)+Smites!G330/('Base Numbers'!$C$5*'Base Numbers'!$C$6)","v":0},{"$f":"H1429+H1470+MAX(H1447,H1448)+Smites!H330/('Base Numbers'!$C$5*'Base Numbers'!$C$6)","v":0},{"$f":"I1429+I1470+MAX(I1447,I1448)+Smites!I330/('Base Numbers'!$C$5*'Base Numbers'!$C$6)","v":0},{"$f":"J1429+J1470+MAX(J1447,J1448)+Smites!J330/('Base Numbers'!$C$5*'Base Numbers'!$C$6)","v":0},{"$f":"K1429+K1470+MAX(K1447,K1448)+Smites!K330/('Base Numbers'!$C$5*'Base Numbers'!$C$6)","v":0},{"$f":"L1429+L1470+MAX(L1447,L1448)+Smites!L330/('Base Numbers'!$C$5*'Base Numbers'!$C$6)","v":0},{"$f":"M1429+M1470+MAX(M1447,M1448)+Smites!M330/('Base Numbers'!$C$5*'Base Numbers'!$C$6)","v":0},{"$f":"N1429+N1470+MAX(N1447,N1448)+Smites!N330/('Base Numbers'!$C$5*'Base Numbers'!$C$6)","v":0},{"$f":"O1429+O1470+MAX(O1447,O1448)+Smites!O330/('Base Numbers'!$C$5*'Base Numbers'!$C$6)","v":0},{"$f":"P1429+P1470+MAX(P1447,P1448)+Smites!P330/('Base Numbers'!$C$5*'Base Numbers'!$C$6)","v":0},{"$f":"Q1429+Q1470+MAX(Q1447,Q1448)+Smites!Q330/('Base Numbers'!$C$5*'Base Numbers'!$C$6)","v":0},{"$f":"R1429+R1470+MAX(R1447,R1448)+Smites!R330/('Base Numbers'!$C$5*'Base Numbers'!$C$6)","v":0},{"$f":"S1429+S1470+MAX(S1447,S1448)+Smites!S330/('Base Numbers'!$C$5*'Base Numbers'!$C$6)","v":0},{"$f":"T1429+T1470+MAX(T1447,T1448)+Smites!T330/('Base Numbers'!$C$5*'Base Numbers'!$C$6)","v":0},{"$f":"U1429+U1470+MAX(U1447,U1448)+Smites!U330/('Base Numbers'!$C$5*'Base Numbers'!$C$6)","v":0},{"$f":"V1429+V1470+MAX(V1447,V1448)+Smites!V330/('Base Numbers'!$C$5*'Base Numbers'!$C$6)","v":0},{"$f":"W1429+W1470+MAX(W1447,W1448)+Smites!W330/('Base Numbers'!$C$5*'Base Numbers'!$C$6)","v":0},{"$f":"X1429+X1470+MAX(X1447,X1448)+Smites!X330/('Base Numbers'!$C$5*'Base Numbers'!$C$6)","v":0}]
[{"$nulls":3},"M2, B13, O3",{"$f":"E1429+E1470+E1449+Smites!E349/('Base Numbers'!$C$5*'Base Numbers'!$C$6)","v":0},{"$f":"F1429+F1470+F1449+Smites!F349/('Base Numbers'!$C$5*'Base Numbers'!$C$6)","v":0},{"$f":"G1429+G1470+G1449+Smites!G349/('Base Numbers'!$C$5*'Base Numbers'!$C$6)","v":0},{"$f":"H1429+H1470+H1449+Smites!H349/('Base Numbers'!$C$5*'Base Numbers'!$C$6)","v":0},{"$f":"I1429+I1470+I1449+Smites!I349/('Base Numbers'!$C$5*'Base Numbers'!$C$6)","v":0},{"$f":"J1429+J1470+J1449+Smites!J349/('Base Numbers'!$C$5*'Base Numbers'!$C$6)","v":0},{"$f":"K1429+K1470+K1449+Smites!K349/('Base Numbers'!$C$5*'Base Numbers'!$C$6)","v":0},{"$f":"L1429+L1470+L1449+Smites!L349/('Base Numbers'!$C$5*'Base Numbers'!$C$6)","v":0},{"$f":"M1429+M1470+M1449+Smites!M349/('Base Numbers'!$C$5*'Base Numbers'!$C$6)","v":0},{"$f":"N1429+N1470+N1449+Smites!N349/('Base Numbers'!$C$5*'Base Numbers'!$C$6)","v":0},{"$f":"O1429+O1470+O1449+Smites!O349/('Base Numbers'!$C$5*'Base Numbers'!$C$6)","v":0},{"$f":"P1429+P1470+P1449+Smites!P349/('Base Numbers'!$C$5*'Base Numbers'!$C$6)","v":0},{"$f":"Q1429+Q1470+Q1449+Smites!Q349/('Base Numbers'!$C$5*'Base Numbers'!$C$6)","v":0},{"$f":"R1429+R1470+R1449+Smites!R349/('Base Numbers'!$C$5*'Base Numbers'!$C$6)","v":0},{"$f":"S1429+S1470+S1449+Smites!S349/('Base Numbers'!$C$5*'Base Numbers'!$C$6)","v":0},{"$f":"T1429+T1470+T1449+Smites!T349/('Base Numbers'!$C$5*'Base Numbers'!$C$6)","v":0},{"$f":"U1429+U1470+U1449+Smites!U349/('Base Numbers'!$C$5*'Base Numbers'!$C$6)","v":0},{"$f":"V1429+V1470+V1449+Smites!V349/('Base Numbers'!$C$5*'Base Numbers'!$C$6)","v":0},{"$f":"W1429+W1470+W1449+Smites!W349/('Base Numbers'!$C$5*'Base Numbers'!$C$6)","v":0},{"$f":"X1429+X1470+X1449+Smites!X349/('Base Numbers'!$C$5*'Base Numbers'!$C$6)","v":0}]
[{"$nulls":3},"M3, B8, O1/O2",{"$f":"E1430+E1465+MAX(E1447,E1448)+Smites!E368/('Base Numbers'!$C$5*'Base Numbers'!$C$6)","v":0},{"$f":"F1430+F1465+MAX(F1447,F1448)+Smites!F368/('Base Numbers'!$C$5*'Base Numbers'!$C$6)","v":0},{"$f":"G1430+G1465+MAX(G1447,G1448)+Smites!G368/('Base Numbers'!$C$5*'Base Numbers'!$C$6)","v":0},{"$f":"H1430+H1465+MAX(H1447,H1448)+Smites!H368/('Base Numbers'!$C$5*'Base Numbers'!$C$6)","v":0},{"$f":"I1430+I1465+MAX(I1447,I1448)+Smites!I368/('Base Numbers'!$C$5*'Base Numbers'!$C$6)","v":0},{"$f":"J1430+J1465+MAX(J1447,J1448)+Smites!J368/('Base Numbers'!$C$5*'Base Numbers'!$C$6)","v":0},{"$f":"K1430+K1465+MAX(K1447,K1448)+Smites!K368/('Base Numbers'!$C$5*'Base Numbers'!$C$6)","v":0},{"$f":"L1430+L1465+MAX(L1447,L1448)+Smites!L368/('Base Numbers'!$C$5*'Base Numbers'!$C$6)","v":0},{"$f":"M1430+M1465+MAX(M1447,M1448)+Smites!M368/('Base Numbers'!$C$5*'Base Numbers'!$C$6)","v":0},{"$f":"N1430+N1465+MAX(N1447,N1448)+Smites!N368/('Base Numbers'!$C$5*'Base Numbers'!$C$6)","v":0},{"$f":"O1430+O1465+MAX(O1447,O1448)+Smites!O368/('Base Numbers'!$C$5*'Base Numbers'!$C$6)","v":0},{"$f":"P1430+P1465+MAX(P1447,P1448)+Smites!P368/('Base Numbers'!$C$5*'Base Numbers'!$C$6)","v":0},{"$f":"Q1430+Q1465+MAX(Q1447,Q1448)+Smites!Q368/('Base Numbers'!$C$5*'Base Numbers'!$C$6)","v":0},{"$f":"R1430+R1465+MAX(R1447,R1448)+Smites!R368/('Base Numbers'!$C$5*'Base Numbers'!$C$6)","v":0},{"$f":"S1430+S1465+MAX(S1447,S1448)+Smites!S368/('Base Numbers'!$C$5*'Base Numbers'!$C$6)","v":0},{"$f":"T1430+T1465+MAX(T1447,T1448)+Smites!T368/('Base Numbers'!$C$5*'Base Numbers'!$C$6)","v":0},{"$f":"U1430+U1465+MAX(U1447,U1448)+Smites!U368/('Base Numbers'!$C$5*'Base Numbers'!$C$6)","v":0},{"$f":"V1430+V1465+MAX(V1447,V1448)+Smites!V368/('Base Numbers'!$C$5*'Base Numbers'!$C$6)","v":0},{"$f":"W1430+W1465+MAX(W1447,W1448)+Smites!W368/('Base Numbers'!$C$5*'Base Numbers'!$C$6)","v":0},{"$f":"X1430+X1465+MAX(X1447,X1448)+Smites!X368/('Base Numbers'!$C$5*'Base Numbers'!$C$6)","v":0}]
[{"$nulls":3},"M3, B8, O3",{"$f":"E1430+E1465+E1449+Smites!E387/('Base Numbers'!$C$5*'Base Numbers'!$C$6)","v":0},{"$f":"F1430+F1465+F1449+Smites!F387/('Base Numbers'!$C$5*'Base Numbers'!$C$6)","v":0},{"$f":"G1430+G1465+G1449+Smites!G387/('Base Numbers'!$C$5*'Base Numbers'!$C$6)","v":0},{"$f":"H1430+H1465+H1449+Smites!H387/('Base Numbers'!$C$5*'Base Numbers'!$C$6)","v":0},{"$f":"I1430+I1465+I1449+Smites!I387/('Base Numbers'!$C$5*'Base Numbers'!$C$6)","v":0},{"$f":"J1430+J1465+J1449+Smites!J387/('Base Numbers'!$C$5*'Base Numbers'!$C$6)","v":0},{"$f":"K1430+K1465+K1449+Smites!K387/('Base Numbers'!$C$5*'Base Numbers'!$C$6)","v":0},{"$f":"L1430+L1465+L1449+Smites!L387/('Base Numbers'!$C$5*'Base Numbers'!$C$6)","v":0},{"$f":"M1430+M1465+M1449+Smites!M387/('Base Numbers'!$C$5*'Base Numbers'!$C$6)","v":0},{"$f":"N1430+N1465+N1449+Smites!N387/('Base Numbers'!$C$5*'Base Numbers'!$C$6)","v":0},{"$f":"O1430+O1465+O1449+Smites!O387/('Base Numbers'!$C$5*'Base Numbers'!$C$6)","v":0},{"$f":"P1430+P1465+P1449+Smites!P387/('Base Numbers'!$C$5*'Base Numbers'!$C$6)","v":0},{"$f":"Q1430+Q1465+Q1449+Smites!Q387/('Base Numbers'!$C$5*'Base Numbers'!$C$6)","v":0},{"$f":"R1430+R1465+R1449+Smites!R387/('Base Numbers'!$C$5*'Base Numbers'!$C$6)","v":0},{"$f":"S1430+S1465+S1449+Smites!S387/('Base Numbers'!$C$5*'Base Numbers'!$C$6)","v":0},{"$f":"T1430+T1465+T1449+Smites!T387/('Base Numbers'!$C$5*'Base Numbers'!$C$6)","v":0},{"$f":"U1430+U1465+U1449+Smites!U387/('Base Numbers'!$C$5*'Base Numbers'!$C$6)","v":0},{"$f":"V1430+V1465+V1449+Smites!V387/('Base Numbers'!$C$5*'Base Numbers'!$C$6)","v":0},{"$f":"W1430+W1465+W1449+Smites!W387/('Base Numbers'!$C$5*'Base Numbers'!$C$6)","v":0},{"$f":"X1430+X1465+X1449+Smites!X387/('Base Numbers'!$C$5*'Base Numbers'!$C$6)","v":0}]
[{"$nulls":3},"M4, B9",{"$f":"E1431+E1466","v":0},0.7886003124999998,1.2352974999749997,1.2411501275249996,1.7732230046781248,1.6626703400999996,1.8620014663687496,1.8620014663687496,1.8576319487249995,1.8488929134374996,1.8401538781499993,1.7813902516416011,1.9041966591374997,1.8954576238499996,1.7588599262910154,1.7498477961507812,23.172526611328124,22.12203873828125,22.195999999999998,22.195999999999998]
[{"$nulls":3},"M5, B10",{"$f":"E1432+E1467+Smites!E425/('Base Numbers'!$C$5*'Base Numbers'!$C$6)","v":5.253125000000001},{"$f":"F1432+F1467+Smites!F425/('Base Numbers'!$C$5*'Base Numbers'!$C$6)","v":6.995585},{"$f":"G1432+G1467+Smites!G425/('Base Numbers'!$C$5*'Base Numbers'!$C$6)","v":7.763531654921093},{"$f":"H1432+H1467+Smites!H425/('Base Numbers'!$C$5*'Base Numbers'!$C$6)","v":10.877818560395314},{"$f":"I1432+I1467+Smites!I425/('Base Numbers'!$C$5*'Base Numbers'!$C$6)","v":24.67755640045625},{"$f":"J1432+J1467+Smites!J425/('Base Numbers'!$C$5*'Base Numbers'!$C$6)","v":22.6272673256625},{"$f":"K1432+K1467+Smites!K425/('Base Numbers'!$C$5*'Base Numbers'!$C$6)","v":22.979112548833594},{"$f":"L1432+L1467+Smites!L425/('Base Numbers'!$C$5*'Base Numbers'!$C$6)","v":22.979112548833594},{"$f":"M1432+M1467+Smites!M425/('Base Numbers'!$C$5*'Base Numbers'!$C$6)","v":26.758954977698437},{"$f":"N1432+N1467+Smites!N425/('Base Numbers'!$C$5*'Base Numbers'!$C$6)","v":26.60013835896485},{"$f":"O1432+O1467+Smites!O425/('Base Numbers'!$C$5*'Base Numbers'!$C$6)","v":26.44132174023125},{"$f":"P1432+P1467+Smites!P425/('Base Numbers'!$C$5*'Base Numbers'!$C$6)","v":25.495271441097653},{"$f":"Q1432+Q1467+Smites!Q425/('Base Numbers'!$C$5*'Base Numbers'!$C$6)","v":31.011604585223438},{"$f":"R1432+R1467+Smites!R425/('Base Numbers'!$C$5*'Base Numbers'!$C$6)","v":30.847591185975002},{"$f":"S1432+S1467+Smites!S425/('Base Numbers'!$C$5*'Base Numbers'!$C$6)","v":28.484053574378905},{"$f":"T1432+T1467+Smites!T425/('Base Numbers'!$C$5*'Base Numbers'!$C$6)","v":28.318536955645314},{"$f":"U1432+U1467+Smites!U425/('Base Numbers'!$C$5*'Base Numbers'!$C$6)","v":34.2753488322082},{"$f":"V1432+V1467+Smites!V425/('Base Numbers'!$C$5*'Base Numbers'!$C$6)","v":32.025985695413084},{"$f":"W1432+W1467+Smites!W425/('Base Numbers'!$C$5*'Base Numbers'!$C$6)","v":32.025679340625004},{"$f":"X1432+X1467+Smites!X425/('Base Numbers'!$C$5*'Base Numbers'!$C$6)","v":31.817959973437496}]
[{"$nulls":3},"M5, B11",{"$f":"E1432+E1468+Smites!E444/('Base Numbers'!$C$5*'Base Numbers'!$C$6)","v":5.253125000000001},{"$f":"F1432+F1468+Smites!F444/('Base Numbers'!$C$5*'Base Numbers'!$C$6)","v":6.995585},{"$f":"G1432+G1468+Smites!G444/('Base Numbers'!$C$5*'Base Numbers'!$C$6)","v":7.763531654921093},{"$f":"H1432+H1468+Smites!H444/('Base Numbers'!$C$5*'Base Numbers'!$C$6)","v":10.877818560395314},{"$f":"I1432+I1468+Smites!I444/('Base Numbers'!$C$5*'Base Numbers'!$C$6)","v":24.67755640045625},{"$f":"J1432+J1468+Smites!J444/('Base Numbers'!$C$5*'Base Numbers'!$C$6)","v":22.6272673256625},{"$f":"K1432+K1468+Smites!K444/('Base Numbers'!$C$5*'Base Numbers'!$C$6)","v":22.979112548833594},{"$f":"L1432+L1468+Smites!L444/('Base Numbers'!$C$5*'Base Numbers'!$C$6)","v":22.979112548833594},{"$f":"M1432+M1468+Smites!M444/('Base Numbers'!$C$5*'Base Numbers'!$C$6)","v":26.758954977698437},{"$f":"N1432+N1468+Smites!N444/('Base Numbers'!$C$5*'Base Numbers'!$C$6)","v":26.60013835896485},{"$f":"O1432+O1468+Smites!O444/('Base Numbers'!$C$5*'Base Numbers'!$C$6)","v":26.44132174023125},{"$f":"P1432+P1468+Smites!P444/('Base Numbers'!$C$5*'Base Numbers'!$C$6)","v":25.495271441097653},{"$f":"Q1432+Q1468+Smites!Q444/('Base Numbers'!$C$5*'Base Numbers'!$C$6)","v":31.011604585223438},{"$f":"R1432+R1468+Smites!R444/('Base Numbers'!$C$5*'Base Numbers'!$C$6)","v":30.847591185975002},{"$f":"S1432+S1468+Smites!S444/('Base Numbers'!$C$5*'Base Numbers'!$C$6)","v":28.484053574378905},{"$f":"T1432+T1468+Smites!T444/('Base Numbers'!$C$5*'Base Numbers'!$C$6)","v":28.318536955645314},{"$f":"U1432+U1468+Smites!U444/('Base Numbers'!$C$5*'Base Numbers'!$C$6)","v":34.2753488322082},{"$f":"V1432+V1468+Smites!V444/('Base Numbers'!$C$5*'Base Numbers'!$C$6)","v":32.025985695413084},{"$f":"W1432+W1468+Smites!W444/('Base Numbers'!$C$5*'Base Numbers'!$C$6)","v":32.025679340625004},{"$f":"X1432+X1468+Smites!X444/('Base Numbers'!$C$5*'Base Numbers'!$C$6)","v":31.817959973437496}]
[]
[{"$nulls":3},"Maximum Damage Scenario results",1,2,3,4,5,6,7,8,9,10,11,12,13,14,15,16,17,18,19,20]
[{"$nulls":3},"smite dice available for smites using max Damage Scenario",{"$f":"CELL(\"contents\",INDIRECT(ADDRESS((MATCH(MAX(E1557:E1579),E1557:E1579,0)-1)*19+13,4+E6,1,1,\"Smites\")))","v":0},{"$f":"CELL(\"contents\",INDIRECT(ADDRESS((MATCH(MAX(F1557:F1579),F1557:F1579,0)-1)*19+13,4+F6,1,1,\"Smites\")))","v":0},{"$f":"CELL(\"contents\",INDIRECT(ADDRESS((MATCH(MAX(G1557:G1579),G1557:G1579,0)-1)*19+13,4+G6,1,1,\"Smites\")))","v":0},{"$f":"CELL(\"contents\",INDIRECT(ADDRESS((MATCH(MAX(H1557:H1579),H1557:H1579,0)-1)*19+13,4+H6,1,1,\"Smites\")))","v":0},{"$f":"CELL(\"contents\",INDIRECT(ADDRESS((MATCH(MAX(I1557:I1579),I1557:I1579,0)-1)*19+13,4+I6,1,1,\"Smites\")))","v":0},{"$f":"CELL(\"contents\",INDIRECT(ADDRESS((MATCH(MAX(J1557:J1579),J1557:J1579,0)-1)*19+13,4+J6,1,1,\"Smites\")))","v":0},{"$f":"CELL(\"contents\",INDIRECT(ADDRESS((MATCH(MAX(K1557:K1579),K1557:K1579,0)-1)*19+13,4+K6,1,1,\"Smites\")))","v":0},{"$f":"CELL(\"contents\",INDIRECT(ADDRESS((MATCH(MAX(L1557:L1579),L1557:L1579,0)-1)*19+13,4+L6,1,1,\"Smites\")))","v":0},{"$f":"CELL(\"contents\",INDIRECT(ADDRESS((MATCH(MAX(M1557:M1579),M1557:M1579,0)-1)*19+13,4+M6,1,1,\"Smites\")))","v":0},{"$f":"CELL(\"contents\",INDIRECT(ADDRESS((MATCH(MAX(N1557:N1579),N1557:N1579,0)-1)*19+13,4+N6,1,1,\"Smites\")))","v":0},{"$f":"CELL(\"contents\",INDIRECT(ADDRESS((MATCH(MAX(O1557:O1579),O1557:O1579,0)-1)*19+13,4+O6,1,1,\"Smites\")))","v":0},{"$f":"CELL(\"contents\",INDIRECT(ADDRESS((MATCH(MAX(P1557:P1579),P1557:P1579,0)-1)*19+13,4+P6,1,1,\"Smites\")))","v":0},{"$f":"CELL(\"contents\",INDIRECT(ADDRESS((MATCH(MAX(Q1557:Q1579),Q1557:Q1579,0)-1)*19+13,4+Q6,1,1,\"Smites\")))","v":0},{"$f":"CELL(\"contents\",INDIRECT(ADDRESS((MATCH(MAX(R1557:R1579),R1557:R1579,0)-1)*19+13,4+R6,1,1,\"Smites\")))","v":0},{"$f":"CELL(\"contents\",INDIRECT(ADDRESS((MATCH(MAX(S1557:S1579),S1557:S1579,0)-1)*19+13,4+S6,1,1,\"Smites\")))","v":0},{"$f":"CELL(\"contents\",INDIRECT(ADDRESS((MATCH(MAX(T1557:T1579),T1557:T1579,0)-1)*19+13,4+T6,1,1,\"Smites\")))","v":0},{"$f":"CELL(\"contents\",INDIRECT(ADDRESS((MATCH(MAX(U1557:U1579),U1557:U1579,0)-1)*19+13,4+U6,1,1,\"Smites\")))","v":0},{"$f":"CELL(\"contents\",INDIRECT(ADDRESS((MATCH(MAX(V1557:V1579),V1557:V1579,0)-1)*19+13,4+V6,1,1,\"Smites\")))","v":0},{"$f":"CELL(\"contents\",INDIRECT(ADDRESS((MATCH(MAX(W1557:W1579),W1557:W1579,0)-1)*19+13,4+W6,1,1,\"Smites\")))","v":0},{"$f":"CELL(\"contents\",INDIRECT(ADDRESS((MATCH(MAX(X1557:X1579),X1557:X1579,0)-1)*19+13,4+X6,1,1,\"Smites\")))","v":0}]
[{"$nulls":3},"spell levels + sorc points leftover after all smites",{"$f":"MAX(0,CELL(\"contents\",INDIRECT(ADDRESS((MATCH(MAX(E1557:E1579),E1557:E1579,0)-1)*19+24,4+E6,1,1,\"Smites\"))))","v":0},{"$f":"MAX(0,CELL(\"contents\",INDIRECT(ADDRESS((MATCH(MAX(F1557:F1579),F1557:F1579,0)-1)*19+24,4+F6,1,1,\"Smites\"))))","v":0},{"$f":"MAX(0,CELL(\"contents\",INDIRECT(ADDRESS((MATCH(MAX(G1557:G1579),G1557:G1579,0)-1)*19+24,4+G6,1,1,\"Smites\"))))","v":0},{"$f":"MAX(0,CELL(\"contents\",INDIRECT(ADDRESS((MATCH(MAX(H1557:H1579),H1557:H1579,0)-1)*19+24,4+H6,1,1,\"Smites\"))))","v":0},{"$f":"MAX(0,CELL(\"contents\",INDIRECT(ADDRESS((MATCH(MAX(I1557:I1579),I1557:I1579,0)-1)*19+24,4+I6,1,1,\"Smites\"))))","v":4},{"$f":"MAX(0,CELL(\"contents\",INDIRECT(ADDRESS((MATCH(MAX(J1557:J1579),J1557:J1579,0)-1)*19+24,4+J6,1,1,\"Smites\"))))","v":4},{"$f":"MAX(0,CELL(\"contents\",INDIRECT(ADDRESS((MATCH(MAX(K1557:K1579),K1557:K1579,0)-1)*19+24,4+K6,1,1,\"Smites\"))))","v":4},{"$f":"MAX(0,CELL(\"contents\",INDIRECT(ADDRESS((MATCH(MAX(L1557:L1579),L1557:L1579,0)-1)*19+24,4+L6,1,1,\"Smites\"))))","v":4},{"$f":"MAX(0,CELL(\"contents\",INDIRECT(ADDRESS((MATCH(MAX(M1557:M1579),M1557:M1579,0)-1)*19+24,4+M6,1,1,\"Smites\"))))","v":4},{"$f":"MAX(0,CELL(\"contents\",INDIRECT(ADDRESS((MATCH(MAX(N1557:N1579),N1557:N1579,0)-1)*19+24,4+N6,1,1,\"Smites\"))))","v":4},{"$f":"MAX(0,CELL(\"contents\",INDIRECT(ADDRESS((MATCH(MAX(O1557:O1579),O1557:O1579,0)-1)*19+24,4+O6,1,1,\"Smites\"))))","v":4},{"$f":"MAX(0,CELL(\"contents\",INDIRECT(ADDRESS((MATCH(MAX(P1557:P1579),P1557:P1579,0)-1)*19+24,4+P6,1,1,\"Smites\"))))","v":4},{"$f":"MAX(0,CELL(\"contents\",INDIRECT(ADDRESS((MATCH(MAX(Q1557:Q1579),Q1557:Q1579,0)-1)*19+24,4+Q6,1,1,\"Smites\"))))","v":4},{"$f":"MAX(0,CELL(\"contents\",INDIRECT(ADDRESS((MATCH(MAX(R1557:R1579),R1557:R1579,0)-1)*19+24,4+R6,1,1,\"Smites\"))))","v":4},{"$f":"MAX(0,CELL(\"contents\",INDIRECT(ADDRESS((MATCH(MAX(S1557:S1579),S1557:S1579,0)-1)*19+24,4+S6,1,1,\"Smites\"))))","v":4},{"$f":"MAX(0,CELL(\"contents\",INDIRECT(ADDRESS((MATCH(MAX(T1557:T1579),T1557:T1579,0)-1)*19+24,4+T6,1,1,\"Smites\"))))","v":4},{"$f":"MAX(0,CELL(\"contents\",INDIRECT(ADDRESS((MATCH(MAX(U1557:U1579),U1557:U1579,0)-1)*19+24,4+U6,1,1,\"Smites\"))))","v":4},{"$f":"MAX(0,CELL(\"contents\",INDIRECT(ADDRESS((MATCH(MAX(V1557:V1579),V1557:V1579,0)-1)*19+24,4+V6,1,1,\"Smites\"))))","v":4},{"$f":"MAX(0,CELL(\"contents\",INDIRECT(ADDRESS((MATCH(MAX(W1557:W1579),W1557:W1579,0)-1)*19+24,4+W6,1,1,\"Smites\"))))","v":4.770831803630529},{"$f":"MAX(0,CELL(\"contents\",INDIRECT(ADDRESS((MATCH(MAX(X1557:X1579),X1557:X1579,0)-1)*19+24,4+X6,1,1,\"Smites\"))))","v":4.770831803630529}]
[{"$nulls":3},"total smites performed using max Damage Scenario",{"$f":"CELL(\"contents\",INDIRECT(ADDRESS((MATCH(MAX(E1557:E1579),E1557:E1579,0)-1)*19+25,4+E6,1,1,\"Smites\")))","v":0},{"$f":"CELL(\"contents\",INDIRECT(ADDRESS((MATCH(MAX(F1557:F1579),F1557:F1579,0)-1)*19+25,4+F6,1,1,\"Smites\")))","v":0},{"$f":"CELL(\"contents\",INDIRECT(ADDRESS((MATCH(MAX(G1557:G1579),G1557:G1579,0)-1)*19+25,4+G6,1,1,\"Smites\")))","v":0},{"$f":"CELL(\"contents\",INDIRECT(ADDRESS((MATCH(MAX(H1557:H1579),H1557:H1579,0)-1)*19+25,4+H6,1,1,\"Smites\")))","v":0},{"$f":"CELL(\"contents\",INDIRECT(ADDRESS((MATCH(MAX(I1557:I1579),I1557:I1579,0)-1)*19+25,4+I6,1,1,\"Smites\")))","v":0},{"$f":"CELL(\"contents\",INDIRECT(ADDRESS((MATCH(MAX(J1557:J1579),J1557:J1579,0)-1)*19+25,4+J6,1,1,\"Smites\")))","v":0},{"$f":"CELL(\"contents\",INDIRECT(ADDRESS((MATCH(MAX(K1557:K1579),K1557:K1579,0)-1)*19+25,4+K6,1,1,\"Smites\")))","v":0},{"$f":"CELL(\"contents\",INDIRECT(ADDRESS((MATCH(MAX(L1557:L1579),L1557:L1579,0)-1)*19+25,4+L6,1,1,\"Smites\")))","v":0},{"$f":"CELL(\"contents\",INDIRECT(ADDRESS((MATCH(MAX(M1557:M1579),M1557:M1579,0)-1)*19+25,4+M6,1,1,\"Smites\")))","v":0},{"$f":"CELL(\"contents\",INDIRECT(ADDRESS((MATCH(MAX(N1557:N1579),N1557:N1579,0)-1)*19+25,4+N6,1,1,\"Smites\")))","v":0},{"$f":"CELL(\"contents\",INDIRECT(ADDRESS((MATCH(MAX(O1557:O1579),O1557:O1579,0)-1)*19+25,4+O6,1,1,\"Smites\")))","v":0},{"$f":"CELL(\"contents\",INDIRECT(ADDRESS((MATCH(MAX(P1557:P1579),P1557:P1579,0)-1)*19+25,4+P6,1,1,\"Smites\")))","v":0},{"$f":"CELL(\"contents\",INDIRECT(ADDRESS((MATCH(MAX(Q1557:Q1579),Q1557:Q1579,0)-1)*19+25,4+Q6,1,1,\"Smites\")))","v":0},{"$f":"CELL(\"contents\",INDIRECT(ADDRESS((MATCH(MAX(R1557:R1579),R1557:R1579,0)-1)*19+25,4+R6,1,1,\"Smites\")))","v":0},{"$f":"CELL(\"contents\",INDIRECT(ADDRESS((MATCH(MAX(S1557:S1579),S1557:S1579,0)-1)*19+25,4+S6,1,1,\"Smites\")))","v":0},{"$f":"CELL(\"contents\",INDIRECT(ADDRESS((MATCH(MAX(T1557:T1579),T1557:T1579,0)-1)*19+25,4+T6,1,1,\"Smites\")))","v":0},{"$f":"CELL(\"contents\",INDIRECT(ADDRESS((MATCH(MAX(U1557:U1579),U1557:U1579,0)-1)*19+25,4+U6,1,1,\"Smites\")))","v":0},{"$f":"CELL(\"contents\",INDIRECT(ADDRESS((MATCH(MAX(V1557:V1579),V1557:V1579,0)-1)*19+25,4+V6,1,1,\"Smites\")))","v":0},{"$f":"CELL(\"contents\",INDIRECT(ADDRESS((MATCH(MAX(W1557:W1579),W1557:W1579,0)-1)*19+25,4+W6,1,1,\"Smites\")))","v":0},{"$f":"CELL(\"contents\",INDIRECT(ADDRESS((MATCH(MAX(X1557:X1579),X1557:X1579,0)-1)*19+25,4+X6,1,1,\"Smites\")))","v":0}]
[{"$nulls":3},"total warlock smites performed in max Damage Scenario",{"$f":"MIN(E1584,CELL(\"contents\",INDIRECT(ADDRESS((MATCH(MAX(E1557:E1579),E1557:E1579,0)-1)*19+12,4+E6,1,1,\"Smites\")))/(E315+1))","v":0},{"$f":"MIN(F1584,CELL(\"contents\",INDIRECT(ADDRESS((MATCH(MAX(F1557:F1579),F1557:F1579,0)-1)*19+12,4+F6,1,1,\"Smites\")))/(F315+1))","v":0},{"$f":"MIN(G1584,CELL(\"contents\",INDIRECT(ADDRESS((MATCH(MAX(G1557:G1579),G1557:G1579,0)-1)*19+12,4+G6,1,1,\"Smites\")))/(G315+1))","v":0},{"$f":"MIN(H1584,CELL(\"contents\",INDIRECT(ADDRESS((MATCH(MAX(H1557:H1579),H1557:H1579,0)-1)*19+12,4+H6,1,1,\"Smites\")))/(H315+1))","v":0},{"$f":"MIN(I1584,CELL(\"contents\",INDIRECT(ADDRESS((MATCH(MAX(I1557:I1579),I1557:I1579,0)-1)*19+12,4+I6,1,1,\"Smites\")))/(I315+1))","v":0},{"$f":"MIN(J1584,CELL(\"contents\",INDIRECT(ADDRESS((MATCH(MAX(J1557:J1579),J1557:J1579,0)-1)*19+12,4+J6,1,1,\"Smites\")))/(J315+1))","v":0},{"$f":"MIN(K1584,CELL(\"contents\",INDIRECT(ADDRESS((MATCH(MAX(K1557:K1579),K1557:K1579,0)-1)*19+12,4+K6,1,1,\"Smites\")))/(K315+1))","v":0},{"$f":"MIN(L1584,CELL(\"contents\",INDIRECT(ADDRESS((MATCH(MAX(L1557:L1579),L1557:L1579,0)-1)*19+12,4+L6,1,1,\"Smites\")))/(L315+1))","v":0},{"$f":"MIN(M1584,CELL(\"contents\",INDIRECT(ADDRESS((MATCH(MAX(M1557:M1579),M1557:M1579,0)-1)*19+12,4+M6,1,1,\"Smites\")))/(M315+1))","v":0},{"$f":"MIN(N1584,CELL(\"contents\",INDIRECT(ADDRESS((MATCH(MAX(N1557:N1579),N1557:N1579,0)-1)*19+12,4+N6,1,1,\"Smites\")))/(N315+1))","v":0},{"$f":"MIN(O1584,CELL(\"contents\",INDIRECT(ADDRESS((MATCH(MAX(O1557:O1579),O1557:O1579,0)-1)*19+12,4+O6,1,1,\"Smites\")))/(O315+1))","v":0},{"$f":"MIN(P1584,CELL(\"contents\",INDIRECT(ADDRESS((MATCH(MAX(P1557:P1579),P1557:P1579,0)-1)*19+12,4+P6,1,1,\"Smites\")))/(P315+1))","v":0},{"$f":"MIN(Q1584,CELL(\"contents\",INDIRECT(ADDRESS((MATCH(MAX(Q1557:Q1579),Q1557:Q1579,0)-1)*19+12,4+Q6,1,1,\"Smites\")))/(Q315+1))","v":0},{"$f":"MIN(R1584,CELL(\"contents\",INDIRECT(ADDRESS((MATCH(MAX(R1557:R1579),R1557:R1579,0)-1)*19+12,4+R6,1,1,\"Smites\")))/(R315+1))","v":0},{"$f":"MIN(S1584,CELL(\"contents\",INDIRECT(ADDRESS((MATCH(MAX(S1557:S1579),S1557:S1579,0)-1)*19+12,4+S6,1,1,\"Smites\")))/(S315+1))","v":0},{"$f":"MIN(T1584,CELL(\"contents\",INDIRECT(ADDRESS((MATCH(MAX(T1557:T1579),T1557:T1579,0)-1)*19+12,4+T6,1,1,\"Smites\")))/(T315+1))","v":0},{"$f":"MIN(U1584,CELL(\"contents\",INDIRECT(ADDRESS((MATCH(MAX(U1557:U1579),U1557:U1579,0)-1)*19+12,4+U6,1,1,\"Smites\")))/(U315+1))","v":0},{"$f":"MIN(V1584,CELL(\"contents\",INDIRECT(ADDRESS((MATCH(MAX(V1557:V1579),V1557:V1579,0)-1)*19+12,4+V6,1,1,\"Smites\")))/(V315+1))","v":0},{"$f":"MIN(W1584,CELL(\"contents\",INDIRECT(ADDRESS((MATCH(MAX(W1557:W1579),W1557:W1579,0)-1)*19+12,4+W6,1,1,\"Smites\")))/(W315+1))","v":0},{"$f":"MIN(X1584,CELL(\"contents\",INDIRECT(ADDRESS((MATCH(MAX(X1557:X1579),X1557:X1579,0)-1)*19+12,4+X6,1,1,\"Smites\")))/(X315+1))","v":0}]
[{"$nulls":3},"total smiteable atacks per turn using max Damage Scenario",{"$f":"CELL(\"contents\",INDIRECT(ADDRESS(MATCH(MAX(E1557:E1579),E1557:E1579,0)+MATCH(\"Smite-qualified attacks per round incl haste\",$D1:$D1746,0),4+E6,1,1)))","v":1},{"$f":"CELL(\"contents\",INDIRECT(ADDRESS(MATCH(MAX(F1557:F1579),F1557:F1579,0)+MATCH(\"Smite-qualified attacks per round incl haste\",$D1:$D1746,0),4+F6,1,1)))","v":1},{"$f":"CELL(\"contents\",INDIRECT(ADDRESS(MATCH(MAX(G1557:G1579),G1557:G1579,0)+MATCH(\"Smite-qualified attacks per round incl haste\",$D1:$D1746,0),4+G6,1,1)))","v":1},{"$f":"CELL(\"contents\",INDIRECT(ADDRESS(MATCH(MAX(H1557:H1579),H1557:H1579,0)+MATCH(\"Smite-qualified attacks per round incl haste\",$D1:$D1746,0),4+H6,1,1)))","v":1},{"$f":"CELL(\"contents\",INDIRECT(ADDRESS(MATCH(MAX(I1557:I1579),I1557:I1579,0)+MATCH(\"Smite-qualified attacks per round incl haste\",$D1:$D1746,0),4+I6,1,1)))","v":2},{"$f":"CELL(\"contents\",INDIRECT(ADDRESS(MATCH(MAX(J1557:J1579),J1557:J1579,0)+MATCH(\"Smite-qualified attacks per round incl haste\",$D1:$D1746,0),4+J6,1,1)))","v":2},{"$f":"CELL(\"contents\",INDIRECT(ADDRESS(MATCH(MAX(K1557:K1579),K1557:K1579,0)+MATCH(\"Smite-qualified attacks per round incl haste\",$D1:$D1746,0),4+K6,1,1)))","v":2},{"$f":"CELL(\"contents\",INDIRECT(ADDRESS(MATCH(MAX(L1557:L1579),L1557:L1579,0)+MATCH(\"Smite-qualified attacks per round incl haste\",$D1:$D1746,0),4+L6,1,1)))","v":2},{"$f":"CELL(\"contents\",INDIRECT(ADDRESS(MATCH(MAX(M1557:M1579),M1557:M1579,0)+MATCH(\"Smite-qualified attacks per round incl haste\",$D1:$D1746,0),4+M6,1,1)))","v":2},{"$f":"CELL(\"contents\",INDIRECT(ADDRESS(MATCH(MAX(N1557:N1579),N1557:N1579,0)+MATCH(\"Smite-qualified attacks per round incl haste\",$D1:$D1746,0),4+N6,1,1)))","v":2},{"$f":"CELL(\"contents\",INDIRECT(ADDRESS(MATCH(MAX(O1557:O1579),O1557:O1579,0)+MATCH(\"Smite-qualified attacks per round incl haste\",$D1:$D1746,0),4+O6,1,1)))","v":2},{"$f":"CELL(\"contents\",INDIRECT(ADDRESS(MATCH(MAX(P1557:P1579),P1557:P1579,0)+MATCH(\"Smite-qualified attacks per round incl haste\",$D1:$D1746,0),4+P6,1,1)))","v":2},{"$f":"CELL(\"contents\",INDIRECT(ADDRESS(MATCH(MAX(Q1557:Q1579),Q1557:Q1579,0)+MATCH(\"Smite-qualified attacks per round incl haste\",$D1:$D1746,0),4+Q6,1,1)))","v":2},{"$f":"CELL(\"contents\",INDIRECT(ADDRESS(MATCH(MAX(R1557:R1579),R1557:R1579,0)+MATCH(\"Smite-qualified attacks per round incl haste\",$D1:$D1746,0),4+R6,1,1)))","v":2},{"$f":"CELL(\"contents\",INDIRECT(ADDRESS(MATCH(MAX(S1557:S1579),S1557:S1579,0)+MATCH(\"Smite-qualified attacks per round incl haste\",$D1:$D1746,0),4+S6,1,1)))","v":2},{"$f":"CELL(\"contents\",INDIRECT(ADDRESS(MATCH(MAX(T1557:T1579),T1557:T1579,0)+MATCH(\"Smite-qualified attacks per round incl haste\",$D1:$D1746,0),4+T6,1,1)))","v":2},{"$f":"CELL(\"contents\",INDIRECT(ADDRESS(MATCH(MAX(U1557:U1579),U1557:U1579,0)+MATCH(\"Smite-qualified attacks per round incl haste\",$D1:$D1746,0),4+U6,1,1)))","v":2},{"$f":"CELL(\"contents\",INDIRECT(ADDRESS(MATCH(MAX(V1557:V1579),V1557:V1579,0)+MATCH(\"Smite-qualified attacks per round incl haste\",$D1:$D1746,0),4+V6,1,1)))","v":2},{"$f":"CELL(\"contents\",INDIRECT(ADDRESS(MATCH(MAX(W1557:W1579),W1557:W1579,0)+MATCH(\"Smite-qualified attacks per round incl haste\",$D1:$D1746,0),4+W6,1,1)))","v":2},{"$f":"CELL(\"contents\",INDIRECT(ADDRESS(MATCH(MAX(X1557:X1579),X1557:X1579,0)+MATCH(\"Smite-qualified attacks per round incl haste\",$D1:$D1746,0),4+X6,1,1)))","v":2}]
[{"$nulls":3},"total crits per round using max Damage Scenario",{"$f":"CELL(\"contents\",INDIRECT(ADDRESS(MATCH(MAX(E1557:E1579),E1557:E1579,0)+MATCH(\"Crit rate per round: (incl haste)\",$D1:$D1746,0),4+E6,1,1)))","v":0.05},{"$f":"CELL(\"contents\",INDIRECT(ADDRESS(MATCH(MAX(F1557:F1579),F1557:F1579,0)+MATCH(\"Crit rate per round: (incl haste)\",$D1:$D1746,0),4+F6,1,1)))","v":0.05},{"$f":"CELL(\"contents\",INDIRECT(ADDRESS(MATCH(MAX(G1557:G1579),G1557:G1579,0)+MATCH(\"Crit rate per round: (incl haste)\",$D1:$D1746,0),4+G6,1,1)))","v":0.06559425000000002},{"$f":"CELL(\"contents\",INDIRECT(ADDRESS(MATCH(MAX(H1557:H1579),H1557:H1579,0)+MATCH(\"Crit rate per round: (incl haste)\",$D1:$D1746,0),4+H6,1,1)))","v":0.06623075},{"$f":"CELL(\"contents\",INDIRECT(ADDRESS(MATCH(MAX(I1557:I1579),I1557:I1579,0)+MATCH(\"Crit rate per round: (incl haste)\",$D1:$D1746,0),4+I6,1,1)))","v":0.13373450000000003},{"$f":"CELL(\"contents\",INDIRECT(ADDRESS(MATCH(MAX(J1557:J1579),J1557:J1579,0)+MATCH(\"Crit rate per round: (incl haste)\",$D1:$D1746,0),4+J6,1,1)))","v":0.13373450000000003},{"$f":"CELL(\"contents\",INDIRECT(ADDRESS(MATCH(MAX(K1557:K1579),K1557:K1579,0)+MATCH(\"Crit rate per round: (incl haste)\",$D1:$D1746,0),4+K6,1,1)))","v":0.13373450000000003},{"$f":"CELL(\"contents\",INDIRECT(ADDRESS(MATCH(MAX(L1557:L1579),L1557:L1579,0)+MATCH(\"Crit rate per round: (incl haste)\",$D1:$D1746,0),4+L6,1,1)))","v":0.13373450000000003},{"$f":"CELL(\"contents\",INDIRECT(ADDRESS(MATCH(MAX(M1557:M1579),M1557:M1579,0)+MATCH(\"Crit rate per round: (incl haste)\",$D1:$D1746,0),4+M6,1,1)))","v":0.13309800000000002},{"$f":"CELL(\"contents\",INDIRECT(ADDRESS(MATCH(MAX(N1557:N1579),N1557:N1579,0)+MATCH(\"Crit rate per round: (incl haste)\",$D1:$D1746,0),4+N6,1,1)))","v":0.13182500000000003},{"$f":"CELL(\"contents\",INDIRECT(ADDRESS(MATCH(MAX(O1557:O1579),O1557:O1579,0)+MATCH(\"Crit rate per round: (incl haste)\",$D1:$D1746,0),4+O6,1,1)))","v":0.130552},{"$f":"CELL(\"contents\",INDIRECT(ADDRESS(MATCH(MAX(P1557:P1579),P1557:P1579,0)+MATCH(\"Crit rate per round: (incl haste)\",$D1:$D1746,0),4+P6,1,1)))","v":0.14051750000000002},{"$f":"CELL(\"contents\",INDIRECT(ADDRESS(MATCH(MAX(Q1557:Q1579),Q1557:Q1579,0)+MATCH(\"Crit rate per round: (incl haste)\",$D1:$D1746,0),4+Q6,1,1)))","v":0.13988100000000003},{"$f":"CELL(\"contents\",INDIRECT(ADDRESS(MATCH(MAX(R1557:R1579),R1557:R1579,0)+MATCH(\"Crit rate per round: (incl haste)\",$D1:$D1746,0),4+R6,1,1)))","v":0.13860800000000004},{"$f":"CELL(\"contents\",INDIRECT(ADDRESS(MATCH(MAX(S1557:S1579),S1557:S1579,0)+MATCH(\"Crit rate per round: (incl haste)\",$D1:$D1746,0),4+S6,1,1)))","v":0.13733500000000004},{"$f":"CELL(\"contents\",INDIRECT(ADDRESS(MATCH(MAX(T1557:T1579),T1557:T1579,0)+MATCH(\"Crit rate per round: (incl haste)\",$D1:$D1746,0),4+T6,1,1)))","v":0.13606200000000002},{"$f":"CELL(\"contents\",INDIRECT(ADDRESS(MATCH(MAX(U1557:U1579),U1557:U1579,0)+MATCH(\"Crit rate per round: (incl haste)\",$D1:$D1746,0),4+U6,1,1)))","v":0.16521275000000005},{"$f":"CELL(\"contents\",INDIRECT(ADDRESS(MATCH(MAX(V1557:V1579),V1557:V1579,0)+MATCH(\"Crit rate per round: (incl haste)\",$D1:$D1746,0),4+V6,1,1)))","v":0.16457625000000004},{"$f":"CELL(\"contents\",INDIRECT(ADDRESS(MATCH(MAX(W1557:W1579),W1557:W1579,0)+MATCH(\"Crit rate per round: (incl haste)\",$D1:$D1746,0),4+W6,1,1)))","v":0.16362150000000003},{"$f":"CELL(\"contents\",INDIRECT(ADDRESS(MATCH(MAX(X1557:X1579),X1557:X1579,0)+MATCH(\"Crit rate per round: (incl haste)\",$D1:$D1746,0),4+X6,1,1)))","v":0.16203025000000004}]
[{"$nulls":3},"Use BB over main attack?",{"$f":"CELL(\"contents\",INDIRECT(ADDRESS(MATCH(MAX(E1557:E1579),E1557:E1579,0)+6,5,1,1,\"Damage Scenarios\")))","v":0},{"$f":"CELL(\"contents\",INDIRECT(ADDRESS(MATCH(MAX(F1557:F1579),F1557:F1579,0)+6,5,1,1,\"Damage Scenarios\")))","v":0},{"$f":"CELL(\"contents\",INDIRECT(ADDRESS(MATCH(MAX(G1557:G1579),G1557:G1579,0)+6,5,1,1,\"Damage Scenarios\")))","v":0},{"$f":"CELL(\"contents\",INDIRECT(ADDRESS(MATCH(MAX(H1557:H1579),H1557:H1579,0)+6,5,1,1,\"Damage Scenarios\")))","v":0},{"$f":"CELL(\"contents\",INDIRECT(ADDRESS(MATCH(MAX(I1557:I1579),I1557:I1579,0)+6,5,1,1,\"Damage Scenarios\")))","v":0},{"$f":"CELL(\"contents\",INDIRECT(ADDRESS(MATCH(MAX(J1557:J1579),J1557:J1579,0)+6,5,1,1,\"Damage Scenarios\")))","v":0},{"$f":"CELL(\"contents\",INDIRECT(ADDRESS(MATCH(MAX(K1557:K1579),K1557:K1579,0)+6,5,1,1,\"Damage Scenarios\")))","v":0},{"$f":"CELL(\"contents\",INDIRECT(ADDRESS(MATCH(MAX(L1557:L1579),L1557:L1579,0)+6,5,1,1,\"Damage Scenarios\")))","v":0},{"$f":"CELL(\"contents\",INDIRECT(ADDRESS(MATCH(MAX(M1557:M1579),M1557:M1579,0)+6,5,1,1,\"Damage Scenarios\")))","v":0},{"$f":"CELL(\"contents\",INDIRECT(ADDRESS(MATCH(MAX(N1557:N1579),N1557:N1579,0)+6,5,1,1,\"Damage Scenarios\")))","v":0},{"$f":"CELL(\"contents\",INDIRECT(ADDRESS(MATCH(MAX(O1557:O1579),O1557:O1579,0)+6,5,1,1,\"Damage Scenarios\")))","v":0},{"$f":"CELL(\"contents\",INDIRECT(ADDRESS(MATCH(MAX(P1557:P1579),P1557:P1579,0)+6,5,1,1,\"Damage Scenarios\")))","v":0},{"$f":"CELL(\"contents\",INDIRECT(ADDRESS(MATCH(MAX(Q1557:Q1579),Q1557:Q1579,0)+6,5,1,1,\"Damage Scenarios\")))","v":0},{"$f":"CELL(\"contents\",INDIRECT(ADDRESS(MATCH(MAX(R1557:R1579),R1557:R1579,0)+6,5,1,1,\"Damage Scenarios\")))","v":0},{"$f":"CELL(\"contents\",INDIRECT(ADDRESS(MATCH(MAX(S1557:S1579),S1557:S1579,0)+6,5,1,1,\"Damage Scenarios\")))","v":0},{"$f":"CELL(\"contents\",INDIRECT(ADDRESS(MATCH(MAX(T1557:T1579),T1557:T1579,0)+6,5,1,1,\"Damage Scenarios\")))","v":0},{"$f":"CELL(\"contents\",INDIRECT(ADDRESS(MATCH(MAX(U1557:U1579),U1557:U1579,0)+6,5,1,1,\"Damage Scenarios\")))","v":0},{"$f":"CELL(\"contents\",INDIRECT(ADDRESS(MATCH(MAX(V1557:V1579),V1557:V1579,0)+6,5,1,1,\"Damage Scenarios\")))","v":0},{"$f":"CELL(\"contents\",INDIRECT(ADDRESS(MATCH(MAX(W1557:W1579),W1557:W1579,0)+6,5,1,1,\"Damage Scenarios\")))","v":0},{"$f":"CELL(\"contents\",INDIRECT(ADDRESS(MATCH(MAX(X1557:X1579),X1557:X1579,0)+6,5,1,1,\"Damage Scenarios\")))","v":0}]
[{"$nulls":3},"Use QBB?",{"$f":"CELL(\"contents\",INDIRECT(ADDRESS(MATCH(MAX(E1557:E1579),E1557:E1579,0)+6,7,1,1,\"Damage Scenarios\")))","v":0},{"$f":"CELL(\"contents\",INDIRECT(ADDRESS(MATCH(MAX(F1557:F1579),F1557:F1579,0)+6,7,1,1,\"Damage Scenarios\")))","v":0},{"$f":"CELL(\"contents\",INDIRECT(ADDRESS(MATCH(MAX(G1557:G1579),G1557:G1579,0)+6,7,1,1,\"Damage Scenarios\")))","v":0},{"$f":"CELL(\"contents\",INDIRECT(ADDRESS(MATCH(MAX(H1557:H1579),H1557:H1579,0)+6,7,1,1,\"Damage Scenarios\")))","v":0},{"$f":"CELL(\"contents\",INDIRECT(ADDRESS(MATCH(MAX(I1557:I1579),I1557:I1579,0)+6,7,1,1,\"Damage Scenarios\")))","v":0},{"$f":"CELL(\"contents\",INDIRECT(ADDRESS(MATCH(MAX(J1557:J1579),J1557:J1579,0)+6,7,1,1,\"Damage Scenarios\")))","v":0},{"$f":"CELL(\"contents\",INDIRECT(ADDRESS(MATCH(MAX(K1557:K1579),K1557:K1579,0)+6,7,1,1,\"Damage Scenarios\")))","v":0},{"$f":"CELL(\"contents\",INDIRECT(ADDRESS(MATCH(MAX(L1557:L1579),L1557:L1579,0)+6,7,1,1,\"Damage Scenarios\")))","v":0},{"$f":"CELL(\"contents\",INDIRECT(ADDRESS(MATCH(MAX(M1557:M1579),M1557:M1579,0)+6,7,1,1,\"Damage Scenarios\")))","v":0},{"$f":"CELL(\"contents\",INDIRECT(ADDRESS(MATCH(MAX(N1557:N1579),N1557:N1579,0)+6,7,1,1,\"Damage Scenarios\")))","v":0},{"$f":"CELL(\"contents\",INDIRECT(ADDRESS(MATCH(MAX(O1557:O1579),O1557:O1579,0)+6,7,1,1,\"Damage Scenarios\")))","v":0},{"$f":"CELL(\"contents\",INDIRECT(ADDRESS(MATCH(MAX(P1557:P1579),P1557:P1579,0)+6,7,1,1,\"Damage Scenarios\")))","v":0},{"$f":"CELL(\"contents\",INDIRECT(ADDRESS(MATCH(MAX(Q1557:Q1579),Q1557:Q1579,0)+6,7,1,1,\"Damage Scenarios\")))","v":0},{"$f":"CELL(\"contents\",INDIRECT(ADDRESS(MATCH(MAX(R1557:R1579),R1557:R1579,0)+6,7,1,1,\"Damage Scenarios\")))","v":0},{"$f":"CELL(\"contents\",INDIRECT(ADDRESS(MATCH(MAX(S1557:S1579),S1557:S1579,0)+6,7,1,1,\"Damage Scenarios\")))","v":0},{"$f":"CELL(\"contents\",INDIRECT(ADDRESS(MATCH(MAX(T1557:T1579),T1557:T1579,0)+6,7,1,1,\"Damage Scenarios\")))","v":0},{"$f":"CELL(\"contents\",INDIRECT(ADDRESS(MATCH(MAX(U1557:U1579),U1557:U1579,0)+6,7,1,1,\"Damage Scenarios\")))","v":0},{"$f":"CELL(\"contents\",INDIRECT(ADDRESS(MATCH(MAX(V1557:V1579),V1557:V1579,0)+6,7,1,1,\"Damage Scenarios\")))","v":0},{"$f":"CELL(\"contents\",INDIRECT(ADDRESS(MATCH(MAX(W1557:W1579),W1557:W1579,0)+6,7,1,1,\"Damage Scenarios\")))","v":0},{"$f":"CELL(\"contents\",INDIRECT(ADDRESS(MATCH(MAX(X1557:X1579),X1557:X1579,0)+6,7,1,1,\"Damage Scenarios\")))","v":0}]
[{"$nulls":3},"Use QEB/Quicken Cantrip?",{"$f":"IF(E622,CELL(\"contents\",INDIRECT(ADDRESS(MATCH(MAX(E1557:E1579),E1557:E1579,0)+6,8,1,1,\"Damage Scenarios\"))),0)","v":0},{"$f":"IF(F622,CELL(\"contents\",INDIRECT(ADDRESS(MATCH(MAX(F1557:F1579),F1557:F1579,0)+6,8,1,1,\"Damage Scenarios\"))),0)","v":0},{"$f":"IF(G622,CELL(\"contents\",INDIRECT(ADDRESS(MATCH(MAX(G1557:G1579),G1557:G1579,0)+6,8,1,1,\"Damage Scenarios\"))),0)","v":0},{"$f":"IF(H622,CELL(\"contents\",INDIRECT(ADDRESS(MATCH(MAX(H1557:H1579),H1557:H1579,0)+6,8,1,1,\"Damage Scenarios\"))),0)","v":0},{"$f":"IF(I622,CELL(\"contents\",INDIRECT(ADDRESS(MATCH(MAX(I1557:I1579),I1557:I1579,0)+6,8,1,1,\"Damage Scenarios\"))),0)","v":0},{"$f":"IF(J622,CELL(\"contents\",INDIRECT(ADDRESS(MATCH(MAX(J1557:J1579),J1557:J1579,0)+6,8,1,1,\"Damage Scenarios\"))),0)","v":0},{"$f":"IF(K622,CELL(\"contents\",INDIRECT(ADDRESS(MATCH(MAX(K1557:K1579),K1557:K1579,0)+6,8,1,1,\"Damage Scenarios\"))),0)","v":0},{"$f":"IF(L622,CELL(\"contents\",INDIRECT(ADDRESS(MATCH(MAX(L1557:L1579),L1557:L1579,0)+6,8,1,1,\"Damage Scenarios\"))),0)","v":0},{"$f":"IF(M622,CELL(\"contents\",INDIRECT(ADDRESS(MATCH(MAX(M1557:M1579),M1557:M1579,0)+6,8,1,1,\"Damage Scenarios\"))),0)","v":0},{"$f":"IF(N622,CELL(\"contents\",INDIRECT(ADDRESS(MATCH(MAX(N1557:N1579),N1557:N1579,0)+6,8,1,1,\"Damage Scenarios\"))),0)","v":0},{"$f":"IF(O622,CELL(\"contents\",INDIRECT(ADDRESS(MATCH(MAX(O1557:O1579),O1557:O1579,0)+6,8,1,1,\"Damage Scenarios\"))),0)","v":0},{"$f":"IF(P622,CELL(\"contents\",INDIRECT(ADDRESS(MATCH(MAX(P1557:P1579),P1557:P1579,0)+6,8,1,1,\"Damage Scenarios\"))),0)","v":0},{"$f":"IF(Q622,CELL(\"contents\",INDIRECT(ADDRESS(MATCH(MAX(Q1557:Q1579),Q1557:Q1579,0)+6,8,1,1,\"Damage Scenarios\"))),0)","v":0},{"$f":"IF(R622,CELL(\"contents\",INDIRECT(ADDRESS(MATCH(MAX(R1557:R1579),R1557:R1579,0)+6,8,1,1,\"Damage Scenarios\"))),0)","v":0},{"$f":"IF(S622,CELL(\"contents\",INDIRECT(ADDRESS(MATCH(MAX(S1557:S1579),S1557:S1579,0)+6,8,1,1,\"Damage Scenarios\"))),0)","v":0},{"$f":"IF(T622,CELL(\"contents\",INDIRECT(ADDRESS(MATCH(MAX(T1557:T1579),T1557:T1579,0)+6,8,1,1,\"Damage Scenarios\"))),0)","v":0},{"$f":"IF(U622,CELL(\"contents\",INDIRECT(ADDRESS(MATCH(MAX(U1557:U1579),U1557:U1579,0)+6,8,1,1,\"Damage Scenarios\"))),0)","v":0},{"$f":"IF(V622,CELL(\"contents\",INDIRECT(ADDRESS(MATCH(MAX(V1557:V1579),V1557:V1579,0)+6,8,1,1,\"Damage Scenarios\"))),0)","v":0},{"$f":"IF(W622,CELL(\"contents\",INDIRECT(ADDRESS(MATCH(MAX(W1557:W1579),W1557:W1579,0)+6,8,1,1,\"Damage Scenarios\"))),0)","v":0},{"$f":"IF(X622,CELL(\"contents\",INDIRECT(ADDRESS(MATCH(MAX(X1557:X1579),X1557:X1579,0)+6,8,1,1,\"Damage Scenarios\"))),0)","v":0}]
[{"$nulls":3},"Use EB over main attack?",{"$f":"CELL(\"contents\",INDIRECT(ADDRESS(MATCH(MAX(E1557:E1579),E1557:E1579,0)+6,6,1,1,\"Damage Scenarios\")))","v":0},{"$f":"CELL(\"contents\",INDIRECT(ADDRESS(MATCH(MAX(F1557:F1579),F1557:F1579,0)+6,6,1,1,\"Damage Scenarios\")))","v":0},{"$f":"CELL(\"contents\",INDIRECT(ADDRESS(MATCH(MAX(G1557:G1579),G1557:G1579,0)+6,6,1,1,\"Damage Scenarios\")))","v":0},{"$f":"CELL(\"contents\",INDIRECT(ADDRESS(MATCH(MAX(H1557:H1579),H1557:H1579,0)+6,6,1,1,\"Damage Scenarios\")))","v":0},{"$f":"CELL(\"contents\",INDIRECT(ADDRESS(MATCH(MAX(I1557:I1579),I1557:I1579,0)+6,6,1,1,\"Damage Scenarios\")))","v":0},{"$f":"CELL(\"contents\",INDIRECT(ADDRESS(MATCH(MAX(J1557:J1579),J1557:J1579,0)+6,6,1,1,\"Damage Scenarios\")))","v":0},{"$f":"CELL(\"contents\",INDIRECT(ADDRESS(MATCH(MAX(K1557:K1579),K1557:K1579,0)+6,6,1,1,\"Damage Scenarios\")))","v":0},{"$f":"CELL(\"contents\",INDIRECT(ADDRESS(MATCH(MAX(L1557:L1579),L1557:L1579,0)+6,6,1,1,\"Damage Scenarios\")))","v":0},{"$f":"CELL(\"contents\",INDIRECT(ADDRESS(MATCH(MAX(M1557:M1579),M1557:M1579,0)+6,6,1,1,\"Damage Scenarios\")))","v":0},{"$f":"CELL(\"contents\",INDIRECT(ADDRESS(MATCH(MAX(N1557:N1579),N1557:N1579,0)+6,6,1,1,\"Damage Scenarios\")))","v":0},{"$f":"CELL(\"contents\",INDIRECT(ADDRESS(MATCH(MAX(O1557:O1579),O1557:O1579,0)+6,6,1,1,\"Damage Scenarios\")))","v":0},{"$f":"CELL(\"contents\",INDIRECT(ADDRESS(MATCH(MAX(P1557:P1579),P1557:P1579,0)+6,6,1,1,\"Damage Scenarios\")))","v":0},{"$f":"CELL(\"contents\",INDIRECT(ADDRESS(MATCH(MAX(Q1557:Q1579),Q1557:Q1579,0)+6,6,1,1,\"Damage Scenarios\")))","v":0},{"$f":"CELL(\"contents\",INDIRECT(ADDRESS(MATCH(MAX(R1557:R1579),R1557:R1579,0)+6,6,1,1,\"Damage Scenarios\")))","v":0},{"$f":"CELL(\"contents\",INDIRECT(ADDRESS(MATCH(MAX(S1557:S1579),S1557:S1579,0)+6,6,1,1,\"Damage Scenarios\")))","v":0},{"$f":"CELL(\"contents\",INDIRECT(ADDRESS(MATCH(MAX(T1557:T1579),T1557:T1579,0)+6,6,1,1,\"Damage Scenarios\")))","v":0},{"$f":"CELL(\"contents\",INDIRECT(ADDRESS(MATCH(MAX(U1557:U1579),U1557:U1579,0)+6,6,1,1,\"Damage Scenarios\")))","v":0},{"$f":"CELL(\"contents\",INDIRECT(ADDRESS(MATCH(MAX(V1557:V1579),V1557:V1579,0)+6,6,1,1,\"Damage Scenarios\")))","v":0},{"$f":"CELL(\"contents\",INDIRECT(ADDRESS(MATCH(MAX(W1557:W1579),W1557:W1579,0)+6,6,1,1,\"Damage Scenarios\")))","v":0},{"$f":"CELL(\"contents\",INDIRECT(ADDRESS(MATCH(MAX(X1557:X1579),X1557:X1579,0)+6,6,1,1,\"Damage Scenarios\")))","v":0}]
[{"$nulls":3},"Fight from Range?",{"$f":"CELL(\"contents\",INDIRECT(ADDRESS(MATCH(MAX(E1557:E1579),E1557:E1579,0)+6,9,1,1,\"Damage Scenarios\")))","v":1},{"$f":"CELL(\"contents\",INDIRECT(ADDRESS(MATCH(MAX(F1557:F1579),F1557:F1579,0)+6,9,1,1,\"Damage Scenarios\")))","v":1},{"$f":"CELL(\"contents\",INDIRECT(ADDRESS(MATCH(MAX(G1557:G1579),G1557:G1579,0)+6,9,1,1,\"Damage Scenarios\")))","v":1},{"$f":"CELL(\"contents\",INDIRECT(ADDRESS(MATCH(MAX(H1557:H1579),H1557:H1579,0)+6,9,1,1,\"Damage Scenarios\")))","v":1},{"$f":"CELL(\"contents\",INDIRECT(ADDRESS(MATCH(MAX(I1557:I1579),I1557:I1579,0)+6,9,1,1,\"Damage Scenarios\")))","v":1},{"$f":"CELL(\"contents\",INDIRECT(ADDRESS(MATCH(MAX(J1557:J1579),J1557:J1579,0)+6,9,1,1,\"Damage Scenarios\")))","v":1},{"$f":"CELL(\"contents\",INDIRECT(ADDRESS(MATCH(MAX(K1557:K1579),K1557:K1579,0)+6,9,1,1,\"Damage Scenarios\")))","v":1},{"$f":"CELL(\"contents\",INDIRECT(ADDRESS(MATCH(MAX(L1557:L1579),L1557:L1579,0)+6,9,1,1,\"Damage Scenarios\")))","v":1},{"$f":"CELL(\"contents\",INDIRECT(ADDRESS(MATCH(MAX(M1557:M1579),M1557:M1579,0)+6,9,1,1,\"Damage Scenarios\")))","v":1},{"$f":"CELL(\"contents\",INDIRECT(ADDRESS(MATCH(MAX(N1557:N1579),N1557:N1579,0)+6,9,1,1,\"Damage Scenarios\")))","v":1},{"$f":"CELL(\"contents\",INDIRECT(ADDRESS(MATCH(MAX(O1557:O1579),O1557:O1579,0)+6,9,1,1,\"Damage Scenarios\")))","v":1},{"$f":"CELL(\"contents\",INDIRECT(ADDRESS(MATCH(MAX(P1557:P1579),P1557:P1579,0)+6,9,1,1,\"Damage Scenarios\")))","v":1},{"$f":"CELL(\"contents\",INDIRECT(ADDRESS(MATCH(MAX(Q1557:Q1579),Q1557:Q1579,0)+6,9,1,1,\"Damage Scenarios\")))","v":1},{"$f":"CELL(\"contents\",INDIRECT(ADDRESS(MATCH(MAX(R1557:R1579),R1557:R1579,0)+6,9,1,1,\"Damage Scenarios\")))","v":1},{"$f":"CELL(\"contents\",INDIRECT(ADDRESS(MATCH(MAX(S1557:S1579),S1557:S1579,0)+6,9,1,1,\"Damage Scenarios\")))","v":1},{"$f":"CELL(\"contents\",INDIRECT(ADDRESS(MATCH(MAX(T1557:T1579),T1557:T1579,0)+6,9,1,1,\"Damage Scenarios\")))","v":1},{"$f":"CELL(\"contents\",INDIRECT(ADDRESS(MATCH(MAX(U1557:U1579),U1557:U1579,0)+6,9,1,1,\"Damage Scenarios\")))","v":1},{"$f":"CELL(\"contents\",INDIRECT(ADDRESS(MATCH(MAX(V1557:V1579),V1557:V1579,0)+6,9,1,1,\"Damage Scenarios\")))","v":1},{"$f":"CELL(\"contents\",INDIRECT(ADDRESS(MATCH(MAX(W1557:W1579),W1557:W1579,0)+6,9,1,1,\"Damage Scenarios\")))","v":1},{"$f":"CELL(\"contents\",INDIRECT(ADDRESS(MATCH(MAX(X1557:X1579),X1557:X1579,0)+6,9,1,1,\"Damage Scenarios\")))","v":1}]
[{"$nulls":3},"Main attack scenario (M#)",{"$f":"CELL(\"contents\",INDIRECT(ADDRESS(MATCH(MAX(E1557:E1579),E1557:E1579,0)+6,10,1,1,\"Damage Scenarios\")))","v":5},{"$f":"CELL(\"contents\",INDIRECT(ADDRESS(MATCH(MAX(F1557:F1579),F1557:F1579,0)+6,10,1,1,\"Damage Scenarios\")))","v":5},{"$f":"CELL(\"contents\",INDIRECT(ADDRESS(MATCH(MAX(G1557:G1579),G1557:G1579,0)+6,10,1,1,\"Damage Scenarios\")))","v":5},{"$f":"CELL(\"contents\",INDIRECT(ADDRESS(MATCH(MAX(H1557:H1579),H1557:H1579,0)+6,10,1,1,\"Damage Scenarios\")))","v":5},{"$f":"CELL(\"contents\",INDIRECT(ADDRESS(MATCH(MAX(I1557:I1579),I1557:I1579,0)+6,10,1,1,\"Damage Scenarios\")))","v":5},{"$f":"CELL(\"contents\",INDIRECT(ADDRESS(MATCH(MAX(J1557:J1579),J1557:J1579,0)+6,10,1,1,\"Damage Scenarios\")))","v":5},{"$f":"CELL(\"contents\",INDIRECT(ADDRESS(MATCH(MAX(K1557:K1579),K1557:K1579,0)+6,10,1,1,\"Damage Scenarios\")))","v":5},{"$f":"CELL(\"contents\",INDIRECT(ADDRESS(MATCH(MAX(L1557:L1579),L1557:L1579,0)+6,10,1,1,\"Damage Scenarios\")))","v":5},{"$f":"CELL(\"contents\",INDIRECT(ADDRESS(MATCH(MAX(M1557:M1579),M1557:M1579,0)+6,10,1,1,\"Damage Scenarios\")))","v":5},{"$f":"CELL(\"contents\",INDIRECT(ADDRESS(MATCH(MAX(N1557:N1579),N1557:N1579,0)+6,10,1,1,\"Damage Scenarios\")))","v":5},{"$f":"CELL(\"contents\",INDIRECT(ADDRESS(MATCH(MAX(O1557:O1579),O1557:O1579,0)+6,10,1,1,\"Damage Scenarios\")))","v":5},{"$f":"CELL(\"contents\",INDIRECT(ADDRESS(MATCH(MAX(P1557:P1579),P1557:P1579,0)+6,10,1,1,\"Damage Scenarios\")))","v":5},{"$f":"CELL(\"contents\",INDIRECT(ADDRESS(MATCH(MAX(Q1557:Q1579),Q1557:Q1579,0)+6,10,1,1,\"Damage Scenarios\")))","v":5},{"$f":"CELL(\"contents\",INDIRECT(ADDRESS(MATCH(MAX(R1557:R1579),R1557:R1579,0)+6,10,1,1,\"Damage Scenarios\")))","v":5},{"$f":"CELL(\"contents\",INDIRECT(ADDRESS(MATCH(MAX(S1557:S1579),S1557:S1579,0)+6,10,1,1,\"Damage Scenarios\")))","v":5},{"$f":"CELL(\"contents\",INDIRECT(ADDRESS(MATCH(MAX(T1557:T1579),T1557:T1579,0)+6,10,1,1,\"Damage Scenarios\")))","v":5},{"$f":"CELL(\"contents\",INDIRECT(ADDRESS(MATCH(MAX(U1557:U1579),U1557:U1579,0)+6,10,1,1,\"Damage Scenarios\")))","v":5},{"$f":"CELL(\"contents\",INDIRECT(ADDRESS(MATCH(MAX(V1557:V1579),V1557:V1579,0)+6,10,1,1,\"Damage Scenarios\")))","v":5},{"$f":"CELL(\"contents\",INDIRECT(ADDRESS(MATCH(MAX(W1557:W1579),W1557:W1579,0)+6,10,1,1,\"Damage Scenarios\")))","v":5},{"$f":"CELL(\"contents\",INDIRECT(ADDRESS(MATCH(MAX(X1557:X1579),X1557:X1579,0)+6,10,1,1,\"Damage Scenarios\")))","v":5}]
[{"$nulls":3},"Bonus attack scenario (B#)",{"$f":"CELL(\"contents\",INDIRECT(ADDRESS(MATCH(MAX(E1557:E1579),E1557:E1579,0)+6,11,1,1,\"Damage Scenarios\")))","v":10},{"$f":"CELL(\"contents\",INDIRECT(ADDRESS(MATCH(MAX(F1557:F1579),F1557:F1579,0)+6,11,1,1,\"Damage Scenarios\")))","v":10},{"$f":"CELL(\"contents\",INDIRECT(ADDRESS(MATCH(MAX(G1557:G1579),G1557:G1579,0)+6,11,1,1,\"Damage Scenarios\")))","v":10},{"$f":"CELL(\"contents\",INDIRECT(ADDRESS(MATCH(MAX(H1557:H1579),H1557:H1579,0)+6,11,1,1,\"Damage Scenarios\")))","v":10},{"$f":"CELL(\"contents\",INDIRECT(ADDRESS(MATCH(MAX(I1557:I1579),I1557:I1579,0)+6,11,1,1,\"Damage Scenarios\")))","v":10},{"$f":"CELL(\"contents\",INDIRECT(ADDRESS(MATCH(MAX(J1557:J1579),J1557:J1579,0)+6,11,1,1,\"Damage Scenarios\")))","v":10},{"$f":"CELL(\"contents\",INDIRECT(ADDRESS(MATCH(MAX(K1557:K1579),K1557:K1579,0)+6,11,1,1,\"Damage Scenarios\")))","v":10},{"$f":"CELL(\"contents\",INDIRECT(ADDRESS(MATCH(MAX(L1557:L1579),L1557:L1579,0)+6,11,1,1,\"Damage Scenarios\")))","v":10},{"$f":"CELL(\"contents\",INDIRECT(ADDRESS(MATCH(MAX(M1557:M1579),M1557:M1579,0)+6,11,1,1,\"Damage Scenarios\")))","v":10},{"$f":"CELL(\"contents\",INDIRECT(ADDRESS(MATCH(MAX(N1557:N1579),N1557:N1579,0)+6,11,1,1,\"Damage Scenarios\")))","v":10},{"$f":"CELL(\"contents\",INDIRECT(ADDRESS(MATCH(MAX(O1557:O1579),O1557:O1579,0)+6,11,1,1,\"Damage Scenarios\")))","v":10},{"$f":"CELL(\"contents\",INDIRECT(ADDRESS(MATCH(MAX(P1557:P1579),P1557:P1579,0)+6,11,1,1,\"Damage Scenarios\")))","v":10},{"$f":"CELL(\"contents\",INDIRECT(ADDRESS(MATCH(MAX(Q1557:Q1579),Q1557:Q1579,0)+6,11,1,1,\"Damage Scenarios\")))","v":10},{"$f":"CELL(\"contents\",INDIRECT(ADDRESS(MATCH(MAX(R1557:R1579),R1557:R1579,0)+6,11,1,1,\"Damage Scenarios\")))","v":10},{"$f":"CELL(\"contents\",INDIRECT(ADDRESS(MATCH(MAX(S1557:S1579),S1557:S1579,0)+6,11,1,1,\"Damage Scenarios\")))","v":10},{"$f":"CELL(\"contents\",INDIRECT(ADDRESS(MATCH(MAX(T1557:T1579),T1557:T1579,0)+6,11,1,1,\"Damage Scenarios\")))","v":10},{"$f":"CELL(\"contents\",INDIRECT(ADDRESS(MATCH(MAX(U1557:U1579),U1557:U1579,0)+6,11,1,1,\"Damage Scenarios\")))","v":10},{"$f":"CELL(\"contents\",INDIRECT(ADDRESS(MATCH(MAX(V1557:V1579),V1557:V1579,0)+6,11,1,1,\"Damage Scenarios\")))","v":10},{"$f":"CELL(\"contents\",INDIRECT(ADDRESS(MATCH(MAX(W1557:W1579),W1557:W1579,0)+6,11,1,1,\"Damage Scenarios\")))","v":10},{"$f":"CELL(\"contents\",INDIRECT(ADDRESS(MATCH(MAX(X1557:X1579),X1557:X1579,0)+6,11,1,1,\"Damage Scenarios\")))","v":10}]
[{"$nulls":3},"Opp attack scenario (O#)",{"$f":"CELL(\"contents\",INDIRECT(ADDRESS(MATCH(MAX(E1557:E1579),E1557:E1579,0)+6,12,1,1,\"Damage Scenarios\")))","v":0},{"$f":"CELL(\"contents\",INDIRECT(ADDRESS(MATCH(MAX(F1557:F1579),F1557:F1579,0)+6,12,1,1,\"Damage Scenarios\")))","v":0},{"$f":"CELL(\"contents\",INDIRECT(ADDRESS(MATCH(MAX(G1557:G1579),G1557:G1579,0)+6,12,1,1,\"Damage Scenarios\")))","v":0},{"$f":"CELL(\"contents\",INDIRECT(ADDRESS(MATCH(MAX(H1557:H1579),H1557:H1579,0)+6,12,1,1,\"Damage Scenarios\")))","v":0},{"$f":"CELL(\"contents\",INDIRECT(ADDRESS(MATCH(MAX(I1557:I1579),I1557:I1579,0)+6,12,1,1,\"Damage Scenarios\")))","v":0},{"$f":"CELL(\"contents\",INDIRECT(ADDRESS(MATCH(MAX(J1557:J1579),J1557:J1579,0)+6,12,1,1,\"Damage Scenarios\")))","v":0},{"$f":"CELL(\"contents\",INDIRECT(ADDRESS(MATCH(MAX(K1557:K1579),K1557:K1579,0)+6,12,1,1,\"Damage Scenarios\")))","v":0},{"$f":"CELL(\"contents\",INDIRECT(ADDRESS(MATCH(MAX(L1557:L1579),L1557:L1579,0)+6,12,1,1,\"Damage Scenarios\")))","v":0},{"$f":"CELL(\"contents\",INDIRECT(ADDRESS(MATCH(MAX(M1557:M1579),M1557:M1579,0)+6,12,1,1,\"Damage Scenarios\")))","v":0},{"$f":"CELL(\"contents\",INDIRECT(ADDRESS(MATCH(MAX(N1557:N1579),N1557:N1579,0)+6,12,1,1,\"Damage Scenarios\")))","v":0},{"$f":"CELL(\"contents\",INDIRECT(ADDRESS(MATCH(MAX(O1557:O1579),O1557:O1579,0)+6,12,1,1,\"Damage Scenarios\")))","v":0},{"$f":"CELL(\"contents\",INDIRECT(ADDRESS(MATCH(MAX(P1557:P1579),P1557:P1579,0)+6,12,1,1,\"Damage Scenarios\")))","v":0},{"$f":"CELL(\"contents\",INDIRECT(ADDRESS(MATCH(MAX(Q1557:Q1579),Q1557:Q1579,0)+6,12,1,1,\"Damage Scenarios\")))","v":0},{"$f":"CELL(\"contents\",INDIRECT(ADDRESS(MATCH(MAX(R1557:R1579),R1557:R1579,0)+6,12,1,1,\"Damage Scenarios\")))","v":0},{"$f":"CELL(\"contents\",INDIRECT(ADDRESS(MATCH(MAX(S1557:S1579),S1557:S1579,0)+6,12,1,1,\"Damage Scenarios\")))","v":0},{"$f":"CELL(\"contents\",INDIRECT(ADDRESS(MATCH(MAX(T1557:T1579),T1557:T1579,0)+6,12,1,1,\"Damage Scenarios\")))","v":0},{"$f":"CELL(\"contents\",INDIRECT(ADDRESS(MATCH(MAX(U1557:U1579),U1557:U1579,0)+6,12,1,1,\"Damage Scenarios\")))","v":0},{"$f":"CELL(\"contents\",INDIRECT(ADDRESS(MATCH(MAX(V1557:V1579),V1557:V1579,0)+6,12,1,1,\"Damage Scenarios\")))","v":0},{"$f":"CELL(\"contents\",INDIRECT(ADDRESS(MATCH(MAX(W1557:W1579),W1557:W1579,0)+6,12,1,1,\"Damage Scenarios\")))","v":0},{"$f":"CELL(\"contents\",INDIRECT(ADDRESS(MATCH(MAX(X1557:X1579),X1557:X1579,0)+6,12,1,1,\"Damage Scenarios\")))","v":0}]
[{"$nulls":4}," "]
[{"$nulls":3},"main attack damage only",{"$f":"CELL(\"contents\",INDIRECT(ADDRESS(E1593+MATCH(\"Main Attack Scenarios\",$D1:$D1746,0),4+E6,1,1)))","v":5.253125000000001},{"$f":"CELL(\"contents\",INDIRECT(ADDRESS(F1593+MATCH(\"Main Attack Scenarios\",$D1:$D1746,0),4+F6,1,1)))","v":6.995585},{"$f":"CELL(\"contents\",INDIRECT(ADDRESS(G1593+MATCH(\"Main Attack Scenarios\",$D1:$D1746,0),4+G6,1,1)))","v":7.763531654921093},{"$f":"CELL(\"contents\",INDIRECT(ADDRESS(H1593+MATCH(\"Main Attack Scenarios\",$D1:$D1746,0),4+H6,1,1)))","v":10.877818560395314},{"$f":"CELL(\"contents\",INDIRECT(ADDRESS(I1593+MATCH(\"Main Attack Scenarios\",$D1:$D1746,0),4+I6,1,1)))","v":24.67755640045625},{"$f":"CELL(\"contents\",INDIRECT(ADDRESS(J1593+MATCH(\"Main Attack Scenarios\",$D1:$D1746,0),4+J6,1,1)))","v":22.6272673256625},{"$f":"CELL(\"contents\",INDIRECT(ADDRESS(K1593+MATCH(\"Main Attack Scenarios\",$D1:$D1746,0),4+K6,1,1)))","v":22.979112548833594},{"$f":"CELL(\"contents\",INDIRECT(ADDRESS(L1593+MATCH(\"Main Attack Scenarios\",$D1:$D1746,0),4+L6,1,1)))","v":22.979112548833594},{"$f":"CELL(\"contents\",INDIRECT(ADDRESS(M1593+MATCH(\"Main Attack Scenarios\",$D1:$D1746,0),4+M6,1,1)))","v":26.758954977698437},{"$f":"CELL(\"contents\",INDIRECT(ADDRESS(N1593+MATCH(\"Main Attack Scenarios\",$D1:$D1746,0),4+N6,1,1)))","v":26.60013835896485},{"$f":"CELL(\"contents\",INDIRECT(ADDRESS(O1593+MATCH(\"Main Attack Scenarios\",$D1:$D1746,0),4+O6,1,1)))","v":26.44132174023125},{"$f":"CELL(\"contents\",INDIRECT(ADDRESS(P1593+MATCH(\"Main Attack Scenarios\",$D1:$D1746,0),4+P6,1,1)))","v":25.495271441097653},{"$f":"CELL(\"contents\",INDIRECT(ADDRESS(Q1593+MATCH(\"Main Attack Scenarios\",$D1:$D1746,0),4+Q6,1,1)))","v":31.011604585223438},{"$f":"CELL(\"contents\",INDIRECT(ADDRESS(R1593+MATCH(\"Main Attack Scenarios\",$D1:$D1746,0),4+R6,1,1)))","v":30.847591185975002},{"$f":"CELL(\"contents\",INDIRECT(ADDRESS(S1593+MATCH(\"Main Attack Scenarios\",$D1:$D1746,0),4+S6,1,1)))","v":28.484053574378905},{"$f":"CELL(\"contents\",INDIRECT(ADDRESS(T1593+MATCH(\"Main Attack Scenarios\",$D1:$D1746,0),4+T6,1,1)))","v":28.318536955645314},{"$f":"CELL(\"contents\",INDIRECT(ADDRESS(U1593+MATCH(\"Main Attack Scenarios\",$D1:$D1746,0),4+U6,1,1)))","v":34.2753488322082},{"$f":"CELL(\"contents\",INDIRECT(ADDRESS(V1593+MATCH(\"Main Attack Scenarios\",$D1:$D1746,0),4+V6,1,1)))","v":32.025985695413084},{"$f":"CELL(\"contents\",INDIRECT(ADDRESS(W1593+MATCH(\"Main Attack Scenarios\",$D1:$D1746,0),4+W6,1,1)))","v":32.025679340625004},{"$f":"CELL(\"contents\",INDIRECT(ADDRESS(X1593+MATCH(\"Main Attack Scenarios\",$D1:$D1746,0),4+X6,1,1)))","v":31.817959973437496}]
[{"$nulls":3},"bonus attack damage only",{"$f":"CELL(\"contents\",INDIRECT(ADDRESS(E1594+MATCH(\"Bonus Attack Scenarios:\",$D1:$D1746,0),4+E6,1,1)))","v":0},{"$f":"CELL(\"contents\",INDIRECT(ADDRESS(F1594+MATCH(\"Bonus Attack Scenarios:\",$D1:$D1746,0),4+F6,1,1)))","v":0},{"$f":"CELL(\"contents\",INDIRECT(ADDRESS(G1594+MATCH(\"Bonus Attack Scenarios:\",$D1:$D1746,0),4+G6,1,1)))","v":0},{"$f":"CELL(\"contents\",INDIRECT(ADDRESS(H1594+MATCH(\"Bonus Attack Scenarios:\",$D1:$D1746,0),4+H6,1,1)))","v":0},{"$f":"CELL(\"contents\",INDIRECT(ADDRESS(I1594+MATCH(\"Bonus Attack Scenarios:\",$D1:$D1746,0),4+I6,1,1)))","v":0},{"$f":"CELL(\"contents\",INDIRECT(ADDRESS(J1594+MATCH(\"Bonus Attack Scenarios:\",$D1:$D1746,0),4+J6,1,1)))","v":0},{"$f":"CELL(\"contents\",INDIRECT(ADDRESS(K1594+MATCH(\"Bonus Attack Scenarios:\",$D1:$D1746,0),4+K6,1,1)))","v":0},{"$f":"CELL(\"contents\",INDIRECT(ADDRESS(L1594+MATCH(\"Bonus Attack Scenarios:\",$D1:$D1746,0),4+L6,1,1)))","v":0},{"$f":"CELL(\"contents\",INDIRECT(ADDRESS(M1594+MATCH(\"Bonus Attack Scenarios:\",$D1:$D1746,0),4+M6,1,1)))","v":0},{"$f":"CELL(\"contents\",INDIRECT(ADDRESS(N1594+MATCH(\"Bonus Attack Scenarios:\",$D1:$D1746,0),4+N6,1,1)))","v":0},{"$f":"CELL(\"contents\",INDIRECT(ADDRESS(O1594+MATCH(\"Bonus Attack Scenarios:\",$D1:$D1746,0),4+O6,1,1)))","v":0},{"$f":"CELL(\"contents\",INDIRECT(ADDRESS(P1594+MATCH(\"Bonus Attack Scenarios:\",$D1:$D1746,0),4+P6,1,1)))","v":0},{"$f":"CELL(\"contents\",INDIRECT(ADDRESS(Q1594+MATCH(\"Bonus Attack Scenarios:\",$D1:$D1746,0),4+Q6,1,1)))","v":0},{"$f":"CELL(\"contents\",INDIRECT(ADDRESS(R1594+MATCH(\"Bonus Attack Scenarios:\",$D1:$D1746,0),4+R6,1,1)))","v":0},{"$f":"CELL(\"contents\",INDIRECT(ADDRESS(S1594+MATCH(\"Bonus Attack Scenarios:\",$D1:$D1746,0),4+S6,1,1)))","v":0},{"$f":"CELL(\"contents\",INDIRECT(ADDRESS(T1594+MATCH(\"Bonus Attack Scenarios:\",$D1:$D1746,0),4+T6,1,1)))","v":0},{"$f":"CELL(\"contents\",INDIRECT(ADDRESS(U1594+MATCH(\"Bonus Attack Scenarios:\",$D1:$D1746,0),4+U6,1,1)))","v":0},{"$f":"CELL(\"contents\",INDIRECT(ADDRESS(V1594+MATCH(\"Bonus Attack Scenarios:\",$D1:$D1746,0),4+V6,1,1)))","v":0},{"$f":"CELL(\"contents\",INDIRECT(ADDRESS(W1594+MATCH(\"Bonus Attack Scenarios:\",$D1:$D1746,0),4+W6,1,1)))","v":0},{"$f":"CELL(\"contents\",INDIRECT(ADDRESS(X1594+MATCH(\"Bonus Attack Scenarios:\",$D1:$D1746,0),4+X6,1,1)))","v":0}]
[{"$nulls":3},"opp attack damage only",{"$f":"CELL(\"contents\",INDIRECT(ADDRESS(E1595+MATCH(\"Opportunity Attack Scenarios:\",$D1:$D1746,0),4+E6,1,1)))","v":0},{"$f":"CELL(\"contents\",INDIRECT(ADDRESS(F1595+MATCH(\"Opportunity Attack Scenarios:\",$D1:$D1746,0),4+F6,1,1)))","v":0},{"$f":"CELL(\"contents\",INDIRECT(ADDRESS(G1595+MATCH(\"Opportunity Attack Scenarios:\",$D1:$D1746,0),4+G6,1,1)))","v":0},{"$f":"CELL(\"contents\",INDIRECT(ADDRESS(H1595+MATCH(\"Opportunity Attack Scenarios:\",$D1:$D1746,0),4+H6,1,1)))","v":0},{"$f":"CELL(\"contents\",INDIRECT(ADDRESS(I1595+MATCH(\"Opportunity Attack Scenarios:\",$D1:$D1746,0),4+I6,1,1)))","v":0},{"$f":"CELL(\"contents\",INDIRECT(ADDRESS(J1595+MATCH(\"Opportunity Attack Scenarios:\",$D1:$D1746,0),4+J6,1,1)))","v":0},{"$f":"CELL(\"contents\",INDIRECT(ADDRESS(K1595+MATCH(\"Opportunity Attack Scenarios:\",$D1:$D1746,0),4+K6,1,1)))","v":0},{"$f":"CELL(\"contents\",INDIRECT(ADDRESS(L1595+MATCH(\"Opportunity Attack Scenarios:\",$D1:$D1746,0),4+L6,1,1)))","v":0},{"$f":"CELL(\"contents\",INDIRECT(ADDRESS(M1595+MATCH(\"Opportunity Attack Scenarios:\",$D1:$D1746,0),4+M6,1,1)))","v":0},{"$f":"CELL(\"contents\",INDIRECT(ADDRESS(N1595+MATCH(\"Opportunity Attack Scenarios:\",$D1:$D1746,0),4+N6,1,1)))","v":0},{"$f":"CELL(\"contents\",INDIRECT(ADDRESS(O1595+MATCH(\"Opportunity Attack Scenarios:\",$D1:$D1746,0),4+O6,1,1)))","v":0},{"$f":"CELL(\"contents\",INDIRECT(ADDRESS(P1595+MATCH(\"Opportunity Attack Scenarios:\",$D1:$D1746,0),4+P6,1,1)))","v":0},{"$f":"CELL(\"contents\",INDIRECT(ADDRESS(Q1595+MATCH(\"Opportunity Attack Scenarios:\",$D1:$D1746,0),4+Q6,1,1)))","v":0},{"$f":"CELL(\"contents\",INDIRECT(ADDRESS(R1595+MATCH(\"Opportunity Attack Scenarios:\",$D1:$D1746,0),4+R6,1,1)))","v":0},{"$f":"CELL(\"contents\",INDIRECT(ADDRESS(S1595+MATCH(\"Opportunity Attack Scenarios:\",$D1:$D1746,0),4+S6,1,1)))","v":0},{"$f":"CELL(\"contents\",INDIRECT(ADDRESS(T1595+MATCH(\"Opportunity Attack Scenarios:\",$D1:$D1746,0),4+T6,1,1)))","v":0},{"$f":"CELL(\"contents\",INDIRECT(ADDRESS(U1595+MATCH(\"Opportunity Attack Scenarios:\",$D1:$D1746,0),4+U6,1,1)))","v":0},{"$f":"CELL(\"contents\",INDIRECT(ADDRESS(V1595+MATCH(\"Opportunity Attack Scenarios:\",$D1:$D1746,0),4+V6,1,1)))","v":0},{"$f":"CELL(\"contents\",INDIRECT(ADDRESS(W1595+MATCH(\"Opportunity Attack Scenarios:\",$D1:$D1746,0),4+W6,1,1)))","v":0},{"$f":"CELL(\"contents\",INDIRECT(ADDRESS(X1595+MATCH(\"Opportunity Attack Scenarios:\",$D1:$D1746,0),4+X6,1,1)))","v":0}]
[{"$nulls":3},"number of main attacks (adj for spells)",{"$f":"CELL(\"contents\",INDIRECT(ADDRESS(E1593+12+MATCH(\"Main Attack Scenarios\",$D1:$D1746,0),4+E6,1,1)))","v":1},{"$f":"CELL(\"contents\",INDIRECT(ADDRESS(F1593+12+MATCH(\"Main Attack Scenarios\",$D1:$D1746,0),4+F6,1,1)))","v":1},{"$f":"CELL(\"contents\",INDIRECT(ADDRESS(G1593+12+MATCH(\"Main Attack Scenarios\",$D1:$D1746,0),4+G6,1,1)))","v":1},{"$f":"CELL(\"contents\",INDIRECT(ADDRESS(H1593+12+MATCH(\"Main Attack Scenarios\",$D1:$D1746,0),4+H6,1,1)))","v":1},{"$f":"CELL(\"contents\",INDIRECT(ADDRESS(I1593+12+MATCH(\"Main Attack Scenarios\",$D1:$D1746,0),4+I6,1,1)))","v":2},{"$f":"CELL(\"contents\",INDIRECT(ADDRESS(J1593+12+MATCH(\"Main Attack Scenarios\",$D1:$D1746,0),4+J6,1,1)))","v":2},{"$f":"CELL(\"contents\",INDIRECT(ADDRESS(K1593+12+MATCH(\"Main Attack Scenarios\",$D1:$D1746,0),4+K6,1,1)))","v":2},{"$f":"CELL(\"contents\",INDIRECT(ADDRESS(L1593+12+MATCH(\"Main Attack Scenarios\",$D1:$D1746,0),4+L6,1,1)))","v":2},{"$f":"CELL(\"contents\",INDIRECT(ADDRESS(M1593+12+MATCH(\"Main Attack Scenarios\",$D1:$D1746,0),4+M6,1,1)))","v":2},{"$f":"CELL(\"contents\",INDIRECT(ADDRESS(N1593+12+MATCH(\"Main Attack Scenarios\",$D1:$D1746,0),4+N6,1,1)))","v":2},{"$f":"CELL(\"contents\",INDIRECT(ADDRESS(O1593+12+MATCH(\"Main Attack Scenarios\",$D1:$D1746,0),4+O6,1,1)))","v":2},{"$f":"CELL(\"contents\",INDIRECT(ADDRESS(P1593+12+MATCH(\"Main Attack Scenarios\",$D1:$D1746,0),4+P6,1,1)))","v":2},{"$f":"CELL(\"contents\",INDIRECT(ADDRESS(Q1593+12+MATCH(\"Main Attack Scenarios\",$D1:$D1746,0),4+Q6,1,1)))","v":2},{"$f":"CELL(\"contents\",INDIRECT(ADDRESS(R1593+12+MATCH(\"Main Attack Scenarios\",$D1:$D1746,0),4+R6,1,1)))","v":2},{"$f":"CELL(\"contents\",INDIRECT(ADDRESS(S1593+12+MATCH(\"Main Attack Scenarios\",$D1:$D1746,0),4+S6,1,1)))","v":2},{"$f":"CELL(\"contents\",INDIRECT(ADDRESS(T1593+12+MATCH(\"Main Attack Scenarios\",$D1:$D1746,0),4+T6,1,1)))","v":2},{"$f":"CELL(\"contents\",INDIRECT(ADDRESS(U1593+12+MATCH(\"Main Attack Scenarios\",$D1:$D1746,0),4+U6,1,1)))","v":2},{"$f":"CELL(\"contents\",INDIRECT(ADDRESS(V1593+12+MATCH(\"Main Attack Scenarios\",$D1:$D1746,0),4+V6,1,1)))","v":2},{"$f":"CELL(\"contents\",INDIRECT(ADDRESS(W1593+12+MATCH(\"Main Attack Scenarios\",$D1:$D1746,0),4+W6,1,1)))","v":2},{"$f":"CELL(\"contents\",INDIRECT(ADDRESS(X1593+12+MATCH(\"Main Attack Scenarios\",$D1:$D1746,0),4+X6,1,1)))","v":2}]
[{"$nulls":3},"number of bonus attacks (adj for spells)",{"$f":"CELL(\"contents\",INDIRECT(ADDRESS(E1594+28+MATCH(\"Bonus Attack Scenarios:\",$D1:$D1746,0),4+E6,1,1)))","v":0},{"$f":"CELL(\"contents\",INDIRECT(ADDRESS(F1594+28+MATCH(\"Bonus Attack Scenarios:\",$D1:$D1746,0),4+F6,1,1)))","v":0},{"$f":"CELL(\"contents\",INDIRECT(ADDRESS(G1594+28+MATCH(\"Bonus Attack Scenarios:\",$D1:$D1746,0),4+G6,1,1)))","v":0},{"$f":"CELL(\"contents\",INDIRECT(ADDRESS(H1594+28+MATCH(\"Bonus Attack Scenarios:\",$D1:$D1746,0),4+H6,1,1)))","v":0},{"$f":"CELL(\"contents\",INDIRECT(ADDRESS(I1594+28+MATCH(\"Bonus Attack Scenarios:\",$D1:$D1746,0),4+I6,1,1)))","v":0},{"$f":"CELL(\"contents\",INDIRECT(ADDRESS(J1594+28+MATCH(\"Bonus Attack Scenarios:\",$D1:$D1746,0),4+J6,1,1)))","v":0},{"$f":"CELL(\"contents\",INDIRECT(ADDRESS(K1594+28+MATCH(\"Bonus Attack Scenarios:\",$D1:$D1746,0),4+K6,1,1)))","v":0},{"$f":"CELL(\"contents\",INDIRECT(ADDRESS(L1594+28+MATCH(\"Bonus Attack Scenarios:\",$D1:$D1746,0),4+L6,1,1)))","v":0},{"$f":"CELL(\"contents\",INDIRECT(ADDRESS(M1594+28+MATCH(\"Bonus Attack Scenarios:\",$D1:$D1746,0),4+M6,1,1)))","v":0},{"$f":"CELL(\"contents\",INDIRECT(ADDRESS(N1594+28+MATCH(\"Bonus Attack Scenarios:\",$D1:$D1746,0),4+N6,1,1)))","v":0},{"$f":"CELL(\"contents\",INDIRECT(ADDRESS(O1594+28+MATCH(\"Bonus Attack Scenarios:\",$D1:$D1746,0),4+O6,1,1)))","v":0},{"$f":"CELL(\"contents\",INDIRECT(ADDRESS(P1594+28+MATCH(\"Bonus Attack Scenarios:\",$D1:$D1746,0),4+P6,1,1)))","v":0},{"$f":"CELL(\"contents\",INDIRECT(ADDRESS(Q1594+28+MATCH(\"Bonus Attack Scenarios:\",$D1:$D1746,0),4+Q6,1,1)))","v":0},{"$f":"CELL(\"contents\",INDIRECT(ADDRESS(R1594+28+MATCH(\"Bonus Attack Scenarios:\",$D1:$D1746,0),4+R6,1,1)))","v":0},{"$f":"CELL(\"contents\",INDIRECT(ADDRESS(S1594+28+MATCH(\"Bonus Attack Scenarios:\",$D1:$D1746,0),4+S6,1,1)))","v":0},{"$f":"CELL(\"contents\",INDIRECT(ADDRESS(T1594+28+MATCH(\"Bonus Attack Scenarios:\",$D1:$D1746,0),4+T6,1,1)))","v":0},{"$f":"CELL(\"contents\",INDIRECT(ADDRESS(U1594+28+MATCH(\"Bonus Attack Scenarios:\",$D1:$D1746,0),4+U6,1,1)))","v":0},{"$f":"CELL(\"contents\",INDIRECT(ADDRESS(V1594+28+MATCH(\"Bonus Attack Scenarios:\",$D1:$D1746,0),4+V6,1,1)))","v":0},{"$f":"CELL(\"contents\",INDIRECT(ADDRESS(W1594+28+MATCH(\"Bonus Attack Scenarios:\",$D1:$D1746,0),4+W6,1,1)))","v":0},{"$f":"CELL(\"contents\",INDIRECT(ADDRESS(X1594+28+MATCH(\"Bonus Attack Scenarios:\",$D1:$D1746,0),4+X6,1,1)))","v":0}]
[{"$nulls":3},"number of opp attacks (unaffected by spells)",{"$f":"CELL(\"contents\",INDIRECT(ADDRESS(IF(E1595<3,1,2)+7+MATCH(\"Opportunity Attack Scenarios:\",$D1:$D1746,0),4+E6,1,1)))","v":0},{"$f":"CELL(\"contents\",INDIRECT(ADDRESS(IF(F1595<3,1,2)+7+MATCH(\"Opportunity Attack Scenarios:\",$D1:$D1746,0),4+F6,1,1)))","v":0},{"$f":"CELL(\"contents\",INDIRECT(ADDRESS(IF(G1595<3,1,2)+7+MATCH(\"Opportunity Attack Scenarios:\",$D1:$D1746,0),4+G6,1,1)))","v":0},{"$f":"CELL(\"contents\",INDIRECT(ADDRESS(IF(H1595<3,1,2)+7+MATCH(\"Opportunity Attack Scenarios:\",$D1:$D1746,0),4+H6,1,1)))","v":0},{"$f":"CELL(\"contents\",INDIRECT(ADDRESS(IF(I1595<3,1,2)+7+MATCH(\"Opportunity Attack Scenarios:\",$D1:$D1746,0),4+I6,1,1)))","v":0},{"$f":"CELL(\"contents\",INDIRECT(ADDRESS(IF(J1595<3,1,2)+7+MATCH(\"Opportunity Attack Scenarios:\",$D1:$D1746,0),4+J6,1,1)))","v":0},{"$f":"CELL(\"contents\",INDIRECT(ADDRESS(IF(K1595<3,1,2)+7+MATCH(\"Opportunity Attack Scenarios:\",$D1:$D1746,0),4+K6,1,1)))","v":0},{"$f":"CELL(\"contents\",INDIRECT(ADDRESS(IF(L1595<3,1,2)+7+MATCH(\"Opportunity Attack Scenarios:\",$D1:$D1746,0),4+L6,1,1)))","v":0},{"$f":"CELL(\"contents\",INDIRECT(ADDRESS(IF(M1595<3,1,2)+7+MATCH(\"Opportunity Attack Scenarios:\",$D1:$D1746,0),4+M6,1,1)))","v":0},{"$f":"CELL(\"contents\",INDIRECT(ADDRESS(IF(N1595<3,1,2)+7+MATCH(\"Opportunity Attack Scenarios:\",$D1:$D1746,0),4+N6,1,1)))","v":0},{"$f":"CELL(\"contents\",INDIRECT(ADDRESS(IF(O1595<3,1,2)+7+MATCH(\"Opportunity Attack Scenarios:\",$D1:$D1746,0),4+O6,1,1)))","v":0},{"$f":"CELL(\"contents\",INDIRECT(ADDRESS(IF(P1595<3,1,2)+7+MATCH(\"Opportunity Attack Scenarios:\",$D1:$D1746,0),4+P6,1,1)))","v":0},{"$f":"CELL(\"contents\",INDIRECT(ADDRESS(IF(Q1595<3,1,2)+7+MATCH(\"Opportunity Attack Scenarios:\",$D1:$D1746,0),4+Q6,1,1)))","v":0},{"$f":"CELL(\"contents\",INDIRECT(ADDRESS(IF(R1595<3,1,2)+7+MATCH(\"Opportunity Attack Scenarios:\",$D1:$D1746,0),4+R6,1,1)))","v":0},{"$f":"CELL(\"contents\",INDIRECT(ADDRESS(IF(S1595<3,1,2)+7+MATCH(\"Opportunity Attack Scenarios:\",$D1:$D1746,0),4+S6,1,1)))","v":0},{"$f":"CELL(\"contents\",INDIRECT(ADDRESS(IF(T1595<3,1,2)+7+MATCH(\"Opportunity Attack Scenarios:\",$D1:$D1746,0),4+T6,1,1)))","v":0},{"$f":"CELL(\"contents\",INDIRECT(ADDRESS(IF(U1595<3,1,2)+7+MATCH(\"Opportunity Attack Scenarios:\",$D1:$D1746,0),4+U6,1,1)))","v":0},{"$f":"CELL(\"contents\",INDIRECT(ADDRESS(IF(V1595<3,1,2)+7+MATCH(\"Opportunity Attack Scenarios:\",$D1:$D1746,0),4+V6,1,1)))","v":0},{"$f":"CELL(\"contents\",INDIRECT(ADDRESS(IF(W1595<3,1,2)+7+MATCH(\"Opportunity Attack Scenarios:\",$D1:$D1746,0),4+W6,1,1)))","v":0},{"$f":"CELL(\"contents\",INDIRECT(ADDRESS(IF(X1595<3,1,2)+7+MATCH(\"Opportunity Attack Scenarios:\",$D1:$D1746,0),4+X6,1,1)))","v":0}]
[{"$nulls":3},"main action spell pct (repeated)",{"$f":"E337","v":0},0,0,0,0,0,0,0,0,0,0,0,0,0,0,0,0,0,0,0]
[{"$nulls":3},"bonus action spell pct (incl directed actions)",{"$f":"(1-E342)","v":0},0.18865500000000002,0.3204825,0.3204825,0.45231,0.45231,0.48555562499999994,0.48555562499999994,0.48555562499999994,0.48555562499999994,0.48555562499999994,0.48555562499999994,0.48555562499999994,0.48555562499999994,0.48555562499999994,0.48555562499999994,0.48555562499999994,0.48555562499999994,0.44682301227309207,0.44682301227309207]
[{"$nulls":3},"total main attacks (un-adjusted)",{"$f":"IF(E1603<1,E1600/(1-E1603),0)","v":1},{"$f":"IF(F1603<1,F1600/(1-F1603),0)","v":1},1,1,2,2,2,2,2,2,2,2,2,2,2,2,2,2,2,2]
[{"$nulls":3},"total bonus attacks (un-adjusted)",{"$f":"IF(E1604=1,0,E1601/(1-E1604))","v":0},{"$f":"IF(F1604=1,0,F1601/(1-F1604))","v":0},0,0,0,0,0,0,0,0,0,0,0,0,0,0,0,0,0,0]
[{"$nulls":3},"approx spell crits per turn (adj for spells)",{"$f":"IF(E1593=4,IF(E677,E682,IF(E703,1,0)),0)*E537*(1-E337)+IF(E1590=1,IF(E677,E682,IF(E703,1,0)),0)*E538*E342*E627","v":0},0,0,0,0,0,0,0,0,0,0,0,0,0,0,0,0,0,0,0]
[{"$nulls":3},"pct of rounds with at least one main or haste hit",{"$f":"(1-E1603)*(1-(1-E518)^(E1605+E379))","v":0.65},0.65,0.6787920000000001,0.682008,0.9275234183824376,0.9009160698240001,0.9009160698240001,0.9009160698240001,0.926700393879,0.92504040484375,0.923361829104,0.9114104303999999,0.955122967036,0.953922801664,0.93209154894375,0.9304934231190001,0.9757121801297499,0.9618356913902344,0.9609371457294374,0.9594163362474845]
[{"$nulls":3},"pct of rounds with at least one bonus attack hit",{"$f":"(1-E1604)*(1-(1-E519)^E1606)","v":0},0,0,0,0,0,0,0,0,0,0,0,0,0,0,0,0,0,0,0]
[{"$nulls":3},"r1 region: rounds with both bonus and main attacks",{"$f":"MIN(1-E1603,1-E1604)","v":1},{"$f":"MIN(1-F1603,1-F1604)","v":0.811345},0.6795175,0.6795175,0.54769,0.54769,0.5144443750000001,0.5144443750000001,0.5144443750000001,0.5144443750000001,0.5144443750000001,0.5144443750000001,0.5144443750000001,0.5144443750000001,0.5144443750000001,0.5144443750000001,0.5144443750000001,0.5144443750000001,0.5531769877269079,0.5531769877269079,null,"need to split this computation into regions of distinct"]
[{"$nulls":3},"r2 region: rounds with either bonus or main attacks",{"$f":"ABS(E1603-E1604)","v":0},{"$f":"ABS(F1603-F1604)","v":0.18865500000000002},0.3204825,0.3204825,0.45231,0.45231,{"$f":"ABS(K1603-K1604)","v":0.48555562499999994},0.48555562499999994,0.48555562499999994,0.48555562499999994,0.48555562499999994,0.48555562499999994,0.48555562499999994,0.48555562499999994,0.48555562499999994,0.48555562499999994,0.48555562499999994,0.48555562499999994,0.44682301227309207,0.44682301227309207,null,"possibility: both main + bonus, one or the other, or neither."]
[{"$nulls":3},"r1 region hit rate for at least 1 attack (incl haste)",{"$f":"E1610*(1-(1-E518)^(E1605+E1606+E379))","v":0.65},0.52737425,0.46125104286,0.46343637113999997,0.5079953010138772,0.4934227222819066,0.4634712044680641,0.4634712044680641,0.47673580494133605,0.47588183291959,0.47501829907226417,0.46886996923560903,0.49135763782498065,0.4907402195002855,0.4795092543391494,0.4786871074980646,0.5019496426867367,0.49481096110994205,0.5315683156695029,0.5307270388613697,null,"(includes haste)"]
[{"$nulls":3},"r2 region hit rate for at least 1 attack (incl haste)",{"$f":"E1611*(1-(1-E518)^(IF(E1604>E1603,E1605,E1606)+E379))","v":0},0.12262575000000002,0.21754095714000002,0.21857162885999998,0.4195281173685603,0.4074933475420935,0.43744486535593596,0.43744486535593596,0.449964588937664,0.44915857192416003,0.4483435300317358,0.4425404611643909,0.4637653292110193,0.4631825821637145,0.4525822946046006,0.4518063156209355,0.4737625374430132,0.46702473028029234,0.4293688300599345,0.4286892973861148]
[{"$nulls":3},"pct of rounds with at least one own-turn hit (incl spell attacks)",{"$f":"E1612+E1613","v":0.65},{"$f":"F1612+F1613","v":0.65},0.6787920000000001,0.682008,0.9275234183824376,0.9009160698240001,0.9009160698240001,0.9009160698240001,0.926700393879,0.92504040484375,0.923361829104,0.9114104303999999,0.955122967036,0.953922801664,0.93209154894375,0.9304934231190001,0.9757121801297499,0.9618356913902344,0.9609371457294373,0.9594163362474846]
[{"$nulls":3},"pct of rounds with at least one own-turn hit",{"$f":"IF(E1593=4,0,E1612+E1613)","v":0.65},{"$f":"IF(F1593=4,0,F1612+F1613)","v":0.65},0.6787920000000001,0.682008,0.9275234183824376,0.9009160698240001,0.9009160698240001,0.9009160698240001,0.926700393879,0.92504040484375,0.923361829104,0.9114104303999999,0.955122967036,0.953922801664,0.93209154894375,0.9304934231190001,0.9757121801297499,0.9618356913902344,0.9609371457294373,0.9594163362474846]
[{"$nulls":3},"pct of rounds with at least one main or haste miss",{"$f":"(1-E1603)*(1-E518^(E1605+E379))","v":0.35},0.35,0.32120799999999994,0.31799200000000005,0.46595291838243746,0.5304680698239999,0.5304680698239999,0.5304680698239999,0.46817839387899995,0.47261540484375,0.47703382910399994,0.5066904304000002,0.3788069670359999,0.3832348016639999,0.45327654894375,0.4577754231189999,0.2874031801297502,0.35254944139023436,0.35622364572943754,0.36232408624748424]
[{"$nulls":3},"pct of rounds with at least one bonus attack miss",{"$f":"(1-E1604)*(1-E519^E1606)","v":0},0,0,0,0,0,0,0,0,0,0,0,0,0,0,0,0,0,0,0]
[{"$nulls":3},"r1 region miss rate for at least 1 attack (incl haste)",{"$f":"E1610*(1-E518^(E1605+E1606+E379))","v":0.35},0.28397075,0.21826645713999995,0.21608112886000003,0.25519775386887716,0.2905320571619065,0.272896314638064,0.272896314638064,0.24085174122758599,0.24313433656021496,0.2454073700672641,0.26066404178560915,0.1948751134024806,0.1971529880202854,0.23318557092352443,0.23549999143681447,0.14785294937486176,0.18136707703259827,0.19705472330170748,0.20042934661128772]
[{"$nulls":3},"r2 region miss rate for at least 1 attack (incl haste)",{"$f":"E1611*(1-E518^(IF(E1604>E1603,E1605,E1606)+E379))","v":0},0.06602925,0.10294154285999998,0.10191087114000001,0.21075516451356027,0.23993601266209336,0.25757175518593584,0.25757175518593584,0.22732665265141397,0.229481068283535,0.23162645903673584,0.24602638861439105,0.18393185363351933,0.1860818136437145,0.2200909780202256,0.22227543168218541,0.13955023075488843,0.1711823643576361,0.15916892242773006,0.16189473963619652]
[{"$nulls":3},"pct of rounds with at least one own-turn miss (incl spell attacks)",{"$f":"E1618+E1619","v":0.35},{"$f":"F1618+F1619","v":0.35},0.32120799999999994,0.31799200000000005,0.46595291838243746,0.5304680698239999,0.5304680698239999,0.5304680698239999,0.46817839387899995,0.47261540484375,0.47703382910399994,0.5066904304000002,0.3788069670359999,0.3832348016639999,0.45327654894375,0.4577754231189999,0.2874031801297502,0.35254944139023436,0.35622364572943754,0.36232408624748424]
[{"$nulls":3},"pct of rounds with at least one own-turn miss",{"$f":"IF(E1593=4,0,E1618+E1619)","v":0.35},{"$f":"IF(F1593=4,0,F1618+F1619)","v":0.35},0.32120799999999994,0.31799200000000005,0.46595291838243746,0.5304680698239999,0.5304680698239999,0.5304680698239999,0.46817839387899995,0.47261540484375,0.47703382910399994,0.5066904304000002,0.3788069670359999,0.3832348016639999,0.45327654894375,0.4577754231189999,0.2874031801297502,0.35254944139023436,0.35622364572943754,0.36232408624748424]
[]
[]
[{"$nulls":3},"DAMAGE PER ROUND",1,2,3,4,5,6,7,8,9,10,11,12,13,14,15,16,17,18,19,20]
[{"$nulls":3},"Damage Scenario Max Damage",{"$f":"MAX(E1557:E1579)","v":5.253125000000001},{"$f":"MAX(F1557:F1579)","v":6.995585},7.763531654921093,{"$f":"MAX(H1557:H1579)","v":10.877818560395314},24.67755640045625,22.6272673256625,22.979112548833594,22.979112548833594,26.758954977698437,26.60013835896485,26.44132174023125,25.495271441097653,31.011604585223438,30.847591185975002,28.484053574378905,28.318536955645314,34.2753488322082,32.025985695413084,32.025679340625004,31.817959973437496]
[{"$nulls":3},"avg hasted action dmg (ranged vs. melee)",{"$f":"IF(E163>=1,E665,E594+E595)","v":0},0,0,0,0,0,0,0,0,0,0,0,0,0,0,0,0,0,0,0]
[{"$nulls":3},"bonus action spell damage",{"$f":"E786*E785+E827*E826+E837*E838+E803*E805+E846*E845+E909+E817","v":0},0,0,0,0,0,0,0,0,0,0,0,0,0,0,0,0,0,0,0]
[{"$nulls":3},"avg AOE and Action-Effect spell damage per round",{"$f":"E855+E1078+E862+E888+E757+E763+E776+E872+E894+E900+E881","v":0},0,0,0,0,0,0,0,0,0,0,0,0,0,0,0,0,0,0,0]
[{"$nulls":3},"avg summons damage per round",{"$f":"E1047","v":0},0,0,0,0,0,0,0,0,0,0,0,0,0,0,0,0,0,0,0]
[{"$nulls":3},"avg bonus Artifcer damage",{"$f":"E1122","v":0},0,0,0,0,0,0,0,0,0,0,0,0,0,0,0,0,0,0,0]
[{"$nulls":3},"avg bonus Cleric damage",{"$f":"E1153","v":0},0,0,0,0,0,0,0,0,0,0,0,0,0,0,0,0,0,0,0]
[{"$nulls":3},"avg bonus Druid damage",{"$f":"E1416","v":0},{"$f":"F1416","v":0},0,0,0,0,0,0,0,0,0,0,0,0,0,0,0,0,0,0]
[{"$nulls":3},"avg bonus Bard damage",{"$f":"E1094","v":0},0,0,0,0,0,0,0,0,0,0,0,0,0,0,0,0,0,0,0]
[{"$nulls":3},"avg bonus Monk damage",{"$f":"E1186","v":0},0,0,0,0,0,0,0,0,0,0,0,0,0,0,0,0,0,0,0]
[{"$nulls":3},"avg bonus Action Surge damage (not reduced by spells)",{"$f":"E1309*MAX(E1428:E1432)/('Base Numbers'!$C$5*'Base Numbers'!$C$6)","v":0},{"$f":"F1309*MAX(F1428:F1432)/('Base Numbers'!$C$5*'Base Numbers'!$C$6)","v":0},{"$f":"G1309*MAX(G1428:G1432)/('Base Numbers'!$C$5*'Base Numbers'!$C$6)","v":0},{"$f":"H1309*MAX(H1428:H1432)/('Base Numbers'!$C$5*'Base Numbers'!$C$6)","v":0},{"$f":"I1309*MAX(I1428:I1432)/('Base Numbers'!$C$5*'Base Numbers'!$C$6)","v":0},{"$f":"J1309*MAX(J1428:J1432)/('Base Numbers'!$C$5*'Base Numbers'!$C$6)","v":0},{"$f":"K1309*MAX(K1428:K1432)/('Base Numbers'!$C$5*'Base Numbers'!$C$6)","v":4.308583602906299},{"$f":"L1309*MAX(L1428:L1432)/('Base Numbers'!$C$5*'Base Numbers'!$C$6)","v":4.308583602906299},{"$f":"M1309*MAX(M1428:M1432)/('Base Numbers'!$C$5*'Base Numbers'!$C$6)","v":5.017304058318457},{"$f":"N1309*MAX(N1428:N1432)/('Base Numbers'!$C$5*'Base Numbers'!$C$6)","v":4.9875259423059095},{"$f":"O1309*MAX(O1428:O1432)/('Base Numbers'!$C$5*'Base Numbers'!$C$6)","v":4.957747826293359},{"$f":"P1309*MAX(P1428:P1432)/('Base Numbers'!$C$5*'Base Numbers'!$C$6)","v":4.78036339520581},{"$f":"Q1309*MAX(Q1428:Q1432)/('Base Numbers'!$C$5*'Base Numbers'!$C$6)","v":5.814675859729395},{"$f":"R1309*MAX(R1428:R1432)/('Base Numbers'!$C$5*'Base Numbers'!$C$6)","v":5.783923347370313},{"$f":"S1309*MAX(S1428:S1432)/('Base Numbers'!$C$5*'Base Numbers'!$C$6)","v":5.340760045196045},{"$f":"T1309*MAX(T1428:T1432)/('Base Numbers'!$C$5*'Base Numbers'!$C$6)","v":5.309725679183496},{"$f":"U1309*MAX(U1428:U1432)/('Base Numbers'!$C$5*'Base Numbers'!$C$6)","v":6.426627906039037},{"$f":"V1309*MAX(V1428:V1432)/('Base Numbers'!$C$5*'Base Numbers'!$C$6)","v":6.004872317889953},{"$f":"W1309*MAX(W1428:W1432)/('Base Numbers'!$C$5*'Base Numbers'!$C$6)","v":6.004814876367188},{"$f":"X1309*MAX(X1428:X1432)/('Base Numbers'!$C$5*'Base Numbers'!$C$6)","v":5.9658674950195305}]
[{"$nulls":3},"avg bonus Barbarian damage",{"$f":"E1214","v":0},0,0,0,0,0,0,0,0,0,0,0,0,0,0,0,0,0,0,0]
[{"$nulls":3},"avg bonus Rogue damage",{"$f":"E1256","v":0},0,0,0,0,0,0,0,0,2.8035141734574234,2.7963699051392745,18.202749484141847,20.250934978631335,23.330854340035593,22.404583657562135,25.40150387799539,28.99560714392646,31.838218733690987,31.876191102288203,35.6531797013034]
[{"$nulls":3},"avg bonus Ranger damage",{"$f":"E1306","v":0},0,4.414499470370898,4.8032983080675775,5.319249083260155,4.925435903989064,7.892644255799534,7.892644255799534,8.912654336918408,8.859792253328246,8.806930169738086,8.540083406060424,10.132687719814504,10.079052040682033,9.699098427456622,9.64378304106571,10.6490796189932,9.926467390359146,9.929379350851997,9.809958987423567]
[{"$nulls":3},"avg bonus Fighter damage",{"$f":"E1355","v":0},0,0,0,0,0,0,8.2973048840332,8.620742384033203,8.620742384033203,8.620742384033203,8.620742384033203,8.944179884033202,8.944179884033202,8.944179884033204,8.944179884033202,8.944179884033202,8.944179884033202,8.970908203125,8.970908203125]
[{"$nulls":3},"avg bonus Wizard damage",{"$f":"E1361+E1369","v":0},0,0,0,0,0,0,0,0,0,0,0,0,0,0,0,0,0,0,0]
[{"$nulls":3},"avg bonus Warlock damage",{"$f":"E1390","v":0},0,0,0,0,0,0,0,0,0,0,0,0,0,0,0,0,0,0,0]
[{"$nulls":3},"avg bonus Sorcerer damage",{"$f":"E1422","v":0},0,0,0,0,0,0,0,0,0,0,0,0,0,0,0,0,0,0,0]
[{"$nulls":3},"avg bonus Feat damage ",{"$f":"E1059","v":0},0,0,0,0,0,0,0,1.0500423629035072,1.0469838562122775,1.0439085626171853,1.039479545553732,1.0887265227879626,1.0861441333570439,1.06010034181794,1.0570982192554175,1.1369122726174812,1.1201310025953966,1.1181671229194066,1.1148708050637486]
[]
[{"$nulls":3},"avg dmg per round :",{"$f":"SUM(E1625:E1643)","v":{"v":5.253125000000001,"d":"5.25"}},{"$f":"SUM(F1625:F1643)","v":{"v":6.995585,"d":"7.00"}},{"v":12.17803112529199,"d":"12.18"},{"v":15.68111686846289,"d":"15.68"},{"v":29.996805483716408,"d":"30.00"},{"v":27.552703229651566,"d":"27.55"},{"v":35.180340407539425,"d":"35.18"},{"v":43.47764529157263,"d":"43.48"},{"v":50.359698119872014,"d":"50.36"},{"v":52.9186969683019,"d":"52.92"},{"v":52.66702058805236,"d":"52.67"},{"v":66.67868965609267,"d":"66.68"},{"v":77.24280955021983,"d":"77.24"},{"v":80.07174493145318,"d":"80.07"},{"v":75.93277593044485,"d":"75.93"},{"v":78.67482765717853,"d":"78.67"},{"v":90.42775565781758,"d":"90.43"},{"v":89.85985502398178,"d":"89.86"},{"v":89.9251399961768,"d":"89.93"},{"v":93.33274516537274,"d":"93.33"}]

{"sheet":"Base Numbers","index":2,"n_rows":21,"n_cols":26,"rows_kept":21,"merged":[[9,5,11,5],[15,5,16,5],[15,6,16,6]]}
[{"$nulls":5},"LEVEL",1,2,3,4,5,6,7,8,9,10,11,12,13,14,15,16,17,18,19,20]
[{"$nulls":5},"TOTAL DPR OUTPUT",{"$f":"Sorcadins!E1645","v":{"v":5.253125000000001,"d":"5.25"}},{"$f":"Sorcadins!F1645","v":{"v":6.995585,"d":"7.00"}},{"$f":"Sorcadins!G1645","v":{"v":12.17803112529199,"d":"12.18"}},{"$f":"Sorcadins!H1645","v":{"v":15.68111686846289,"d":"15.68"}},{"$f":"Sorcadins!I1645","v":{"v":29.996805483716408,"d":"30.00"}},{"$f":"Sorcadins!J1645","v":{"v":27.552703229651566,"d":"27.55"}},{"$f":"Sorcadins!K1645","v":{"v":35.180340407539425,"d":"35.18"}},{"$f":"Sorcadins!L1645","v":{"v":43.47764529157263,"d":"43.48"}},{"$f":"Sorcadins!M1645","v":{"v":50.359698119872014,"d":"50.36"}},{"$f":"Sorcadins!N1645","v":{"v":52.9186969683019,"d":"52.92"}},{"$f":"Sorcadins!O1645","v":{"v":52.66702058805236,"d":"52.67"}},{"$f":"Sorcadins!P1645","v":{"v":66.67868965609267,"d":"66.68"}},{"$f":"Sorcadins!Q1645","v":{"v":77.24280955021983,"d":"77.24"}},{"$f":"Sorcadins!R1645","v":{"v":80.07174493145318,"d":"80.07"}},{"$f":"Sorcadins!S1645","v":{"v":75.93277593044485,"d":"75.93"}},{"$f":"Sorcadins!T1645","v":{"v":78.67482765717853,"d":"78.67"}},{"$f":"Sorcadins!U1645","v":{"v":90.42775565781758,"d":"90.43"}},{"$f":"Sorcadins!V1645","v":{"v":89.85985502398178,"d":"89.86"}},{"$f":"Sorcadins!W1645","v":{"v":89.9251399961768,"d":"89.93"}},{"$f":"Sorcadins!X1645","v":{"v":93.33274516537274,"d":"93.33"}}]
[]
[null,"CAMPAIGN AVERAGES",{"$nulls":3},"MODIFIERS:"]
[null,"fights per day",4,null,null,"Enemy Armor Class modifier: ",0]
[null,"rounds per fight",4]
[null,"short rests",2]
[null,"pct fights with a buff round",0.3]
[]
[{"$nulls":5},"Booming Blade + GFB secondary damage percent"]
[null,"Opportunity attacks per round",{"$nulls":4},0.35]
[null,"base",0.25]
[null,"polearm master",0.2]
[null,"sentinel",0.4,null,null,"prob of qualifying for sneak damage",0.8]
[null,"soul of vengeance / retaliation",0.65,null,null,"percent fights with surprise",0.33]
[{"$nulls":5},"DM allows Booming Blade with Shadow Blade",0]
[]
[]
[null,"Find Familiar adv pct",0.9,null,null,"Area Of Effect effects"]
[null,"Disable Simulacrum damage",0,null,null,"Avg number of targets to AOE",2.5]
[null,"Disable spell class/level-based selection checking",0,null,null,"Avg number of AOE opportunities per day",2]

{"sheet":"Caster Tables","index":3,"n_rows":155,"n_cols":34,"rows_kept":155,"merged":[[9,2,9,3],[9,6,9,7],[9,8,9,9],[9,12,9,13],[9,14,9,15],[94,12,94,13],[94,14,94,15]]}
[]
[]
[null,"Progresion:"]
[null,"Level",1,2,3,4,5,6,7,8,9,10,11,12,13,14,15,16,17,18,19,20,null,null,"Piercer Feat damage gains"]
[null,"chance of killing blow per attack (GWM)",0.1,0.1,0.1,0.09,0.09,0.08,0.08,0.07,0.07,0.06,0.06,0.05,0.05,0.05,0.05,0.05,0.05,0.05,0.05,0.05,null,null,"weapon die","base avg","piercer avg","gain"]
[null,"avg save bonus",-1,-1,0,0,0,0,1,1,2,2,2,3,3,4,4,5,5,6,6,7,null,null,"d4",2.5,3,{"$f":"AA6-Z6","v":0.5}]
[null,"AC",13,13,14,14,14,15,15,15,16,16,16,17,17,17,18,18,18,19,19,19,null,null,"d6",3.5,4.25,{"$f":"AA7-Z7","v":0.75}]
[null,"Cantrip Power",0,0,0,0,1,1,1,1,1,1,2,2,2,2,2,2,3,3,3,3,null,null,"d8",4.5,5.5,{"$f":"AA8-Z8","v":1}]
[null,"fights with pronable target",1,0.95,0.92,0.9,0.85,0.8,0.75,0.7,0.65,0.6,0.55,0.5,0.4,0.35,0.3,0.3,0.25,0.25,0.2,0.2,null,null,"d10",5.5,6.75,{"$f":"AA9-Z9","v":1.25}]
[null,null,"Multiclass Casters",{"$nulls":3},"Half Casters (Paladin, Ranger)",null,"Warlocks (per day; adj for short rests)",{"$nulls":3},"One-Third Casters (Eldritch Knight, Arcane Trickster)",null,"Warlocks (per short rest)"]
[null,"Caster Level","Total Spell Levels","total smite (d8s)","ratio:","max slot","Total Spell Levels","total smite (d8s)","Total Spell Levels","total smite (d8s)","ratio","max slot","Total Spell Levels","total smite (d8s)","Total Spell Levels","total smite (d8s)"]
[null,0,0,0,0,0,0,0,{"$f":"O12*(1+'Base Numbers'!$C$7)","v":0},{"$f":"P12*(1+'Base Numbers'!$C$7)","v":0},0,0,0,0,{"$f":"0*(1+'Base Numbers'!$C$7)","v":0},0]
[null,1,2,4,{"$f":"D13/C13","v":2},1,0,0,{"$f":"O13*(1+'Base Numbers'!$C$7)","v":3},{"$f":"P13*(1+'Base Numbers'!$C$7)","v":6},{"$f":"J13/I13","v":2},1,0,0,1,2]
[null,{"$f":"B13+1","v":2},3,6,{"$f":"D14/C14","v":2},1,2,4,{"$f":"O14*(1+'Base Numbers'!$C$7)","v":6},{"$f":"P14*(1+'Base Numbers'!$C$7)","v":12},{"$f":"J14/I14","v":2},1,0,0,2,4]
[null,3,8,14,1.75,2,3,6,{"$f":"O15*(1+'Base Numbers'!$C$7)","v":12},{"$f":"P15*(1+'Base Numbers'!$C$7)","v":18},1.5,2,2,4,4,6]
[null,4,10,17,1.7,2,3,6,{"$f":"O16*(1+'Base Numbers'!$C$7)","v":12},{"$f":"P16*(1+'Base Numbers'!$C$7)","v":18},1.5,2,3,6,4,6]
[null,5,16,25,1.5625,3,8,14,{"$f":"O17*(1+'Base Numbers'!$C$7)","v":18},{"$f":"P17*(1+'Base Numbers'!$C$7)","v":24},1.3333333333333333,3,3,6,6,8]
[null,6,19,29,1.5263157894736843,3,8,14,{"$f":"O18*(1+'Base Numbers'!$C$7)","v":18},{"$f":"P18*(1+'Base Numbers'!$C$7)","v":24},1.3333333333333333,3,3,6,6,8]
[null,7,23,34,1.4782608695652173,4,10,17,{"$f":"O19*(1+'Base Numbers'!$C$7)","v":24},{"$f":"P19*(1+'Base Numbers'!$C$7)","v":30},1.25,4,8,14,8,10]
[null,8,27,39,1.4444444444444444,4,10,17,{"$f":"O20*(1+'Base Numbers'!$C$7)","v":24},{"$f":"P20*(1+'Base Numbers'!$C$7)","v":30},1.25,4,8,14,8,10]
[null,9,36,50,1.3888888888888888,5,16,25,{"$f":"O21*(1+'Base Numbers'!$C$7)","v":30},{"$f":"P21*(1+'Base Numbers'!$C$7)","v":36},1.2,5,8,14,10,12]
[null,10,41,56,1.3658536585365855,5,16,25,{"$f":"O22*(1+'Base Numbers'!$C$7)","v":30},{"$f":"P22*(1+'Base Numbers'!$C$7)","v":36},1.2,5,10,17,10,12]
[null,11,47,63,1.3404255319148937,6,19,29,{"$f":"O23*(1+'Base Numbers'!$C$7)","v":45},{"$f":"P23*(1+'Base Numbers'!$C$7)","v":54},1.2,5,10,17,15,18]
[null,12,47,63,1.3404255319148937,6,19,29,{"$f":"O24*(1+'Base Numbers'!$C$7)","v":45},{"$f":"P24*(1+'Base Numbers'!$C$7)","v":54},1.2,5,10,17,15,18]
[null,13,54,71,1.3148148148148149,7,23,34,{"$f":"O25*(1+'Base Numbers'!$C$7)","v":45},{"$f":"P25*(1+'Base Numbers'!$C$7)","v":54},1.2,5,16,25,15,18]
[null,14,54,71,1.3148148148148149,7,23,34,{"$f":"O26*(1+'Base Numbers'!$C$7)","v":45},{"$f":"P26*(1+'Base Numbers'!$C$7)","v":54},1.2,5,16,25,15,18]
[null,15,62,80,1.2903225806451613,8,27,39,{"$f":"O27*(1+'Base Numbers'!$C$7)","v":45},{"$f":"P27*(1+'Base Numbers'!$C$7)","v":54},1.2,5,16,25,15,18]
[null,16,62,80,1.2903225806451613,8,27,39,{"$f":"O28*(1+'Base Numbers'!$C$7)","v":45},{"$f":"P28*(1+'Base Numbers'!$C$7)","v":54},1.2,5,19,29,15,18]
[null,17,71,90,1.267605633802817,9,36,50,{"$f":"O29*(1+'Base Numbers'!$C$7)","v":60},{"$f":"P29*(1+'Base Numbers'!$C$7)","v":72},1.2,5,19,29,20,24]
[null,18,76,96,1.263157894736842,9,36,50,{"$f":"O30*(1+'Base Numbers'!$C$7)","v":60},{"$f":"P30*(1+'Base Numbers'!$C$7)","v":72},1.2,5,19,29,20,24]
[null,19,82,103,1.2560975609756098,9,41,56,{"$f":"O31*(1+'Base Numbers'!$C$7)","v":60},{"$f":"P31*(1+'Base Numbers'!$C$7)","v":72},1.2,5,23,34,20,24]
[null,20,89,111,1.247191011235955,9,41,56,{"$f":"O32*(2+'Base Numbers'!$C$7)","v":80},{"$f":"P32*(2+'Base Numbers'!$C$7)","v":96},1.2,5,23,34,20,24]
[]
[]
[null,"notes"]
[null,"Count spell slots as smites +1"]
[null,"Count spell slots above 6th level as 5th level for smites"]
[null,"L20 warlock ability returns all spell slots 1/day"]
[]
[]
[{"$nulls":5},"average slot level for number of max-level slots requested:"]
[null,"Multiclass Caster Level","Total Spell Levels","max slot",0,1,2,3,4,5,6,7,8,9,10,11,12,13,14,15,16,17,18,19,20]
[null,0,0,0,0,0,0,0,0,0,0,0,0,0,0,0,0,0,0,0,0,0,0,0,0]
[null,1,2,1,0,{"$f":"MIN($D$44,$C$44/F42)","v":1},{"$f":"MIN($D$44,$C$44/G42)","v":1},0.6666666666666666,0.5,0.4,0.3333333333333333,0.2857142857142857,0.25,0.2222222222222222,{"$f":"MIN($D$44,$C$44/O42)","v":0.2},{"$f":"MIN($D$44,$C$44/P42)","v":0.18181818181818182},0.16666666666666666,0.15384615384615385,0.14285714285714285,0.13333333333333333,0.125,0.11764705882352941,0.1111111111111111,0.10526315789473684,0.1]
[null,{"$f":"B44+1","v":2},3,1,0,{"$f":"MIN($D45,$C45/F42)","v":1},{"$f":"MIN($D45,$C45/G42)","v":1},1,0.75,0.6,0.5,0.42857142857142855,0.375,0.3333333333333333,0.3,{"$f":"MIN($D45,$C45/P42)","v":0.2727272727272727},0.25,0.23076923076923078,0.21428571428571427,0.2,0.1875,0.17647058823529413,0.16666666666666666,0.15789473684210525,0.15]
[null,3,8,2,0,2,2,{"$f":"5/H42","v":1.6666666666666667},{"$f":"6/I42","v":1.5},{"$f":"7/J42","v":1.4},{"$f":"8/K42","v":1.3333333333333333},{"$f":"8/L42","v":1.1428571428571428},{"$f":"8/M42","v":1},{"$f":"8/N42","v":0.8888888888888888},{"$f":"8/O42","v":0.8},{"$f":"8/P42","v":0.7272727272727273},0.6666666666666666,0.6153846153846154,0.5714285714285714,0.5333333333333333,0.5,0.47058823529411764,0.4444444444444444,0.42105263157894735,0.4]
[null,4,10,2,0,2,2,2,{"$f":"7/I42","v":1.75},{"$f":"8/J42","v":1.6},{"$f":"9/K42","v":1.5},{"$f":"10/L42","v":1.4285714285714286},{"$f":"10/M42","v":1.25},{"$f":"10/N42","v":1.1111111111111112},{"$f":"10/O42","v":1},{"$f":"10/P42","v":0.9090909090909091},0.8333333333333334,0.7692307692307693,0.7142857142857143,0.6666666666666666,0.625,0.5882352941176471,0.5555555555555556,0.5263157894736842,0.5]
[null,5,16,3,0,3,3,{"$f":"8/3","v":2.6666666666666665},{"$f":"10/4","v":2.5},{"$f":"12/5","v":2.4},{"$f":"13/6","v":2.1666666666666665},{"$f":"14/7","v":2},{"$f":"15/8","v":1.875},{"$f":"16/9","v":1.7777777777777777},{"$f":"16/O42","v":1.6},{"$f":"16/P42","v":1.4545454545454546},1.3333333333333333,1.2307692307692308,1.1428571428571428,1.0666666666666667,1,0.9411764705882353,0.8888888888888888,0.8421052631578947,0.8]
[null,6,19,3,0,3,3,3,{"$f":"11/4","v":2.75},{"$f":"13/5","v":2.6},{"$f":"15/6","v":2.5},{"$f":"16/7","v":2.2857142857142856},{"$f":"18/8","v":2.25},{"$f":"19/9","v":2.111111111111111},{"$f":"19/O42","v":1.9},{"$f":"19/P42","v":1.7272727272727273},1.5833333333333333,1.4615384615384615,1.3571428571428572,1.2666666666666666,1.1875,1.1176470588235294,1.0555555555555556,1,0.95]
[null,7,23,4,0,4,{"$f":"7/2","v":3.5},{"$f":"10/3","v":3.3333333333333335},{"$f":"13/4","v":3.25},{"$f":"15/5","v":3},{"$f":"17/6","v":2.8333333333333335},{"$f":"19/7","v":2.7142857142857144},{"$f":"20/8","v":2.5},{"$f":"21/9","v":2.3333333333333335},{"$f":"22/10","v":2.2},{"$f":"22/P42","v":2},{"$f":"22/Q42","v":1.8333333333333333},1.6923076923076923,1.5714285714285714,1.4666666666666666,1.375,1.2941176470588236,1.2222222222222223,1.1578947368421053,1.1]
[null,8,27,4,0,4,4,{"$f":"11/3","v":3.6666666666666665},{"$f":"14/4","v":3.5},{"$f":"17/5","v":3.4},{"$f":"19/6","v":3.1666666666666665},{"$f":"21/7","v":3},{"$f":"23/8","v":2.875},{"$f":"24/9","v":2.6666666666666665},{"$f":"25/10","v":2.5},{"$f":"26/11","v":2.3636363636363638},{"$f":"27/Q42","v":2.25},{"$f":"27/R42","v":2.076923076923077},1.9285714285714286,1.8,1.6875,1.588235294117647,1.5,1.4210526315789473,1.35]
[null,9,36,5,0,5,{"$f":"9/2","v":4.5},{"$f":"13/3","v":4.333333333333333},{"$f":"17/4","v":4.25},{"$f":"20/5","v":4},{"$f":"23/6","v":3.8333333333333335},{"$f":"26/7","v":3.7142857142857144},{"$f":"28/8","v":3.5},{"$f":"30/9","v":3.3333333333333335},{"$f":"32/10","v":3.2},{"$f":"33/11","v":3},{"$f":"34/12","v":2.8333333333333335},{"$f":"35/13","v":2.6923076923076925},{"$f":"36/S42","v":2.5714285714285716},{"$f":"36/T42","v":2.4},2.25,2.1176470588235294,2,1.894736842105263,1.8]
[null,10,41,5,0,5,5,{"$f":"14/3","v":4.666666666666667},{"$f":"18/4","v":4.5},{"$f":"22/5","v":4.4},{"$f":"25/6","v":4.166666666666667},{"$f":"28/7","v":4},{"$f":"31/8","v":3.875},{"$f":"33/9","v":3.6666666666666665},{"$f":"35/10","v":3.5},{"$f":"37/11","v":3.3636363636363638},{"$f":"38/12","v":3.1666666666666665},{"$f":"39/13","v":3},{"$f":"40/14","v":2.857142857142857},{"$f":"41/T42","v":2.7333333333333334},2.5625,2.411764705882353,2.2777777777777777,2.1578947368421053,2.05]
[null,11,47,6,0,6,{"$f":"11/2","v":5.5},{"$f":"16/3","v":5.333333333333333},{"$f":"20/4","v":5},{"$f":"24/5","v":4.8},{"$f":"28/6","v":4.666666666666667},{"$f":"31/7","v":4.428571428571429},{"$f":"34/8","v":4.25},{"$f":"37/9","v":4.111111111111111},{"$f":"39/10","v":3.9},{"$f":"41/11","v":3.727272727272727},{"$f":"43/12","v":3.5833333333333335},{"$f":"44/13","v":3.3846153846153846},{"$f":"45/14","v":3.2142857142857144},{"$f":"46/15","v":3.066666666666667},{"$f":"47/U42","v":2.9375},{"$f":"47/V42","v":2.764705882352941},{"$f":"47/W42","v":2.611111111111111},{"$f":"47/X42","v":2.473684210526316},{"$f":"47/Y42","v":2.35}]
[null,12,47,6,0,6,{"$f":"11/2","v":5.5},{"$f":"16/3","v":5.333333333333333},{"$f":"20/4","v":5},{"$f":"24/5","v":4.8},{"$f":"28/6","v":4.666666666666667},{"$f":"31/7","v":4.428571428571429},{"$f":"34/8","v":4.25},{"$f":"37/9","v":4.111111111111111},{"$f":"39/10","v":3.9},3.727272727272727,3.5833333333333335,3.3846153846153846,3.2142857142857144,3.066666666666667,2.9375,2.764705882352941,2.611111111111111,2.473684210526316,2.35]
[null,13,54,7,0,7,{"$f":"13/2","v":6.5},{"$f":"18/3","v":6},{"$f":"23/4","v":5.75},{"$f":"27/5","v":5.4},{"$f":"31/6","v":5.166666666666667},{"$f":"35/7","v":5},{"$f":"38/8","v":4.75},{"$f":"41/9","v":4.555555555555555},{"$f":"44/10","v":4.4},{"$f":"46/11","v":4.181818181818182},{"$f":"48/12","v":4},{"$f":"50/13","v":3.8461538461538463},{"$f":"51/14","v":3.642857142857143},{"$f":"52/15","v":3.466666666666667},{"$f":"53/16","v":3.3125},{"$f":"54/V42","v":3.176470588235294},{"$f":"54/W42","v":3},{"$f":"54/X42","v":2.8421052631578947},{"$f":"54/Y42","v":2.7}]
[null,14,54,7,0,7,{"$f":"13/2","v":6.5},{"$f":"18/3","v":6},{"$f":"23/4","v":5.75},{"$f":"27/5","v":5.4},{"$f":"31/6","v":5.166666666666667},{"$f":"35/7","v":5},{"$f":"38/8","v":4.75},{"$f":"41/9","v":4.555555555555555},4.4,4.181818181818182,4,3.8461538461538463,3.642857142857143,3.466666666666667,3.3125,3.176470588235294,3,2.8421052631578947,2.7]
[null,15,62,8,0,8,{"$f":"15/2","v":7.5},{"$f":"21/3","v":7},{"$f":"26/4","v":6.5},{"$f":"31/5","v":6.2},{"$f":"35/6","v":5.833333333333333},{"$f":"39/7","v":5.571428571428571},{"$f":"43/8","v":5.375},{"$f":"46/9","v":5.111111111111111},{"$f":"49/10","v":4.9},{"$f":"52/11","v":4.7272727272727275},{"$f":"54/12","v":4.5},{"$f":"56/13","v":4.3076923076923075},{"$f":"58/14","v":4.142857142857143},{"$f":"59/15","v":3.933333333333333},{"$f":"60/16","v":3.75},{"$f":"61/17","v":3.588235294117647},{"$f":"62/W42","v":3.4444444444444446},{"$f":"62/X42","v":3.263157894736842},{"$f":"62/Y42","v":3.1}]
[null,16,62,8,0,8,{"$f":"15/2","v":7.5},{"$f":"21/3","v":7},{"$f":"26/4","v":6.5},{"$f":"31/5","v":6.2},{"$f":"35/6","v":5.833333333333333},{"$f":"39/7","v":5.571428571428571},{"$f":"43/8","v":5.375},{"$f":"46/9","v":5.111111111111111},{"$f":"49/10","v":4.9},4.7272727272727275,4.5,4.3076923076923075,4.142857142857143,{"$f":"59/15","v":3.933333333333333},3.75,3.588235294117647,3.4444444444444446,3.263157894736842,3.1]
[null,17,71,9,0,9,{"$f":"17/2","v":8.5},{"$f":"24/3","v":8},{"$f":"30/4","v":7.5},{"$f":"35/5","v":7},{"$f":"40/6","v":6.666666666666667},{"$f":"44/7","v":6.285714285714286},{"$f":"48/8","v":6},{"$f":"52/9","v":5.777777777777778},{"$f":"55/10","v":5.5},{"$f":"58/11","v":5.2727272727272725},{"$f":"61/12","v":5.083333333333333},{"$f":"63/13","v":4.846153846153846},{"$f":"65/14","v":4.642857142857143},{"$f":"67/15","v":4.466666666666667},{"$f":"68/16","v":4.25},{"$f":"69/17","v":4.0588235294117645},{"$f":"70/18","v":3.888888888888889},{"$f":"71/19","v":3.736842105263158},{"$f":"71/20","v":3.55}]
[null,18,76,9,0,9,{"$f":"17/2","v":8.5},{"$f":"24/3","v":8},{"$f":"30/4","v":7.5},{"$f":"35/5","v":7},{"$f":"40/6","v":6.666666666666667},{"$f":"45/7","v":6.428571428571429},{"$f":"49/8","v":6.125},{"$f":"53/9","v":5.888888888888889},{"$f":"57/10","v":5.7},{"$f":"60/11","v":5.454545454545454},{"$f":"63/12","v":5.25},{"$f":"66/13","v":5.076923076923077},{"$f":"68/14","v":4.857142857142857},{"$f":"70/15","v":4.666666666666667},{"$f":"72/16","v":4.5},{"$f":"73/17","v":4.294117647058823},{"$f":"74/18","v":4.111111111111111},{"$f":"75/19","v":3.9473684210526314},{"$f":"76/20","v":3.8}]
[null,19,82,9,0,9,{"$f":"17/2","v":8.5},{"$f":"24/3","v":8},{"$f":"30/4","v":7.5},{"$f":"36/5","v":7.2},{"$f":"41/6","v":6.833333333333333},{"$f":"46/7","v":6.571428571428571},{"$f":"51/8","v":6.375},{"$f":"55/9","v":6.111111111111111},{"$f":"59/10","v":5.9},{"$f":"63/11","v":5.7272727272727275},{"$f":"66/12","v":5.5},{"$f":"69/13","v":5.3076923076923075},{"$f":"72/14","v":5.142857142857143},{"$f":"74/15","v":4.933333333333334},{"$f":"76/16","v":4.75},{"$f":"78/17","v":4.588235294117647},{"$f":"79/18","v":4.388888888888889},{"$f":"80/19","v":4.2105263157894735},{"$f":"81/20","v":4.05}]
[null,20,89,9,0,9,{"$f":"17/2","v":8.5},{"$f":"24/3","v":8},{"$f":"31/4","v":7.75},{"$f":"37/5","v":7.4},{"$f":"43/6","v":7.166666666666667},{"$f":"48/7","v":6.857142857142857},{"$f":"53/8","v":6.625},{"$f":"58/9","v":6.444444444444445},{"$f":"62/10","v":6.2},{"$f":"66/11","v":6},{"$f":"70/12","v":5.833333333333333},{"$f":"73/13","v":5.615384615384615},{"$f":"76/14","v":5.428571428571429},{"$f":"79/15","v":5.266666666666667},{"$f":"81/16","v":5.0625},{"$f":"83/17","v":4.882352941176471},{"$f":"85/18","v":4.722222222222222},{"$f":"86/19","v":4.526315789473684},{"$f":"87/20","v":4.35}]
[]
[]
[]
[]
[]
[null,"Progresion:"]
[null,"Level",1,2,3,4,5,6,7,8,9,10,11,12,13,14,15,16,17,18,19,20]
[null,"pct of fights without creatures with blindsight, truesight, tremorsense",0.85,0.85,0.85,0.85,0.85,0.83,0.81,0.79,0.77,0.74,0.72,0.69,0.65,0.61,0.57,0.52,0.48,0.42,0.37,0.32]
[null,"Monster Saves "]
[null,"avg monster str save",0.2,0.7,1.5,2.2,2.5,3,3,3.3,3.6,4,4.3,4.6,5,5.2,5.4,5.6,5.8,6,7,8]
[null,"avg monster dex save",1,1.3,1.5,1.7,1.85,2,2.2,2.5,2.75,3,3.25,3.5,3.75,4,5,6,6.5,7,7.5,8]
[null,"avg monster con save",1,1.5,2,2.5,3,3.5,4,4.5,5,5.5,6,6.5,7,8,9,10,11,12,13,13]
[null,"avg monster int save",-2,-1.3,-1,-0.5,-0.25,0,0.5,1,1.5,2,2.5,3,3,3.25,3.5,4,4,5,6,7]
[null,"avg monster wis save",-0.5,0,0.5,1,{"v":1.5,"d":"1.50"},2,2.5,3,3.5,4,4.5,5,5.5,6,6.5,7,7.5,8,8.5,9]
[null,"avg monster cha save",-2,-1,0,0.25,0.5,0.75,1,2,2.5,3,3.5,4,4.5,5,6,6.5,7,8,9,9]
[null,"Avg Monster DPR",2.5,4.5,7,11.5,17.5,23.5,29.5,35.5,41.5,47.5,53.5,59.5,65.5,71.5,77.5,83.5,89.5,95.5,101.5,107.5]
[null,"Monster NonMagic Weapon Immunity/Resistance"]
[null,"pct of monsters w/o non-magic weapon immunity",0.95,0.9,0.87,0.83,0.8,0.78,0.75,0.73,0.71,0.69,0.67,0.64,0.62,0.59,0.56,0.54,0.52,0.5,0.5,0.5]
[]
[null,"pct of mosters w/o blindsight, tremorsense",0.85,0.85,0.85,0.85,0.85,0.85,0.85,0.85,0.84,0.83,0.81,0.79,0.77,0.75,0.73,0.71,0.7,0.69,0.68,0.67]
[null,"pct of monsters reliant on darkvision ",0.45,0.48,0.49,0.51,0.53,0.53,0.53,0.53,0.52,0.5,0.48,0.45,0.44,0.42,0.4,0.38,0.37,0.35,0.32,0.27]
[null,"pct monsters immune to fear",0.13,0.14,0.15,0.16,0.17,0.19,0.21,0.23,0.25,0.28,0.3,0.34,0.36,0.39,0.42,0.46,0.49,0.51,0.53,0.56]
[null,"pct of mosters immune to darkness",0.177840794276669,0.169349547063059,0.161597885342789,0.154212058045704,0.154107284749448,0.168451805223707,0.186882390295693,0.207188906413186,0.231106022707434,0.256881154732931,0.282222503653632,0.309567198909012,0.343786598475646,0.383210578893688,0.426634353987903,0.472099143855402,0.520715802759749,0.575449827779728,0.630639066980375,0.677409932781431]
[null,"pct of mosters H or G or prone immune",0.0797137099502413,0.100278246239286,0.121138855319793,0.142016935242973,0.163826580428905,0.180166874474957,0.201301350294954,0.224651611458671,0.248493828745684,0.274883391449379,0.304483177338173,0.337323524330578,0.372870871378266,0.407587722315133,0.440789600302897,0.474530058046765,0.507595754474653,0.534600447731984,0.556515103881628,0.579916534809474]
[null,"pct of mosters G or prone immune",0.0703962057984872,0.0766715873633575,0.082726592182321,0.088230359381803,0.0895556334226349,0.0868973630042829,0.0906381669897661,0.0943272671569571,0.0968835717442225,0.100133318283526,0.105184858600968,0.112492822669609,0.124229962275813,0.140825117100536,0.162816634870945,0.192615222207687,0.228315678184078,0.266934348968799,0.309206367261092,0.353297292838042]
[]
[]
[]
[]
[]
[null,null,"Smoothed average immunities and resistances by CR for 1522 published monsters with CR > 0"]
[null,"CR","darkness defeaters","obscurement defeaters","darkvision reliant","blindsense","darkvision","truesight","tremorsense",null,"nonmagic weapon immunity","nonmagic weapon resist","nonmagic / nonsilver weapon resistance",null,"combined nonmagic resistance / immunity",null,"blinded","charmed","deafened","frightened","grappled","incapacitated","invisible","paralyzed","petrified","poisoned","prone","restrained","stunned","unconscious","exhaustion",null,"size H, G or prone immune","size G or prone immune"]
[null,0.125,0.185997928534623,0.172830183564444,0.440970013183243,0.161882705055926,0.46647723437642,0.0125839701459611,0.0123426433764678,null,0.00667668648905592,0.0172668665470714,0.00448359696755192,null,{"$f":"K96+L96","v":0.023943553036127323},null,0.0854729253238597,0.118664084351189,0.0632647136198118,0.11561425162929,0.0400475027529158,0,0,0.0947673129261971,0.0787680145936481,0.151343793212357,0.0640651475951011,0.0399011167895045,0.0285855813756938,0.00409424560651204,0.0903183377187663,null,0.0620033274667149,0.0648844781290891]
[null,0.25,0.18478053016889,0.17143903973672,0.443407691483204,0.160204629515788,0.469775389831401,0.0127753607389879,0.0126659190982359,null,0.00760418383246197,0.0212224461602509,0.0050802090981902,null,0.02882662999271287,null,0.084578351922198,0.120498911373587,0.0624816493158721,0.117164187384031,0.0406421817295513,0,0,0.096245529889764,0.079782050286766,0.154819936363275,0.0647967446349026,0.040365555714319,0.0283567300420657,0.00461024812284455,0.0929373294198237,null,0.0645189681726871,0.065673131496398]
[null,0.5,0.182399542857324,0.168707727978616,0.448262819576556,0.156899190075819,0.476347838103616,0.0131615986691487,0.0133117697425307,null,0.00943625685815368,0.0291104866878108,0.00625619474565301,null,0.038546743545964476,null,0.0828233395219924,0.12415088047389,0.0609373504150892,0.120270497470926,0.0418176606405241,0,0,0.0992100122853692,0.0818109450770414,0.161760625585305,0.0662534995569848,0.0412775067898118,0.027911031810951,0.00562954529216286,0.0981390137023223,null,0.0695618547792207,0.0672465211127004]
[null,1,0.177840794276669,0.163434928793272,0.457917486404116,0.150483735464854,0.489426618792284,0.01394958191181,0.0145990475788855,null,0.0130022974106722,0.044806091529884,0.00853929628665117,null,0.0578083889405562,null,0.0794539135983011,0.131407780900748,0.0579456899123088,0.12653802705655,0.0441204280067977,0,0,0.10519128325586,0.0858928253052218,0.17562975878163,0.0691613324738429,0.0430397540501068,0.0270724178836835,0.00762074738966892,0.108425167414399,null,0.0797137099502413,0.0703962057984872]
[null,2,0.169349547063059,0.153435465663001,0.477143699843108,0.138269091908501,0.515495539562927,0.015613873138543,0.0171531345972761,null,0.0196444933298882,0.0759154850408112,0.0128358218443976,null,0.0955599783706994,null,0.0732157774017372,0.145707559403368,0.052342329222733,0.139242158691775,0.0484567133378086,0,0,0.117276315298629,0.0941101866968994,0.203387329167738,0.0749135223165799,0.0462465508554773,0.0255635247496661,0.0114419969327906,0.128522114714517,null,0.100278246239286,0.0766715873633575]
[null,3,0.161597885342789,0.144067862253347,0.496157451958262,0.126820822374964,0.541344841185165,0.0174088756403818,0.0196517489756121,null,0.0253963797039729,0.106578787968275,0.0168597339168755,null,0.1319751676722479,null,0.0674155210296982,0.15917449777771,0.0471053672438803,0.15159115079803,0.0521574165745081,0,0,0.128914277886552,0.10189438685588,0.230660598426788,0.0803714861553164,0.0488201771578802,0.0241713216048267,0.0150372585975338,0.147362538568096,null,0.121138855319793,0.082726592182321]
[null,4,0.154212058045704,0.135198412381874,0.514614170877856,0.115972199376235,0.566111442336545,0.0191088013141166,0.021979913540853,null,0.0303388187270181,0.136882312055049,0.0210925654770464,null,0.1672211307820671,null,0.0614033410280121,0.171185815095239,0.0417121750634911,0.162552544468869,0.0552146246816589,0,0,0.139172784223564,0.108258821438603,0.256752659142325,0.0852280444599294,0.0508349095804673,0.0225133202732101,0.0184912515344057,0.164146376650746,null,0.142016935242973,0.088230359381803]
[null,5,0.154107284749448,0.131787373704653,0.531034001043328,0.111665000835888,0.588305637815922,0.0228038925125594,0.0225725539443849,null,0.0331152982606604,0.162615752479267,0.0245611933973003,null,0.1957310507399274,null,0.0571208880569444,0.181921555854995,0.0381006692706138,0.172988347626791,0.0553906966997604,0,0,0.145333866588306,0.10997103814541,0.27793474686699,0.0851891719729373,0.050133404621224,0.0205956141275709,0.0204364370114792,0.170790095086781,null,0.163826580428905,0.0895556334226349]
[null,6,0.168451805223707,0.134047036710133,0.534363011447831,0.114754021334936,0.604331833235244,0.0352013729922355,0.0215675927065821,null,0.0361025330919734,0.183916717687451,0.0250188218903559,null,0.22001925077942439,null,0.0548209579283723,0.196646855699164,0.0374515497277801,0.189858123221665,0.0509129649354697,0,0,0.149592745391933,0.111177926841546,0.295406990893507,0.0800354221819927,0.0458232398375074,0.0215794081572714,0.0191983763251964,0.174876364330051,null,0.180166874474957,0.0868973630042829]
[null,7,0.186882390295693,0.140220847032157,0.534759459774799,0.121907450013014,0.614305414812554,0.0491617267812914,0.0207919466005368,null,0.0390098892146673,0.204212589251476,0.0262155476078015,null,0.2432224784661433,null,0.0543088147223042,0.21427876186905,0.0383071922287804,0.210819787665096,0.0454029360733761,0,0,0.154868772390866,0.11734283337363,0.311446101917814,0.078962836476931,0.0409455233637222,0.0235367969881101,0.0180815608165367,0.185154062692431,null,0.201301350294954,0.0906381669897661]
[null,8,0.207188906413186,0.146979482880769,0.530674957672379,0.129922365443932,0.619788713338245,0.0643979064669287,0.0201550946210266,null,0.039807586993709,0.22428381369865,0.028041302448924,null,0.264091400692359,null,0.0537596404088872,0.230571908758573,0.038813174176632,0.229195743020103,0.0410510101711422,0,0,0.158675893126663,0.121042891072924,0.326956934345644,0.0774468732598903,0.0372913377690314,0.0238417559390351,0.0178759071485149,0.194513047022128,null,0.224651611458671,0.0943272671569571]
[null,9,0.231106022707434,0.156559798431783,0.519994204882533,0.141056164723375,0.618954141833874,0.08194110276336,0.0197538680699211,null,0.0404097161260396,0.244209497316261,0.0305452098184873,null,0.28461921344230057,null,0.0528132389256395,0.248911056217459,0.0388031236705228,0.249493682697313,0.0362814990139727,0,0,0.160892385003082,0.1198325158471,0.338025464175096,0.0721493417031196,0.033543782393982,0.0222165107324057,0.0172234168393517,0.199122392957,null,0.248493828745684,0.0968835717442225]
[null,10,0.256881154732931,0.171054659363696,0.502106175316143,0.1553804345505,0.611186299985749,0.103429538031742,0.0205645452165987,null,0.0432094079815338,0.265361780196643,0.033899957027568,null,0.3085711881781768,null,0.0517289663351584,0.271877895517308,0.0391981447095079,0.275691806491269,0.0311545430429695,0,0,0.166407024770413,0.11527920895651,0.34459223846512,0.06340938213133,0.029471281672412,0.0200854183564008,0.0157667669046833,0.202388747279297,null,0.274883391449379,0.100133318283526]
[null,11,0.282222503653632,0.190429133629174,0.476712097215735,0.173608503276576,0.595049840798666,0.127857413272498,0.0231075514879225,null,0.0462517770063445,0.287077265359226,0.0389725614652417,null,0.3333290423655705,null,0.0510072407459205,0.297770839280088,0.0404618935763439,0.30506965923505,0.0265049594873743,0,0,0.176871766832018,0.111131184876238,0.348342094623457,0.0542990711470039,0.0259210111859732,0.0207367165729709,0.0146854807120417,0.205854605433409,null,0.304483177338173,0.105184858600968]
[null,12,0.309567198909012,0.210722492916111,0.456201952718629,0.193015461926497,0.576773238652315,0.14991206227677,0.0276429006207334,null,0.0499998946732107,0.308689251103595,0.0464136707649541,null,0.3586891457768057,null,0.0510663576617793,0.322965138656287,0.0422914135237058,0.335235734163681,0.0247344657169317,0,0,0.191240374728399,0.110698356716158,0.357956881873911,0.0481681681138704,0.0255089176458651,0.0255086583411938,0.0147695553788949,0.209561578654626,null,0.337323524330578,0.112492822669609]
[null,13,0.343786598475646,0.230633820191053,0.443086704754684,0.211500319421688,0.561437479867337,0.168222380033071,0.0310281230811384,null,0.0551904625911641,0.328698959466692,0.0549055555977321,null,0.3838894220578561,null,0.0512547300690396,0.344035745747013,0.0424862122398703,0.36333318304956,0.0258570233393786,0,0,0.206792140439671,0.112611174660978,0.378823924909945,0.0454305558367283,0.027335057245973,0.0329669813532452,0.014718931085069,0.212362655770233,null,0.372870871378266,0.124229962275813]
[null,14,0.383210578893688,0.249032454695531,0.425405725164413,0.225547037838102,0.535651658463676,0.187489893859977,0.0316195004806496,null,0.0607775925828732,0.346852248742309,0.0632081213294812,null,0.4076298413251822,null,0.0507063712002371,0.364771133359104,0.0391495392249486,0.393634101888499,0.030374681156859,0,0,0.225931274733613,0.121862845217213,0.405225617371214,0.0461589223343146,0.0318799382271933,0.0455663027217126,0.0136171224788534,0.216376954063363,null,0.407587722315133,0.140825117100536]
[null,15,0.426634353987903,0.267481741412584,0.403195474567008,0.23644804187654,0.508281383454928,0.208695914300068,0.0262677068916264,null,0.0706684460359328,0.364084428029768,0.0723308001900781,null,0.4347528740657008,null,0.0522137423173184,0.39043436106115,0.0335677424198588,0.425997477391775,0.0382380059172926,0,0,0.247569034766505,0.139956103775294,0.434545231800004,0.0532101986723696,0.035103016289899,0.0648091042466823,0.0113853501928949,0.220932262737108,null,0.440789600302897,0.162816634870945]
[null,16,0.472099143855402,0.28619013729249,0.38419051204163,0.245223387809792,0.489248993008521,0.232225745921352,0.0235688275212328,null,0.0852310754644691,0.368432435070728,0.0818941039739061,null,0.4536635105351971,null,0.0589734497072581,0.42004892395261,0.028703261030841,0.458041710580234,0.0476465444690294,0,0,0.273485221060914,0.161396732207173,0.470069172419439,0.0696839480334459,0.0364389447195435,0.0846404218865166,0.00847836689734839,0.229760790583667,null,0.474530058046765,0.192615222207687]
[null,17,0.520715802759749,0.301177304310639,0.368205839789185,0.253338348552195,0.475998110452321,0.257760682068672,0.0210631005136397,null,0.107555855826742,0.342493427437513,0.089011606661686,null,0.450049283264255,null,0.0674399602834185,0.453616630611745,0.0258171348120495,0.488056148359222,0.0549504639958185,0,0,0.301759459824959,0.175642349198309,0.51160053699852,0.0842733141499497,0.0405723993078112,0.104581812130456,0.00640093721065396,0.248979247387977,null,0.507595754474653,0.228315678184078]
[null,18,0.575449827779728,0.313095135526568,0.348155425958729,0.261550779238421,0.463088773885637,0.286645331366603,0.0188701237415145,null,0.13056026510502,0.314160852458322,0.0957632748431428,null,0.444721117563342,null,0.0746372349999502,0.481951429044994,0.0248187000467287,0.512609655897959,0.0613658964901419,0,0,0.333894198964454,0.187959177222549,0.559506886114939,0.0944690019267328,0.0469546794374569,0.126095948992329,0.00519622325606272,0.281677166293337,null,0.534600447731984,0.266934348968799]
[null,19,0.630639066980375,0.320811121912546,0.317003390245885,0.266212698395342,0.442611236334797,0.317236021245033,0.0157030169050115,null,0.153276716007149,0.285608342669919,0.0972173813069139,null,0.43888505867706806,null,0.0854802484323361,0.506720467243712,0.0265601669064119,0.534742811208644,0.0665441772069108,0,0,0.368381098711877,0.200649336992997,0.601572664312532,0.109089377703837,0.051789078323934,0.149691471447817,3.05812527821251E-3,0.324637469067188,null,0.556515103881628,0.309206367261092]
[null,20,0.677409932781431,0.32881713955311,0.276468268090047,0.271635168550282,0.419774943631934,0.349638526538724,0.0121333491257342,null,0.176138304773499,0.263136210458677,0.0988764534472709,null,0.43927451523217603,null,0.0969203351836415,0.53689326919406,0.0293389768046306,0.559022345273662,0.0582359493990893,0,0,0.406262514805396,0.200626300289196,0.630641046023598,0.117223345805908,0.0511803352337433,0.167437273059004,2.45665267287422E-3,0.384162649258356,null,0.579916534809474,0.353297292838042]
[null,21,0.722133213946997,0.342847675060218,0.237479378542833,0.284861368981836,0.396994041457138,0.380766546571129,0.0084152296651471,null,0.199383659056389,0.241337381781316,0.101040502305408,null,0.440721040837705,null,0.108298402378611,0.574823524804036,0.0310035646861649,0.589171416460457,0.0498868962806423,0,0,0.4471823596381,0.178359515035591,0.653551763232299,0.120735322476811,0.0510291737212955,0.182513808865703,3.50269550125596E-3,0.44475725720078,null,0.606936191114253,0.397854297744868]
[null,22,0.766410086002319,0.35854896819098,0.199907369333691,0.300120343829907,0.374471277343862,0.411902086711448,0.00468464056768422,null,0.223132634741809,0.219294878221162,0.103329109918822,null,0.442427512962971,null,0.119700837044074,0.615840994095029,0.0348916551337425,0.621416064565526,0.0418841231731511,0,0,0.488886727100092,0.155581694667291,0.678568935406274,0.122414050645682,0.0509856621971338,0.196726870187994,4.96894438236835E-3,0.506786130101814,null,0.633897840190635,0.441996665200922]
[null,23,0.810034474407985,0.374200476724983,0.162749691515173,0.316546547662297,0.352077675973146,0.443214045943608,0.00102563587088829,null,0.247492044454443,0.196808067153257,0.105538454444167,null,0.4443001116077,null,0.131263155119996,0.656577193322329,0.0395990689474584,0.653454076008464,0.0336281794844689,0,0,0.530732424327215,0.132077292692968,0.703093789284683,0.123029537399691,0.0510132392469778,0.210665098902935,0.00661647523326422,0.570135624708832,null,0.659902331011086,0.485794783481333]
[null,24,0.852897414287249,0.38943119426934,0.125613359480415,0.333617562662801,0.329633618996115,0.474880791163854,-0.0025121011527028,null,0.27254643688336,0.173804408317266,0.107531166155901,null,0.446350845200626,null,0.14314434313023,0.696887749827845,0.0443133442019656,0.685465734707096,0.0247977968972606,0,0,0.572320774419262,0.107561485602935,0.726404261330372,0.122913534687507,0.0508837558863441,0.224294527840113,0.00843875574279958,0.634298289160447,null,0.685445962727191,0.529376326841347]
[null,25,0.895142337448198,0.404720882935086,0.0883535676166064,0.351451729197949,0.306919520801329,0.506583646842883,-0.00590073338932635,null,0.298327149017807,0.150291257861898,0.109217321141001,null,0.448618406879705,null,0.155465443333153,0.737939877276748,0.0485586527746038,0.718479320200769,0.0151981220020614,0,0,0.613855109963695,0.0817476805427089,0.748979506927664,0.121864241867356,0.0503334666344461,0.237255917367697,0.0104877045741977,0.699178225499175,null,0.711176028394644,0.572831920938821]
[]
[]
[null,null,"Smoothed Damage Resistances",{"$nulls":13},"Smoothed Damage Immunities"]
[null,"CR","acid","cold","fire","force","lightning","necrotic","poison","psychic","radiant","thunder","bludge","pierce","slash",null,"acid","cold","fire","force","lightning","necrotic","poison","psychic","radiant","thunder","bludge","pierce","slash"]
[null,0.125,0.0140309763830499,0.040839185895437,0.0362851697025752,0,0.0332413034518607,0.00608525519166105,0.0360714050777275,1.68595370316747E-3,1.9228715026056E-3,0.00779356495971819,0.0231689928625319,0.0455192379223143,0,null,0.00155721490698311,0.0126168721952716,0.0302868936477426,0,0.00189113111315274,7.51604741167251E-3,0.147262278978638,0.0343787193748606,0,0,0,0,0]
[null,0.25,0.0147863786271722,0.041897004133676,0.0378868769008333,0,0.0344172755894248,0.00767232954452438,0.0360228689882176,0.00207060365075036,0.00201661305556357,0.00848886570422845,0.02291490961616,0.0450097237757556,0,null,0.00218141921277179,0.013881051169404,0.0308167734350203,0,0.00293167571453996,0.00845677018947449,0.150692548824009,0.0338451008292448,0,0,0,0,0]
[null,0.5,0.0162849145609696,0.0440321784359454,0.0410976818212334,0,0.036775021615167,0.0108175135580933,0.0359176024308625,0.0028533066891345,0.00219821935053279,0.00987657168147761,0.022407739575279,0.0439928794737478,0,null,0.00341951138874057,0.0163741108631916,0.0318705851418335,0,0.00501502033801539,0.0103331079461274,0.157539969443327,0.0327906454625006,0,0,0,0,0]
[null,1,0.0192317630636804,0.0483880347075304,0.0475360375683088,0,0.0415120782613654,0.016978419797901,0.0356844936844456,0.00447513086775056,0.00253895336319279,0.0126348868658652,0.0213978301319736,0.0419677809323124,0,null,0.00585522678561339,0.0212074012261898,0.0339739231552449,0,0.00919197520001788,0.0140631988408464,0.171211429653043,0.0307408224686415,0,0,0,0,0]
[null,2,0.0248942569163656,0.0574503077279026,0.0603934751675973,0,0.0510385773915732,0.0286724634763708,0.0351807358514792,0.00796292683847877,0.00313828863270756,0.0180290721913109,0.0193981175072898,0.0379499255963844,0,null,0.010590236741419,0.0301993992238152,0.038209125686187,0,0.0175588376855074,0.0213728723886448,0.198520472950481,0.0269361180727281,0,0,0,0,0]
[null,3,0.0302337148369664,0.0669401830615645,0.0731003056165796,0,0.0604189818409045,0.039391550996676,0.034638327472072,0.0117413903012537,0.00360854410891268,0.0231317095147296,0.0174245003973104,0.0339690712996429,0,null,0.0152207273301221,0.038342847814176,0.0422638957880265,0,0.025772740128259,0.0283046731147582,0.225330207446323,0.0234411549590281,0,0,0,0,0]
[null,4,0.0355301697211254,0.0766969825884763,0.0856830535463079,0,0.0695498361029659,0.0497778785937284,0.0338279636597126,0.0154606981404608,0.00394407379707389,0.0280121178007143,0.0154722439920501,0.0300124244061206,0,null,0.0199445363633646,0.0463469701123771,0.045613086881983,0,0.0334636186517856,0.0347522529236591,0.251065794050039,0.0197763135911952,0,0,0,0,0]
[null,5,0.0407416523429537,0.0911457999455098,0.100046572285242,0,0.0805314643517307,0.0586049734967007,0.0320410242093913,0.0189380142043796,3.55343920448479E-3,0.0324755354708615,0.0135301760418214,0.0260572687634848,0,null,0.0246217651079046,0.0513486981676687,0.0456989022385932,0,0.0385592047889988,0.0389977243636721,0.27147262413685,0.0172617888390018,0,0,0,0,0]
[null,6,0.0427835397189627,0.111572984169773,0.110286149144022,0,0.0938157458836961,0.0621081371206791,0.0308867950678273,0.0212636315917823,0.00423622531019695,0.0343346976573159,0.011573919152482,0.0220638064190717,0,null,0.0282423004538365,0.0545433729097912,0.0499271781052463,0,0.0402296984491743,0.0446037266090102,0.287061113510222,0.0204977138947575,0,0,0,0,0]
[null,7,0.0453160313873805,0.131865683303504,0.114997400841356,0,0.104969627159074,0.0615846252645222,0.0273299312974822,0.0205055487283233,0.00868915676738021,0.0345608893992502,0.0095468519693526,0.0179547986517854,0,null,0.0301206777016485,0.0582192273342198,0.0577392228862573,0,0.0434304838849707,0.049818781992488,0.301662838179876,0.0297933514129107,0,0,0,0,0]
[null,8,0.0484321113969402,0.152248998468956,0.118438751503646,0,0.115642276368193,0.0597865698748167,0.0232457820487913,0.019478341549114,0.0133343984480541,0.0348769415678542,0.00729741766266419,0.0136919966277065,0,null,0.0330481847330052,0.0608040290338479,0.0632942141706047,0,0.0467785438443452,0.0537471182289614,0.3152872943999,0.0382244634942887,0,0,0,0,0]
[null,9,0.0501992310122753,0.174562387680552,0.118850436614915,0,0.124544606274019,0.0603014046072152,0.0194811187950152,0.0167829120116925,0.0172841897305293,0.0344812755940258,0.00436926641248938,0.0102335557542012,0,null,0.0361773035227526,0.0631146415461538,0.0685152722345898,0,0.0500711614355498,0.0564220994657599,0.323680674781449,0.0482962486502937,0,0,0,0,0]
[null,10,0.0491523555035429,0.19696259818084,0.115528522906001,0,0.12930864865274,0.0656451568497799,0.0158218462085428,0.0127746672264154,0.0208306683448433,0.0328698824534765,0.000537686161005174,0.00625422325537459,0,null,0.0392934697781784,0.0653143288564303,0.0748021704664025,0,0.0540980942340034,0.0605864136790809,0.327957470530021,0.06021344588533,0,0,0,0,0]
[null,11,0.0446790915323537,0.21462066306904,0.108438873664641,0,0.127264130323542,0.0753910643289775,0.0127186161433031,0.00897298019897965,0.0237067055489432,0.0297933494571858,0,2.3076695783058E-3,0,null,0.040822002787354,0.0669208398015166,0.084002126804926,0,0.0596312884155035,0.0668106500413934,0.331622311820749,0.0720343274810549,0,0,0,0,0]
[null,12,0.0381519357581894,0.234334839210254,0.0998954484015367,0,0.120213611037202,0.087762758319161,0.0108239173092073,0.00769209118237923,0.0252896429169918,0.0265653835146126,0,2.37579124205615E-4,0,null,0.0397167390044502,0.0681994101833491,0.0975498077971515,0,0.0677402853133439,0.0734504915238254,0.342543528830899,0.0831409741022281,0,0,0,0,0]
[null,13,0.0314712792842944,0.255441964254719,0.0947246567199634,0,0.112890745519481,0.104181744652161,0.00840509424085413,0.0105512508138492,0.0238218608377304,0.0237603386623037,0,0,0,null,0.0384969557242632,0.0682808460087149,0.11303382101066,0,0.077315226774717,0.0770771044916944,0.364040393502925,0.0901084967832115,0,0,0,0,0]
[null,14,0.0242272198334298,0.276181226429382,0.0974687872623091,0,0.108315821942528,0.123908439835066,0.0064705851329707,0.0173928366612645,0.0200031675075268,0.0205745185102712,0,0,0,null,0.040089791534778,0.0670557817818223,0.128892957876397,0,0.0838614155278897,0.0775849615801399,0.391577267864945,0.0926904730637099,0,0,0,0,0]
[null,15,0.0178074794953386,0.29023221427556,0.105360031347354,0,0.106942232194303,0.1470469631487,0.00492089354363215,0.0273280218354464,0.0148608667982468,0.0163175810754939,0,0,0,null,0.0443226975712121,0.0653297089533167,0.154565411772506,0,0.0811343288971163,0.0776701363947676,0.420679089332549,0.0896931226075808,0,0,0,0,0]
[null,16,0.018555846025555,0.3002729668791,0.116688768533797,0,0.108049175958045,0.164622585097856,0.00366542937392422,0.0361253724009321,0.00965883543883048,0.0111064403224544,0,0,0,null,0.0502495698797028,0.0633898615391293,0.187815853619736,0,0.0725611323996854,0.0807356022694637,0.448626491399574,0.0832607554228278,0,0,0,0,0]
[null,17,0.028913431371846,0.309624216551113,0.132967360315718,0,0.113130714159413,0.176480648723722,0.00299695308342716,0.0419313699941002,0.00560122068443781,0.0087794515876432,0,0,0,null,0.0558231407757407,0.0624341694891435,0.224155723717384,0,0.0582822742424009,0.0852276534686329,0.477040410644252,0.0747148441986048,0,0,0,0,0]
[null,18,0.0418588769170112,0.319078632411753,0.159976338887147,0,0.126608610714569,0.176929846695669,0.00281824465236162,0.0385066835529565,0.00368014186029368,0.01420570266071,0,0,0,null,0.049668070170844,0.0620789916513606,0.266365947041235,0,0.0482464773543144,0.0890761767682357,0.50680563488963,0.0639826866723841,0,0,0,0,0]
[null,19,0.0515630263642663,0.323428362025313,0.192119252455575,0,0.151659086342902,0.171594135693294,0.00231741014086025,0.0387931200490334,5.64368557285733E-3,0.0232276920021351,0,0,0,null,0.0411205386378465,0.0625716791562382,0.310490006884059,0,0.0382520462919363,0.0922817574946323,0.528065579260238,0.0542093092964363,0,0,0,0,0]
[null,20,0.0574872568053834,0.327825458424226,0.219236109111207,0,0.183303120704695,0.154031438661624,0.00178506941337788,0.0375421642182513,0.0149855294609844,0.0375701083291217,0,0,0,null,0.0342940815383566,0.0662104102662713,0.353733919023684,0,0.034608103744869,0.0995311479062475,0.539596160825339,0.0449515175440966,0,0,0,0,0]
[null,21,0.0538973951562074,0.331831810461403,0.242612246342565,0,0.210613270166449,0.137393592982742,1.20471594508496E-3,0.0369902542761753,0.0258565996350127,0.0530110515799999,0,0,0,null,0.0304469651614904,0.0686489211505394,0.397007596179511,0,0.0312954773356167,0.107046786437916,0.552750923268802,0.0361610090853151,0,0,0,0,0]
[null,22,0.0510003231409568,0.335470876204089,0.265640724619173,0,0.237382568340489,0.120450811815331,0.000589289152447391,0.0360971877271449,0.0367951463612768,0.0683793029579643,0,0,0,null,0.026068333427147,0.0705577137437891,0.440439408004477,0,0.0278602339642738,0.114871331219008,0.567725912143927,0.0277100517959623,0,0,0,0,0]
[null,23,0.0470392570357183,0.338757470608624,0.288763816122288,0,0.264572078053466,0.102673713779468,{"v":-4.37333778410496e-05,"d":"-4.37E-05"},0.0347395999462359,0.0479188138169484,0.0841018843964261,0,0,0,null,0.0209273891552269,0.0723057270114287,0.483979876983128,0,0.0248596798563193,0.122969091241022,0.583079641696665,0.0197424020404801,0,0,0,0,0]
[null,24,0.0411931659864326,0.341760980025519,0.311821258827215,0,0.292385845034074,0.0839352099442506,-0.000678994720091652,0.0330591748477572,0.059400974174954,0.100234729232316,0,0,0,null,0.0152887838742681,0.0740697466795503,0.527565165902836,0,0.0226547215200082,0.13121660170657,0.598827513805987,0.0121718323684515,0,0,0,0,0]
[null,25,0.0331250368469893,0.344626375690065,0.334430497330177,0,0.320569137599623,0.06431298467795,-0.00130509702762353,0.0313007459189071,0.0713075743924858,0.116868208056667,0,0,0,null,0.00955634585898291,0.0760050249630787,0.571164395116348,0,0.0214959263617596,0.13949884876665,0.615529408168473,4.72782548513348E-3,0,0,0,0,0]

{"sheet":"Smites","index":4,"n_rows":444,"n_cols":28,"rows_kept":444}
[]
[]
[]
[{"$nulls":3},"SMITES - Gereral Info",1,2,3,4,5,6,7,8,9,10,11,12,13,14,15,16,17,18,19,20]
[{"$nulls":3},"use all smite dice?  (pal, warlock, wiz, sorc, priest, etc)",{"$f":"IF(AND(Sorcadins!E7>=2,Sorcadins!E163=0),1,0)","v":0},{"$f":"IF(AND(Sorcadins!F7>=2,Sorcadins!F163=0),1,0)","v":0},{"$f":"IF(AND(Sorcadins!G7>=2,Sorcadins!G163=0),1,0)","v":0},{"$f":"IF(AND(Sorcadins!H7>=2,Sorcadins!H163=0),1,0)","v":0},{"$f":"IF(AND(Sorcadins!I7>=2,Sorcadins!I163=0),1,0)","v":0},{"$f":"IF(AND(Sorcadins!J7>=2,Sorcadins!J163=0),1,0)","v":0},{"$f":"IF(AND(Sorcadins!K7>=2,Sorcadins!K163=0),1,0)","v":0},{"$f":"IF(AND(Sorcadins!L7>=2,Sorcadins!L163=0),1,0)","v":0},{"$f":"IF(AND(Sorcadins!M7>=2,Sorcadins!M163=0),1,0)","v":0},{"$f":"IF(AND(Sorcadins!N7>=2,Sorcadins!N163=0),1,0)","v":0},{"$f":"IF(AND(Sorcadins!O7>=2,Sorcadins!O163=0),1,0)","v":0},{"$f":"IF(AND(Sorcadins!P7>=2,Sorcadins!P163=0),1,0)","v":0},{"$f":"IF(AND(Sorcadins!Q7>=2,Sorcadins!Q163=0),1,0)","v":0},{"$f":"IF(AND(Sorcadins!R7>=2,Sorcadins!R163=0),1,0)","v":0},{"$f":"IF(AND(Sorcadins!S7>=2,Sorcadins!S163=0),1,0)","v":0},{"$f":"IF(AND(Sorcadins!T7>=2,Sorcadins!T163=0),1,0)","v":0},{"$f":"IF(AND(Sorcadins!U7>=2,Sorcadins!U163=0),1,0)","v":0},{"$f":"IF(AND(Sorcadins!V7>=2,Sorcadins!V163=0),1,0)","v":0},{"$f":"IF(AND(Sorcadins!W7>=2,1),1,0)","v":0},{"$f":"IF(AND(Sorcadins!X7>=2,Sorcadins!X163=0),1,0)","v":0}]
[{"$nulls":3},"use only warlock smite dice?",{"$f":"IF(AND(Sorcadins!$B$74>0,Sorcadins!$B$74<=Sorcadins!E6,Sorcadins!E12>=5,Sorcadins!E54>=1,OR(Sorcadins!E7<=1,Sorcadins!E163>=1)),1,0)","v":0},{"$f":"IF(AND(Sorcadins!$B$74>0,Sorcadins!$B$74<=Sorcadins!F6,Sorcadins!F12>=5,Sorcadins!F54>=1,OR(Sorcadins!F7<=1,Sorcadins!F163>=1)),1,0)","v":0},{"$f":"IF(AND(Sorcadins!$B$74>0,Sorcadins!$B$74<=Sorcadins!G6,Sorcadins!G12>=5,Sorcadins!G54>=1,OR(Sorcadins!G7<=1,Sorcadins!G163>=1)),1,0)","v":0},{"$f":"IF(AND(Sorcadins!$B$74>0,Sorcadins!$B$74<=Sorcadins!H6,Sorcadins!H12>=5,Sorcadins!H54>=1,OR(Sorcadins!H7<=1,Sorcadins!H163>=1)),1,0)","v":0},{"$f":"IF(AND(Sorcadins!$B$74>0,Sorcadins!$B$74<=Sorcadins!I6,Sorcadins!I12>=5,Sorcadins!I54>=1,OR(Sorcadins!I7<=1,Sorcadins!I163>=1)),1,0)","v":0},{"$f":"IF(AND(Sorcadins!$B$74>0,Sorcadins!$B$74<=Sorcadins!J6,Sorcadins!J12>=5,Sorcadins!J54>=1,OR(Sorcadins!J7<=1,Sorcadins!J163>=1)),1,0)","v":0},{"$f":"IF(AND(Sorcadins!$B$74>0,Sorcadins!$B$74<=Sorcadins!K6,Sorcadins!K12>=5,Sorcadins!K54>=1,OR(Sorcadins!K7<=1,Sorcadins!K163>=1)),1,0)","v":0},{"$f":"IF(AND(Sorcadins!$B$74>0,Sorcadins!$B$74<=Sorcadins!L6,Sorcadins!L12>=5,Sorcadins!L54>=1,OR(Sorcadins!L7<=1,Sorcadins!L163>=1)),1,0)","v":0},{"$f":"IF(AND(Sorcadins!$B$74>0,Sorcadins!$B$74<=Sorcadins!M6,Sorcadins!M12>=5,Sorcadins!M54>=1,OR(Sorcadins!M7<=1,Sorcadins!M163>=1)),1,0)","v":0},{"$f":"IF(AND(Sorcadins!$B$74>0,Sorcadins!$B$74<=Sorcadins!N6,Sorcadins!N12>=5,Sorcadins!N54>=1,OR(Sorcadins!N7<=1,Sorcadins!N163>=1)),1,0)","v":0},{"$f":"IF(AND(Sorcadins!$B$74>0,Sorcadins!$B$74<=Sorcadins!O6,Sorcadins!O12>=5,Sorcadins!O54>=1,OR(Sorcadins!O7<=1,Sorcadins!O163>=1)),1,0)","v":0},{"$f":"IF(AND(Sorcadins!$B$74>0,Sorcadins!$B$74<=Sorcadins!P6,Sorcadins!P12>=5,Sorcadins!P54>=1,OR(Sorcadins!P7<=1,Sorcadins!P163>=1)),1,0)","v":0},{"$f":"IF(AND(Sorcadins!$B$74>0,Sorcadins!$B$74<=Sorcadins!Q6,Sorcadins!Q12>=5,Sorcadins!Q54>=1,OR(Sorcadins!Q7<=1,Sorcadins!Q163>=1)),1,0)","v":0},{"$f":"IF(AND(Sorcadins!$B$74>0,Sorcadins!$B$74<=Sorcadins!R6,Sorcadins!R12>=5,Sorcadins!R54>=1,OR(Sorcadins!R7<=1,Sorcadins!R163>=1)),1,0)","v":0},{"$f":"IF(AND(Sorcadins!$B$74>0,Sorcadins!$B$74<=Sorcadins!S6,Sorcadins!S12>=5,Sorcadins!S54>=1,OR(Sorcadins!S7<=1,Sorcadins!S163>=1)),1,0)","v":0},{"$f":"IF(AND(Sorcadins!$B$74>0,Sorcadins!$B$74<=Sorcadins!T6,Sorcadins!T12>=5,Sorcadins!T54>=1,OR(Sorcadins!T7<=1,Sorcadins!T163>=1)),1,0)","v":0},{"$f":"IF(AND(Sorcadins!$B$74>0,Sorcadins!$B$74<=Sorcadins!U6,Sorcadins!U12>=5,Sorcadins!U54>=1,OR(Sorcadins!U7<=1,Sorcadins!U163>=1)),1,0)","v":0},{"$f":"IF(AND(Sorcadins!$B$74>0,Sorcadins!$B$74<=Sorcadins!V6,Sorcadins!V12>=5,Sorcadins!V54>=1,OR(Sorcadins!V7<=1,Sorcadins!V163>=1)),1,0)","v":0},{"$f":"IF(AND(Sorcadins!$B$74>0,Sorcadins!$B$74<=Sorcadins!W6,Sorcadins!W12>=5,Sorcadins!W54>=1,OR(Sorcadins!W7<=1,Sorcadins!W163>=1)),1,0)","v":0},{"$f":"IF(AND(Sorcadins!$B$74>0,Sorcadins!$B$74<=Sorcadins!X6,Sorcadins!X12>=5,Sorcadins!X54>=1,OR(Sorcadins!X7<=1,Sorcadins!X163>=1)),1,0)","v":0}]
[{"$nulls":3},"max smite dice per smite",{"$f":"IF(OR(Sorcadins!E12>=5,Sorcadins!E7>=2),MIN(IF(E6,6,5),Sorcadins!E324+1),0)","v":0},{"$f":"IF(OR(Sorcadins!F12>=5,Sorcadins!F7>=2),MIN(IF(F6,6,5),Sorcadins!F324+1),0)","v":0},{"$f":"IF(OR(Sorcadins!G12>=5,Sorcadins!G7>=2),MIN(IF(G6,6,5),Sorcadins!G324+1),0)","v":0},{"$f":"IF(OR(Sorcadins!H12>=5,Sorcadins!H7>=2),MIN(IF(H6,6,5),Sorcadins!H324+1),0)","v":0},{"$f":"IF(OR(Sorcadins!I12>=5,Sorcadins!I7>=2),MIN(IF(I6,6,5),Sorcadins!I324+1),0)","v":0},{"$f":"IF(OR(Sorcadins!J12>=5,Sorcadins!J7>=2),MIN(IF(J6,6,5),Sorcadins!J324+1),0)","v":0},{"$f":"IF(OR(Sorcadins!K12>=5,Sorcadins!K7>=2),MIN(IF(K6,6,5),Sorcadins!K324+1),0)","v":0},{"$f":"IF(OR(Sorcadins!L12>=5,Sorcadins!L7>=2),MIN(IF(L6,6,5),Sorcadins!L324+1),0)","v":0},{"$f":"IF(OR(Sorcadins!M12>=5,Sorcadins!M7>=2),MIN(IF(M6,6,5),Sorcadins!M324+1),0)","v":0},{"$f":"IF(OR(Sorcadins!N12>=5,Sorcadins!N7>=2),MIN(IF(N6,6,5),Sorcadins!N324+1),0)","v":0},{"$f":"IF(OR(Sorcadins!O12>=5,Sorcadins!O7>=2),MIN(IF(O6,6,5),Sorcadins!O324+1),0)","v":0},{"$f":"IF(OR(Sorcadins!P12>=5,Sorcadins!P7>=2),MIN(IF(P6,6,5),Sorcadins!P324+1),0)","v":0},{"$f":"IF(OR(Sorcadins!Q12>=5,Sorcadins!Q7>=2),MIN(IF(Q6,6,5),Sorcadins!Q324+1),0)","v":0},{"$f":"IF(OR(Sorcadins!R12>=5,Sorcadins!R7>=2),MIN(IF(R6,6,5),Sorcadins!R324+1),0)","v":0},{"$f":"IF(OR(Sorcadins!S12>=5,Sorcadins!S7>=2),MIN(IF(S6,6,5),Sorcadins!S324+1),0)","v":0},{"$f":"IF(OR(Sorcadins!T12>=5,Sorcadins!T7>=2),MIN(IF(T6,6,5),Sorcadins!T324+1),0)","v":0},{"$f":"IF(OR(Sorcadins!U12>=5,Sorcadins!U7>=2),MIN(IF(U6,6,5),Sorcadins!U324+1),0)","v":0},{"$f":"IF(OR(Sorcadins!V12>=5,Sorcadins!V7>=2),MIN(IF(V6,6,5),Sorcadins!V324+1),0)","v":0},{"$f":"IF(OR(Sorcadins!W12>=5,Sorcadins!W7>=2),MIN(IF(W6,6,5),Sorcadins!W324+1),0)","v":0},{"$f":"IF(OR(Sorcadins!X12>=5,Sorcadins!X7>=2),MIN(IF(X6,6,5),Sorcadins!X324+1),0)","v":0}]
[]
[{"$nulls":3},"SMITES - M1, B1, O1/O2",1,2,3,4,5,6,7,8,9,10,11,12,13,14,15,16,17,18,19,20]
[{"$nulls":3},"remaining sorcery points (based on Damage Scenario)",{"$f":"MAX(0,Sorcadins!E$623-Sorcadins!E$1500)","v":0},{"$f":"MAX(0,Sorcadins!F$623-Sorcadins!F$1500)","v":0},{"$f":"MAX(0,Sorcadins!G$623-Sorcadins!G$1500)","v":0},{"$f":"MAX(0,Sorcadins!H$623-Sorcadins!H$1500)","v":0},{"$f":"MAX(0,Sorcadins!I$623-Sorcadins!I$1500)","v":0},{"$f":"MAX(0,Sorcadins!J$623-Sorcadins!J$1500)","v":0},{"$f":"MAX(0,Sorcadins!K$623-Sorcadins!K$1500)","v":0},{"$f":"MAX(0,Sorcadins!L$623-Sorcadins!L$1500)","v":0},{"$f":"MAX(0,Sorcadins!M$623-Sorcadins!M$1500)","v":0},{"$f":"MAX(0,Sorcadins!N$623-Sorcadins!N$1500)","v":0},{"$f":"MAX(0,Sorcadins!O$623-Sorcadins!O$1500)","v":0},{"$f":"MAX(0,Sorcadins!P$623-Sorcadins!P$1500)","v":0},{"$f":"MAX(0,Sorcadins!Q$623-Sorcadins!Q$1500)","v":0},{"$f":"MAX(0,Sorcadins!R$623-Sorcadins!R$1500)","v":0},{"$f":"MAX(0,Sorcadins!S$623-Sorcadins!S$1500)","v":0},{"$f":"MAX(0,Sorcadins!T$623-Sorcadins!T$1500)","v":0},{"$f":"MAX(0,Sorcadins!U$623-Sorcadins!U$1500)","v":0},{"$f":"MAX(0,Sorcadins!V$623-Sorcadins!V$1500)","v":0},{"$f":"MAX(0,Sorcadins!W$623-Sorcadins!W$1500)","v":0},{"$f":"MAX(0,Sorcadins!X$623-Sorcadins!X$1500)","v":0},null,"*Sorc points directly convertible to Smite Dice"]
[{"$nulls":3},"remaining spell slot levels (based on Damage Scenario)",{"$f":"MAX(0,Sorcadins!E$331-MAX(0,Sorcadins!E$1500-Sorcadins!E$623))","v":0},{"$f":"MAX(0,Sorcadins!F$331-MAX(0,Sorcadins!F$1500-Sorcadins!F$623))","v":0},{"$f":"MAX(0,Sorcadins!G$331-MAX(0,Sorcadins!G$1500-Sorcadins!G$623))","v":0},{"$f":"MAX(0,Sorcadins!H$331-MAX(0,Sorcadins!H$1500-Sorcadins!H$623))","v":0},{"$f":"MAX(0,Sorcadins!I$331-MAX(0,Sorcadins!I$1500-Sorcadins!I$623))","v":4},{"$f":"MAX(0,Sorcadins!J$331-MAX(0,Sorcadins!J$1500-Sorcadins!J$623))","v":4},{"$f":"MAX(0,Sorcadins!K$331-MAX(0,Sorcadins!K$1500-Sorcadins!K$623))","v":4},{"$f":"MAX(0,Sorcadins!L$331-MAX(0,Sorcadins!L$1500-Sorcadins!L$623))","v":4},{"$f":"MAX(0,Sorcadins!M$331-MAX(0,Sorcadins!M$1500-Sorcadins!M$623))","v":4},{"$f":"MAX(0,Sorcadins!N$331-MAX(0,Sorcadins!N$1500-Sorcadins!N$623))","v":4},{"$f":"MAX(0,Sorcadins!O$331-MAX(0,Sorcadins!O$1500-Sorcadins!O$623))","v":4},{"$f":"MAX(0,Sorcadins!P$331-MAX(0,Sorcadins!P$1500-Sorcadins!P$623))","v":4},{"$f":"MAX(0,Sorcadins!Q$331-MAX(0,Sorcadins!Q$1500-Sorcadins!Q$623))","v":4},{"$f":"MAX(0,Sorcadins!R$331-MAX(0,Sorcadins!R$1500-Sorcadins!R$623))","v":4},{"$f":"MAX(0,Sorcadins!S$331-MAX(0,Sorcadins!S$1500-Sorcadins!S$623))","v":4},{"$f":"MAX(0,Sorcadins!T$331-MAX(0,Sorcadins!T$1500-Sorcadins!T$623))","v":4},{"$f":"MAX(0,Sorcadins!U$331-MAX(0,Sorcadins!U$1500-Sorcadins!U$623))","v":4},{"$f":"MAX(0,Sorcadins!V$331-MAX(0,Sorcadins!V$1500-Sorcadins!V$623))","v":4},{"$f":"MAX(0,Sorcadins!W$331-MAX(0,Sorcadins!W$1500-Sorcadins!W$623))","v":4.770831803630529},{"$f":"MAX(0,Sorcadins!X$331-MAX(0,Sorcadins!X$1500-Sorcadins!X$623))","v":4.770831803630529}]
[{"$nulls":3},"total warlock smite levels remaining",{"$f":"MIN(Sorcadins!E$323*E11,Sorcadins!E$314)","v":0},{"$f":"MIN(Sorcadins!F$323*F11,Sorcadins!F$314)","v":0},{"$f":"MIN(Sorcadins!G$323*G11,Sorcadins!G$314)","v":0},{"$f":"MIN(Sorcadins!H$323*H11,Sorcadins!H$314)","v":0},{"$f":"MIN(Sorcadins!I$323*I11,Sorcadins!I$314)","v":0},{"$f":"MIN(Sorcadins!J$323*J11,Sorcadins!J$314)","v":0},{"$f":"MIN(Sorcadins!K$323*K11,Sorcadins!K$314)","v":0},{"$f":"MIN(Sorcadins!L$323*L11,Sorcadins!L$314)","v":0},{"$f":"MIN(Sorcadins!M$323*M11,Sorcadins!M$314)","v":0},{"$f":"MIN(Sorcadins!N$323*N11,Sorcadins!N$314)","v":0},{"$f":"MIN(Sorcadins!O$323*O11,Sorcadins!O$314)","v":0},{"$f":"MIN(Sorcadins!P$323*P11,Sorcadins!P$314)","v":0},{"$f":"MIN(Sorcadins!Q$323*Q11,Sorcadins!Q$314)","v":0},{"$f":"MIN(Sorcadins!R$323*R11,Sorcadins!R$314)","v":0},{"$f":"MIN(Sorcadins!S$323*S11,Sorcadins!S$314)","v":0},{"$f":"MIN(Sorcadins!T$323*T11,Sorcadins!T$314)","v":0},{"$f":"MIN(Sorcadins!U$323*U11,Sorcadins!U$314)","v":0},{"$f":"MIN(Sorcadins!V$323*V11,Sorcadins!V$314)","v":0},{"$f":"MIN(Sorcadins!W$323*W11,Sorcadins!W$314)","v":0},{"$f":"MIN(Sorcadins!X$323*X11,Sorcadins!X$314)","v":0}]
[{"$nulls":3},"total smite levels remaining",{"$f":"IF(E$5>=1,Sorcadins!E$323*E11+E10,IF(E$6,E12,0))","v":0},{"$f":"IF(F$5>=1,Sorcadins!F$323*F11+F10,IF(F$6,F12,0))","v":0},{"$f":"IF(G$5>=1,Sorcadins!G$323*G11+G10,IF(G$6,G12,0))","v":0},{"$f":"IF(H$5>=1,Sorcadins!H$323*H11+H10,IF(H$6,H12,0))","v":0},{"$f":"IF(I$5>=1,Sorcadins!I$323*I11+I10,IF(I$6,I12,0))","v":0},{"$f":"IF(J$5>=1,Sorcadins!J$323*J11+J10,IF(J$6,J12,0))","v":0},{"$f":"IF(K$5>=1,Sorcadins!K$323*K11+K10,IF(K$6,K12,0))","v":0},{"$f":"IF(L$5>=1,Sorcadins!L$323*L11+L10,IF(L$6,L12,0))","v":0},{"$f":"IF(M$5>=1,Sorcadins!M$323*M11+M10,IF(M$6,M12,0))","v":0},{"$f":"IF(N$5>=1,Sorcadins!N$323*N11+N10,IF(N$6,N12,0))","v":0},{"$f":"IF(O$5>=1,Sorcadins!O$323*O11+O10,IF(O$6,O12,0))","v":0},{"$f":"IF(P$5>=1,Sorcadins!P$323*P11+P10,IF(P$6,P12,0))","v":0},{"$f":"IF(Q$5>=1,Sorcadins!Q$323*Q11+Q10,IF(Q$6,Q12,0))","v":0},{"$f":"IF(R$5>=1,Sorcadins!R$323*R11+R10,IF(R$6,R12,0))","v":0},{"$f":"IF(S$5>=1,Sorcadins!S$323*S11+S10,IF(S$6,S12,0))","v":0},{"$f":"IF(T$5>=1,Sorcadins!T$323*T11+T10,IF(T$6,T12,0))","v":0},{"$f":"IF(U$5>=1,Sorcadins!U$323*U11+U10,IF(U$6,U12,0))","v":0},{"$f":"IF(V$5>=1,Sorcadins!V$323*V11+V10,IF(V$6,V12,0))","v":0},{"$f":"IF(W$5>=1,Sorcadins!W$323*W11+W10,IF(W$6,W12,0))","v":0},{"$f":"IF(X$5>=1,Sorcadins!X$323*X11+X10,IF(X$6,X12,0))","v":0}]
[{"$nulls":3},"max number of daily smites (total no of spells left after casts)",{"$f":"IF(E$6,Sorcadins!E$1374,IF(E$5,Sorcadins!E$332+E10/2,0))","v":0},{"$f":"IF(F$6,Sorcadins!F$1374,IF(F$5,Sorcadins!F$332+F10/2,0))","v":0},{"$f":"IF(G$6,Sorcadins!G$1374,IF(G$5,Sorcadins!G$332+G10/2,0))","v":0},{"$f":"IF(H$6,Sorcadins!H$1374,IF(H$5,Sorcadins!H$332+H10/2,0))","v":0},{"$f":"IF(I$6,Sorcadins!I$1374,IF(I$5,Sorcadins!I$332+I10/2,0))","v":0},{"$f":"IF(J$6,Sorcadins!J$1374,IF(J$5,Sorcadins!J$332+J10/2,0))","v":0},{"$f":"IF(K$6,Sorcadins!K$1374,IF(K$5,Sorcadins!K$332+K10/2,0))","v":0},{"$f":"IF(L$6,Sorcadins!L$1374,IF(L$5,Sorcadins!L$332+L10/2,0))","v":0},{"$f":"IF(M$6,Sorcadins!M$1374,IF(M$5,Sorcadins!M$332+M10/2,0))","v":0},{"$f":"IF(N$6,Sorcadins!N$1374,IF(N$5,Sorcadins!N$332+N10/2,0))","v":0},{"$f":"IF(O$6,Sorcadins!O$1374,IF(O$5,Sorcadins!O$332+O10/2,0))","v":0},{"$f":"IF(P$6,Sorcadins!P$1374,IF(P$5,Sorcadins!P$332+P10/2,0))","v":0},{"$f":"IF(Q$6,Sorcadins!Q$1374,IF(Q$5,Sorcadins!Q$332+Q10/2,0))","v":0},{"$f":"IF(R$6,Sorcadins!R$1374,IF(R$5,Sorcadins!R$332+R10/2,0))","v":0},{"$f":"IF(S$6,Sorcadins!S$1374,IF(S$5,Sorcadins!S$332+S10/2,0))","v":0},{"$f":"IF(T$6,Sorcadins!T$1374,IF(T$5,Sorcadins!T$332+T10/2,0))","v":0},{"$f":"IF(U$6,Sorcadins!U$1374,IF(U$5,Sorcadins!U$332+U10/2,0))","v":0},{"$f":"IF(V$6,Sorcadins!V$1374,IF(V$5,Sorcadins!V$332+V10/2,0))","v":0},{"$f":"IF(W$6,Sorcadins!W$1374,IF(W$5,Sorcadins!W$332+W10/2,0))","v":0},{"$f":"IF(X$6,Sorcadins!X$1374,IF(X$5,Sorcadins!X$332+X10/2,0))","v":0}]
[{"$nulls":3},"avg crits per day for smite purposes (based on Damage Scenario)",{"$f":"'Base Numbers'!$C$5*'Base Numbers'!$C$6*Sorcadins!E$1532","v":0},{"$f":"'Base Numbers'!$C$5*'Base Numbers'!$C$6*Sorcadins!F$1532","v":0},{"$f":"'Base Numbers'!$C$5*'Base Numbers'!$C$6*Sorcadins!G$1532","v":0},{"$f":"'Base Numbers'!$C$5*'Base Numbers'!$C$6*Sorcadins!H$1532","v":0},{"$f":"'Base Numbers'!$C$5*'Base Numbers'!$C$6*Sorcadins!I$1532","v":0},{"$f":"'Base Numbers'!$C$5*'Base Numbers'!$C$6*Sorcadins!J$1532","v":0},{"$f":"'Base Numbers'!$C$5*'Base Numbers'!$C$6*Sorcadins!K$1532","v":0},{"$f":"'Base Numbers'!$C$5*'Base Numbers'!$C$6*Sorcadins!L$1532","v":0},{"$f":"'Base Numbers'!$C$5*'Base Numbers'!$C$6*Sorcadins!M$1532","v":0},{"$f":"'Base Numbers'!$C$5*'Base Numbers'!$C$6*Sorcadins!N$1532","v":0},{"$f":"'Base Numbers'!$C$5*'Base Numbers'!$C$6*Sorcadins!O$1532","v":0},{"$f":"'Base Numbers'!$C$5*'Base Numbers'!$C$6*Sorcadins!P$1532","v":0},{"$f":"'Base Numbers'!$C$5*'Base Numbers'!$C$6*Sorcadins!Q$1532","v":0},{"$f":"'Base Numbers'!$C$5*'Base Numbers'!$C$6*Sorcadins!R$1532","v":0},{"$f":"'Base Numbers'!$C$5*'Base Numbers'!$C$6*Sorcadins!S$1532","v":0},{"$f":"'Base Numbers'!$C$5*'Base Numbers'!$C$6*Sorcadins!T$1532","v":0},{"$f":"'Base Numbers'!$C$5*'Base Numbers'!$C$6*Sorcadins!U$1532","v":0},{"$f":"'Base Numbers'!$C$5*'Base Numbers'!$C$6*Sorcadins!V$1532","v":0},{"$f":"'Base Numbers'!$C$5*'Base Numbers'!$C$6*Sorcadins!W$1532","v":0},{"$f":"'Base Numbers'!$C$5*'Base Numbers'!$C$6*Sorcadins!X$1532","v":0}]
[{"$nulls":3},"number of smites used on crits",{"$f":"MIN(E14,E15)","v":0},{"$f":"MIN(F14,F15)","v":0},0,0,0,0,0,0,0,0,0,0,0,0,0,0,0,0,0,0]
[{"$nulls":3},"avg smite dice per crit ",{"$f":"IF(E16>0,MIN(E$7,(E13/MIN(E16,E15))),0)","v":0},0,0,0,{"$f":"IF(I16>0,MIN(I$7,(I13/MIN(I16,I15))),0)","v":0},0,0,0,{"$f":"IF(M16>0,MIN(M$7,(M13/MIN(M16,M15))),0)","v":0},0,0,0,0,0,0,0,0,0,0,0]
[{"$nulls":3},"smites left for non-crits",{"$f":"E14-E16","v":0},0,0,0,{"$f":"I14-I16","v":0},0,0,0,0,0,0,0,0,0,0,0,0,0,0,0]
[{"$nulls":3},"total non-crit smite-qualifying attacks available",{"$f":"Sorcadins!E$1507*('Base Numbers'!$C$5*'Base Numbers'!$C$6)-E15","v":0},{"$f":"Sorcadins!F$1507*('Base Numbers'!$C$5*'Base Numbers'!$C$6)-F15","v":0},{"$f":"Sorcadins!G$1507*('Base Numbers'!$C$5*'Base Numbers'!$C$6)-G15","v":0},{"$f":"Sorcadins!H$1507*('Base Numbers'!$C$5*'Base Numbers'!$C$6)-H15","v":0},{"$f":"Sorcadins!I$1507*('Base Numbers'!$C$5*'Base Numbers'!$C$6)-I15","v":0},{"$f":"Sorcadins!J$1507*('Base Numbers'!$C$5*'Base Numbers'!$C$6)-J15","v":0},{"$f":"Sorcadins!K$1507*('Base Numbers'!$C$5*'Base Numbers'!$C$6)-K15","v":0},{"$f":"Sorcadins!L$1507*('Base Numbers'!$C$5*'Base Numbers'!$C$6)-L15","v":0},{"$f":"Sorcadins!M$1507*('Base Numbers'!$C$5*'Base Numbers'!$C$6)-M15","v":0},{"$f":"Sorcadins!N$1507*('Base Numbers'!$C$5*'Base Numbers'!$C$6)-N15","v":0},{"$f":"Sorcadins!O$1507*('Base Numbers'!$C$5*'Base Numbers'!$C$6)-O15","v":0},{"$f":"Sorcadins!P$1507*('Base Numbers'!$C$5*'Base Numbers'!$C$6)-P15","v":0},{"$f":"Sorcadins!Q$1507*('Base Numbers'!$C$5*'Base Numbers'!$C$6)-Q15","v":0},{"$f":"Sorcadins!R$1507*('Base Numbers'!$C$5*'Base Numbers'!$C$6)-R15","v":0},{"$f":"Sorcadins!S$1507*('Base Numbers'!$C$5*'Base Numbers'!$C$6)-S15","v":0},{"$f":"Sorcadins!T$1507*('Base Numbers'!$C$5*'Base Numbers'!$C$6)-T15","v":0},{"$f":"Sorcadins!U$1507*('Base Numbers'!$C$5*'Base Numbers'!$C$6)-U15","v":0},{"$f":"Sorcadins!V$1507*('Base Numbers'!$C$5*'Base Numbers'!$C$6)-V15","v":0},{"$f":"Sorcadins!W$1507*('Base Numbers'!$C$5*'Base Numbers'!$C$6)-W15","v":0},{"$f":"Sorcadins!X$1507*('Base Numbers'!$C$5*'Base Numbers'!$C$6)-X15","v":0}]
[{"$nulls":3},"smite dice left for non-crits",{"$f":"ROUND(MAX(0,E13-E15*E17),4)","v":0},0,0,0,0,0,0,0,0,0,0,0,0,0,0,0,0,0,0,0]
[{"$nulls":3},"total smite dice used on crits",{"$f":"E16*E17","v":0},{"$f":"F16*F17","v":0},0,0,0,0,0,0,0,0,0,0,0,0,0,0,0,0,0,0]
[{"$nulls":3},"total crit smite damage per day",{"$f":"9*E21","v":0},{"$f":"9*F21","v":0},0,0,0,0,0,0,0,0,0,0,0,0,0,0,0,0,0,0]
[{"$nulls":3},"total non-crit smite damage per day",{"$f":"4.5*MIN(MIN(E19,E18)*E$7,E20)","v":0},{"$f":"4.5*MIN(MIN(F19,F18)*F$7,F20)","v":0},0,0,0,0,0,0,0,0,0,0,0,0,0,0,0,0,0,0]
[{"$nulls":3},"leftover sorc points + spell levels",{"$f":"IF(E13>0,IF(Sorcadins!E$323>0,(Sorcadins!E$323*E11+E10-E16*E17-E23/4.5)/Sorcadins!E$323,0),E11+E10)","v":0},{"$f":"IF(F13>0,IF(Sorcadins!F$323>0,(Sorcadins!F$323*F11+F10-F16*F17-F23/4.5)/Sorcadins!F$323,0),F11+F10)","v":0},{"$f":"IF(G13>0,IF(Sorcadins!G$323>0,(Sorcadins!G$323*G11+G10-G16*G17-G23/4.5)/Sorcadins!G$323,0),G11+G10)","v":0},{"$f":"IF(H13>0,IF(Sorcadins!H$323>0,(Sorcadins!H$323*H11+H10-H16*H17-H23/4.5)/Sorcadins!H$323,0),H11+H10)","v":0},{"$f":"IF(I13>0,IF(Sorcadins!I$323>0,(Sorcadins!I$323*I11+I10-I16*I17-I23/4.5)/Sorcadins!I$323,0),I11+I10)","v":4},{"$f":"IF(J13>0,IF(Sorcadins!J$323>0,(Sorcadins!J$323*J11+J10-J16*J17-J23/4.5)/Sorcadins!J$323,0),J11+J10)","v":4},{"$f":"IF(K13>0,IF(Sorcadins!K$323>0,(Sorcadins!K$323*K11+K10-K16*K17-K23/4.5)/Sorcadins!K$323,0),K11+K10)","v":4},{"$f":"IF(L13>0,IF(Sorcadins!L$323>0,(Sorcadins!L$323*L11+L10-L16*L17-L23/4.5)/Sorcadins!L$323,0),L11+L10)","v":4},{"$f":"IF(M13>0,IF(Sorcadins!M$323>0,(Sorcadins!M$323*M11+M10-M16*M17-M23/4.5)/Sorcadins!M$323,0),M11+M10)","v":4},{"$f":"IF(N13>0,IF(Sorcadins!N$323>0,(Sorcadins!N$323*N11+N10-N16*N17-N23/4.5)/Sorcadins!N$323,0),N11+N10)","v":4},{"$f":"IF(O13>0,IF(Sorcadins!O$323>0,(Sorcadins!O$323*O11+O10-O16*O17-O23/4.5)/Sorcadins!O$323,0),O11+O10)","v":4},{"$f":"IF(P13>0,IF(Sorcadins!P$323>0,(Sorcadins!P$323*P11+P10-P16*P17-P23/4.5)/Sorcadins!P$323,0),P11+P10)","v":4},{"$f":"IF(Q13>0,IF(Sorcadins!Q$323>0,(Sorcadins!Q$323*Q11+Q10-Q16*Q17-Q23/4.5)/Sorcadins!Q$323,0),Q11+Q10)","v":4},{"$f":"IF(R13>0,IF(Sorcadins!R$323>0,(Sorcadins!R$323*R11+R10-R16*R17-R23/4.5)/Sorcadins!R$323,0),R11+R10)","v":4},{"$f":"IF(S13>0,IF(Sorcadins!S$323>0,(Sorcadins!S$323*S11+S10-S16*S17-S23/4.5)/Sorcadins!S$323,0),S11+S10)","v":4},{"$f":"IF(T13>0,IF(Sorcadins!T$323>0,(Sorcadins!T$323*T11+T10-T16*T17-T23/4.5)/Sorcadins!T$323,0),T11+T10)","v":4},{"$f":"IF(U13>0,IF(Sorcadins!U$323>0,(Sorcadins!U$323*U11+U10-U16*U17-U23/4.5)/Sorcadins!U$323,0),U11+U10)","v":4},{"$f":"IF(V13>0,IF(Sorcadins!V$323>0,(Sorcadins!V$323*V11+V10-V16*V17-V23/4.5)/Sorcadins!V$323,0),V11+V10)","v":4},{"$f":"IF(W13>0,IF(Sorcadins!W$323>0,(Sorcadins!W$323*W11+W10-W16*W17-W23/4.5)/Sorcadins!W$323,0),W11+W10)","v":4.770831803630529},{"$f":"IF(X13>0,IF(Sorcadins!X$323>0,(Sorcadins!X$323*X11+X10-X16*X17-X23/4.5)/Sorcadins!X$323,0),X11+X10)","v":4.770831803630529}]
[{"$nulls":3},"actual smites performed",{"$f":"E16+IF(E$7>0,MIN(E18,E19,E20/E$7),0)","v":0},{"$f":"F16+IF(F$7>0,MIN(F18,F19,F20/F$7),0)","v":0},0,0,0,0,0,0,0,0,0,0,0,0,0,0,0,0,0,0]
[{"$nulls":3},"total daily smite damage: M1, B1, O1/O2",{"$f":"E22+E23","v":0},0,0,0,0,0,0,0,0,0,0,0,0,0,0,0,0,0,0,0]
[]
[{"$nulls":3},"SMITES - M1, B1, O3",1,2,3,4,5,6,7,8,9,10,11,12,13,14,15,16,17,18,19,20]
[{"$nulls":3},"remaining sorcery points (based on Damage Scenario)",{"$f":"MAX(0,Sorcadins!E$623-Sorcadins!E$1500)","v":0},{"$f":"MAX(0,Sorcadins!F$623-Sorcadins!F$1500)","v":0},{"$f":"MAX(0,Sorcadins!G$623-Sorcadins!G$1500)","v":0},{"$f":"MAX(0,Sorcadins!H$623-Sorcadins!H$1500)","v":0},{"$f":"MAX(0,Sorcadins!I$623-Sorcadins!I$1500)","v":0},{"$f":"MAX(0,Sorcadins!J$623-Sorcadins!J$1500)","v":0},{"$f":"MAX(0,Sorcadins!K$623-Sorcadins!K$1500)","v":0},{"$f":"MAX(0,Sorcadins!L$623-Sorcadins!L$1500)","v":0},{"$f":"MAX(0,Sorcadins!M$623-Sorcadins!M$1500)","v":0},{"$f":"MAX(0,Sorcadins!N$623-Sorcadins!N$1500)","v":0},{"$f":"MAX(0,Sorcadins!O$623-Sorcadins!O$1500)","v":0},{"$f":"MAX(0,Sorcadins!P$623-Sorcadins!P$1500)","v":0},{"$f":"MAX(0,Sorcadins!Q$623-Sorcadins!Q$1500)","v":0},{"$f":"MAX(0,Sorcadins!R$623-Sorcadins!R$1500)","v":0},{"$f":"MAX(0,Sorcadins!S$623-Sorcadins!S$1500)","v":0},{"$f":"MAX(0,Sorcadins!T$623-Sorcadins!T$1500)","v":0},{"$f":"MAX(0,Sorcadins!U$623-Sorcadins!U$1500)","v":0},{"$f":"MAX(0,Sorcadins!V$623-Sorcadins!V$1500)","v":0},{"$f":"MAX(0,Sorcadins!W$623-Sorcadins!W$1500)","v":0},{"$f":"MAX(0,Sorcadins!X$623-Sorcadins!X$1500)","v":0},null,"*Sorc points directly convertible to Smite Dice"]
[{"$nulls":3},"remaining spell slot levels (based on Damage Scenario)",{"$f":"MAX(0,Sorcadins!E$331-MAX(0,Sorcadins!E$1500-Sorcadins!E$623))","v":0},{"$f":"MAX(0,Sorcadins!F$331-MAX(0,Sorcadins!F$1500-Sorcadins!F$623))","v":0},{"$f":"MAX(0,Sorcadins!G$331-MAX(0,Sorcadins!G$1500-Sorcadins!G$623))","v":0},{"$f":"MAX(0,Sorcadins!H$331-MAX(0,Sorcadins!H$1500-Sorcadins!H$623))","v":0},{"$f":"MAX(0,Sorcadins!I$331-MAX(0,Sorcadins!I$1500-Sorcadins!I$623))","v":4},{"$f":"MAX(0,Sorcadins!J$331-MAX(0,Sorcadins!J$1500-Sorcadins!J$623))","v":4},{"$f":"MAX(0,Sorcadins!K$331-MAX(0,Sorcadins!K$1500-Sorcadins!K$623))","v":4},{"$f":"MAX(0,Sorcadins!L$331-MAX(0,Sorcadins!L$1500-Sorcadins!L$623))","v":4},{"$f":"MAX(0,Sorcadins!M$331-MAX(0,Sorcadins!M$1500-Sorcadins!M$623))","v":4},{"$f":"MAX(0,Sorcadins!N$331-MAX(0,Sorcadins!N$1500-Sorcadins!N$623))","v":4},{"$f":"MAX(0,Sorcadins!O$331-MAX(0,Sorcadins!O$1500-Sorcadins!O$623))","v":4},{"$f":"MAX(0,Sorcadins!P$331-MAX(0,Sorcadins!P$1500-Sorcadins!P$623))","v":4},{"$f":"MAX(0,Sorcadins!Q$331-MAX(0,Sorcadins!Q$1500-Sorcadins!Q$623))","v":4},{"$f":"MAX(0,Sorcadins!R$331-MAX(0,Sorcadins!R$1500-Sorcadins!R$623))","v":4},{"$f":"MAX(0,Sorcadins!S$331-MAX(0,Sorcadins!S$1500-Sorcadins!S$623))","v":4},{"$f":"MAX(0,Sorcadins!T$331-MAX(0,Sorcadins!T$1500-Sorcadins!T$623))","v":4},{"$f":"MAX(0,Sorcadins!U$331-MAX(0,Sorcadins!U$1500-Sorcadins!U$623))","v":4},{"$f":"MAX(0,Sorcadins!V$331-MAX(0,Sorcadins!V$1500-Sorcadins!V$623))","v":4},{"$f":"MAX(0,Sorcadins!W$331-MAX(0,Sorcadins!W$1500-Sorcadins!W$623))","v":4.770831803630529},{"$f":"MAX(0,Sorcadins!X$331-MAX(0,Sorcadins!X$1500-Sorcadins!X$623))","v":4.770831803630529}]
[{"$nulls":3},"total warlock smite levels remaining",{"$f":"MIN(Sorcadins!E$323*E30,Sorcadins!E$314)","v":0},{"$f":"MIN(Sorcadins!F$323*F30,Sorcadins!F$314)","v":0},{"$f":"MIN(Sorcadins!G$323*G30,Sorcadins!G$314)","v":0},{"$f":"MIN(Sorcadins!H$323*H30,Sorcadins!H$314)","v":0},{"$f":"MIN(Sorcadins!I$323*I30,Sorcadins!I$314)","v":0},{"$f":"MIN(Sorcadins!J$323*J30,Sorcadins!J$314)","v":0},{"$f":"MIN(Sorcadins!K$323*K30,Sorcadins!K$314)","v":0},{"$f":"MIN(Sorcadins!L$323*L30,Sorcadins!L$314)","v":0},{"$f":"MIN(Sorcadins!M$323*M30,Sorcadins!M$314)","v":0},{"$f":"MIN(Sorcadins!N$323*N30,Sorcadins!N$314)","v":0},{"$f":"MIN(Sorcadins!O$323*O30,Sorcadins!O$314)","v":0},{"$f":"MIN(Sorcadins!P$323*P30,Sorcadins!P$314)","v":0},{"$f":"MIN(Sorcadins!Q$323*Q30,Sorcadins!Q$314)","v":0},{"$f":"MIN(Sorcadins!R$323*R30,Sorcadins!R$314)","v":0},{"$f":"MIN(Sorcadins!S$323*S30,Sorcadins!S$314)","v":0},{"$f":"MIN(Sorcadins!T$323*T30,Sorcadins!T$314)","v":0},{"$f":"MIN(Sorcadins!U$323*U30,Sorcadins!U$314)","v":0},{"$f":"MIN(Sorcadins!V$323*V30,Sorcadins!V$314)","v":0},{"$f":"MIN(Sorcadins!W$323*W30,Sorcadins!W$314)","v":0},{"$f":"MIN(Sorcadins!X$323*X30,Sorcadins!X$314)","v":0}]
[{"$nulls":3},"total smite levels remaining",{"$f":"IF(E$5>=1,Sorcadins!E$323*E30+E29,IF(E$6,E31,0))","v":0},{"$f":"IF(F$5>=1,Sorcadins!F$323*F30+F29,IF(F$6,F31,0))","v":0},{"$f":"IF(G$5>=1,Sorcadins!G$323*G30+G29,IF(G$6,G31,0))","v":0},{"$f":"IF(H$5>=1,Sorcadins!H$323*H30+H29,IF(H$6,H31,0))","v":0},{"$f":"IF(I$5>=1,Sorcadins!I$323*I30+I29,IF(I$6,I31,0))","v":0},{"$f":"IF(J$5>=1,Sorcadins!J$323*J30+J29,IF(J$6,J31,0))","v":0},{"$f":"IF(K$5>=1,Sorcadins!K$323*K30+K29,IF(K$6,K31,0))","v":0},{"$f":"IF(L$5>=1,Sorcadins!L$323*L30+L29,IF(L$6,L31,0))","v":0},{"$f":"IF(M$5>=1,Sorcadins!M$323*M30+M29,IF(M$6,M31,0))","v":0},{"$f":"IF(N$5>=1,Sorcadins!N$323*N30+N29,IF(N$6,N31,0))","v":0},{"$f":"IF(O$5>=1,Sorcadins!O$323*O30+O29,IF(O$6,O31,0))","v":0},{"$f":"IF(P$5>=1,Sorcadins!P$323*P30+P29,IF(P$6,P31,0))","v":0},{"$f":"IF(Q$5>=1,Sorcadins!Q$323*Q30+Q29,IF(Q$6,Q31,0))","v":0},{"$f":"IF(R$5>=1,Sorcadins!R$323*R30+R29,IF(R$6,R31,0))","v":0},{"$f":"IF(S$5>=1,Sorcadins!S$323*S30+S29,IF(S$6,S31,0))","v":0},{"$f":"IF(T$5>=1,Sorcadins!T$323*T30+T29,IF(T$6,T31,0))","v":0},{"$f":"IF(U$5>=1,Sorcadins!U$323*U30+U29,IF(U$6,U31,0))","v":0},{"$f":"IF(V$5>=1,Sorcadins!V$323*V30+V29,IF(V$6,V31,0))","v":0},{"$f":"IF(W$5>=1,Sorcadins!W$323*W30+W29,IF(W$6,W31,0))","v":0},{"$f":"IF(X$5>=1,Sorcadins!X$323*X30+X29,IF(X$6,X31,0))","v":0}]
[{"$nulls":3},"max number of daily smites (after spells)",{"$f":"IF(E$6,Sorcadins!E$1374,IF(E$5,Sorcadins!E$332+E29/2,0))","v":0},{"$f":"IF(F$6,Sorcadins!F$1374,IF(F$5,Sorcadins!F$332+F29/2,0))","v":0},{"$f":"IF(G$6,Sorcadins!G$1374,IF(G$5,Sorcadins!G$332+G29/2,0))","v":0},{"$f":"IF(H$6,Sorcadins!H$1374,IF(H$5,Sorcadins!H$332+H29/2,0))","v":0},{"$f":"IF(I$6,Sorcadins!I$1374,IF(I$5,Sorcadins!I$332+I29/2,0))","v":0},{"$f":"IF(J$6,Sorcadins!J$1374,IF(J$5,Sorcadins!J$332+J29/2,0))","v":0},{"$f":"IF(K$6,Sorcadins!K$1374,IF(K$5,Sorcadins!K$332+K29/2,0))","v":0},{"$f":"IF(L$6,Sorcadins!L$1374,IF(L$5,Sorcadins!L$332+L29/2,0))","v":0},{"$f":"IF(M$6,Sorcadins!M$1374,IF(M$5,Sorcadins!M$332+M29/2,0))","v":0},{"$f":"IF(N$6,Sorcadins!N$1374,IF(N$5,Sorcadins!N$332+N29/2,0))","v":0},{"$f":"IF(O$6,Sorcadins!O$1374,IF(O$5,Sorcadins!O$332+O29/2,0))","v":0},{"$f":"IF(P$6,Sorcadins!P$1374,IF(P$5,Sorcadins!P$332+P29/2,0))","v":0},{"$f":"IF(Q$6,Sorcadins!Q$1374,IF(Q$5,Sorcadins!Q$332+Q29/2,0))","v":0},{"$f":"IF(R$6,Sorcadins!R$1374,IF(R$5,Sorcadins!R$332+R29/2,0))","v":0},{"$f":"IF(S$6,Sorcadins!S$1374,IF(S$5,Sorcadins!S$332+S29/2,0))","v":0},{"$f":"IF(T$6,Sorcadins!T$1374,IF(T$5,Sorcadins!T$332+T29/2,0))","v":0},{"$f":"IF(U$6,Sorcadins!U$1374,IF(U$5,Sorcadins!U$332+U29/2,0))","v":0},{"$f":"IF(V$6,Sorcadins!V$1374,IF(V$5,Sorcadins!V$332+V29/2,0))","v":0},{"$f":"IF(W$6,Sorcadins!W$1374,IF(W$5,Sorcadins!W$332+W29/2,0))","v":0},{"$f":"IF(X$6,Sorcadins!X$1374,IF(X$5,Sorcadins!X$332+X29/2,0))","v":0}]
[{"$nulls":3},"avg crits per day for smite purposes (based on Damage Scenario)",{"$f":"'Base Numbers'!$C$5*'Base Numbers'!$C$6*Sorcadins!E$1533","v":0},{"$f":"'Base Numbers'!$C$5*'Base Numbers'!$C$6*Sorcadins!F$1533","v":0},{"$f":"'Base Numbers'!$C$5*'Base Numbers'!$C$6*Sorcadins!G$1533","v":0},{"$f":"'Base Numbers'!$C$5*'Base Numbers'!$C$6*Sorcadins!H$1533","v":0},{"$f":"'Base Numbers'!$C$5*'Base Numbers'!$C$6*Sorcadins!I$1533","v":0},{"$f":"'Base Numbers'!$C$5*'Base Numbers'!$C$6*Sorcadins!J$1533","v":0},{"$f":"'Base Numbers'!$C$5*'Base Numbers'!$C$6*Sorcadins!K$1533","v":0},{"$f":"'Base Numbers'!$C$5*'Base Numbers'!$C$6*Sorcadins!L$1533","v":0},{"$f":"'Base Numbers'!$C$5*'Base Numbers'!$C$6*Sorcadins!M$1533","v":0},{"$f":"'Base Numbers'!$C$5*'Base Numbers'!$C$6*Sorcadins!N$1533","v":0},{"$f":"'Base Numbers'!$C$5*'Base Numbers'!$C$6*Sorcadins!O$1533","v":0},{"$f":"'Base Numbers'!$C$5*'Base Numbers'!$C$6*Sorcadins!P$1533","v":0},{"$f":"'Base Numbers'!$C$5*'Base Numbers'!$C$6*Sorcadins!Q$1533","v":0},{"$f":"'Base Numbers'!$C$5*'Base Numbers'!$C$6*Sorcadins!R$1533","v":0},{"$f":"'Base Numbers'!$C$5*'Base Numbers'!$C$6*Sorcadins!S$1533","v":0},{"$f":"'Base Numbers'!$C$5*'Base Numbers'!$C$6*Sorcadins!T$1533","v":0},{"$f":"'Base Numbers'!$C$5*'Base Numbers'!$C$6*Sorcadins!U$1533","v":0},{"$f":"'Base Numbers'!$C$5*'Base Numbers'!$C$6*Sorcadins!V$1533","v":0},{"$f":"'Base Numbers'!$C$5*'Base Numbers'!$C$6*Sorcadins!W$1533","v":0},{"$f":"'Base Numbers'!$C$5*'Base Numbers'!$C$6*Sorcadins!X$1533","v":0}]
[{"$nulls":3},"number of smites used on crits",{"$f":"MIN(E33,E34)","v":0},0,0,0,0,0,0,0,0,0,0,0,0,0,0,0,0,0,0,0]
[{"$nulls":3},"avg smite dice per crit ",{"$f":"IF(E35>0,MIN(E$7,(E32/MIN(E35,E34))),0)","v":0},0,0,0,0,0,0,0,0,0,0,0,0,0,0,0,0,0,0,0]
[{"$nulls":3},"smites left for non-crits",{"$f":"E33-E35","v":0},{"$f":"F33-F35","v":0},0,0,0,0,0,0,0,0,0,0,0,0,0,0,0,0,0,0]
[{"$nulls":3},"total non-crit smite-qualifying attacks available",{"$f":"Sorcadins!E$1508*('Base Numbers'!$C$5*'Base Numbers'!$C$6)-E34","v":0},{"$f":"Sorcadins!F$1508*('Base Numbers'!$C$5*'Base Numbers'!$C$6)-F34","v":0},{"$f":"Sorcadins!G$1508*('Base Numbers'!$C$5*'Base Numbers'!$C$6)-G34","v":0},{"$f":"Sorcadins!H$1508*('Base Numbers'!$C$5*'Base Numbers'!$C$6)-H34","v":0},{"$f":"Sorcadins!I$1508*('Base Numbers'!$C$5*'Base Numbers'!$C$6)-I34","v":0},{"$f":"Sorcadins!J$1508*('Base Numbers'!$C$5*'Base Numbers'!$C$6)-J34","v":0},{"$f":"Sorcadins!K$1508*('Base Numbers'!$C$5*'Base Numbers'!$C$6)-K34","v":0},{"$f":"Sorcadins!L$1508*('Base Numbers'!$C$5*'Base Numbers'!$C$6)-L34","v":0},{"$f":"Sorcadins!M$1508*('Base Numbers'!$C$5*'Base Numbers'!$C$6)-M34","v":0},{"$f":"Sorcadins!N$1508*('Base Numbers'!$C$5*'Base Numbers'!$C$6)-N34","v":0},{"$f":"Sorcadins!O$1508*('Base Numbers'!$C$5*'Base Numbers'!$C$6)-O34","v":0},{"$f":"Sorcadins!P$1508*('Base Numbers'!$C$5*'Base Numbers'!$C$6)-P34","v":0},{"$f":"Sorcadins!Q$1508*('Base Numbers'!$C$5*'Base Numbers'!$C$6)-Q34","v":0},{"$f":"Sorcadins!R$1508*('Base Numbers'!$C$5*'Base Numbers'!$C$6)-R34","v":0},{"$f":"Sorcadins!S$1508*('Base Numbers'!$C$5*'Base Numbers'!$C$6)-S34","v":0},{"$f":"Sorcadins!T$1508*('Base Numbers'!$C$5*'Base Numbers'!$C$6)-T34","v":0},{"$f":"Sorcadins!U$1508*('Base Numbers'!$C$5*'Base Numbers'!$C$6)-U34","v":0},{"$f":"Sorcadins!V$1508*('Base Numbers'!$C$5*'Base Numbers'!$C$6)-V34","v":0},{"$f":"Sorcadins!W$1508*('Base Numbers'!$C$5*'Base Numbers'!$C$6)-W34","v":0},{"$f":"Sorcadins!X$1508*('Base Numbers'!$C$5*'Base Numbers'!$C$6)-X34","v":0}]
[{"$nulls":3},"smite dice left for non-crits",{"$f":"ROUND(MAX(0,E32-E34*E36),4)","v":0},0,0,0,0,0,0,0,0,0,0,0,0,0,0,0,0,0,0,0]
[{"$nulls":3},"total smite dice used on crits",{"$f":"E35*E36","v":0},{"$f":"F35*F36","v":0},0,0,0,0,0,0,0,0,0,0,0,0,0,0,0,0,0,0]
[{"$nulls":3},"total crit smite damage per day",{"$f":"9*E40","v":0},0,0,0,0,0,0,0,0,0,0,0,0,0,0,0,0,0,0,0]
[{"$nulls":3},"total non-crit smite damage per day",{"$f":"4.5*MIN(MIN(E38,E37)*E$7,E39)","v":0},{"$f":"4.5*MIN(MIN(F38,F37)*F$7,F39)","v":0},0,0,0,0,0,0,0,0,0,0,0,0,0,0,0,0,0,{"$f":"4.5*MIN(MIN(X38,X37)*X$7,X39)","v":0}]
[{"$nulls":3},"leftover sorc points + spell levels",{"$f":"IF(E32>0,IF(Sorcadins!E$323>0,(Sorcadins!E$323*E30+E29-E35*E36-E42/4.5)/Sorcadins!E$323,0),E30+E29)","v":0},{"$f":"IF(F32>0,IF(Sorcadins!F$323>0,(Sorcadins!F$323*F30+F29-F35*F36-F42/4.5)/Sorcadins!F$323,0),F30+F29)","v":0},{"$f":"IF(G32>0,IF(Sorcadins!G$323>0,(Sorcadins!G$323*G30+G29-G35*G36-G42/4.5)/Sorcadins!G$323,0),G30+G29)","v":0},{"$f":"IF(H32>0,IF(Sorcadins!H$323>0,(Sorcadins!H$323*H30+H29-H35*H36-H42/4.5)/Sorcadins!H$323,0),H30+H29)","v":0},{"$f":"IF(I32>0,IF(Sorcadins!I$323>0,(Sorcadins!I$323*I30+I29-I35*I36-I42/4.5)/Sorcadins!I$323,0),I30+I29)","v":4},{"$f":"IF(J32>0,IF(Sorcadins!J$323>0,(Sorcadins!J$323*J30+J29-J35*J36-J42/4.5)/Sorcadins!J$323,0),J30+J29)","v":4},{"$f":"IF(K32>0,IF(Sorcadins!K$323>0,(Sorcadins!K$323*K30+K29-K35*K36-K42/4.5)/Sorcadins!K$323,0),K30+K29)","v":4},{"$f":"IF(L32>0,IF(Sorcadins!L$323>0,(Sorcadins!L$323*L30+L29-L35*L36-L42/4.5)/Sorcadins!L$323,0),L30+L29)","v":4},{"$f":"IF(M32>0,IF(Sorcadins!M$323>0,(Sorcadins!M$323*M30+M29-M35*M36-M42/4.5)/Sorcadins!M$323,0),M30+M29)","v":4},{"$f":"IF(N32>0,IF(Sorcadins!N$323>0,(Sorcadins!N$323*N30+N29-N35*N36-N42/4.5)/Sorcadins!N$323,0),N30+N29)","v":4},{"$f":"IF(O32>0,IF(Sorcadins!O$323>0,(Sorcadins!O$323*O30+O29-O35*O36-O42/4.5)/Sorcadins!O$323,0),O30+O29)","v":4},{"$f":"IF(P32>0,IF(Sorcadins!P$323>0,(Sorcadins!P$323*P30+P29-P35*P36-P42/4.5)/Sorcadins!P$323,0),P30+P29)","v":4},{"$f":"IF(Q32>0,IF(Sorcadins!Q$323>0,(Sorcadins!Q$323*Q30+Q29-Q35*Q36-Q42/4.5)/Sorcadins!Q$323,0),Q30+Q29)","v":4},{"$f":"IF(R32>0,IF(Sorcadins!R$323>0,(Sorcadins!R$323*R30+R29-R35*R36-R42/4.5)/Sorcadins!R$323,0),R30+R29)","v":4},{"$f":"IF(S32>0,IF(Sorcadins!S$323>0,(Sorcadins!S$323*S30+S29-S35*S36-S42/4.5)/Sorcadins!S$323,0),S30+S29)","v":4},{"$f":"IF(T32>0,IF(Sorcadins!T$323>0,(Sorcadins!T$323*T30+T29-T35*T36-T42/4.5)/Sorcadins!T$323,0),T30+T29)","v":4},{"$f":"IF(U32>0,IF(Sorcadins!U$323>0,(Sorcadins!U$323*U30+U29-U35*U36-U42/4.5)/Sorcadins!U$323,0),U30+U29)","v":4},{"$f":"IF(V32>0,IF(Sorcadins!V$323>0,(Sorcadins!V$323*V30+V29-V35*V36-V42/4.5)/Sorcadins!V$323,0),V30+V29)","v":4},{"$f":"IF(W32>0,IF(Sorcadins!W$323>0,(Sorcadins!W$323*W30+W29-W35*W36-W42/4.5)/Sorcadins!W$323,0),W30+W29)","v":4.770831803630529},{"$f":"IF(X32>0,IF(Sorcadins!X$323>0,(Sorcadins!X$323*X30+X29-X35*X36-X42/4.5)/Sorcadins!X$323,0),X30+X29)","v":4.770831803630529}]
[{"$nulls":3},"actual smites performed",{"$f":"E35+IF(E$7>0,MIN(E37,E38,E39/E$7),0)","v":0},{"$f":"F35+IF(F$7>0,MIN(F37,F38,F39/F$7),0)","v":0},0,0,0,0,0,0,0,0,0,0,0,0,0,0,0,0,0,0]
[{"$nulls":3},"total daily smite damage: M1, B1, O3",{"$f":"E41+E42","v":0},0,0,0,0,0,0,0,0,0,0,0,0,0,0,0,0,0,0,0]
[]
[{"$nulls":3},"SMITES - M1, B2, O1/O2",1,2,3,4,5,6,7,8,9,10,11,12,13,14,15,16,17,18,19,20]
[{"$nulls":3},"remaining sorcery points (based on Damage Scenario)",{"$f":"MAX(0,Sorcadins!E$623-Sorcadins!E$1501)","v":0},{"$f":"MAX(0,Sorcadins!F$623-Sorcadins!F$1501)","v":0},{"$f":"MAX(0,Sorcadins!G$623-Sorcadins!G$1501)","v":0},{"$f":"MAX(0,Sorcadins!H$623-Sorcadins!H$1501)","v":0},{"$f":"MAX(0,Sorcadins!I$623-Sorcadins!I$1501)","v":0},{"$f":"MAX(0,Sorcadins!J$623-Sorcadins!J$1501)","v":0},{"$f":"MAX(0,Sorcadins!K$623-Sorcadins!K$1501)","v":0},{"$f":"MAX(0,Sorcadins!L$623-Sorcadins!L$1501)","v":0},{"$f":"MAX(0,Sorcadins!M$623-Sorcadins!M$1501)","v":0},{"$f":"MAX(0,Sorcadins!N$623-Sorcadins!N$1501)","v":0},{"$f":"MAX(0,Sorcadins!O$623-Sorcadins!O$1501)","v":0},{"$f":"MAX(0,Sorcadins!P$623-Sorcadins!P$1501)","v":0},{"$f":"MAX(0,Sorcadins!Q$623-Sorcadins!Q$1501)","v":0},{"$f":"MAX(0,Sorcadins!R$623-Sorcadins!R$1501)","v":0},{"$f":"MAX(0,Sorcadins!S$623-Sorcadins!S$1501)","v":0},{"$f":"MAX(0,Sorcadins!T$623-Sorcadins!T$1501)","v":0},{"$f":"MAX(0,Sorcadins!U$623-Sorcadins!U$1501)","v":0},{"$f":"MAX(0,Sorcadins!V$623-Sorcadins!V$1501)","v":0},{"$f":"MAX(0,Sorcadins!W$623-Sorcadins!W$1501)","v":0},{"$f":"MAX(0,Sorcadins!X$623-Sorcadins!X$1501)","v":0},null,"*Sorc points directly convertible to Smite Dice"]
[{"$nulls":3},"remaining spell slot levels (based on Damage Scenario)",{"$f":"MAX(0,Sorcadins!E$331-MAX(0,Sorcadins!E$1501-Sorcadins!E$623))","v":0},{"$f":"MAX(0,Sorcadins!F$331-MAX(0,Sorcadins!F$1501-Sorcadins!F$623))","v":0},{"$f":"MAX(0,Sorcadins!G$331-MAX(0,Sorcadins!G$1501-Sorcadins!G$623))","v":0},{"$f":"MAX(0,Sorcadins!H$331-MAX(0,Sorcadins!H$1501-Sorcadins!H$623))","v":0},{"$f":"MAX(0,Sorcadins!I$331-MAX(0,Sorcadins!I$1501-Sorcadins!I$623))","v":4},{"$f":"MAX(0,Sorcadins!J$331-MAX(0,Sorcadins!J$1501-Sorcadins!J$623))","v":4},{"$f":"MAX(0,Sorcadins!K$331-MAX(0,Sorcadins!K$1501-Sorcadins!K$623))","v":4},{"$f":"MAX(0,Sorcadins!L$331-MAX(0,Sorcadins!L$1501-Sorcadins!L$623))","v":4},{"$f":"MAX(0,Sorcadins!M$331-MAX(0,Sorcadins!M$1501-Sorcadins!M$623))","v":4},{"$f":"MAX(0,Sorcadins!N$331-MAX(0,Sorcadins!N$1501-Sorcadins!N$623))","v":4},{"$f":"MAX(0,Sorcadins!O$331-MAX(0,Sorcadins!O$1501-Sorcadins!O$623))","v":4},{"$f":"MAX(0,Sorcadins!P$331-MAX(0,Sorcadins!P$1501-Sorcadins!P$623))","v":4},{"$f":"MAX(0,Sorcadins!Q$331-MAX(0,Sorcadins!Q$1501-Sorcadins!Q$623))","v":4},{"$f":"MAX(0,Sorcadins!R$331-MAX(0,Sorcadins!R$1501-Sorcadins!R$623))","v":4},{"$f":"MAX(0,Sorcadins!S$331-MAX(0,Sorcadins!S$1501-Sorcadins!S$623))","v":4},{"$f":"MAX(0,Sorcadins!T$331-MAX(0,Sorcadins!T$1501-Sorcadins!T$623))","v":4},{"$f":"MAX(0,Sorcadins!U$331-MAX(0,Sorcadins!U$1501-Sorcadins!U$623))","v":4},{"$f":"MAX(0,Sorcadins!V$331-MAX(0,Sorcadins!V$1501-Sorcadins!V$623))","v":4},{"$f":"MAX(0,Sorcadins!W$331-MAX(0,Sorcadins!W$1501-Sorcadins!W$623))","v":4.770831803630529},{"$f":"MAX(0,Sorcadins!X$331-MAX(0,Sorcadins!X$1501-Sorcadins!X$623))","v":4.770831803630529}]
[{"$nulls":3},"total warlock smite levels remaining",{"$f":"MIN(Sorcadins!E$323*E49,Sorcadins!E$314)","v":0},{"$f":"MIN(Sorcadins!F$323*F49,Sorcadins!F$314)","v":0},{"$f":"MIN(Sorcadins!G$323*G49,Sorcadins!G$314)","v":0},{"$f":"MIN(Sorcadins!H$323*H49,Sorcadins!H$314)","v":0},{"$f":"MIN(Sorcadins!I$323*I49,Sorcadins!I$314)","v":0},{"$f":"MIN(Sorcadins!J$323*J49,Sorcadins!J$314)","v":0},{"$f":"MIN(Sorcadins!K$323*K49,Sorcadins!K$314)","v":0},{"$f":"MIN(Sorcadins!L$323*L49,Sorcadins!L$314)","v":0},{"$f":"MIN(Sorcadins!M$323*M49,Sorcadins!M$314)","v":0},{"$f":"MIN(Sorcadins!N$323*N49,Sorcadins!N$314)","v":0},{"$f":"MIN(Sorcadins!O$323*O49,Sorcadins!O$314)","v":0},{"$f":"MIN(Sorcadins!P$323*P49,Sorcadins!P$314)","v":0},{"$f":"MIN(Sorcadins!Q$323*Q49,Sorcadins!Q$314)","v":0},{"$f":"MIN(Sorcadins!R$323*R49,Sorcadins!R$314)","v":0},{"$f":"MIN(Sorcadins!S$323*S49,Sorcadins!S$314)","v":0},{"$f":"MIN(Sorcadins!T$323*T49,Sorcadins!T$314)","v":0},{"$f":"MIN(Sorcadins!U$323*U49,Sorcadins!U$314)","v":0},{"$f":"MIN(Sorcadins!V$323*V49,Sorcadins!V$314)","v":0},{"$f":"MIN(Sorcadins!W$323*W49,Sorcadins!W$314)","v":0},{"$f":"MIN(Sorcadins!X$323*X49,Sorcadins!X$314)","v":0}]
[{"$nulls":3},"total smite levels remaining",{"$f":"IF(E$5>=1,Sorcadins!E$323*E49+E48,IF(E$6,E50,0))","v":0},{"$f":"IF(F$5>=1,Sorcadins!F$323*F49+F48,IF(F$6,F50,0))","v":0},{"$f":"IF(G$5>=1,Sorcadins!G$323*G49+G48,IF(G$6,G50,0))","v":0},{"$f":"IF(H$5>=1,Sorcadins!H$323*H49+H48,IF(H$6,H50,0))","v":0},{"$f":"IF(I$5>=1,Sorcadins!I$323*I49+I48,IF(I$6,I50,0))","v":0},{"$f":"IF(J$5>=1,Sorcadins!J$323*J49+J48,IF(J$6,J50,0))","v":0},{"$f":"IF(K$5>=1,Sorcadins!K$323*K49+K48,IF(K$6,K50,0))","v":0},{"$f":"IF(L$5>=1,Sorcadins!L$323*L49+L48,IF(L$6,L50,0))","v":0},{"$f":"IF(M$5>=1,Sorcadins!M$323*M49+M48,IF(M$6,M50,0))","v":0},{"$f":"IF(N$5>=1,Sorcadins!N$323*N49+N48,IF(N$6,N50,0))","v":0},{"$f":"IF(O$5>=1,Sorcadins!O$323*O49+O48,IF(O$6,O50,0))","v":0},{"$f":"IF(P$5>=1,Sorcadins!P$323*P49+P48,IF(P$6,P50,0))","v":0},{"$f":"IF(Q$5>=1,Sorcadins!Q$323*Q49+Q48,IF(Q$6,Q50,0))","v":0},{"$f":"IF(R$5>=1,Sorcadins!R$323*R49+R48,IF(R$6,R50,0))","v":0},{"$f":"IF(S$5>=1,Sorcadins!S$323*S49+S48,IF(S$6,S50,0))","v":0},{"$f":"IF(T$5>=1,Sorcadins!T$323*T49+T48,IF(T$6,T50,0))","v":0},{"$f":"IF(U$5>=1,Sorcadins!U$323*U49+U48,IF(U$6,U50,0))","v":0},{"$f":"IF(V$5>=1,Sorcadins!V$323*V49+V48,IF(V$6,V50,0))","v":0},{"$f":"IF(W$5>=1,Sorcadins!W$323*W49+W48,IF(W$6,W50,0))","v":0},{"$f":"IF(X$5>=1,Sorcadins!X$323*X49+X48,IF(X$6,X50,0))","v":0}]
[{"$nulls":3},"max number of daily smites (after spells)",{"$f":"IF(E$6,Sorcadins!E$1374,IF(E$5,Sorcadins!E$332+E48/2,0))","v":0},{"$f":"IF(F$6,Sorcadins!F$1374,IF(F$5,Sorcadins!F$332+F48/2,0))","v":0},{"$f":"IF(G$6,Sorcadins!G$1374,IF(G$5,Sorcadins!G$332+G48/2,0))","v":0},{"$f":"IF(H$6,Sorcadins!H$1374,IF(H$5,Sorcadins!H$332+H48/2,0))","v":0},{"$f":"IF(I$6,Sorcadins!I$1374,IF(I$5,Sorcadins!I$332+I48/2,0))","v":0},{"$f":"IF(J$6,Sorcadins!J$1374,IF(J$5,Sorcadins!J$332+J48/2,0))","v":0},{"$f":"IF(K$6,Sorcadins!K$1374,IF(K$5,Sorcadins!K$332+K48/2,0))","v":0},{"$f":"IF(L$6,Sorcadins!L$1374,IF(L$5,Sorcadins!L$332+L48/2,0))","v":0},{"$f":"IF(M$6,Sorcadins!M$1374,IF(M$5,Sorcadins!M$332+M48/2,0))","v":0},{"$f":"IF(N$6,Sorcadins!N$1374,IF(N$5,Sorcadins!N$332+N48/2,0))","v":0},{"$f":"IF(O$6,Sorcadins!O$1374,IF(O$5,Sorcadins!O$332+O48/2,0))","v":0},{"$f":"IF(P$6,Sorcadins!P$1374,IF(P$5,Sorcadins!P$332+P48/2,0))","v":0},{"$f":"IF(Q$6,Sorcadins!Q$1374,IF(Q$5,Sorcadins!Q$332+Q48/2,0))","v":0},{"$f":"IF(R$6,Sorcadins!R$1374,IF(R$5,Sorcadins!R$332+R48/2,0))","v":0},{"$f":"IF(S$6,Sorcadins!S$1374,IF(S$5,Sorcadins!S$332+S48/2,0))","v":0},{"$f":"IF(T$6,Sorcadins!T$1374,IF(T$5,Sorcadins!T$332+T48/2,0))","v":0},{"$f":"IF(U$6,Sorcadins!U$1374,IF(U$5,Sorcadins!U$332+U48/2,0))","v":0},{"$f":"IF(V$6,Sorcadins!V$1374,IF(V$5,Sorcadins!V$332+V48/2,0))","v":0},{"$f":"IF(W$6,Sorcadins!W$1374,IF(W$5,Sorcadins!W$332+W48/2,0))","v":0},{"$f":"IF(X$6,Sorcadins!X$1374,IF(X$5,Sorcadins!X$332+X48/2,0))","v":0}]
[{"$nulls":3},"avg crits per day for smite purposes (based on Damage Scenario)",{"$f":"'Base Numbers'!$C$5*'Base Numbers'!$C$6*Sorcadins!E$1534","v":0},{"$f":"'Base Numbers'!$C$5*'Base Numbers'!$C$6*Sorcadins!F$1534","v":0},{"$f":"'Base Numbers'!$C$5*'Base Numbers'!$C$6*Sorcadins!G$1534","v":0},{"$f":"'Base Numbers'!$C$5*'Base Numbers'!$C$6*Sorcadins!H$1534","v":0},{"$f":"'Base Numbers'!$C$5*'Base Numbers'!$C$6*Sorcadins!I$1534","v":0},{"$f":"'Base Numbers'!$C$5*'Base Numbers'!$C$6*Sorcadins!J$1534","v":0},{"$f":"'Base Numbers'!$C$5*'Base Numbers'!$C$6*Sorcadins!K$1534","v":0},{"$f":"'Base Numbers'!$C$5*'Base Numbers'!$C$6*Sorcadins!L$1534","v":0},{"$f":"'Base Numbers'!$C$5*'Base Numbers'!$C$6*Sorcadins!M$1534","v":0},{"$f":"'Base Numbers'!$C$5*'Base Numbers'!$C$6*Sorcadins!N$1534","v":0},{"$f":"'Base Numbers'!$C$5*'Base Numbers'!$C$6*Sorcadins!O$1534","v":0},{"$f":"'Base Numbers'!$C$5*'Base Numbers'!$C$6*Sorcadins!P$1534","v":0},{"$f":"'Base Numbers'!$C$5*'Base Numbers'!$C$6*Sorcadins!Q$1534","v":0},{"$f":"'Base Numbers'!$C$5*'Base Numbers'!$C$6*Sorcadins!R$1534","v":0},{"$f":"'Base Numbers'!$C$5*'Base Numbers'!$C$6*Sorcadins!S$1534","v":0},{"$f":"'Base Numbers'!$C$5*'Base Numbers'!$C$6*Sorcadins!T$1534","v":0},{"$f":"'Base Numbers'!$C$5*'Base Numbers'!$C$6*Sorcadins!U$1534","v":0},{"$f":"'Base Numbers'!$C$5*'Base Numbers'!$C$6*Sorcadins!V$1534","v":0},{"$f":"'Base Numbers'!$C$5*'Base Numbers'!$C$6*Sorcadins!W$1534","v":0},{"$f":"'Base Numbers'!$C$5*'Base Numbers'!$C$6*Sorcadins!X$1534","v":0}]
[{"$nulls":3},"number of smites used on crits",{"$f":"MIN(E52,E53)","v":0},{"$f":"MIN(F52,F53)","v":0},0,0,0,0,0,0,0,0,0,0,0,0,0,0,0,0,0,0]
[{"$nulls":3},"avg smite dice per crit ",{"$f":"IF(E54>0,MIN(E$7,(E51/MIN(E54,E53))),0)","v":0},0,0,0,0,0,0,0,0,0,0,0,0,0,0,0,0,0,0,0]
[{"$nulls":3},"smites left for non-crits",{"$f":"E52-E54","v":0},{"$f":"F52-F54","v":0},0,0,0,0,0,0,0,0,0,0,0,0,0,0,0,0,0,0]
[{"$nulls":3},"total non-crit smite-qualifying attacks available",{"$f":"Sorcadins!E$1509*('Base Numbers'!$C$5*'Base Numbers'!$C$6)-E53","v":0},{"$f":"Sorcadins!F$1509*('Base Numbers'!$C$5*'Base Numbers'!$C$6)-F53","v":0},{"$f":"Sorcadins!G$1509*('Base Numbers'!$C$5*'Base Numbers'!$C$6)-G53","v":0},{"$f":"Sorcadins!H$1509*('Base Numbers'!$C$5*'Base Numbers'!$C$6)-H53","v":0},{"$f":"Sorcadins!I$1509*('Base Numbers'!$C$5*'Base Numbers'!$C$6)-I53","v":0},{"$f":"Sorcadins!J$1509*('Base Numbers'!$C$5*'Base Numbers'!$C$6)-J53","v":0},{"$f":"Sorcadins!K$1509*('Base Numbers'!$C$5*'Base Numbers'!$C$6)-K53","v":0},{"$f":"Sorcadins!L$1509*('Base Numbers'!$C$5*'Base Numbers'!$C$6)-L53","v":0},{"$f":"Sorcadins!M$1509*('Base Numbers'!$C$5*'Base Numbers'!$C$6)-M53","v":0},{"$f":"Sorcadins!N$1509*('Base Numbers'!$C$5*'Base Numbers'!$C$6)-N53","v":0},{"$f":"Sorcadins!O$1509*('Base Numbers'!$C$5*'Base Numbers'!$C$6)-O53","v":0},{"$f":"Sorcadins!P$1509*('Base Numbers'!$C$5*'Base Numbers'!$C$6)-P53","v":0},{"$f":"Sorcadins!Q$1509*('Base Numbers'!$C$5*'Base Numbers'!$C$6)-Q53","v":0},{"$f":"Sorcadins!R$1509*('Base Numbers'!$C$5*'Base Numbers'!$C$6)-R53","v":0},{"$f":"Sorcadins!S$1509*('Base Numbers'!$C$5*'Base Numbers'!$C$6)-S53","v":0},{"$f":"Sorcadins!T$1509*('Base Numbers'!$C$5*'Base Numbers'!$C$6)-T53","v":0},{"$f":"Sorcadins!U$1509*('Base Numbers'!$C$5*'Base Numbers'!$C$6)-U53","v":0},{"$f":"Sorcadins!V$1509*('Base Numbers'!$C$5*'Base Numbers'!$C$6)-V53","v":0},{"$f":"Sorcadins!W$1509*('Base Numbers'!$C$5*'Base Numbers'!$C$6)-W53","v":0},{"$f":"Sorcadins!X$1509*('Base Numbers'!$C$5*'Base Numbers'!$C$6)-X53","v":0}]
[{"$nulls":3},"smite dice left for non-crits",{"$f":"ROUND(MAX(0,E51-E53*E55),4)","v":0},0,0,0,0,0,0,0,0,0,0,0,0,0,0,0,0,0,0,0]
[{"$nulls":3},"total smite dice used on crits",{"$f":"E54*E55","v":0},0,0,0,0,0,0,0,0,0,0,0,0,0,0,0,0,0,0,0]
[{"$nulls":3},"total crit smite damage per day",{"$f":"9*E59","v":0},{"$f":"9*F59","v":0},0,0,0,0,0,0,0,0,0,0,0,0,0,0,0,0,0,0]
[{"$nulls":3},"total non-crit smite damage per day",{"$f":"4.5*MIN(MIN(E57,E56)*E$7,E58)","v":0},{"$f":"4.5*MIN(MIN(F57,F56)*F$7,F58)","v":0},0,0,0,0,0,0,0,0,0,0,0,0,0,0,0,0,0,0]
[{"$nulls":3},"leftover sorc points + spell levels",{"$f":"IF(E51>0,IF(Sorcadins!E$323>0,(Sorcadins!E$323*E49+E48-E54*E55-E61/4.5)/Sorcadins!E$323,0),E49+E48)","v":0},{"$f":"IF(F51>0,IF(Sorcadins!F$323>0,(Sorcadins!F$323*F49+F48-F54*F55-F61/4.5)/Sorcadins!F$323,0),F49+F48)","v":0},{"$f":"IF(G51>0,IF(Sorcadins!G$323>0,(Sorcadins!G$323*G49+G48-G54*G55-G61/4.5)/Sorcadins!G$323,0),G49+G48)","v":0},{"$f":"IF(H51>0,IF(Sorcadins!H$323>0,(Sorcadins!H$323*H49+H48-H54*H55-H61/4.5)/Sorcadins!H$323,0),H49+H48)","v":0},{"$f":"IF(I51>0,IF(Sorcadins!I$323>0,(Sorcadins!I$323*I49+I48-I54*I55-I61/4.5)/Sorcadins!I$323,0),I49+I48)","v":4},{"$f":"IF(J51>0,IF(Sorcadins!J$323>0,(Sorcadins!J$323*J49+J48-J54*J55-J61/4.5)/Sorcadins!J$323,0),J49+J48)","v":4},{"$f":"IF(K51>0,IF(Sorcadins!K$323>0,(Sorcadins!K$323*K49+K48-K54*K55-K61/4.5)/Sorcadins!K$323,0),K49+K48)","v":4},{"$f":"IF(L51>0,IF(Sorcadins!L$323>0,(Sorcadins!L$323*L49+L48-L54*L55-L61/4.5)/Sorcadins!L$323,0),L49+L48)","v":4},{"$f":"IF(M51>0,IF(Sorcadins!M$323>0,(Sorcadins!M$323*M49+M48-M54*M55-M61/4.5)/Sorcadins!M$323,0),M49+M48)","v":4},{"$f":"IF(N51>0,IF(Sorcadins!N$323>0,(Sorcadins!N$323*N49+N48-N54*N55-N61/4.5)/Sorcadins!N$323,0),N49+N48)","v":4},{"$f":"IF(O51>0,IF(Sorcadins!O$323>0,(Sorcadins!O$323*O49+O48-O54*O55-O61/4.5)/Sorcadins!O$323,0),O49+O48)","v":4},{"$f":"IF(P51>0,IF(Sorcadins!P$323>0,(Sorcadins!P$323*P49+P48-P54*P55-P61/4.5)/Sorcadins!P$323,0),P49+P48)","v":4},{"$f":"IF(Q51>0,IF(Sorcadins!Q$323>0,(Sorcadins!Q$323*Q49+Q48-Q54*Q55-Q61/4.5)/Sorcadins!Q$323,0),Q49+Q48)","v":4},{"$f":"IF(R51>0,IF(Sorcadins!R$323>0,(Sorcadins!R$323*R49+R48-R54*R55-R61/4.5)/Sorcadins!R$323,0),R49+R48)","v":4},{"$f":"IF(S51>0,IF(Sorcadins!S$323>0,(Sorcadins!S$323*S49+S48-S54*S55-S61/4.5)/Sorcadins!S$323,0),S49+S48)","v":4},{"$f":"IF(T51>0,IF(Sorcadins!T$323>0,(Sorcadins!T$323*T49+T48-T54*T55-T61/4.5)/Sorcadins!T$323,0),T49+T48)","v":4},{"$f":"IF(U51>0,IF(Sorcadins!U$323>0,(Sorcadins!U$323*U49+U48-U54*U55-U61/4.5)/Sorcadins!U$323,0),U49+U48)","v":4},{"$f":"IF(V51>0,IF(Sorcadins!V$323>0,(Sorcadins!V$323*V49+V48-V54*V55-V61/4.5)/Sorcadins!V$323,0),V49+V48)","v":4},{"$f":"IF(W51>0,IF(Sorcadins!W$323>0,(Sorcadins!W$323*W49+W48-W54*W55-W61/4.5)/Sorcadins!W$323,0),W49+W48)","v":4.770831803630529},{"$f":"IF(X51>0,IF(Sorcadins!X$323>0,(Sorcadins!X$323*X49+X48-X54*X55-X61/4.5)/Sorcadins!X$323,0),X49+X48)","v":4.770831803630529}]
[{"$nulls":3},"actual smites performed",{"$f":"E54+IF(E$7>0,MIN(E56,E57,E58/E$7),0)","v":0},{"$f":"F54+IF(F$7>0,MIN(F56,F57,F58/F$7),0)","v":0},0,0,0,0,0,0,0,0,0,0,0,0,0,0,0,0,0,0]
[{"$nulls":3},"total daily smite damage: M1, B2, O1/O2",{"$f":"E60+E61","v":0},{"$f":"F60+F61","v":0},0,0,0,0,0,0,0,0,0,0,0,0,0,0,0,0,0,0]
[]
[{"$nulls":3},"SMITES - M1, B2, O3",1,2,3,4,5,6,7,8,9,10,11,12,13,14,15,16,17,18,19,20]
[{"$nulls":3},"remaining sorcery points (based on Damage Scenario)",{"$f":"MAX(0,Sorcadins!E$623-Sorcadins!E$1501)","v":0},{"$f":"MAX(0,Sorcadins!F$623-Sorcadins!F$1501)","v":0},{"$f":"MAX(0,Sorcadins!G$623-Sorcadins!G$1501)","v":0},{"$f":"MAX(0,Sorcadins!H$623-Sorcadins!H$1501)","v":0},{"$f":"MAX(0,Sorcadins!I$623-Sorcadins!I$1501)","v":0},{"$f":"MAX(0,Sorcadins!J$623-Sorcadins!J$1501)","v":0},{"$f":"MAX(0,Sorcadins!K$623-Sorcadins!K$1501)","v":0},{"$f":"MAX(0,Sorcadins!L$623-Sorcadins!L$1501)","v":0},{"$f":"MAX(0,Sorcadins!M$623-Sorcadins!M$1501)","v":0},{"$f":"MAX(0,Sorcadins!N$623-Sorcadins!N$1501)","v":0},{"$f":"MAX(0,Sorcadins!O$623-Sorcadins!O$1501)","v":0},{"$f":"MAX(0,Sorcadins!P$623-Sorcadins!P$1501)","v":0},{"$f":"MAX(0,Sorcadins!Q$623-Sorcadins!Q$1501)","v":0},{"$f":"MAX(0,Sorcadins!R$623-Sorcadins!R$1501)","v":0},{"$f":"MAX(0,Sorcadins!S$623-Sorcadins!S$1501)","v":0},{"$f":"MAX(0,Sorcadins!T$623-Sorcadins!T$1501)","v":0},{"$f":"MAX(0,Sorcadins!U$623-Sorcadins!U$1501)","v":0},{"$f":"MAX(0,Sorcadins!V$623-Sorcadins!V$1501)","v":0},{"$f":"MAX(0,Sorcadins!W$623-Sorcadins!W$1501)","v":0},{"$f":"MAX(0,Sorcadins!X$623-Sorcadins!X$1501)","v":0},null,"*Sorc points directly convertible to Smite Dice"]
[{"$nulls":3},"remaining spell slot levels (based on Damage Scenario)",{"$f":"MAX(0,Sorcadins!E$331-MAX(0,Sorcadins!E$1501-Sorcadins!E$623))","v":0},{"$f":"MAX(0,Sorcadins!F$331-MAX(0,Sorcadins!F$1501-Sorcadins!F$623))","v":0},{"$f":"MAX(0,Sorcadins!G$331-MAX(0,Sorcadins!G$1501-Sorcadins!G$623))","v":0},{"$f":"MAX(0,Sorcadins!H$331-MAX(0,Sorcadins!H$1501-Sorcadins!H$623))","v":0},{"$f":"MAX(0,Sorcadins!I$331-MAX(0,Sorcadins!I$1501-Sorcadins!I$623))","v":4},{"$f":"MAX(0,Sorcadins!J$331-MAX(0,Sorcadins!J$1501-Sorcadins!J$623))","v":4},{"$f":"MAX(0,Sorcadins!K$331-MAX(0,Sorcadins!K$1501-Sorcadins!K$623))","v":4},{"$f":"MAX(0,Sorcadins!L$331-MAX(0,Sorcadins!L$1501-Sorcadins!L$623))","v":4},{"$f":"MAX(0,Sorcadins!M$331-MAX(0,Sorcadins!M$1501-Sorcadins!M$623))","v":4},{"$f":"MAX(0,Sorcadins!N$331-MAX(0,Sorcadins!N$1501-Sorcadins!N$623))","v":4},{"$f":"MAX(0,Sorcadins!O$331-MAX(0,Sorcadins!O$1501-Sorcadins!O$623))","v":4},{"$f":"MAX(0,Sorcadins!P$331-MAX(0,Sorcadins!P$1501-Sorcadins!P$623))","v":4},{"$f":"MAX(0,Sorcadins!Q$331-MAX(0,Sorcadins!Q$1501-Sorcadins!Q$623))","v":4},{"$f":"MAX(0,Sorcadins!R$331-MAX(0,Sorcadins!R$1501-Sorcadins!R$623))","v":4},{"$f":"MAX(0,Sorcadins!S$331-MAX(0,Sorcadins!S$1501-Sorcadins!S$623))","v":4},{"$f":"MAX(0,Sorcadins!T$331-MAX(0,Sorcadins!T$1501-Sorcadins!T$623))","v":4},{"$f":"MAX(0,Sorcadins!U$331-MAX(0,Sorcadins!U$1501-Sorcadins!U$623))","v":4},{"$f":"MAX(0,Sorcadins!V$331-MAX(0,Sorcadins!V$1501-Sorcadins!V$623))","v":4},{"$f":"MAX(0,Sorcadins!W$331-MAX(0,Sorcadins!W$1501-Sorcadins!W$623))","v":4.770831803630529},{"$f":"MAX(0,Sorcadins!X$331-MAX(0,Sorcadins!X$1501-Sorcadins!X$623))","v":4.770831803630529}]
[{"$nulls":3},"total warlock smite levels remaining",{"$f":"MIN(Sorcadins!E$323*E68,Sorcadins!E$314)","v":0},{"$f":"MIN(Sorcadins!F$323*F68,Sorcadins!F$314)","v":0},{"$f":"MIN(Sorcadins!G$323*G68,Sorcadins!G$314)","v":0},{"$f":"MIN(Sorcadins!H$323*H68,Sorcadins!H$314)","v":0},{"$f":"MIN(Sorcadins!I$323*I68,Sorcadins!I$314)","v":0},{"$f":"MIN(Sorcadins!J$323*J68,Sorcadins!J$314)","v":0},{"$f":"MIN(Sorcadins!K$323*K68,Sorcadins!K$314)","v":0},{"$f":"MIN(Sorcadins!L$323*L68,Sorcadins!L$314)","v":0},{"$f":"MIN(Sorcadins!M$323*M68,Sorcadins!M$314)","v":0},{"$f":"MIN(Sorcadins!N$323*N68,Sorcadins!N$314)","v":0},{"$f":"MIN(Sorcadins!O$323*O68,Sorcadins!O$314)","v":0},{"$f":"MIN(Sorcadins!P$323*P68,Sorcadins!P$314)","v":0},{"$f":"MIN(Sorcadins!Q$323*Q68,Sorcadins!Q$314)","v":0},{"$f":"MIN(Sorcadins!R$323*R68,Sorcadins!R$314)","v":0},{"$f":"MIN(Sorcadins!S$323*S68,Sorcadins!S$314)","v":0},{"$f":"MIN(Sorcadins!T$323*T68,Sorcadins!T$314)","v":0},{"$f":"MIN(Sorcadins!U$323*U68,Sorcadins!U$314)","v":0},{"$f":"MIN(Sorcadins!V$323*V68,Sorcadins!V$314)","v":0},{"$f":"MIN(Sorcadins!W$323*W68,Sorcadins!W$314)","v":0},{"$f":"MIN(Sorcadins!X$323*X68,Sorcadins!X$314)","v":0}]
[{"$nulls":3},"total smite levels remaining",{"$f":"IF(E$5>=1,Sorcadins!E$323*E68+E67,IF(E$6,E69,0))","v":0},{"$f":"IF(F$5>=1,Sorcadins!F$323*F68+F67,IF(F$6,F69,0))","v":0},{"$f":"IF(G$5>=1,Sorcadins!G$323*G68+G67,IF(G$6,G69,0))","v":0},{"$f":"IF(H$5>=1,Sorcadins!H$323*H68+H67,IF(H$6,H69,0))","v":0},{"$f":"IF(I$5>=1,Sorcadins!I$323*I68+I67,IF(I$6,I69,0))","v":0},{"$f":"IF(J$5>=1,Sorcadins!J$323*J68+J67,IF(J$6,J69,0))","v":0},{"$f":"IF(K$5>=1,Sorcadins!K$323*K68+K67,IF(K$6,K69,0))","v":0},{"$f":"IF(L$5>=1,Sorcadins!L$323*L68+L67,IF(L$6,L69,0))","v":0},{"$f":"IF(M$5>=1,Sorcadins!M$323*M68+M67,IF(M$6,M69,0))","v":0},{"$f":"IF(N$5>=1,Sorcadins!N$323*N68+N67,IF(N$6,N69,0))","v":0},{"$f":"IF(O$5>=1,Sorcadins!O$323*O68+O67,IF(O$6,O69,0))","v":0},{"$f":"IF(P$5>=1,Sorcadins!P$323*P68+P67,IF(P$6,P69,0))","v":0},{"$f":"IF(Q$5>=1,Sorcadins!Q$323*Q68+Q67,IF(Q$6,Q69,0))","v":0},{"$f":"IF(R$5>=1,Sorcadins!R$323*R68+R67,IF(R$6,R69,0))","v":0},{"$f":"IF(S$5>=1,Sorcadins!S$323*S68+S67,IF(S$6,S69,0))","v":0},{"$f":"IF(T$5>=1,Sorcadins!T$323*T68+T67,IF(T$6,T69,0))","v":0},{"$f":"IF(U$5>=1,Sorcadins!U$323*U68+U67,IF(U$6,U69,0))","v":0},{"$f":"IF(V$5>=1,Sorcadins!V$323*V68+V67,IF(V$6,V69,0))","v":0},{"$f":"IF(W$5>=1,Sorcadins!W$323*W68+W67,IF(W$6,W69,0))","v":0},{"$f":"IF(X$5>=1,Sorcadins!X$323*X68+X67,IF(X$6,X69,0))","v":0}]
[{"$nulls":3},"max number of daily smites (after spells)",{"$f":"IF(E$6,Sorcadins!E$1374,IF(E$5,Sorcadins!E$332+E67/2,0))","v":0},{"$f":"IF(F$6,Sorcadins!F$1374,IF(F$5,Sorcadins!F$332+F67/2,0))","v":0},{"$f":"IF(G$6,Sorcadins!G$1374,IF(G$5,Sorcadins!G$332+G67/2,0))","v":0},{"$f":"IF(H$6,Sorcadins!H$1374,IF(H$5,Sorcadins!H$332+H67/2,0))","v":0},{"$f":"IF(I$6,Sorcadins!I$1374,IF(I$5,Sorcadins!I$332+I67/2,0))","v":0},{"$f":"IF(J$6,Sorcadins!J$1374,IF(J$5,Sorcadins!J$332+J67/2,0))","v":0},{"$f":"IF(K$6,Sorcadins!K$1374,IF(K$5,Sorcadins!K$332+K67/2,0))","v":0},{"$f":"IF(L$6,Sorcadins!L$1374,IF(L$5,Sorcadins!L$332+L67/2,0))","v":0},{"$f":"IF(M$6,Sorcadins!M$1374,IF(M$5,Sorcadins!M$332+M67/2,0))","v":0},{"$f":"IF(N$6,Sorcadins!N$1374,IF(N$5,Sorcadins!N$332+N67/2,0))","v":0},{"$f":"IF(O$6,Sorcadins!O$1374,IF(O$5,Sorcadins!O$332+O67/2,0))","v":0},{"$f":"IF(P$6,Sorcadins!P$1374,IF(P$5,Sorcadins!P$332+P67/2,0))","v":0},{"$f":"IF(Q$6,Sorcadins!Q$1374,IF(Q$5,Sorcadins!Q$332+Q67/2,0))","v":0},{"$f":"IF(R$6,Sorcadins!R$1374,IF(R$5,Sorcadins!R$332+R67/2,0))","v":0},{"$f":"IF(S$6,Sorcadins!S$1374,IF(S$5,Sorcadins!S$332+S67/2,0))","v":0},{"$f":"IF(T$6,Sorcadins!T$1374,IF(T$5,Sorcadins!T$332+T67/2,0))","v":0},{"$f":"IF(U$6,Sorcadins!U$1374,IF(U$5,Sorcadins!U$332+U67/2,0))","v":0},{"$f":"IF(V$6,Sorcadins!V$1374,IF(V$5,Sorcadins!V$332+V67/2,0))","v":0},{"$f":"IF(W$6,Sorcadins!W$1374,IF(W$5,Sorcadins!W$332+W67/2,0))","v":0},{"$f":"IF(X$6,Sorcadins!X$1374,IF(X$5,Sorcadins!X$332+X67/2,0))","v":0}]
[{"$nulls":3},"avg crits per day for smite purposes (based on Damage Scenario)",{"$f":"'Base Numbers'!$C$5*'Base Numbers'!$C$6*Sorcadins!E$1535","v":0},{"$f":"'Base Numbers'!$C$5*'Base Numbers'!$C$6*Sorcadins!F$1535","v":0},{"$f":"'Base Numbers'!$C$5*'Base Numbers'!$C$6*Sorcadins!G$1535","v":0},{"$f":"'Base Numbers'!$C$5*'Base Numbers'!$C$6*Sorcadins!H$1535","v":0},{"$f":"'Base Numbers'!$C$5*'Base Numbers'!$C$6*Sorcadins!I$1535","v":0},{"$f":"'Base Numbers'!$C$5*'Base Numbers'!$C$6*Sorcadins!J$1535","v":0},{"$f":"'Base Numbers'!$C$5*'Base Numbers'!$C$6*Sorcadins!K$1535","v":0},{"$f":"'Base Numbers'!$C$5*'Base Numbers'!$C$6*Sorcadins!L$1535","v":0},{"$f":"'Base Numbers'!$C$5*'Base Numbers'!$C$6*Sorcadins!M$1535","v":0},{"$f":"'Base Numbers'!$C$5*'Base Numbers'!$C$6*Sorcadins!N$1535","v":0},{"$f":"'Base Numbers'!$C$5*'Base Numbers'!$C$6*Sorcadins!O$1535","v":0},{"$f":"'Base Numbers'!$C$5*'Base Numbers'!$C$6*Sorcadins!P$1535","v":0},{"$f":"'Base Numbers'!$C$5*'Base Numbers'!$C$6*Sorcadins!Q$1535","v":0},{"$f":"'Base Numbers'!$C$5*'Base Numbers'!$C$6*Sorcadins!R$1535","v":0},{"$f":"'Base Numbers'!$C$5*'Base Numbers'!$C$6*Sorcadins!S$1535","v":0},{"$f":"'Base Numbers'!$C$5*'Base Numbers'!$C$6*Sorcadins!T$1535","v":0},{"$f":"'Base Numbers'!$C$5*'Base Numbers'!$C$6*Sorcadins!U$1535","v":0},{"$f":"'Base Numbers'!$C$5*'Base Numbers'!$C$6*Sorcadins!V$1535","v":0},{"$f":"'Base Numbers'!$C$5*'Base Numbers'!$C$6*Sorcadins!W$1535","v":0},{"$f":"'Base Numbers'!$C$5*'Base Numbers'!$C$6*Sorcadins!X$1535","v":0}]
[{"$nulls":3},"number of smites used on crits",{"$f":"MIN(E71,E72)","v":0},{"$f":"MIN(F71,F72)","v":0},0,0,0,0,0,0,0,0,0,0,0,0,0,0,0,0,0,0]
[{"$nulls":3},"avg smite dice per crit ",{"$f":"IF(E73>0,MIN(E$7,(E70/MIN(E73,E72))),0)","v":0},0,0,0,0,0,0,0,0,0,0,0,0,0,0,0,0,0,0,0]
[{"$nulls":3},"smites left for non-crits",{"$f":"E71-E73","v":0},{"$f":"F71-F73","v":0},0,0,0,0,0,0,0,0,0,0,0,0,0,0,0,0,0,0]
[{"$nulls":3},"total non-crit smite-qualifying attacks available",{"$f":"Sorcadins!E$1510*('Base Numbers'!$C$5*'Base Numbers'!$C$6)-E72","v":0},{"$f":"Sorcadins!F$1510*('Base Numbers'!$C$5*'Base Numbers'!$C$6)-F72","v":0},{"$f":"Sorcadins!G$1510*('Base Numbers'!$C$5*'Base Numbers'!$C$6)-G72","v":0},{"$f":"Sorcadins!H$1510*('Base Numbers'!$C$5*'Base Numbers'!$C$6)-H72","v":0},{"$f":"Sorcadins!I$1510*('Base Numbers'!$C$5*'Base Numbers'!$C$6)-I72","v":0},{"$f":"Sorcadins!J$1510*('Base Numbers'!$C$5*'Base Numbers'!$C$6)-J72","v":0},{"$f":"Sorcadins!K$1510*('Base Numbers'!$C$5*'Base Numbers'!$C$6)-K72","v":0},{"$f":"Sorcadins!L$1510*('Base Numbers'!$C$5*'Base Numbers'!$C$6)-L72","v":0},{"$f":"Sorcadins!M$1510*('Base Numbers'!$C$5*'Base Numbers'!$C$6)-M72","v":0},{"$f":"Sorcadins!N$1510*('Base Numbers'!$C$5*'Base Numbers'!$C$6)-N72","v":0},{"$f":"Sorcadins!O$1510*('Base Numbers'!$C$5*'Base Numbers'!$C$6)-O72","v":0},{"$f":"Sorcadins!P$1510*('Base Numbers'!$C$5*'Base Numbers'!$C$6)-P72","v":0},{"$f":"Sorcadins!Q$1510*('Base Numbers'!$C$5*'Base Numbers'!$C$6)-Q72","v":0},{"$f":"Sorcadins!R$1510*('Base Numbers'!$C$5*'Base Numbers'!$C$6)-R72","v":0},{"$f":"Sorcadins!S$1510*('Base Numbers'!$C$5*'Base Numbers'!$C$6)-S72","v":0},{"$f":"Sorcadins!T$1510*('Base Numbers'!$C$5*'Base Numbers'!$C$6)-T72","v":0},{"$f":"Sorcadins!U$1510*('Base Numbers'!$C$5*'Base Numbers'!$C$6)-U72","v":0},{"$f":"Sorcadins!V$1510*('Base Numbers'!$C$5*'Base Numbers'!$C$6)-V72","v":0},{"$f":"Sorcadins!W$1510*('Base Numbers'!$C$5*'Base Numbers'!$C$6)-W72","v":0},{"$f":"Sorcadins!X$1510*('Base Numbers'!$C$5*'Base Numbers'!$C$6)-X72","v":0}]
[{"$nulls":3},"smite dice left for non-crits",{"$f":"ROUND(MAX(0,E70-E72*E74),4)","v":0},0,0,0,0,0,0,0,0,0,0,0,0,0,0,0,0,0,0,0]
[{"$nulls":3},"total smite dice used on crits",{"$f":"E73*E74","v":0},{"$f":"F73*F74","v":0},0,0,0,0,0,0,0,0,0,0,0,0,0,0,0,0,0,0]
[{"$nulls":3},"total crit smite damage per day",{"$f":"9*E78","v":0},{"$f":"9*F78","v":0},0,0,0,0,0,0,0,0,0,0,0,0,0,0,0,0,0,0]
[{"$nulls":3},"total non-crit smite damage per day",{"$f":"4.5*MIN(MIN(E76,E75)*E$7,E77)","v":0},{"$f":"4.5*MIN(MIN(F76,F75)*F$7,F77)","v":0},0,0,0,0,0,0,0,0,0,0,0,0,0,0,0,0,0,0]
[{"$nulls":3},"leftover sorc points + spell levels",{"$f":"IF(E70>0,IF(Sorcadins!E$323>0,(Sorcadins!E$323*E68+E67-E73*E74-E80/4.5)/Sorcadins!E$323,0),E68+E67)","v":0},{"$f":"IF(F70>0,IF(Sorcadins!F$323>0,(Sorcadins!F$323*F68+F67-F73*F74-F80/4.5)/Sorcadins!F$323,0),F68+F67)","v":0},{"$f":"IF(G70>0,IF(Sorcadins!G$323>0,(Sorcadins!G$323*G68+G67-G73*G74-G80/4.5)/Sorcadins!G$323,0),G68+G67)","v":0},{"$f":"IF(H70>0,IF(Sorcadins!H$323>0,(Sorcadins!H$323*H68+H67-H73*H74-H80/4.5)/Sorcadins!H$323,0),H68+H67)","v":0},{"$f":"IF(I70>0,IF(Sorcadins!I$323>0,(Sorcadins!I$323*I68+I67-I73*I74-I80/4.5)/Sorcadins!I$323,0),I68+I67)","v":4},{"$f":"IF(J70>0,IF(Sorcadins!J$323>0,(Sorcadins!J$323*J68+J67-J73*J74-J80/4.5)/Sorcadins!J$323,0),J68+J67)","v":4},{"$f":"IF(K70>0,IF(Sorcadins!K$323>0,(Sorcadins!K$323*K68+K67-K73*K74-K80/4.5)/Sorcadins!K$323,0),K68+K67)","v":4},{"$f":"IF(L70>0,IF(Sorcadins!L$323>0,(Sorcadins!L$323*L68+L67-L73*L74-L80/4.5)/Sorcadins!L$323,0),L68+L67)","v":4},{"$f":"IF(M70>0,IF(Sorcadins!M$323>0,(Sorcadins!M$323*M68+M67-M73*M74-M80/4.5)/Sorcadins!M$323,0),M68+M67)","v":4},{"$f":"IF(N70>0,IF(Sorcadins!N$323>0,(Sorcadins!N$323*N68+N67-N73*N74-N80/4.5)/Sorcadins!N$323,0),N68+N67)","v":4},{"$f":"IF(O70>0,IF(Sorcadins!O$323>0,(Sorcadins!O$323*O68+O67-O73*O74-O80/4.5)/Sorcadins!O$323,0),O68+O67)","v":4},{"$f":"IF(P70>0,IF(Sorcadins!P$323>0,(Sorcadins!P$323*P68+P67-P73*P74-P80/4.5)/Sorcadins!P$323,0),P68+P67)","v":4},{"$f":"IF(Q70>0,IF(Sorcadins!Q$323>0,(Sorcadins!Q$323*Q68+Q67-Q73*Q74-Q80/4.5)/Sorcadins!Q$323,0),Q68+Q67)","v":4},{"$f":"IF(R70>0,IF(Sorcadins!R$323>0,(Sorcadins!R$323*R68+R67-R73*R74-R80/4.5)/Sorcadins!R$323,0),R68+R67)","v":4},{"$f":"IF(S70>0,IF(Sorcadins!S$323>0,(Sorcadins!S$323*S68+S67-S73*S74-S80/4.5)/Sorcadins!S$323,0),S68+S67)","v":4},{"$f":"IF(T70>0,IF(Sorcadins!T$323>0,(Sorcadins!T$323*T68+T67-T73*T74-T80/4.5)/Sorcadins!T$323,0),T68+T67)","v":4},{"$f":"IF(U70>0,IF(Sorcadins!U$323>0,(Sorcadins!U$323*U68+U67-U73*U74-U80/4.5)/Sorcadins!U$323,0),U68+U67)","v":4},{"$f":"IF(V70>0,IF(Sorcadins!V$323>0,(Sorcadins!V$323*V68+V67-V73*V74-V80/4.5)/Sorcadins!V$323,0),V68+V67)","v":4},{"$f":"IF(W70>0,IF(Sorcadins!W$323>0,(Sorcadins!W$323*W68+W67-W73*W74-W80/4.5)/Sorcadins!W$323,0),W68+W67)","v":4.770831803630529},{"$f":"IF(X70>0,IF(Sorcadins!X$323>0,(Sorcadins!X$323*X68+X67-X73*X74-X80/4.5)/Sorcadins!X$323,0),X68+X67)","v":4.770831803630529}]
[{"$nulls":3},"actual smites performed",{"$f":"E73+IF(E$7>0,MIN(E75,E76,E77/E$7),0)","v":0},{"$f":"F73+IF(F$7>0,MIN(F75,F76,F77/F$7),0)","v":0},0,0,0,0,0,0,0,0,0,0,0,0,0,0,0,0,0,0]
[{"$nulls":3},"total daily smite damage: M1, B2, O3",{"$f":"E79+E80","v":0},{"$f":"F79+F80","v":0},0,0,0,0,0,0,0,0,0,0,0,0,0,0,0,0,0,0]
[]
[{"$nulls":3},"SMITES - M1, B3, O1/O2",1,2,3,4,5,6,7,8,9,10,11,12,13,14,15,16,17,18,19,20]
[{"$nulls":3},"remaining sorcery points (based on Damage Scenario)",{"$f":"MAX(0,Sorcadins!E$623-Sorcadins!E$1501)","v":0},{"$f":"MAX(0,Sorcadins!F$623-Sorcadins!F$1501)","v":0},{"$f":"MAX(0,Sorcadins!G$623-Sorcadins!G$1501)","v":0},{"$f":"MAX(0,Sorcadins!H$623-Sorcadins!H$1501)","v":0},{"$f":"MAX(0,Sorcadins!I$623-Sorcadins!I$1501)","v":0},{"$f":"MAX(0,Sorcadins!J$623-Sorcadins!J$1501)","v":0},{"$f":"MAX(0,Sorcadins!K$623-Sorcadins!K$1501)","v":0},{"$f":"MAX(0,Sorcadins!L$623-Sorcadins!L$1501)","v":0},{"$f":"MAX(0,Sorcadins!M$623-Sorcadins!M$1501)","v":0},{"$f":"MAX(0,Sorcadins!N$623-Sorcadins!N$1501)","v":0},{"$f":"MAX(0,Sorcadins!O$623-Sorcadins!O$1501)","v":0},{"$f":"MAX(0,Sorcadins!P$623-Sorcadins!P$1501)","v":0},{"$f":"MAX(0,Sorcadins!Q$623-Sorcadins!Q$1501)","v":0},{"$f":"MAX(0,Sorcadins!R$623-Sorcadins!R$1501)","v":0},{"$f":"MAX(0,Sorcadins!S$623-Sorcadins!S$1501)","v":0},{"$f":"MAX(0,Sorcadins!T$623-Sorcadins!T$1501)","v":0},{"$f":"MAX(0,Sorcadins!U$623-Sorcadins!U$1501)","v":0},{"$f":"MAX(0,Sorcadins!V$623-Sorcadins!V$1501)","v":0},{"$f":"MAX(0,Sorcadins!W$623-Sorcadins!W$1501)","v":0},{"$f":"MAX(0,Sorcadins!X$623-Sorcadins!X$1501)","v":0},null,"*Sorc points directly convertible to Smite Dice"]
[{"$nulls":3},"remaining spell slot levels (based on Damage Scenario)",{"$f":"MAX(0,Sorcadins!E$331-MAX(0,Sorcadins!E$1501-Sorcadins!E$623))","v":0},{"$f":"MAX(0,Sorcadins!F$331-MAX(0,Sorcadins!F$1501-Sorcadins!F$623))","v":0},{"$f":"MAX(0,Sorcadins!G$331-MAX(0,Sorcadins!G$1501-Sorcadins!G$623))","v":0},{"$f":"MAX(0,Sorcadins!H$331-MAX(0,Sorcadins!H$1501-Sorcadins!H$623))","v":0},{"$f":"MAX(0,Sorcadins!I$331-MAX(0,Sorcadins!I$1501-Sorcadins!I$623))","v":4},{"$f":"MAX(0,Sorcadins!J$331-MAX(0,Sorcadins!J$1501-Sorcadins!J$623))","v":4},{"$f":"MAX(0,Sorcadins!K$331-MAX(0,Sorcadins!K$1501-Sorcadins!K$623))","v":4},{"$f":"MAX(0,Sorcadins!L$331-MAX(0,Sorcadins!L$1501-Sorcadins!L$623))","v":4},{"$f":"MAX(0,Sorcadins!M$331-MAX(0,Sorcadins!M$1501-Sorcadins!M$623))","v":4},{"$f":"MAX(0,Sorcadins!N$331-MAX(0,Sorcadins!N$1501-Sorcadins!N$623))","v":4},{"$f":"MAX(0,Sorcadins!O$331-MAX(0,Sorcadins!O$1501-Sorcadins!O$623))","v":4},{"$f":"MAX(0,Sorcadins!P$331-MAX(0,Sorcadins!P$1501-Sorcadins!P$623))","v":4},{"$f":"MAX(0,Sorcadins!Q$331-MAX(0,Sorcadins!Q$1501-Sorcadins!Q$623))","v":4},{"$f":"MAX(0,Sorcadins!R$331-MAX(0,Sorcadins!R$1501-Sorcadins!R$623))","v":4},{"$f":"MAX(0,Sorcadins!S$331-MAX(0,Sorcadins!S$1501-Sorcadins!S$623))","v":4},{"$f":"MAX(0,Sorcadins!T$331-MAX(0,Sorcadins!T$1501-Sorcadins!T$623))","v":4},{"$f":"MAX(0,Sorcadins!U$331-MAX(0,Sorcadins!U$1501-Sorcadins!U$623))","v":4},{"$f":"MAX(0,Sorcadins!V$331-MAX(0,Sorcadins!V$1501-Sorcadins!V$623))","v":4},{"$f":"MAX(0,Sorcadins!W$331-MAX(0,Sorcadins!W$1501-Sorcadins!W$623))","v":4.770831803630529},{"$f":"MAX(0,Sorcadins!X$331-MAX(0,Sorcadins!X$1501-Sorcadins!X$623))","v":4.770831803630529}]
[{"$nulls":3},"total warlock smite levels remaining",{"$f":"MIN(Sorcadins!E$323*E87,Sorcadins!E$314)","v":0},{"$f":"MIN(Sorcadins!F$323*F87,Sorcadins!F$314)","v":0},{"$f":"MIN(Sorcadins!G$323*G87,Sorcadins!G$314)","v":0},{"$f":"MIN(Sorcadins!H$323*H87,Sorcadins!H$314)","v":0},{"$f":"MIN(Sorcadins!I$323*I87,Sorcadins!I$314)","v":0},{"$f":"MIN(Sorcadins!J$323*J87,Sorcadins!J$314)","v":0},{"$f":"MIN(Sorcadins!K$323*K87,Sorcadins!K$314)","v":0},{"$f":"MIN(Sorcadins!L$323*L87,Sorcadins!L$314)","v":0},{"$f":"MIN(Sorcadins!M$323*M87,Sorcadins!M$314)","v":0},{"$f":"MIN(Sorcadins!N$323*N87,Sorcadins!N$314)","v":0},{"$f":"MIN(Sorcadins!O$323*O87,Sorcadins!O$314)","v":0},{"$f":"MIN(Sorcadins!P$323*P87,Sorcadins!P$314)","v":0},{"$f":"MIN(Sorcadins!Q$323*Q87,Sorcadins!Q$314)","v":0},{"$f":"MIN(Sorcadins!R$323*R87,Sorcadins!R$314)","v":0},{"$f":"MIN(Sorcadins!S$323*S87,Sorcadins!S$314)","v":0},{"$f":"MIN(Sorcadins!T$323*T87,Sorcadins!T$314)","v":0},{"$f":"MIN(Sorcadins!U$323*U87,Sorcadins!U$314)","v":0},{"$f":"MIN(Sorcadins!V$323*V87,Sorcadins!V$314)","v":0},{"$f":"MIN(Sorcadins!W$323*W87,Sorcadins!W$314)","v":0},{"$f":"MIN(Sorcadins!X$323*X87,Sorcadins!X$314)","v":0}]
[{"$nulls":3},"total smite levels remaining",{"$f":"IF(E$5>=1,Sorcadins!E$323*E87+E86,IF(E$6,E88,0))","v":0},{"$f":"IF(F$5>=1,Sorcadins!F$323*F87+F86,IF(F$6,F88,0))","v":0},{"$f":"IF(G$5>=1,Sorcadins!G$323*G87+G86,IF(G$6,G88,0))","v":0},{"$f":"IF(H$5>=1,Sorcadins!H$323*H87+H86,IF(H$6,H88,0))","v":0},{"$f":"IF(I$5>=1,Sorcadins!I$323*I87+I86,IF(I$6,I88,0))","v":0},{"$f":"IF(J$5>=1,Sorcadins!J$323*J87+J86,IF(J$6,J88,0))","v":0},{"$f":"IF(K$5>=1,Sorcadins!K$323*K87+K86,IF(K$6,K88,0))","v":0},{"$f":"IF(L$5>=1,Sorcadins!L$323*L87+L86,IF(L$6,L88,0))","v":0},{"$f":"IF(M$5>=1,Sorcadins!M$323*M87+M86,IF(M$6,M88,0))","v":0},{"$f":"IF(N$5>=1,Sorcadins!N$323*N87+N86,IF(N$6,N88,0))","v":0},{"$f":"IF(O$5>=1,Sorcadins!O$323*O87+O86,IF(O$6,O88,0))","v":0},{"$f":"IF(P$5>=1,Sorcadins!P$323*P87+P86,IF(P$6,P88,0))","v":0},{"$f":"IF(Q$5>=1,Sorcadins!Q$323*Q87+Q86,IF(Q$6,Q88,0))","v":0},{"$f":"IF(R$5>=1,Sorcadins!R$323*R87+R86,IF(R$6,R88,0))","v":0},{"$f":"IF(S$5>=1,Sorcadins!S$323*S87+S86,IF(S$6,S88,0))","v":0},{"$f":"IF(T$5>=1,Sorcadins!T$323*T87+T86,IF(T$6,T88,0))","v":0},{"$f":"IF(U$5>=1,Sorcadins!U$323*U87+U86,IF(U$6,U88,0))","v":0},{"$f":"IF(V$5>=1,Sorcadins!V$323*V87+V86,IF(V$6,V88,0))","v":0},{"$f":"IF(W$5>=1,Sorcadins!W$323*W87+W86,IF(W$6,W88,0))","v":0},{"$f":"IF(X$5>=1,Sorcadins!X$323*X87+X86,IF(X$6,X88,0))","v":0}]
[{"$nulls":3},"max number of daily smites (after spells)",{"$f":"IF(E$6,Sorcadins!E$1374,IF(E$5,Sorcadins!E$332+E86/2,0))","v":0},{"$f":"IF(F$6,Sorcadins!F$1374,IF(F$5,Sorcadins!F$332+F86/2,0))","v":0},{"$f":"IF(G$6,Sorcadins!G$1374,IF(G$5,Sorcadins!G$332+G86/2,0))","v":0},{"$f":"IF(H$6,Sorcadins!H$1374,IF(H$5,Sorcadins!H$332+H86/2,0))","v":0},{"$f":"IF(I$6,Sorcadins!I$1374,IF(I$5,Sorcadins!I$332+I86/2,0))","v":0},{"$f":"IF(J$6,Sorcadins!J$1374,IF(J$5,Sorcadins!J$332+J86/2,0))","v":0},{"$f":"IF(K$6,Sorcadins!K$1374,IF(K$5,Sorcadins!K$332+K86/2,0))","v":0},{"$f":"IF(L$6,Sorcadins!L$1374,IF(L$5,Sorcadins!L$332+L86/2,0))","v":0},{"$f":"IF(M$6,Sorcadins!M$1374,IF(M$5,Sorcadins!M$332+M86/2,0))","v":0},{"$f":"IF(N$6,Sorcadins!N$1374,IF(N$5,Sorcadins!N$332+N86/2,0))","v":0},{"$f":"IF(O$6,Sorcadins!O$1374,IF(O$5,Sorcadins!O$332+O86/2,0))","v":0},{"$f":"IF(P$6,Sorcadins!P$1374,IF(P$5,Sorcadins!P$332+P86/2,0))","v":0},{"$f":"IF(Q$6,Sorcadins!Q$1374,IF(Q$5,Sorcadins!Q$332+Q86/2,0))","v":0},{"$f":"IF(R$6,Sorcadins!R$1374,IF(R$5,Sorcadins!R$332+R86/2,0))","v":0},{"$f":"IF(S$6,Sorcadins!S$1374,IF(S$5,Sorcadins!S$332+S86/2,0))","v":0},{"$f":"IF(T$6,Sorcadins!T$1374,IF(T$5,Sorcadins!T$332+T86/2,0))","v":0},{"$f":"IF(U$6,Sorcadins!U$1374,IF(U$5,Sorcadins!U$332+U86/2,0))","v":0},{"$f":"IF(V$6,Sorcadins!V$1374,IF(V$5,Sorcadins!V$332+V86/2,0))","v":0},{"$f":"IF(W$6,Sorcadins!W$1374,IF(W$5,Sorcadins!W$332+W86/2,0))","v":0},{"$f":"IF(X$6,Sorcadins!X$1374,IF(X$5,Sorcadins!X$332+X86/2,0))","v":0}]
[{"$nulls":3},"avg crits per day for smite purposes (based on Damage Scenario)",{"$f":"'Base Numbers'!$C$5*'Base Numbers'!$C$6*Sorcadins!E$1536","v":0},{"$f":"'Base Numbers'!$C$5*'Base Numbers'!$C$6*Sorcadins!F$1536","v":0},{"$f":"'Base Numbers'!$C$5*'Base Numbers'!$C$6*Sorcadins!G$1536","v":0},{"$f":"'Base Numbers'!$C$5*'Base Numbers'!$C$6*Sorcadins!H$1536","v":0},{"$f":"'Base Numbers'!$C$5*'Base Numbers'!$C$6*Sorcadins!I$1536","v":0},{"$f":"'Base Numbers'!$C$5*'Base Numbers'!$C$6*Sorcadins!J$1536","v":0},{"$f":"'Base Numbers'!$C$5*'Base Numbers'!$C$6*Sorcadins!K$1536","v":0},{"$f":"'Base Numbers'!$C$5*'Base Numbers'!$C$6*Sorcadins!L$1536","v":0},{"$f":"'Base Numbers'!$C$5*'Base Numbers'!$C$6*Sorcadins!M$1536","v":0},{"$f":"'Base Numbers'!$C$5*'Base Numbers'!$C$6*Sorcadins!N$1536","v":0},{"$f":"'Base Numbers'!$C$5*'Base Numbers'!$C$6*Sorcadins!O$1536","v":0},{"$f":"'Base Numbers'!$C$5*'Base Numbers'!$C$6*Sorcadins!P$1536","v":0},{"$f":"'Base Numbers'!$C$5*'Base Numbers'!$C$6*Sorcadins!Q$1536","v":0},{"$f":"'Base Numbers'!$C$5*'Base Numbers'!$C$6*Sorcadins!R$1536","v":0},{"$f":"'Base Numbers'!$C$5*'Base Numbers'!$C$6*Sorcadins!S$1536","v":0},{"$f":"'Base Numbers'!$C$5*'Base Numbers'!$C$6*Sorcadins!T$1536","v":0},{"$f":"'Base Numbers'!$C$5*'Base Numbers'!$C$6*Sorcadins!U$1536","v":0},{"$f":"'Base Numbers'!$C$5*'Base Numbers'!$C$6*Sorcadins!V$1536","v":0},{"$f":"'Base Numbers'!$C$5*'Base Numbers'!$C$6*Sorcadins!W$1536","v":0},{"$f":"'Base Numbers'!$C$5*'Base Numbers'!$C$6*Sorcadins!X$1536","v":0}]
[{"$nulls":3},"number of smites used on crits",{"$f":"MIN(E90,E91)","v":0},{"$f":"MIN(F90,F91)","v":0},0,0,0,0,0,0,0,0,0,0,0,0,0,0,0,0,0,0]
[{"$nulls":3},"avg smite dice per crit ",{"$f":"IF(E92>0,MIN(E$7,(E89/MIN(E92,E91))),0)","v":0},0,0,0,0,0,0,0,0,0,0,0,0,0,0,0,0,0,0,0]
[{"$nulls":3},"smites left for non-crits",{"$f":"E90-E92","v":0},{"$f":"F90-F92","v":0},0,0,0,0,0,0,0,0,0,0,0,0,0,0,0,0,0,0]
[{"$nulls":3},"total non-crit smite-qualifying attacks available",{"$f":"Sorcadins!E$1511*('Base Numbers'!$C$5*'Base Numbers'!$C$6)-E91","v":0},{"$f":"Sorcadins!F$1511*('Base Numbers'!$C$5*'Base Numbers'!$C$6)-F91","v":0},{"$f":"Sorcadins!G$1511*('Base Numbers'!$C$5*'Base Numbers'!$C$6)-G91","v":0},{"$f":"Sorcadins!H$1511*('Base Numbers'!$C$5*'Base Numbers'!$C$6)-H91","v":0},{"$f":"Sorcadins!I$1511*('Base Numbers'!$C$5*'Base Numbers'!$C$6)-I91","v":0},{"$f":"Sorcadins!J$1511*('Base Numbers'!$C$5*'Base Numbers'!$C$6)-J91","v":0},{"$f":"Sorcadins!K$1511*('Base Numbers'!$C$5*'Base Numbers'!$C$6)-K91","v":0},{"$f":"Sorcadins!L$1511*('Base Numbers'!$C$5*'Base Numbers'!$C$6)-L91","v":0},{"$f":"Sorcadins!M$1511*('Base Numbers'!$C$5*'Base Numbers'!$C$6)-M91","v":0},{"$f":"Sorcadins!N$1511*('Base Numbers'!$C$5*'Base Numbers'!$C$6)-N91","v":0},{"$f":"Sorcadins!O$1511*('Base Numbers'!$C$5*'Base Numbers'!$C$6)-O91","v":0},{"$f":"Sorcadins!P$1511*('Base Numbers'!$C$5*'Base Numbers'!$C$6)-P91","v":0},{"$f":"Sorcadins!Q$1511*('Base Numbers'!$C$5*'Base Numbers'!$C$6)-Q91","v":0},{"$f":"Sorcadins!R$1511*('Base Numbers'!$C$5*'Base Numbers'!$C$6)-R91","v":0},{"$f":"Sorcadins!S$1511*('Base Numbers'!$C$5*'Base Numbers'!$C$6)-S91","v":0},{"$f":"Sorcadins!T$1511*('Base Numbers'!$C$5*'Base Numbers'!$C$6)-T91","v":0},{"$f":"Sorcadins!U$1511*('Base Numbers'!$C$5*'Base Numbers'!$C$6)-U91","v":0},{"$f":"Sorcadins!V$1511*('Base Numbers'!$C$5*'Base Numbers'!$C$6)-V91","v":0},{"$f":"Sorcadins!W$1511*('Base Numbers'!$C$5*'Base Numbers'!$C$6)-W91","v":0},{"$f":"Sorcadins!X$1511*('Base Numbers'!$C$5*'Base Numbers'!$C$6)-X91","v":0}]
[{"$nulls":3},"smite dice left for non-crits",{"$f":"ROUND(MAX(0,E89-E91*E93),4)","v":0},0,0,0,0,0,0,0,0,0,0,0,0,0,0,0,0,0,0,0]
[{"$nulls":3},"total smite dice used on crits",{"$f":"E92*E93","v":0},{"$f":"F92*F93","v":0},0,0,0,0,0,0,0,0,0,0,0,0,0,0,0,0,0,0]
[{"$nulls":3},"total crit smite damage per day",{"$f":"9*E97","v":0},{"$f":"9*F97","v":0},0,0,0,0,0,0,0,0,0,0,0,0,0,0,0,0,0,0]
[{"$nulls":3},"total non-crit smite damage per day",{"$f":"4.5*MIN(MIN(E95,E94)*E$7,E96)","v":0},{"$f":"4.5*MIN(MIN(F95,F94)*F$7,F96)","v":0},0,0,0,0,0,0,0,0,0,0,0,0,0,0,0,0,0,0]
[{"$nulls":3},"leftover sorc points + spell levels",{"$f":"IF(E89>0,IF(Sorcadins!E$323>0,(Sorcadins!E$323*E87+E86-E92*E93-E99/4.5)/Sorcadins!E$323,0),E87+E86)","v":0},{"$f":"IF(F89>0,IF(Sorcadins!F$323>0,(Sorcadins!F$323*F87+F86-F92*F93-F99/4.5)/Sorcadins!F$323,0),F87+F86)","v":0},{"$f":"IF(G89>0,IF(Sorcadins!G$323>0,(Sorcadins!G$323*G87+G86-G92*G93-G99/4.5)/Sorcadins!G$323,0),G87+G86)","v":0},{"$f":"IF(H89>0,IF(Sorcadins!H$323>0,(Sorcadins!H$323*H87+H86-H92*H93-H99/4.5)/Sorcadins!H$323,0),H87+H86)","v":0},{"$f":"IF(I89>0,IF(Sorcadins!I$323>0,(Sorcadins!I$323*I87+I86-I92*I93-I99/4.5)/Sorcadins!I$323,0),I87+I86)","v":4},{"$f":"IF(J89>0,IF(Sorcadins!J$323>0,(Sorcadins!J$323*J87+J86-J92*J93-J99/4.5)/Sorcadins!J$323,0),J87+J86)","v":4},{"$f":"IF(K89>0,IF(Sorcadins!K$323>0,(Sorcadins!K$323*K87+K86-K92*K93-K99/4.5)/Sorcadins!K$323,0),K87+K86)","v":4},{"$f":"IF(L89>0,IF(Sorcadins!L$323>0,(Sorcadins!L$323*L87+L86-L92*L93-L99/4.5)/Sorcadins!L$323,0),L87+L86)","v":4},{"$f":"IF(M89>0,IF(Sorcadins!M$323>0,(Sorcadins!M$323*M87+M86-M92*M93-M99/4.5)/Sorcadins!M$323,0),M87+M86)","v":4},{"$f":"IF(N89>0,IF(Sorcadins!N$323>0,(Sorcadins!N$323*N87+N86-N92*N93-N99/4.5)/Sorcadins!N$323,0),N87+N86)","v":4},{"$f":"IF(O89>0,IF(Sorcadins!O$323>0,(Sorcadins!O$323*O87+O86-O92*O93-O99/4.5)/Sorcadins!O$323,0),O87+O86)","v":4},{"$f":"IF(P89>0,IF(Sorcadins!P$323>0,(Sorcadins!P$323*P87+P86-P92*P93-P99/4.5)/Sorcadins!P$323,0),P87+P86)","v":4},{"$f":"IF(Q89>0,IF(Sorcadins!Q$323>0,(Sorcadins!Q$323*Q87+Q86-Q92*Q93-Q99/4.5)/Sorcadins!Q$323,0),Q87+Q86)","v":4},{"$f":"IF(R89>0,IF(Sorcadins!R$323>0,(Sorcadins!R$323*R87+R86-R92*R93-R99/4.5)/Sorcadins!R$323,0),R87+R86)","v":4},{"$f":"IF(S89>0,IF(Sorcadins!S$323>0,(Sorcadins!S$323*S87+S86-S92*S93-S99/4.5)/Sorcadins!S$323,0),S87+S86)","v":4},{"$f":"IF(T89>0,IF(Sorcadins!T$323>0,(Sorcadins!T$323*T87+T86-T92*T93-T99/4.5)/Sorcadins!T$323,0),T87+T86)","v":4},{"$f":"IF(U89>0,IF(Sorcadins!U$323>0,(Sorcadins!U$323*U87+U86-U92*U93-U99/4.5)/Sorcadins!U$323,0),U87+U86)","v":4},{"$f":"IF(V89>0,IF(Sorcadins!V$323>0,(Sorcadins!V$323*V87+V86-V92*V93-V99/4.5)/Sorcadins!V$323,0),V87+V86)","v":4},{"$f":"IF(W89>0,IF(Sorcadins!W$323>0,(Sorcadins!W$323*W87+W86-W92*W93-W99/4.5)/Sorcadins!W$323,0),W87+W86)","v":4.770831803630529},{"$f":"IF(X89>0,IF(Sorcadins!X$323>0,(Sorcadins!X$323*X87+X86-X92*X93-X99/4.5)/Sorcadins!X$323,0),X87+X86)","v":4.770831803630529}]
[{"$nulls":3},"actual smites performed",{"$f":"E92+IF(E$7>0,MIN(E94,E95,E96/E$7),0)","v":0},{"$f":"F92+IF(F$7>0,MIN(F94,F95,F96/F$7),0)","v":0},0,0,0,0,0,0,0,0,0,0,0,0,0,0,0,0,0,0]
[{"$nulls":3},"total daily smite damage: M1, B3, O1/O2",{"$f":"E98+E99","v":0},{"$f":"F98+F99","v":0},0,0,0,0,0,0,0,0,0,0,0,0,0,0,0,0,0,0]
[]
[{"$nulls":3},"SMITES - M1, B3, O3",1,2,3,4,5,6,7,8,9,10,11,12,13,14,15,16,17,18,19,20]
[{"$nulls":3},"remaining sorcery points (based on Damage Scenario)",{"$f":"MAX(0,Sorcadins!E$623-Sorcadins!E$1501)","v":0},{"$f":"MAX(0,Sorcadins!F$623-Sorcadins!F$1501)","v":0},{"$f":"MAX(0,Sorcadins!G$623-Sorcadins!G$1501)","v":0},{"$f":"MAX(0,Sorcadins!H$623-Sorcadins!H$1501)","v":0},{"$f":"MAX(0,Sorcadins!I$623-Sorcadins!I$1501)","v":0},{"$f":"MAX(0,Sorcadins!J$623-Sorcadins!J$1501)","v":0},{"$f":"MAX(0,Sorcadins!K$623-Sorcadins!K$1501)","v":0},{"$f":"MAX(0,Sorcadins!L$623-Sorcadins!L$1501)","v":0},{"$f":"MAX(0,Sorcadins!M$623-Sorcadins!M$1501)","v":0},{"$f":"MAX(0,Sorcadins!N$623-Sorcadins!N$1501)","v":0},{"$f":"MAX(0,Sorcadins!O$623-Sorcadins!O$1501)","v":0},{"$f":"MAX(0,Sorcadins!P$623-Sorcadins!P$1501)","v":0},{"$f":"MAX(0,Sorcadins!Q$623-Sorcadins!Q$1501)","v":0},{"$f":"MAX(0,Sorcadins!R$623-Sorcadins!R$1501)","v":0},{"$f":"MAX(0,Sorcadins!S$623-Sorcadins!S$1501)","v":0},{"$f":"MAX(0,Sorcadins!T$623-Sorcadins!T$1501)","v":0},{"$f":"MAX(0,Sorcadins!U$623-Sorcadins!U$1501)","v":0},{"$f":"MAX(0,Sorcadins!V$623-Sorcadins!V$1501)","v":0},{"$f":"MAX(0,Sorcadins!W$623-Sorcadins!W$1501)","v":0},{"$f":"MAX(0,Sorcadins!X$623-Sorcadins!X$1501)","v":0},null,"*Sorc points directly convertible to Smite Dice"]
[{"$nulls":3},"remaining spell slot levels (based on Damage Scenario)",{"$f":"MAX(0,Sorcadins!E$331-MAX(0,Sorcadins!E$1501-Sorcadins!E$623))","v":0},{"$f":"MAX(0,Sorcadins!F$331-MAX(0,Sorcadins!F$1501-Sorcadins!F$623))","v":0},{"$f":"MAX(0,Sorcadins!G$331-MAX(0,Sorcadins!G$1501-Sorcadins!G$623))","v":0},{"$f":"MAX(0,Sorcadins!H$331-MAX(0,Sorcadins!H$1501-Sorcadins!H$623))","v":0},{"$f":"MAX(0,Sorcadins!I$331-MAX(0,Sorcadins!I$1501-Sorcadins!I$623))","v":4},{"$f":"MAX(0,Sorcadins!J$331-MAX(0,Sorcadins!J$1501-Sorcadins!J$623))","v":4},{"$f":"MAX(0,Sorcadins!K$331-MAX(0,Sorcadins!K$1501-Sorcadins!K$623))","v":4},{"$f":"MAX(0,Sorcadins!L$331-MAX(0,Sorcadins!L$1501-Sorcadins!L$623))","v":4},{"$f":"MAX(0,Sorcadins!M$331-MAX(0,Sorcadins!M$1501-Sorcadins!M$623))","v":4},{"$f":"MAX(0,Sorcadins!N$331-MAX(0,Sorcadins!N$1501-Sorcadins!N$623))","v":4},{"$f":"MAX(0,Sorcadins!O$331-MAX(0,Sorcadins!O$1501-Sorcadins!O$623))","v":4},{"$f":"MAX(0,Sorcadins!P$331-MAX(0,Sorcadins!P$1501-Sorcadins!P$623))","v":4},{"$f":"MAX(0,Sorcadins!Q$331-MAX(0,Sorcadins!Q$1501-Sorcadins!Q$623))","v":4},{"$f":"MAX(0,Sorcadins!R$331-MAX(0,Sorcadins!R$1501-Sorcadins!R$623))","v":4},{"$f":"MAX(0,Sorcadins!S$331-MAX(0,Sorcadins!S$1501-Sorcadins!S$623))","v":4},{"$f":"MAX(0,Sorcadins!T$331-MAX(0,Sorcadins!T$1501-Sorcadins!T$623))","v":4},{"$f":"MAX(0,Sorcadins!U$331-MAX(0,Sorcadins!U$1501-Sorcadins!U$623))","v":4},{"$f":"MAX(0,Sorcadins!V$331-MAX(0,Sorcadins!V$1501-Sorcadins!V$623))","v":4},{"$f":"MAX(0,Sorcadins!W$331-MAX(0,Sorcadins!W$1501-Sorcadins!W$623))","v":4.770831803630529},{"$f":"MAX(0,Sorcadins!X$331-MAX(0,Sorcadins!X$1501-Sorcadins!X$623))","v":4.770831803630529}]
[{"$nulls":3},"total warlock smite levels remaining",{"$f":"MIN(Sorcadins!E$323*E106,Sorcadins!E$314)","v":0},{"$f":"MIN(Sorcadins!F$323*F106,Sorcadins!F$314)","v":0},{"$f":"MIN(Sorcadins!G$323*G106,Sorcadins!G$314)","v":0},{"$f":"MIN(Sorcadins!H$323*H106,Sorcadins!H$314)","v":0},{"$f":"MIN(Sorcadins!I$323*I106,Sorcadins!I$314)","v":0},{"$f":"MIN(Sorcadins!J$323*J106,Sorcadins!J$314)","v":0},{"$f":"MIN(Sorcadins!K$323*K106,Sorcadins!K$314)","v":0},{"$f":"MIN(Sorcadins!L$323*L106,Sorcadins!L$314)","v":0},{"$f":"MIN(Sorcadins!M$323*M106,Sorcadins!M$314)","v":0},{"$f":"MIN(Sorcadins!N$323*N106,Sorcadins!N$314)","v":0},{"$f":"MIN(Sorcadins!O$323*O106,Sorcadins!O$314)","v":0},{"$f":"MIN(Sorcadins!P$323*P106,Sorcadins!P$314)","v":0},{"$f":"MIN(Sorcadins!Q$323*Q106,Sorcadins!Q$314)","v":0},{"$f":"MIN(Sorcadins!R$323*R106,Sorcadins!R$314)","v":0},{"$f":"MIN(Sorcadins!S$323*S106,Sorcadins!S$314)","v":0},{"$f":"MIN(Sorcadins!T$323*T106,Sorcadins!T$314)","v":0},{"$f":"MIN(Sorcadins!U$323*U106,Sorcadins!U$314)","v":0},{"$f":"MIN(Sorcadins!V$323*V106,Sorcadins!V$314)","v":0},{"$f":"MIN(Sorcadins!W$323*W106,Sorcadins!W$314)","v":0},{"$f":"MIN(Sorcadins!X$323*X106,Sorcadins!X$314)","v":0}]
[{"$nulls":3},"total smite levels remaining",{"$f":"IF(E$5>=1,Sorcadins!E$323*E106+E105,IF(E$6,E107,0))","v":0},{"$f":"IF(F$5>=1,Sorcadins!F$323*F106+F105,IF(F$6,F107,0))","v":0},{"$f":"IF(G$5>=1,Sorcadins!G$323*G106+G105,IF(G$6,G107,0))","v":0},{"$f":"IF(H$5>=1,Sorcadins!H$323*H106+H105,IF(H$6,H107,0))","v":0},{"$f":"IF(I$5>=1,Sorcadins!I$323*I106+I105,IF(I$6,I107,0))","v":0},{"$f":"IF(J$5>=1,Sorcadins!J$323*J106+J105,IF(J$6,J107,0))","v":0},{"$f":"IF(K$5>=1,Sorcadins!K$323*K106+K105,IF(K$6,K107,0))","v":0},{"$f":"IF(L$5>=1,Sorcadins!L$323*L106+L105,IF(L$6,L107,0))","v":0},{"$f":"IF(M$5>=1,Sorcadins!M$323*M106+M105,IF(M$6,M107,0))","v":0},{"$f":"IF(N$5>=1,Sorcadins!N$323*N106+N105,IF(N$6,N107,0))","v":0},{"$f":"IF(O$5>=1,Sorcadins!O$323*O106+O105,IF(O$6,O107,0))","v":0},{"$f":"IF(P$5>=1,Sorcadins!P$323*P106+P105,IF(P$6,P107,0))","v":0},{"$f":"IF(Q$5>=1,Sorcadins!Q$323*Q106+Q105,IF(Q$6,Q107,0))","v":0},{"$f":"IF(R$5>=1,Sorcadins!R$323*R106+R105,IF(R$6,R107,0))","v":0},{"$f":"IF(S$5>=1,Sorcadins!S$323*S106+S105,IF(S$6,S107,0))","v":0},{"$f":"IF(T$5>=1,Sorcadins!T$323*T106+T105,IF(T$6,T107,0))","v":0},{"$f":"IF(U$5>=1,Sorcadins!U$323*U106+U105,IF(U$6,U107,0))","v":0},{"$f":"IF(V$5>=1,Sorcadins!V$323*V106+V105,IF(V$6,V107,0))","v":0},{"$f":"IF(W$5>=1,Sorcadins!W$323*W106+W105,IF(W$6,W107,0))","v":0},{"$f":"IF(X$5>=1,Sorcadins!X$323*X106+X105,IF(X$6,X107,0))","v":0}]
[{"$nulls":3},"max number of daily smites (after spells)",{"$f":"IF(OR(Sorcadins!E$12>=5,Sorcadins!E$7>=2),Sorcadins!E$332+E105/2,0)","v":0},{"$f":"IF(OR(Sorcadins!F$12>=5,Sorcadins!F$7>=2),Sorcadins!F$332+F105/2,0)","v":0},{"$f":"IF(OR(Sorcadins!G$12>=5,Sorcadins!G$7>=2),Sorcadins!G$332+G105/2,0)","v":0},{"$f":"IF(OR(Sorcadins!H$12>=5,Sorcadins!H$7>=2),Sorcadins!H$332+H105/2,0)","v":0},{"$f":"IF(OR(Sorcadins!I$12>=5,Sorcadins!I$7>=2),Sorcadins!I$332+I105/2,0)","v":0},{"$f":"IF(OR(Sorcadins!J$12>=5,Sorcadins!J$7>=2),Sorcadins!J$332+J105/2,0)","v":0},{"$f":"IF(OR(Sorcadins!K$12>=5,Sorcadins!K$7>=2),Sorcadins!K$332+K105/2,0)","v":0},{"$f":"IF(OR(Sorcadins!L$12>=5,Sorcadins!L$7>=2),Sorcadins!L$332+L105/2,0)","v":0},{"$f":"IF(OR(Sorcadins!M$12>=5,Sorcadins!M$7>=2),Sorcadins!M$332+M105/2,0)","v":0},{"$f":"IF(OR(Sorcadins!N$12>=5,Sorcadins!N$7>=2),Sorcadins!N$332+N105/2,0)","v":0},{"$f":"IF(OR(Sorcadins!O$12>=5,Sorcadins!O$7>=2),Sorcadins!O$332+O105/2,0)","v":0},{"$f":"IF(OR(Sorcadins!P$12>=5,Sorcadins!P$7>=2),Sorcadins!P$332+P105/2,0)","v":0},{"$f":"IF(OR(Sorcadins!Q$12>=5,Sorcadins!Q$7>=2),Sorcadins!Q$332+Q105/2,0)","v":0},{"$f":"IF(OR(Sorcadins!R$12>=5,Sorcadins!R$7>=2),Sorcadins!R$332+R105/2,0)","v":0},{"$f":"IF(OR(Sorcadins!S$12>=5,Sorcadins!S$7>=2),Sorcadins!S$332+S105/2,0)","v":0},{"$f":"IF(OR(Sorcadins!T$12>=5,Sorcadins!T$7>=2),Sorcadins!T$332+T105/2,0)","v":0},{"$f":"IF(OR(Sorcadins!U$12>=5,Sorcadins!U$7>=2),Sorcadins!U$332+U105/2,0)","v":0},{"$f":"IF(OR(Sorcadins!V$12>=5,Sorcadins!V$7>=2),Sorcadins!V$332+V105/2,0)","v":0},{"$f":"IF(OR(Sorcadins!W$12>=5,Sorcadins!W$7>=2),Sorcadins!W$332+W105/2,0)","v":0},{"$f":"IF(OR(Sorcadins!X$12>=5,Sorcadins!X$7>=2),Sorcadins!X$332+X105/2,0)","v":0}]
[{"$nulls":3},"avg crits per day for smite purposes (based on Damage Scenario)",{"$f":"'Base Numbers'!$C$5*'Base Numbers'!$C$6*Sorcadins!E$1537","v":0},{"$f":"'Base Numbers'!$C$5*'Base Numbers'!$C$6*Sorcadins!F$1537","v":0},{"$f":"'Base Numbers'!$C$5*'Base Numbers'!$C$6*Sorcadins!G$1537","v":0},{"$f":"'Base Numbers'!$C$5*'Base Numbers'!$C$6*Sorcadins!H$1537","v":0},{"$f":"'Base Numbers'!$C$5*'Base Numbers'!$C$6*Sorcadins!I$1537","v":0},{"$f":"'Base Numbers'!$C$5*'Base Numbers'!$C$6*Sorcadins!J$1537","v":0},{"$f":"'Base Numbers'!$C$5*'Base Numbers'!$C$6*Sorcadins!K$1537","v":0},{"$f":"'Base Numbers'!$C$5*'Base Numbers'!$C$6*Sorcadins!L$1537","v":0},{"$f":"'Base Numbers'!$C$5*'Base Numbers'!$C$6*Sorcadins!M$1537","v":0},{"$f":"'Base Numbers'!$C$5*'Base Numbers'!$C$6*Sorcadins!N$1537","v":0},{"$f":"'Base Numbers'!$C$5*'Base Numbers'!$C$6*Sorcadins!O$1537","v":0},{"$f":"'Base Numbers'!$C$5*'Base Numbers'!$C$6*Sorcadins!P$1537","v":0},{"$f":"'Base Numbers'!$C$5*'Base Numbers'!$C$6*Sorcadins!Q$1537","v":0},{"$f":"'Base Numbers'!$C$5*'Base Numbers'!$C$6*Sorcadins!R$1537","v":0},{"$f":"'Base Numbers'!$C$5*'Base Numbers'!$C$6*Sorcadins!S$1537","v":0},{"$f":"'Base Numbers'!$C$5*'Base Numbers'!$C$6*Sorcadins!T$1537","v":0},{"$f":"'Base Numbers'!$C$5*'Base Numbers'!$C$6*Sorcadins!U$1537","v":0},{"$f":"'Base Numbers'!$C$5*'Base Numbers'!$C$6*Sorcadins!V$1537","v":0},{"$f":"'Base Numbers'!$C$5*'Base Numbers'!$C$6*Sorcadins!W$1537","v":0},{"$f":"'Base Numbers'!$C$5*'Base Numbers'!$C$6*Sorcadins!X$1537","v":0}]
[{"$nulls":3},"number of smites used on crits",{"$f":"MIN(E109,E110)","v":0},{"$f":"MIN(F109,F110)","v":0},0,0,0,0,0,0,0,0,0,0,0,0,0,0,0,0,0,0]
[{"$nulls":3},"avg smite dice per crit ",{"$f":"IF(E111>0,MIN(E$7,(E108/MIN(E111,E110))),0)","v":0},0,0,0,0,0,0,0,0,0,0,0,0,0,0,0,0,0,0,0]
[{"$nulls":3},"smites left for non-crits",{"$f":"E109-E111","v":0},{"$f":"F109-F111","v":0},0,0,0,0,0,0,0,0,0,0,0,0,0,0,0,0,0,0]
[{"$nulls":3},"total non-crit smite-qualifying attacks available",{"$f":"Sorcadins!E$1512*('Base Numbers'!$C$5*'Base Numbers'!$C$6)-E110","v":0},{"$f":"Sorcadins!F$1512*('Base Numbers'!$C$5*'Base Numbers'!$C$6)-F110","v":0},{"$f":"Sorcadins!G$1512*('Base Numbers'!$C$5*'Base Numbers'!$C$6)-G110","v":0},{"$f":"Sorcadins!H$1512*('Base Numbers'!$C$5*'Base Numbers'!$C$6)-H110","v":0},{"$f":"Sorcadins!I$1512*('Base Numbers'!$C$5*'Base Numbers'!$C$6)-I110","v":0},{"$f":"Sorcadins!J$1512*('Base Numbers'!$C$5*'Base Numbers'!$C$6)-J110","v":0},{"$f":"Sorcadins!K$1512*('Base Numbers'!$C$5*'Base Numbers'!$C$6)-K110","v":0},{"$f":"Sorcadins!L$1512*('Base Numbers'!$C$5*'Base Numbers'!$C$6)-L110","v":0},{"$f":"Sorcadins!M$1512*('Base Numbers'!$C$5*'Base Numbers'!$C$6)-M110","v":0},{"$f":"Sorcadins!N$1512*('Base Numbers'!$C$5*'Base Numbers'!$C$6)-N110","v":0},{"$f":"Sorcadins!O$1512*('Base Numbers'!$C$5*'Base Numbers'!$C$6)-O110","v":0},{"$f":"Sorcadins!P$1512*('Base Numbers'!$C$5*'Base Numbers'!$C$6)-P110","v":0},{"$f":"Sorcadins!Q$1512*('Base Numbers'!$C$5*'Base Numbers'!$C$6)-Q110","v":0},{"$f":"Sorcadins!R$1512*('Base Numbers'!$C$5*'Base Numbers'!$C$6)-R110","v":0},{"$f":"Sorcadins!S$1512*('Base Numbers'!$C$5*'Base Numbers'!$C$6)-S110","v":0},{"$f":"Sorcadins!T$1512*('Base Numbers'!$C$5*'Base Numbers'!$C$6)-T110","v":0},{"$f":"Sorcadins!U$1512*('Base Numbers'!$C$5*'Base Numbers'!$C$6)-U110","v":0},{"$f":"Sorcadins!V$1512*('Base Numbers'!$C$5*'Base Numbers'!$C$6)-V110","v":0},{"$f":"Sorcadins!W$1512*('Base Numbers'!$C$5*'Base Numbers'!$C$6)-W110","v":0},{"$f":"Sorcadins!X$1512*('Base Numbers'!$C$5*'Base Numbers'!$C$6)-X110","v":0}]
[{"$nulls":3},"smite dice left for non-crits",{"$f":"ROUND(MAX(0,E108-E110*E112),4)","v":0},0,0,0,0,0,0,0,0,0,0,0,0,0,0,0,0,0,0,0]
[{"$nulls":3},"total smite dice used on crits",{"$f":"E111*E112","v":0},{"$f":"F111*F112","v":0},0,0,0,0,0,0,0,0,0,0,0,0,0,0,0,0,0,0]
[{"$nulls":3},"total crit smite damage per day",{"$f":"9*E116","v":0},{"$f":"9*F116","v":0},0,0,0,0,0,0,0,0,0,0,0,0,0,0,0,0,0,0]
[{"$nulls":3},"total non-crit smite damage per day",{"$f":"4.5*MIN(MIN(E114,E113)*E$7,E115)","v":0},{"$f":"4.5*MIN(MIN(F114,F113)*F$7,F115)","v":0},0,0,0,0,0,0,0,0,0,0,0,0,0,0,0,0,0,0]
[{"$nulls":3},"leftover sorc points + spell levels",{"$f":"IF(E108>0,IF(Sorcadins!E$323>0,(Sorcadins!E$323*E106+E105-E111*E112-E118/4.5)/Sorcadins!E$323,0),E106+E105)","v":0},{"$f":"IF(F108>0,IF(Sorcadins!F$323>0,(Sorcadins!F$323*F106+F105-F111*F112-F118/4.5)/Sorcadins!F$323,0),F106+F105)","v":0},{"$f":"IF(G108>0,IF(Sorcadins!G$323>0,(Sorcadins!G$323*G106+G105-G111*G112-G118/4.5)/Sorcadins!G$323,0),G106+G105)","v":0},{"$f":"IF(H108>0,IF(Sorcadins!H$323>0,(Sorcadins!H$323*H106+H105-H111*H112-H118/4.5)/Sorcadins!H$323,0),H106+H105)","v":0},{"$f":"IF(I108>0,IF(Sorcadins!I$323>0,(Sorcadins!I$323*I106+I105-I111*I112-I118/4.5)/Sorcadins!I$323,0),I106+I105)","v":4},{"$f":"IF(J108>0,IF(Sorcadins!J$323>0,(Sorcadins!J$323*J106+J105-J111*J112-J118/4.5)/Sorcadins!J$323,0),J106+J105)","v":4},{"$f":"IF(K108>0,IF(Sorcadins!K$323>0,(Sorcadins!K$323*K106+K105-K111*K112-K118/4.5)/Sorcadins!K$323,0),K106+K105)","v":4},{"$f":"IF(L108>0,IF(Sorcadins!L$323>0,(Sorcadins!L$323*L106+L105-L111*L112-L118/4.5)/Sorcadins!L$323,0),L106+L105)","v":4},{"$f":"IF(M108>0,IF(Sorcadins!M$323>0,(Sorcadins!M$323*M106+M105-M111*M112-M118/4.5)/Sorcadins!M$323,0),M106+M105)","v":4},{"$f":"IF(N108>0,IF(Sorcadins!N$323>0,(Sorcadins!N$323*N106+N105-N111*N112-N118/4.5)/Sorcadins!N$323,0),N106+N105)","v":4},{"$f":"IF(O108>0,IF(Sorcadins!O$323>0,(Sorcadins!O$323*O106+O105-O111*O112-O118/4.5)/Sorcadins!O$323,0),O106+O105)","v":4},{"$f":"IF(P108>0,IF(Sorcadins!P$323>0,(Sorcadins!P$323*P106+P105-P111*P112-P118/4.5)/Sorcadins!P$323,0),P106+P105)","v":4},{"$f":"IF(Q108>0,IF(Sorcadins!Q$323>0,(Sorcadins!Q$323*Q106+Q105-Q111*Q112-Q118/4.5)/Sorcadins!Q$323,0),Q106+Q105)","v":4},{"$f":"IF(R108>0,IF(Sorcadins!R$323>0,(Sorcadins!R$323*R106+R105-R111*R112-R118/4.5)/Sorcadins!R$323,0),R106+R105)","v":4},{"$f":"IF(S108>0,IF(Sorcadins!S$323>0,(Sorcadins!S$323*S106+S105-S111*S112-S118/4.5)/Sorcadins!S$323,0),S106+S105)","v":4},{"$f":"IF(T108>0,IF(Sorcadins!T$323>0,(Sorcadins!T$323*T106+T105-T111*T112-T118/4.5)/Sorcadins!T$323,0),T106+T105)","v":4},{"$f":"IF(U108>0,IF(Sorcadins!U$323>0,(Sorcadins!U$323*U106+U105-U111*U112-U118/4.5)/Sorcadins!U$323,0),U106+U105)","v":4},{"$f":"IF(V108>0,IF(Sorcadins!V$323>0,(Sorcadins!V$323*V106+V105-V111*V112-V118/4.5)/Sorcadins!V$323,0),V106+V105)","v":4},{"$f":"IF(W108>0,IF(Sorcadins!W$323>0,(Sorcadins!W$323*W106+W105-W111*W112-W118/4.5)/Sorcadins!W$323,0),W106+W105)","v":4.770831803630529},{"$f":"IF(X108>0,IF(Sorcadins!X$323>0,(Sorcadins!X$323*X106+X105-X111*X112-X118/4.5)/Sorcadins!X$323,0),X106+X105)","v":4.770831803630529}]
[{"$nulls":3},"actual smites performed",{"$f":"E111+IF(E$7>0,MIN(E113,E114,E115/E$7),0)","v":0},{"$f":"F111+IF(F$7>0,MIN(F113,F114,F115/F$7),0)","v":0},0,0,0,0,0,0,0,0,0,0,0,0,0,0,0,0,0,0]
[{"$nulls":3},"total daily smite damage: M1, B3, O3",{"$f":"E117+E118","v":0},{"$f":"F117+F118","v":0},0,0,0,0,0,0,0,0,0,0,0,0,0,0,0,0,0,0]
[]
[{"$nulls":3},"SMITES - M1, B4, O1/O2",1,2,3,4,5,6,7,8,9,10,11,12,13,14,15,16,17,18,19,20]
[{"$nulls":3},"remaining sorcery points (based on Damage Scenario)",{"$f":"MAX(0,Sorcadins!E$623-Sorcadins!E$1502)","v":0},{"$f":"MAX(0,Sorcadins!F$623-Sorcadins!F$1502)","v":0},{"$f":"MAX(0,Sorcadins!G$623-Sorcadins!G$1502)","v":0},{"$f":"MAX(0,Sorcadins!H$623-Sorcadins!H$1502)","v":0},{"$f":"MAX(0,Sorcadins!I$623-Sorcadins!I$1502)","v":0},{"$f":"MAX(0,Sorcadins!J$623-Sorcadins!J$1502)","v":0},{"$f":"MAX(0,Sorcadins!K$623-Sorcadins!K$1502)","v":0},{"$f":"MAX(0,Sorcadins!L$623-Sorcadins!L$1502)","v":0},{"$f":"MAX(0,Sorcadins!M$623-Sorcadins!M$1502)","v":0},{"$f":"MAX(0,Sorcadins!N$623-Sorcadins!N$1502)","v":0},{"$f":"MAX(0,Sorcadins!O$623-Sorcadins!O$1502)","v":0},{"$f":"MAX(0,Sorcadins!P$623-Sorcadins!P$1502)","v":0},{"$f":"MAX(0,Sorcadins!Q$623-Sorcadins!Q$1502)","v":0},{"$f":"MAX(0,Sorcadins!R$623-Sorcadins!R$1502)","v":0},{"$f":"MAX(0,Sorcadins!S$623-Sorcadins!S$1502)","v":0},{"$f":"MAX(0,Sorcadins!T$623-Sorcadins!T$1502)","v":0},{"$f":"MAX(0,Sorcadins!U$623-Sorcadins!U$1502)","v":0},{"$f":"MAX(0,Sorcadins!V$623-Sorcadins!V$1502)","v":0},{"$f":"MAX(0,Sorcadins!W$623-Sorcadins!W$1502)","v":0},{"$f":"MAX(0,Sorcadins!X$623-Sorcadins!X$1502)","v":0},null,"*Sorc points directly convertible to Smite Dice"]
[{"$nulls":3},"remaining spell slot levels (based on Damage Scenario)",{"$f":"MAX(0,Sorcadins!E$331-MAX(0,Sorcadins!E$1502-Sorcadins!E$623))","v":0},{"$f":"MAX(0,Sorcadins!F$331-MAX(0,Sorcadins!F$1502-Sorcadins!F$623))","v":0},{"$f":"MAX(0,Sorcadins!G$331-MAX(0,Sorcadins!G$1502-Sorcadins!G$623))","v":0},{"$f":"MAX(0,Sorcadins!H$331-MAX(0,Sorcadins!H$1502-Sorcadins!H$623))","v":0},{"$f":"MAX(0,Sorcadins!I$331-MAX(0,Sorcadins!I$1502-Sorcadins!I$623))","v":4},{"$f":"MAX(0,Sorcadins!J$331-MAX(0,Sorcadins!J$1502-Sorcadins!J$623))","v":4},{"$f":"MAX(0,Sorcadins!K$331-MAX(0,Sorcadins!K$1502-Sorcadins!K$623))","v":4},{"$f":"MAX(0,Sorcadins!L$331-MAX(0,Sorcadins!L$1502-Sorcadins!L$623))","v":4},{"$f":"MAX(0,Sorcadins!M$331-MAX(0,Sorcadins!M$1502-Sorcadins!M$623))","v":4},{"$f":"MAX(0,Sorcadins!N$331-MAX(0,Sorcadins!N$1502-Sorcadins!N$623))","v":4},{"$f":"MAX(0,Sorcadins!O$331-MAX(0,Sorcadins!O$1502-Sorcadins!O$623))","v":4},{"$f":"MAX(0,Sorcadins!P$331-MAX(0,Sorcadins!P$1502-Sorcadins!P$623))","v":4},{"$f":"MAX(0,Sorcadins!Q$331-MAX(0,Sorcadins!Q$1502-Sorcadins!Q$623))","v":4},{"$f":"MAX(0,Sorcadins!R$331-MAX(0,Sorcadins!R$1502-Sorcadins!R$623))","v":4},{"$f":"MAX(0,Sorcadins!S$331-MAX(0,Sorcadins!S$1502-Sorcadins!S$623))","v":4},{"$f":"MAX(0,Sorcadins!T$331-MAX(0,Sorcadins!T$1502-Sorcadins!T$623))","v":4},{"$f":"MAX(0,Sorcadins!U$331-MAX(0,Sorcadins!U$1502-Sorcadins!U$623))","v":4},{"$f":"MAX(0,Sorcadins!V$331-MAX(0,Sorcadins!V$1502-Sorcadins!V$623))","v":4},{"$f":"MAX(0,Sorcadins!W$331-MAX(0,Sorcadins!W$1502-Sorcadins!W$623))","v":4.770831803630529},{"$f":"MAX(0,Sorcadins!X$331-MAX(0,Sorcadins!X$1502-Sorcadins!X$623))","v":4.770831803630529}]
[{"$nulls":3},"total warlock smite levels remaining",{"$f":"MIN(Sorcadins!E$323*E125,Sorcadins!E$314)","v":0},{"$f":"MIN(Sorcadins!F$323*F125,Sorcadins!F$314)","v":0},{"$f":"MIN(Sorcadins!G$323*G125,Sorcadins!G$314)","v":0},{"$f":"MIN(Sorcadins!H$323*H125,Sorcadins!H$314)","v":0},{"$f":"MIN(Sorcadins!I$323*I125,Sorcadins!I$314)","v":0},{"$f":"MIN(Sorcadins!J$323*J125,Sorcadins!J$314)","v":0},{"$f":"MIN(Sorcadins!K$323*K125,Sorcadins!K$314)","v":0},{"$f":"MIN(Sorcadins!L$323*L125,Sorcadins!L$314)","v":0},{"$f":"MIN(Sorcadins!M$323*M125,Sorcadins!M$314)","v":0},{"$f":"MIN(Sorcadins!N$323*N125,Sorcadins!N$314)","v":0},{"$f":"MIN(Sorcadins!O$323*O125,Sorcadins!O$314)","v":0},{"$f":"MIN(Sorcadins!P$323*P125,Sorcadins!P$314)","v":0},{"$f":"MIN(Sorcadins!Q$323*Q125,Sorcadins!Q$314)","v":0},{"$f":"MIN(Sorcadins!R$323*R125,Sorcadins!R$314)","v":0},{"$f":"MIN(Sorcadins!S$323*S125,Sorcadins!S$314)","v":0},{"$f":"MIN(Sorcadins!T$323*T125,Sorcadins!T$314)","v":0},{"$f":"MIN(Sorcadins!U$323*U125,Sorcadins!U$314)","v":0},{"$f":"MIN(Sorcadins!V$323*V125,Sorcadins!V$314)","v":0},{"$f":"MIN(Sorcadins!W$323*W125,Sorcadins!W$314)","v":0},{"$f":"MIN(Sorcadins!X$323*X125,Sorcadins!X$314)","v":0}]
[{"$nulls":3},"total smite levels remaining",{"$f":"IF(E$5>=1,Sorcadins!E$323*E125+E124,IF(E$6,E126,0))","v":0},{"$f":"IF(F$5>=1,Sorcadins!F$323*F125+F124,IF(F$6,F126,0))","v":0},{"$f":"IF(G$5>=1,Sorcadins!G$323*G125+G124,IF(G$6,G126,0))","v":0},{"$f":"IF(H$5>=1,Sorcadins!H$323*H125+H124,IF(H$6,H126,0))","v":0},{"$f":"IF(I$5>=1,Sorcadins!I$323*I125+I124,IF(I$6,I126,0))","v":0},{"$f":"IF(J$5>=1,Sorcadins!J$323*J125+J124,IF(J$6,J126,0))","v":0},{"$f":"IF(K$5>=1,Sorcadins!K$323*K125+K124,IF(K$6,K126,0))","v":0},{"$f":"IF(L$5>=1,Sorcadins!L$323*L125+L124,IF(L$6,L126,0))","v":0},{"$f":"IF(M$5>=1,Sorcadins!M$323*M125+M124,IF(M$6,M126,0))","v":0},{"$f":"IF(N$5>=1,Sorcadins!N$323*N125+N124,IF(N$6,N126,0))","v":0},{"$f":"IF(O$5>=1,Sorcadins!O$323*O125+O124,IF(O$6,O126,0))","v":0},{"$f":"IF(P$5>=1,Sorcadins!P$323*P125+P124,IF(P$6,P126,0))","v":0},{"$f":"IF(Q$5>=1,Sorcadins!Q$323*Q125+Q124,IF(Q$6,Q126,0))","v":0},{"$f":"IF(R$5>=1,Sorcadins!R$323*R125+R124,IF(R$6,R126,0))","v":0},{"$f":"IF(S$5>=1,Sorcadins!S$323*S125+S124,IF(S$6,S126,0))","v":0},{"$f":"IF(T$5>=1,Sorcadins!T$323*T125+T124,IF(T$6,T126,0))","v":0},{"$f":"IF(U$5>=1,Sorcadins!U$323*U125+U124,IF(U$6,U126,0))","v":0},{"$f":"IF(V$5>=1,Sorcadins!V$323*V125+V124,IF(V$6,V126,0))","v":0},{"$f":"IF(W$5>=1,Sorcadins!W$323*W125+W124,IF(W$6,W126,0))","v":0},{"$f":"IF(X$5>=1,Sorcadins!X$323*X125+X124,IF(X$6,X126,0))","v":0}]
[{"$nulls":3},"max number of daily smites (after spells)",{"$f":"IF(E$6,Sorcadins!E$1374,IF(E$5,Sorcadins!E$332+E124/2,0))","v":0},{"$f":"IF(F$6,Sorcadins!F$1374,IF(F$5,Sorcadins!F$332+F124/2,0))","v":0},{"$f":"IF(G$6,Sorcadins!G$1374,IF(G$5,Sorcadins!G$332+G124/2,0))","v":0},{"$f":"IF(H$6,Sorcadins!H$1374,IF(H$5,Sorcadins!H$332+H124/2,0))","v":0},{"$f":"IF(I$6,Sorcadins!I$1374,IF(I$5,Sorcadins!I$332+I124/2,0))","v":0},{"$f":"IF(J$6,Sorcadins!J$1374,IF(J$5,Sorcadins!J$332+J124/2,0))","v":0},{"$f":"IF(K$6,Sorcadins!K$1374,IF(K$5,Sorcadins!K$332+K124/2,0))","v":0},{"$f":"IF(L$6,Sorcadins!L$1374,IF(L$5,Sorcadins!L$332+L124/2,0))","v":0},{"$f":"IF(M$6,Sorcadins!M$1374,IF(M$5,Sorcadins!M$332+M124/2,0))","v":0},{"$f":"IF(N$6,Sorcadins!N$1374,IF(N$5,Sorcadins!N$332+N124/2,0))","v":0},{"$f":"IF(O$6,Sorcadins!O$1374,IF(O$5,Sorcadins!O$332+O124/2,0))","v":0},{"$f":"IF(P$6,Sorcadins!P$1374,IF(P$5,Sorcadins!P$332+P124/2,0))","v":0},{"$f":"IF(Q$6,Sorcadins!Q$1374,IF(Q$5,Sorcadins!Q$332+Q124/2,0))","v":0},{"$f":"IF(R$6,Sorcadins!R$1374,IF(R$5,Sorcadins!R$332+R124/2,0))","v":0},{"$f":"IF(S$6,Sorcadins!S$1374,IF(S$5,Sorcadins!S$332+S124/2,0))","v":0},{"$f":"IF(T$6,Sorcadins!T$1374,IF(T$5,Sorcadins!T$332+T124/2,0))","v":0},{"$f":"IF(U$6,Sorcadins!U$1374,IF(U$5,Sorcadins!U$332+U124/2,0))","v":0},{"$f":"IF(V$6,Sorcadins!V$1374,IF(V$5,Sorcadins!V$332+V124/2,0))","v":0},{"$f":"IF(W$6,Sorcadins!W$1374,IF(W$5,Sorcadins!W$332+W124/2,0))","v":0},{"$f":"IF(X$6,Sorcadins!X$1374,IF(X$5,Sorcadins!X$332+X124/2,0))","v":0}]
[{"$nulls":3},"avg crits per day for smite purposes (based on Damage Scenario)",{"$f":"'Base Numbers'!$C$5*'Base Numbers'!$C$6*Sorcadins!E$1538","v":0},{"$f":"'Base Numbers'!$C$5*'Base Numbers'!$C$6*Sorcadins!F$1538","v":0},{"$f":"'Base Numbers'!$C$5*'Base Numbers'!$C$6*Sorcadins!G$1538","v":0},{"$f":"'Base Numbers'!$C$5*'Base Numbers'!$C$6*Sorcadins!H$1538","v":0},{"$f":"'Base Numbers'!$C$5*'Base Numbers'!$C$6*Sorcadins!I$1538","v":0},{"$f":"'Base Numbers'!$C$5*'Base Numbers'!$C$6*Sorcadins!J$1538","v":0},{"$f":"'Base Numbers'!$C$5*'Base Numbers'!$C$6*Sorcadins!K$1538","v":0},{"$f":"'Base Numbers'!$C$5*'Base Numbers'!$C$6*Sorcadins!L$1538","v":0},{"$f":"'Base Numbers'!$C$5*'Base Numbers'!$C$6*Sorcadins!M$1538","v":0},{"$f":"'Base Numbers'!$C$5*'Base Numbers'!$C$6*Sorcadins!N$1538","v":0},{"$f":"'Base Numbers'!$C$5*'Base Numbers'!$C$6*Sorcadins!O$1538","v":0},{"$f":"'Base Numbers'!$C$5*'Base Numbers'!$C$6*Sorcadins!P$1538","v":0},{"$f":"'Base Numbers'!$C$5*'Base Numbers'!$C$6*Sorcadins!Q$1538","v":0},{"$f":"'Base Numbers'!$C$5*'Base Numbers'!$C$6*Sorcadins!R$1538","v":0},{"$f":"'Base Numbers'!$C$5*'Base Numbers'!$C$6*Sorcadins!S$1538","v":0},{"$f":"'Base Numbers'!$C$5*'Base Numbers'!$C$6*Sorcadins!T$1538","v":0},{"$f":"'Base Numbers'!$C$5*'Base Numbers'!$C$6*Sorcadins!U$1538","v":0},{"$f":"'Base Numbers'!$C$5*'Base Numbers'!$C$6*Sorcadins!V$1538","v":0},{"$f":"'Base Numbers'!$C$5*'Base Numbers'!$C$6*Sorcadins!W$1538","v":0},{"$f":"'Base Numbers'!$C$5*'Base Numbers'!$C$6*Sorcadins!X$1538","v":0}]
[{"$nulls":3},"number of smites used on crits",{"$f":"MIN(E128,E129)","v":0},{"$f":"MIN(F128,F129)","v":0},0,0,0,0,0,0,0,0,0,0,0,0,0,0,0,0,0,0]
[{"$nulls":3},"avg smite dice per crit ",{"$f":"IF(E130>0,MIN(E$7,(E127/MIN(E130,E129))),0)","v":0},0,0,0,0,0,0,0,0,0,0,0,0,0,0,0,0,0,0,0]
[{"$nulls":3},"smites left for non-crits",{"$f":"E128-E130","v":0},{"$f":"F128-F130","v":0},0,0,0,0,0,0,0,0,0,0,0,0,0,0,0,0,0,0]
[{"$nulls":3},"total non-crit smite-qualifying attacks available",{"$f":"Sorcadins!E$1513*('Base Numbers'!$C$5*'Base Numbers'!$C$6)-E129","v":0},{"$f":"Sorcadins!F$1513*('Base Numbers'!$C$5*'Base Numbers'!$C$6)-F129","v":0},{"$f":"Sorcadins!G$1513*('Base Numbers'!$C$5*'Base Numbers'!$C$6)-G129","v":0},{"$f":"Sorcadins!H$1513*('Base Numbers'!$C$5*'Base Numbers'!$C$6)-H129","v":0},{"$f":"Sorcadins!I$1513*('Base Numbers'!$C$5*'Base Numbers'!$C$6)-I129","v":0},{"$f":"Sorcadins!J$1513*('Base Numbers'!$C$5*'Base Numbers'!$C$6)-J129","v":0},{"$f":"Sorcadins!K$1513*('Base Numbers'!$C$5*'Base Numbers'!$C$6)-K129","v":0},{"$f":"Sorcadins!L$1513*('Base Numbers'!$C$5*'Base Numbers'!$C$6)-L129","v":0},{"$f":"Sorcadins!M$1513*('Base Numbers'!$C$5*'Base Numbers'!$C$6)-M129","v":0},{"$f":"Sorcadins!N$1513*('Base Numbers'!$C$5*'Base Numbers'!$C$6)-N129","v":0},{"$f":"Sorcadins!O$1513*('Base Numbers'!$C$5*'Base Numbers'!$C$6)-O129","v":0},{"$f":"Sorcadins!P$1513*('Base Numbers'!$C$5*'Base Numbers'!$C$6)-P129","v":0},{"$f":"Sorcadins!Q$1513*('Base Numbers'!$C$5*'Base Numbers'!$C$6)-Q129","v":0},{"$f":"Sorcadins!R$1513*('Base Numbers'!$C$5*'Base Numbers'!$C$6)-R129","v":0},{"$f":"Sorcadins!S$1513*('Base Numbers'!$C$5*'Base Numbers'!$C$6)-S129","v":0},{"$f":"Sorcadins!T$1513*('Base Numbers'!$C$5*'Base Numbers'!$C$6)-T129","v":0},{"$f":"Sorcadins!U$1513*('Base Numbers'!$C$5*'Base Numbers'!$C$6)-U129","v":0},{"$f":"Sorcadins!V$1513*('Base Numbers'!$C$5*'Base Numbers'!$C$6)-V129","v":0},{"$f":"Sorcadins!W$1513*('Base Numbers'!$C$5*'Base Numbers'!$C$6)-W129","v":0},{"$f":"Sorcadins!X$1513*('Base Numbers'!$C$5*'Base Numbers'!$C$6)-X129","v":0}]
[{"$nulls":3},"smite dice left for non-crits",{"$f":"ROUND(MAX(0,E127-E129*E131),4)","v":0},{"$f":"ROUND(MAX(0,F127-F129*F131),4)","v":0},0,0,0,0,0,0,0,0,0,0,0,0,0,0,0,0,0,0]
[{"$nulls":3},"total smite dice used on crits",{"$f":"E130*E131","v":0},{"$f":"F130*F131","v":0},0,0,0,0,0,0,0,0,0,0,0,0,0,0,0,0,0,0]
[{"$nulls":3},"total crit smite damage per day",{"$f":"9*E135","v":0},{"$f":"9*F135","v":0},0,0,0,0,0,0,0,0,0,0,0,0,0,0,0,0,0,0]
[{"$nulls":3},"total non-crit smite damage per day",{"$f":"4.5*MIN(MIN(E133,E132)*E$7,E134)","v":0},{"$f":"4.5*MIN(MIN(F133,F132)*F$7,F134)","v":0},0,0,0,0,0,0,0,0,0,0,0,0,0,0,0,0,0,0]
[{"$nulls":3},"leftover sorc points + spell levels",{"$f":"IF(E127>0,IF(Sorcadins!E$323>0,(Sorcadins!E$323*E125+E124-E130*E131-E137/4.5)/Sorcadins!E$323,0),E125+E124)","v":0},{"$f":"IF(F127>0,IF(Sorcadins!F$323>0,(Sorcadins!F$323*F125+F124-F130*F131-F137/4.5)/Sorcadins!F$323,0),F125+F124)","v":0},{"$f":"IF(G127>0,IF(Sorcadins!G$323>0,(Sorcadins!G$323*G125+G124-G130*G131-G137/4.5)/Sorcadins!G$323,0),G125+G124)","v":0},{"$f":"IF(H127>0,IF(Sorcadins!H$323>0,(Sorcadins!H$323*H125+H124-H130*H131-H137/4.5)/Sorcadins!H$323,0),H125+H124)","v":0},{"$f":"IF(I127>0,IF(Sorcadins!I$323>0,(Sorcadins!I$323*I125+I124-I130*I131-I137/4.5)/Sorcadins!I$323,0),I125+I124)","v":4},{"$f":"IF(J127>0,IF(Sorcadins!J$323>0,(Sorcadins!J$323*J125+J124-J130*J131-J137/4.5)/Sorcadins!J$323,0),J125+J124)","v":4},{"$f":"IF(K127>0,IF(Sorcadins!K$323>0,(Sorcadins!K$323*K125+K124-K130*K131-K137/4.5)/Sorcadins!K$323,0),K125+K124)","v":4},{"$f":"IF(L127>0,IF(Sorcadins!L$323>0,(Sorcadins!L$323*L125+L124-L130*L131-L137/4.5)/Sorcadins!L$323,0),L125+L124)","v":4},{"$f":"IF(M127>0,IF(Sorcadins!M$323>0,(Sorcadins!M$323*M125+M124-M130*M131-M137/4.5)/Sorcadins!M$323,0),M125+M124)","v":4},{"$f":"IF(N127>0,IF(Sorcadins!N$323>0,(Sorcadins!N$323*N125+N124-N130*N131-N137/4.5)/Sorcadins!N$323,0),N125+N124)","v":4},{"$f":"IF(O127>0,IF(Sorcadins!O$323>0,(Sorcadins!O$323*O125+O124-O130*O131-O137/4.5)/Sorcadins!O$323,0),O125+O124)","v":4},{"$f":"IF(P127>0,IF(Sorcadins!P$323>0,(Sorcadins!P$323*P125+P124-P130*P131-P137/4.5)/Sorcadins!P$323,0),P125+P124)","v":4},{"$f":"IF(Q127>0,IF(Sorcadins!Q$323>0,(Sorcadins!Q$323*Q125+Q124-Q130*Q131-Q137/4.5)/Sorcadins!Q$323,0),Q125+Q124)","v":4},{"$f":"IF(R127>0,IF(Sorcadins!R$323>0,(Sorcadins!R$323*R125+R124-R130*R131-R137/4.5)/Sorcadins!R$323,0),R125+R124)","v":4},{"$f":"IF(S127>0,IF(Sorcadins!S$323>0,(Sorcadins!S$323*S125+S124-S130*S131-S137/4.5)/Sorcadins!S$323,0),S125+S124)","v":4},{"$f":"IF(T127>0,IF(Sorcadins!T$323>0,(Sorcadins!T$323*T125+T124-T130*T131-T137/4.5)/Sorcadins!T$323,0),T125+T124)","v":4},{"$f":"IF(U127>0,IF(Sorcadins!U$323>0,(Sorcadins!U$323*U125+U124-U130*U131-U137/4.5)/Sorcadins!U$323,0),U125+U124)","v":4},{"$f":"IF(V127>0,IF(Sorcadins!V$323>0,(Sorcadins!V$323*V125+V124-V130*V131-V137/4.5)/Sorcadins!V$323,0),V125+V124)","v":4},{"$f":"IF(W127>0,IF(Sorcadins!W$323>0,(Sorcadins!W$323*W125+W124-W130*W131-W137/4.5)/Sorcadins!W$323,0),W125+W124)","v":4.770831803630529},{"$f":"IF(X127>0,IF(Sorcadins!X$323>0,(Sorcadins!X$323*X125+X124-X130*X131-X137/4.5)/Sorcadins!X$323,0),X125+X124)","v":4.770831803630529}]
[{"$nulls":3},"actual smites performed",{"$f":"E130+IF(E$7>0,MIN(E132,E133,E134/E$7),0)","v":0},{"$f":"F130+IF(F$7>0,MIN(F132,F133,F134/F$7),0)","v":0},0,0,0,0,0,0,0,0,0,0,0,0,0,0,0,0,0,0]
[{"$nulls":3},"total daily smite damage: M1, B4, O1/O2",{"$f":"E136+E137","v":0},{"$f":"F136+F137","v":0},0,0,0,0,0,0,0,0,0,0,0,0,0,0,0,0,0,0]
[]
[{"$nulls":3},"SMITES - M1, B4, O3",1,2,3,4,5,6,7,8,9,10,11,12,13,14,15,16,17,18,19,20]
[{"$nulls":3},"remaining sorcery points (based on Damage Scenario)",{"$f":"MAX(0,Sorcadins!E$623-Sorcadins!E$1502)","v":0},{"$f":"MAX(0,Sorcadins!F$623-Sorcadins!F$1502)","v":0},{"$f":"MAX(0,Sorcadins!G$623-Sorcadins!G$1502)","v":0},{"$f":"MAX(0,Sorcadins!H$623-Sorcadins!H$1502)","v":0},{"$f":"MAX(0,Sorcadins!I$623-Sorcadins!I$1502)","v":0},{"$f":"MAX(0,Sorcadins!J$623-Sorcadins!J$1502)","v":0},{"$f":"MAX(0,Sorcadins!K$623-Sorcadins!K$1502)","v":0},{"$f":"MAX(0,Sorcadins!L$623-Sorcadins!L$1502)","v":0},{"$f":"MAX(0,Sorcadins!M$623-Sorcadins!M$1502)","v":0},{"$f":"MAX(0,Sorcadins!N$623-Sorcadins!N$1502)","v":0},{"$f":"MAX(0,Sorcadins!O$623-Sorcadins!O$1502)","v":0},{"$f":"MAX(0,Sorcadins!P$623-Sorcadins!P$1502)","v":0},{"$f":"MAX(0,Sorcadins!Q$623-Sorcadins!Q$1502)","v":0},{"$f":"MAX(0,Sorcadins!R$623-Sorcadins!R$1502)","v":0},{"$f":"MAX(0,Sorcadins!S$623-Sorcadins!S$1502)","v":0},{"$f":"MAX(0,Sorcadins!T$623-Sorcadins!T$1502)","v":0},{"$f":"MAX(0,Sorcadins!U$623-Sorcadins!U$1502)","v":0},{"$f":"MAX(0,Sorcadins!V$623-Sorcadins!V$1502)","v":0},{"$f":"MAX(0,Sorcadins!W$623-Sorcadins!W$1502)","v":0},{"$f":"MAX(0,Sorcadins!X$623-Sorcadins!X$1502)","v":0},null,"*Sorc points directly convertible to Smite Dice"]
[{"$nulls":3},"remaining spell slot levels (based on Damage Scenario)",{"$f":"MAX(0,Sorcadins!E$331-MAX(0,Sorcadins!E$1502-Sorcadins!E$623))","v":0},{"$f":"MAX(0,Sorcadins!F$331-MAX(0,Sorcadins!F$1502-Sorcadins!F$623))","v":0},{"$f":"MAX(0,Sorcadins!G$331-MAX(0,Sorcadins!G$1502-Sorcadins!G$623))","v":0},{"$f":"MAX(0,Sorcadins!H$331-MAX(0,Sorcadins!H$1502-Sorcadins!H$623))","v":0},{"$f":"MAX(0,Sorcadins!I$331-MAX(0,Sorcadins!I$1502-Sorcadins!I$623))","v":4},{"$f":"MAX(0,Sorcadins!J$331-MAX(0,Sorcadins!J$1502-Sorcadins!J$623))","v":4},{"$f":"MAX(0,Sorcadins!K$331-MAX(0,Sorcadins!K$1502-Sorcadins!K$623))","v":4},{"$f":"MAX(0,Sorcadins!L$331-MAX(0,Sorcadins!L$1502-Sorcadins!L$623))","v":4},{"$f":"MAX(0,Sorcadins!M$331-MAX(0,Sorcadins!M$1502-Sorcadins!M$623))","v":4},{"$f":"MAX(0,Sorcadins!N$331-MAX(0,Sorcadins!N$1502-Sorcadins!N$623))","v":4},{"$f":"MAX(0,Sorcadins!O$331-MAX(0,Sorcadins!O$1502-Sorcadins!O$623))","v":4},{"$f":"MAX(0,Sorcadins!P$331-MAX(0,Sorcadins!P$1502-Sorcadins!P$623))","v":4},{"$f":"MAX(0,Sorcadins!Q$331-MAX(0,Sorcadins!Q$1502-Sorcadins!Q$623))","v":4},{"$f":"MAX(0,Sorcadins!R$331-MAX(0,Sorcadins!R$1502-Sorcadins!R$623))","v":4},{"$f":"MAX(0,Sorcadins!S$331-MAX(0,Sorcadins!S$1502-Sorcadins!S$623))","v":4},{"$f":"MAX(0,Sorcadins!T$331-MAX(0,Sorcadins!T$1502-Sorcadins!T$623))","v":4},{"$f":"MAX(0,Sorcadins!U$331-MAX(0,Sorcadins!U$1502-Sorcadins!U$623))","v":4},{"$f":"MAX(0,Sorcadins!V$331-MAX(0,Sorcadins!V$1502-Sorcadins!V$623))","v":4},{"$f":"MAX(0,Sorcadins!W$331-MAX(0,Sorcadins!W$1502-Sorcadins!W$623))","v":4.770831803630529},{"$f":"MAX(0,Sorcadins!X$331-MAX(0,Sorcadins!X$1502-Sorcadins!X$623))","v":4.770831803630529}]
[{"$nulls":3},"total warlock smite levels remaining",{"$f":"MIN(Sorcadins!E$323*E144,Sorcadins!E$314)","v":0},{"$f":"MIN(Sorcadins!F$323*F144,Sorcadins!F$314)","v":0},{"$f":"MIN(Sorcadins!G$323*G144,Sorcadins!G$314)","v":0},{"$f":"MIN(Sorcadins!H$323*H144,Sorcadins!H$314)","v":0},{"$f":"MIN(Sorcadins!I$323*I144,Sorcadins!I$314)","v":0},{"$f":"MIN(Sorcadins!J$323*J144,Sorcadins!J$314)","v":0},{"$f":"MIN(Sorcadins!K$323*K144,Sorcadins!K$314)","v":0},{"$f":"MIN(Sorcadins!L$323*L144,Sorcadins!L$314)","v":0},{"$f":"MIN(Sorcadins!M$323*M144,Sorcadins!M$314)","v":0},{"$f":"MIN(Sorcadins!N$323*N144,Sorcadins!N$314)","v":0},{"$f":"MIN(Sorcadins!O$323*O144,Sorcadins!O$314)","v":0},{"$f":"MIN(Sorcadins!P$323*P144,Sorcadins!P$314)","v":0},{"$f":"MIN(Sorcadins!Q$323*Q144,Sorcadins!Q$314)","v":0},{"$f":"MIN(Sorcadins!R$323*R144,Sorcadins!R$314)","v":0},{"$f":"MIN(Sorcadins!S$323*S144,Sorcadins!S$314)","v":0},{"$f":"MIN(Sorcadins!T$323*T144,Sorcadins!T$314)","v":0},{"$f":"MIN(Sorcadins!U$323*U144,Sorcadins!U$314)","v":0},{"$f":"MIN(Sorcadins!V$323*V144,Sorcadins!V$314)","v":0},{"$f":"MIN(Sorcadins!W$323*W144,Sorcadins!W$314)","v":0},{"$f":"MIN(Sorcadins!X$323*X144,Sorcadins!X$314)","v":0}]
[{"$nulls":3},"total smite levels remaining",{"$f":"IF(E$5>=1,Sorcadins!E$323*E144+E143,IF(E$6,E145,0))","v":0},{"$f":"IF(F$5>=1,Sorcadins!F$323*F144+F143,IF(F$6,F145,0))","v":0},{"$f":"IF(G$5>=1,Sorcadins!G$323*G144+G143,IF(G$6,G145,0))","v":0},{"$f":"IF(H$5>=1,Sorcadins!H$323*H144+H143,IF(H$6,H145,0))","v":0},{"$f":"IF(I$5>=1,Sorcadins!I$323*I144+I143,IF(I$6,I145,0))","v":0},{"$f":"IF(J$5>=1,Sorcadins!J$323*J144+J143,IF(J$6,J145,0))","v":0},{"$f":"IF(K$5>=1,Sorcadins!K$323*K144+K143,IF(K$6,K145,0))","v":0},{"$f":"IF(L$5>=1,Sorcadins!L$323*L144+L143,IF(L$6,L145,0))","v":0},{"$f":"IF(M$5>=1,Sorcadins!M$323*M144+M143,IF(M$6,M145,0))","v":0},{"$f":"IF(N$5>=1,Sorcadins!N$323*N144+N143,IF(N$6,N145,0))","v":0},{"$f":"IF(O$5>=1,Sorcadins!O$323*O144+O143,IF(O$6,O145,0))","v":0},{"$f":"IF(P$5>=1,Sorcadins!P$323*P144+P143,IF(P$6,P145,0))","v":0},{"$f":"IF(Q$5>=1,Sorcadins!Q$323*Q144+Q143,IF(Q$6,Q145,0))","v":0},{"$f":"IF(R$5>=1,Sorcadins!R$323*R144+R143,IF(R$6,R145,0))","v":0},{"$f":"IF(S$5>=1,Sorcadins!S$323*S144+S143,IF(S$6,S145,0))","v":0},{"$f":"IF(T$5>=1,Sorcadins!T$323*T144+T143,IF(T$6,T145,0))","v":0},{"$f":"IF(U$5>=1,Sorcadins!U$323*U144+U143,IF(U$6,U145,0))","v":0},{"$f":"IF(V$5>=1,Sorcadins!V$323*V144+V143,IF(V$6,V145,0))","v":0},{"$f":"IF(W$5>=1,Sorcadins!W$323*W144+W143,IF(W$6,W145,0))","v":0},{"$f":"IF(X$5>=1,Sorcadins!X$323*X144+X143,IF(X$6,X145,0))","v":0}]
[{"$nulls":3},"max number of daily smites (after spells)",{"$f":"IF(E$6,Sorcadins!E$1374,IF(E$5,Sorcadins!E$332+E143/2,0))","v":0},{"$f":"IF(F$6,Sorcadins!F$1374,IF(F$5,Sorcadins!F$332+F143/2,0))","v":0},{"$f":"IF(G$6,Sorcadins!G$1374,IF(G$5,Sorcadins!G$332+G143/2,0))","v":0},{"$f":"IF(H$6,Sorcadins!H$1374,IF(H$5,Sorcadins!H$332+H143/2,0))","v":0},{"$f":"IF(I$6,Sorcadins!I$1374,IF(I$5,Sorcadins!I$332+I143/2,0))","v":0},{"$f":"IF(J$6,Sorcadins!J$1374,IF(J$5,Sorcadins!J$332+J143/2,0))","v":0},{"$f":"IF(K$6,Sorcadins!K$1374,IF(K$5,Sorcadins!K$332+K143/2,0))","v":0},{"$f":"IF(L$6,Sorcadins!L$1374,IF(L$5,Sorcadins!L$332+L143/2,0))","v":0},{"$f":"IF(M$6,Sorcadins!M$1374,IF(M$5,Sorcadins!M$332+M143/2,0))","v":0},{"$f":"IF(N$6,Sorcadins!N$1374,IF(N$5,Sorcadins!N$332+N143/2,0))","v":0},{"$f":"IF(O$6,Sorcadins!O$1374,IF(O$5,Sorcadins!O$332+O143/2,0))","v":0},{"$f":"IF(P$6,Sorcadins!P$1374,IF(P$5,Sorcadins!P$332+P143/2,0))","v":0},{"$f":"IF(Q$6,Sorcadins!Q$1374,IF(Q$5,Sorcadins!Q$332+Q143/2,0))","v":0},{"$f":"IF(R$6,Sorcadins!R$1374,IF(R$5,Sorcadins!R$332+R143/2,0))","v":0},{"$f":"IF(S$6,Sorcadins!S$1374,IF(S$5,Sorcadins!S$332+S143/2,0))","v":0},{"$f":"IF(T$6,Sorcadins!T$1374,IF(T$5,Sorcadins!T$332+T143/2,0))","v":0},{"$f":"IF(U$6,Sorcadins!U$1374,IF(U$5,Sorcadins!U$332+U143/2,0))","v":0},{"$f":"IF(V$6,Sorcadins!V$1374,IF(V$5,Sorcadins!V$332+V143/2,0))","v":0},{"$f":"IF(W$6,Sorcadins!W$1374,IF(W$5,Sorcadins!W$332+W143/2,0))","v":0},{"$f":"IF(X$6,Sorcadins!X$1374,IF(X$5,Sorcadins!X$332+X143/2,0))","v":0}]
[{"$nulls":3},"avg crits per day for smite purposes (based on Damage Scenario)",{"$f":"'Base Numbers'!$C$5*'Base Numbers'!$C$6*Sorcadins!E$1539","v":0},{"$f":"'Base Numbers'!$C$5*'Base Numbers'!$C$6*Sorcadins!F$1539","v":0},{"$f":"'Base Numbers'!$C$5*'Base Numbers'!$C$6*Sorcadins!G$1539","v":0},{"$f":"'Base Numbers'!$C$5*'Base Numbers'!$C$6*Sorcadins!H$1539","v":0},{"$f":"'Base Numbers'!$C$5*'Base Numbers'!$C$6*Sorcadins!I$1539","v":0},{"$f":"'Base Numbers'!$C$5*'Base Numbers'!$C$6*Sorcadins!J$1539","v":0},{"$f":"'Base Numbers'!$C$5*'Base Numbers'!$C$6*Sorcadins!K$1539","v":0},{"$f":"'Base Numbers'!$C$5*'Base Numbers'!$C$6*Sorcadins!L$1539","v":0},{"$f":"'Base Numbers'!$C$5*'Base Numbers'!$C$6*Sorcadins!M$1539","v":0},{"$f":"'Base Numbers'!$C$5*'Base Numbers'!$C$6*Sorcadins!N$1539","v":0},{"$f":"'Base Numbers'!$C$5*'Base Numbers'!$C$6*Sorcadins!O$1539","v":0},{"$f":"'Base Numbers'!$C$5*'Base Numbers'!$C$6*Sorcadins!P$1539","v":0},{"$f":"'Base Numbers'!$C$5*'Base Numbers'!$C$6*Sorcadins!Q$1539","v":0},{"$f":"'Base Numbers'!$C$5*'Base Numbers'!$C$6*Sorcadins!R$1539","v":0},{"$f":"'Base Numbers'!$C$5*'Base Numbers'!$C$6*Sorcadins!S$1539","v":0},{"$f":"'Base Numbers'!$C$5*'Base Numbers'!$C$6*Sorcadins!T$1539","v":0},{"$f":"'Base Numbers'!$C$5*'Base Numbers'!$C$6*Sorcadins!U$1539","v":0},{"$f":"'Base Numbers'!$C$5*'Base Numbers'!$C$6*Sorcadins!V$1539","v":0},{"$f":"'Base Numbers'!$C$5*'Base Numbers'!$C$6*Sorcadins!W$1539","v":0},{"$f":"'Base Numbers'!$C$5*'Base Numbers'!$C$6*Sorcadins!X$1539","v":0}]
[{"$nulls":3},"number of smites used on crits",{"$f":"MIN(E147,E148)","v":0},0,0,0,0,0,0,0,0,0,0,0,0,0,0,0,0,0,0,0]
[{"$nulls":3},"avg smite dice per crit ",{"$f":"IF(E149>0,MIN(E$7,(E146/MIN(E149,E148))),0)","v":0},0,0,0,0,0,0,0,0,0,0,0,0,0,0,0,0,0,0,0]
[{"$nulls":3},"smites left for non-crits",{"$f":"E147-E149","v":0},{"$f":"F147-F149","v":0},0,0,0,0,0,0,0,0,0,0,0,0,0,0,0,0,0,0]
[{"$nulls":3},"total non-crit smite-qualifying attacks available",{"$f":"Sorcadins!E$1514*('Base Numbers'!$C$5*'Base Numbers'!$C$6)-E148","v":0},{"$f":"Sorcadins!F$1514*('Base Numbers'!$C$5*'Base Numbers'!$C$6)-F148","v":0},{"$f":"Sorcadins!G$1514*('Base Numbers'!$C$5*'Base Numbers'!$C$6)-G148","v":0},{"$f":"Sorcadins!H$1514*('Base Numbers'!$C$5*'Base Numbers'!$C$6)-H148","v":0},{"$f":"Sorcadins!I$1514*('Base Numbers'!$C$5*'Base Numbers'!$C$6)-I148","v":0},{"$f":"Sorcadins!J$1514*('Base Numbers'!$C$5*'Base Numbers'!$C$6)-J148","v":0},{"$f":"Sorcadins!K$1514*('Base Numbers'!$C$5*'Base Numbers'!$C$6)-K148","v":0},{"$f":"Sorcadins!L$1514*('Base Numbers'!$C$5*'Base Numbers'!$C$6)-L148","v":0},{"$f":"Sorcadins!M$1514*('Base Numbers'!$C$5*'Base Numbers'!$C$6)-M148","v":0},{"$f":"Sorcadins!N$1514*('Base Numbers'!$C$5*'Base Numbers'!$C$6)-N148","v":0},{"$f":"Sorcadins!O$1514*('Base Numbers'!$C$5*'Base Numbers'!$C$6)-O148","v":0},{"$f":"Sorcadins!P$1514*('Base Numbers'!$C$5*'Base Numbers'!$C$6)-P148","v":0},{"$f":"Sorcadins!Q$1514*('Base Numbers'!$C$5*'Base Numbers'!$C$6)-Q148","v":0},{"$f":"Sorcadins!R$1514*('Base Numbers'!$C$5*'Base Numbers'!$C$6)-R148","v":0},{"$f":"Sorcadins!S$1514*('Base Numbers'!$C$5*'Base Numbers'!$C$6)-S148","v":0},{"$f":"Sorcadins!T$1514*('Base Numbers'!$C$5*'Base Numbers'!$C$6)-T148","v":0},{"$f":"Sorcadins!U$1514*('Base Numbers'!$C$5*'Base Numbers'!$C$6)-U148","v":0},{"$f":"Sorcadins!V$1514*('Base Numbers'!$C$5*'Base Numbers'!$C$6)-V148","v":0},{"$f":"Sorcadins!W$1514*('Base Numbers'!$C$5*'Base Numbers'!$C$6)-W148","v":0},{"$f":"Sorcadins!X$1514*('Base Numbers'!$C$5*'Base Numbers'!$C$6)-X148","v":0}]
[{"$nulls":3},"smite dice left for non-crits",{"$f":"ROUND(MAX(0,E146-E148*E150),4)","v":0},{"$f":"ROUND(MAX(0,F146-F148*F150),4)","v":0},0,0,0,0,0,0,0,0,0,0,0,0,0,0,0,0,0,0]
[{"$nulls":3},"total smite dice used on crits",{"$f":"E149*E150","v":0},{"$f":"F149*F150","v":0},0,0,0,0,0,0,0,0,0,0,0,0,0,0,0,0,0,0]
[{"$nulls":3},"total crit smite damage per day",{"$f":"9*E154","v":0},0,0,0,0,0,0,0,0,0,0,0,0,0,0,0,0,0,0,0]
[{"$nulls":3},"total non-crit smite damage per day",{"$f":"4.5*MIN(MIN(E152,E151)*E$7,E153)","v":0},{"$f":"4.5*MIN(MIN(F152,F151)*F$7,F153)","v":0},0,0,0,0,0,0,0,0,0,0,0,0,0,0,0,0,0,0]
[{"$nulls":3},"leftover sorc points + spell levels",{"$f":"IF(E146>0,IF(Sorcadins!E$323>0,(Sorcadins!E$323*E144+E143-E149*E150-E156/4.5)/Sorcadins!E$323,0),E144+E143)","v":0},{"$f":"IF(F146>0,IF(Sorcadins!F$323>0,(Sorcadins!F$323*F144+F143-F149*F150-F156/4.5)/Sorcadins!F$323,0),F144+F143)","v":0},{"$f":"IF(G146>0,IF(Sorcadins!G$323>0,(Sorcadins!G$323*G144+G143-G149*G150-G156/4.5)/Sorcadins!G$323,0),G144+G143)","v":0},{"$f":"IF(H146>0,IF(Sorcadins!H$323>0,(Sorcadins!H$323*H144+H143-H149*H150-H156/4.5)/Sorcadins!H$323,0),H144+H143)","v":0},{"$f":"IF(I146>0,IF(Sorcadins!I$323>0,(Sorcadins!I$323*I144+I143-I149*I150-I156/4.5)/Sorcadins!I$323,0),I144+I143)","v":4},{"$f":"IF(J146>0,IF(Sorcadins!J$323>0,(Sorcadins!J$323*J144+J143-J149*J150-J156/4.5)/Sorcadins!J$323,0),J144+J143)","v":4},{"$f":"IF(K146>0,IF(Sorcadins!K$323>0,(Sorcadins!K$323*K144+K143-K149*K150-K156/4.5)/Sorcadins!K$323,0),K144+K143)","v":4},{"$f":"IF(L146>0,IF(Sorcadins!L$323>0,(Sorcadins!L$323*L144+L143-L149*L150-L156/4.5)/Sorcadins!L$323,0),L144+L143)","v":4},{"$f":"IF(M146>0,IF(Sorcadins!M$323>0,(Sorcadins!M$323*M144+M143-M149*M150-M156/4.5)/Sorcadins!M$323,0),M144+M143)","v":4},{"$f":"IF(N146>0,IF(Sorcadins!N$323>0,(Sorcadins!N$323*N144+N143-N149*N150-N156/4.5)/Sorcadins!N$323,0),N144+N143)","v":4},{"$f":"IF(O146>0,IF(Sorcadins!O$323>0,(Sorcadins!O$323*O144+O143-O149*O150-O156/4.5)/Sorcadins!O$323,0),O144+O143)","v":4},{"$f":"IF(P146>0,IF(Sorcadins!P$323>0,(Sorcadins!P$323*P144+P143-P149*P150-P156/4.5)/Sorcadins!P$323,0),P144+P143)","v":4},{"$f":"IF(Q146>0,IF(Sorcadins!Q$323>0,(Sorcadins!Q$323*Q144+Q143-Q149*Q150-Q156/4.5)/Sorcadins!Q$323,0),Q144+Q143)","v":4},{"$f":"IF(R146>0,IF(Sorcadins!R$323>0,(Sorcadins!R$323*R144+R143-R149*R150-R156/4.5)/Sorcadins!R$323,0),R144+R143)","v":4},{"$f":"IF(S146>0,IF(Sorcadins!S$323>0,(Sorcadins!S$323*S144+S143-S149*S150-S156/4.5)/Sorcadins!S$323,0),S144+S143)","v":4},{"$f":"IF(T146>0,IF(Sorcadins!T$323>0,(Sorcadins!T$323*T144+T143-T149*T150-T156/4.5)/Sorcadins!T$323,0),T144+T143)","v":4},{"$f":"IF(U146>0,IF(Sorcadins!U$323>0,(Sorcadins!U$323*U144+U143-U149*U150-U156/4.5)/Sorcadins!U$323,0),U144+U143)","v":4},{"$f":"IF(V146>0,IF(Sorcadins!V$323>0,(Sorcadins!V$323*V144+V143-V149*V150-V156/4.5)/Sorcadins!V$323,0),V144+V143)","v":4},{"$f":"IF(W146>0,IF(Sorcadins!W$323>0,(Sorcadins!W$323*W144+W143-W149*W150-W156/4.5)/Sorcadins!W$323,0),W144+W143)","v":4.770831803630529},{"$f":"IF(X146>0,IF(Sorcadins!X$323>0,(Sorcadins!X$323*X144+X143-X149*X150-X156/4.5)/Sorcadins!X$323,0),X144+X143)","v":4.770831803630529}]
[{"$nulls":3},"actual smites performed",{"$f":"E149+IF(E$7>0,MIN(E151,E152,E153/E$7),0)","v":0},{"$f":"F149+IF(F$7>0,MIN(F151,F152,F153/F$7),0)","v":0},0,0,0,0,0,0,0,0,0,0,0,0,0,0,0,0,0,0]
[{"$nulls":3},"total daily smite damage: M1, B4, O3",{"$f":"E155+E156","v":0},0,0,0,0,0,0,0,0,0,0,0,0,0,0,0,0,0,0,0]
[]
[{"$nulls":3},"SMITES - M1, B5, O1/O2",1,2,3,4,5,6,7,8,9,10,11,12,13,14,15,16,17,18,19,20]
[{"$nulls":3},"remaining sorcery points (based on Damage Scenario)",{"$f":"MAX(0,Sorcadins!E$623-Sorcadins!E$1502)","v":0},{"$f":"MAX(0,Sorcadins!F$623-Sorcadins!F$1502)","v":0},{"$f":"MAX(0,Sorcadins!G$623-Sorcadins!G$1502)","v":0},{"$f":"MAX(0,Sorcadins!H$623-Sorcadins!H$1502)","v":0},{"$f":"MAX(0,Sorcadins!I$623-Sorcadins!I$1502)","v":0},{"$f":"MAX(0,Sorcadins!J$623-Sorcadins!J$1502)","v":0},{"$f":"MAX(0,Sorcadins!K$623-Sorcadins!K$1502)","v":0},{"$f":"MAX(0,Sorcadins!L$623-Sorcadins!L$1502)","v":0},{"$f":"MAX(0,Sorcadins!M$623-Sorcadins!M$1502)","v":0},{"$f":"MAX(0,Sorcadins!N$623-Sorcadins!N$1502)","v":0},{"$f":"MAX(0,Sorcadins!O$623-Sorcadins!O$1502)","v":0},{"$f":"MAX(0,Sorcadins!P$623-Sorcadins!P$1502)","v":0},{"$f":"MAX(0,Sorcadins!Q$623-Sorcadins!Q$1502)","v":0},{"$f":"MAX(0,Sorcadins!R$623-Sorcadins!R$1502)","v":0},{"$f":"MAX(0,Sorcadins!S$623-Sorcadins!S$1502)","v":0},{"$f":"MAX(0,Sorcadins!T$623-Sorcadins!T$1502)","v":0},{"$f":"MAX(0,Sorcadins!U$623-Sorcadins!U$1502)","v":0},{"$f":"MAX(0,Sorcadins!V$623-Sorcadins!V$1502)","v":0},{"$f":"MAX(0,Sorcadins!W$623-Sorcadins!W$1502)","v":0},{"$f":"MAX(0,Sorcadins!X$623-Sorcadins!X$1502)","v":0},null,"*Sorc points directly convertible to Smite Dice"]
[{"$nulls":3},"remaining spell slot levels (based on Damage Scenario)",{"$f":"MAX(0,Sorcadins!E$331-MAX(0,Sorcadins!E$1502-Sorcadins!E$623))","v":0},{"$f":"MAX(0,Sorcadins!F$331-MAX(0,Sorcadins!F$1502-Sorcadins!F$623))","v":0},{"$f":"MAX(0,Sorcadins!G$331-MAX(0,Sorcadins!G$1502-Sorcadins!G$623))","v":0},{"$f":"MAX(0,Sorcadins!H$331-MAX(0,Sorcadins!H$1502-Sorcadins!H$623))","v":0},{"$f":"MAX(0,Sorcadins!I$331-MAX(0,Sorcadins!I$1502-Sorcadins!I$623))","v":4},{"$f":"MAX(0,Sorcadins!J$331-MAX(0,Sorcadins!J$1502-Sorcadins!J$623))","v":4},{"$f":"MAX(0,Sorcadins!K$331-MAX(0,Sorcadins!K$1502-Sorcadins!K$623))","v":4},{"$f":"MAX(0,Sorcadins!L$331-MAX(0,Sorcadins!L$1502-Sorcadins!L$623))","v":4},{"$f":"MAX(0,Sorcadins!M$331-MAX(0,Sorcadins!M$1502-Sorcadins!M$623))","v":4},{"$f":"MAX(0,Sorcadins!N$331-MAX(0,Sorcadins!N$1502-Sorcadins!N$623))","v":4},{"$f":"MAX(0,Sorcadins!O$331-MAX(0,Sorcadins!O$1502-Sorcadins!O$623))","v":4},{"$f":"MAX(0,Sorcadins!P$331-MAX(0,Sorcadins!P$1502-Sorcadins!P$623))","v":4},{"$f":"MAX(0,Sorcadins!Q$331-MAX(0,Sorcadins!Q$1502-Sorcadins!Q$623))","v":4},{"$f":"MAX(0,Sorcadins!R$331-MAX(0,Sorcadins!R$1502-Sorcadins!R$623))","v":4},{"$f":"MAX(0,Sorcadins!S$331-MAX(0,Sorcadins!S$1502-Sorcadins!S$623))","v":4},{"$f":"MAX(0,Sorcadins!T$331-MAX(0,Sorcadins!T$1502-Sorcadins!T$623))","v":4},{"$f":"MAX(0,Sorcadins!U$331-MAX(0,Sorcadins!U$1502-Sorcadins!U$623))","v":4},{"$f":"MAX(0,Sorcadins!V$331-MAX(0,Sorcadins!V$1502-Sorcadins!V$623))","v":4},{"$f":"MAX(0,Sorcadins!W$331-MAX(0,Sorcadins!W$1502-Sorcadins!W$623))","v":4.770831803630529},{"$f":"MAX(0,Sorcadins!X$331-MAX(0,Sorcadins!X$1502-Sorcadins!X$623))","v":4.770831803630529}]
[{"$nulls":3},"total warlock smite levels remaining",{"$f":"MIN(Sorcadins!E$323*E163,Sorcadins!E$314)","v":0},{"$f":"MIN(Sorcadins!F$323*F163,Sorcadins!F$314)","v":0},{"$f":"MIN(Sorcadins!G$323*G163,Sorcadins!G$314)","v":0},{"$f":"MIN(Sorcadins!H$323*H163,Sorcadins!H$314)","v":0},{"$f":"MIN(Sorcadins!I$323*I163,Sorcadins!I$314)","v":0},{"$f":"MIN(Sorcadins!J$323*J163,Sorcadins!J$314)","v":0},{"$f":"MIN(Sorcadins!K$323*K163,Sorcadins!K$314)","v":0},{"$f":"MIN(Sorcadins!L$323*L163,Sorcadins!L$314)","v":0},{"$f":"MIN(Sorcadins!M$323*M163,Sorcadins!M$314)","v":0},{"$f":"MIN(Sorcadins!N$323*N163,Sorcadins!N$314)","v":0},{"$f":"MIN(Sorcadins!O$323*O163,Sorcadins!O$314)","v":0},{"$f":"MIN(Sorcadins!P$323*P163,Sorcadins!P$314)","v":0},{"$f":"MIN(Sorcadins!Q$323*Q163,Sorcadins!Q$314)","v":0},{"$f":"MIN(Sorcadins!R$323*R163,Sorcadins!R$314)","v":0},{"$f":"MIN(Sorcadins!S$323*S163,Sorcadins!S$314)","v":0},{"$f":"MIN(Sorcadins!T$323*T163,Sorcadins!T$314)","v":0},{"$f":"MIN(Sorcadins!U$323*U163,Sorcadins!U$314)","v":0},{"$f":"MIN(Sorcadins!V$323*V163,Sorcadins!V$314)","v":0},{"$f":"MIN(Sorcadins!W$323*W163,Sorcadins!W$314)","v":0},{"$f":"MIN(Sorcadins!X$323*X163,Sorcadins!X$314)","v":0}]
[{"$nulls":3},"total smite levels remaining",{"$f":"IF(E$5>=1,Sorcadins!E$323*E163+E162,IF(E$6,E164,0))","v":0},{"$f":"IF(F$5>=1,Sorcadins!F$323*F163+F162,IF(F$6,F164,0))","v":0},{"$f":"IF(G$5>=1,Sorcadins!G$323*G163+G162,IF(G$6,G164,0))","v":0},{"$f":"IF(H$5>=1,Sorcadins!H$323*H163+H162,IF(H$6,H164,0))","v":0},{"$f":"IF(I$5>=1,Sorcadins!I$323*I163+I162,IF(I$6,I164,0))","v":0},{"$f":"IF(J$5>=1,Sorcadins!J$323*J163+J162,IF(J$6,J164,0))","v":0},{"$f":"IF(K$5>=1,Sorcadins!K$323*K163+K162,IF(K$6,K164,0))","v":0},{"$f":"IF(L$5>=1,Sorcadins!L$323*L163+L162,IF(L$6,L164,0))","v":0},{"$f":"IF(M$5>=1,Sorcadins!M$323*M163+M162,IF(M$6,M164,0))","v":0},{"$f":"IF(N$5>=1,Sorcadins!N$323*N163+N162,IF(N$6,N164,0))","v":0},{"$f":"IF(O$5>=1,Sorcadins!O$323*O163+O162,IF(O$6,O164,0))","v":0},{"$f":"IF(P$5>=1,Sorcadins!P$323*P163+P162,IF(P$6,P164,0))","v":0},{"$f":"IF(Q$5>=1,Sorcadins!Q$323*Q163+Q162,IF(Q$6,Q164,0))","v":0},{"$f":"IF(R$5>=1,Sorcadins!R$323*R163+R162,IF(R$6,R164,0))","v":0},{"$f":"IF(S$5>=1,Sorcadins!S$323*S163+S162,IF(S$6,S164,0))","v":0},{"$f":"IF(T$5>=1,Sorcadins!T$323*T163+T162,IF(T$6,T164,0))","v":0},{"$f":"IF(U$5>=1,Sorcadins!U$323*U163+U162,IF(U$6,U164,0))","v":0},{"$f":"IF(V$5>=1,Sorcadins!V$323*V163+V162,IF(V$6,V164,0))","v":0},{"$f":"IF(W$5>=1,Sorcadins!W$323*W163+W162,IF(W$6,W164,0))","v":0},{"$f":"IF(X$5>=1,Sorcadins!X$323*X163+X162,IF(X$6,X164,0))","v":0}]
[{"$nulls":3},"max number of daily smites (after spells)",{"$f":"IF(E$6,Sorcadins!E$1374,IF(E$5,Sorcadins!E$332+E162/2,0))","v":0},{"$f":"IF(F$6,Sorcadins!F$1374,IF(F$5,Sorcadins!F$332+F162/2,0))","v":0},{"$f":"IF(G$6,Sorcadins!G$1374,IF(G$5,Sorcadins!G$332+G162/2,0))","v":0},{"$f":"IF(H$6,Sorcadins!H$1374,IF(H$5,Sorcadins!H$332+H162/2,0))","v":0},{"$f":"IF(I$6,Sorcadins!I$1374,IF(I$5,Sorcadins!I$332+I162/2,0))","v":0},{"$f":"IF(J$6,Sorcadins!J$1374,IF(J$5,Sorcadins!J$332+J162/2,0))","v":0},{"$f":"IF(K$6,Sorcadins!K$1374,IF(K$5,Sorcadins!K$332+K162/2,0))","v":0},{"$f":"IF(L$6,Sorcadins!L$1374,IF(L$5,Sorcadins!L$332+L162/2,0))","v":0},{"$f":"IF(M$6,Sorcadins!M$1374,IF(M$5,Sorcadins!M$332+M162/2,0))","v":0},{"$f":"IF(N$6,Sorcadins!N$1374,IF(N$5,Sorcadins!N$332+N162/2,0))","v":0},{"$f":"IF(O$6,Sorcadins!O$1374,IF(O$5,Sorcadins!O$332+O162/2,0))","v":0},{"$f":"IF(P$6,Sorcadins!P$1374,IF(P$5,Sorcadins!P$332+P162/2,0))","v":0},{"$f":"IF(Q$6,Sorcadins!Q$1374,IF(Q$5,Sorcadins!Q$332+Q162/2,0))","v":0},{"$f":"IF(R$6,Sorcadins!R$1374,IF(R$5,Sorcadins!R$332+R162/2,0))","v":0},{"$f":"IF(S$6,Sorcadins!S$1374,IF(S$5,Sorcadins!S$332+S162/2,0))","v":0},{"$f":"IF(T$6,Sorcadins!T$1374,IF(T$5,Sorcadins!T$332+T162/2,0))","v":0},{"$f":"IF(U$6,Sorcadins!U$1374,IF(U$5,Sorcadins!U$332+U162/2,0))","v":0},{"$f":"IF(V$6,Sorcadins!V$1374,IF(V$5,Sorcadins!V$332+V162/2,0))","v":0},{"$f":"IF(W$6,Sorcadins!W$1374,IF(W$5,Sorcadins!W$332+W162/2,0))","v":0},{"$f":"IF(X$6,Sorcadins!X$1374,IF(X$5,Sorcadins!X$332+X162/2,0))","v":0}]
[{"$nulls":3},"avg crits per day for smite purposes (based on Damage Scenario)",{"$f":"'Base Numbers'!$C$5*'Base Numbers'!$C$6*Sorcadins!E$1540","v":0},{"$f":"'Base Numbers'!$C$5*'Base Numbers'!$C$6*Sorcadins!F$1540","v":0},{"$f":"'Base Numbers'!$C$5*'Base Numbers'!$C$6*Sorcadins!G$1540","v":0},{"$f":"'Base Numbers'!$C$5*'Base Numbers'!$C$6*Sorcadins!H$1540","v":0},{"$f":"'Base Numbers'!$C$5*'Base Numbers'!$C$6*Sorcadins!I$1540","v":0},{"$f":"'Base Numbers'!$C$5*'Base Numbers'!$C$6*Sorcadins!J$1540","v":0},{"$f":"'Base Numbers'!$C$5*'Base Numbers'!$C$6*Sorcadins!K$1540","v":0},{"$f":"'Base Numbers'!$C$5*'Base Numbers'!$C$6*Sorcadins!L$1540","v":0},{"$f":"'Base Numbers'!$C$5*'Base Numbers'!$C$6*Sorcadins!M$1540","v":0},{"$f":"'Base Numbers'!$C$5*'Base Numbers'!$C$6*Sorcadins!N$1540","v":0},{"$f":"'Base Numbers'!$C$5*'Base Numbers'!$C$6*Sorcadins!O$1540","v":0},{"$f":"'Base Numbers'!$C$5*'Base Numbers'!$C$6*Sorcadins!P$1540","v":0},{"$f":"'Base Numbers'!$C$5*'Base Numbers'!$C$6*Sorcadins!Q$1540","v":0},{"$f":"'Base Numbers'!$C$5*'Base Numbers'!$C$6*Sorcadins!R$1540","v":0},{"$f":"'Base Numbers'!$C$5*'Base Numbers'!$C$6*Sorcadins!S$1540","v":0},{"$f":"'Base Numbers'!$C$5*'Base Numbers'!$C$6*Sorcadins!T$1540","v":0},{"$f":"'Base Numbers'!$C$5*'Base Numbers'!$C$6*Sorcadins!U$1540","v":0},{"$f":"'Base Numbers'!$C$5*'Base Numbers'!$C$6*Sorcadins!V$1540","v":0},{"$f":"'Base Numbers'!$C$5*'Base Numbers'!$C$6*Sorcadins!W$1540","v":0},{"$f":"'Base Numbers'!$C$5*'Base Numbers'!$C$6*Sorcadins!X$1540","v":0}]
[{"$nulls":3},"number of smites used on crits",{"$f":"MIN(E166,E167)","v":0},{"$f":"MIN(F166,F167)","v":0},0,0,0,0,0,0,0,0,0,0,0,0,0,0,0,0,0,0]
[{"$nulls":3},"avg smite dice per crit ",{"$f":"IF(E168>0,MIN(E$7,(E165/MIN(E168,E167))),0)","v":0},0,0,0,0,0,0,0,0,0,0,0,0,0,0,0,0,0,0,0]
[{"$nulls":3},"smites left for non-crits",{"$f":"E166-E168","v":0},{"$f":"F166-F168","v":0},0,0,0,0,0,0,0,0,0,0,0,0,0,0,0,0,0,0]
[{"$nulls":3},"total non-crit smite-qualifying attacks available",{"$f":"Sorcadins!E$1515*('Base Numbers'!$C$5*'Base Numbers'!$C$6)-E167","v":0},{"$f":"Sorcadins!F$1515*('Base Numbers'!$C$5*'Base Numbers'!$C$6)-F167","v":0},{"$f":"Sorcadins!G$1515*('Base Numbers'!$C$5*'Base Numbers'!$C$6)-G167","v":0},{"$f":"Sorcadins!H$1515*('Base Numbers'!$C$5*'Base Numbers'!$C$6)-H167","v":0},{"$f":"Sorcadins!I$1515*('Base Numbers'!$C$5*'Base Numbers'!$C$6)-I167","v":0},{"$f":"Sorcadins!J$1515*('Base Numbers'!$C$5*'Base Numbers'!$C$6)-J167","v":0},{"$f":"Sorcadins!K$1515*('Base Numbers'!$C$5*'Base Numbers'!$C$6)-K167","v":0},{"$f":"Sorcadins!L$1515*('Base Numbers'!$C$5*'Base Numbers'!$C$6)-L167","v":0},{"$f":"Sorcadins!M$1515*('Base Numbers'!$C$5*'Base Numbers'!$C$6)-M167","v":0},{"$f":"Sorcadins!N$1515*('Base Numbers'!$C$5*'Base Numbers'!$C$6)-N167","v":0},{"$f":"Sorcadins!O$1515*('Base Numbers'!$C$5*'Base Numbers'!$C$6)-O167","v":0},{"$f":"Sorcadins!P$1515*('Base Numbers'!$C$5*'Base Numbers'!$C$6)-P167","v":0},{"$f":"Sorcadins!Q$1515*('Base Numbers'!$C$5*'Base Numbers'!$C$6)-Q167","v":0},{"$f":"Sorcadins!R$1515*('Base Numbers'!$C$5*'Base Numbers'!$C$6)-R167","v":0},{"$f":"Sorcadins!S$1515*('Base Numbers'!$C$5*'Base Numbers'!$C$6)-S167","v":0},{"$f":"Sorcadins!T$1515*('Base Numbers'!$C$5*'Base Numbers'!$C$6)-T167","v":0},{"$f":"Sorcadins!U$1515*('Base Numbers'!$C$5*'Base Numbers'!$C$6)-U167","v":0},{"$f":"Sorcadins!V$1515*('Base Numbers'!$C$5*'Base Numbers'!$C$6)-V167","v":0},{"$f":"Sorcadins!W$1515*('Base Numbers'!$C$5*'Base Numbers'!$C$6)-W167","v":0},{"$f":"Sorcadins!X$1515*('Base Numbers'!$C$5*'Base Numbers'!$C$6)-X167","v":0}]
[{"$nulls":3},"smite dice left for non-crits",{"$f":"ROUND(MAX(0,E165-E167*E169),4)","v":0},{"$f":"ROUND(MAX(0,F165-F167*F169),4)","v":0},0,0,0,0,0,0,0,0,0,0,0,0,0,0,0,0,0,0]
[{"$nulls":3},"total smite dice used on crits",{"$f":"E168*E169","v":0},{"$f":"F168*F169","v":0},0,0,0,0,0,0,0,0,0,0,0,0,0,0,0,0,0,0]
[{"$nulls":3},"total crit smite damage per day",{"$f":"9*E173","v":0},{"$f":"9*F173","v":0},0,0,0,0,0,0,0,0,0,0,0,0,0,0,0,0,0,0]
[{"$nulls":3},"total non-crit smite damage per day",{"$f":"4.5*MIN(MIN(E171,E170)*E$7,E172)","v":0},{"$f":"4.5*MIN(MIN(F171,F170)*F$7,F172)","v":0},0,0,0,0,0,0,0,0,0,0,0,0,0,0,0,0,0,0]
[{"$nulls":3},"leftover sorc points + spell levels",{"$f":"IF(E165>0,IF(Sorcadins!E$323>0,(Sorcadins!E$323*E163+E162-E168*E169-E175/4.5)/Sorcadins!E$323,0),E163+E162)","v":0},{"$f":"IF(F165>0,IF(Sorcadins!F$323>0,(Sorcadins!F$323*F163+F162-F168*F169-F175/4.5)/Sorcadins!F$323,0),F163+F162)","v":0},{"$f":"IF(G165>0,IF(Sorcadins!G$323>0,(Sorcadins!G$323*G163+G162-G168*G169-G175/4.5)/Sorcadins!G$323,0),G163+G162)","v":0},{"$f":"IF(H165>0,IF(Sorcadins!H$323>0,(Sorcadins!H$323*H163+H162-H168*H169-H175/4.5)/Sorcadins!H$323,0),H163+H162)","v":0},{"$f":"IF(I165>0,IF(Sorcadins!I$323>0,(Sorcadins!I$323*I163+I162-I168*I169-I175/4.5)/Sorcadins!I$323,0),I163+I162)","v":4},{"$f":"IF(J165>0,IF(Sorcadins!J$323>0,(Sorcadins!J$323*J163+J162-J168*J169-J175/4.5)/Sorcadins!J$323,0),J163+J162)","v":4},{"$f":"IF(K165>0,IF(Sorcadins!K$323>0,(Sorcadins!K$323*K163+K162-K168*K169-K175/4.5)/Sorcadins!K$323,0),K163+K162)","v":4},{"$f":"IF(L165>0,IF(Sorcadins!L$323>0,(Sorcadins!L$323*L163+L162-L168*L169-L175/4.5)/Sorcadins!L$323,0),L163+L162)","v":4},{"$f":"IF(M165>0,IF(Sorcadins!M$323>0,(Sorcadins!M$323*M163+M162-M168*M169-M175/4.5)/Sorcadins!M$323,0),M163+M162)","v":4},{"$f":"IF(N165>0,IF(Sorcadins!N$323>0,(Sorcadins!N$323*N163+N162-N168*N169-N175/4.5)/Sorcadins!N$323,0),N163+N162)","v":4},{"$f":"IF(O165>0,IF(Sorcadins!O$323>0,(Sorcadins!O$323*O163+O162-O168*O169-O175/4.5)/Sorcadins!O$323,0),O163+O162)","v":4},{"$f":"IF(P165>0,IF(Sorcadins!P$323>0,(Sorcadins!P$323*P163+P162-P168*P169-P175/4.5)/Sorcadins!P$323,0),P163+P162)","v":4},{"$f":"IF(Q165>0,IF(Sorcadins!Q$323>0,(Sorcadins!Q$323*Q163+Q162-Q168*Q169-Q175/4.5)/Sorcadins!Q$323,0),Q163+Q162)","v":4},{"$f":"IF(R165>0,IF(Sorcadins!R$323>0,(Sorcadins!R$323*R163+R162-R168*R169-R175/4.5)/Sorcadins!R$323,0),R163+R162)","v":4},{"$f":"IF(S165>0,IF(Sorcadins!S$323>0,(Sorcadins!S$323*S163+S162-S168*S169-S175/4.5)/Sorcadins!S$323,0),S163+S162)","v":4},{"$f":"IF(T165>0,IF(Sorcadins!T$323>0,(Sorcadins!T$323*T163+T162-T168*T169-T175/4.5)/Sorcadins!T$323,0),T163+T162)","v":4},{"$f":"IF(U165>0,IF(Sorcadins!U$323>0,(Sorcadins!U$323*U163+U162-U168*U169-U175/4.5)/Sorcadins!U$323,0),U163+U162)","v":4},{"$f":"IF(V165>0,IF(Sorcadins!V$323>0,(Sorcadins!V$323*V163+V162-V168*V169-V175/4.5)/Sorcadins!V$323,0),V163+V162)","v":4},{"$f":"IF(W165>0,IF(Sorcadins!W$323>0,(Sorcadins!W$323*W163+W162-W168*W169-W175/4.5)/Sorcadins!W$323,0),W163+W162)","v":4.770831803630529},{"$f":"IF(X165>0,IF(Sorcadins!X$323>0,(Sorcadins!X$323*X163+X162-X168*X169-X175/4.5)/Sorcadins!X$323,0),X163+X162)","v":4.770831803630529}]
[{"$nulls":3},"actual smites performed",{"$f":"E168+IF(E$7>0,MIN(E170,E171,E172/E$7),0)","v":0},{"$f":"F168+IF(F$7>0,MIN(F170,F171,F172/F$7),0)","v":0},0,0,0,0,0,0,0,0,0,0,0,0,0,0,0,0,0,0]
[{"$nulls":3},"total daily smite damage: M1, B5, O1/O2",{"$f":"E174+E175","v":0},{"$f":"F174+F175","v":0},0,0,0,0,0,0,0,0,0,0,0,0,0,0,0,0,0,0]
[]
[{"$nulls":3},"SMITES - M1, B5, O3",1,2,3,4,5,6,7,8,9,10,11,12,13,14,15,16,17,18,19,20]
[{"$nulls":3},"remaining sorcery points (based on Damage Scenario)",{"$f":"MAX(0,Sorcadins!E$623-Sorcadins!E$1502)","v":0},{"$f":"MAX(0,Sorcadins!F$623-Sorcadins!F$1502)","v":0},{"$f":"MAX(0,Sorcadins!G$623-Sorcadins!G$1502)","v":0},{"$f":"MAX(0,Sorcadins!H$623-Sorcadins!H$1502)","v":0},{"$f":"MAX(0,Sorcadins!I$623-Sorcadins!I$1502)","v":0},{"$f":"MAX(0,Sorcadins!J$623-Sorcadins!J$1502)","v":0},{"$f":"MAX(0,Sorcadins!K$623-Sorcadins!K$1502)","v":0},{"$f":"MAX(0,Sorcadins!L$623-Sorcadins!L$1502)","v":0},{"$f":"MAX(0,Sorcadins!M$623-Sorcadins!M$1502)","v":0},{"$f":"MAX(0,Sorcadins!N$623-Sorcadins!N$1502)","v":0},{"$f":"MAX(0,Sorcadins!O$623-Sorcadins!O$1502)","v":0},{"$f":"MAX(0,Sorcadins!P$623-Sorcadins!P$1502)","v":0},{"$f":"MAX(0,Sorcadins!Q$623-Sorcadins!Q$1502)","v":0},{"$f":"MAX(0,Sorcadins!R$623-Sorcadins!R$1502)","v":0},{"$f":"MAX(0,Sorcadins!S$623-Sorcadins!S$1502)","v":0},{"$f":"MAX(0,Sorcadins!T$623-Sorcadins!T$1502)","v":0},{"$f":"MAX(0,Sorcadins!U$623-Sorcadins!U$1502)","v":0},{"$f":"MAX(0,Sorcadins!V$623-Sorcadins!V$1502)","v":0},{"$f":"MAX(0,Sorcadins!W$623-Sorcadins!W$1502)","v":0},{"$f":"MAX(0,Sorcadins!X$623-Sorcadins!X$1502)","v":0},null,"*Sorc points directly convertible to Smite Dice"]
[{"$nulls":3},"remaining spell slot levels (based on Damage Scenario)",{"$f":"MAX(0,Sorcadins!E$331-MAX(0,Sorcadins!E$1502-Sorcadins!E$623))","v":0},{"$f":"MAX(0,Sorcadins!F$331-MAX(0,Sorcadins!F$1502-Sorcadins!F$623))","v":0},{"$f":"MAX(0,Sorcadins!G$331-MAX(0,Sorcadins!G$1502-Sorcadins!G$623))","v":0},{"$f":"MAX(0,Sorcadins!H$331-MAX(0,Sorcadins!H$1502-Sorcadins!H$623))","v":0},{"$f":"MAX(0,Sorcadins!I$331-MAX(0,Sorcadins!I$1502-Sorcadins!I$623))","v":4},{"$f":"MAX(0,Sorcadins!J$331-MAX(0,Sorcadins!J$1502-Sorcadins!J$623))","v":4},{"$f":"MAX(0,Sorcadins!K$331-MAX(0,Sorcadins!K$1502-Sorcadins!K$623))","v":4},{"$f":"MAX(0,Sorcadins!L$331-MAX(0,Sorcadins!L$1502-Sorcadins!L$623))","v":4},{"$f":"MAX(0,Sorcadins!M$331-MAX(0,Sorcadins!M$1502-Sorcadins!M$623))","v":4},{"$f":"MAX(0,Sorcadins!N$331-MAX(0,Sorcadins!N$1502-Sorcadins!N$623))","v":4},{"$f":"MAX(0,Sorcadins!O$331-MAX(0,Sorcadins!O$1502-Sorcadins!O$623))","v":4},{"$f":"MAX(0,Sorcadins!P$331-MAX(0,Sorcadins!P$1502-Sorcadins!P$623))","v":4},{"$f":"MAX(0,Sorcadins!Q$331-MAX(0,Sorcadins!Q$1502-Sorcadins!Q$623))","v":4},{"$f":"MAX(0,Sorcadins!R$331-MAX(0,Sorcadins!R$1502-Sorcadins!R$623))","v":4},{"$f":"MAX(0,Sorcadins!S$331-MAX(0,Sorcadins!S$1502-Sorcadins!S$623))","v":4},{"$f":"MAX(0,Sorcadins!T$331-MAX(0,Sorcadins!T$1502-Sorcadins!T$623))","v":4},{"$f":"MAX(0,Sorcadins!U$331-MAX(0,Sorcadins!U$1502-Sorcadins!U$623))","v":4},{"$f":"MAX(0,Sorcadins!V$331-MAX(0,Sorcadins!V$1502-Sorcadins!V$623))","v":4},{"$f":"MAX(0,Sorcadins!W$331-MAX(0,Sorcadins!W$1502-Sorcadins!W$623))","v":4.770831803630529},{"$f":"MAX(0,Sorcadins!X$331-MAX(0,Sorcadins!X$1502-Sorcadins!X$623))","v":4.770831803630529}]
[{"$nulls":3},"total warlock smite levels remaining",{"$f":"MIN(Sorcadins!E$323*E182,Sorcadins!E$314)","v":0},{"$f":"MIN(Sorcadins!F$323*F182,Sorcadins!F$314)","v":0},{"$f":"MIN(Sorcadins!G$323*G182,Sorcadins!G$314)","v":0},{"$f":"MIN(Sorcadins!H$323*H182,Sorcadins!H$314)","v":0},{"$f":"MIN(Sorcadins!I$323*I182,Sorcadins!I$314)","v":0},{"$f":"MIN(Sorcadins!J$323*J182,Sorcadins!J$314)","v":0},{"$f":"MIN(Sorcadins!K$323*K182,Sorcadins!K$314)","v":0},{"$f":"MIN(Sorcadins!L$323*L182,Sorcadins!L$314)","v":0},{"$f":"MIN(Sorcadins!M$323*M182,Sorcadins!M$314)","v":0},{"$f":"MIN(Sorcadins!N$323*N182,Sorcadins!N$314)","v":0},{"$f":"MIN(Sorcadins!O$323*O182,Sorcadins!O$314)","v":0},{"$f":"MIN(Sorcadins!P$323*P182,Sorcadins!P$314)","v":0},{"$f":"MIN(Sorcadins!Q$323*Q182,Sorcadins!Q$314)","v":0},{"$f":"MIN(Sorcadins!R$323*R182,Sorcadins!R$314)","v":0},{"$f":"MIN(Sorcadins!S$323*S182,Sorcadins!S$314)","v":0},{"$f":"MIN(Sorcadins!T$323*T182,Sorcadins!T$314)","v":0},{"$f":"MIN(Sorcadins!U$323*U182,Sorcadins!U$314)","v":0},{"$f":"MIN(Sorcadins!V$323*V182,Sorcadins!V$314)","v":0},{"$f":"MIN(Sorcadins!W$323*W182,Sorcadins!W$314)","v":0},{"$f":"MIN(Sorcadins!X$323*X182,Sorcadins!X$314)","v":0}]
[{"$nulls":3},"total smite levels remaining",{"$f":"IF(E$5>=1,Sorcadins!E$323*E182+E181,IF(E$6,E183,0))","v":0},{"$f":"IF(F$5>=1,Sorcadins!F$323*F182+F181,IF(F$6,F183,0))","v":0},{"$f":"IF(G$5>=1,Sorcadins!G$323*G182+G181,IF(G$6,G183,0))","v":0},{"$f":"IF(H$5>=1,Sorcadins!H$323*H182+H181,IF(H$6,H183,0))","v":0},{"$f":"IF(I$5>=1,Sorcadins!I$323*I182+I181,IF(I$6,I183,0))","v":0},{"$f":"IF(J$5>=1,Sorcadins!J$323*J182+J181,IF(J$6,J183,0))","v":0},{"$f":"IF(K$5>=1,Sorcadins!K$323*K182+K181,IF(K$6,K183,0))","v":0},{"$f":"IF(L$5>=1,Sorcadins!L$323*L182+L181,IF(L$6,L183,0))","v":0},{"$f":"IF(M$5>=1,Sorcadins!M$323*M182+M181,IF(M$6,M183,0))","v":0},{"$f":"IF(N$5>=1,Sorcadins!N$323*N182+N181,IF(N$6,N183,0))","v":0},{"$f":"IF(O$5>=1,Sorcadins!O$323*O182+O181,IF(O$6,O183,0))","v":0},{"$f":"IF(P$5>=1,Sorcadins!P$323*P182+P181,IF(P$6,P183,0))","v":0},{"$f":"IF(Q$5>=1,Sorcadins!Q$323*Q182+Q181,IF(Q$6,Q183,0))","v":0},{"$f":"IF(R$5>=1,Sorcadins!R$323*R182+R181,IF(R$6,R183,0))","v":0},{"$f":"IF(S$5>=1,Sorcadins!S$323*S182+S181,IF(S$6,S183,0))","v":0},{"$f":"IF(T$5>=1,Sorcadins!T$323*T182+T181,IF(T$6,T183,0))","v":0},{"$f":"IF(U$5>=1,Sorcadins!U$323*U182+U181,IF(U$6,U183,0))","v":0},{"$f":"IF(V$5>=1,Sorcadins!V$323*V182+V181,IF(V$6,V183,0))","v":0},{"$f":"IF(W$5>=1,Sorcadins!W$323*W182+W181,IF(W$6,W183,0))","v":0},{"$f":"IF(X$5>=1,Sorcadins!X$323*X182+X181,IF(X$6,X183,0))","v":0}]
[{"$nulls":3},"max number of daily smites (after spells)",{"$f":"IF(E$6,Sorcadins!E$1374,IF(E$5,Sorcadins!E$332+E181/2,0))","v":0},{"$f":"IF(F$6,Sorcadins!F$1374,IF(F$5,Sorcadins!F$332+F181/2,0))","v":0},{"$f":"IF(G$6,Sorcadins!G$1374,IF(G$5,Sorcadins!G$332+G181/2,0))","v":0},{"$f":"IF(H$6,Sorcadins!H$1374,IF(H$5,Sorcadins!H$332+H181/2,0))","v":0},{"$f":"IF(I$6,Sorcadins!I$1374,IF(I$5,Sorcadins!I$332+I181/2,0))","v":0},{"$f":"IF(J$6,Sorcadins!J$1374,IF(J$5,Sorcadins!J$332+J181/2,0))","v":0},{"$f":"IF(K$6,Sorcadins!K$1374,IF(K$5,Sorcadins!K$332+K181/2,0))","v":0},{"$f":"IF(L$6,Sorcadins!L$1374,IF(L$5,Sorcadins!L$332+L181/2,0))","v":0},{"$f":"IF(M$6,Sorcadins!M$1374,IF(M$5,Sorcadins!M$332+M181/2,0))","v":0},{"$f":"IF(N$6,Sorcadins!N$1374,IF(N$5,Sorcadins!N$332+N181/2,0))","v":0},{"$f":"IF(O$6,Sorcadins!O$1374,IF(O$5,Sorcadins!O$332+O181/2,0))","v":0},{"$f":"IF(P$6,Sorcadins!P$1374,IF(P$5,Sorcadins!P$332+P181/2,0))","v":0},{"$f":"IF(Q$6,Sorcadins!Q$1374,IF(Q$5,Sorcadins!Q$332+Q181/2,0))","v":0},{"$f":"IF(R$6,Sorcadins!R$1374,IF(R$5,Sorcadins!R$332+R181/2,0))","v":0},{"$f":"IF(S$6,Sorcadins!S$1374,IF(S$5,Sorcadins!S$332+S181/2,0))","v":0},{"$f":"IF(T$6,Sorcadins!T$1374,IF(T$5,Sorcadins!T$332+T181/2,0))","v":0},{"$f":"IF(U$6,Sorcadins!U$1374,IF(U$5,Sorcadins!U$332+U181/2,0))","v":0},{"$f":"IF(V$6,Sorcadins!V$1374,IF(V$5,Sorcadins!V$332+V181/2,0))","v":0},{"$f":"IF(W$6,Sorcadins!W$1374,IF(W$5,Sorcadins!W$332+W181/2,0))","v":0},{"$f":"IF(X$6,Sorcadins!X$1374,IF(X$5,Sorcadins!X$332+X181/2,0))","v":0}]
[{"$nulls":3},"avg crits per day for smite purposes (based on Damage Scenario)",{"$f":"'Base Numbers'!$C$5*'Base Numbers'!$C$6*Sorcadins!E$1541","v":0},{"$f":"'Base Numbers'!$C$5*'Base Numbers'!$C$6*Sorcadins!F$1541","v":0},{"$f":"'Base Numbers'!$C$5*'Base Numbers'!$C$6*Sorcadins!G$1541","v":0},{"$f":"'Base Numbers'!$C$5*'Base Numbers'!$C$6*Sorcadins!H$1541","v":0},{"$f":"'Base Numbers'!$C$5*'Base Numbers'!$C$6*Sorcadins!I$1541","v":0},{"$f":"'Base Numbers'!$C$5*'Base Numbers'!$C$6*Sorcadins!J$1541","v":0},{"$f":"'Base Numbers'!$C$5*'Base Numbers'!$C$6*Sorcadins!K$1541","v":0},{"$f":"'Base Numbers'!$C$5*'Base Numbers'!$C$6*Sorcadins!L$1541","v":0},{"$f":"'Base Numbers'!$C$5*'Base Numbers'!$C$6*Sorcadins!M$1541","v":0},{"$f":"'Base Numbers'!$C$5*'Base Numbers'!$C$6*Sorcadins!N$1541","v":0},{"$f":"'Base Numbers'!$C$5*'Base Numbers'!$C$6*Sorcadins!O$1541","v":0},{"$f":"'Base Numbers'!$C$5*'Base Numbers'!$C$6*Sorcadins!P$1541","v":0},{"$f":"'Base Numbers'!$C$5*'Base Numbers'!$C$6*Sorcadins!Q$1541","v":0},{"$f":"'Base Numbers'!$C$5*'Base Numbers'!$C$6*Sorcadins!R$1541","v":0},{"$f":"'Base Numbers'!$C$5*'Base Numbers'!$C$6*Sorcadins!S$1541","v":0},{"$f":"'Base Numbers'!$C$5*'Base Numbers'!$C$6*Sorcadins!T$1541","v":0},{"$f":"'Base Numbers'!$C$5*'Base Numbers'!$C$6*Sorcadins!U$1541","v":0},{"$f":"'Base Numbers'!$C$5*'Base Numbers'!$C$6*Sorcadins!V$1541","v":0},{"$f":"'Base Numbers'!$C$5*'Base Numbers'!$C$6*Sorcadins!W$1541","v":0},{"$f":"'Base Numbers'!$C$5*'Base Numbers'!$C$6*Sorcadins!X$1541","v":0}]
[{"$nulls":3},"number of smites used on crits",{"$f":"MIN(E185,E186)","v":0},{"$f":"MIN(F185,F186)","v":0},0,0,0,0,0,0,0,0,0,0,0,0,0,0,0,0,0,0]
[{"$nulls":3},"avg smite dice per crit ",{"$f":"IF(E187>0,MIN(E$7,(E184/MIN(E187,E186))),0)","v":0},0,0,0,0,0,0,0,0,0,0,0,0,0,0,0,0,0,0,0]
[{"$nulls":3},"smites left for non-crits",{"$f":"E185-E187","v":0},{"$f":"F185-F187","v":0},0,0,0,0,0,0,0,0,0,0,0,0,0,0,0,0,0,0]
[{"$nulls":3},"total non-crit smite-qualifying attacks available",{"$f":"Sorcadins!E$1516*('Base Numbers'!$C$5*'Base Numbers'!$C$6)-E186","v":0},{"$f":"Sorcadins!F$1516*('Base Numbers'!$C$5*'Base Numbers'!$C$6)-F186","v":0},{"$f":"Sorcadins!G$1516*('Base Numbers'!$C$5*'Base Numbers'!$C$6)-G186","v":0},{"$f":"Sorcadins!H$1516*('Base Numbers'!$C$5*'Base Numbers'!$C$6)-H186","v":0},{"$f":"Sorcadins!I$1516*('Base Numbers'!$C$5*'Base Numbers'!$C$6)-I186","v":0},{"$f":"Sorcadins!J$1516*('Base Numbers'!$C$5*'Base Numbers'!$C$6)-J186","v":0},{"$f":"Sorcadins!K$1516*('Base Numbers'!$C$5*'Base Numbers'!$C$6)-K186","v":0},{"$f":"Sorcadins!L$1516*('Base Numbers'!$C$5*'Base Numbers'!$C$6)-L186","v":0},{"$f":"Sorcadins!M$1516*('Base Numbers'!$C$5*'Base Numbers'!$C$6)-M186","v":0},{"$f":"Sorcadins!N$1516*('Base Numbers'!$C$5*'Base Numbers'!$C$6)-N186","v":0},{"$f":"Sorcadins!O$1516*('Base Numbers'!$C$5*'Base Numbers'!$C$6)-O186","v":0},{"$f":"Sorcadins!P$1516*('Base Numbers'!$C$5*'Base Numbers'!$C$6)-P186","v":0},{"$f":"Sorcadins!Q$1516*('Base Numbers'!$C$5*'Base Numbers'!$C$6)-Q186","v":0},{"$f":"Sorcadins!R$1516*('Base Numbers'!$C$5*'Base Numbers'!$C$6)-R186","v":0},{"$f":"Sorcadins!S$1516*('Base Numbers'!$C$5*'Base Numbers'!$C$6)-S186","v":0},{"$f":"Sorcadins!T$1516*('Base Numbers'!$C$5*'Base Numbers'!$C$6)-T186","v":0},{"$f":"Sorcadins!U$1516*('Base Numbers'!$C$5*'Base Numbers'!$C$6)-U186","v":0},{"$f":"Sorcadins!V$1516*('Base Numbers'!$C$5*'Base Numbers'!$C$6)-V186","v":0},{"$f":"Sorcadins!W$1516*('Base Numbers'!$C$5*'Base Numbers'!$C$6)-W186","v":0},{"$f":"Sorcadins!X$1516*('Base Numbers'!$C$5*'Base Numbers'!$C$6)-X186","v":0}]
[{"$nulls":3},"smite dice left for non-crits",{"$f":"ROUND(MAX(0,E184-E186*E188),4)","v":0},{"$f":"ROUND(MAX(0,F184-F186*F188),4)","v":0},0,0,0,0,0,0,0,0,0,0,0,0,0,0,0,0,0,0]
[{"$nulls":3},"total smite dice used on crits",{"$f":"E187*E188","v":0},{"$f":"F187*F188","v":0},0,0,0,0,0,0,0,0,0,0,0,0,0,0,0,0,0,0]
[{"$nulls":3},"total crit smite damage per day",{"$f":"9*E192","v":0},{"$f":"9*F192","v":0},0,0,0,0,0,0,0,0,0,0,0,0,0,0,0,0,0,0]
[{"$nulls":3},"total non-crit smite damage per day",{"$f":"4.5*MIN(MIN(E190,E189)*E$7,E191)","v":0},{"$f":"4.5*MIN(MIN(F190,F189)*F$7,F191)","v":0},0,0,0,0,0,0,0,0,0,0,0,0,0,0,0,0,0,0]
[{"$nulls":3},"leftover sorc points + spell levels",{"$f":"IF(E184>0,IF(Sorcadins!E$323>0,(Sorcadins!E$323*E182+E181-E187*E188-E194/4.5)/Sorcadins!E$323,0),E182+E181)","v":0},{"$f":"IF(F184>0,IF(Sorcadins!F$323>0,(Sorcadins!F$323*F182+F181-F187*F188-F194/4.5)/Sorcadins!F$323,0),F182+F181)","v":0},{"$f":"IF(G184>0,IF(Sorcadins!G$323>0,(Sorcadins!G$323*G182+G181-G187*G188-G194/4.5)/Sorcadins!G$323,0),G182+G181)","v":0},{"$f":"IF(H184>0,IF(Sorcadins!H$323>0,(Sorcadins!H$323*H182+H181-H187*H188-H194/4.5)/Sorcadins!H$323,0),H182+H181)","v":0},{"$f":"IF(I184>0,IF(Sorcadins!I$323>0,(Sorcadins!I$323*I182+I181-I187*I188-I194/4.5)/Sorcadins!I$323,0),I182+I181)","v":4},{"$f":"IF(J184>0,IF(Sorcadins!J$323>0,(Sorcadins!J$323*J182+J181-J187*J188-J194/4.5)/Sorcadins!J$323,0),J182+J181)","v":4},{"$f":"IF(K184>0,IF(Sorcadins!K$323>0,(Sorcadins!K$323*K182+K181-K187*K188-K194/4.5)/Sorcadins!K$323,0),K182+K181)","v":4},{"$f":"IF(L184>0,IF(Sorcadins!L$323>0,(Sorcadins!L$323*L182+L181-L187*L188-L194/4.5)/Sorcadins!L$323,0),L182+L181)","v":4},{"$f":"IF(M184>0,IF(Sorcadins!M$323>0,(Sorcadins!M$323*M182+M181-M187*M188-M194/4.5)/Sorcadins!M$323,0),M182+M181)","v":4},{"$f":"IF(N184>0,IF(Sorcadins!N$323>0,(Sorcadins!N$323*N182+N181-N187*N188-N194/4.5)/Sorcadins!N$323,0),N182+N181)","v":4},{"$f":"IF(O184>0,IF(Sorcadins!O$323>0,(Sorcadins!O$323*O182+O181-O187*O188-O194/4.5)/Sorcadins!O$323,0),O182+O181)","v":4},{"$f":"IF(P184>0,IF(Sorcadins!P$323>0,(Sorcadins!P$323*P182+P181-P187*P188-P194/4.5)/Sorcadins!P$323,0),P182+P181)","v":4},{"$f":"IF(Q184>0,IF(Sorcadins!Q$323>0,(Sorcadins!Q$323*Q182+Q181-Q187*Q188-Q194/4.5)/Sorcadins!Q$323,0),Q182+Q181)","v":4},{"$f":"IF(R184>0,IF(Sorcadins!R$323>0,(Sorcadins!R$323*R182+R181-R187*R188-R194/4.5)/Sorcadins!R$323,0),R182+R181)","v":4},{"$f":"IF(S184>0,IF(Sorcadins!S$323>0,(Sorcadins!S$323*S182+S181-S187*S188-S194/4.5)/Sorcadins!S$323,0),S182+S181)","v":4},{"$f":"IF(T184>0,IF(Sorcadins!T$323>0,(Sorcadins!T$323*T182+T181-T187*T188-T194/4.5)/Sorcadins!T$323,0),T182+T181)","v":4},{"$f":"IF(U184>0,IF(Sorcadins!U$323>0,(Sorcadins!U$323*U182+U181-U187*U188-U194/4.5)/Sorcadins!U$323,0),U182+U181)","v":4},{"$f":"IF(V184>0,IF(Sorcadins!V$323>0,(Sorcadins!V$323*V182+V181-V187*V188-V194/4.5)/Sorcadins!V$323,0),V182+V181)","v":4},{"$f":"IF(W184>0,IF(Sorcadins!W$323>0,(Sorcadins!W$323*W182+W181-W187*W188-W194/4.5)/Sorcadins!W$323,0),W182+W181)","v":4.770831803630529},{"$f":"IF(X184>0,IF(Sorcadins!X$323>0,(Sorcadins!X$323*X182+X181-X187*X188-X194/4.5)/Sorcadins!X$323,0),X182+X181)","v":4.770831803630529}]
[{"$nulls":3},"actual smites performed",{"$f":"E187+IF(E$7>0,MIN(E189,E190,E191/E$7),0)","v":0},{"$f":"F187+IF(F$7>0,MIN(F189,F190,F191/F$7),0)","v":0},0,0,0,0,0,0,0,0,0,0,0,0,0,0,0,0,0,0]
[{"$nulls":3},"total daily smite damage: M1, B5, O3",{"$f":"E193+E194","v":0},{"$f":"F193+F194","v":0},0,0,0,0,0,0,0,0,0,0,0,0,0,0,0,0,0,0]
[]
[{"$nulls":3},"SMITES - M2, B6, O1/O2",1,2,3,4,5,6,7,8,9,10,11,12,13,14,15,16,17,18,19,20]
[{"$nulls":3},"remaining sorcery points (based on Damage Scenario)",{"$f":"MAX(0,Sorcadins!E$623-Sorcadins!E$1502)","v":0},{"$f":"MAX(0,Sorcadins!F$623-Sorcadins!F$1502)","v":0},{"$f":"MAX(0,Sorcadins!G$623-Sorcadins!G$1502)","v":0},{"$f":"MAX(0,Sorcadins!H$623-Sorcadins!H$1502)","v":0},{"$f":"MAX(0,Sorcadins!I$623-Sorcadins!I$1502)","v":0},{"$f":"MAX(0,Sorcadins!J$623-Sorcadins!J$1502)","v":0},{"$f":"MAX(0,Sorcadins!K$623-Sorcadins!K$1502)","v":0},{"$f":"MAX(0,Sorcadins!L$623-Sorcadins!L$1502)","v":0},{"$f":"MAX(0,Sorcadins!M$623-Sorcadins!M$1502)","v":0},{"$f":"MAX(0,Sorcadins!N$623-Sorcadins!N$1502)","v":0},{"$f":"MAX(0,Sorcadins!O$623-Sorcadins!O$1502)","v":0},{"$f":"MAX(0,Sorcadins!P$623-Sorcadins!P$1502)","v":0},{"$f":"MAX(0,Sorcadins!Q$623-Sorcadins!Q$1502)","v":0},{"$f":"MAX(0,Sorcadins!R$623-Sorcadins!R$1502)","v":0},{"$f":"MAX(0,Sorcadins!S$623-Sorcadins!S$1502)","v":0},{"$f":"MAX(0,Sorcadins!T$623-Sorcadins!T$1502)","v":0},{"$f":"MAX(0,Sorcadins!U$623-Sorcadins!U$1502)","v":0},{"$f":"MAX(0,Sorcadins!V$623-Sorcadins!V$1502)","v":0},{"$f":"MAX(0,Sorcadins!W$623-Sorcadins!W$1502)","v":0},{"$f":"MAX(0,Sorcadins!X$623-Sorcadins!X$1502)","v":0},null,"*Sorc points directly convertible to Smite Dice"]
[{"$nulls":3},"remaining spell slot levels (based on Damage Scenario)",{"$f":"MAX(0,Sorcadins!E$331-MAX(0,Sorcadins!E$1502-Sorcadins!E$623))","v":0},{"$f":"MAX(0,Sorcadins!F$331-MAX(0,Sorcadins!F$1502-Sorcadins!F$623))","v":0},{"$f":"MAX(0,Sorcadins!G$331-MAX(0,Sorcadins!G$1502-Sorcadins!G$623))","v":0},{"$f":"MAX(0,Sorcadins!H$331-MAX(0,Sorcadins!H$1502-Sorcadins!H$623))","v":0},{"$f":"MAX(0,Sorcadins!I$331-MAX(0,Sorcadins!I$1502-Sorcadins!I$623))","v":4},{"$f":"MAX(0,Sorcadins!J$331-MAX(0,Sorcadins!J$1502-Sorcadins!J$623))","v":4},{"$f":"MAX(0,Sorcadins!K$331-MAX(0,Sorcadins!K$1502-Sorcadins!K$623))","v":4},{"$f":"MAX(0,Sorcadins!L$331-MAX(0,Sorcadins!L$1502-Sorcadins!L$623))","v":4},{"$f":"MAX(0,Sorcadins!M$331-MAX(0,Sorcadins!M$1502-Sorcadins!M$623))","v":4},{"$f":"MAX(0,Sorcadins!N$331-MAX(0,Sorcadins!N$1502-Sorcadins!N$623))","v":4},{"$f":"MAX(0,Sorcadins!O$331-MAX(0,Sorcadins!O$1502-Sorcadins!O$623))","v":4},{"$f":"MAX(0,Sorcadins!P$331-MAX(0,Sorcadins!P$1502-Sorcadins!P$623))","v":4},{"$f":"MAX(0,Sorcadins!Q$331-MAX(0,Sorcadins!Q$1502-Sorcadins!Q$623))","v":4},{"$f":"MAX(0,Sorcadins!R$331-MAX(0,Sorcadins!R$1502-Sorcadins!R$623))","v":4},{"$f":"MAX(0,Sorcadins!S$331-MAX(0,Sorcadins!S$1502-Sorcadins!S$623))","v":4},{"$f":"MAX(0,Sorcadins!T$331-MAX(0,Sorcadins!T$1502-Sorcadins!T$623))","v":4},{"$f":"MAX(0,Sorcadins!U$331-MAX(0,Sorcadins!U$1502-Sorcadins!U$623))","v":4},{"$f":"MAX(0,Sorcadins!V$331-MAX(0,Sorcadins!V$1502-Sorcadins!V$623))","v":4},{"$f":"MAX(0,Sorcadins!W$331-MAX(0,Sorcadins!W$1502-Sorcadins!W$623))","v":4.770831803630529},{"$f":"MAX(0,Sorcadins!X$331-MAX(0,Sorcadins!X$1502-Sorcadins!X$623))","v":4.770831803630529}]
[{"$nulls":3},"total warlock smite levels remaining",{"$f":"MIN(Sorcadins!E$323*E201,Sorcadins!E$314)","v":0},{"$f":"MIN(Sorcadins!F$323*F201,Sorcadins!F$314)","v":0},{"$f":"MIN(Sorcadins!G$323*G201,Sorcadins!G$314)","v":0},{"$f":"MIN(Sorcadins!H$323*H201,Sorcadins!H$314)","v":0},{"$f":"MIN(Sorcadins!I$323*I201,Sorcadins!I$314)","v":0},{"$f":"MIN(Sorcadins!J$323*J201,Sorcadins!J$314)","v":0},{"$f":"MIN(Sorcadins!K$323*K201,Sorcadins!K$314)","v":0},{"$f":"MIN(Sorcadins!L$323*L201,Sorcadins!L$314)","v":0},{"$f":"MIN(Sorcadins!M$323*M201,Sorcadins!M$314)","v":0},{"$f":"MIN(Sorcadins!N$323*N201,Sorcadins!N$314)","v":0},{"$f":"MIN(Sorcadins!O$323*O201,Sorcadins!O$314)","v":0},{"$f":"MIN(Sorcadins!P$323*P201,Sorcadins!P$314)","v":0},{"$f":"MIN(Sorcadins!Q$323*Q201,Sorcadins!Q$314)","v":0},{"$f":"MIN(Sorcadins!R$323*R201,Sorcadins!R$314)","v":0},{"$f":"MIN(Sorcadins!S$323*S201,Sorcadins!S$314)","v":0},{"$f":"MIN(Sorcadins!T$323*T201,Sorcadins!T$314)","v":0},{"$f":"MIN(Sorcadins!U$323*U201,Sorcadins!U$314)","v":0},{"$f":"MIN(Sorcadins!V$323*V201,Sorcadins!V$314)","v":0},{"$f":"MIN(Sorcadins!W$323*W201,Sorcadins!W$314)","v":0},{"$f":"MIN(Sorcadins!X$323*X201,Sorcadins!X$314)","v":0}]
[{"$nulls":3},"total smite levels remaining",{"$f":"IF(E$5>=1,Sorcadins!E$323*E201+E200,IF(E$6,E202,0))","v":0},{"$f":"IF(F$5>=1,Sorcadins!F$323*F201+F200,IF(F$6,F202,0))","v":0},{"$f":"IF(G$5>=1,Sorcadins!G$323*G201+G200,IF(G$6,G202,0))","v":0},{"$f":"IF(H$5>=1,Sorcadins!H$323*H201+H200,IF(H$6,H202,0))","v":0},{"$f":"IF(I$5>=1,Sorcadins!I$323*I201+I200,IF(I$6,I202,0))","v":0},{"$f":"IF(J$5>=1,Sorcadins!J$323*J201+J200,IF(J$6,J202,0))","v":0},{"$f":"IF(K$5>=1,Sorcadins!K$323*K201+K200,IF(K$6,K202,0))","v":0},{"$f":"IF(L$5>=1,Sorcadins!L$323*L201+L200,IF(L$6,L202,0))","v":0},{"$f":"IF(M$5>=1,Sorcadins!M$323*M201+M200,IF(M$6,M202,0))","v":0},{"$f":"IF(N$5>=1,Sorcadins!N$323*N201+N200,IF(N$6,N202,0))","v":0},{"$f":"IF(O$5>=1,Sorcadins!O$323*O201+O200,IF(O$6,O202,0))","v":0},{"$f":"IF(P$5>=1,Sorcadins!P$323*P201+P200,IF(P$6,P202,0))","v":0},{"$f":"IF(Q$5>=1,Sorcadins!Q$323*Q201+Q200,IF(Q$6,Q202,0))","v":0},{"$f":"IF(R$5>=1,Sorcadins!R$323*R201+R200,IF(R$6,R202,0))","v":0},{"$f":"IF(S$5>=1,Sorcadins!S$323*S201+S200,IF(S$6,S202,0))","v":0},{"$f":"IF(T$5>=1,Sorcadins!T$323*T201+T200,IF(T$6,T202,0))","v":0},{"$f":"IF(U$5>=1,Sorcadins!U$323*U201+U200,IF(U$6,U202,0))","v":0},{"$f":"IF(V$5>=1,Sorcadins!V$323*V201+V200,IF(V$6,V202,0))","v":0},{"$f":"IF(W$5>=1,Sorcadins!W$323*W201+W200,IF(W$6,W202,0))","v":0},{"$f":"IF(X$5>=1,Sorcadins!X$323*X201+X200,IF(X$6,X202,0))","v":0}]
[{"$nulls":3},"max number of daily smites (after spells)",{"$f":"IF(E$6,Sorcadins!E$1374,IF(E$5,Sorcadins!E$332+E200/2,0))","v":0},{"$f":"IF(F$6,Sorcadins!F$1374,IF(F$5,Sorcadins!F$332+F200/2,0))","v":0},{"$f":"IF(G$6,Sorcadins!G$1374,IF(G$5,Sorcadins!G$332+G200/2,0))","v":0},{"$f":"IF(H$6,Sorcadins!H$1374,IF(H$5,Sorcadins!H$332+H200/2,0))","v":0},{"$f":"IF(I$6,Sorcadins!I$1374,IF(I$5,Sorcadins!I$332+I200/2,0))","v":0},{"$f":"IF(J$6,Sorcadins!J$1374,IF(J$5,Sorcadins!J$332+J200/2,0))","v":0},{"$f":"IF(K$6,Sorcadins!K$1374,IF(K$5,Sorcadins!K$332+K200/2,0))","v":0},{"$f":"IF(L$6,Sorcadins!L$1374,IF(L$5,Sorcadins!L$332+L200/2,0))","v":0},{"$f":"IF(M$6,Sorcadins!M$1374,IF(M$5,Sorcadins!M$332+M200/2,0))","v":0},{"$f":"IF(N$6,Sorcadins!N$1374,IF(N$5,Sorcadins!N$332+N200/2,0))","v":0},{"$f":"IF(O$6,Sorcadins!O$1374,IF(O$5,Sorcadins!O$332+O200/2,0))","v":0},{"$f":"IF(P$6,Sorcadins!P$1374,IF(P$5,Sorcadins!P$332+P200/2,0))","v":0},{"$f":"IF(Q$6,Sorcadins!Q$1374,IF(Q$5,Sorcadins!Q$332+Q200/2,0))","v":0},{"$f":"IF(R$6,Sorcadins!R$1374,IF(R$5,Sorcadins!R$332+R200/2,0))","v":0},{"$f":"IF(S$6,Sorcadins!S$1374,IF(S$5,Sorcadins!S$332+S200/2,0))","v":0},{"$f":"IF(T$6,Sorcadins!T$1374,IF(T$5,Sorcadins!T$332+T200/2,0))","v":0},{"$f":"IF(U$6,Sorcadins!U$1374,IF(U$5,Sorcadins!U$332+U200/2,0))","v":0},{"$f":"IF(V$6,Sorcadins!V$1374,IF(V$5,Sorcadins!V$332+V200/2,0))","v":0},{"$f":"IF(W$6,Sorcadins!W$1374,IF(W$5,Sorcadins!W$332+W200/2,0))","v":0},{"$f":"IF(X$6,Sorcadins!X$1374,IF(X$5,Sorcadins!X$332+X200/2,0))","v":0}]
[{"$nulls":3},"avg crits per day for smite purposes (based on Damage Scenario)",{"$f":"'Base Numbers'!$C$5*'Base Numbers'!$C$6*Sorcadins!E$1542","v":0},{"$f":"'Base Numbers'!$C$5*'Base Numbers'!$C$6*Sorcadins!F$1542","v":0},{"$f":"'Base Numbers'!$C$5*'Base Numbers'!$C$6*Sorcadins!G$1542","v":0},{"$f":"'Base Numbers'!$C$5*'Base Numbers'!$C$6*Sorcadins!H$1542","v":0},{"$f":"'Base Numbers'!$C$5*'Base Numbers'!$C$6*Sorcadins!I$1542","v":0},{"$f":"'Base Numbers'!$C$5*'Base Numbers'!$C$6*Sorcadins!J$1542","v":0},{"$f":"'Base Numbers'!$C$5*'Base Numbers'!$C$6*Sorcadins!K$1542","v":0},{"$f":"'Base Numbers'!$C$5*'Base Numbers'!$C$6*Sorcadins!L$1542","v":0},{"$f":"'Base Numbers'!$C$5*'Base Numbers'!$C$6*Sorcadins!M$1542","v":0},{"$f":"'Base Numbers'!$C$5*'Base Numbers'!$C$6*Sorcadins!N$1542","v":0},{"$f":"'Base Numbers'!$C$5*'Base Numbers'!$C$6*Sorcadins!O$1542","v":0},{"$f":"'Base Numbers'!$C$5*'Base Numbers'!$C$6*Sorcadins!P$1542","v":0},{"$f":"'Base Numbers'!$C$5*'Base Numbers'!$C$6*Sorcadins!Q$1542","v":0},{"$f":"'Base Numbers'!$C$5*'Base Numbers'!$C$6*Sorcadins!R$1542","v":0},{"$f":"'Base Numbers'!$C$5*'Base Numbers'!$C$6*Sorcadins!S$1542","v":0},{"$f":"'Base Numbers'!$C$5*'Base Numbers'!$C$6*Sorcadins!T$1542","v":0},{"$f":"'Base Numbers'!$C$5*'Base Numbers'!$C$6*Sorcadins!U$1542","v":0},{"$f":"'Base Numbers'!$C$5*'Base Numbers'!$C$6*Sorcadins!V$1542","v":0},{"$f":"'Base Numbers'!$C$5*'Base Numbers'!$C$6*Sorcadins!W$1542","v":0},{"$f":"'Base Numbers'!$C$5*'Base Numbers'!$C$6*Sorcadins!X$1542","v":0}]
[{"$nulls":3},"number of smites used on crits",{"$f":"MIN(E204,E205)","v":0},{"$f":"MIN(F204,F205)","v":0},0,0,0,0,0,0,0,0,0,0,0,0,0,0,0,0,0,0]
[{"$nulls":3},"avg smite dice per crit ",{"$f":"IF(E206>0,MIN(E$7,(E203/MIN(E206,E205))),0)","v":0},0,0,0,0,0,0,0,0,0,0,0,0,0,0,0,0,0,0,0]
[{"$nulls":3},"smites left for non-crits",{"$f":"E204-E206","v":0},0,0,0,0,0,0,0,0,0,0,0,0,0,0,0,0,0,0,0]
[{"$nulls":3},"total non-crit smite-qualifying attacks available",{"$f":"Sorcadins!E$1517*('Base Numbers'!$C$5*'Base Numbers'!$C$6)-E205","v":0},{"$f":"Sorcadins!F$1517*('Base Numbers'!$C$5*'Base Numbers'!$C$6)-F205","v":0},{"$f":"Sorcadins!G$1517*('Base Numbers'!$C$5*'Base Numbers'!$C$6)-G205","v":0},{"$f":"Sorcadins!H$1517*('Base Numbers'!$C$5*'Base Numbers'!$C$6)-H205","v":0},{"$f":"Sorcadins!I$1517*('Base Numbers'!$C$5*'Base Numbers'!$C$6)-I205","v":0},{"$f":"Sorcadins!J$1517*('Base Numbers'!$C$5*'Base Numbers'!$C$6)-J205","v":0},{"$f":"Sorcadins!K$1517*('Base Numbers'!$C$5*'Base Numbers'!$C$6)-K205","v":0},{"$f":"Sorcadins!L$1517*('Base Numbers'!$C$5*'Base Numbers'!$C$6)-L205","v":0},{"$f":"Sorcadins!M$1517*('Base Numbers'!$C$5*'Base Numbers'!$C$6)-M205","v":0},{"$f":"Sorcadins!N$1517*('Base Numbers'!$C$5*'Base Numbers'!$C$6)-N205","v":0},{"$f":"Sorcadins!O$1517*('Base Numbers'!$C$5*'Base Numbers'!$C$6)-O205","v":0},{"$f":"Sorcadins!P$1517*('Base Numbers'!$C$5*'Base Numbers'!$C$6)-P205","v":0},{"$f":"Sorcadins!Q$1517*('Base Numbers'!$C$5*'Base Numbers'!$C$6)-Q205","v":0},{"$f":"Sorcadins!R$1517*('Base Numbers'!$C$5*'Base Numbers'!$C$6)-R205","v":0},{"$f":"Sorcadins!S$1517*('Base Numbers'!$C$5*'Base Numbers'!$C$6)-S205","v":0},{"$f":"Sorcadins!T$1517*('Base Numbers'!$C$5*'Base Numbers'!$C$6)-T205","v":0},{"$f":"Sorcadins!U$1517*('Base Numbers'!$C$5*'Base Numbers'!$C$6)-U205","v":0},{"$f":"Sorcadins!V$1517*('Base Numbers'!$C$5*'Base Numbers'!$C$6)-V205","v":0},{"$f":"Sorcadins!W$1517*('Base Numbers'!$C$5*'Base Numbers'!$C$6)-W205","v":0},{"$f":"Sorcadins!X$1517*('Base Numbers'!$C$5*'Base Numbers'!$C$6)-X205","v":0}]
[{"$nulls":3},"smite dice left for non-crits",{"$f":"ROUND(MAX(0,E203-E205*E207),4)","v":0},{"$f":"ROUND(MAX(0,F203-F205*F207),4)","v":0},0,0,0,0,0,0,0,0,0,0,0,0,0,0,0,0,0,0]
[{"$nulls":3},"total smite dice used on crits",{"$f":"E206*E207","v":0},0,0,0,0,0,0,0,0,0,0,0,0,0,0,0,0,0,0,0]
[{"$nulls":3},"total crit smite damage per day",{"$f":"9*E211","v":0},{"$f":"9*F211","v":0},0,0,0,0,0,0,0,0,0,0,0,0,0,0,0,0,0,0]
[{"$nulls":3},"total non-crit smite damage per day",{"$f":"4.5*MIN(MIN(E209,E208)*E$7,E210)","v":0},{"$f":"4.5*MIN(MIN(F209,F208)*F$7,F210)","v":0},0,0,0,0,0,0,0,0,0,0,0,0,0,0,0,0,0,0]
[{"$nulls":3},"leftover sorc points + spell levels",{"$f":"IF(E203>0,IF(Sorcadins!E$323>0,(Sorcadins!E$323*E201+E200-E206*E207-E213/4.5)/Sorcadins!E$323,0),E201+E200)","v":0},{"$f":"IF(F203>0,IF(Sorcadins!F$323>0,(Sorcadins!F$323*F201+F200-F206*F207-F213/4.5)/Sorcadins!F$323,0),F201+F200)","v":0},{"$f":"IF(G203>0,IF(Sorcadins!G$323>0,(Sorcadins!G$323*G201+G200-G206*G207-G213/4.5)/Sorcadins!G$323,0),G201+G200)","v":0},{"$f":"IF(H203>0,IF(Sorcadins!H$323>0,(Sorcadins!H$323*H201+H200-H206*H207-H213/4.5)/Sorcadins!H$323,0),H201+H200)","v":0},{"$f":"IF(I203>0,IF(Sorcadins!I$323>0,(Sorcadins!I$323*I201+I200-I206*I207-I213/4.5)/Sorcadins!I$323,0),I201+I200)","v":4},{"$f":"IF(J203>0,IF(Sorcadins!J$323>0,(Sorcadins!J$323*J201+J200-J206*J207-J213/4.5)/Sorcadins!J$323,0),J201+J200)","v":4},{"$f":"IF(K203>0,IF(Sorcadins!K$323>0,(Sorcadins!K$323*K201+K200-K206*K207-K213/4.5)/Sorcadins!K$323,0),K201+K200)","v":4},{"$f":"IF(L203>0,IF(Sorcadins!L$323>0,(Sorcadins!L$323*L201+L200-L206*L207-L213/4.5)/Sorcadins!L$323,0),L201+L200)","v":4},{"$f":"IF(M203>0,IF(Sorcadins!M$323>0,(Sorcadins!M$323*M201+M200-M206*M207-M213/4.5)/Sorcadins!M$323,0),M201+M200)","v":4},{"$f":"IF(N203>0,IF(Sorcadins!N$323>0,(Sorcadins!N$323*N201+N200-N206*N207-N213/4.5)/Sorcadins!N$323,0),N201+N200)","v":4},{"$f":"IF(O203>0,IF(Sorcadins!O$323>0,(Sorcadins!O$323*O201+O200-O206*O207-O213/4.5)/Sorcadins!O$323,0),O201+O200)","v":4},{"$f":"IF(P203>0,IF(Sorcadins!P$323>0,(Sorcadins!P$323*P201+P200-P206*P207-P213/4.5)/Sorcadins!P$323,0),P201+P200)","v":4},{"$f":"IF(Q203>0,IF(Sorcadins!Q$323>0,(Sorcadins!Q$323*Q201+Q200-Q206*Q207-Q213/4.5)/Sorcadins!Q$323,0),Q201+Q200)","v":4},{"$f":"IF(R203>0,IF(Sorcadins!R$323>0,(Sorcadins!R$323*R201+R200-R206*R207-R213/4.5)/Sorcadins!R$323,0),R201+R200)","v":4},{"$f":"IF(S203>0,IF(Sorcadins!S$323>0,(Sorcadins!S$323*S201+S200-S206*S207-S213/4.5)/Sorcadins!S$323,0),S201+S200)","v":4},{"$f":"IF(T203>0,IF(Sorcadins!T$323>0,(Sorcadins!T$323*T201+T200-T206*T207-T213/4.5)/Sorcadins!T$323,0),T201+T200)","v":4},{"$f":"IF(U203>0,IF(Sorcadins!U$323>0,(Sorcadins!U$323*U201+U200-U206*U207-U213/4.5)/Sorcadins!U$323,0),U201+U200)","v":4},{"$f":"IF(V203>0,IF(Sorcadins!V$323>0,(Sorcadins!V$323*V201+V200-V206*V207-V213/4.5)/Sorcadins!V$323,0),V201+V200)","v":4},{"$f":"IF(W203>0,IF(Sorcadins!W$323>0,(Sorcadins!W$323*W201+W200-W206*W207-W213/4.5)/Sorcadins!W$323,0),W201+W200)","v":4.770831803630529},{"$f":"IF(X203>0,IF(Sorcadins!X$323>0,(Sorcadins!X$323*X201+X200-X206*X207-X213/4.5)/Sorcadins!X$323,0),X201+X200)","v":4.770831803630529}]
[{"$nulls":3},"actual smites performed",{"$f":"E206+IF(E$7>0,MIN(E208,E209,E210/E$7),0)","v":0},{"$f":"F206+IF(F$7>0,MIN(F208,F209,F210/F$7),0)","v":0},0,0,0,0,0,0,0,0,0,0,0,0,0,0,0,0,0,0]
[{"$nulls":3},"total daily smite damage: M2, B6, O1/O2",{"$f":"E212+E213","v":0},{"$f":"F212+F213","v":0},0,0,0,0,0,0,0,0,0,0,0,0,0,0,0,0,0,0]
[]
[{"$nulls":3},"SMITES -M2, B6, O3",1,2,3,4,5,6,7,8,9,10,11,12,13,14,15,16,17,18,19,20]
[{"$nulls":3},"remaining sorcery points (based on Damage Scenario)",{"$f":"MAX(0,Sorcadins!E$623-Sorcadins!E$1502)","v":0},{"$f":"MAX(0,Sorcadins!F$623-Sorcadins!F$1502)","v":0},{"$f":"MAX(0,Sorcadins!G$623-Sorcadins!G$1502)","v":0},{"$f":"MAX(0,Sorcadins!H$623-Sorcadins!H$1502)","v":0},{"$f":"MAX(0,Sorcadins!I$623-Sorcadins!I$1502)","v":0},{"$f":"MAX(0,Sorcadins!J$623-Sorcadins!J$1502)","v":0},{"$f":"MAX(0,Sorcadins!K$623-Sorcadins!K$1502)","v":0},{"$f":"MAX(0,Sorcadins!L$623-Sorcadins!L$1502)","v":0},{"$f":"MAX(0,Sorcadins!M$623-Sorcadins!M$1502)","v":0},{"$f":"MAX(0,Sorcadins!N$623-Sorcadins!N$1502)","v":0},{"$f":"MAX(0,Sorcadins!O$623-Sorcadins!O$1502)","v":0},{"$f":"MAX(0,Sorcadins!P$623-Sorcadins!P$1502)","v":0},{"$f":"MAX(0,Sorcadins!Q$623-Sorcadins!Q$1502)","v":0},{"$f":"MAX(0,Sorcadins!R$623-Sorcadins!R$1502)","v":0},{"$f":"MAX(0,Sorcadins!S$623-Sorcadins!S$1502)","v":0},{"$f":"MAX(0,Sorcadins!T$623-Sorcadins!T$1502)","v":0},{"$f":"MAX(0,Sorcadins!U$623-Sorcadins!U$1502)","v":0},{"$f":"MAX(0,Sorcadins!V$623-Sorcadins!V$1502)","v":0},{"$f":"MAX(0,Sorcadins!W$623-Sorcadins!W$1502)","v":0},{"$f":"MAX(0,Sorcadins!X$623-Sorcadins!X$1502)","v":0},null,"*Sorc points directly convertible to Smite Dice"]
[{"$nulls":3},"remaining spell slot levels (based on Damage Scenario)",{"$f":"MAX(0,Sorcadins!E$331-MAX(0,Sorcadins!E$1502-Sorcadins!E$623))","v":0},{"$f":"MAX(0,Sorcadins!F$331-MAX(0,Sorcadins!F$1502-Sorcadins!F$623))","v":0},{"$f":"MAX(0,Sorcadins!G$331-MAX(0,Sorcadins!G$1502-Sorcadins!G$623))","v":0},{"$f":"MAX(0,Sorcadins!H$331-MAX(0,Sorcadins!H$1502-Sorcadins!H$623))","v":0},{"$f":"MAX(0,Sorcadins!I$331-MAX(0,Sorcadins!I$1502-Sorcadins!I$623))","v":4},{"$f":"MAX(0,Sorcadins!J$331-MAX(0,Sorcadins!J$1502-Sorcadins!J$623))","v":4},{"$f":"MAX(0,Sorcadins!K$331-MAX(0,Sorcadins!K$1502-Sorcadins!K$623))","v":4},{"$f":"MAX(0,Sorcadins!L$331-MAX(0,Sorcadins!L$1502-Sorcadins!L$623))","v":4},{"$f":"MAX(0,Sorcadins!M$331-MAX(0,Sorcadins!M$1502-Sorcadins!M$623))","v":4},{"$f":"MAX(0,Sorcadins!N$331-MAX(0,Sorcadins!N$1502-Sorcadins!N$623))","v":4},{"$f":"MAX(0,Sorcadins!O$331-MAX(0,Sorcadins!O$1502-Sorcadins!O$623))","v":4},{"$f":"MAX(0,Sorcadins!P$331-MAX(0,Sorcadins!P$1502-Sorcadins!P$623))","v":4},{"$f":"MAX(0,Sorcadins!Q$331-MAX(0,Sorcadins!Q$1502-Sorcadins!Q$623))","v":4},{"$f":"MAX(0,Sorcadins!R$331-MAX(0,Sorcadins!R$1502-Sorcadins!R$623))","v":4},{"$f":"MAX(0,Sorcadins!S$331-MAX(0,Sorcadins!S$1502-Sorcadins!S$623))","v":4},{"$f":"MAX(0,Sorcadins!T$331-MAX(0,Sorcadins!T$1502-Sorcadins!T$623))","v":4},{"$f":"MAX(0,Sorcadins!U$331-MAX(0,Sorcadins!U$1502-Sorcadins!U$623))","v":4},{"$f":"MAX(0,Sorcadins!V$331-MAX(0,Sorcadins!V$1502-Sorcadins!V$623))","v":4},{"$f":"MAX(0,Sorcadins!W$331-MAX(0,Sorcadins!W$1502-Sorcadins!W$623))","v":4.770831803630529},{"$f":"MAX(0,Sorcadins!X$331-MAX(0,Sorcadins!X$1502-Sorcadins!X$623))","v":4.770831803630529}]
[{"$nulls":3},"total warlock smite levels remaining",{"$f":"MIN(Sorcadins!E$323*E220,Sorcadins!E$314)","v":0},{"$f":"MIN(Sorcadins!F$323*F220,Sorcadins!F$314)","v":0},{"$f":"MIN(Sorcadins!G$323*G220,Sorcadins!G$314)","v":0},{"$f":"MIN(Sorcadins!H$323*H220,Sorcadins!H$314)","v":0},{"$f":"MIN(Sorcadins!I$323*I220,Sorcadins!I$314)","v":0},{"$f":"MIN(Sorcadins!J$323*J220,Sorcadins!J$314)","v":0},{"$f":"MIN(Sorcadins!K$323*K220,Sorcadins!K$314)","v":0},{"$f":"MIN(Sorcadins!L$323*L220,Sorcadins!L$314)","v":0},{"$f":"MIN(Sorcadins!M$323*M220,Sorcadins!M$314)","v":0},{"$f":"MIN(Sorcadins!N$323*N220,Sorcadins!N$314)","v":0},{"$f":"MIN(Sorcadins!O$323*O220,Sorcadins!O$314)","v":0},{"$f":"MIN(Sorcadins!P$323*P220,Sorcadins!P$314)","v":0},{"$f":"MIN(Sorcadins!Q$323*Q220,Sorcadins!Q$314)","v":0},{"$f":"MIN(Sorcadins!R$323*R220,Sorcadins!R$314)","v":0},{"$f":"MIN(Sorcadins!S$323*S220,Sorcadins!S$314)","v":0},{"$f":"MIN(Sorcadins!T$323*T220,Sorcadins!T$314)","v":0},{"$f":"MIN(Sorcadins!U$323*U220,Sorcadins!U$314)","v":0},{"$f":"MIN(Sorcadins!V$323*V220,Sorcadins!V$314)","v":0},{"$f":"MIN(Sorcadins!W$323*W220,Sorcadins!W$314)","v":0},{"$f":"MIN(Sorcadins!X$323*X220,Sorcadins!X$314)","v":0}]
[{"$nulls":3},"total smite levels remaining",{"$f":"IF(E$5>=1,Sorcadins!E$323*E220+E219,IF(E$6,E221,0))","v":0},{"$f":"IF(F$5>=1,Sorcadins!F$323*F220+F219,IF(F$6,F221,0))","v":0},{"$f":"IF(G$5>=1,Sorcadins!G$323*G220+G219,IF(G$6,G221,0))","v":0},{"$f":"IF(H$5>=1,Sorcadins!H$323*H220+H219,IF(H$6,H221,0))","v":0},{"$f":"IF(I$5>=1,Sorcadins!I$323*I220+I219,IF(I$6,I221,0))","v":0},{"$f":"IF(J$5>=1,Sorcadins!J$323*J220+J219,IF(J$6,J221,0))","v":0},{"$f":"IF(K$5>=1,Sorcadins!K$323*K220+K219,IF(K$6,K221,0))","v":0},{"$f":"IF(L$5>=1,Sorcadins!L$323*L220+L219,IF(L$6,L221,0))","v":0},{"$f":"IF(M$5>=1,Sorcadins!M$323*M220+M219,IF(M$6,M221,0))","v":0},{"$f":"IF(N$5>=1,Sorcadins!N$323*N220+N219,IF(N$6,N221,0))","v":0},{"$f":"IF(O$5>=1,Sorcadins!O$323*O220+O219,IF(O$6,O221,0))","v":0},{"$f":"IF(P$5>=1,Sorcadins!P$323*P220+P219,IF(P$6,P221,0))","v":0},{"$f":"IF(Q$5>=1,Sorcadins!Q$323*Q220+Q219,IF(Q$6,Q221,0))","v":0},{"$f":"IF(R$5>=1,Sorcadins!R$323*R220+R219,IF(R$6,R221,0))","v":0},{"$f":"IF(S$5>=1,Sorcadins!S$323*S220+S219,IF(S$6,S221,0))","v":0},{"$f":"IF(T$5>=1,Sorcadins!T$323*T220+T219,IF(T$6,T221,0))","v":0},{"$f":"IF(U$5>=1,Sorcadins!U$323*U220+U219,IF(U$6,U221,0))","v":0},{"$f":"IF(V$5>=1,Sorcadins!V$323*V220+V219,IF(V$6,V221,0))","v":0},{"$f":"IF(W$5>=1,Sorcadins!W$323*W220+W219,IF(W$6,W221,0))","v":0},{"$f":"IF(X$5>=1,Sorcadins!X$323*X220+X219,IF(X$6,X221,0))","v":0}]
[{"$nulls":3},"max number of daily smites (after spells)",{"$f":"IF(E$6,Sorcadins!E$1374,IF(E$5,Sorcadins!E$332+E219/2,0))","v":0},{"$f":"IF(F$6,Sorcadins!F$1374,IF(F$5,Sorcadins!F$332+F219/2,0))","v":0},{"$f":"IF(G$6,Sorcadins!G$1374,IF(G$5,Sorcadins!G$332+G219/2,0))","v":0},{"$f":"IF(H$6,Sorcadins!H$1374,IF(H$5,Sorcadins!H$332+H219/2,0))","v":0},{"$f":"IF(I$6,Sorcadins!I$1374,IF(I$5,Sorcadins!I$332+I219/2,0))","v":0},{"$f":"IF(J$6,Sorcadins!J$1374,IF(J$5,Sorcadins!J$332+J219/2,0))","v":0},{"$f":"IF(K$6,Sorcadins!K$1374,IF(K$5,Sorcadins!K$332+K219/2,0))","v":0},{"$f":"IF(L$6,Sorcadins!L$1374,IF(L$5,Sorcadins!L$332+L219/2,0))","v":0},{"$f":"IF(M$6,Sorcadins!M$1374,IF(M$5,Sorcadins!M$332+M219/2,0))","v":0},{"$f":"IF(N$6,Sorcadins!N$1374,IF(N$5,Sorcadins!N$332+N219/2,0))","v":0},{"$f":"IF(O$6,Sorcadins!O$1374,IF(O$5,Sorcadins!O$332+O219/2,0))","v":0},{"$f":"IF(P$6,Sorcadins!P$1374,IF(P$5,Sorcadins!P$332+P219/2,0))","v":0},{"$f":"IF(Q$6,Sorcadins!Q$1374,IF(Q$5,Sorcadins!Q$332+Q219/2,0))","v":0},{"$f":"IF(R$6,Sorcadins!R$1374,IF(R$5,Sorcadins!R$332+R219/2,0))","v":0},{"$f":"IF(S$6,Sorcadins!S$1374,IF(S$5,Sorcadins!S$332+S219/2,0))","v":0},{"$f":"IF(T$6,Sorcadins!T$1374,IF(T$5,Sorcadins!T$332+T219/2,0))","v":0},{"$f":"IF(U$6,Sorcadins!U$1374,IF(U$5,Sorcadins!U$332+U219/2,0))","v":0},{"$f":"IF(V$6,Sorcadins!V$1374,IF(V$5,Sorcadins!V$332+V219/2,0))","v":0},{"$f":"IF(W$6,Sorcadins!W$1374,IF(W$5,Sorcadins!W$332+W219/2,0))","v":0},{"$f":"IF(X$6,Sorcadins!X$1374,IF(X$5,Sorcadins!X$332+X219/2,0))","v":0}]
[{"$nulls":3},"avg crits per day for smite purposes (based on Damage Scenario)",{"$f":"'Base Numbers'!$C$5*'Base Numbers'!$C$6*Sorcadins!E$1543","v":0},{"$f":"'Base Numbers'!$C$5*'Base Numbers'!$C$6*Sorcadins!F$1543","v":0},{"$f":"'Base Numbers'!$C$5*'Base Numbers'!$C$6*Sorcadins!G$1543","v":0},{"$f":"'Base Numbers'!$C$5*'Base Numbers'!$C$6*Sorcadins!H$1543","v":0},{"$f":"'Base Numbers'!$C$5*'Base Numbers'!$C$6*Sorcadins!I$1543","v":0},{"$f":"'Base Numbers'!$C$5*'Base Numbers'!$C$6*Sorcadins!J$1543","v":0},{"$f":"'Base Numbers'!$C$5*'Base Numbers'!$C$6*Sorcadins!K$1543","v":0},{"$f":"'Base Numbers'!$C$5*'Base Numbers'!$C$6*Sorcadins!L$1543","v":0},{"$f":"'Base Numbers'!$C$5*'Base Numbers'!$C$6*Sorcadins!M$1543","v":0},{"$f":"'Base Numbers'!$C$5*'Base Numbers'!$C$6*Sorcadins!N$1543","v":0},{"$f":"'Base Numbers'!$C$5*'Base Numbers'!$C$6*Sorcadins!O$1543","v":0},{"$f":"'Base Numbers'!$C$5*'Base Numbers'!$C$6*Sorcadins!P$1543","v":0},{"$f":"'Base Numbers'!$C$5*'Base Numbers'!$C$6*Sorcadins!Q$1543","v":0},{"$f":"'Base Numbers'!$C$5*'Base Numbers'!$C$6*Sorcadins!R$1543","v":0},{"$f":"'Base Numbers'!$C$5*'Base Numbers'!$C$6*Sorcadins!S$1543","v":0},{"$f":"'Base Numbers'!$C$5*'Base Numbers'!$C$6*Sorcadins!T$1543","v":0},{"$f":"'Base Numbers'!$C$5*'Base Numbers'!$C$6*Sorcadins!U$1543","v":0},{"$f":"'Base Numbers'!$C$5*'Base Numbers'!$C$6*Sorcadins!V$1543","v":0},{"$f":"'Base Numbers'!$C$5*'Base Numbers'!$C$6*Sorcadins!W$1543","v":0},{"$f":"'Base Numbers'!$C$5*'Base Numbers'!$C$6*Sorcadins!X$1543","v":0}]
[{"$nulls":3},"number of smites used on crits",{"$f":"MIN(E223,E224)","v":0},{"$f":"MIN(F223,F224)","v":0},0,0,0,0,0,0,0,0,0,0,0,0,0,0,0,0,0,0]
[{"$nulls":3},"avg smite dice per crit ",{"$f":"IF(E225>0,MIN(E$7,(E222/MIN(E225,E224))),0)","v":0},0,0,0,0,0,0,0,0,0,0,0,0,0,0,0,0,0,0,0]
[{"$nulls":3},"smites left for non-crits",{"$f":"E223-E225","v":0},{"$f":"F223-F225","v":0},0,0,0,0,0,0,0,0,0,0,0,0,0,0,0,0,0,0]
[{"$nulls":3},"total non-crit smite-qualifying attacks available",{"$f":"Sorcadins!E$1518*('Base Numbers'!$C$5*'Base Numbers'!$C$6)-E224","v":0},{"$f":"Sorcadins!F$1518*('Base Numbers'!$C$5*'Base Numbers'!$C$6)-F224","v":0},{"$f":"Sorcadins!G$1518*('Base Numbers'!$C$5*'Base Numbers'!$C$6)-G224","v":0},{"$f":"Sorcadins!H$1518*('Base Numbers'!$C$5*'Base Numbers'!$C$6)-H224","v":0},{"$f":"Sorcadins!I$1518*('Base Numbers'!$C$5*'Base Numbers'!$C$6)-I224","v":0},{"$f":"Sorcadins!J$1518*('Base Numbers'!$C$5*'Base Numbers'!$C$6)-J224","v":0},{"$f":"Sorcadins!K$1518*('Base Numbers'!$C$5*'Base Numbers'!$C$6)-K224","v":0},{"$f":"Sorcadins!L$1518*('Base Numbers'!$C$5*'Base Numbers'!$C$6)-L224","v":0},{"$f":"Sorcadins!M$1518*('Base Numbers'!$C$5*'Base Numbers'!$C$6)-M224","v":0},{"$f":"Sorcadins!N$1518*('Base Numbers'!$C$5*'Base Numbers'!$C$6)-N224","v":0},{"$f":"Sorcadins!O$1518*('Base Numbers'!$C$5*'Base Numbers'!$C$6)-O224","v":0},{"$f":"Sorcadins!P$1518*('Base Numbers'!$C$5*'Base Numbers'!$C$6)-P224","v":0},{"$f":"Sorcadins!Q$1518*('Base Numbers'!$C$5*'Base Numbers'!$C$6)-Q224","v":0},{"$f":"Sorcadins!R$1518*('Base Numbers'!$C$5*'Base Numbers'!$C$6)-R224","v":0},{"$f":"Sorcadins!S$1518*('Base Numbers'!$C$5*'Base Numbers'!$C$6)-S224","v":0},{"$f":"Sorcadins!T$1518*('Base Numbers'!$C$5*'Base Numbers'!$C$6)-T224","v":0},{"$f":"Sorcadins!U$1518*('Base Numbers'!$C$5*'Base Numbers'!$C$6)-U224","v":0},{"$f":"Sorcadins!V$1518*('Base Numbers'!$C$5*'Base Numbers'!$C$6)-V224","v":0},{"$f":"Sorcadins!W$1518*('Base Numbers'!$C$5*'Base Numbers'!$C$6)-W224","v":0},{"$f":"Sorcadins!X$1518*('Base Numbers'!$C$5*'Base Numbers'!$C$6)-X224","v":0}]
[{"$nulls":3},"smite dice left for non-crits",{"$f":"ROUND(MAX(0,E222-E224*E226),4)","v":0},{"$f":"ROUND(MAX(0,F222-F224*F226),4)","v":0},0,0,0,0,0,0,0,0,0,0,0,0,0,0,0,0,0,0]
[{"$nulls":3},"total smite dice used on crits",{"$f":"E225*E226","v":0},{"$f":"F225*F226","v":0},0,0,0,0,0,0,0,0,0,0,0,0,0,0,0,0,0,0]
[{"$nulls":3},"total crit smite damage per day",{"$f":"9*E230","v":0},{"$f":"9*F230","v":0},0,0,0,0,0,0,0,0,0,0,0,0,0,0,0,0,0,0]
[{"$nulls":3},"total non-crit smite damage per day",{"$f":"4.5*MIN(MIN(E228,E227)*E$7,E229)","v":0},{"$f":"4.5*MIN(MIN(F228,F227)*F$7,F229)","v":0},0,0,0,0,0,0,0,0,0,0,0,0,0,0,0,0,0,0]
[{"$nulls":3},"leftover sorc points + spell levels",{"$f":"IF(E222>0,IF(Sorcadins!E$323>0,(Sorcadins!E$323*E220+E219-E225*E226-E232/4.5)/Sorcadins!E$323,0),E220+E219)","v":0},{"$f":"IF(F222>0,IF(Sorcadins!F$323>0,(Sorcadins!F$323*F220+F219-F225*F226-F232/4.5)/Sorcadins!F$323,0),F220+F219)","v":0},{"$f":"IF(G222>0,IF(Sorcadins!G$323>0,(Sorcadins!G$323*G220+G219-G225*G226-G232/4.5)/Sorcadins!G$323,0),G220+G219)","v":0},{"$f":"IF(H222>0,IF(Sorcadins!H$323>0,(Sorcadins!H$323*H220+H219-H225*H226-H232/4.5)/Sorcadins!H$323,0),H220+H219)","v":0},{"$f":"IF(I222>0,IF(Sorcadins!I$323>0,(Sorcadins!I$323*I220+I219-I225*I226-I232/4.5)/Sorcadins!I$323,0),I220+I219)","v":4},{"$f":"IF(J222>0,IF(Sorcadins!J$323>0,(Sorcadins!J$323*J220+J219-J225*J226-J232/4.5)/Sorcadins!J$323,0),J220+J219)","v":4},{"$f":"IF(K222>0,IF(Sorcadins!K$323>0,(Sorcadins!K$323*K220+K219-K225*K226-K232/4.5)/Sorcadins!K$323,0),K220+K219)","v":4},{"$f":"IF(L222>0,IF(Sorcadins!L$323>0,(Sorcadins!L$323*L220+L219-L225*L226-L232/4.5)/Sorcadins!L$323,0),L220+L219)","v":4},{"$f":"IF(M222>0,IF(Sorcadins!M$323>0,(Sorcadins!M$323*M220+M219-M225*M226-M232/4.5)/Sorcadins!M$323,0),M220+M219)","v":4},{"$f":"IF(N222>0,IF(Sorcadins!N$323>0,(Sorcadins!N$323*N220+N219-N225*N226-N232/4.5)/Sorcadins!N$323,0),N220+N219)","v":4},{"$f":"IF(O222>0,IF(Sorcadins!O$323>0,(Sorcadins!O$323*O220+O219-O225*O226-O232/4.5)/Sorcadins!O$323,0),O220+O219)","v":4},{"$f":"IF(P222>0,IF(Sorcadins!P$323>0,(Sorcadins!P$323*P220+P219-P225*P226-P232/4.5)/Sorcadins!P$323,0),P220+P219)","v":4},{"$f":"IF(Q222>0,IF(Sorcadins!Q$323>0,(Sorcadins!Q$323*Q220+Q219-Q225*Q226-Q232/4.5)/Sorcadins!Q$323,0),Q220+Q219)","v":4},{"$f":"IF(R222>0,IF(Sorcadins!R$323>0,(Sorcadins!R$323*R220+R219-R225*R226-R232/4.5)/Sorcadins!R$323,0),R220+R219)","v":4},{"$f":"IF(S222>0,IF(Sorcadins!S$323>0,(Sorcadins!S$323*S220+S219-S225*S226-S232/4.5)/Sorcadins!S$323,0),S220+S219)","v":4},{"$f":"IF(T222>0,IF(Sorcadins!T$323>0,(Sorcadins!T$323*T220+T219-T225*T226-T232/4.5)/Sorcadins!T$323,0),T220+T219)","v":4},{"$f":"IF(U222>0,IF(Sorcadins!U$323>0,(Sorcadins!U$323*U220+U219-U225*U226-U232/4.5)/Sorcadins!U$323,0),U220+U219)","v":4},{"$f":"IF(V222>0,IF(Sorcadins!V$323>0,(Sorcadins!V$323*V220+V219-V225*V226-V232/4.5)/Sorcadins!V$323,0),V220+V219)","v":4},{"$f":"IF(W222>0,IF(Sorcadins!W$323>0,(Sorcadins!W$323*W220+W219-W225*W226-W232/4.5)/Sorcadins!W$323,0),W220+W219)","v":4.770831803630529},{"$f":"IF(X222>0,IF(Sorcadins!X$323>0,(Sorcadins!X$323*X220+X219-X225*X226-X232/4.5)/Sorcadins!X$323,0),X220+X219)","v":4.770831803630529}]
[{"$nulls":3},"actual smites performed",{"$f":"E225+IF(E$7>0,MIN(E227,E228,E229/E$7),0)","v":0},{"$f":"F225+IF(F$7>0,MIN(F227,F228,F229/F$7),0)","v":0},0,0,0,0,0,0,0,0,0,0,0,0,0,0,0,0,0,0]
[{"$nulls":3},"total daily smite damage:M2, B6, O3",{"$f":"E231+E232","v":0},{"$f":"F231+F232","v":0},0,0,0,0,0,0,0,0,0,0,0,0,0,0,0,0,0,0]
[]
[{"$nulls":3},"SMITES - M2, B7, O1/O2",1,2,3,4,5,6,7,8,9,10,11,12,13,14,15,16,17,18,19,20]
[{"$nulls":3},"remaining sorcery points (based on Damage Scenario)",{"$f":"MAX(0,Sorcadins!E$623-Sorcadins!E$1502)","v":0},{"$f":"MAX(0,Sorcadins!F$623-Sorcadins!F$1502)","v":0},{"$f":"MAX(0,Sorcadins!G$623-Sorcadins!G$1502)","v":0},{"$f":"MAX(0,Sorcadins!H$623-Sorcadins!H$1502)","v":0},{"$f":"MAX(0,Sorcadins!I$623-Sorcadins!I$1502)","v":0},{"$f":"MAX(0,Sorcadins!J$623-Sorcadins!J$1502)","v":0},{"$f":"MAX(0,Sorcadins!K$623-Sorcadins!K$1502)","v":0},{"$f":"MAX(0,Sorcadins!L$623-Sorcadins!L$1502)","v":0},{"$f":"MAX(0,Sorcadins!M$623-Sorcadins!M$1502)","v":0},{"$f":"MAX(0,Sorcadins!N$623-Sorcadins!N$1502)","v":0},{"$f":"MAX(0,Sorcadins!O$623-Sorcadins!O$1502)","v":0},{"$f":"MAX(0,Sorcadins!P$623-Sorcadins!P$1502)","v":0},{"$f":"MAX(0,Sorcadins!Q$623-Sorcadins!Q$1502)","v":0},{"$f":"MAX(0,Sorcadins!R$623-Sorcadins!R$1502)","v":0},{"$f":"MAX(0,Sorcadins!S$623-Sorcadins!S$1502)","v":0},{"$f":"MAX(0,Sorcadins!T$623-Sorcadins!T$1502)","v":0},{"$f":"MAX(0,Sorcadins!U$623-Sorcadins!U$1502)","v":0},{"$f":"MAX(0,Sorcadins!V$623-Sorcadins!V$1502)","v":0},{"$f":"MAX(0,Sorcadins!W$623-Sorcadins!W$1502)","v":0},{"$f":"MAX(0,Sorcadins!X$623-Sorcadins!X$1502)","v":0},null,"*Sorc points directly convertible to Smite Dice"]
[{"$nulls":3},"remaining spell slot levels (based on Damage Scenario)",{"$f":"MAX(0,Sorcadins!E$331-MAX(0,Sorcadins!E$1502-Sorcadins!E$623))","v":0},{"$f":"MAX(0,Sorcadins!F$331-MAX(0,Sorcadins!F$1502-Sorcadins!F$623))","v":0},{"$f":"MAX(0,Sorcadins!G$331-MAX(0,Sorcadins!G$1502-Sorcadins!G$623))","v":0},{"$f":"MAX(0,Sorcadins!H$331-MAX(0,Sorcadins!H$1502-Sorcadins!H$623))","v":0},{"$f":"MAX(0,Sorcadins!I$331-MAX(0,Sorcadins!I$1502-Sorcadins!I$623))","v":4},{"$f":"MAX(0,Sorcadins!J$331-MAX(0,Sorcadins!J$1502-Sorcadins!J$623))","v":4},{"$f":"MAX(0,Sorcadins!K$331-MAX(0,Sorcadins!K$1502-Sorcadins!K$623))","v":4},{"$f":"MAX(0,Sorcadins!L$331-MAX(0,Sorcadins!L$1502-Sorcadins!L$623))","v":4},{"$f":"MAX(0,Sorcadins!M$331-MAX(0,Sorcadins!M$1502-Sorcadins!M$623))","v":4},{"$f":"MAX(0,Sorcadins!N$331-MAX(0,Sorcadins!N$1502-Sorcadins!N$623))","v":4},{"$f":"MAX(0,Sorcadins!O$331-MAX(0,Sorcadins!O$1502-Sorcadins!O$623))","v":4},{"$f":"MAX(0,Sorcadins!P$331-MAX(0,Sorcadins!P$1502-Sorcadins!P$623))","v":4},{"$f":"MAX(0,Sorcadins!Q$331-MAX(0,Sorcadins!Q$1502-Sorcadins!Q$623))","v":4},{"$f":"MAX(0,Sorcadins!R$331-MAX(0,Sorcadins!R$1502-Sorcadins!R$623))","v":4},{"$f":"MAX(0,Sorcadins!S$331-MAX(0,Sorcadins!S$1502-Sorcadins!S$623))","v":4},{"$f":"MAX(0,Sorcadins!T$331-MAX(0,Sorcadins!T$1502-Sorcadins!T$623))","v":4},{"$f":"MAX(0,Sorcadins!U$331-MAX(0,Sorcadins!U$1502-Sorcadins!U$623))","v":4},{"$f":"MAX(0,Sorcadins!V$331-MAX(0,Sorcadins!V$1502-Sorcadins!V$623))","v":4},{"$f":"MAX(0,Sorcadins!W$331-MAX(0,Sorcadins!W$1502-Sorcadins!W$623))","v":4.770831803630529},{"$f":"MAX(0,Sorcadins!X$331-MAX(0,Sorcadins!X$1502-Sorcadins!X$623))","v":4.770831803630529}]
[{"$nulls":3},"total warlock smite levels remaining",{"$f":"MIN(Sorcadins!E$323*E239,Sorcadins!E$314)","v":0},{"$f":"MIN(Sorcadins!F$323*F239,Sorcadins!F$314)","v":0},{"$f":"MIN(Sorcadins!G$323*G239,Sorcadins!G$314)","v":0},{"$f":"MIN(Sorcadins!H$323*H239,Sorcadins!H$314)","v":0},{"$f":"MIN(Sorcadins!I$323*I239,Sorcadins!I$314)","v":0},{"$f":"MIN(Sorcadins!J$323*J239,Sorcadins!J$314)","v":0},{"$f":"MIN(Sorcadins!K$323*K239,Sorcadins!K$314)","v":0},{"$f":"MIN(Sorcadins!L$323*L239,Sorcadins!L$314)","v":0},{"$f":"MIN(Sorcadins!M$323*M239,Sorcadins!M$314)","v":0},{"$f":"MIN(Sorcadins!N$323*N239,Sorcadins!N$314)","v":0},{"$f":"MIN(Sorcadins!O$323*O239,Sorcadins!O$314)","v":0},{"$f":"MIN(Sorcadins!P$323*P239,Sorcadins!P$314)","v":0},{"$f":"MIN(Sorcadins!Q$323*Q239,Sorcadins!Q$314)","v":0},{"$f":"MIN(Sorcadins!R$323*R239,Sorcadins!R$314)","v":0},{"$f":"MIN(Sorcadins!S$323*S239,Sorcadins!S$314)","v":0},{"$f":"MIN(Sorcadins!T$323*T239,Sorcadins!T$314)","v":0},{"$f":"MIN(Sorcadins!U$323*U239,Sorcadins!U$314)","v":0},{"$f":"MIN(Sorcadins!V$323*V239,Sorcadins!V$314)","v":0},{"$f":"MIN(Sorcadins!W$323*W239,Sorcadins!W$314)","v":0},{"$f":"MIN(Sorcadins!X$323*X239,Sorcadins!X$314)","v":0}]
[{"$nulls":3},"total smite levels remaining",{"$f":"IF(E$5>=1,Sorcadins!E$323*E239+E238,IF(E$6,E240,0))","v":0},{"$f":"IF(F$5>=1,Sorcadins!F$323*F239+F238,IF(F$6,F240,0))","v":0},{"$f":"IF(G$5>=1,Sorcadins!G$323*G239+G238,IF(G$6,G240,0))","v":0},{"$f":"IF(H$5>=1,Sorcadins!H$323*H239+H238,IF(H$6,H240,0))","v":0},{"$f":"IF(I$5>=1,Sorcadins!I$323*I239+I238,IF(I$6,I240,0))","v":0},{"$f":"IF(J$5>=1,Sorcadins!J$323*J239+J238,IF(J$6,J240,0))","v":0},{"$f":"IF(K$5>=1,Sorcadins!K$323*K239+K238,IF(K$6,K240,0))","v":0},{"$f":"IF(L$5>=1,Sorcadins!L$323*L239+L238,IF(L$6,L240,0))","v":0},{"$f":"IF(M$5>=1,Sorcadins!M$323*M239+M238,IF(M$6,M240,0))","v":0},{"$f":"IF(N$5>=1,Sorcadins!N$323*N239+N238,IF(N$6,N240,0))","v":0},{"$f":"IF(O$5>=1,Sorcadins!O$323*O239+O238,IF(O$6,O240,0))","v":0},{"$f":"IF(P$5>=1,Sorcadins!P$323*P239+P238,IF(P$6,P240,0))","v":0},{"$f":"IF(Q$5>=1,Sorcadins!Q$323*Q239+Q238,IF(Q$6,Q240,0))","v":0},{"$f":"IF(R$5>=1,Sorcadins!R$323*R239+R238,IF(R$6,R240,0))","v":0},{"$f":"IF(S$5>=1,Sorcadins!S$323*S239+S238,IF(S$6,S240,0))","v":0},{"$f":"IF(T$5>=1,Sorcadins!T$323*T239+T238,IF(T$6,T240,0))","v":0},{"$f":"IF(U$5>=1,Sorcadins!U$323*U239+U238,IF(U$6,U240,0))","v":0},{"$f":"IF(V$5>=1,Sorcadins!V$323*V239+V238,IF(V$6,V240,0))","v":0},{"$f":"IF(W$5>=1,Sorcadins!W$323*W239+W238,IF(W$6,W240,0))","v":0},{"$f":"IF(X$5>=1,Sorcadins!X$323*X239+X238,IF(X$6,X240,0))","v":0}]
[{"$nulls":3},"max number of daily smites (after spells)",{"$f":"IF(E$6,Sorcadins!E$1374,IF(E$5,Sorcadins!E$332+E238/2,0))","v":0},{"$f":"IF(F$6,Sorcadins!F$1374,IF(F$5,Sorcadins!F$332+F238/2,0))","v":0},{"$f":"IF(G$6,Sorcadins!G$1374,IF(G$5,Sorcadins!G$332+G238/2,0))","v":0},{"$f":"IF(H$6,Sorcadins!H$1374,IF(H$5,Sorcadins!H$332+H238/2,0))","v":0},{"$f":"IF(I$6,Sorcadins!I$1374,IF(I$5,Sorcadins!I$332+I238/2,0))","v":0},{"$f":"IF(J$6,Sorcadins!J$1374,IF(J$5,Sorcadins!J$332+J238/2,0))","v":0},{"$f":"IF(K$6,Sorcadins!K$1374,IF(K$5,Sorcadins!K$332+K238/2,0))","v":0},{"$f":"IF(L$6,Sorcadins!L$1374,IF(L$5,Sorcadins!L$332+L238/2,0))","v":0},{"$f":"IF(M$6,Sorcadins!M$1374,IF(M$5,Sorcadins!M$332+M238/2,0))","v":0},{"$f":"IF(N$6,Sorcadins!N$1374,IF(N$5,Sorcadins!N$332+N238/2,0))","v":0},{"$f":"IF(O$6,Sorcadins!O$1374,IF(O$5,Sorcadins!O$332+O238/2,0))","v":0},{"$f":"IF(P$6,Sorcadins!P$1374,IF(P$5,Sorcadins!P$332+P238/2,0))","v":0},{"$f":"IF(Q$6,Sorcadins!Q$1374,IF(Q$5,Sorcadins!Q$332+Q238/2,0))","v":0},{"$f":"IF(R$6,Sorcadins!R$1374,IF(R$5,Sorcadins!R$332+R238/2,0))","v":0},{"$f":"IF(S$6,Sorcadins!S$1374,IF(S$5,Sorcadins!S$332+S238/2,0))","v":0},{"$f":"IF(T$6,Sorcadins!T$1374,IF(T$5,Sorcadins!T$332+T238/2,0))","v":0},{"$f":"IF(U$6,Sorcadins!U$1374,IF(U$5,Sorcadins!U$332+U238/2,0))","v":0},{"$f":"IF(V$6,Sorcadins!V$1374,IF(V$5,Sorcadins!V$332+V238/2,0))","v":0},{"$f":"IF(W$6,Sorcadins!W$1374,IF(W$5,Sorcadins!W$332+W238/2,0))","v":0},{"$f":"IF(X$6,Sorcadins!X$1374,IF(X$5,Sorcadins!X$332+X238/2,0))","v":0}]
[{"$nulls":3},"avg crits per day for smite purposes (based on Damage Scenario)",{"$f":"'Base Numbers'!$C$5*'Base Numbers'!$C$6*Sorcadins!E$1544","v":0},{"$f":"'Base Numbers'!$C$5*'Base Numbers'!$C$6*Sorcadins!F$1544","v":0},{"$f":"'Base Numbers'!$C$5*'Base Numbers'!$C$6*Sorcadins!G$1544","v":0},{"$f":"'Base Numbers'!$C$5*'Base Numbers'!$C$6*Sorcadins!H$1544","v":0},{"$f":"'Base Numbers'!$C$5*'Base Numbers'!$C$6*Sorcadins!I$1544","v":0},{"$f":"'Base Numbers'!$C$5*'Base Numbers'!$C$6*Sorcadins!J$1544","v":0},{"$f":"'Base Numbers'!$C$5*'Base Numbers'!$C$6*Sorcadins!K$1544","v":0},{"$f":"'Base Numbers'!$C$5*'Base Numbers'!$C$6*Sorcadins!L$1544","v":0},{"$f":"'Base Numbers'!$C$5*'Base Numbers'!$C$6*Sorcadins!M$1544","v":0},{"$f":"'Base Numbers'!$C$5*'Base Numbers'!$C$6*Sorcadins!N$1544","v":0},{"$f":"'Base Numbers'!$C$5*'Base Numbers'!$C$6*Sorcadins!O$1544","v":0},{"$f":"'Base Numbers'!$C$5*'Base Numbers'!$C$6*Sorcadins!P$1544","v":0},{"$f":"'Base Numbers'!$C$5*'Base Numbers'!$C$6*Sorcadins!Q$1544","v":0},{"$f":"'Base Numbers'!$C$5*'Base Numbers'!$C$6*Sorcadins!R$1544","v":0},{"$f":"'Base Numbers'!$C$5*'Base Numbers'!$C$6*Sorcadins!S$1544","v":0},{"$f":"'Base Numbers'!$C$5*'Base Numbers'!$C$6*Sorcadins!T$1544","v":0},{"$f":"'Base Numbers'!$C$5*'Base Numbers'!$C$6*Sorcadins!U$1544","v":0},{"$f":"'Base Numbers'!$C$5*'Base Numbers'!$C$6*Sorcadins!V$1544","v":0},{"$f":"'Base Numbers'!$C$5*'Base Numbers'!$C$6*Sorcadins!W$1544","v":0},{"$f":"'Base Numbers'!$C$5*'Base Numbers'!$C$6*Sorcadins!X$1544","v":0}]
[{"$nulls":3},"number of smites used on crits",{"$f":"MIN(E242,E243)","v":0},{"$f":"MIN(F242,F243)","v":0},0,0,0,0,0,0,0,0,0,0,0,0,0,0,0,0,0,0]
[{"$nulls":3},"avg smite dice per crit ",{"$f":"IF(E244>0,MIN(E$7,(E241/MIN(E244,E243))),0)","v":0},0,0,0,0,0,0,0,0,0,0,0,0,0,0,0,0,0,0,0]
[{"$nulls":3},"smites left for non-crits",{"$f":"E242-E244","v":0},{"$f":"F242-F244","v":0},0,0,0,0,0,0,0,0,0,0,0,0,0,0,0,0,0,0]
[{"$nulls":3},"total non-crit smite-qualifying attacks available",{"$f":"Sorcadins!E$1519*('Base Numbers'!$C$5*'Base Numbers'!$C$6)-E243","v":0},{"$f":"Sorcadins!F$1519*('Base Numbers'!$C$5*'Base Numbers'!$C$6)-F243","v":0},{"$f":"Sorcadins!G$1519*('Base Numbers'!$C$5*'Base Numbers'!$C$6)-G243","v":0},{"$f":"Sorcadins!H$1519*('Base Numbers'!$C$5*'Base Numbers'!$C$6)-H243","v":0},{"$f":"Sorcadins!I$1519*('Base Numbers'!$C$5*'Base Numbers'!$C$6)-I243","v":0},{"$f":"Sorcadins!J$1519*('Base Numbers'!$C$5*'Base Numbers'!$C$6)-J243","v":0},{"$f":"Sorcadins!K$1519*('Base Numbers'!$C$5*'Base Numbers'!$C$6)-K243","v":0},{"$f":"Sorcadins!L$1519*('Base Numbers'!$C$5*'Base Numbers'!$C$6)-L243","v":0},{"$f":"Sorcadins!M$1519*('Base Numbers'!$C$5*'Base Numbers'!$C$6)-M243","v":0},{"$f":"Sorcadins!N$1519*('Base Numbers'!$C$5*'Base Numbers'!$C$6)-N243","v":0},{"$f":"Sorcadins!O$1519*('Base Numbers'!$C$5*'Base Numbers'!$C$6)-O243","v":0},{"$f":"Sorcadins!P$1519*('Base Numbers'!$C$5*'Base Numbers'!$C$6)-P243","v":0},{"$f":"Sorcadins!Q$1519*('Base Numbers'!$C$5*'Base Numbers'!$C$6)-Q243","v":0},{"$f":"Sorcadins!R$1519*('Base Numbers'!$C$5*'Base Numbers'!$C$6)-R243","v":0},{"$f":"Sorcadins!S$1519*('Base Numbers'!$C$5*'Base Numbers'!$C$6)-S243","v":0},{"$f":"Sorcadins!T$1519*('Base Numbers'!$C$5*'Base Numbers'!$C$6)-T243","v":0},{"$f":"Sorcadins!U$1519*('Base Numbers'!$C$5*'Base Numbers'!$C$6)-U243","v":0},{"$f":"Sorcadins!V$1519*('Base Numbers'!$C$5*'Base Numbers'!$C$6)-V243","v":0},{"$f":"Sorcadins!W$1519*('Base Numbers'!$C$5*'Base Numbers'!$C$6)-W243","v":0},{"$f":"Sorcadins!X$1519*('Base Numbers'!$C$5*'Base Numbers'!$C$6)-X243","v":0}]
[{"$nulls":3},"smite dice left for non-crits",{"$f":"ROUND(MAX(0,E241-E243*E245),4)","v":0},{"$f":"ROUND(MAX(0,F241-F243*F245),4)","v":0},0,0,0,0,0,0,0,0,0,0,0,0,0,0,0,0,0,0]
[{"$nulls":3},"total smite dice used on crits",{"$f":"E244*E245","v":0},{"$f":"F244*F245","v":0},0,0,0,0,0,0,0,0,0,0,0,0,0,0,0,0,0,0]
[{"$nulls":3},"total crit smite damage per day",{"$f":"9*E249","v":0},{"$f":"9*F249","v":0},0,0,0,0,0,0,0,0,0,0,0,0,0,0,0,0,0,0]
[{"$nulls":3},"total non-crit smite damage per day",{"$f":"4.5*MIN(MIN(E247,E246)*E$7,E248)","v":0},{"$f":"4.5*MIN(MIN(F247,F246)*F$7,F248)","v":0},0,0,0,0,0,0,0,0,0,0,0,0,0,0,0,0,0,0]
[{"$nulls":3},"leftover sorc points + spell levels",{"$f":"IF(E241>0,IF(Sorcadins!E$323>0,(Sorcadins!E$323*E239+E238-E244*E245-E251/4.5)/Sorcadins!E$323,0),E239+E238)","v":0},{"$f":"IF(F241>0,IF(Sorcadins!F$323>0,(Sorcadins!F$323*F239+F238-F244*F245-F251/4.5)/Sorcadins!F$323,0),F239+F238)","v":0},{"$f":"IF(G241>0,IF(Sorcadins!G$323>0,(Sorcadins!G$323*G239+G238-G244*G245-G251/4.5)/Sorcadins!G$323,0),G239+G238)","v":0},{"$f":"IF(H241>0,IF(Sorcadins!H$323>0,(Sorcadins!H$323*H239+H238-H244*H245-H251/4.5)/Sorcadins!H$323,0),H239+H238)","v":0},{"$f":"IF(I241>0,IF(Sorcadins!I$323>0,(Sorcadins!I$323*I239+I238-I244*I245-I251/4.5)/Sorcadins!I$323,0),I239+I238)","v":4},{"$f":"IF(J241>0,IF(Sorcadins!J$323>0,(Sorcadins!J$323*J239+J238-J244*J245-J251/4.5)/Sorcadins!J$323,0),J239+J238)","v":4},{"$f":"IF(K241>0,IF(Sorcadins!K$323>0,(Sorcadins!K$323*K239+K238-K244*K245-K251/4.5)/Sorcadins!K$323,0),K239+K238)","v":4},{"$f":"IF(L241>0,IF(Sorcadins!L$323>0,(Sorcadins!L$323*L239+L238-L244*L245-L251/4.5)/Sorcadins!L$323,0),L239+L238)","v":4},{"$f":"IF(M241>0,IF(Sorcadins!M$323>0,(Sorcadins!M$323*M239+M238-M244*M245-M251/4.5)/Sorcadins!M$323,0),M239+M238)","v":4},{"$f":"IF(N241>0,IF(Sorcadins!N$323>0,(Sorcadins!N$323*N239+N238-N244*N245-N251/4.5)/Sorcadins!N$323,0),N239+N238)","v":4},{"$f":"IF(O241>0,IF(Sorcadins!O$323>0,(Sorcadins!O$323*O239+O238-O244*O245-O251/4.5)/Sorcadins!O$323,0),O239+O238)","v":4},{"$f":"IF(P241>0,IF(Sorcadins!P$323>0,(Sorcadins!P$323*P239+P238-P244*P245-P251/4.5)/Sorcadins!P$323,0),P239+P238)","v":4},{"$f":"IF(Q241>0,IF(Sorcadins!Q$323>0,(Sorcadins!Q$323*Q239+Q238-Q244*Q245-Q251/4.5)/Sorcadins!Q$323,0),Q239+Q238)","v":4},{"$f":"IF(R241>0,IF(Sorcadins!R$323>0,(Sorcadins!R$323*R239+R238-R244*R245-R251/4.5)/Sorcadins!R$323,0),R239+R238)","v":4},{"$f":"IF(S241>0,IF(Sorcadins!S$323>0,(Sorcadins!S$323*S239+S238-S244*S245-S251/4.5)/Sorcadins!S$323,0),S239+S238)","v":4},{"$f":"IF(T241>0,IF(Sorcadins!T$323>0,(Sorcadins!T$323*T239+T238-T244*T245-T251/4.5)/Sorcadins!T$323,0),T239+T238)","v":4},{"$f":"IF(U241>0,IF(Sorcadins!U$323>0,(Sorcadins!U$323*U239+U238-U244*U245-U251/4.5)/Sorcadins!U$323,0),U239+U238)","v":4},{"$f":"IF(V241>0,IF(Sorcadins!V$323>0,(Sorcadins!V$323*V239+V238-V244*V245-V251/4.5)/Sorcadins!V$323,0),V239+V238)","v":4},{"$f":"IF(W241>0,IF(Sorcadins!W$323>0,(Sorcadins!W$323*W239+W238-W244*W245-W251/4.5)/Sorcadins!W$323,0),W239+W238)","v":4.770831803630529},{"$f":"IF(X241>0,IF(Sorcadins!X$323>0,(Sorcadins!X$323*X239+X238-X244*X245-X251/4.5)/Sorcadins!X$323,0),X239+X238)","v":4.770831803630529}]
[{"$nulls":3},"actual smites performed",{"$f":"E244+IF(E$7>0,MIN(E246,E247,E248/E$7),0)","v":0},{"$f":"F244+IF(F$7>0,MIN(F246,F247,F248/F$7),0)","v":0},0,0,0,0,0,0,0,0,0,0,0,0,0,0,0,0,0,0]
[{"$nulls":3},"total daily smite damage: M2, B7, O1/O2",{"$f":"E250+E251","v":0},{"$f":"F250+F251","v":0},0,0,0,0,0,0,0,0,0,0,0,0,0,0,0,0,0,0]
[]
[{"$nulls":3},"SMITES - M2, B7, O3",1,2,3,4,5,6,7,8,9,10,11,12,13,14,15,16,17,18,19,20]
[{"$nulls":3},"remaining sorcery points (based on Damage Scenario)",{"$f":"MAX(0,Sorcadins!E$623-Sorcadins!E$1502)","v":0},{"$f":"MAX(0,Sorcadins!F$623-Sorcadins!F$1502)","v":0},{"$f":"MAX(0,Sorcadins!G$623-Sorcadins!G$1502)","v":0},{"$f":"MAX(0,Sorcadins!H$623-Sorcadins!H$1502)","v":0},{"$f":"MAX(0,Sorcadins!I$623-Sorcadins!I$1502)","v":0},{"$f":"MAX(0,Sorcadins!J$623-Sorcadins!J$1502)","v":0},{"$f":"MAX(0,Sorcadins!K$623-Sorcadins!K$1502)","v":0},{"$f":"MAX(0,Sorcadins!L$623-Sorcadins!L$1502)","v":0},{"$f":"MAX(0,Sorcadins!M$623-Sorcadins!M$1502)","v":0},{"$f":"MAX(0,Sorcadins!N$623-Sorcadins!N$1502)","v":0},{"$f":"MAX(0,Sorcadins!O$623-Sorcadins!O$1502)","v":0},{"$f":"MAX(0,Sorcadins!P$623-Sorcadins!P$1502)","v":0},{"$f":"MAX(0,Sorcadins!Q$623-Sorcadins!Q$1502)","v":0},{"$f":"MAX(0,Sorcadins!R$623-Sorcadins!R$1502)","v":0},{"$f":"MAX(0,Sorcadins!S$623-Sorcadins!S$1502)","v":0},{"$f":"MAX(0,Sorcadins!T$623-Sorcadins!T$1502)","v":0},{"$f":"MAX(0,Sorcadins!U$623-Sorcadins!U$1502)","v":0},{"$f":"MAX(0,Sorcadins!V$623-Sorcadins!V$1502)","v":0},{"$f":"MAX(0,Sorcadins!W$623-Sorcadins!W$1502)","v":0},{"$f":"MAX(0,Sorcadins!X$623-Sorcadins!X$1502)","v":0},null,"*Sorc points directly convertible to Smite Dice"]
[{"$nulls":3},"remaining spell slot levels (based on Damage Scenario)",{"$f":"MAX(0,Sorcadins!E$331-MAX(0,Sorcadins!E$1502-Sorcadins!E$623))","v":0},{"$f":"MAX(0,Sorcadins!F$331-MAX(0,Sorcadins!F$1502-Sorcadins!F$623))","v":0},{"$f":"MAX(0,Sorcadins!G$331-MAX(0,Sorcadins!G$1502-Sorcadins!G$623))","v":0},{"$f":"MAX(0,Sorcadins!H$331-MAX(0,Sorcadins!H$1502-Sorcadins!H$623))","v":0},{"$f":"MAX(0,Sorcadins!I$331-MAX(0,Sorcadins!I$1502-Sorcadins!I$623))","v":4},{"$f":"MAX(0,Sorcadins!J$331-MAX(0,Sorcadins!J$1502-Sorcadins!J$623))","v":4},{"$f":"MAX(0,Sorcadins!K$331-MAX(0,Sorcadins!K$1502-Sorcadins!K$623))","v":4},{"$f":"MAX(0,Sorcadins!L$331-MAX(0,Sorcadins!L$1502-Sorcadins!L$623))","v":4},{"$f":"MAX(0,Sorcadins!M$331-MAX(0,Sorcadins!M$1502-Sorcadins!M$623))","v":4},{"$f":"MAX(0,Sorcadins!N$331-MAX(0,Sorcadins!N$1502-Sorcadins!N$623))","v":4},{"$f":"MAX(0,Sorcadins!O$331-MAX(0,Sorcadins!O$1502-Sorcadins!O$623))","v":4},{"$f":"MAX(0,Sorcadins!P$331-MAX(0,Sorcadins!P$1502-Sorcadins!P$623))","v":4},{"$f":"MAX(0,Sorcadins!Q$331-MAX(0,Sorcadins!Q$1502-Sorcadins!Q$623))","v":4},{"$f":"MAX(0,Sorcadins!R$331-MAX(0,Sorcadins!R$1502-Sorcadins!R$623))","v":4},{"$f":"MAX(0,Sorcadins!S$331-MAX(0,Sorcadins!S$1502-Sorcadins!S$623))","v":4},{"$f":"MAX(0,Sorcadins!T$331-MAX(0,Sorcadins!T$1502-Sorcadins!T$623))","v":4},{"$f":"MAX(0,Sorcadins!U$331-MAX(0,Sorcadins!U$1502-Sorcadins!U$623))","v":4},{"$f":"MAX(0,Sorcadins!V$331-MAX(0,Sorcadins!V$1502-Sorcadins!V$623))","v":4},{"$f":"MAX(0,Sorcadins!W$331-MAX(0,Sorcadins!W$1502-Sorcadins!W$623))","v":4.770831803630529},{"$f":"MAX(0,Sorcadins!X$331-MAX(0,Sorcadins!X$1502-Sorcadins!X$623))","v":4.770831803630529}]
[{"$nulls":3},"total warlock smite levels remaining",{"$f":"MIN(Sorcadins!E$323*E258,Sorcadins!E$314)","v":0},{"$f":"MIN(Sorcadins!F$323*F258,Sorcadins!F$314)","v":0},{"$f":"MIN(Sorcadins!G$323*G258,Sorcadins!G$314)","v":0},{"$f":"MIN(Sorcadins!H$323*H258,Sorcadins!H$314)","v":0},{"$f":"MIN(Sorcadins!I$323*I258,Sorcadins!I$314)","v":0},{"$f":"MIN(Sorcadins!J$323*J258,Sorcadins!J$314)","v":0},{"$f":"MIN(Sorcadins!K$323*K258,Sorcadins!K$314)","v":0},{"$f":"MIN(Sorcadins!L$323*L258,Sorcadins!L$314)","v":0},{"$f":"MIN(Sorcadins!M$323*M258,Sorcadins!M$314)","v":0},{"$f":"MIN(Sorcadins!N$323*N258,Sorcadins!N$314)","v":0},{"$f":"MIN(Sorcadins!O$323*O258,Sorcadins!O$314)","v":0},{"$f":"MIN(Sorcadins!P$323*P258,Sorcadins!P$314)","v":0},{"$f":"MIN(Sorcadins!Q$323*Q258,Sorcadins!Q$314)","v":0},{"$f":"MIN(Sorcadins!R$323*R258,Sorcadins!R$314)","v":0},{"$f":"MIN(Sorcadins!S$323*S258,Sorcadins!S$314)","v":0},{"$f":"MIN(Sorcadins!T$323*T258,Sorcadins!T$314)","v":0},{"$f":"MIN(Sorcadins!U$323*U258,Sorcadins!U$314)","v":0},{"$f":"MIN(Sorcadins!V$323*V258,Sorcadins!V$314)","v":0},{"$f":"MIN(Sorcadins!W$323*W258,Sorcadins!W$314)","v":0},{"$f":"MIN(Sorcadins!X$323*X258,Sorcadins!X$314)","v":0}]
[{"$nulls":3},"total smite levels remaining",{"$f":"IF(E$5>=1,Sorcadins!E$323*E258+E257,IF(E$6,E259,0))","v":0},{"$f":"IF(F$5>=1,Sorcadins!F$323*F258+F257,IF(F$6,F259,0))","v":0},{"$f":"IF(G$5>=1,Sorcadins!G$323*G258+G257,IF(G$6,G259,0))","v":0},{"$f":"IF(H$5>=1,Sorcadins!H$323*H258+H257,IF(H$6,H259,0))","v":0},{"$f":"IF(I$5>=1,Sorcadins!I$323*I258+I257,IF(I$6,I259,0))","v":0},{"$f":"IF(J$5>=1,Sorcadins!J$323*J258+J257,IF(J$6,J259,0))","v":0},{"$f":"IF(K$5>=1,Sorcadins!K$323*K258+K257,IF(K$6,K259,0))","v":0},{"$f":"IF(L$5>=1,Sorcadins!L$323*L258+L257,IF(L$6,L259,0))","v":0},{"$f":"IF(M$5>=1,Sorcadins!M$323*M258+M257,IF(M$6,M259,0))","v":0},{"$f":"IF(N$5>=1,Sorcadins!N$323*N258+N257,IF(N$6,N259,0))","v":0},{"$f":"IF(O$5>=1,Sorcadins!O$323*O258+O257,IF(O$6,O259,0))","v":0},{"$f":"IF(P$5>=1,Sorcadins!P$323*P258+P257,IF(P$6,P259,0))","v":0},{"$f":"IF(Q$5>=1,Sorcadins!Q$323*Q258+Q257,IF(Q$6,Q259,0))","v":0},{"$f":"IF(R$5>=1,Sorcadins!R$323*R258+R257,IF(R$6,R259,0))","v":0},{"$f":"IF(S$5>=1,Sorcadins!S$323*S258+S257,IF(S$6,S259,0))","v":0},{"$f":"IF(T$5>=1,Sorcadins!T$323*T258+T257,IF(T$6,T259,0))","v":0},{"$f":"IF(U$5>=1,Sorcadins!U$323*U258+U257,IF(U$6,U259,0))","v":0},{"$f":"IF(V$5>=1,Sorcadins!V$323*V258+V257,IF(V$6,V259,0))","v":0},{"$f":"IF(W$5>=1,Sorcadins!W$323*W258+W257,IF(W$6,W259,0))","v":0},{"$f":"IF(X$5>=1,Sorcadins!X$323*X258+X257,IF(X$6,X259,0))","v":0}]
[{"$nulls":3},"max number of daily smites (after spells)",{"$f":"IF(E$6,Sorcadins!E$1374,IF(E$5,Sorcadins!E$332+E257/2,0))","v":0},{"$f":"IF(F$6,Sorcadins!F$1374,IF(F$5,Sorcadins!F$332+F257/2,0))","v":0},{"$f":"IF(G$6,Sorcadins!G$1374,IF(G$5,Sorcadins!G$332+G257/2,0))","v":0},{"$f":"IF(H$6,Sorcadins!H$1374,IF(H$5,Sorcadins!H$332+H257/2,0))","v":0},{"$f":"IF(I$6,Sorcadins!I$1374,IF(I$5,Sorcadins!I$332+I257/2,0))","v":0},{"$f":"IF(J$6,Sorcadins!J$1374,IF(J$5,Sorcadins!J$332+J257/2,0))","v":0},{"$f":"IF(K$6,Sorcadins!K$1374,IF(K$5,Sorcadins!K$332+K257/2,0))","v":0},{"$f":"IF(L$6,Sorcadins!L$1374,IF(L$5,Sorcadins!L$332+L257/2,0))","v":0},{"$f":"IF(M$6,Sorcadins!M$1374,IF(M$5,Sorcadins!M$332+M257/2,0))","v":0},{"$f":"IF(N$6,Sorcadins!N$1374,IF(N$5,Sorcadins!N$332+N257/2,0))","v":0},{"$f":"IF(O$6,Sorcadins!O$1374,IF(O$5,Sorcadins!O$332+O257/2,0))","v":0},{"$f":"IF(P$6,Sorcadins!P$1374,IF(P$5,Sorcadins!P$332+P257/2,0))","v":0},{"$f":"IF(Q$6,Sorcadins!Q$1374,IF(Q$5,Sorcadins!Q$332+Q257/2,0))","v":0},{"$f":"IF(R$6,Sorcadins!R$1374,IF(R$5,Sorcadins!R$332+R257/2,0))","v":0},{"$f":"IF(S$6,Sorcadins!S$1374,IF(S$5,Sorcadins!S$332+S257/2,0))","v":0},{"$f":"IF(T$6,Sorcadins!T$1374,IF(T$5,Sorcadins!T$332+T257/2,0))","v":0},{"$f":"IF(U$6,Sorcadins!U$1374,IF(U$5,Sorcadins!U$332+U257/2,0))","v":0},{"$f":"IF(V$6,Sorcadins!V$1374,IF(V$5,Sorcadins!V$332+V257/2,0))","v":0},{"$f":"IF(W$6,Sorcadins!W$1374,IF(W$5,Sorcadins!W$332+W257/2,0))","v":0},{"$f":"IF(X$6,Sorcadins!X$1374,IF(X$5,Sorcadins!X$332+X257/2,0))","v":0}]
[{"$nulls":3},"avg crits per day for smite purposes (based on Damage Scenario)",{"$f":"'Base Numbers'!$C$5*'Base Numbers'!$C$6*Sorcadins!E$1545","v":0},{"$f":"'Base Numbers'!$C$5*'Base Numbers'!$C$6*Sorcadins!F$1545","v":0},{"$f":"'Base Numbers'!$C$5*'Base Numbers'!$C$6*Sorcadins!G$1545","v":0},{"$f":"'Base Numbers'!$C$5*'Base Numbers'!$C$6*Sorcadins!H$1545","v":0},{"$f":"'Base Numbers'!$C$5*'Base Numbers'!$C$6*Sorcadins!I$1545","v":0},{"$f":"'Base Numbers'!$C$5*'Base Numbers'!$C$6*Sorcadins!J$1545","v":0},{"$f":"'Base Numbers'!$C$5*'Base Numbers'!$C$6*Sorcadins!K$1545","v":0},{"$f":"'Base Numbers'!$C$5*'Base Numbers'!$C$6*Sorcadins!L$1545","v":0},{"$f":"'Base Numbers'!$C$5*'Base Numbers'!$C$6*Sorcadins!M$1545","v":0},{"$f":"'Base Numbers'!$C$5*'Base Numbers'!$C$6*Sorcadins!N$1545","v":0},{"$f":"'Base Numbers'!$C$5*'Base Numbers'!$C$6*Sorcadins!O$1545","v":0},{"$f":"'Base Numbers'!$C$5*'Base Numbers'!$C$6*Sorcadins!P$1545","v":0},{"$f":"'Base Numbers'!$C$5*'Base Numbers'!$C$6*Sorcadins!Q$1545","v":0},{"$f":"'Base Numbers'!$C$5*'Base Numbers'!$C$6*Sorcadins!R$1545","v":0},{"$f":"'Base Numbers'!$C$5*'Base Numbers'!$C$6*Sorcadins!S$1545","v":0},{"$f":"'Base Numbers'!$C$5*'Base Numbers'!$C$6*Sorcadins!T$1545","v":0},{"$f":"'Base Numbers'!$C$5*'Base Numbers'!$C$6*Sorcadins!U$1545","v":0},{"$f":"'Base Numbers'!$C$5*'Base Numbers'!$C$6*Sorcadins!V$1545","v":0},{"$f":"'Base Numbers'!$C$5*'Base Numbers'!$C$6*Sorcadins!W$1545","v":0},{"$f":"'Base Numbers'!$C$5*'Base Numbers'!$C$6*Sorcadins!X$1545","v":0}]
[{"$nulls":3},"number of smites used on crits",{"$f":"MIN(E261,E262)","v":0},{"$f":"MIN(F261,F262)","v":0},0,0,0,0,0,0,0,0,0,0,0,0,0,0,0,0,0,0]
[{"$nulls":3},"avg smite dice per crit ",{"$f":"IF(E263>0,MIN(E$7,(E260/MIN(E263,E262))),0)","v":0},0,0,0,0,0,0,0,0,0,0,0,0,0,0,0,0,0,0,0]
[{"$nulls":3},"smites left for non-crits",{"$f":"E261-E263","v":0},{"$f":"F261-F263","v":0},0,0,0,0,0,0,0,0,0,0,0,0,0,0,0,0,0,0]
[{"$nulls":3},"total non-crit smite-qualifying attacks available",{"$f":"Sorcadins!E$1520*('Base Numbers'!$C$5*'Base Numbers'!$C$6)-E262","v":0},{"$f":"Sorcadins!F$1520*('Base Numbers'!$C$5*'Base Numbers'!$C$6)-F262","v":0},{"$f":"Sorcadins!G$1520*('Base Numbers'!$C$5*'Base Numbers'!$C$6)-G262","v":0},{"$f":"Sorcadins!H$1520*('Base Numbers'!$C$5*'Base Numbers'!$C$6)-H262","v":0},{"$f":"Sorcadins!I$1520*('Base Numbers'!$C$5*'Base Numbers'!$C$6)-I262","v":0},{"$f":"Sorcadins!J$1520*('Base Numbers'!$C$5*'Base Numbers'!$C$6)-J262","v":0},{"$f":"Sorcadins!K$1520*('Base Numbers'!$C$5*'Base Numbers'!$C$6)-K262","v":0},{"$f":"Sorcadins!L$1520*('Base Numbers'!$C$5*'Base Numbers'!$C$6)-L262","v":0},{"$f":"Sorcadins!M$1520*('Base Numbers'!$C$5*'Base Numbers'!$C$6)-M262","v":0},{"$f":"Sorcadins!N$1520*('Base Numbers'!$C$5*'Base Numbers'!$C$6)-N262","v":0},{"$f":"Sorcadins!O$1520*('Base Numbers'!$C$5*'Base Numbers'!$C$6)-O262","v":0},{"$f":"Sorcadins!P$1520*('Base Numbers'!$C$5*'Base Numbers'!$C$6)-P262","v":0},{"$f":"Sorcadins!Q$1520*('Base Numbers'!$C$5*'Base Numbers'!$C$6)-Q262","v":0},{"$f":"Sorcadins!R$1520*('Base Numbers'!$C$5*'Base Numbers'!$C$6)-R262","v":0},{"$f":"Sorcadins!S$1520*('Base Numbers'!$C$5*'Base Numbers'!$C$6)-S262","v":0},{"$f":"Sorcadins!T$1520*('Base Numbers'!$C$5*'Base Numbers'!$C$6)-T262","v":0},{"$f":"Sorcadins!U$1520*('Base Numbers'!$C$5*'Base Numbers'!$C$6)-U262","v":0},{"$f":"Sorcadins!V$1520*('Base Numbers'!$C$5*'Base Numbers'!$C$6)-V262","v":0},{"$f":"Sorcadins!W$1520*('Base Numbers'!$C$5*'Base Numbers'!$C$6)-W262","v":0},{"$f":"Sorcadins!X$1520*('Base Numbers'!$C$5*'Base Numbers'!$C$6)-X262","v":0}]
[{"$nulls":3},"smite dice left for non-crits",{"$f":"ROUND(MAX(0,E260-E262*E264),4)","v":0},{"$f":"ROUND(MAX(0,F260-F262*F264),4)","v":0},0,0,0,0,0,0,0,0,0,0,0,0,0,0,0,0,0,0]
[{"$nulls":3},"total smite dice used on crits",{"$f":"E263*E264","v":0},{"$f":"F263*F264","v":0},0,0,0,0,0,0,0,0,0,0,0,0,0,0,0,0,0,0]
[{"$nulls":3},"total crit smite damage per day",{"$f":"9*E268","v":0},{"$f":"9*F268","v":0},0,0,0,0,0,0,0,0,0,0,0,0,0,0,0,0,0,0]
[{"$nulls":3},"total non-crit smite damage per day",{"$f":"4.5*MIN(MIN(E266,E265)*E$7,E267)","v":0},{"$f":"4.5*MIN(MIN(F266,F265)*F$7,F267)","v":0},0,0,0,0,0,0,0,0,0,0,0,0,0,0,0,0,0,0]
[{"$nulls":3},"leftover sorc points + spell levels",{"$f":"IF(E260>0,IF(Sorcadins!E$323>0,(Sorcadins!E$323*E258+E257-E263*E264-E270/4.5)/Sorcadins!E$323,0),E258+E257)","v":0},{"$f":"IF(F260>0,IF(Sorcadins!F$323>0,(Sorcadins!F$323*F258+F257-F263*F264-F270/4.5)/Sorcadins!F$323,0),F258+F257)","v":0},{"$f":"IF(G260>0,IF(Sorcadins!G$323>0,(Sorcadins!G$323*G258+G257-G263*G264-G270/4.5)/Sorcadins!G$323,0),G258+G257)","v":0},{"$f":"IF(H260>0,IF(Sorcadins!H$323>0,(Sorcadins!H$323*H258+H257-H263*H264-H270/4.5)/Sorcadins!H$323,0),H258+H257)","v":0},{"$f":"IF(I260>0,IF(Sorcadins!I$323>0,(Sorcadins!I$323*I258+I257-I263*I264-I270/4.5)/Sorcadins!I$323,0),I258+I257)","v":4},{"$f":"IF(J260>0,IF(Sorcadins!J$323>0,(Sorcadins!J$323*J258+J257-J263*J264-J270/4.5)/Sorcadins!J$323,0),J258+J257)","v":4},{"$f":"IF(K260>0,IF(Sorcadins!K$323>0,(Sorcadins!K$323*K258+K257-K263*K264-K270/4.5)/Sorcadins!K$323,0),K258+K257)","v":4},{"$f":"IF(L260>0,IF(Sorcadins!L$323>0,(Sorcadins!L$323*L258+L257-L263*L264-L270/4.5)/Sorcadins!L$323,0),L258+L257)","v":4},{"$f":"IF(M260>0,IF(Sorcadins!M$323>0,(Sorcadins!M$323*M258+M257-M263*M264-M270/4.5)/Sorcadins!M$323,0),M258+M257)","v":4},{"$f":"IF(N260>0,IF(Sorcadins!N$323>0,(Sorcadins!N$323*N258+N257-N263*N264-N270/4.5)/Sorcadins!N$323,0),N258+N257)","v":4},{"$f":"IF(O260>0,IF(Sorcadins!O$323>0,(Sorcadins!O$323*O258+O257-O263*O264-O270/4.5)/Sorcadins!O$323,0),O258+O257)","v":4},{"$f":"IF(P260>0,IF(Sorcadins!P$323>0,(Sorcadins!P$323*P258+P257-P263*P264-P270/4.5)/Sorcadins!P$323,0),P258+P257)","v":4},{"$f":"IF(Q260>0,IF(Sorcadins!Q$323>0,(Sorcadins!Q$323*Q258+Q257-Q263*Q264-Q270/4.5)/Sorcadins!Q$323,0),Q258+Q257)","v":4},{"$f":"IF(R260>0,IF(Sorcadins!R$323>0,(Sorcadins!R$323*R258+R257-R263*R264-R270/4.5)/Sorcadins!R$323,0),R258+R257)","v":4},{"$f":"IF(S260>0,IF(Sorcadins!S$323>0,(Sorcadins!S$323*S258+S257-S263*S264-S270/4.5)/Sorcadins!S$323,0),S258+S257)","v":4},{"$f":"IF(T260>0,IF(Sorcadins!T$323>0,(Sorcadins!T$323*T258+T257-T263*T264-T270/4.5)/Sorcadins!T$323,0),T258+T257)","v":4},{"$f":"IF(U260>0,IF(Sorcadins!U$323>0,(Sorcadins!U$323*U258+U257-U263*U264-U270/4.5)/Sorcadins!U$323,0),U258+U257)","v":4},{"$f":"IF(V260>0,IF(Sorcadins!V$323>0,(Sorcadins!V$323*V258+V257-V263*V264-V270/4.5)/Sorcadins!V$323,0),V258+V257)","v":4},{"$f":"IF(W260>0,IF(Sorcadins!W$323>0,(Sorcadins!W$323*W258+W257-W263*W264-W270/4.5)/Sorcadins!W$323,0),W258+W257)","v":4.770831803630529},{"$f":"IF(X260>0,IF(Sorcadins!X$323>0,(Sorcadins!X$323*X258+X257-X263*X264-X270/4.5)/Sorcadins!X$323,0),X258+X257)","v":4.770831803630529}]
[{"$nulls":3},"actual smites performed",{"$f":"E263+IF(E$7>0,MIN(E265,E266,E267/E$7),0)","v":0},{"$f":"F263+IF(F$7>0,MIN(F265,F266,F267/F$7),0)","v":0},0,0,0,0,0,0,0,0,0,0,0,0,0,0,0,0,0,0]
[{"$nulls":3},"total daily smite damage: M2, B7, O3",{"$f":"E269+E270","v":0},{"$f":"F269+F270","v":0},0,0,0,0,0,0,0,0,0,0,0,0,0,0,0,0,0,0]
[]
[{"$nulls":3},"SMITES - M2, B12, O1/O2",1,2,3,4,5,6,7,8,9,10,11,12,13,14,15,16,17,18,19,20]
[{"$nulls":3},"remaining sorcery points (based on Damage Scenario)",{"$f":"MAX(0,Sorcadins!E$623-Sorcadins!E$1503)","v":0},{"$f":"MAX(0,Sorcadins!F$623-Sorcadins!F$1503)","v":0},{"$f":"MAX(0,Sorcadins!G$623-Sorcadins!G$1503)","v":0},{"$f":"MAX(0,Sorcadins!H$623-Sorcadins!H$1503)","v":0},{"$f":"MAX(0,Sorcadins!I$623-Sorcadins!I$1503)","v":0},{"$f":"MAX(0,Sorcadins!J$623-Sorcadins!J$1503)","v":0},{"$f":"MAX(0,Sorcadins!K$623-Sorcadins!K$1503)","v":0},{"$f":"MAX(0,Sorcadins!L$623-Sorcadins!L$1503)","v":0},{"$f":"MAX(0,Sorcadins!M$623-Sorcadins!M$1503)","v":0},{"$f":"MAX(0,Sorcadins!N$623-Sorcadins!N$1503)","v":0},{"$f":"MAX(0,Sorcadins!O$623-Sorcadins!O$1503)","v":0},{"$f":"MAX(0,Sorcadins!P$623-Sorcadins!P$1503)","v":0},{"$f":"MAX(0,Sorcadins!Q$623-Sorcadins!Q$1503)","v":0},{"$f":"MAX(0,Sorcadins!R$623-Sorcadins!R$1503)","v":0},{"$f":"MAX(0,Sorcadins!S$623-Sorcadins!S$1503)","v":0},{"$f":"MAX(0,Sorcadins!T$623-Sorcadins!T$1503)","v":0},{"$f":"MAX(0,Sorcadins!U$623-Sorcadins!U$1503)","v":0},{"$f":"MAX(0,Sorcadins!V$623-Sorcadins!V$1503)","v":0},{"$f":"MAX(0,Sorcadins!W$623-Sorcadins!W$1503)","v":0},{"$f":"MAX(0,Sorcadins!X$623-Sorcadins!X$1503)","v":0},null,"*Sorc points directly convertible to Smite Dice"]
[{"$nulls":3},"remaining spell slot levels (based on Damage Scenario)",{"$f":"MAX(0,Sorcadins!E$331-MAX(0,Sorcadins!E$1503-Sorcadins!E$623))","v":0},{"$f":"MAX(0,Sorcadins!F$331-MAX(0,Sorcadins!F$1503-Sorcadins!F$623))","v":0},{"$f":"MAX(0,Sorcadins!G$331-MAX(0,Sorcadins!G$1503-Sorcadins!G$623))","v":0},{"$f":"MAX(0,Sorcadins!H$331-MAX(0,Sorcadins!H$1503-Sorcadins!H$623))","v":0},{"$f":"MAX(0,Sorcadins!I$331-MAX(0,Sorcadins!I$1503-Sorcadins!I$623))","v":4},{"$f":"MAX(0,Sorcadins!J$331-MAX(0,Sorcadins!J$1503-Sorcadins!J$623))","v":4},{"$f":"MAX(0,Sorcadins!K$331-MAX(0,Sorcadins!K$1503-Sorcadins!K$623))","v":4},{"$f":"MAX(0,Sorcadins!L$331-MAX(0,Sorcadins!L$1503-Sorcadins!L$623))","v":4},{"$f":"MAX(0,Sorcadins!M$331-MAX(0,Sorcadins!M$1503-Sorcadins!M$623))","v":4},{"$f":"MAX(0,Sorcadins!N$331-MAX(0,Sorcadins!N$1503-Sorcadins!N$623))","v":4},{"$f":"MAX(0,Sorcadins!O$331-MAX(0,Sorcadins!O$1503-Sorcadins!O$623))","v":4},{"$f":"MAX(0,Sorcadins!P$331-MAX(0,Sorcadins!P$1503-Sorcadins!P$623))","v":4},{"$f":"MAX(0,Sorcadins!Q$331-MAX(0,Sorcadins!Q$1503-Sorcadins!Q$623))","v":4},{"$f":"MAX(0,Sorcadins!R$331-MAX(0,Sorcadins!R$1503-Sorcadins!R$623))","v":4},{"$f":"MAX(0,Sorcadins!S$331-MAX(0,Sorcadins!S$1503-Sorcadins!S$623))","v":4},{"$f":"MAX(0,Sorcadins!T$331-MAX(0,Sorcadins!T$1503-Sorcadins!T$623))","v":4},{"$f":"MAX(0,Sorcadins!U$331-MAX(0,Sorcadins!U$1503-Sorcadins!U$623))","v":4},{"$f":"MAX(0,Sorcadins!V$331-MAX(0,Sorcadins!V$1503-Sorcadins!V$623))","v":4},{"$f":"MAX(0,Sorcadins!W$331-MAX(0,Sorcadins!W$1503-Sorcadins!W$623))","v":4.770831803630529},{"$f":"MAX(0,Sorcadins!X$331-MAX(0,Sorcadins!X$1503-Sorcadins!X$623))","v":4.770831803630529}]
[{"$nulls":3},"total warlock smite levels remaining",{"$f":"MIN(Sorcadins!E$323*E277,Sorcadins!E$314)","v":0},{"$f":"MIN(Sorcadins!F$323*F277,Sorcadins!F$314)","v":0},{"$f":"MIN(Sorcadins!G$323*G277,Sorcadins!G$314)","v":0},{"$f":"MIN(Sorcadins!H$323*H277,Sorcadins!H$314)","v":0},{"$f":"MIN(Sorcadins!I$323*I277,Sorcadins!I$314)","v":0},{"$f":"MIN(Sorcadins!J$323*J277,Sorcadins!J$314)","v":0},{"$f":"MIN(Sorcadins!K$323*K277,Sorcadins!K$314)","v":0},{"$f":"MIN(Sorcadins!L$323*L277,Sorcadins!L$314)","v":0},{"$f":"MIN(Sorcadins!M$323*M277,Sorcadins!M$314)","v":0},{"$f":"MIN(Sorcadins!N$323*N277,Sorcadins!N$314)","v":0},{"$f":"MIN(Sorcadins!O$323*O277,Sorcadins!O$314)","v":0},{"$f":"MIN(Sorcadins!P$323*P277,Sorcadins!P$314)","v":0},{"$f":"MIN(Sorcadins!Q$323*Q277,Sorcadins!Q$314)","v":0},{"$f":"MIN(Sorcadins!R$323*R277,Sorcadins!R$314)","v":0},{"$f":"MIN(Sorcadins!S$323*S277,Sorcadins!S$314)","v":0},{"$f":"MIN(Sorcadins!T$323*T277,Sorcadins!T$314)","v":0},{"$f":"MIN(Sorcadins!U$323*U277,Sorcadins!U$314)","v":0},{"$f":"MIN(Sorcadins!V$323*V277,Sorcadins!V$314)","v":0},{"$f":"MIN(Sorcadins!W$323*W277,Sorcadins!W$314)","v":0},{"$f":"MIN(Sorcadins!X$323*X277,Sorcadins!X$314)","v":0}]
[{"$nulls":3},"total smite levels remaining",{"$f":"IF(E$5>=1,Sorcadins!E$323*E277+E276,IF(E$6,E278,0))","v":0},{"$f":"IF(F$5>=1,Sorcadins!F$323*F277+F276,IF(F$6,F278,0))","v":0},{"$f":"IF(G$5>=1,Sorcadins!G$323*G277+G276,IF(G$6,G278,0))","v":0},{"$f":"IF(H$5>=1,Sorcadins!H$323*H277+H276,IF(H$6,H278,0))","v":0},{"$f":"IF(I$5>=1,Sorcadins!I$323*I277+I276,IF(I$6,I278,0))","v":0},{"$f":"IF(J$5>=1,Sorcadins!J$323*J277+J276,IF(J$6,J278,0))","v":0},{"$f":"IF(K$5>=1,Sorcadins!K$323*K277+K276,IF(K$6,K278,0))","v":0},{"$f":"IF(L$5>=1,Sorcadins!L$323*L277+L276,IF(L$6,L278,0))","v":0},{"$f":"IF(M$5>=1,Sorcadins!M$323*M277+M276,IF(M$6,M278,0))","v":0},{"$f":"IF(N$5>=1,Sorcadins!N$323*N277+N276,IF(N$6,N278,0))","v":0},{"$f":"IF(O$5>=1,Sorcadins!O$323*O277+O276,IF(O$6,O278,0))","v":0},{"$f":"IF(P$5>=1,Sorcadins!P$323*P277+P276,IF(P$6,P278,0))","v":0},{"$f":"IF(Q$5>=1,Sorcadins!Q$323*Q277+Q276,IF(Q$6,Q278,0))","v":0},{"$f":"IF(R$5>=1,Sorcadins!R$323*R277+R276,IF(R$6,R278,0))","v":0},{"$f":"IF(S$5>=1,Sorcadins!S$323*S277+S276,IF(S$6,S278,0))","v":0},{"$f":"IF(T$5>=1,Sorcadins!T$323*T277+T276,IF(T$6,T278,0))","v":0},{"$f":"IF(U$5>=1,Sorcadins!U$323*U277+U276,IF(U$6,U278,0))","v":0},{"$f":"IF(V$5>=1,Sorcadins!V$323*V277+V276,IF(V$6,V278,0))","v":0},{"$f":"IF(W$5>=1,Sorcadins!W$323*W277+W276,IF(W$6,W278,0))","v":0},{"$f":"IF(X$5>=1,Sorcadins!X$323*X277+X276,IF(X$6,X278,0))","v":0}]
[{"$nulls":3},"max number of daily smites (after spells)",{"$f":"IF(E$6,Sorcadins!E$1374,IF(E$5,Sorcadins!E$332+E276/2,0))","v":0},{"$f":"IF(F$6,Sorcadins!F$1374,IF(F$5,Sorcadins!F$332+F276/2,0))","v":0},{"$f":"IF(G$6,Sorcadins!G$1374,IF(G$5,Sorcadins!G$332+G276/2,0))","v":0},{"$f":"IF(H$6,Sorcadins!H$1374,IF(H$5,Sorcadins!H$332+H276/2,0))","v":0},{"$f":"IF(I$6,Sorcadins!I$1374,IF(I$5,Sorcadins!I$332+I276/2,0))","v":0},{"$f":"IF(J$6,Sorcadins!J$1374,IF(J$5,Sorcadins!J$332+J276/2,0))","v":0},{"$f":"IF(K$6,Sorcadins!K$1374,IF(K$5,Sorcadins!K$332+K276/2,0))","v":0},{"$f":"IF(L$6,Sorcadins!L$1374,IF(L$5,Sorcadins!L$332+L276/2,0))","v":0},{"$f":"IF(M$6,Sorcadins!M$1374,IF(M$5,Sorcadins!M$332+M276/2,0))","v":0},{"$f":"IF(N$6,Sorcadins!N$1374,IF(N$5,Sorcadins!N$332+N276/2,0))","v":0},{"$f":"IF(O$6,Sorcadins!O$1374,IF(O$5,Sorcadins!O$332+O276/2,0))","v":0},{"$f":"IF(P$6,Sorcadins!P$1374,IF(P$5,Sorcadins!P$332+P276/2,0))","v":0},{"$f":"IF(Q$6,Sorcadins!Q$1374,IF(Q$5,Sorcadins!Q$332+Q276/2,0))","v":0},{"$f":"IF(R$6,Sorcadins!R$1374,IF(R$5,Sorcadins!R$332+R276/2,0))","v":0},{"$f":"IF(S$6,Sorcadins!S$1374,IF(S$5,Sorcadins!S$332+S276/2,0))","v":0},{"$f":"IF(T$6,Sorcadins!T$1374,IF(T$5,Sorcadins!T$332+T276/2,0))","v":0},{"$f":"IF(U$6,Sorcadins!U$1374,IF(U$5,Sorcadins!U$332+U276/2,0))","v":0},{"$f":"IF(V$6,Sorcadins!V$1374,IF(V$5,Sorcadins!V$332+V276/2,0))","v":0},{"$f":"IF(W$6,Sorcadins!W$1374,IF(W$5,Sorcadins!W$332+W276/2,0))","v":0},{"$f":"IF(X$6,Sorcadins!X$1374,IF(X$5,Sorcadins!X$332+X276/2,0))","v":0}]
[{"$nulls":3},"avg crits per day for smite purposes (based on Damage Scenario)",{"$f":"'Base Numbers'!$C$5*'Base Numbers'!$C$6*Sorcadins!E$1546","v":0},{"$f":"'Base Numbers'!$C$5*'Base Numbers'!$C$6*Sorcadins!F$1546","v":0},{"$f":"'Base Numbers'!$C$5*'Base Numbers'!$C$6*Sorcadins!G$1546","v":0},{"$f":"'Base Numbers'!$C$5*'Base Numbers'!$C$6*Sorcadins!H$1546","v":0},{"$f":"'Base Numbers'!$C$5*'Base Numbers'!$C$6*Sorcadins!I$1546","v":0},{"$f":"'Base Numbers'!$C$5*'Base Numbers'!$C$6*Sorcadins!J$1546","v":0},{"$f":"'Base Numbers'!$C$5*'Base Numbers'!$C$6*Sorcadins!K$1546","v":0},{"$f":"'Base Numbers'!$C$5*'Base Numbers'!$C$6*Sorcadins!L$1546","v":0},{"$f":"'Base Numbers'!$C$5*'Base Numbers'!$C$6*Sorcadins!M$1546","v":0},{"$f":"'Base Numbers'!$C$5*'Base Numbers'!$C$6*Sorcadins!N$1546","v":0},{"$f":"'Base Numbers'!$C$5*'Base Numbers'!$C$6*Sorcadins!O$1546","v":0},{"$f":"'Base Numbers'!$C$5*'Base Numbers'!$C$6*Sorcadins!P$1546","v":0},{"$f":"'Base Numbers'!$C$5*'Base Numbers'!$C$6*Sorcadins!Q$1546","v":0},{"$f":"'Base Numbers'!$C$5*'Base Numbers'!$C$6*Sorcadins!R$1546","v":0},{"$f":"'Base Numbers'!$C$5*'Base Numbers'!$C$6*Sorcadins!S$1546","v":0},{"$f":"'Base Numbers'!$C$5*'Base Numbers'!$C$6*Sorcadins!T$1546","v":0},{"$f":"'Base Numbers'!$C$5*'Base Numbers'!$C$6*Sorcadins!U$1546","v":0},{"$f":"'Base Numbers'!$C$5*'Base Numbers'!$C$6*Sorcadins!V$1546","v":0},{"$f":"'Base Numbers'!$C$5*'Base Numbers'!$C$6*Sorcadins!W$1546","v":0},{"$f":"'Base Numbers'!$C$5*'Base Numbers'!$C$6*Sorcadins!X$1546","v":0}]
[{"$nulls":3},"number of smites used on crits",{"$f":"MIN(E280,E281)","v":0},{"$f":"MIN(F280,F281)","v":0},0,0,0,0,0,0,0,0,0,0,0,0,0,0,0,0,0,0]
[{"$nulls":3},"avg smite dice per crit ",{"$f":"IF(E282>0,MIN(E$7,(E279/MIN(E282,E281))),0)","v":0},0,0,0,0,0,0,0,0,0,0,0,0,0,0,0,0,0,0,0]
[{"$nulls":3},"smites left for non-crits",{"$f":"E280-E282","v":0},{"$f":"F280-F282","v":0},0,0,0,0,0,0,0,0,0,0,0,0,0,0,0,0,0,0]
[{"$nulls":3},"total non-crit smite-qualifying attacks available",{"$f":"Sorcadins!E$1521*('Base Numbers'!$C$5*'Base Numbers'!$C$6)-E281","v":0},{"$f":"Sorcadins!F$1521*('Base Numbers'!$C$5*'Base Numbers'!$C$6)-F281","v":0},{"$f":"Sorcadins!G$1521*('Base Numbers'!$C$5*'Base Numbers'!$C$6)-G281","v":0},{"$f":"Sorcadins!H$1521*('Base Numbers'!$C$5*'Base Numbers'!$C$6)-H281","v":0},{"$f":"Sorcadins!I$1521*('Base Numbers'!$C$5*'Base Numbers'!$C$6)-I281","v":0},{"$f":"Sorcadins!J$1521*('Base Numbers'!$C$5*'Base Numbers'!$C$6)-J281","v":0},{"$f":"Sorcadins!K$1521*('Base Numbers'!$C$5*'Base Numbers'!$C$6)-K281","v":0},{"$f":"Sorcadins!L$1521*('Base Numbers'!$C$5*'Base Numbers'!$C$6)-L281","v":0},{"$f":"Sorcadins!M$1521*('Base Numbers'!$C$5*'Base Numbers'!$C$6)-M281","v":0},{"$f":"Sorcadins!N$1521*('Base Numbers'!$C$5*'Base Numbers'!$C$6)-N281","v":0},{"$f":"Sorcadins!O$1521*('Base Numbers'!$C$5*'Base Numbers'!$C$6)-O281","v":0},{"$f":"Sorcadins!P$1521*('Base Numbers'!$C$5*'Base Numbers'!$C$6)-P281","v":0},{"$f":"Sorcadins!Q$1521*('Base Numbers'!$C$5*'Base Numbers'!$C$6)-Q281","v":0},{"$f":"Sorcadins!R$1521*('Base Numbers'!$C$5*'Base Numbers'!$C$6)-R281","v":0},{"$f":"Sorcadins!S$1521*('Base Numbers'!$C$5*'Base Numbers'!$C$6)-S281","v":0},{"$f":"Sorcadins!T$1521*('Base Numbers'!$C$5*'Base Numbers'!$C$6)-T281","v":0},{"$f":"Sorcadins!U$1521*('Base Numbers'!$C$5*'Base Numbers'!$C$6)-U281","v":0},{"$f":"Sorcadins!V$1521*('Base Numbers'!$C$5*'Base Numbers'!$C$6)-V281","v":0},{"$f":"Sorcadins!W$1521*('Base Numbers'!$C$5*'Base Numbers'!$C$6)-W281","v":0},{"$f":"Sorcadins!X$1521*('Base Numbers'!$C$5*'Base Numbers'!$C$6)-X281","v":0}]
[{"$nulls":3},"smite dice left for non-crits",{"$f":"ROUND(MAX(0,E279-E281*E283),4)","v":0},{"$f":"ROUND(MAX(0,F279-F281*F283),4)","v":0},0,0,0,0,0,0,0,0,0,0,0,0,0,0,0,0,0,0]
[{"$nulls":3},"total smite dice used on crits",{"$f":"E282*E283","v":0},{"$f":"F282*F283","v":0},0,0,0,0,0,0,0,0,0,0,0,0,0,0,0,0,0,0]
[{"$nulls":3},"total crit smite damage per day",{"$f":"9*E287","v":0},{"$f":"9*F287","v":0},0,0,0,0,0,0,0,0,0,0,0,0,0,0,0,0,0,0]
[{"$nulls":3},"total non-crit smite damage per day",{"$f":"4.5*MIN(MIN(E285,E284)*E$7,E286)","v":0},{"$f":"4.5*MIN(MIN(F285,F284)*F$7,F286)","v":0},0,0,0,0,0,0,0,0,0,0,0,0,0,0,0,0,0,0]
[{"$nulls":3},"leftover sorc points + spell levels",{"$f":"IF(E279>0,IF(Sorcadins!E$323>0,(Sorcadins!E$323*E277+E276-E282*E283-E289/4.5)/Sorcadins!E$323,0),E277+E276)","v":0},{"$f":"IF(F279>0,IF(Sorcadins!F$323>0,(Sorcadins!F$323*F277+F276-F282*F283-F289/4.5)/Sorcadins!F$323,0),F277+F276)","v":0},{"$f":"IF(G279>0,IF(Sorcadins!G$323>0,(Sorcadins!G$323*G277+G276-G282*G283-G289/4.5)/Sorcadins!G$323,0),G277+G276)","v":0},{"$f":"IF(H279>0,IF(Sorcadins!H$323>0,(Sorcadins!H$323*H277+H276-H282*H283-H289/4.5)/Sorcadins!H$323,0),H277+H276)","v":0},{"$f":"IF(I279>0,IF(Sorcadins!I$323>0,(Sorcadins!I$323*I277+I276-I282*I283-I289/4.5)/Sorcadins!I$323,0),I277+I276)","v":4},{"$f":"IF(J279>0,IF(Sorcadins!J$323>0,(Sorcadins!J$323*J277+J276-J282*J283-J289/4.5)/Sorcadins!J$323,0),J277+J276)","v":4},{"$f":"IF(K279>0,IF(Sorcadins!K$323>0,(Sorcadins!K$323*K277+K276-K282*K283-K289/4.5)/Sorcadins!K$323,0),K277+K276)","v":4},{"$f":"IF(L279>0,IF(Sorcadins!L$323>0,(Sorcadins!L$323*L277+L276-L282*L283-L289/4.5)/Sorcadins!L$323,0),L277+L276)","v":4},{"$f":"IF(M279>0,IF(Sorcadins!M$323>0,(Sorcadins!M$323*M277+M276-M282*M283-M289/4.5)/Sorcadins!M$323,0),M277+M276)","v":4},{"$f":"IF(N279>0,IF(Sorcadins!N$323>0,(Sorcadins!N$323*N277+N276-N282*N283-N289/4.5)/Sorcadins!N$323,0),N277+N276)","v":4},{"$f":"IF(O279>0,IF(Sorcadins!O$323>0,(Sorcadins!O$323*O277+O276-O282*O283-O289/4.5)/Sorcadins!O$323,0),O277+O276)","v":4},{"$f":"IF(P279>0,IF(Sorcadins!P$323>0,(Sorcadins!P$323*P277+P276-P282*P283-P289/4.5)/Sorcadins!P$323,0),P277+P276)","v":4},{"$f":"IF(Q279>0,IF(Sorcadins!Q$323>0,(Sorcadins!Q$323*Q277+Q276-Q282*Q283-Q289/4.5)/Sorcadins!Q$323,0),Q277+Q276)","v":4},{"$f":"IF(R279>0,IF(Sorcadins!R$323>0,(Sorcadins!R$323*R277+R276-R282*R283-R289/4.5)/Sorcadins!R$323,0),R277+R276)","v":4},{"$f":"IF(S279>0,IF(Sorcadins!S$323>0,(Sorcadins!S$323*S277+S276-S282*S283-S289/4.5)/Sorcadins!S$323,0),S277+S276)","v":4},{"$f":"IF(T279>0,IF(Sorcadins!T$323>0,(Sorcadins!T$323*T277+T276-T282*T283-T289/4.5)/Sorcadins!T$323,0),T277+T276)","v":4},{"$f":"IF(U279>0,IF(Sorcadins!U$323>0,(Sorcadins!U$323*U277+U276-U282*U283-U289/4.5)/Sorcadins!U$323,0),U277+U276)","v":4},{"$f":"IF(V279>0,IF(Sorcadins!V$323>0,(Sorcadins!V$323*V277+V276-V282*V283-V289/4.5)/Sorcadins!V$323,0),V277+V276)","v":4},{"$f":"IF(W279>0,IF(Sorcadins!W$323>0,(Sorcadins!W$323*W277+W276-W282*W283-W289/4.5)/Sorcadins!W$323,0),W277+W276)","v":4.770831803630529},{"$f":"IF(X279>0,IF(Sorcadins!X$323>0,(Sorcadins!X$323*X277+X276-X282*X283-X289/4.5)/Sorcadins!X$323,0),X277+X276)","v":4.770831803630529}]
[{"$nulls":3},"actual smites performed",{"$f":"E282+IF(E$7>0,MIN(E284,E285,E286/E$7),0)","v":0},{"$f":"F282+IF(F$7>0,MIN(F284,F285,F286/F$7),0)","v":0},0,0,0,0,0,0,0,0,0,0,0,0,0,0,0,0,0,0]
[{"$nulls":3},"total daily smite damage: M2, B12, O1/O2",{"$f":"E288+E289","v":0},{"$f":"F288+F289","v":0},0,0,0,0,0,0,0,0,0,0,0,0,0,0,0,0,0,0]
[]
[{"$nulls":3},"SMITES - M2, B12, O3",1,2,3,4,5,6,7,8,9,10,11,12,13,14,15,16,17,18,19,20]
[{"$nulls":3},"remaining sorcery points (based on Damage Scenario)",{"$f":"MAX(0,Sorcadins!E$623-Sorcadins!E$1503)","v":0},{"$f":"MAX(0,Sorcadins!F$623-Sorcadins!F$1503)","v":0},{"$f":"MAX(0,Sorcadins!G$623-Sorcadins!G$1503)","v":0},{"$f":"MAX(0,Sorcadins!H$623-Sorcadins!H$1503)","v":0},{"$f":"MAX(0,Sorcadins!I$623-Sorcadins!I$1503)","v":0},{"$f":"MAX(0,Sorcadins!J$623-Sorcadins!J$1503)","v":0},{"$f":"MAX(0,Sorcadins!K$623-Sorcadins!K$1503)","v":0},{"$f":"MAX(0,Sorcadins!L$623-Sorcadins!L$1503)","v":0},{"$f":"MAX(0,Sorcadins!M$623-Sorcadins!M$1503)","v":0},{"$f":"MAX(0,Sorcadins!N$623-Sorcadins!N$1503)","v":0},{"$f":"MAX(0,Sorcadins!O$623-Sorcadins!O$1503)","v":0},{"$f":"MAX(0,Sorcadins!P$623-Sorcadins!P$1503)","v":0},{"$f":"MAX(0,Sorcadins!Q$623-Sorcadins!Q$1503)","v":0},{"$f":"MAX(0,Sorcadins!R$623-Sorcadins!R$1503)","v":0},{"$f":"MAX(0,Sorcadins!S$623-Sorcadins!S$1503)","v":0},{"$f":"MAX(0,Sorcadins!T$623-Sorcadins!T$1503)","v":0},{"$f":"MAX(0,Sorcadins!U$623-Sorcadins!U$1503)","v":0},{"$f":"MAX(0,Sorcadins!V$623-Sorcadins!V$1503)","v":0},{"$f":"MAX(0,Sorcadins!W$623-Sorcadins!W$1503)","v":0},{"$f":"MAX(0,Sorcadins!X$623-Sorcadins!X$1503)","v":0},null,"*Sorc points directly convertible to Smite Dice"]
[{"$nulls":3},"remaining spell slot levels (based on Damage Scenario)",{"$f":"MAX(0,Sorcadins!E$331-MAX(0,Sorcadins!E$1503-Sorcadins!E$623))","v":0},{"$f":"MAX(0,Sorcadins!F$331-MAX(0,Sorcadins!F$1503-Sorcadins!F$623))","v":0},{"$f":"MAX(0,Sorcadins!G$331-MAX(0,Sorcadins!G$1503-Sorcadins!G$623))","v":0},{"$f":"MAX(0,Sorcadins!H$331-MAX(0,Sorcadins!H$1503-Sorcadins!H$623))","v":0},{"$f":"MAX(0,Sorcadins!I$331-MAX(0,Sorcadins!I$1503-Sorcadins!I$623))","v":4},{"$f":"MAX(0,Sorcadins!J$331-MAX(0,Sorcadins!J$1503-Sorcadins!J$623))","v":4},{"$f":"MAX(0,Sorcadins!K$331-MAX(0,Sorcadins!K$1503-Sorcadins!K$623))","v":4},{"$f":"MAX(0,Sorcadins!L$331-MAX(0,Sorcadins!L$1503-Sorcadins!L$623))","v":4},{"$f":"MAX(0,Sorcadins!M$331-MAX(0,Sorcadins!M$1503-Sorcadins!M$623))","v":4},{"$f":"MAX(0,Sorcadins!N$331-MAX(0,Sorcadins!N$1503-Sorcadins!N$623))","v":4},{"$f":"MAX(0,Sorcadins!O$331-MAX(0,Sorcadins!O$1503-Sorcadins!O$623))","v":4},{"$f":"MAX(0,Sorcadins!P$331-MAX(0,Sorcadins!P$1503-Sorcadins!P$623))","v":4},{"$f":"MAX(0,Sorcadins!Q$331-MAX(0,Sorcadins!Q$1503-Sorcadins!Q$623))","v":4},{"$f":"MAX(0,Sorcadins!R$331-MAX(0,Sorcadins!R$1503-Sorcadins!R$623))","v":4},{"$f":"MAX(0,Sorcadins!S$331-MAX(0,Sorcadins!S$1503-Sorcadins!S$623))","v":4},{"$f":"MAX(0,Sorcadins!T$331-MAX(0,Sorcadins!T$1503-Sorcadins!T$623))","v":4},{"$f":"MAX(0,Sorcadins!U$331-MAX(0,Sorcadins!U$1503-Sorcadins!U$623))","v":4},{"$f":"MAX(0,Sorcadins!V$331-MAX(0,Sorcadins!V$1503-Sorcadins!V$623))","v":4},{"$f":"MAX(0,Sorcadins!W$331-MAX(0,Sorcadins!W$1503-Sorcadins!W$623))","v":4.770831803630529},{"$f":"MAX(0,Sorcadins!X$331-MAX(0,Sorcadins!X$1503-Sorcadins!X$623))","v":4.770831803630529}]
[{"$nulls":3},"total warlock smite levels remaining",{"$f":"MIN(Sorcadins!E$323*E296,Sorcadins!E$314)","v":0},{"$f":"MIN(Sorcadins!F$323*F296,Sorcadins!F$314)","v":0},{"$f":"MIN(Sorcadins!G$323*G296,Sorcadins!G$314)","v":0},{"$f":"MIN(Sorcadins!H$323*H296,Sorcadins!H$314)","v":0},{"$f":"MIN(Sorcadins!I$323*I296,Sorcadins!I$314)","v":0},{"$f":"MIN(Sorcadins!J$323*J296,Sorcadins!J$314)","v":0},{"$f":"MIN(Sorcadins!K$323*K296,Sorcadins!K$314)","v":0},{"$f":"MIN(Sorcadins!L$323*L296,Sorcadins!L$314)","v":0},{"$f":"MIN(Sorcadins!M$323*M296,Sorcadins!M$314)","v":0},{"$f":"MIN(Sorcadins!N$323*N296,Sorcadins!N$314)","v":0},{"$f":"MIN(Sorcadins!O$323*O296,Sorcadins!O$314)","v":0},{"$f":"MIN(Sorcadins!P$323*P296,Sorcadins!P$314)","v":0},{"$f":"MIN(Sorcadins!Q$323*Q296,Sorcadins!Q$314)","v":0},{"$f":"MIN(Sorcadins!R$323*R296,Sorcadins!R$314)","v":0},{"$f":"MIN(Sorcadins!S$323*S296,Sorcadins!S$314)","v":0},{"$f":"MIN(Sorcadins!T$323*T296,Sorcadins!T$314)","v":0},{"$f":"MIN(Sorcadins!U$323*U296,Sorcadins!U$314)","v":0},{"$f":"MIN(Sorcadins!V$323*V296,Sorcadins!V$314)","v":0},{"$f":"MIN(Sorcadins!W$323*W296,Sorcadins!W$314)","v":0},{"$f":"MIN(Sorcadins!X$323*X296,Sorcadins!X$314)","v":0}]
[{"$nulls":3},"total smite levels remaining",{"$f":"IF(E$5>=1,Sorcadins!E$323*E296+E295,IF(E$6,E297,0))","v":0},{"$f":"IF(F$5>=1,Sorcadins!F$323*F296+F295,IF(F$6,F297,0))","v":0},{"$f":"IF(G$5>=1,Sorcadins!G$323*G296+G295,IF(G$6,G297,0))","v":0},{"$f":"IF(H$5>=1,Sorcadins!H$323*H296+H295,IF(H$6,H297,0))","v":0},{"$f":"IF(I$5>=1,Sorcadins!I$323*I296+I295,IF(I$6,I297,0))","v":0},{"$f":"IF(J$5>=1,Sorcadins!J$323*J296+J295,IF(J$6,J297,0))","v":0},{"$f":"IF(K$5>=1,Sorcadins!K$323*K296+K295,IF(K$6,K297,0))","v":0},{"$f":"IF(L$5>=1,Sorcadins!L$323*L296+L295,IF(L$6,L297,0))","v":0},{"$f":"IF(M$5>=1,Sorcadins!M$323*M296+M295,IF(M$6,M297,0))","v":0},{"$f":"IF(N$5>=1,Sorcadins!N$323*N296+N295,IF(N$6,N297,0))","v":0},{"$f":"IF(O$5>=1,Sorcadins!O$323*O296+O295,IF(O$6,O297,0))","v":0},{"$f":"IF(P$5>=1,Sorcadins!P$323*P296+P295,IF(P$6,P297,0))","v":0},{"$f":"IF(Q$5>=1,Sorcadins!Q$323*Q296+Q295,IF(Q$6,Q297,0))","v":0},{"$f":"IF(R$5>=1,Sorcadins!R$323*R296+R295,IF(R$6,R297,0))","v":0},{"$f":"IF(S$5>=1,Sorcadins!S$323*S296+S295,IF(S$6,S297,0))","v":0},{"$f":"IF(T$5>=1,Sorcadins!T$323*T296+T295,IF(T$6,T297,0))","v":0},{"$f":"IF(U$5>=1,Sorcadins!U$323*U296+U295,IF(U$6,U297,0))","v":0},{"$f":"IF(V$5>=1,Sorcadins!V$323*V296+V295,IF(V$6,V297,0))","v":0},{"$f":"IF(W$5>=1,Sorcadins!W$323*W296+W295,IF(W$6,W297,0))","v":0},{"$f":"IF(X$5>=1,Sorcadins!X$323*X296+X295,IF(X$6,X297,0))","v":0}]
[{"$nulls":3},"max number of daily smites (after spells)",{"$f":"IF(E$6,Sorcadins!E$1374,IF(E$5,Sorcadins!E$332+E295/2,0))","v":0},{"$f":"IF(F$6,Sorcadins!F$1374,IF(F$5,Sorcadins!F$332+F295/2,0))","v":0},{"$f":"IF(G$6,Sorcadins!G$1374,IF(G$5,Sorcadins!G$332+G295/2,0))","v":0},{"$f":"IF(H$6,Sorcadins!H$1374,IF(H$5,Sorcadins!H$332+H295/2,0))","v":0},{"$f":"IF(I$6,Sorcadins!I$1374,IF(I$5,Sorcadins!I$332+I295/2,0))","v":0},{"$f":"IF(J$6,Sorcadins!J$1374,IF(J$5,Sorcadins!J$332+J295/2,0))","v":0},{"$f":"IF(K$6,Sorcadins!K$1374,IF(K$5,Sorcadins!K$332+K295/2,0))","v":0},{"$f":"IF(L$6,Sorcadins!L$1374,IF(L$5,Sorcadins!L$332+L295/2,0))","v":0},{"$f":"IF(M$6,Sorcadins!M$1374,IF(M$5,Sorcadins!M$332+M295/2,0))","v":0},{"$f":"IF(N$6,Sorcadins!N$1374,IF(N$5,Sorcadins!N$332+N295/2,0))","v":0},{"$f":"IF(O$6,Sorcadins!O$1374,IF(O$5,Sorcadins!O$332+O295/2,0))","v":0},{"$f":"IF(P$6,Sorcadins!P$1374,IF(P$5,Sorcadins!P$332+P295/2,0))","v":0},{"$f":"IF(Q$6,Sorcadins!Q$1374,IF(Q$5,Sorcadins!Q$332+Q295/2,0))","v":0},{"$f":"IF(R$6,Sorcadins!R$1374,IF(R$5,Sorcadins!R$332+R295/2,0))","v":0},{"$f":"IF(S$6,Sorcadins!S$1374,IF(S$5,Sorcadins!S$332+S295/2,0))","v":0},{"$f":"IF(T$6,Sorcadins!T$1374,IF(T$5,Sorcadins!T$332+T295/2,0))","v":0},{"$f":"IF(U$6,Sorcadins!U$1374,IF(U$5,Sorcadins!U$332+U295/2,0))","v":0},{"$f":"IF(V$6,Sorcadins!V$1374,IF(V$5,Sorcadins!V$332+V295/2,0))","v":0},{"$f":"IF(W$6,Sorcadins!W$1374,IF(W$5,Sorcadins!W$332+W295/2,0))","v":0},{"$f":"IF(X$6,Sorcadins!X$1374,IF(X$5,Sorcadins!X$332+X295/2,0))","v":0}]
[{"$nulls":3},"avg crits per day for smite purposes (based on Damage Scenario)",{"$f":"'Base Numbers'!$C$5*'Base Numbers'!$C$6*Sorcadins!E$1547","v":0},{"$f":"'Base Numbers'!$C$5*'Base Numbers'!$C$6*Sorcadins!F$1547","v":0},{"$f":"'Base Numbers'!$C$5*'Base Numbers'!$C$6*Sorcadins!G$1547","v":0},{"$f":"'Base Numbers'!$C$5*'Base Numbers'!$C$6*Sorcadins!H$1547","v":0},{"$f":"'Base Numbers'!$C$5*'Base Numbers'!$C$6*Sorcadins!I$1547","v":0},{"$f":"'Base Numbers'!$C$5*'Base Numbers'!$C$6*Sorcadins!J$1547","v":0},{"$f":"'Base Numbers'!$C$5*'Base Numbers'!$C$6*Sorcadins!K$1547","v":0},{"$f":"'Base Numbers'!$C$5*'Base Numbers'!$C$6*Sorcadins!L$1547","v":0},{"$f":"'Base Numbers'!$C$5*'Base Numbers'!$C$6*Sorcadins!M$1547","v":0},{"$f":"'Base Numbers'!$C$5*'Base Numbers'!$C$6*Sorcadins!N$1547","v":0},{"$f":"'Base Numbers'!$C$5*'Base Numbers'!$C$6*Sorcadins!O$1547","v":0},{"$f":"'Base Numbers'!$C$5*'Base Numbers'!$C$6*Sorcadins!P$1547","v":0},{"$f":"'Base Numbers'!$C$5*'Base Numbers'!$C$6*Sorcadins!Q$1547","v":0},{"$f":"'Base Numbers'!$C$5*'Base Numbers'!$C$6*Sorcadins!R$1547","v":0},{"$f":"'Base Numbers'!$C$5*'Base Numbers'!$C$6*Sorcadins!S$1547","v":0},{"$f":"'Base Numbers'!$C$5*'Base Numbers'!$C$6*Sorcadins!T$1547","v":0},{"$f":"'Base Numbers'!$C$5*'Base Numbers'!$C$6*Sorcadins!U$1547","v":0},{"$f":"'Base Numbers'!$C$5*'Base Numbers'!$C$6*Sorcadins!V$1547","v":0},{"$f":"'Base Numbers'!$C$5*'Base Numbers'!$C$6*Sorcadins!W$1547","v":0},{"$f":"'Base Numbers'!$C$5*'Base Numbers'!$C$6*Sorcadins!X$1547","v":0}]
[{"$nulls":3},"number of smites used on crits",{"$f":"MIN(E299,E300)","v":0},{"$f":"MIN(F299,F300)","v":0},0,0,0,0,0,0,0,0,0,0,0,0,0,0,0,0,0,0]
[{"$nulls":3},"avg smite dice per crit ",{"$f":"IF(E301>0,MIN(E$7,(E298/MIN(E301,E300))),0)","v":0},0,0,0,0,0,0,0,0,0,0,0,0,0,0,0,0,0,0,0]
[{"$nulls":3},"smites left for non-crits",{"$f":"E299-E301","v":0},{"$f":"F299-F301","v":0},0,0,0,0,0,0,0,0,0,0,0,0,0,0,0,0,0,0]
[{"$nulls":3},"total non-crit smite-qualifying attacks available",{"$f":"Sorcadins!E$1522*('Base Numbers'!$C$5*'Base Numbers'!$C$6)-E300","v":0},{"$f":"Sorcadins!F$1522*('Base Numbers'!$C$5*'Base Numbers'!$C$6)-F300","v":0},{"$f":"Sorcadins!G$1522*('Base Numbers'!$C$5*'Base Numbers'!$C$6)-G300","v":0},{"$f":"Sorcadins!H$1522*('Base Numbers'!$C$5*'Base Numbers'!$C$6)-H300","v":0},{"$f":"Sorcadins!I$1522*('Base Numbers'!$C$5*'Base Numbers'!$C$6)-I300","v":0},{"$f":"Sorcadins!J$1522*('Base Numbers'!$C$5*'Base Numbers'!$C$6)-J300","v":0},{"$f":"Sorcadins!K$1522*('Base Numbers'!$C$5*'Base Numbers'!$C$6)-K300","v":0},{"$f":"Sorcadins!L$1522*('Base Numbers'!$C$5*'Base Numbers'!$C$6)-L300","v":0},{"$f":"Sorcadins!M$1522*('Base Numbers'!$C$5*'Base Numbers'!$C$6)-M300","v":0},{"$f":"Sorcadins!N$1522*('Base Numbers'!$C$5*'Base Numbers'!$C$6)-N300","v":0},{"$f":"Sorcadins!O$1522*('Base Numbers'!$C$5*'Base Numbers'!$C$6)-O300","v":0},{"$f":"Sorcadins!P$1522*('Base Numbers'!$C$5*'Base Numbers'!$C$6)-P300","v":0},{"$f":"Sorcadins!Q$1522*('Base Numbers'!$C$5*'Base Numbers'!$C$6)-Q300","v":0},{"$f":"Sorcadins!R$1522*('Base Numbers'!$C$5*'Base Numbers'!$C$6)-R300","v":0},{"$f":"Sorcadins!S$1522*('Base Numbers'!$C$5*'Base Numbers'!$C$6)-S300","v":0},{"$f":"Sorcadins!T$1522*('Base Numbers'!$C$5*'Base Numbers'!$C$6)-T300","v":0},{"$f":"Sorcadins!U$1522*('Base Numbers'!$C$5*'Base Numbers'!$C$6)-U300","v":0},{"$f":"Sorcadins!V$1522*('Base Numbers'!$C$5*'Base Numbers'!$C$6)-V300","v":0},{"$f":"Sorcadins!W$1522*('Base Numbers'!$C$5*'Base Numbers'!$C$6)-W300","v":0},{"$f":"Sorcadins!X$1522*('Base Numbers'!$C$5*'Base Numbers'!$C$6)-X300","v":0}]
[{"$nulls":3},"smite dice left for non-crits",{"$f":"ROUND(MAX(0,E298-E300*E302),4)","v":0},{"$f":"ROUND(MAX(0,F298-F300*F302),4)","v":0},0,0,0,0,0,0,0,0,0,0,0,0,0,0,0,0,0,0]
[{"$nulls":3},"total smite dice used on crits",{"$f":"E301*E302","v":0},{"$f":"F301*F302","v":0},0,0,0,0,0,0,0,0,0,0,0,0,0,0,0,0,0,0]
[{"$nulls":3},"total crit smite damage per day",{"$f":"9*E306","v":0},{"$f":"9*F306","v":0},0,0,0,0,0,0,0,0,0,0,0,0,0,0,0,0,0,0]
[{"$nulls":3},"total non-crit smite damage per day",{"$f":"4.5*MIN(MIN(E304,E303)*E$7,E305)","v":0},{"$f":"4.5*MIN(MIN(F304,F303)*F$7,F305)","v":0},0,0,0,0,0,0,0,0,0,0,0,0,0,0,0,0,0,0]
[{"$nulls":3},"leftover sorc points + spell levels",{"$f":"IF(E298>0,IF(Sorcadins!E$323>0,(Sorcadins!E$323*E296+E295-E301*E302-E308/4.5)/Sorcadins!E$323,0),E296+E295)","v":0},{"$f":"IF(F298>0,IF(Sorcadins!F$323>0,(Sorcadins!F$323*F296+F295-F301*F302-F308/4.5)/Sorcadins!F$323,0),F296+F295)","v":0},{"$f":"IF(G298>0,IF(Sorcadins!G$323>0,(Sorcadins!G$323*G296+G295-G301*G302-G308/4.5)/Sorcadins!G$323,0),G296+G295)","v":0},{"$f":"IF(H298>0,IF(Sorcadins!H$323>0,(Sorcadins!H$323*H296+H295-H301*H302-H308/4.5)/Sorcadins!H$323,0),H296+H295)","v":0},{"$f":"IF(I298>0,IF(Sorcadins!I$323>0,(Sorcadins!I$323*I296+I295-I301*I302-I308/4.5)/Sorcadins!I$323,0),I296+I295)","v":4},{"$f":"IF(J298>0,IF(Sorcadins!J$323>0,(Sorcadins!J$323*J296+J295-J301*J302-J308/4.5)/Sorcadins!J$323,0),J296+J295)","v":4},{"$f":"IF(K298>0,IF(Sorcadins!K$323>0,(Sorcadins!K$323*K296+K295-K301*K302-K308/4.5)/Sorcadins!K$323,0),K296+K295)","v":4},{"$f":"IF(L298>0,IF(Sorcadins!L$323>0,(Sorcadins!L$323*L296+L295-L301*L302-L308/4.5)/Sorcadins!L$323,0),L296+L295)","v":4},{"$f":"IF(M298>0,IF(Sorcadins!M$323>0,(Sorcadins!M$323*M296+M295-M301*M302-M308/4.5)/Sorcadins!M$323,0),M296+M295)","v":4},{"$f":"IF(N298>0,IF(Sorcadins!N$323>0,(Sorcadins!N$323*N296+N295-N301*N302-N308/4.5)/Sorcadins!N$323,0),N296+N295)","v":4},{"$f":"IF(O298>0,IF(Sorcadins!O$323>0,(Sorcadins!O$323*O296+O295-O301*O302-O308/4.5)/Sorcadins!O$323,0),O296+O295)","v":4},{"$f":"IF(P298>0,IF(Sorcadins!P$323>0,(Sorcadins!P$323*P296+P295-P301*P302-P308/4.5)/Sorcadins!P$323,0),P296+P295)","v":4},{"$f":"IF(Q298>0,IF(Sorcadins!Q$323>0,(Sorcadins!Q$323*Q296+Q295-Q301*Q302-Q308/4.5)/Sorcadins!Q$323,0),Q296+Q295)","v":4},{"$f":"IF(R298>0,IF(Sorcadins!R$323>0,(Sorcadins!R$323*R296+R295-R301*R302-R308/4.5)/Sorcadins!R$323,0),R296+R295)","v":4},{"$f":"IF(S298>0,IF(Sorcadins!S$323>0,(Sorcadins!S$323*S296+S295-S301*S302-S308/4.5)/Sorcadins!S$323,0),S296+S295)","v":4},{"$f":"IF(T298>0,IF(Sorcadins!T$323>0,(Sorcadins!T$323*T296+T295-T301*T302-T308/4.5)/Sorcadins!T$323,0),T296+T295)","v":4},{"$f":"IF(U298>0,IF(Sorcadins!U$323>0,(Sorcadins!U$323*U296+U295-U301*U302-U308/4.5)/Sorcadins!U$323,0),U296+U295)","v":4},{"$f":"IF(V298>0,IF(Sorcadins!V$323>0,(Sorcadins!V$323*V296+V295-V301*V302-V308/4.5)/Sorcadins!V$323,0),V296+V295)","v":4},{"$f":"IF(W298>0,IF(Sorcadins!W$323>0,(Sorcadins!W$323*W296+W295-W301*W302-W308/4.5)/Sorcadins!W$323,0),W296+W295)","v":4.770831803630529},{"$f":"IF(X298>0,IF(Sorcadins!X$323>0,(Sorcadins!X$323*X296+X295-X301*X302-X308/4.5)/Sorcadins!X$323,0),X296+X295)","v":4.770831803630529}]
[{"$nulls":3},"actual smites performed",{"$f":"E301+IF(E$7>0,MIN(E303,E304,E305/E$7),0)","v":0},{"$f":"F301+IF(F$7>0,MIN(F303,F304,F305/F$7),0)","v":0},0,0,0,0,0,0,0,0,0,0,0,0,0,0,0,0,0,0]
[{"$nulls":3},"total daily smite damage: M2, B12, O3",{"$f":"E307+E308","v":0},{"$f":"F307+F308","v":0},0,0,0,0,0,0,0,0,0,0,0,0,0,0,0,0,0,0]
[]
[{"$nulls":3},"SMITES - M2, B13, O1/O2",1,2,3,4,5,6,7,8,9,10,11,12,13,14,15,16,17,18,19,20]
[{"$nulls":3},"remaining sorcery points (based on Damage Scenario)",{"$f":"MAX(0,Sorcadins!E$623-Sorcadins!E$1503)","v":0},{"$f":"MAX(0,Sorcadins!F$623-Sorcadins!F$1503)","v":0},{"$f":"MAX(0,Sorcadins!G$623-Sorcadins!G$1503)","v":0},{"$f":"MAX(0,Sorcadins!H$623-Sorcadins!H$1503)","v":0},{"$f":"MAX(0,Sorcadins!I$623-Sorcadins!I$1503)","v":0},{"$f":"MAX(0,Sorcadins!J$623-Sorcadins!J$1503)","v":0},{"$f":"MAX(0,Sorcadins!K$623-Sorcadins!K$1503)","v":0},{"$f":"MAX(0,Sorcadins!L$623-Sorcadins!L$1503)","v":0},{"$f":"MAX(0,Sorcadins!M$623-Sorcadins!M$1503)","v":0},{"$f":"MAX(0,Sorcadins!N$623-Sorcadins!N$1503)","v":0},{"$f":"MAX(0,Sorcadins!O$623-Sorcadins!O$1503)","v":0},{"$f":"MAX(0,Sorcadins!P$623-Sorcadins!P$1503)","v":0},{"$f":"MAX(0,Sorcadins!Q$623-Sorcadins!Q$1503)","v":0},{"$f":"MAX(0,Sorcadins!R$623-Sorcadins!R$1503)","v":0},{"$f":"MAX(0,Sorcadins!S$623-Sorcadins!S$1503)","v":0},{"$f":"MAX(0,Sorcadins!T$623-Sorcadins!T$1503)","v":0},{"$f":"MAX(0,Sorcadins!U$623-Sorcadins!U$1503)","v":0},{"$f":"MAX(0,Sorcadins!V$623-Sorcadins!V$1503)","v":0},{"$f":"MAX(0,Sorcadins!W$623-Sorcadins!W$1503)","v":0},{"$f":"MAX(0,Sorcadins!X$623-Sorcadins!X$1503)","v":0},null,"*Sorc points directly convertible to Smite Dice"]
[{"$nulls":3},"remaining spell slot levels (based on Damage Scenario)",{"$f":"MAX(0,Sorcadins!E$331-MAX(0,Sorcadins!E$1503-Sorcadins!E$623))","v":0},{"$f":"MAX(0,Sorcadins!F$331-MAX(0,Sorcadins!F$1503-Sorcadins!F$623))","v":0},{"$f":"MAX(0,Sorcadins!G$331-MAX(0,Sorcadins!G$1503-Sorcadins!G$623))","v":0},{"$f":"MAX(0,Sorcadins!H$331-MAX(0,Sorcadins!H$1503-Sorcadins!H$623))","v":0},{"$f":"MAX(0,Sorcadins!I$331-MAX(0,Sorcadins!I$1503-Sorcadins!I$623))","v":4},{"$f":"MAX(0,Sorcadins!J$331-MAX(0,Sorcadins!J$1503-Sorcadins!J$623))","v":4},{"$f":"MAX(0,Sorcadins!K$331-MAX(0,Sorcadins!K$1503-Sorcadins!K$623))","v":4},{"$f":"MAX(0,Sorcadins!L$331-MAX(0,Sorcadins!L$1503-Sorcadins!L$623))","v":4},{"$f":"MAX(0,Sorcadins!M$331-MAX(0,Sorcadins!M$1503-Sorcadins!M$623))","v":4},{"$f":"MAX(0,Sorcadins!N$331-MAX(0,Sorcadins!N$1503-Sorcadins!N$623))","v":4},{"$f":"MAX(0,Sorcadins!O$331-MAX(0,Sorcadins!O$1503-Sorcadins!O$623))","v":4},{"$f":"MAX(0,Sorcadins!P$331-MAX(0,Sorcadins!P$1503-Sorcadins!P$623))","v":4},{"$f":"MAX(0,Sorcadins!Q$331-MAX(0,Sorcadins!Q$1503-Sorcadins!Q$623))","v":4},{"$f":"MAX(0,Sorcadins!R$331-MAX(0,Sorcadins!R$1503-Sorcadins!R$623))","v":4},{"$f":"MAX(0,Sorcadins!S$331-MAX(0,Sorcadins!S$1503-Sorcadins!S$623))","v":4},{"$f":"MAX(0,Sorcadins!T$331-MAX(0,Sorcadins!T$1503-Sorcadins!T$623))","v":4},{"$f":"MAX(0,Sorcadins!U$331-MAX(0,Sorcadins!U$1503-Sorcadins!U$623))","v":4},{"$f":"MAX(0,Sorcadins!V$331-MAX(0,Sorcadins!V$1503-Sorcadins!V$623))","v":4},{"$f":"MAX(0,Sorcadins!W$331-MAX(0,Sorcadins!W$1503-Sorcadins!W$623))","v":4.770831803630529},{"$f":"MAX(0,Sorcadins!X$331-MAX(0,Sorcadins!X$1503-Sorcadins!X$623))","v":4.770831803630529}]
[{"$nulls":3},"total warlock smite levels remaining",{"$f":"MIN(Sorcadins!E$323*E315,Sorcadins!E$314)","v":0},{"$f":"MIN(Sorcadins!F$323*F315,Sorcadins!F$314)","v":0},{"$f":"MIN(Sorcadins!G$323*G315,Sorcadins!G$314)","v":0},{"$f":"MIN(Sorcadins!H$323*H315,Sorcadins!H$314)","v":0},{"$f":"MIN(Sorcadins!I$323*I315,Sorcadins!I$314)","v":0},{"$f":"MIN(Sorcadins!J$323*J315,Sorcadins!J$314)","v":0},{"$f":"MIN(Sorcadins!K$323*K315,Sorcadins!K$314)","v":0},{"$f":"MIN(Sorcadins!L$323*L315,Sorcadins!L$314)","v":0},{"$f":"MIN(Sorcadins!M$323*M315,Sorcadins!M$314)","v":0},{"$f":"MIN(Sorcadins!N$323*N315,Sorcadins!N$314)","v":0},{"$f":"MIN(Sorcadins!O$323*O315,Sorcadins!O$314)","v":0},{"$f":"MIN(Sorcadins!P$323*P315,Sorcadins!P$314)","v":0},{"$f":"MIN(Sorcadins!Q$323*Q315,Sorcadins!Q$314)","v":0},{"$f":"MIN(Sorcadins!R$323*R315,Sorcadins!R$314)","v":0},{"$f":"MIN(Sorcadins!S$323*S315,Sorcadins!S$314)","v":0},{"$f":"MIN(Sorcadins!T$323*T315,Sorcadins!T$314)","v":0},{"$f":"MIN(Sorcadins!U$323*U315,Sorcadins!U$314)","v":0},{"$f":"MIN(Sorcadins!V$323*V315,Sorcadins!V$314)","v":0},{"$f":"MIN(Sorcadins!W$323*W315,Sorcadins!W$314)","v":0},{"$f":"MIN(Sorcadins!X$323*X315,Sorcadins!X$314)","v":0}]
[{"$nulls":3},"total smite levels remaining",{"$f":"IF(E$5>=1,Sorcadins!E$323*E315+E314,IF(E$6,E316,0))","v":0},{"$f":"IF(F$5>=1,Sorcadins!F$323*F315+F314,IF(F$6,F316,0))","v":0},{"$f":"IF(G$5>=1,Sorcadins!G$323*G315+G314,IF(G$6,G316,0))","v":0},{"$f":"IF(H$5>=1,Sorcadins!H$323*H315+H314,IF(H$6,H316,0))","v":0},{"$f":"IF(I$5>=1,Sorcadins!I$323*I315+I314,IF(I$6,I316,0))","v":0},{"$f":"IF(J$5>=1,Sorcadins!J$323*J315+J314,IF(J$6,J316,0))","v":0},{"$f":"IF(K$5>=1,Sorcadins!K$323*K315+K314,IF(K$6,K316,0))","v":0},{"$f":"IF(L$5>=1,Sorcadins!L$323*L315+L314,IF(L$6,L316,0))","v":0},{"$f":"IF(M$5>=1,Sorcadins!M$323*M315+M314,IF(M$6,M316,0))","v":0},{"$f":"IF(N$5>=1,Sorcadins!N$323*N315+N314,IF(N$6,N316,0))","v":0},{"$f":"IF(O$5>=1,Sorcadins!O$323*O315+O314,IF(O$6,O316,0))","v":0},{"$f":"IF(P$5>=1,Sorcadins!P$323*P315+P314,IF(P$6,P316,0))","v":0},{"$f":"IF(Q$5>=1,Sorcadins!Q$323*Q315+Q314,IF(Q$6,Q316,0))","v":0},{"$f":"IF(R$5>=1,Sorcadins!R$323*R315+R314,IF(R$6,R316,0))","v":0},{"$f":"IF(S$5>=1,Sorcadins!S$323*S315+S314,IF(S$6,S316,0))","v":0},{"$f":"IF(T$5>=1,Sorcadins!T$323*T315+T314,IF(T$6,T316,0))","v":0},{"$f":"IF(U$5>=1,Sorcadins!U$323*U315+U314,IF(U$6,U316,0))","v":0},{"$f":"IF(V$5>=1,Sorcadins!V$323*V315+V314,IF(V$6,V316,0))","v":0},{"$f":"IF(W$5>=1,Sorcadins!W$323*W315+W314,IF(W$6,W316,0))","v":0},{"$f":"IF(X$5>=1,Sorcadins!X$323*X315+X314,IF(X$6,X316,0))","v":0}]
[{"$nulls":3},"max number of daily smites (after spells)",{"$f":"IF(E$6,Sorcadins!E$1374,IF(E$5,Sorcadins!E$332+E314/2,0))","v":0},{"$f":"IF(F$6,Sorcadins!F$1374,IF(F$5,Sorcadins!F$332+F314/2,0))","v":0},{"$f":"IF(G$6,Sorcadins!G$1374,IF(G$5,Sorcadins!G$332+G314/2,0))","v":0},{"$f":"IF(H$6,Sorcadins!H$1374,IF(H$5,Sorcadins!H$332+H314/2,0))","v":0},{"$f":"IF(I$6,Sorcadins!I$1374,IF(I$5,Sorcadins!I$332+I314/2,0))","v":0},{"$f":"IF(J$6,Sorcadins!J$1374,IF(J$5,Sorcadins!J$332+J314/2,0))","v":0},{"$f":"IF(K$6,Sorcadins!K$1374,IF(K$5,Sorcadins!K$332+K314/2,0))","v":0},{"$f":"IF(L$6,Sorcadins!L$1374,IF(L$5,Sorcadins!L$332+L314/2,0))","v":0},{"$f":"IF(M$6,Sorcadins!M$1374,IF(M$5,Sorcadins!M$332+M314/2,0))","v":0},{"$f":"IF(N$6,Sorcadins!N$1374,IF(N$5,Sorcadins!N$332+N314/2,0))","v":0},{"$f":"IF(O$6,Sorcadins!O$1374,IF(O$5,Sorcadins!O$332+O314/2,0))","v":0},{"$f":"IF(P$6,Sorcadins!P$1374,IF(P$5,Sorcadins!P$332+P314/2,0))","v":0},{"$f":"IF(Q$6,Sorcadins!Q$1374,IF(Q$5,Sorcadins!Q$332+Q314/2,0))","v":0},{"$f":"IF(R$6,Sorcadins!R$1374,IF(R$5,Sorcadins!R$332+R314/2,0))","v":0},{"$f":"IF(S$6,Sorcadins!S$1374,IF(S$5,Sorcadins!S$332+S314/2,0))","v":0},{"$f":"IF(T$6,Sorcadins!T$1374,IF(T$5,Sorcadins!T$332+T314/2,0))","v":0},{"$f":"IF(U$6,Sorcadins!U$1374,IF(U$5,Sorcadins!U$332+U314/2,0))","v":0},{"$f":"IF(V$6,Sorcadins!V$1374,IF(V$5,Sorcadins!V$332+V314/2,0))","v":0},{"$f":"IF(W$6,Sorcadins!W$1374,IF(W$5,Sorcadins!W$332+W314/2,0))","v":0},{"$f":"IF(X$6,Sorcadins!X$1374,IF(X$5,Sorcadins!X$332+X314/2,0))","v":0}]
[{"$nulls":3},"avg crits per day for smite purposes (based on Damage Scenario)",{"$f":"'Base Numbers'!$C$5*'Base Numbers'!$C$6*Sorcadins!E$1548","v":0},{"$f":"'Base Numbers'!$C$5*'Base Numbers'!$C$6*Sorcadins!F$1548","v":0},{"$f":"'Base Numbers'!$C$5*'Base Numbers'!$C$6*Sorcadins!G$1548","v":0},{"$f":"'Base Numbers'!$C$5*'Base Numbers'!$C$6*Sorcadins!H$1548","v":0},{"$f":"'Base Numbers'!$C$5*'Base Numbers'!$C$6*Sorcadins!I$1548","v":0},{"$f":"'Base Numbers'!$C$5*'Base Numbers'!$C$6*Sorcadins!J$1548","v":0},{"$f":"'Base Numbers'!$C$5*'Base Numbers'!$C$6*Sorcadins!K$1548","v":0},{"$f":"'Base Numbers'!$C$5*'Base Numbers'!$C$6*Sorcadins!L$1548","v":0},{"$f":"'Base Numbers'!$C$5*'Base Numbers'!$C$6*Sorcadins!M$1548","v":0},{"$f":"'Base Numbers'!$C$5*'Base Numbers'!$C$6*Sorcadins!N$1548","v":0},{"$f":"'Base Numbers'!$C$5*'Base Numbers'!$C$6*Sorcadins!O$1548","v":0},{"$f":"'Base Numbers'!$C$5*'Base Numbers'!$C$6*Sorcadins!P$1548","v":0},{"$f":"'Base Numbers'!$C$5*'Base Numbers'!$C$6*Sorcadins!Q$1548","v":0},{"$f":"'Base Numbers'!$C$5*'Base Numbers'!$C$6*Sorcadins!R$1548","v":0},{"$f":"'Base Numbers'!$C$5*'Base Numbers'!$C$6*Sorcadins!S$1548","v":0},{"$f":"'Base Numbers'!$C$5*'Base Numbers'!$C$6*Sorcadins!T$1548","v":0},{"$f":"'Base Numbers'!$C$5*'Base Numbers'!$C$6*Sorcadins!U$1548","v":0},{"$f":"'Base Numbers'!$C$5*'Base Numbers'!$C$6*Sorcadins!V$1548","v":0},{"$f":"'Base Numbers'!$C$5*'Base Numbers'!$C$6*Sorcadins!W$1548","v":0},{"$f":"'Base Numbers'!$C$5*'Base Numbers'!$C$6*Sorcadins!X$1548","v":0}]
[{"$nulls":3},"number of smites used on crits",{"$f":"MIN(E318,E319)","v":0},{"$f":"MIN(F318,F319)","v":0},0,0,0,0,0,0,0,0,0,0,0,0,0,0,0,0,0,0]
[{"$nulls":3},"avg smite dice per crit ",{"$f":"IF(E320>0,MIN(E$7,(E317/MIN(E320,E319))),0)","v":0},0,0,0,0,0,0,0,0,0,0,0,0,0,0,0,0,0,0,0]
[{"$nulls":3},"smites left for non-crits",{"$f":"E318-E320","v":0},{"$f":"F318-F320","v":0},0,0,0,0,0,0,0,0,0,0,0,0,0,0,0,0,0,0]
[{"$nulls":3},"total non-crit smite-qualifying attacks available",{"$f":"Sorcadins!E$1523*('Base Numbers'!$C$5*'Base Numbers'!$C$6)-E319","v":0},{"$f":"Sorcadins!F$1523*('Base Numbers'!$C$5*'Base Numbers'!$C$6)-F319","v":0},{"$f":"Sorcadins!G$1523*('Base Numbers'!$C$5*'Base Numbers'!$C$6)-G319","v":0},{"$f":"Sorcadins!H$1523*('Base Numbers'!$C$5*'Base Numbers'!$C$6)-H319","v":0},{"$f":"Sorcadins!I$1523*('Base Numbers'!$C$5*'Base Numbers'!$C$6)-I319","v":0},{"$f":"Sorcadins!J$1523*('Base Numbers'!$C$5*'Base Numbers'!$C$6)-J319","v":0},{"$f":"Sorcadins!K$1523*('Base Numbers'!$C$5*'Base Numbers'!$C$6)-K319","v":0},{"$f":"Sorcadins!L$1523*('Base Numbers'!$C$5*'Base Numbers'!$C$6)-L319","v":0},{"$f":"Sorcadins!M$1523*('Base Numbers'!$C$5*'Base Numbers'!$C$6)-M319","v":0},{"$f":"Sorcadins!N$1523*('Base Numbers'!$C$5*'Base Numbers'!$C$6)-N319","v":0},{"$f":"Sorcadins!O$1523*('Base Numbers'!$C$5*'Base Numbers'!$C$6)-O319","v":0},{"$f":"Sorcadins!P$1523*('Base Numbers'!$C$5*'Base Numbers'!$C$6)-P319","v":0},{"$f":"Sorcadins!Q$1523*('Base Numbers'!$C$5*'Base Numbers'!$C$6)-Q319","v":0},{"$f":"Sorcadins!R$1523*('Base Numbers'!$C$5*'Base Numbers'!$C$6)-R319","v":0},{"$f":"Sorcadins!S$1523*('Base Numbers'!$C$5*'Base Numbers'!$C$6)-S319","v":0},{"$f":"Sorcadins!T$1523*('Base Numbers'!$C$5*'Base Numbers'!$C$6)-T319","v":0},{"$f":"Sorcadins!U$1523*('Base Numbers'!$C$5*'Base Numbers'!$C$6)-U319","v":0},{"$f":"Sorcadins!V$1523*('Base Numbers'!$C$5*'Base Numbers'!$C$6)-V319","v":0},{"$f":"Sorcadins!W$1523*('Base Numbers'!$C$5*'Base Numbers'!$C$6)-W319","v":0},{"$f":"Sorcadins!X$1523*('Base Numbers'!$C$5*'Base Numbers'!$C$6)-X319","v":0}]
[{"$nulls":3},"smite dice left for non-crits",{"$f":"ROUND(MAX(0,E317-E319*E321),4)","v":0},{"$f":"ROUND(MAX(0,F317-F319*F321),4)","v":0},0,0,0,0,0,0,0,0,0,0,0,0,0,0,0,0,0,0]
[{"$nulls":3},"total smite dice used on crits",{"$f":"E320*E321","v":0},{"$f":"F320*F321","v":0},0,0,0,0,0,0,0,0,0,0,0,0,0,0,0,0,0,0]
[{"$nulls":3},"total crit smite damage per day",{"$f":"9*E325","v":0},{"$f":"9*F325","v":0},0,0,0,0,0,0,0,0,0,0,0,0,0,0,0,0,0,0]
[{"$nulls":3},"total non-crit smite damage per day",{"$f":"4.5*MIN(MIN(E323,E322)*E$7,E324)","v":0},{"$f":"4.5*MIN(MIN(F323,F322)*F$7,F324)","v":0},0,0,0,0,0,0,0,0,0,0,0,0,0,0,0,0,0,0]
[{"$nulls":3},"leftover sorc points + spell levels",{"$f":"IF(E317>0,IF(Sorcadins!E$323>0,(Sorcadins!E$323*E315+E314-E320*E321-E327/4.5)/Sorcadins!E$323,0),E315+E314)","v":0},{"$f":"IF(F317>0,IF(Sorcadins!F$323>0,(Sorcadins!F$323*F315+F314-F320*F321-F327/4.5)/Sorcadins!F$323,0),F315+F314)","v":0},{"$f":"IF(G317>0,IF(Sorcadins!G$323>0,(Sorcadins!G$323*G315+G314-G320*G321-G327/4.5)/Sorcadins!G$323,0),G315+G314)","v":0},{"$f":"IF(H317>0,IF(Sorcadins!H$323>0,(Sorcadins!H$323*H315+H314-H320*H321-H327/4.5)/Sorcadins!H$323,0),H315+H314)","v":0},{"$f":"IF(I317>0,IF(Sorcadins!I$323>0,(Sorcadins!I$323*I315+I314-I320*I321-I327/4.5)/Sorcadins!I$323,0),I315+I314)","v":4},{"$f":"IF(J317>0,IF(Sorcadins!J$323>0,(Sorcadins!J$323*J315+J314-J320*J321-J327/4.5)/Sorcadins!J$323,0),J315+J314)","v":4},{"$f":"IF(K317>0,IF(Sorcadins!K$323>0,(Sorcadins!K$323*K315+K314-K320*K321-K327/4.5)/Sorcadins!K$323,0),K315+K314)","v":4},{"$f":"IF(L317>0,IF(Sorcadins!L$323>0,(Sorcadins!L$323*L315+L314-L320*L321-L327/4.5)/Sorcadins!L$323,0),L315+L314)","v":4},{"$f":"IF(M317>0,IF(Sorcadins!M$323>0,(Sorcadins!M$323*M315+M314-M320*M321-M327/4.5)/Sorcadins!M$323,0),M315+M314)","v":4},{"$f":"IF(N317>0,IF(Sorcadins!N$323>0,(Sorcadins!N$323*N315+N314-N320*N321-N327/4.5)/Sorcadins!N$323,0),N315+N314)","v":4},{"$f":"IF(O317>0,IF(Sorcadins!O$323>0,(Sorcadins!O$323*O315+O314-O320*O321-O327/4.5)/Sorcadins!O$323,0),O315+O314)","v":4},{"$f":"IF(P317>0,IF(Sorcadins!P$323>0,(Sorcadins!P$323*P315+P314-P320*P321-P327/4.5)/Sorcadins!P$323,0),P315+P314)","v":4},{"$f":"IF(Q317>0,IF(Sorcadins!Q$323>0,(Sorcadins!Q$323*Q315+Q314-Q320*Q321-Q327/4.5)/Sorcadins!Q$323,0),Q315+Q314)","v":4},{"$f":"IF(R317>0,IF(Sorcadins!R$323>0,(Sorcadins!R$323*R315+R314-R320*R321-R327/4.5)/Sorcadins!R$323,0),R315+R314)","v":4},{"$f":"IF(S317>0,IF(Sorcadins!S$323>0,(Sorcadins!S$323*S315+S314-S320*S321-S327/4.5)/Sorcadins!S$323,0),S315+S314)","v":4},{"$f":"IF(T317>0,IF(Sorcadins!T$323>0,(Sorcadins!T$323*T315+T314-T320*T321-T327/4.5)/Sorcadins!T$323,0),T315+T314)","v":4},{"$f":"IF(U317>0,IF(Sorcadins!U$323>0,(Sorcadins!U$323*U315+U314-U320*U321-U327/4.5)/Sorcadins!U$323,0),U315+U314)","v":4},{"$f":"IF(V317>0,IF(Sorcadins!V$323>0,(Sorcadins!V$323*V315+V314-V320*V321-V327/4.5)/Sorcadins!V$323,0),V315+V314)","v":4},{"$f":"IF(W317>0,IF(Sorcadins!W$323>0,(Sorcadins!W$323*W315+W314-W320*W321-W327/4.5)/Sorcadins!W$323,0),W315+W314)","v":4.770831803630529},{"$f":"IF(X317>0,IF(Sorcadins!X$323>0,(Sorcadins!X$323*X315+X314-X320*X321-X327/4.5)/Sorcadins!X$323,0),X315+X314)","v":4.770831803630529}]
[{"$nulls":3},"actual smites performed",{"$f":"E320+IF(E$7>0,MIN(E322,E323,E324/E$7),0)","v":0},{"$f":"F320+IF(F$7>0,MIN(F322,F323,F324/F$7),0)","v":0},0,0,0,0,0,0,0,0,0,0,0,0,0,0,0,0,0,0]
[{"$nulls":3},"total daily smite damage: M2, B13, O1/O2",{"$f":"E326+E327","v":0},{"$f":"F326+F327","v":0},0,0,0,0,0,0,0,0,0,0,0,0,0,0,0,0,0,0]
[]
[{"$nulls":3},"SMITES - M2, B13, O3",1,2,3,4,5,6,7,8,9,10,11,12,13,14,15,16,17,18,19,20]
[{"$nulls":3},"remaining sorcery points (based on Damage Scenario)",{"$f":"MAX(0,Sorcadins!E$623-Sorcadins!E$1503)","v":0},{"$f":"MAX(0,Sorcadins!F$623-Sorcadins!F$1503)","v":0},{"$f":"MAX(0,Sorcadins!G$623-Sorcadins!G$1503)","v":0},{"$f":"MAX(0,Sorcadins!H$623-Sorcadins!H$1503)","v":0},{"$f":"MAX(0,Sorcadins!I$623-Sorcadins!I$1503)","v":0},{"$f":"MAX(0,Sorcadins!J$623-Sorcadins!J$1503)","v":0},{"$f":"MAX(0,Sorcadins!K$623-Sorcadins!K$1503)","v":0},{"$f":"MAX(0,Sorcadins!L$623-Sorcadins!L$1503)","v":0},{"$f":"MAX(0,Sorcadins!M$623-Sorcadins!M$1503)","v":0},{"$f":"MAX(0,Sorcadins!N$623-Sorcadins!N$1503)","v":0},{"$f":"MAX(0,Sorcadins!O$623-Sorcadins!O$1503)","v":0},{"$f":"MAX(0,Sorcadins!P$623-Sorcadins!P$1503)","v":0},{"$f":"MAX(0,Sorcadins!Q$623-Sorcadins!Q$1503)","v":0},{"$f":"MAX(0,Sorcadins!R$623-Sorcadins!R$1503)","v":0},{"$f":"MAX(0,Sorcadins!S$623-Sorcadins!S$1503)","v":0},{"$f":"MAX(0,Sorcadins!T$623-Sorcadins!T$1503)","v":0},{"$f":"MAX(0,Sorcadins!U$623-Sorcadins!U$1503)","v":0},{"$f":"MAX(0,Sorcadins!V$623-Sorcadins!V$1503)","v":0},{"$f":"MAX(0,Sorcadins!W$623-Sorcadins!W$1503)","v":0},{"$f":"MAX(0,Sorcadins!X$623-Sorcadins!X$1503)","v":0},null,"*Sorc points directly convertible to Smite Dice"]
[{"$nulls":3},"remaining spell slot levels (based on Damage Scenario)",{"$f":"MAX(0,Sorcadins!E$331-MAX(0,Sorcadins!E$1503-Sorcadins!E$623))","v":0},{"$f":"MAX(0,Sorcadins!F$331-MAX(0,Sorcadins!F$1503-Sorcadins!F$623))","v":0},{"$f":"MAX(0,Sorcadins!G$331-MAX(0,Sorcadins!G$1503-Sorcadins!G$623))","v":0},{"$f":"MAX(0,Sorcadins!H$331-MAX(0,Sorcadins!H$1503-Sorcadins!H$623))","v":0},{"$f":"MAX(0,Sorcadins!I$331-MAX(0,Sorcadins!I$1503-Sorcadins!I$623))","v":4},{"$f":"MAX(0,Sorcadins!J$331-MAX(0,Sorcadins!J$1503-Sorcadins!J$623))","v":4},{"$f":"MAX(0,Sorcadins!K$331-MAX(0,Sorcadins!K$1503-Sorcadins!K$623))","v":4},{"$f":"MAX(0,Sorcadins!L$331-MAX(0,Sorcadins!L$1503-Sorcadins!L$623))","v":4},{"$f":"MAX(0,Sorcadins!M$331-MAX(0,Sorcadins!M$1503-Sorcadins!M$623))","v":4},{"$f":"MAX(0,Sorcadins!N$331-MAX(0,Sorcadins!N$1503-Sorcadins!N$623))","v":4},{"$f":"MAX(0,Sorcadins!O$331-MAX(0,Sorcadins!O$1503-Sorcadins!O$623))","v":4},{"$f":"MAX(0,Sorcadins!P$331-MAX(0,Sorcadins!P$1503-Sorcadins!P$623))","v":4},{"$f":"MAX(0,Sorcadins!Q$331-MAX(0,Sorcadins!Q$1503-Sorcadins!Q$623))","v":4},{"$f":"MAX(0,Sorcadins!R$331-MAX(0,Sorcadins!R$1503-Sorcadins!R$623))","v":4},{"$f":"MAX(0,Sorcadins!S$331-MAX(0,Sorcadins!S$1503-Sorcadins!S$623))","v":4},{"$f":"MAX(0,Sorcadins!T$331-MAX(0,Sorcadins!T$1503-Sorcadins!T$623))","v":4},{"$f":"MAX(0,Sorcadins!U$331-MAX(0,Sorcadins!U$1503-Sorcadins!U$623))","v":4},{"$f":"MAX(0,Sorcadins!V$331-MAX(0,Sorcadins!V$1503-Sorcadins!V$623))","v":4},{"$f":"MAX(0,Sorcadins!W$331-MAX(0,Sorcadins!W$1503-Sorcadins!W$623))","v":4.770831803630529},{"$f":"MAX(0,Sorcadins!X$331-MAX(0,Sorcadins!X$1503-Sorcadins!X$623))","v":4.770831803630529}]
[{"$nulls":3},"total warlock smite levels remaining",{"$f":"MIN(Sorcadins!E$323*E334,Sorcadins!E$314)","v":0},{"$f":"MIN(Sorcadins!F$323*F334,Sorcadins!F$314)","v":0},{"$f":"MIN(Sorcadins!G$323*G334,Sorcadins!G$314)","v":0},{"$f":"MIN(Sorcadins!H$323*H334,Sorcadins!H$314)","v":0},{"$f":"MIN(Sorcadins!I$323*I334,Sorcadins!I$314)","v":0},{"$f":"MIN(Sorcadins!J$323*J334,Sorcadins!J$314)","v":0},{"$f":"MIN(Sorcadins!K$323*K334,Sorcadins!K$314)","v":0},{"$f":"MIN(Sorcadins!L$323*L334,Sorcadins!L$314)","v":0},{"$f":"MIN(Sorcadins!M$323*M334,Sorcadins!M$314)","v":0},{"$f":"MIN(Sorcadins!N$323*N334,Sorcadins!N$314)","v":0},{"$f":"MIN(Sorcadins!O$323*O334,Sorcadins!O$314)","v":0},{"$f":"MIN(Sorcadins!P$323*P334,Sorcadins!P$314)","v":0},{"$f":"MIN(Sorcadins!Q$323*Q334,Sorcadins!Q$314)","v":0},{"$f":"MIN(Sorcadins!R$323*R334,Sorcadins!R$314)","v":0},{"$f":"MIN(Sorcadins!S$323*S334,Sorcadins!S$314)","v":0},{"$f":"MIN(Sorcadins!T$323*T334,Sorcadins!T$314)","v":0},{"$f":"MIN(Sorcadins!U$323*U334,Sorcadins!U$314)","v":0},{"$f":"MIN(Sorcadins!V$323*V334,Sorcadins!V$314)","v":0},{"$f":"MIN(Sorcadins!W$323*W334,Sorcadins!W$314)","v":0},{"$f":"MIN(Sorcadins!X$323*X334,Sorcadins!X$314)","v":0}]
[{"$nulls":3},"total smite levels remaining",{"$f":"IF(E$5>=1,Sorcadins!E$323*E334+E333,IF(E$6,E335,0))","v":0},{"$f":"IF(F$5>=1,Sorcadins!F$323*F334+F333,IF(F$6,F335,0))","v":0},{"$f":"IF(G$5>=1,Sorcadins!G$323*G334+G333,IF(G$6,G335,0))","v":0},{"$f":"IF(H$5>=1,Sorcadins!H$323*H334+H333,IF(H$6,H335,0))","v":0},{"$f":"IF(I$5>=1,Sorcadins!I$323*I334+I333,IF(I$6,I335,0))","v":0},{"$f":"IF(J$5>=1,Sorcadins!J$323*J334+J333,IF(J$6,J335,0))","v":0},{"$f":"IF(K$5>=1,Sorcadins!K$323*K334+K333,IF(K$6,K335,0))","v":0},{"$f":"IF(L$5>=1,Sorcadins!L$323*L334+L333,IF(L$6,L335,0))","v":0},{"$f":"IF(M$5>=1,Sorcadins!M$323*M334+M333,IF(M$6,M335,0))","v":0},{"$f":"IF(N$5>=1,Sorcadins!N$323*N334+N333,IF(N$6,N335,0))","v":0},{"$f":"IF(O$5>=1,Sorcadins!O$323*O334+O333,IF(O$6,O335,0))","v":0},{"$f":"IF(P$5>=1,Sorcadins!P$323*P334+P333,IF(P$6,P335,0))","v":0},{"$f":"IF(Q$5>=1,Sorcadins!Q$323*Q334+Q333,IF(Q$6,Q335,0))","v":0},{"$f":"IF(R$5>=1,Sorcadins!R$323*R334+R333,IF(R$6,R335,0))","v":0},{"$f":"IF(S$5>=1,Sorcadins!S$323*S334+S333,IF(S$6,S335,0))","v":0},{"$f":"IF(T$5>=1,Sorcadins!T$323*T334+T333,IF(T$6,T335,0))","v":0},{"$f":"IF(U$5>=1,Sorcadins!U$323*U334+U333,IF(U$6,U335,0))","v":0},{"$f":"IF(V$5>=1,Sorcadins!V$323*V334+V333,IF(V$6,V335,0))","v":0},{"$f":"IF(W$5>=1,Sorcadins!W$323*W334+W333,IF(W$6,W335,0))","v":0},{"$f":"IF(X$5>=1,Sorcadins!X$323*X334+X333,IF(X$6,X335,0))","v":0}]
[{"$nulls":3},"max number of daily smites (after spells)",{"$f":"IF(E$6,Sorcadins!E$1374,IF(E$5,Sorcadins!E$332+E333/2,0))","v":0},{"$f":"IF(F$6,Sorcadins!F$1374,IF(F$5,Sorcadins!F$332+F333/2,0))","v":0},{"$f":"IF(G$6,Sorcadins!G$1374,IF(G$5,Sorcadins!G$332+G333/2,0))","v":0},{"$f":"IF(H$6,Sorcadins!H$1374,IF(H$5,Sorcadins!H$332+H333/2,0))","v":0},{"$f":"IF(I$6,Sorcadins!I$1374,IF(I$5,Sorcadins!I$332+I333/2,0))","v":0},{"$f":"IF(J$6,Sorcadins!J$1374,IF(J$5,Sorcadins!J$332+J333/2,0))","v":0},{"$f":"IF(K$6,Sorcadins!K$1374,IF(K$5,Sorcadins!K$332+K333/2,0))","v":0},{"$f":"IF(L$6,Sorcadins!L$1374,IF(L$5,Sorcadins!L$332+L333/2,0))","v":0},{"$f":"IF(M$6,Sorcadins!M$1374,IF(M$5,Sorcadins!M$332+M333/2,0))","v":0},{"$f":"IF(N$6,Sorcadins!N$1374,IF(N$5,Sorcadins!N$332+N333/2,0))","v":0},{"$f":"IF(O$6,Sorcadins!O$1374,IF(O$5,Sorcadins!O$332+O333/2,0))","v":0},{"$f":"IF(P$6,Sorcadins!P$1374,IF(P$5,Sorcadins!P$332+P333/2,0))","v":0},{"$f":"IF(Q$6,Sorcadins!Q$1374,IF(Q$5,Sorcadins!Q$332+Q333/2,0))","v":0},{"$f":"IF(R$6,Sorcadins!R$1374,IF(R$5,Sorcadins!R$332+R333/2,0))","v":0},{"$f":"IF(S$6,Sorcadins!S$1374,IF(S$5,Sorcadins!S$332+S333/2,0))","v":0},{"$f":"IF(T$6,Sorcadins!T$1374,IF(T$5,Sorcadins!T$332+T333/2,0))","v":0},{"$f":"IF(U$6,Sorcadins!U$1374,IF(U$5,Sorcadins!U$332+U333/2,0))","v":0},{"$f":"IF(V$6,Sorcadins!V$1374,IF(V$5,Sorcadins!V$332+V333/2,0))","v":0},{"$f":"IF(W$6,Sorcadins!W$1374,IF(W$5,Sorcadins!W$332+W333/2,0))","v":0},{"$f":"IF(X$6,Sorcadins!X$1374,IF(X$5,Sorcadins!X$332+X333/2,0))","v":0}]
[{"$nulls":3},"avg crits per day for smite purposes (based on Damage Scenario)",{"$f":"'Base Numbers'!$C$5*'Base Numbers'!$C$6*Sorcadins!E$1549","v":0},{"$f":"'Base Numbers'!$C$5*'Base Numbers'!$C$6*Sorcadins!F$1549","v":0},{"$f":"'Base Numbers'!$C$5*'Base Numbers'!$C$6*Sorcadins!G$1549","v":0},{"$f":"'Base Numbers'!$C$5*'Base Numbers'!$C$6*Sorcadins!H$1549","v":0},{"$f":"'Base Numbers'!$C$5*'Base Numbers'!$C$6*Sorcadins!I$1549","v":0},{"$f":"'Base Numbers'!$C$5*'Base Numbers'!$C$6*Sorcadins!J$1549","v":0},{"$f":"'Base Numbers'!$C$5*'Base Numbers'!$C$6*Sorcadins!K$1549","v":0},{"$f":"'Base Numbers'!$C$5*'Base Numbers'!$C$6*Sorcadins!L$1549","v":0},{"$f":"'Base Numbers'!$C$5*'Base Numbers'!$C$6*Sorcadins!M$1549","v":0},{"$f":"'Base Numbers'!$C$5*'Base Numbers'!$C$6*Sorcadins!N$1549","v":0},{"$f":"'Base Numbers'!$C$5*'Base Numbers'!$C$6*Sorcadins!O$1549","v":0},{"$f":"'Base Numbers'!$C$5*'Base Numbers'!$C$6*Sorcadins!P$1549","v":0},{"$f":"'Base Numbers'!$C$5*'Base Numbers'!$C$6*Sorcadins!Q$1549","v":0},{"$f":"'Base Numbers'!$C$5*'Base Numbers'!$C$6*Sorcadins!R$1549","v":0},{"$f":"'Base Numbers'!$C$5*'Base Numbers'!$C$6*Sorcadins!S$1549","v":0},{"$f":"'Base Numbers'!$C$5*'Base Numbers'!$C$6*Sorcadins!T$1549","v":0},{"$f":"'Base Numbers'!$C$5*'Base Numbers'!$C$6*Sorcadins!U$1549","v":0},{"$f":"'Base Numbers'!$C$5*'Base Numbers'!$C$6*Sorcadins!V$1549","v":0},{"$f":"'Base Numbers'!$C$5*'Base Numbers'!$C$6*Sorcadins!W$1549","v":0},{"$f":"'Base Numbers'!$C$5*'Base Numbers'!$C$6*Sorcadins!X$1549","v":0}]
[{"$nulls":3},"number of smites used on crits",{"$f":"MIN(E337,E338)","v":0},{"$f":"MIN(F337,F338)","v":0},0,0,0,0,0,0,0,0,0,0,0,0,0,0,0,0,0,0]
[{"$nulls":3},"avg smite dice per crit ",{"$f":"IF(E339>0,MIN(E$7,(E336/MIN(E339,E338))),0)","v":0},0,0,0,0,0,0,0,0,0,0,0,0,0,0,0,0,0,0,0,{"$nulls":3},{"$f":"(15-1)*17","v":238}]
[{"$nulls":3},"smites left for non-crits",{"$f":"E337-E339","v":0},{"$f":"F337-F339","v":0},0,0,0,0,0,0,0,0,0,0,0,0,0,0,0,0,0,0,{"$nulls":3},12]
[{"$nulls":3},"total non-crit smite-qualifying attacks available",{"$f":"Sorcadins!E$1524*('Base Numbers'!$C$5*'Base Numbers'!$C$6)-E338","v":0},{"$f":"Sorcadins!F$1524*('Base Numbers'!$C$5*'Base Numbers'!$C$6)-F338","v":0},{"$f":"Sorcadins!G$1524*('Base Numbers'!$C$5*'Base Numbers'!$C$6)-G338","v":0},{"$f":"Sorcadins!H$1524*('Base Numbers'!$C$5*'Base Numbers'!$C$6)-H338","v":0},{"$f":"Sorcadins!I$1524*('Base Numbers'!$C$5*'Base Numbers'!$C$6)-I338","v":0},{"$f":"Sorcadins!J$1524*('Base Numbers'!$C$5*'Base Numbers'!$C$6)-J338","v":0},{"$f":"Sorcadins!K$1524*('Base Numbers'!$C$5*'Base Numbers'!$C$6)-K338","v":0},{"$f":"Sorcadins!L$1524*('Base Numbers'!$C$5*'Base Numbers'!$C$6)-L338","v":0},{"$f":"Sorcadins!M$1524*('Base Numbers'!$C$5*'Base Numbers'!$C$6)-M338","v":0},{"$f":"Sorcadins!N$1524*('Base Numbers'!$C$5*'Base Numbers'!$C$6)-N338","v":0},{"$f":"Sorcadins!O$1524*('Base Numbers'!$C$5*'Base Numbers'!$C$6)-O338","v":0},{"$f":"Sorcadins!P$1524*('Base Numbers'!$C$5*'Base Numbers'!$C$6)-P338","v":0},{"$f":"Sorcadins!Q$1524*('Base Numbers'!$C$5*'Base Numbers'!$C$6)-Q338","v":0},{"$f":"Sorcadins!R$1524*('Base Numbers'!$C$5*'Base Numbers'!$C$6)-R338","v":0},{"$f":"Sorcadins!S$1524*('Base Numbers'!$C$5*'Base Numbers'!$C$6)-S338","v":0},{"$f":"Sorcadins!T$1524*('Base Numbers'!$C$5*'Base Numbers'!$C$6)-T338","v":0},{"$f":"Sorcadins!U$1524*('Base Numbers'!$C$5*'Base Numbers'!$C$6)-U338","v":0},{"$f":"Sorcadins!V$1524*('Base Numbers'!$C$5*'Base Numbers'!$C$6)-V338","v":0},{"$f":"Sorcadins!W$1524*('Base Numbers'!$C$5*'Base Numbers'!$C$6)-W338","v":0},{"$f":"Sorcadins!X$1524*('Base Numbers'!$C$5*'Base Numbers'!$C$6)-X338","v":0},{"$nulls":3},{"$f":"AB340+AB341","v":250}]
[{"$nulls":3},"smite dice left for non-crits",{"$f":"ROUND(MAX(0,E336-E338*E340),4)","v":0},{"$f":"ROUND(MAX(0,F336-F338*F340),4)","v":0},0,0,0,0,0,0,0,0,0,0,0,0,0,0,0,0,0,0]
[{"$nulls":3},"total smite dice used on crits",{"$f":"E339*E340","v":0},{"$f":"F339*F340","v":0},0,0,0,0,0,0,0,0,0,0,0,0,0,0,0,0,0,0]
[{"$nulls":3},"total crit smite damage per day",{"$f":"9*E344","v":0},{"$f":"9*F344","v":0},0,0,0,0,0,0,0,0,0,0,0,0,0,0,0,0,0,0]
[{"$nulls":3},"total non-crit smite damage per day",{"$f":"4.5*MIN(MIN(E342,E341)*E$7,E343)","v":0},{"$f":"4.5*MIN(MIN(F342,F341)*F$7,F343)","v":0},0,0,0,0,0,0,0,0,0,0,0,0,0,0,0,0,0,0]
[{"$nulls":3},"leftover sorc points + spell levels",{"$f":"IF(E336>0,IF(Sorcadins!E$323>0,(Sorcadins!E$323*E334+E333-E339*E340-E346/4.5)/Sorcadins!E$323,0),E334+E333)","v":0},{"$f":"IF(F336>0,IF(Sorcadins!F$323>0,(Sorcadins!F$323*F334+F333-F339*F340-F346/4.5)/Sorcadins!F$323,0),F334+F333)","v":0},{"$f":"IF(G336>0,IF(Sorcadins!G$323>0,(Sorcadins!G$323*G334+G333-G339*G340-G346/4.5)/Sorcadins!G$323,0),G334+G333)","v":0},{"$f":"IF(H336>0,IF(Sorcadins!H$323>0,(Sorcadins!H$323*H334+H333-H339*H340-H346/4.5)/Sorcadins!H$323,0),H334+H333)","v":0},{"$f":"IF(I336>0,IF(Sorcadins!I$323>0,(Sorcadins!I$323*I334+I333-I339*I340-I346/4.5)/Sorcadins!I$323,0),I334+I333)","v":4},{"$f":"IF(J336>0,IF(Sorcadins!J$323>0,(Sorcadins!J$323*J334+J333-J339*J340-J346/4.5)/Sorcadins!J$323,0),J334+J333)","v":4},{"$f":"IF(K336>0,IF(Sorcadins!K$323>0,(Sorcadins!K$323*K334+K333-K339*K340-K346/4.5)/Sorcadins!K$323,0),K334+K333)","v":4},{"$f":"IF(L336>0,IF(Sorcadins!L$323>0,(Sorcadins!L$323*L334+L333-L339*L340-L346/4.5)/Sorcadins!L$323,0),L334+L333)","v":4},{"$f":"IF(M336>0,IF(Sorcadins!M$323>0,(Sorcadins!M$323*M334+M333-M339*M340-M346/4.5)/Sorcadins!M$323,0),M334+M333)","v":4},{"$f":"IF(N336>0,IF(Sorcadins!N$323>0,(Sorcadins!N$323*N334+N333-N339*N340-N346/4.5)/Sorcadins!N$323,0),N334+N333)","v":4},{"$f":"IF(O336>0,IF(Sorcadins!O$323>0,(Sorcadins!O$323*O334+O333-O339*O340-O346/4.5)/Sorcadins!O$323,0),O334+O333)","v":4},{"$f":"IF(P336>0,IF(Sorcadins!P$323>0,(Sorcadins!P$323*P334+P333-P339*P340-P346/4.5)/Sorcadins!P$323,0),P334+P333)","v":4},{"$f":"IF(Q336>0,IF(Sorcadins!Q$323>0,(Sorcadins!Q$323*Q334+Q333-Q339*Q340-Q346/4.5)/Sorcadins!Q$323,0),Q334+Q333)","v":4},{"$f":"IF(R336>0,IF(Sorcadins!R$323>0,(Sorcadins!R$323*R334+R333-R339*R340-R346/4.5)/Sorcadins!R$323,0),R334+R333)","v":4},{"$f":"IF(S336>0,IF(Sorcadins!S$323>0,(Sorcadins!S$323*S334+S333-S339*S340-S346/4.5)/Sorcadins!S$323,0),S334+S333)","v":4},{"$f":"IF(T336>0,IF(Sorcadins!T$323>0,(Sorcadins!T$323*T334+T333-T339*T340-T346/4.5)/Sorcadins!T$323,0),T334+T333)","v":4},{"$f":"IF(U336>0,IF(Sorcadins!U$323>0,(Sorcadins!U$323*U334+U333-U339*U340-U346/4.5)/Sorcadins!U$323,0),U334+U333)","v":4},{"$f":"IF(V336>0,IF(Sorcadins!V$323>0,(Sorcadins!V$323*V334+V333-V339*V340-V346/4.5)/Sorcadins!V$323,0),V334+V333)","v":4},{"$f":"IF(W336>0,IF(Sorcadins!W$323>0,(Sorcadins!W$323*W334+W333-W339*W340-W346/4.5)/Sorcadins!W$323,0),W334+W333)","v":4.770831803630529},{"$f":"IF(X336>0,IF(Sorcadins!X$323>0,(Sorcadins!X$323*X334+X333-X339*X340-X346/4.5)/Sorcadins!X$323,0),X334+X333)","v":4.770831803630529}]
[{"$nulls":3},"actual smites performed",{"$f":"E339+IF(E$7>0,MIN(E341,E342,E343/E$7),0)","v":0},{"$f":"F339+IF(F$7>0,MIN(F341,F342,F343/F$7),0)","v":0},0,0,0,0,0,0,0,0,0,0,0,0,0,0,0,0,0,0]
[{"$nulls":3},"total daily smite damage: M2, B13, O3",{"$f":"E345+E346","v":0},{"$f":"F345+F346","v":0},0,0,0,0,0,0,0,0,0,0,0,0,0,0,0,0,0,0]
[]
[{"$nulls":3},"SMITES - M3, B8, O1/O2",1,2,3,4,5,6,7,8,9,10,11,12,13,14,15,16,17,18,19,20,null,"*With this one, there's actually more smite dice than there are attacks!"]
[{"$nulls":3},"remaining sorcery points (based on Damage Scenario)",{"$f":"MAX(0,Sorcadins!E$623-Sorcadins!E$1502)","v":0},{"$f":"MAX(0,Sorcadins!F$623-Sorcadins!F$1502)","v":0},{"$f":"MAX(0,Sorcadins!G$623-Sorcadins!G$1502)","v":0},{"$f":"MAX(0,Sorcadins!H$623-Sorcadins!H$1502)","v":0},{"$f":"MAX(0,Sorcadins!I$623-Sorcadins!I$1502)","v":0},{"$f":"MAX(0,Sorcadins!J$623-Sorcadins!J$1502)","v":0},{"$f":"MAX(0,Sorcadins!K$623-Sorcadins!K$1502)","v":0},{"$f":"MAX(0,Sorcadins!L$623-Sorcadins!L$1502)","v":0},{"$f":"MAX(0,Sorcadins!M$623-Sorcadins!M$1502)","v":0},{"$f":"MAX(0,Sorcadins!N$623-Sorcadins!N$1502)","v":0},{"$f":"MAX(0,Sorcadins!O$623-Sorcadins!O$1502)","v":0},{"$f":"MAX(0,Sorcadins!P$623-Sorcadins!P$1502)","v":0},{"$f":"MAX(0,Sorcadins!Q$623-Sorcadins!Q$1502)","v":0},{"$f":"MAX(0,Sorcadins!R$623-Sorcadins!R$1502)","v":0},{"$f":"MAX(0,Sorcadins!S$623-Sorcadins!S$1502)","v":0},{"$f":"MAX(0,Sorcadins!T$623-Sorcadins!T$1502)","v":0},{"$f":"MAX(0,Sorcadins!U$623-Sorcadins!U$1502)","v":0},{"$f":"MAX(0,Sorcadins!V$623-Sorcadins!V$1502)","v":0},{"$f":"MAX(0,Sorcadins!W$623-Sorcadins!W$1502)","v":0},{"$f":"MAX(0,Sorcadins!X$623-Sorcadins!X$1502)","v":0},null,"*Sorc points directly convertible to Smite Dice"]
[{"$nulls":3},"remaining spell slot levels (based on Damage Scenario)",{"$f":"MAX(0,Sorcadins!E$331-MAX(0,Sorcadins!E$1502-Sorcadins!E$623))","v":0},{"$f":"MAX(0,Sorcadins!F$331-MAX(0,Sorcadins!F$1502-Sorcadins!F$623))","v":0},{"$f":"MAX(0,Sorcadins!G$331-MAX(0,Sorcadins!G$1502-Sorcadins!G$623))","v":0},{"$f":"MAX(0,Sorcadins!H$331-MAX(0,Sorcadins!H$1502-Sorcadins!H$623))","v":0},{"$f":"MAX(0,Sorcadins!I$331-MAX(0,Sorcadins!I$1502-Sorcadins!I$623))","v":4},{"$f":"MAX(0,Sorcadins!J$331-MAX(0,Sorcadins!J$1502-Sorcadins!J$623))","v":4},{"$f":"MAX(0,Sorcadins!K$331-MAX(0,Sorcadins!K$1502-Sorcadins!K$623))","v":4},{"$f":"MAX(0,Sorcadins!L$331-MAX(0,Sorcadins!L$1502-Sorcadins!L$623))","v":4},{"$f":"MAX(0,Sorcadins!M$331-MAX(0,Sorcadins!M$1502-Sorcadins!M$623))","v":4},{"$f":"MAX(0,Sorcadins!N$331-MAX(0,Sorcadins!N$1502-Sorcadins!N$623))","v":4},{"$f":"MAX(0,Sorcadins!O$331-MAX(0,Sorcadins!O$1502-Sorcadins!O$623))","v":4},{"$f":"MAX(0,Sorcadins!P$331-MAX(0,Sorcadins!P$1502-Sorcadins!P$623))","v":4},{"$f":"MAX(0,Sorcadins!Q$331-MAX(0,Sorcadins!Q$1502-Sorcadins!Q$623))","v":4},{"$f":"MAX(0,Sorcadins!R$331-MAX(0,Sorcadins!R$1502-Sorcadins!R$623))","v":4},{"$f":"MAX(0,Sorcadins!S$331-MAX(0,Sorcadins!S$1502-Sorcadins!S$623))","v":4},{"$f":"MAX(0,Sorcadins!T$331-MAX(0,Sorcadins!T$1502-Sorcadins!T$623))","v":4},{"$f":"MAX(0,Sorcadins!U$331-MAX(0,Sorcadins!U$1502-Sorcadins!U$623))","v":4},{"$f":"MAX(0,Sorcadins!V$331-MAX(0,Sorcadins!V$1502-Sorcadins!V$623))","v":4},{"$f":"MAX(0,Sorcadins!W$331-MAX(0,Sorcadins!W$1502-Sorcadins!W$623))","v":4.770831803630529},{"$f":"MAX(0,Sorcadins!X$331-MAX(0,Sorcadins!X$1502-Sorcadins!X$623))","v":4.770831803630529}]
[{"$nulls":3},"total warlock smite levels remaining",{"$f":"MIN(Sorcadins!E$323*E353,Sorcadins!E$314)","v":0},{"$f":"MIN(Sorcadins!F$323*F353,Sorcadins!F$314)","v":0},{"$f":"MIN(Sorcadins!G$323*G353,Sorcadins!G$314)","v":0},{"$f":"MIN(Sorcadins!H$323*H353,Sorcadins!H$314)","v":0},{"$f":"MIN(Sorcadins!I$323*I353,Sorcadins!I$314)","v":0},{"$f":"MIN(Sorcadins!J$323*J353,Sorcadins!J$314)","v":0},{"$f":"MIN(Sorcadins!K$323*K353,Sorcadins!K$314)","v":0},{"$f":"MIN(Sorcadins!L$323*L353,Sorcadins!L$314)","v":0},{"$f":"MIN(Sorcadins!M$323*M353,Sorcadins!M$314)","v":0},{"$f":"MIN(Sorcadins!N$323*N353,Sorcadins!N$314)","v":0},{"$f":"MIN(Sorcadins!O$323*O353,Sorcadins!O$314)","v":0},{"$f":"MIN(Sorcadins!P$323*P353,Sorcadins!P$314)","v":0},{"$f":"MIN(Sorcadins!Q$323*Q353,Sorcadins!Q$314)","v":0},{"$f":"MIN(Sorcadins!R$323*R353,Sorcadins!R$314)","v":0},{"$f":"MIN(Sorcadins!S$323*S353,Sorcadins!S$314)","v":0},{"$f":"MIN(Sorcadins!T$323*T353,Sorcadins!T$314)","v":0},{"$f":"MIN(Sorcadins!U$323*U353,Sorcadins!U$314)","v":0},{"$f":"MIN(Sorcadins!V$323*V353,Sorcadins!V$314)","v":0},{"$f":"MIN(Sorcadins!W$323*W353,Sorcadins!W$314)","v":0},{"$f":"MIN(Sorcadins!X$323*X353,Sorcadins!X$314)","v":0}]
[{"$nulls":3},"total smite levels remaining",{"$f":"IF(E$5>=1,Sorcadins!E$323*E353+E352,IF(E$6,E354,0))","v":0},{"$f":"IF(F$5>=1,Sorcadins!F$323*F353+F352,IF(F$6,F354,0))","v":0},{"$f":"IF(G$5>=1,Sorcadins!G$323*G353+G352,IF(G$6,G354,0))","v":0},{"$f":"IF(H$5>=1,Sorcadins!H$323*H353+H352,IF(H$6,H354,0))","v":0},{"$f":"IF(I$5>=1,Sorcadins!I$323*I353+I352,IF(I$6,I354,0))","v":0},{"$f":"IF(J$5>=1,Sorcadins!J$323*J353+J352,IF(J$6,J354,0))","v":0},{"$f":"IF(K$5>=1,Sorcadins!K$323*K353+K352,IF(K$6,K354,0))","v":0},{"$f":"IF(L$5>=1,Sorcadins!L$323*L353+L352,IF(L$6,L354,0))","v":0},{"$f":"IF(M$5>=1,Sorcadins!M$323*M353+M352,IF(M$6,M354,0))","v":0},{"$f":"IF(N$5>=1,Sorcadins!N$323*N353+N352,IF(N$6,N354,0))","v":0},{"$f":"IF(O$5>=1,Sorcadins!O$323*O353+O352,IF(O$6,O354,0))","v":0},{"$f":"IF(P$5>=1,Sorcadins!P$323*P353+P352,IF(P$6,P354,0))","v":0},{"$f":"IF(Q$5>=1,Sorcadins!Q$323*Q353+Q352,IF(Q$6,Q354,0))","v":0},{"$f":"IF(R$5>=1,Sorcadins!R$323*R353+R352,IF(R$6,R354,0))","v":0},{"$f":"IF(S$5>=1,Sorcadins!S$323*S353+S352,IF(S$6,S354,0))","v":0},{"$f":"IF(T$5>=1,Sorcadins!T$323*T353+T352,IF(T$6,T354,0))","v":0},{"$f":"IF(U$5>=1,Sorcadins!U$323*U353+U352,IF(U$6,U354,0))","v":0},{"$f":"IF(V$5>=1,Sorcadins!V$323*V353+V352,IF(V$6,V354,0))","v":0},{"$f":"IF(W$5>=1,Sorcadins!W$323*W353+W352,IF(W$6,W354,0))","v":0},{"$f":"IF(X$5>=1,Sorcadins!X$323*X353+X352,IF(X$6,X354,0))","v":0}]
[{"$nulls":3},"max number of daily smites (after spells)",{"$f":"IF(E$6,Sorcadins!E$1374,IF(E$5,Sorcadins!E$332+E352/2,0))","v":0},{"$f":"IF(F$6,Sorcadins!F$1374,IF(F$5,Sorcadins!F$332+F352/2,0))","v":0},{"$f":"IF(G$6,Sorcadins!G$1374,IF(G$5,Sorcadins!G$332+G352/2,0))","v":0},{"$f":"IF(H$6,Sorcadins!H$1374,IF(H$5,Sorcadins!H$332+H352/2,0))","v":0},{"$f":"IF(I$6,Sorcadins!I$1374,IF(I$5,Sorcadins!I$332+I352/2,0))","v":0},{"$f":"IF(J$6,Sorcadins!J$1374,IF(J$5,Sorcadins!J$332+J352/2,0))","v":0},{"$f":"IF(K$6,Sorcadins!K$1374,IF(K$5,Sorcadins!K$332+K352/2,0))","v":0},{"$f":"IF(L$6,Sorcadins!L$1374,IF(L$5,Sorcadins!L$332+L352/2,0))","v":0},{"$f":"IF(M$6,Sorcadins!M$1374,IF(M$5,Sorcadins!M$332+M352/2,0))","v":0},{"$f":"IF(N$6,Sorcadins!N$1374,IF(N$5,Sorcadins!N$332+N352/2,0))","v":0},{"$f":"IF(O$6,Sorcadins!O$1374,IF(O$5,Sorcadins!O$332+O352/2,0))","v":0},{"$f":"IF(P$6,Sorcadins!P$1374,IF(P$5,Sorcadins!P$332+P352/2,0))","v":0},{"$f":"IF(Q$6,Sorcadins!Q$1374,IF(Q$5,Sorcadins!Q$332+Q352/2,0))","v":0},{"$f":"IF(R$6,Sorcadins!R$1374,IF(R$5,Sorcadins!R$332+R352/2,0))","v":0},{"$f":"IF(S$6,Sorcadins!S$1374,IF(S$5,Sorcadins!S$332+S352/2,0))","v":0},{"$f":"IF(T$6,Sorcadins!T$1374,IF(T$5,Sorcadins!T$332+T352/2,0))","v":0},{"$f":"IF(U$6,Sorcadins!U$1374,IF(U$5,Sorcadins!U$332+U352/2,0))","v":0},{"$f":"IF(V$6,Sorcadins!V$1374,IF(V$5,Sorcadins!V$332+V352/2,0))","v":0},{"$f":"IF(W$6,Sorcadins!W$1374,IF(W$5,Sorcadins!W$332+W352/2,0))","v":0},{"$f":"IF(X$6,Sorcadins!X$1374,IF(X$5,Sorcadins!X$332+X352/2,0))","v":0}]
[{"$nulls":3},"avg crits per day for smite purposes (based on Damage Scenario)",{"$f":"'Base Numbers'!$C$5*'Base Numbers'!$C$6*Sorcadins!E$1550","v":0},{"$f":"'Base Numbers'!$C$5*'Base Numbers'!$C$6*Sorcadins!F$1550","v":0},{"$f":"'Base Numbers'!$C$5*'Base Numbers'!$C$6*Sorcadins!G$1550","v":0},{"$f":"'Base Numbers'!$C$5*'Base Numbers'!$C$6*Sorcadins!H$1550","v":0},{"$f":"'Base Numbers'!$C$5*'Base Numbers'!$C$6*Sorcadins!I$1550","v":0},{"$f":"'Base Numbers'!$C$5*'Base Numbers'!$C$6*Sorcadins!J$1550","v":0},{"$f":"'Base Numbers'!$C$5*'Base Numbers'!$C$6*Sorcadins!K$1550","v":0},{"$f":"'Base Numbers'!$C$5*'Base Numbers'!$C$6*Sorcadins!L$1550","v":0},{"$f":"'Base Numbers'!$C$5*'Base Numbers'!$C$6*Sorcadins!M$1550","v":0},{"$f":"'Base Numbers'!$C$5*'Base Numbers'!$C$6*Sorcadins!N$1550","v":0},{"$f":"'Base Numbers'!$C$5*'Base Numbers'!$C$6*Sorcadins!O$1550","v":0},{"$f":"'Base Numbers'!$C$5*'Base Numbers'!$C$6*Sorcadins!P$1550","v":0},{"$f":"'Base Numbers'!$C$5*'Base Numbers'!$C$6*Sorcadins!Q$1550","v":0},{"$f":"'Base Numbers'!$C$5*'Base Numbers'!$C$6*Sorcadins!R$1550","v":0},{"$f":"'Base Numbers'!$C$5*'Base Numbers'!$C$6*Sorcadins!S$1550","v":0},{"$f":"'Base Numbers'!$C$5*'Base Numbers'!$C$6*Sorcadins!T$1550","v":0},{"$f":"'Base Numbers'!$C$5*'Base Numbers'!$C$6*Sorcadins!U$1550","v":0},{"$f":"'Base Numbers'!$C$5*'Base Numbers'!$C$6*Sorcadins!V$1550","v":0},{"$f":"'Base Numbers'!$C$5*'Base Numbers'!$C$6*Sorcadins!W$1550","v":0},{"$f":"'Base Numbers'!$C$5*'Base Numbers'!$C$6*Sorcadins!X$1550","v":0}]
[{"$nulls":3},"number of smites used on crits",{"$f":"MIN(E356,E357)","v":0},{"$f":"MIN(F356,F357)","v":0},0,0,0,0,0,0,0,0,0,0,0,0,0,0,0,0,0,0]
[{"$nulls":3},"avg smite dice per crit ",{"$f":"IF(E358>0,MIN(E$7,(E355/MIN(E358,E357))),0)","v":0},0,0,0,0,0,0,0,0,0,0,0,0,0,0,0,0,0,0,0]
[{"$nulls":3},"smites left for non-crits",{"$f":"E356-E358","v":0},{"$f":"F356-F358","v":0},0,0,0,0,0,0,0,0,0,0,0,0,0,0,0,0,0,0]
[{"$nulls":3},"total non-crit smite-qualifying attacks available",{"$f":"Sorcadins!E$1525*('Base Numbers'!$C$5*'Base Numbers'!$C$6)-E357","v":0},{"$f":"Sorcadins!F$1525*('Base Numbers'!$C$5*'Base Numbers'!$C$6)-F357","v":0},{"$f":"Sorcadins!G$1525*('Base Numbers'!$C$5*'Base Numbers'!$C$6)-G357","v":0},{"$f":"Sorcadins!H$1525*('Base Numbers'!$C$5*'Base Numbers'!$C$6)-H357","v":0},{"$f":"Sorcadins!I$1525*('Base Numbers'!$C$5*'Base Numbers'!$C$6)-I357","v":0},{"$f":"Sorcadins!J$1525*('Base Numbers'!$C$5*'Base Numbers'!$C$6)-J357","v":0},{"$f":"Sorcadins!K$1525*('Base Numbers'!$C$5*'Base Numbers'!$C$6)-K357","v":0},{"$f":"Sorcadins!L$1525*('Base Numbers'!$C$5*'Base Numbers'!$C$6)-L357","v":0},{"$f":"Sorcadins!M$1525*('Base Numbers'!$C$5*'Base Numbers'!$C$6)-M357","v":0},{"$f":"Sorcadins!N$1525*('Base Numbers'!$C$5*'Base Numbers'!$C$6)-N357","v":0},{"$f":"Sorcadins!O$1525*('Base Numbers'!$C$5*'Base Numbers'!$C$6)-O357","v":0},{"$f":"Sorcadins!P$1525*('Base Numbers'!$C$5*'Base Numbers'!$C$6)-P357","v":0},{"$f":"Sorcadins!Q$1525*('Base Numbers'!$C$5*'Base Numbers'!$C$6)-Q357","v":0},{"$f":"Sorcadins!R$1525*('Base Numbers'!$C$5*'Base Numbers'!$C$6)-R357","v":0},{"$f":"Sorcadins!S$1525*('Base Numbers'!$C$5*'Base Numbers'!$C$6)-S357","v":0},{"$f":"Sorcadins!T$1525*('Base Numbers'!$C$5*'Base Numbers'!$C$6)-T357","v":0},{"$f":"Sorcadins!U$1525*('Base Numbers'!$C$5*'Base Numbers'!$C$6)-U357","v":0},{"$f":"Sorcadins!V$1525*('Base Numbers'!$C$5*'Base Numbers'!$C$6)-V357","v":0},{"$f":"Sorcadins!W$1525*('Base Numbers'!$C$5*'Base Numbers'!$C$6)-W357","v":0},{"$f":"Sorcadins!X$1525*('Base Numbers'!$C$5*'Base Numbers'!$C$6)-X357","v":0}]
[{"$nulls":3},"smite dice left for non-crits",{"$f":"ROUND(MAX(0,E355-E357*E359),4)","v":0},{"$f":"ROUND(MAX(0,F355-F357*F359),4)","v":0},0,0,0,0,0,0,0,0,0,0,0,0,0,0,0,0,0,0]
[{"$nulls":3},"total smite dice used on crits",{"$f":"E358*E359","v":0},{"$f":"F358*F359","v":0},0,0,0,0,0,0,0,0,0,0,0,0,0,0,0,0,0,0]
[{"$nulls":3},"total crit smite damage per day",{"$f":"9*E363","v":0},{"$f":"9*F363","v":0},0,0,0,0,0,0,0,0,0,0,0,0,0,0,0,0,0,0]
[{"$nulls":3},"total non-crit smite damage per day",{"$f":"4.5*MIN(MIN(E361,E360)*E$7,E362)","v":0},{"$f":"4.5*MIN(MIN(F361,F360)*F$7,F362)","v":0},0,0,0,0,0,0,0,0,0,0,0,0,0,0,0,0,0,0]
[{"$nulls":3},"leftover sorc points + spell levels",{"$f":"IF(E355>0,IF(Sorcadins!E$323>0,(Sorcadins!E$323*E353+E352-E358*E359-E365/4.5)/Sorcadins!E$323,0),E353+E352)","v":0},{"$f":"IF(F355>0,IF(Sorcadins!F$323>0,(Sorcadins!F$323*F353+F352-F358*F359-F365/4.5)/Sorcadins!F$323,0),F353+F352)","v":0},{"$f":"IF(G355>0,IF(Sorcadins!G$323>0,(Sorcadins!G$323*G353+G352-G358*G359-G365/4.5)/Sorcadins!G$323,0),G353+G352)","v":0},{"$f":"IF(H355>0,IF(Sorcadins!H$323>0,(Sorcadins!H$323*H353+H352-H358*H359-H365/4.5)/Sorcadins!H$323,0),H353+H352)","v":0},{"$f":"IF(I355>0,IF(Sorcadins!I$323>0,(Sorcadins!I$323*I353+I352-I358*I359-I365/4.5)/Sorcadins!I$323,0),I353+I352)","v":4},{"$f":"IF(J355>0,IF(Sorcadins!J$323>0,(Sorcadins!J$323*J353+J352-J358*J359-J365/4.5)/Sorcadins!J$323,0),J353+J352)","v":4},{"$f":"IF(K355>0,IF(Sorcadins!K$323>0,(Sorcadins!K$323*K353+K352-K358*K359-K365/4.5)/Sorcadins!K$323,0),K353+K352)","v":4},{"$f":"IF(L355>0,IF(Sorcadins!L$323>0,(Sorcadins!L$323*L353+L352-L358*L359-L365/4.5)/Sorcadins!L$323,0),L353+L352)","v":4},{"$f":"IF(M355>0,IF(Sorcadins!M$323>0,(Sorcadins!M$323*M353+M352-M358*M359-M365/4.5)/Sorcadins!M$323,0),M353+M352)","v":4},{"$f":"IF(N355>0,IF(Sorcadins!N$323>0,(Sorcadins!N$323*N353+N352-N358*N359-N365/4.5)/Sorcadins!N$323,0),N353+N352)","v":4},{"$f":"IF(O355>0,IF(Sorcadins!O$323>0,(Sorcadins!O$323*O353+O352-O358*O359-O365/4.5)/Sorcadins!O$323,0),O353+O352)","v":4},{"$f":"IF(P355>0,IF(Sorcadins!P$323>0,(Sorcadins!P$323*P353+P352-P358*P359-P365/4.5)/Sorcadins!P$323,0),P353+P352)","v":4},{"$f":"IF(Q355>0,IF(Sorcadins!Q$323>0,(Sorcadins!Q$323*Q353+Q352-Q358*Q359-Q365/4.5)/Sorcadins!Q$323,0),Q353+Q352)","v":4},{"$f":"IF(R355>0,IF(Sorcadins!R$323>0,(Sorcadins!R$323*R353+R352-R358*R359-R365/4.5)/Sorcadins!R$323,0),R353+R352)","v":4},{"$f":"IF(S355>0,IF(Sorcadins!S$323>0,(Sorcadins!S$323*S353+S352-S358*S359-S365/4.5)/Sorcadins!S$323,0),S353+S352)","v":4},{"$f":"IF(T355>0,IF(Sorcadins!T$323>0,(Sorcadins!T$323*T353+T352-T358*T359-T365/4.5)/Sorcadins!T$323,0),T353+T352)","v":4},{"$f":"IF(U355>0,IF(Sorcadins!U$323>0,(Sorcadins!U$323*U353+U352-U358*U359-U365/4.5)/Sorcadins!U$323,0),U353+U352)","v":4},{"$f":"IF(V355>0,IF(Sorcadins!V$323>0,(Sorcadins!V$323*V353+V352-V358*V359-V365/4.5)/Sorcadins!V$323,0),V353+V352)","v":4},{"$f":"IF(W355>0,IF(Sorcadins!W$323>0,(Sorcadins!W$323*W353+W352-W358*W359-W365/4.5)/Sorcadins!W$323,0),W353+W352)","v":4.770831803630529},{"$f":"IF(X355>0,IF(Sorcadins!X$323>0,(Sorcadins!X$323*X353+X352-X358*X359-X365/4.5)/Sorcadins!X$323,0),X353+X352)","v":4.770831803630529}]
[{"$nulls":3},"actual smites performed",{"$f":"E358+IF(E$7>0,MIN(E360,E361,E362/E$7),0)","v":0},{"$f":"F358+IF(F$7>0,MIN(F360,F361,F362/F$7),0)","v":0},0,0,0,0,0,0,0,0,0,0,0,0,0,0,0,0,0,0]
[{"$nulls":3},"total daily smite damage: M3, B8, O1/O2",{"$f":"E364+E365","v":0},{"$f":"F364+F365","v":0},0,0,0,0,0,0,0,0,0,0,0,0,0,0,0,0,0,0]
[]
[{"$nulls":3},"SMITES - M3, B8, O3",1,2,3,4,5,6,7,8,9,10,11,12,13,14,15,16,17,18,19,20,null,"*With this one, there's actually more smite dice than there are attacks!"]
[{"$nulls":3},"remaining sorcery points (based on Damage Scenario)",{"$f":"MAX(0,Sorcadins!E$623-Sorcadins!E$1502)","v":0},{"$f":"MAX(0,Sorcadins!F$623-Sorcadins!F$1502)","v":0},{"$f":"MAX(0,Sorcadins!G$623-Sorcadins!G$1502)","v":0},{"$f":"MAX(0,Sorcadins!H$623-Sorcadins!H$1502)","v":0},{"$f":"MAX(0,Sorcadins!I$623-Sorcadins!I$1502)","v":0},{"$f":"MAX(0,Sorcadins!J$623-Sorcadins!J$1502)","v":0},{"$f":"MAX(0,Sorcadins!K$623-Sorcadins!K$1502)","v":0},{"$f":"MAX(0,Sorcadins!L$623-Sorcadins!L$1502)","v":0},{"$f":"MAX(0,Sorcadins!M$623-Sorcadins!M$1502)","v":0},{"$f":"MAX(0,Sorcadins!N$623-Sorcadins!N$1502)","v":0},{"$f":"MAX(0,Sorcadins!O$623-Sorcadins!O$1502)","v":0},{"$f":"MAX(0,Sorcadins!P$623-Sorcadins!P$1502)","v":0},{"$f":"MAX(0,Sorcadins!Q$623-Sorcadins!Q$1502)","v":0},{"$f":"MAX(0,Sorcadins!R$623-Sorcadins!R$1502)","v":0},{"$f":"MAX(0,Sorcadins!S$623-Sorcadins!S$1502)","v":0},{"$f":"MAX(0,Sorcadins!T$623-Sorcadins!T$1502)","v":0},{"$f":"MAX(0,Sorcadins!U$623-Sorcadins!U$1502)","v":0},{"$f":"MAX(0,Sorcadins!V$623-Sorcadins!V$1502)","v":0},{"$f":"MAX(0,Sorcadins!W$623-Sorcadins!W$1502)","v":0},{"$f":"MAX(0,Sorcadins!X$623-Sorcadins!X$1502)","v":0},null,"*Sorc points directly convertible to Smite Dice"]
[{"$nulls":3},"remaining spell slot levels (based on Damage Scenario)",{"$f":"MAX(0,Sorcadins!E$331-MAX(0,Sorcadins!E$1502-Sorcadins!E$623))","v":0},{"$f":"MAX(0,Sorcadins!F$331-MAX(0,Sorcadins!F$1502-Sorcadins!F$623))","v":0},{"$f":"MAX(0,Sorcadins!G$331-MAX(0,Sorcadins!G$1502-Sorcadins!G$623))","v":0},{"$f":"MAX(0,Sorcadins!H$331-MAX(0,Sorcadins!H$1502-Sorcadins!H$623))","v":0},{"$f":"MAX(0,Sorcadins!I$331-MAX(0,Sorcadins!I$1502-Sorcadins!I$623))","v":4},{"$f":"MAX(0,Sorcadins!J$331-MAX(0,Sorcadins!J$1502-Sorcadins!J$623))","v":4},{"$f":"MAX(0,Sorcadins!K$331-MAX(0,Sorcadins!K$1502-Sorcadins!K$623))","v":4},{"$f":"MAX(0,Sorcadins!L$331-MAX(0,Sorcadins!L$1502-Sorcadins!L$623))","v":4},{"$f":"MAX(0,Sorcadins!M$331-MAX(0,Sorcadins!M$1502-Sorcadins!M$623))","v":4},{"$f":"MAX(0,Sorcadins!N$331-MAX(0,Sorcadins!N$1502-Sorcadins!N$623))","v":4},{"$f":"MAX(0,Sorcadins!O$331-MAX(0,Sorcadins!O$1502-Sorcadins!O$623))","v":4},{"$f":"MAX(0,Sorcadins!P$331-MAX(0,Sorcadins!P$1502-Sorcadins!P$623))","v":4},{"$f":"MAX(0,Sorcadins!Q$331-MAX(0,Sorcadins!Q$1502-Sorcadins!Q$623))","v":4},{"$f":"MAX(0,Sorcadins!R$331-MAX(0,Sorcadins!R$1502-Sorcadins!R$623))","v":4},{"$f":"MAX(0,Sorcadins!S$331-MAX(0,Sorcadins!S$1502-Sorcadins!S$623))","v":4},{"$f":"MAX(0,Sorcadins!T$331-MAX(0,Sorcadins!T$1502-Sorcadins!T$623))","v":4},{"$f":"MAX(0,Sorcadins!U$331-MAX(0,Sorcadins!U$1502-Sorcadins!U$623))","v":4},{"$f":"MAX(0,Sorcadins!V$331-MAX(0,Sorcadins!V$1502-Sorcadins!V$623))","v":4},{"$f":"MAX(0,Sorcadins!W$331-MAX(0,Sorcadins!W$1502-Sorcadins!W$623))","v":4.770831803630529},{"$f":"MAX(0,Sorcadins!X$331-MAX(0,Sorcadins!X$1502-Sorcadins!X$623))","v":4.770831803630529}]
[{"$nulls":3},"total warlock smite levels remaining",{"$f":"MIN(Sorcadins!E$323*E372,Sorcadins!E$314)","v":0},{"$f":"MIN(Sorcadins!F$323*F372,Sorcadins!F$314)","v":0},{"$f":"MIN(Sorcadins!G$323*G372,Sorcadins!G$314)","v":0},{"$f":"MIN(Sorcadins!H$323*H372,Sorcadins!H$314)","v":0},{"$f":"MIN(Sorcadins!I$323*I372,Sorcadins!I$314)","v":0},{"$f":"MIN(Sorcadins!J$323*J372,Sorcadins!J$314)","v":0},{"$f":"MIN(Sorcadins!K$323*K372,Sorcadins!K$314)","v":0},{"$f":"MIN(Sorcadins!L$323*L372,Sorcadins!L$314)","v":0},{"$f":"MIN(Sorcadins!M$323*M372,Sorcadins!M$314)","v":0},{"$f":"MIN(Sorcadins!N$323*N372,Sorcadins!N$314)","v":0},{"$f":"MIN(Sorcadins!O$323*O372,Sorcadins!O$314)","v":0},{"$f":"MIN(Sorcadins!P$323*P372,Sorcadins!P$314)","v":0},{"$f":"MIN(Sorcadins!Q$323*Q372,Sorcadins!Q$314)","v":0},{"$f":"MIN(Sorcadins!R$323*R372,Sorcadins!R$314)","v":0},{"$f":"MIN(Sorcadins!S$323*S372,Sorcadins!S$314)","v":0},{"$f":"MIN(Sorcadins!T$323*T372,Sorcadins!T$314)","v":0},{"$f":"MIN(Sorcadins!U$323*U372,Sorcadins!U$314)","v":0},{"$f":"MIN(Sorcadins!V$323*V372,Sorcadins!V$314)","v":0},{"$f":"MIN(Sorcadins!W$323*W372,Sorcadins!W$314)","v":0},{"$f":"MIN(Sorcadins!X$323*X372,Sorcadins!X$314)","v":0}]
[{"$nulls":3},"total smite levels remaining",{"$f":"IF(E$5>=1,Sorcadins!E$323*E372+E371,IF(E$6,E373,0))","v":0},{"$f":"IF(F$5>=1,Sorcadins!F$323*F372+F371,IF(F$6,F373,0))","v":0},{"$f":"IF(G$5>=1,Sorcadins!G$323*G372+G371,IF(G$6,G373,0))","v":0},{"$f":"IF(H$5>=1,Sorcadins!H$323*H372+H371,IF(H$6,H373,0))","v":0},{"$f":"IF(I$5>=1,Sorcadins!I$323*I372+I371,IF(I$6,I373,0))","v":0},{"$f":"IF(J$5>=1,Sorcadins!J$323*J372+J371,IF(J$6,J373,0))","v":0},{"$f":"IF(K$5>=1,Sorcadins!K$323*K372+K371,IF(K$6,K373,0))","v":0},{"$f":"IF(L$5>=1,Sorcadins!L$323*L372+L371,IF(L$6,L373,0))","v":0},{"$f":"IF(M$5>=1,Sorcadins!M$323*M372+M371,IF(M$6,M373,0))","v":0},{"$f":"IF(N$5>=1,Sorcadins!N$323*N372+N371,IF(N$6,N373,0))","v":0},{"$f":"IF(O$5>=1,Sorcadins!O$323*O372+O371,IF(O$6,O373,0))","v":0},{"$f":"IF(P$5>=1,Sorcadins!P$323*P372+P371,IF(P$6,P373,0))","v":0},{"$f":"IF(Q$5>=1,Sorcadins!Q$323*Q372+Q371,IF(Q$6,Q373,0))","v":0},{"$f":"IF(R$5>=1,Sorcadins!R$323*R372+R371,IF(R$6,R373,0))","v":0},{"$f":"IF(S$5>=1,Sorcadins!S$323*S372+S371,IF(S$6,S373,0))","v":0},{"$f":"IF(T$5>=1,Sorcadins!T$323*T372+T371,IF(T$6,T373,0))","v":0},{"$f":"IF(U$5>=1,Sorcadins!U$323*U372+U371,IF(U$6,U373,0))","v":0},{"$f":"IF(V$5>=1,Sorcadins!V$323*V372+V371,IF(V$6,V373,0))","v":0},{"$f":"IF(W$5>=1,Sorcadins!W$323*W372+W371,IF(W$6,W373,0))","v":0},{"$f":"IF(X$5>=1,Sorcadins!X$323*X372+X371,IF(X$6,X373,0))","v":0}]
[{"$nulls":3},"max number of daily smites (after spells)",{"$f":"IF(E$6,Sorcadins!E$1374,IF(E$5,Sorcadins!E$332+E371/2,0))","v":0},{"$f":"IF(F$6,Sorcadins!F$1374,IF(F$5,Sorcadins!F$332+F371/2,0))","v":0},{"$f":"IF(G$6,Sorcadins!G$1374,IF(G$5,Sorcadins!G$332+G371/2,0))","v":0},{"$f":"IF(H$6,Sorcadins!H$1374,IF(H$5,Sorcadins!H$332+H371/2,0))","v":0},{"$f":"IF(I$6,Sorcadins!I$1374,IF(I$5,Sorcadins!I$332+I371/2,0))","v":0},{"$f":"IF(J$6,Sorcadins!J$1374,IF(J$5,Sorcadins!J$332+J371/2,0))","v":0},{"$f":"IF(K$6,Sorcadins!K$1374,IF(K$5,Sorcadins!K$332+K371/2,0))","v":0},{"$f":"IF(L$6,Sorcadins!L$1374,IF(L$5,Sorcadins!L$332+L371/2,0))","v":0},{"$f":"IF(M$6,Sorcadins!M$1374,IF(M$5,Sorcadins!M$332+M371/2,0))","v":0},{"$f":"IF(N$6,Sorcadins!N$1374,IF(N$5,Sorcadins!N$332+N371/2,0))","v":0},{"$f":"IF(O$6,Sorcadins!O$1374,IF(O$5,Sorcadins!O$332+O371/2,0))","v":0},{"$f":"IF(P$6,Sorcadins!P$1374,IF(P$5,Sorcadins!P$332+P371/2,0))","v":0},{"$f":"IF(Q$6,Sorcadins!Q$1374,IF(Q$5,Sorcadins!Q$332+Q371/2,0))","v":0},{"$f":"IF(R$6,Sorcadins!R$1374,IF(R$5,Sorcadins!R$332+R371/2,0))","v":0},{"$f":"IF(S$6,Sorcadins!S$1374,IF(S$5,Sorcadins!S$332+S371/2,0))","v":0},{"$f":"IF(T$6,Sorcadins!T$1374,IF(T$5,Sorcadins!T$332+T371/2,0))","v":0},{"$f":"IF(U$6,Sorcadins!U$1374,IF(U$5,Sorcadins!U$332+U371/2,0))","v":0},{"$f":"IF(V$6,Sorcadins!V$1374,IF(V$5,Sorcadins!V$332+V371/2,0))","v":0},{"$f":"IF(W$6,Sorcadins!W$1374,IF(W$5,Sorcadins!W$332+W371/2,0))","v":0},{"$f":"IF(X$6,Sorcadins!X$1374,IF(X$5,Sorcadins!X$332+X371/2,0))","v":0}]
[{"$nulls":3},"avg crits per day for smite purposes (based on Damage Scenario)",{"$f":"'Base Numbers'!$C$5*'Base Numbers'!$C$6*Sorcadins!E$1551","v":0},{"$f":"'Base Numbers'!$C$5*'Base Numbers'!$C$6*Sorcadins!F$1551","v":0},{"$f":"'Base Numbers'!$C$5*'Base Numbers'!$C$6*Sorcadins!G$1551","v":0},{"$f":"'Base Numbers'!$C$5*'Base Numbers'!$C$6*Sorcadins!H$1551","v":0},{"$f":"'Base Numbers'!$C$5*'Base Numbers'!$C$6*Sorcadins!I$1551","v":0},{"$f":"'Base Numbers'!$C$5*'Base Numbers'!$C$6*Sorcadins!J$1551","v":0},{"$f":"'Base Numbers'!$C$5*'Base Numbers'!$C$6*Sorcadins!K$1551","v":0},{"$f":"'Base Numbers'!$C$5*'Base Numbers'!$C$6*Sorcadins!L$1551","v":0},{"$f":"'Base Numbers'!$C$5*'Base Numbers'!$C$6*Sorcadins!M$1551","v":0},{"$f":"'Base Numbers'!$C$5*'Base Numbers'!$C$6*Sorcadins!N$1551","v":0},{"$f":"'Base Numbers'!$C$5*'Base Numbers'!$C$6*Sorcadins!O$1551","v":0},{"$f":"'Base Numbers'!$C$5*'Base Numbers'!$C$6*Sorcadins!P$1551","v":0},{"$f":"'Base Numbers'!$C$5*'Base Numbers'!$C$6*Sorcadins!Q$1551","v":0},{"$f":"'Base Numbers'!$C$5*'Base Numbers'!$C$6*Sorcadins!R$1551","v":0},{"$f":"'Base Numbers'!$C$5*'Base Numbers'!$C$6*Sorcadins!S$1551","v":0},{"$f":"'Base Numbers'!$C$5*'Base Numbers'!$C$6*Sorcadins!T$1551","v":0},{"$f":"'Base Numbers'!$C$5*'Base Numbers'!$C$6*Sorcadins!U$1551","v":0},{"$f":"'Base Numbers'!$C$5*'Base Numbers'!$C$6*Sorcadins!V$1551","v":0},{"$f":"'Base Numbers'!$C$5*'Base Numbers'!$C$6*Sorcadins!W$1551","v":0},{"$f":"'Base Numbers'!$C$5*'Base Numbers'!$C$6*Sorcadins!X$1551","v":0}]
[{"$nulls":3},"number of smites used on crits",{"$f":"MIN(E375,E376)","v":0},0,0,0,0,0,0,0,0,0,0,0,0,0,0,0,0,0,0,0]
[{"$nulls":3},"avg smite dice per crit ",{"$f":"IF(E377>0,MIN(E$7,(E374/MIN(E377,E376))),0)","v":0},0,0,0,0,0,0,0,0,0,0,0,0,0,0,0,0,0,0,0]
[{"$nulls":3},"smites left for non-crits",{"$f":"E375-E377","v":0},{"$f":"F375-F377","v":0},0,0,0,0,0,0,0,0,0,0,0,0,0,0,0,0,0,0]
[{"$nulls":3},"total non-crit smite-qualifying attacks available",{"$f":"Sorcadins!E$1526*('Base Numbers'!$C$5*'Base Numbers'!$C$6)-E376","v":0},{"$f":"Sorcadins!F$1526*('Base Numbers'!$C$5*'Base Numbers'!$C$6)-F376","v":0},{"$f":"Sorcadins!G$1526*('Base Numbers'!$C$5*'Base Numbers'!$C$6)-G376","v":0},{"$f":"Sorcadins!H$1526*('Base Numbers'!$C$5*'Base Numbers'!$C$6)-H376","v":0},{"$f":"Sorcadins!I$1526*('Base Numbers'!$C$5*'Base Numbers'!$C$6)-I376","v":0},{"$f":"Sorcadins!J$1526*('Base Numbers'!$C$5*'Base Numbers'!$C$6)-J376","v":0},{"$f":"Sorcadins!K$1526*('Base Numbers'!$C$5*'Base Numbers'!$C$6)-K376","v":0},{"$f":"Sorcadins!L$1526*('Base Numbers'!$C$5*'Base Numbers'!$C$6)-L376","v":0},{"$f":"Sorcadins!M$1526*('Base Numbers'!$C$5*'Base Numbers'!$C$6)-M376","v":0},{"$f":"Sorcadins!N$1526*('Base Numbers'!$C$5*'Base Numbers'!$C$6)-N376","v":0},{"$f":"Sorcadins!O$1526*('Base Numbers'!$C$5*'Base Numbers'!$C$6)-O376","v":0},{"$f":"Sorcadins!P$1526*('Base Numbers'!$C$5*'Base Numbers'!$C$6)-P376","v":0},{"$f":"Sorcadins!Q$1526*('Base Numbers'!$C$5*'Base Numbers'!$C$6)-Q376","v":0},{"$f":"Sorcadins!R$1526*('Base Numbers'!$C$5*'Base Numbers'!$C$6)-R376","v":0},{"$f":"Sorcadins!S$1526*('Base Numbers'!$C$5*'Base Numbers'!$C$6)-S376","v":0},{"$f":"Sorcadins!T$1526*('Base Numbers'!$C$5*'Base Numbers'!$C$6)-T376","v":0},{"$f":"Sorcadins!U$1526*('Base Numbers'!$C$5*'Base Numbers'!$C$6)-U376","v":0},{"$f":"Sorcadins!V$1526*('Base Numbers'!$C$5*'Base Numbers'!$C$6)-V376","v":0},{"$f":"Sorcadins!W$1526*('Base Numbers'!$C$5*'Base Numbers'!$C$6)-W376","v":0},{"$f":"Sorcadins!X$1526*('Base Numbers'!$C$5*'Base Numbers'!$C$6)-X376","v":0}]
[{"$nulls":3},"smite dice left for non-crits",{"$f":"ROUND(MAX(0,E374-E376*E378),4)","v":0},{"$f":"ROUND(MAX(0,F374-F376*F378),4)","v":0},0,0,0,0,0,0,0,0,0,0,0,0,0,0,0,0,0,0]
[{"$nulls":3},"total smite dice used on crits",{"$f":"E377*E378","v":0},{"$f":"F377*F378","v":0},0,0,0,0,0,0,0,0,0,0,0,0,0,0,0,0,0,0]
[{"$nulls":3},"total crit smite damage per day",{"$f":"9*E382","v":0},0,0,0,0,0,0,0,0,0,0,0,0,0,0,0,0,0,0,0]
[{"$nulls":3},"total non-crit smite damage per day",{"$f":"4.5*MIN(MIN(E380,E379)*E$7,E381)","v":0},{"$f":"4.5*MIN(MIN(F380,F379)*F$7,F381)","v":0},0,0,0,0,0,0,0,0,0,0,0,0,0,0,0,0,0,0]
[{"$nulls":3},"leftover sorc points + spell levels",{"$f":"IF(E374>0,IF(Sorcadins!E$323>0,(Sorcadins!E$323*E372+E371-E377*E378-E384/4.5)/Sorcadins!E$323,0),E372+E371)","v":0},{"$f":"IF(F374>0,IF(Sorcadins!F$323>0,(Sorcadins!F$323*F372+F371-F377*F378-F384/4.5)/Sorcadins!F$323,0),F372+F371)","v":0},{"$f":"IF(G374>0,IF(Sorcadins!G$323>0,(Sorcadins!G$323*G372+G371-G377*G378-G384/4.5)/Sorcadins!G$323,0),G372+G371)","v":0},{"$f":"IF(H374>0,IF(Sorcadins!H$323>0,(Sorcadins!H$323*H372+H371-H377*H378-H384/4.5)/Sorcadins!H$323,0),H372+H371)","v":0},{"$f":"IF(I374>0,IF(Sorcadins!I$323>0,(Sorcadins!I$323*I372+I371-I377*I378-I384/4.5)/Sorcadins!I$323,0),I372+I371)","v":4},{"$f":"IF(J374>0,IF(Sorcadins!J$323>0,(Sorcadins!J$323*J372+J371-J377*J378-J384/4.5)/Sorcadins!J$323,0),J372+J371)","v":4},{"$f":"IF(K374>0,IF(Sorcadins!K$323>0,(Sorcadins!K$323*K372+K371-K377*K378-K384/4.5)/Sorcadins!K$323,0),K372+K371)","v":4},{"$f":"IF(L374>0,IF(Sorcadins!L$323>0,(Sorcadins!L$323*L372+L371-L377*L378-L384/4.5)/Sorcadins!L$323,0),L372+L371)","v":4},{"$f":"IF(M374>0,IF(Sorcadins!M$323>0,(Sorcadins!M$323*M372+M371-M377*M378-M384/4.5)/Sorcadins!M$323,0),M372+M371)","v":4},{"$f":"IF(N374>0,IF(Sorcadins!N$323>0,(Sorcadins!N$323*N372+N371-N377*N378-N384/4.5)/Sorcadins!N$323,0),N372+N371)","v":4},{"$f":"IF(O374>0,IF(Sorcadins!O$323>0,(Sorcadins!O$323*O372+O371-O377*O378-O384/4.5)/Sorcadins!O$323,0),O372+O371)","v":4},{"$f":"IF(P374>0,IF(Sorcadins!P$323>0,(Sorcadins!P$323*P372+P371-P377*P378-P384/4.5)/Sorcadins!P$323,0),P372+P371)","v":4},{"$f":"IF(Q374>0,IF(Sorcadins!Q$323>0,(Sorcadins!Q$323*Q372+Q371-Q377*Q378-Q384/4.5)/Sorcadins!Q$323,0),Q372+Q371)","v":4},{"$f":"IF(R374>0,IF(Sorcadins!R$323>0,(Sorcadins!R$323*R372+R371-R377*R378-R384/4.5)/Sorcadins!R$323,0),R372+R371)","v":4},{"$f":"IF(S374>0,IF(Sorcadins!S$323>0,(Sorcadins!S$323*S372+S371-S377*S378-S384/4.5)/Sorcadins!S$323,0),S372+S371)","v":4},{"$f":"IF(T374>0,IF(Sorcadins!T$323>0,(Sorcadins!T$323*T372+T371-T377*T378-T384/4.5)/Sorcadins!T$323,0),T372+T371)","v":4},{"$f":"IF(U374>0,IF(Sorcadins!U$323>0,(Sorcadins!U$323*U372+U371-U377*U378-U384/4.5)/Sorcadins!U$323,0),U372+U371)","v":4},{"$f":"IF(V374>0,IF(Sorcadins!V$323>0,(Sorcadins!V$323*V372+V371-V377*V378-V384/4.5)/Sorcadins!V$323,0),V372+V371)","v":4},{"$f":"IF(W374>0,IF(Sorcadins!W$323>0,(Sorcadins!W$323*W372+W371-W377*W378-W384/4.5)/Sorcadins!W$323,0),W372+W371)","v":4.770831803630529},{"$f":"IF(X374>0,IF(Sorcadins!X$323>0,(Sorcadins!X$323*X372+X371-X377*X378-X384/4.5)/Sorcadins!X$323,0),X372+X371)","v":4.770831803630529}]
[{"$nulls":3},"actual smites performed",{"$f":"E377+IF(E$7>0,MIN(E379,E380,E381/E$7),0)","v":0},{"$f":"F377+IF(F$7>0,MIN(F379,F380,F381/F$7),0)","v":0},0,0,0,0,0,0,0,0,0,0,0,0,0,0,0,0,0,0]
[{"$nulls":3},"total daily smite damage: M3, B8, O3",{"$f":"E383+E384","v":0},0,0,0,0,0,0,0,0,0,0,0,0,0,0,0,0,0,0,0]
[]
[{"$nulls":3},"SMITES - M4, B9 (Ranged EB only)",1,2,3,4,5,6,7,8,9,10,11,12,13,14,15,16,17,18,19,20,null,"* this doesn't allow smites of any kind; here as a placeholder"]
[{"$nulls":3},"remaining sorcery points (based on Damage Scenario)",0,0,0,0,0,0,0,0,0,0,0,0,0,0,0,0,0,0,0,0]
[{"$nulls":3},"remaining spell slot levels (based on Damage Scenario)",0,0,0,0,0,0,0,0,0,0,0,0,0,0,0,0,0,0,0,0]
[{"$nulls":3},"total warlock smite levels remaining",0,0,0,0,0,0,0,0,0,0,0,0,0,0,0,0,0,0,0,0]
[{"$nulls":3},"total smite levels remaining",0,0,0,0,0,0,0,0,0,0,0,0,0,0,0,0,0,0,0,0]
[{"$nulls":3},"max number of daily smites (after spells)",0,0,0,0,0,0,0,0,0,0,0,0,0,0,0,0,0,0,0,0]
[{"$nulls":3},"avg crits per day for smite purposes (based on Damage Scenario)",0,0,0,0,0,0,0,0,0,0,0,0,0,0,0,0,0,0,0,0]
[{"$nulls":3},"number of smites used on crits",0,0,0,0,0,0,0,0,0,0,0,0,0,0,0,0,0,0,0,0]
[{"$nulls":3},"avg smite dice per crit ",0,0,0,0,0,0,0,0,0,0,0,0,0,0,0,0,0,0,0,0]
[{"$nulls":3},"smites left for non-crits",0,0,0,0,0,0,0,0,0,0,0,0,0,0,0,0,0,0,0,0]
[{"$nulls":3},"total non-crit smite-qualifying attacks available",0,0,0,0,0,0,0,0,0,0,0,0,0,0,0,0,0,0,0,0]
[{"$nulls":3},"smite dice left for non-crits",0,0,0,0,0,0,0,0,0,0,0,0,0,0,0,0,0,0,0,0]
[{"$nulls":3},"total smite dice used on crits",0,0,0,0,0,0,0,0,0,0,0,0,0,0,0,0,0,0,0,0]
[{"$nulls":3},"total crit smite damage per day",0,0,0,0,0,0,0,0,0,0,0,0,0,0,0,0,0,0,0,0]
[{"$nulls":3},"total non-crit smite damage per day",0,0,0,0,0,0,0,0,0,0,0,0,0,0,0,0,0,0,0,0]
[{"$nulls":3},"leftover sorc points + spell levels",0,0,0,0,0,0,0,0,0,0,0,0,0,0,0,0,0,0,0,0]
[{"$nulls":3},"actual smites performed",0,0,0,0,0,0,0,0,0,0,0,0,0,0,0,0,0,0,0,0]
[{"$nulls":3},"total daily smite damage: M4, B9",{"$f":"E402+E403","v":0},0,0,0,0,0,0,0,0,0,0,0,0,0,0,0,0,0,0,0]
[]
[{"$nulls":3},"SMITES - M5, B10 (Ranged)",1,2,3,4,5,6,7,8,9,10,11,12,13,14,15,16,17,18,19,20]
[{"$nulls":3},"remaining sorcery points (based on Damage Scenario)",{"$f":"MAX(0,Sorcadins!E$623-Sorcadins!E$1502)","v":0},{"$f":"MAX(0,Sorcadins!F$623-Sorcadins!F$1502)","v":0},{"$f":"MAX(0,Sorcadins!G$623-Sorcadins!G$1502)","v":0},{"$f":"MAX(0,Sorcadins!H$623-Sorcadins!H$1502)","v":0},{"$f":"MAX(0,Sorcadins!I$623-Sorcadins!I$1502)","v":0},{"$f":"MAX(0,Sorcadins!J$623-Sorcadins!J$1502)","v":0},{"$f":"MAX(0,Sorcadins!K$623-Sorcadins!K$1502)","v":0},{"$f":"MAX(0,Sorcadins!L$623-Sorcadins!L$1502)","v":0},{"$f":"MAX(0,Sorcadins!M$623-Sorcadins!M$1502)","v":0},{"$f":"MAX(0,Sorcadins!N$623-Sorcadins!N$1502)","v":0},{"$f":"MAX(0,Sorcadins!O$623-Sorcadins!O$1502)","v":0},{"$f":"MAX(0,Sorcadins!P$623-Sorcadins!P$1502)","v":0},{"$f":"MAX(0,Sorcadins!Q$623-Sorcadins!Q$1502)","v":0},{"$f":"MAX(0,Sorcadins!R$623-Sorcadins!R$1502)","v":0},{"$f":"MAX(0,Sorcadins!S$623-Sorcadins!S$1502)","v":0},{"$f":"MAX(0,Sorcadins!T$623-Sorcadins!T$1502)","v":0},{"$f":"MAX(0,Sorcadins!U$623-Sorcadins!U$1502)","v":0},{"$f":"MAX(0,Sorcadins!V$623-Sorcadins!V$1502)","v":0},{"$f":"MAX(0,Sorcadins!W$623-Sorcadins!W$1502)","v":0},{"$f":"MAX(0,Sorcadins!X$623-Sorcadins!X$1502)","v":0},null,"*Sorc points directly convertible to Smite Dice"]
[{"$nulls":3},"remaining spell slot levels (based on Damage Scenario)",{"$f":"MAX(0,Sorcadins!E$331-MAX(0,Sorcadins!E$1502-Sorcadins!E$623))","v":0},{"$f":"MAX(0,Sorcadins!F$331-MAX(0,Sorcadins!F$1502-Sorcadins!F$623))","v":0},{"$f":"MAX(0,Sorcadins!G$331-MAX(0,Sorcadins!G$1502-Sorcadins!G$623))","v":0},{"$f":"MAX(0,Sorcadins!H$331-MAX(0,Sorcadins!H$1502-Sorcadins!H$623))","v":0},{"$f":"MAX(0,Sorcadins!I$331-MAX(0,Sorcadins!I$1502-Sorcadins!I$623))","v":4},{"$f":"MAX(0,Sorcadins!J$331-MAX(0,Sorcadins!J$1502-Sorcadins!J$623))","v":4},{"$f":"MAX(0,Sorcadins!K$331-MAX(0,Sorcadins!K$1502-Sorcadins!K$623))","v":4},{"$f":"MAX(0,Sorcadins!L$331-MAX(0,Sorcadins!L$1502-Sorcadins!L$623))","v":4},{"$f":"MAX(0,Sorcadins!M$331-MAX(0,Sorcadins!M$1502-Sorcadins!M$623))","v":4},{"$f":"MAX(0,Sorcadins!N$331-MAX(0,Sorcadins!N$1502-Sorcadins!N$623))","v":4},{"$f":"MAX(0,Sorcadins!O$331-MAX(0,Sorcadins!O$1502-Sorcadins!O$623))","v":4},{"$f":"MAX(0,Sorcadins!P$331-MAX(0,Sorcadins!P$1502-Sorcadins!P$623))","v":4},{"$f":"MAX(0,Sorcadins!Q$331-MAX(0,Sorcadins!Q$1502-Sorcadins!Q$623))","v":4},{"$f":"MAX(0,Sorcadins!R$331-MAX(0,Sorcadins!R$1502-Sorcadins!R$623))","v":4},{"$f":"MAX(0,Sorcadins!S$331-MAX(0,Sorcadins!S$1502-Sorcadins!S$623))","v":4},{"$f":"MAX(0,Sorcadins!T$331-MAX(0,Sorcadins!T$1502-Sorcadins!T$623))","v":4},{"$f":"MAX(0,Sorcadins!U$331-MAX(0,Sorcadins!U$1502-Sorcadins!U$623))","v":4},{"$f":"MAX(0,Sorcadins!V$331-MAX(0,Sorcadins!V$1502-Sorcadins!V$623))","v":4},{"$f":"MAX(0,Sorcadins!W$331-MAX(0,Sorcadins!W$1502-Sorcadins!W$623))","v":4.770831803630529},{"$f":"MAX(0,Sorcadins!X$331-MAX(0,Sorcadins!X$1502-Sorcadins!X$623))","v":4.770831803630529}]
[{"$nulls":3},"total warlock smite levels remaining",{"$f":"MIN(Sorcadins!E$323*E410,Sorcadins!E$314)","v":0},{"$f":"MIN(Sorcadins!F$323*F410,Sorcadins!F$314)","v":0},{"$f":"MIN(Sorcadins!G$323*G410,Sorcadins!G$314)","v":0},{"$f":"MIN(Sorcadins!H$323*H410,Sorcadins!H$314)","v":0},{"$f":"MIN(Sorcadins!I$323*I410,Sorcadins!I$314)","v":0},{"$f":"MIN(Sorcadins!J$323*J410,Sorcadins!J$314)","v":0},{"$f":"MIN(Sorcadins!K$323*K410,Sorcadins!K$314)","v":0},{"$f":"MIN(Sorcadins!L$323*L410,Sorcadins!L$314)","v":0},{"$f":"MIN(Sorcadins!M$323*M410,Sorcadins!M$314)","v":0},{"$f":"MIN(Sorcadins!N$323*N410,Sorcadins!N$314)","v":0},{"$f":"MIN(Sorcadins!O$323*O410,Sorcadins!O$314)","v":0},{"$f":"MIN(Sorcadins!P$323*P410,Sorcadins!P$314)","v":0},{"$f":"MIN(Sorcadins!Q$323*Q410,Sorcadins!Q$314)","v":0},{"$f":"MIN(Sorcadins!R$323*R410,Sorcadins!R$314)","v":0},{"$f":"MIN(Sorcadins!S$323*S410,Sorcadins!S$314)","v":0},{"$f":"MIN(Sorcadins!T$323*T410,Sorcadins!T$314)","v":0},{"$f":"MIN(Sorcadins!U$323*U410,Sorcadins!U$314)","v":0},{"$f":"MIN(Sorcadins!V$323*V410,Sorcadins!V$314)","v":0},{"$f":"MIN(Sorcadins!W$323*W410,Sorcadins!W$314)","v":0},{"$f":"MIN(Sorcadins!X$323*X410,Sorcadins!X$314)","v":0}]
[{"$nulls":3},"total smite levels remaining",{"$f":"IF(Sorcadins!E12>=5,E411,0)","v":0},{"$f":"IF(Sorcadins!F12>=5,F411,0)","v":0},{"$f":"IF(Sorcadins!G12>=5,G411,0)","v":0},{"$f":"IF(Sorcadins!H12>=5,H411,0)","v":0},{"$f":"IF(Sorcadins!I12>=5,I411,0)","v":0},{"$f":"IF(Sorcadins!J12>=5,J411,0)","v":0},{"$f":"IF(Sorcadins!K12>=5,K411,0)","v":0},{"$f":"IF(Sorcadins!L12>=5,L411,0)","v":0},{"$f":"IF(Sorcadins!M12>=5,M411,0)","v":0},{"$f":"IF(Sorcadins!N12>=5,N411,0)","v":0},{"$f":"IF(Sorcadins!O12>=5,O411,0)","v":0},{"$f":"IF(Sorcadins!P12>=5,P411,0)","v":0},{"$f":"IF(Sorcadins!Q12>=5,Q411,0)","v":0},{"$f":"IF(Sorcadins!R12>=5,R411,0)","v":0},{"$f":"IF(Sorcadins!S12>=5,S411,0)","v":0},{"$f":"IF(Sorcadins!T12>=5,T411,0)","v":0},{"$f":"IF(Sorcadins!U12>=5,U411,0)","v":0},{"$f":"IF(Sorcadins!V12>=5,V411,0)","v":0},{"$f":"IF(Sorcadins!W12>=5,W411,0)","v":0},{"$f":"IF(Sorcadins!X12>=5,X411,0)","v":0},null,"* ranged smites restricted to warlock L5 smites"]
[{"$nulls":3},"max number of daily smites (after spells)",{"$f":"Sorcadins!E$1374","v":0},{"$f":"Sorcadins!F$1374","v":0},{"$f":"Sorcadins!G$1374","v":0},{"$f":"Sorcadins!H$1374","v":0},{"$f":"Sorcadins!I$1374","v":0},{"$f":"Sorcadins!J$1374","v":0},{"$f":"Sorcadins!K$1374","v":0},{"$f":"Sorcadins!L$1374","v":0},{"$f":"Sorcadins!M$1374","v":0},{"$f":"Sorcadins!N$1374","v":0},{"$f":"Sorcadins!O$1374","v":0},{"$f":"Sorcadins!P$1374","v":0},{"$f":"Sorcadins!Q$1374","v":0},{"$f":"Sorcadins!R$1374","v":0},{"$f":"Sorcadins!S$1374","v":0},{"$f":"Sorcadins!T$1374","v":0},{"$f":"Sorcadins!U$1374","v":0},{"$f":"Sorcadins!V$1374","v":0},{"$f":"Sorcadins!W$1374","v":0},{"$f":"Sorcadins!X$1374","v":0}]
[{"$nulls":3},"avg crits per day for smite purposes (based on Damage Scenario)",{"$f":"'Base Numbers'!$C$5*'Base Numbers'!$C$6*Sorcadins!E$1553","v":0.8},{"$f":"'Base Numbers'!$C$5*'Base Numbers'!$C$6*Sorcadins!F$1553","v":0.8},{"$f":"'Base Numbers'!$C$5*'Base Numbers'!$C$6*Sorcadins!G$1553","v":1.0495080000000003},{"$f":"'Base Numbers'!$C$5*'Base Numbers'!$C$6*Sorcadins!H$1553","v":1.059692},{"$f":"'Base Numbers'!$C$5*'Base Numbers'!$C$6*Sorcadins!I$1553","v":2.1397520000000005},{"$f":"'Base Numbers'!$C$5*'Base Numbers'!$C$6*Sorcadins!J$1553","v":2.1397520000000005},{"$f":"'Base Numbers'!$C$5*'Base Numbers'!$C$6*Sorcadins!K$1553","v":2.1397520000000005},{"$f":"'Base Numbers'!$C$5*'Base Numbers'!$C$6*Sorcadins!L$1553","v":2.1397520000000005},{"$f":"'Base Numbers'!$C$5*'Base Numbers'!$C$6*Sorcadins!M$1553","v":2.1295680000000003},{"$f":"'Base Numbers'!$C$5*'Base Numbers'!$C$6*Sorcadins!N$1553","v":2.1092000000000004},{"$f":"'Base Numbers'!$C$5*'Base Numbers'!$C$6*Sorcadins!O$1553","v":2.088832},{"$f":"'Base Numbers'!$C$5*'Base Numbers'!$C$6*Sorcadins!P$1553","v":2.2482800000000003},{"$f":"'Base Numbers'!$C$5*'Base Numbers'!$C$6*Sorcadins!Q$1553","v":2.2380960000000005},{"$f":"'Base Numbers'!$C$5*'Base Numbers'!$C$6*Sorcadins!R$1553","v":2.2177280000000006},{"$f":"'Base Numbers'!$C$5*'Base Numbers'!$C$6*Sorcadins!S$1553","v":2.1973600000000006},{"$f":"'Base Numbers'!$C$5*'Base Numbers'!$C$6*Sorcadins!T$1553","v":2.1769920000000003},{"$f":"'Base Numbers'!$C$5*'Base Numbers'!$C$6*Sorcadins!U$1553","v":2.6434040000000008},{"$f":"'Base Numbers'!$C$5*'Base Numbers'!$C$6*Sorcadins!V$1553","v":2.6332200000000006},{"$f":"'Base Numbers'!$C$5*'Base Numbers'!$C$6*Sorcadins!W$1553","v":2.6179440000000005},{"$f":"'Base Numbers'!$C$5*'Base Numbers'!$C$6*Sorcadins!X$1553","v":2.5924840000000007}]
[{"$nulls":3},"number of smites used on crits",{"$f":"MIN(E413,E414)","v":0},0,0,0,0,0,0,0,0,0,0,0,0,0,0,0,0,0,0,0]
[{"$nulls":3},"avg smite dice per crit ",{"$f":"IF(E415>0,MIN(E$7,(E412/MIN(E415,E414))),0)","v":0},0,0,0,0,0,0,0,0,0,0,0,0,0,0,0,0,0,0,0]
[{"$nulls":3},"smites left for non-crits",{"$f":"E413-E415","v":0},{"$f":"F413-F415","v":0},0,0,0,0,0,0,0,0,0,0,0,0,0,0,0,0,0,0]
[{"$nulls":3},"total non-crit smite-qualifying attacks available",{"$f":"Sorcadins!E$1528*('Base Numbers'!$C$5*'Base Numbers'!$C$6)-E414","v":15.2},{"$f":"Sorcadins!F$1528*('Base Numbers'!$C$5*'Base Numbers'!$C$6)-F414","v":15.2},{"$f":"Sorcadins!G$1528*('Base Numbers'!$C$5*'Base Numbers'!$C$6)-G414","v":14.950492},{"$f":"Sorcadins!H$1528*('Base Numbers'!$C$5*'Base Numbers'!$C$6)-H414","v":14.940308},{"$f":"Sorcadins!I$1528*('Base Numbers'!$C$5*'Base Numbers'!$C$6)-I414","v":29.860248},{"$f":"Sorcadins!J$1528*('Base Numbers'!$C$5*'Base Numbers'!$C$6)-J414","v":29.860248},{"$f":"Sorcadins!K$1528*('Base Numbers'!$C$5*'Base Numbers'!$C$6)-K414","v":29.860248},{"$f":"Sorcadins!L$1528*('Base Numbers'!$C$5*'Base Numbers'!$C$6)-L414","v":29.860248},{"$f":"Sorcadins!M$1528*('Base Numbers'!$C$5*'Base Numbers'!$C$6)-M414","v":29.870432},{"$f":"Sorcadins!N$1528*('Base Numbers'!$C$5*'Base Numbers'!$C$6)-N414","v":29.8908},{"$f":"Sorcadins!O$1528*('Base Numbers'!$C$5*'Base Numbers'!$C$6)-O414","v":29.911168},{"$f":"Sorcadins!P$1528*('Base Numbers'!$C$5*'Base Numbers'!$C$6)-P414","v":29.75172},{"$f":"Sorcadins!Q$1528*('Base Numbers'!$C$5*'Base Numbers'!$C$6)-Q414","v":29.761904},{"$f":"Sorcadins!R$1528*('Base Numbers'!$C$5*'Base Numbers'!$C$6)-R414","v":29.782272},{"$f":"Sorcadins!S$1528*('Base Numbers'!$C$5*'Base Numbers'!$C$6)-S414","v":29.80264},{"$f":"Sorcadins!T$1528*('Base Numbers'!$C$5*'Base Numbers'!$C$6)-T414","v":29.823008},{"$f":"Sorcadins!U$1528*('Base Numbers'!$C$5*'Base Numbers'!$C$6)-U414","v":29.356596},{"$f":"Sorcadins!V$1528*('Base Numbers'!$C$5*'Base Numbers'!$C$6)-V414","v":29.36678},{"$f":"Sorcadins!W$1528*('Base Numbers'!$C$5*'Base Numbers'!$C$6)-W414","v":29.382056},{"$f":"Sorcadins!X$1528*('Base Numbers'!$C$5*'Base Numbers'!$C$6)-X414","v":29.407516}]
[{"$nulls":3},"smite dice left for non-crits",{"$f":"ROUND(MAX(0,E412-E414*E416),4)","v":0},{"$f":"ROUND(MAX(0,F412-F414*F416),4)","v":0},0,0,0,0,0,0,0,0,0,0,0,0,0,0,0,0,0,0]
[{"$nulls":3},"total smite dice used on crits",{"$f":"E415*E416","v":0},{"$f":"F415*F416","v":0},0,0,0,0,0,0,0,0,0,0,0,0,0,0,0,0,0,0]
[{"$nulls":3},"total crit smite damage per day",{"$f":"9*E420","v":0},0,0,0,0,0,0,0,0,0,0,0,0,0,0,0,0,0,0,0]
[{"$nulls":3},"total non-crit smite damage per day",{"$f":"4.5*MIN(MIN(E418,E417)*E$7,E419)","v":0},{"$f":"4.5*MIN(MIN(F418,F417)*F$7,F419)","v":0},0,0,0,0,0,0,0,0,0,0,0,0,0,0,0,0,0,0]
[{"$nulls":3},"leftover sorc points + spell levels",{"$f":"IF(E412>0,IF(Sorcadins!E$323>0,(Sorcadins!E$323*E410+E409-E415*E416-E422/4.5)/Sorcadins!E$323,0),E410+E409)","v":0},{"$f":"IF(F412>0,IF(Sorcadins!F$323>0,(Sorcadins!F$323*F410+F409-F415*F416-F422/4.5)/Sorcadins!F$323,0),F410+F409)","v":0},{"$f":"IF(G412>0,IF(Sorcadins!G$323>0,(Sorcadins!G$323*G410+G409-G415*G416-G422/4.5)/Sorcadins!G$323,0),G410+G409)","v":0},{"$f":"IF(H412>0,IF(Sorcadins!H$323>0,(Sorcadins!H$323*H410+H409-H415*H416-H422/4.5)/Sorcadins!H$323,0),H410+H409)","v":0},{"$f":"IF(I412>0,IF(Sorcadins!I$323>0,(Sorcadins!I$323*I410+I409-I415*I416-I422/4.5)/Sorcadins!I$323,0),I410+I409)","v":4},{"$f":"IF(J412>0,IF(Sorcadins!J$323>0,(Sorcadins!J$323*J410+J409-J415*J416-J422/4.5)/Sorcadins!J$323,0),J410+J409)","v":4},{"$f":"IF(K412>0,IF(Sorcadins!K$323>0,(Sorcadins!K$323*K410+K409-K415*K416-K422/4.5)/Sorcadins!K$323,0),K410+K409)","v":4},{"$f":"IF(L412>0,IF(Sorcadins!L$323>0,(Sorcadins!L$323*L410+L409-L415*L416-L422/4.5)/Sorcadins!L$323,0),L410+L409)","v":4},{"$f":"IF(M412>0,IF(Sorcadins!M$323>0,(Sorcadins!M$323*M410+M409-M415*M416-M422/4.5)/Sorcadins!M$323,0),M410+M409)","v":4},{"$f":"IF(N412>0,IF(Sorcadins!N$323>0,(Sorcadins!N$323*N410+N409-N415*N416-N422/4.5)/Sorcadins!N$323,0),N410+N409)","v":4},{"$f":"IF(O412>0,IF(Sorcadins!O$323>0,(Sorcadins!O$323*O410+O409-O415*O416-O422/4.5)/Sorcadins!O$323,0),O410+O409)","v":4},{"$f":"IF(P412>0,IF(Sorcadins!P$323>0,(Sorcadins!P$323*P410+P409-P415*P416-P422/4.5)/Sorcadins!P$323,0),P410+P409)","v":4},{"$f":"IF(Q412>0,IF(Sorcadins!Q$323>0,(Sorcadins!Q$323*Q410+Q409-Q415*Q416-Q422/4.5)/Sorcadins!Q$323,0),Q410+Q409)","v":4},{"$f":"IF(R412>0,IF(Sorcadins!R$323>0,(Sorcadins!R$323*R410+R409-R415*R416-R422/4.5)/Sorcadins!R$323,0),R410+R409)","v":4},{"$f":"IF(S412>0,IF(Sorcadins!S$323>0,(Sorcadins!S$323*S410+S409-S415*S416-S422/4.5)/Sorcadins!S$323,0),S410+S409)","v":4},{"$f":"IF(T412>0,IF(Sorcadins!T$323>0,(Sorcadins!T$323*T410+T409-T415*T416-T422/4.5)/Sorcadins!T$323,0),T410+T409)","v":4},{"$f":"IF(U412>0,IF(Sorcadins!U$323>0,(Sorcadins!U$323*U410+U409-U415*U416-U422/4.5)/Sorcadins!U$323,0),U410+U409)","v":4},{"$f":"IF(V412>0,IF(Sorcadins!V$323>0,(Sorcadins!V$323*V410+V409-V415*V416-V422/4.5)/Sorcadins!V$323,0),V410+V409)","v":4},{"$f":"IF(W412>0,IF(Sorcadins!W$323>0,(Sorcadins!W$323*W410+W409-W415*W416-W422/4.5)/Sorcadins!W$323,0),W410+W409)","v":4.770831803630529},{"$f":"IF(X412>0,IF(Sorcadins!X$323>0,(Sorcadins!X$323*X410+X409-X415*X416-X422/4.5)/Sorcadins!X$323,0),X410+X409)","v":4.770831803630529}]
[{"$nulls":3},"actual smites performed",{"$f":"E415+IF(E$7>0,MIN(E417,E418,E419/E$7),0)","v":0},{"$f":"F415+IF(F$7>0,MIN(F417,F418,F419/F$7),0)","v":0},0,0,0,0,0,0,0,0,0,0,0,0,0,0,0,0,0,0]
[{"$nulls":3},"total daily smite damage: M5, B10 (Ranged)",{"$f":"E421+E422","v":0},0,0,0,0,0,0,0,0,0,0,0,0,0,0,0,0,0,0,0]
[]
[{"$nulls":3},"SMITES - M5, B11 (Ranged)",1,2,3,4,5,6,7,8,9,10,11,12,13,14,15,16,17,18,19,20]
[{"$nulls":3},"remaining sorcery points (based on Damage Scenario)",{"$f":"MAX(0,Sorcadins!E$623-Sorcadins!E$1500)","v":0},{"$f":"MAX(0,Sorcadins!F$623-Sorcadins!F$1500)","v":0},{"$f":"MAX(0,Sorcadins!G$623-Sorcadins!G$1500)","v":0},{"$f":"MAX(0,Sorcadins!H$623-Sorcadins!H$1500)","v":0},{"$f":"MAX(0,Sorcadins!I$623-Sorcadins!I$1500)","v":0},{"$f":"MAX(0,Sorcadins!J$623-Sorcadins!J$1500)","v":0},{"$f":"MAX(0,Sorcadins!K$623-Sorcadins!K$1500)","v":0},{"$f":"MAX(0,Sorcadins!L$623-Sorcadins!L$1500)","v":0},{"$f":"MAX(0,Sorcadins!M$623-Sorcadins!M$1500)","v":0},{"$f":"MAX(0,Sorcadins!N$623-Sorcadins!N$1500)","v":0},{"$f":"MAX(0,Sorcadins!O$623-Sorcadins!O$1500)","v":0},{"$f":"MAX(0,Sorcadins!P$623-Sorcadins!P$1500)","v":0},{"$f":"MAX(0,Sorcadins!Q$623-Sorcadins!Q$1500)","v":0},{"$f":"MAX(0,Sorcadins!R$623-Sorcadins!R$1500)","v":0},{"$f":"MAX(0,Sorcadins!S$623-Sorcadins!S$1500)","v":0},{"$f":"MAX(0,Sorcadins!T$623-Sorcadins!T$1500)","v":0},{"$f":"MAX(0,Sorcadins!U$623-Sorcadins!U$1500)","v":0},{"$f":"MAX(0,Sorcadins!V$623-Sorcadins!V$1500)","v":0},{"$f":"MAX(0,Sorcadins!W$623-Sorcadins!W$1500)","v":0},{"$f":"MAX(0,Sorcadins!X$623-Sorcadins!X$1500)","v":0},null,"*Sorc points directly convertible to Smite Dice"]
[{"$nulls":3},"remaining spell slot levels (based on Damage Scenario)",{"$f":"MAX(0,Sorcadins!E$331-MAX(0,Sorcadins!E$1500-Sorcadins!E$623))","v":0},{"$f":"MAX(0,Sorcadins!F$331-MAX(0,Sorcadins!F$1500-Sorcadins!F$623))","v":0},{"$f":"MAX(0,Sorcadins!G$331-MAX(0,Sorcadins!G$1500-Sorcadins!G$623))","v":0},{"$f":"MAX(0,Sorcadins!H$331-MAX(0,Sorcadins!H$1500-Sorcadins!H$623))","v":0},{"$f":"MAX(0,Sorcadins!I$331-MAX(0,Sorcadins!I$1500-Sorcadins!I$623))","v":4},{"$f":"MAX(0,Sorcadins!J$331-MAX(0,Sorcadins!J$1500-Sorcadins!J$623))","v":4},{"$f":"MAX(0,Sorcadins!K$331-MAX(0,Sorcadins!K$1500-Sorcadins!K$623))","v":4},{"$f":"MAX(0,Sorcadins!L$331-MAX(0,Sorcadins!L$1500-Sorcadins!L$623))","v":4},{"$f":"MAX(0,Sorcadins!M$331-MAX(0,Sorcadins!M$1500-Sorcadins!M$623))","v":4},{"$f":"MAX(0,Sorcadins!N$331-MAX(0,Sorcadins!N$1500-Sorcadins!N$623))","v":4},{"$f":"MAX(0,Sorcadins!O$331-MAX(0,Sorcadins!O$1500-Sorcadins!O$623))","v":4},{"$f":"MAX(0,Sorcadins!P$331-MAX(0,Sorcadins!P$1500-Sorcadins!P$623))","v":4},{"$f":"MAX(0,Sorcadins!Q$331-MAX(0,Sorcadins!Q$1500-Sorcadins!Q$623))","v":4},{"$f":"MAX(0,Sorcadins!R$331-MAX(0,Sorcadins!R$1500-Sorcadins!R$623))","v":4},{"$f":"MAX(0,Sorcadins!S$331-MAX(0,Sorcadins!S$1500-Sorcadins!S$623))","v":4},{"$f":"MAX(0,Sorcadins!T$331-MAX(0,Sorcadins!T$1500-Sorcadins!T$623))","v":4},{"$f":"MAX(0,Sorcadins!U$331-MAX(0,Sorcadins!U$1500-Sorcadins!U$623))","v":4},{"$f":"MAX(0,Sorcadins!V$331-MAX(0,Sorcadins!V$1500-Sorcadins!V$623))","v":4},{"$f":"MAX(0,Sorcadins!W$331-MAX(0,Sorcadins!W$1500-Sorcadins!W$623))","v":4.770831803630529},{"$f":"MAX(0,Sorcadins!X$331-MAX(0,Sorcadins!X$1500-Sorcadins!X$623))","v":4.770831803630529}]
[{"$nulls":3},"total warlock smite levels remaining",{"$f":"MIN(Sorcadins!E$323*E429,Sorcadins!E$314)","v":0},{"$f":"MIN(Sorcadins!F$323*F429,Sorcadins!F$314)","v":0},{"$f":"MIN(Sorcadins!G$323*G429,Sorcadins!G$314)","v":0},{"$f":"MIN(Sorcadins!H$323*H429,Sorcadins!H$314)","v":0},{"$f":"MIN(Sorcadins!I$323*I429,Sorcadins!I$314)","v":0},{"$f":"MIN(Sorcadins!J$323*J429,Sorcadins!J$314)","v":0},{"$f":"MIN(Sorcadins!K$323*K429,Sorcadins!K$314)","v":0},{"$f":"MIN(Sorcadins!L$323*L429,Sorcadins!L$314)","v":0},{"$f":"MIN(Sorcadins!M$323*M429,Sorcadins!M$314)","v":0},{"$f":"MIN(Sorcadins!N$323*N429,Sorcadins!N$314)","v":0},{"$f":"MIN(Sorcadins!O$323*O429,Sorcadins!O$314)","v":0},{"$f":"MIN(Sorcadins!P$323*P429,Sorcadins!P$314)","v":0},{"$f":"MIN(Sorcadins!Q$323*Q429,Sorcadins!Q$314)","v":0},{"$f":"MIN(Sorcadins!R$323*R429,Sorcadins!R$314)","v":0},{"$f":"MIN(Sorcadins!S$323*S429,Sorcadins!S$314)","v":0},{"$f":"MIN(Sorcadins!T$323*T429,Sorcadins!T$314)","v":0},{"$f":"MIN(Sorcadins!U$323*U429,Sorcadins!U$314)","v":0},{"$f":"MIN(Sorcadins!V$323*V429,Sorcadins!V$314)","v":0},{"$f":"MIN(Sorcadins!W$323*W429,Sorcadins!W$314)","v":0},{"$f":"MIN(Sorcadins!X$323*X429,Sorcadins!X$314)","v":0}]
[{"$nulls":3},"total smite levels remaining",{"$f":"IF(Sorcadins!E12>=5,E430,0)","v":0},{"$f":"IF(Sorcadins!F12>=5,F430,0)","v":0},{"$f":"IF(Sorcadins!G12>=5,G430,0)","v":0},{"$f":"IF(Sorcadins!H12>=5,H430,0)","v":0},{"$f":"IF(Sorcadins!I12>=5,I430,0)","v":0},{"$f":"IF(Sorcadins!J12>=5,J430,0)","v":0},{"$f":"IF(Sorcadins!K12>=5,K430,0)","v":0},{"$f":"IF(Sorcadins!L12>=5,L430,0)","v":0},{"$f":"IF(Sorcadins!M12>=5,M430,0)","v":0},{"$f":"IF(Sorcadins!N12>=5,N430,0)","v":0},{"$f":"IF(Sorcadins!O12>=5,O430,0)","v":0},{"$f":"IF(Sorcadins!P12>=5,P430,0)","v":0},{"$f":"IF(Sorcadins!Q12>=5,Q430,0)","v":0},{"$f":"IF(Sorcadins!R12>=5,R430,0)","v":0},{"$f":"IF(Sorcadins!S12>=5,S430,0)","v":0},{"$f":"IF(Sorcadins!T12>=5,T430,0)","v":0},{"$f":"IF(Sorcadins!U12>=5,U430,0)","v":0},{"$f":"IF(Sorcadins!V12>=5,V430,0)","v":0},{"$f":"IF(Sorcadins!W12>=5,W430,0)","v":0},{"$f":"IF(Sorcadins!X12>=5,X430,0)","v":0},null,"* ranged smites restricted to warlock L5 smites"]
[{"$nulls":3},"max number of daily smites (after spells)",{"$f":"Sorcadins!E$1374","v":0},{"$f":"Sorcadins!F$1374","v":0},{"$f":"Sorcadins!G$1374","v":0},{"$f":"Sorcadins!H$1374","v":0},{"$f":"Sorcadins!I$1374","v":0},{"$f":"Sorcadins!J$1374","v":0},{"$f":"Sorcadins!K$1374","v":0},{"$f":"Sorcadins!L$1374","v":0},{"$f":"Sorcadins!M$1374","v":0},{"$f":"Sorcadins!N$1374","v":0},{"$f":"Sorcadins!O$1374","v":0},{"$f":"Sorcadins!P$1374","v":0},{"$f":"Sorcadins!Q$1374","v":0},{"$f":"Sorcadins!R$1374","v":0},{"$f":"Sorcadins!S$1374","v":0},{"$f":"Sorcadins!T$1374","v":0},{"$f":"Sorcadins!U$1374","v":0},{"$f":"Sorcadins!V$1374","v":0},{"$f":"Sorcadins!W$1374","v":0},{"$f":"Sorcadins!X$1374","v":0}]
[{"$nulls":3},"avg crits per day for smite purposes (based on Damage Scenario)",{"$f":"'Base Numbers'!$C$5*'Base Numbers'!$C$6*Sorcadins!E$1554","v":0.8},{"$f":"'Base Numbers'!$C$5*'Base Numbers'!$C$6*Sorcadins!F$1554","v":0.8},{"$f":"'Base Numbers'!$C$5*'Base Numbers'!$C$6*Sorcadins!G$1554","v":1.0495080000000003},{"$f":"'Base Numbers'!$C$5*'Base Numbers'!$C$6*Sorcadins!H$1554","v":1.059692},{"$f":"'Base Numbers'!$C$5*'Base Numbers'!$C$6*Sorcadins!I$1554","v":2.1397520000000005},{"$f":"'Base Numbers'!$C$5*'Base Numbers'!$C$6*Sorcadins!J$1554","v":2.1397520000000005},{"$f":"'Base Numbers'!$C$5*'Base Numbers'!$C$6*Sorcadins!K$1554","v":2.1397520000000005},{"$f":"'Base Numbers'!$C$5*'Base Numbers'!$C$6*Sorcadins!L$1554","v":2.1397520000000005},{"$f":"'Base Numbers'!$C$5*'Base Numbers'!$C$6*Sorcadins!M$1554","v":2.1295680000000003},{"$f":"'Base Numbers'!$C$5*'Base Numbers'!$C$6*Sorcadins!N$1554","v":2.1092000000000004},{"$f":"'Base Numbers'!$C$5*'Base Numbers'!$C$6*Sorcadins!O$1554","v":2.088832},{"$f":"'Base Numbers'!$C$5*'Base Numbers'!$C$6*Sorcadins!P$1554","v":2.2482800000000003},{"$f":"'Base Numbers'!$C$5*'Base Numbers'!$C$6*Sorcadins!Q$1554","v":2.2380960000000005},{"$f":"'Base Numbers'!$C$5*'Base Numbers'!$C$6*Sorcadins!R$1554","v":2.2177280000000006},{"$f":"'Base Numbers'!$C$5*'Base Numbers'!$C$6*Sorcadins!S$1554","v":2.1973600000000006},{"$f":"'Base Numbers'!$C$5*'Base Numbers'!$C$6*Sorcadins!T$1554","v":2.1769920000000003},{"$f":"'Base Numbers'!$C$5*'Base Numbers'!$C$6*Sorcadins!U$1554","v":2.6434040000000008},{"$f":"'Base Numbers'!$C$5*'Base Numbers'!$C$6*Sorcadins!V$1554","v":2.6332200000000006},{"$f":"'Base Numbers'!$C$5*'Base Numbers'!$C$6*Sorcadins!W$1554","v":2.6179440000000005},{"$f":"'Base Numbers'!$C$5*'Base Numbers'!$C$6*Sorcadins!X$1554","v":2.5924840000000007}]
[{"$nulls":3},"number of smites used on crits",{"$f":"MIN(E432,E433)","v":0},0,0,0,0,0,0,0,0,0,0,0,0,0,0,0,0,0,0,0]
[{"$nulls":3},"avg smite dice per crit ",{"$f":"IF(E434>0,MIN(E$7,(E431/MIN(E434,E433))),0)","v":0},0,0,0,0,0,0,0,0,0,0,0,0,0,0,0,0,0,0,0]
[{"$nulls":3},"smites left for non-crits",{"$f":"E432-E434","v":0},{"$f":"F432-F434","v":0},0,0,0,0,0,0,0,0,0,0,0,0,0,0,0,0,0,0]
[{"$nulls":3},"total non-crit smite-qualifying attacks available",{"$f":"Sorcadins!E$1529*('Base Numbers'!$C$5*'Base Numbers'!$C$6)-E433","v":15.2},{"$f":"Sorcadins!F$1529*('Base Numbers'!$C$5*'Base Numbers'!$C$6)-F433","v":15.2},{"$f":"Sorcadins!G$1529*('Base Numbers'!$C$5*'Base Numbers'!$C$6)-G433","v":14.950492},{"$f":"Sorcadins!H$1529*('Base Numbers'!$C$5*'Base Numbers'!$C$6)-H433","v":14.940308},{"$f":"Sorcadins!I$1529*('Base Numbers'!$C$5*'Base Numbers'!$C$6)-I433","v":29.860248},{"$f":"Sorcadins!J$1529*('Base Numbers'!$C$5*'Base Numbers'!$C$6)-J433","v":29.860248},{"$f":"Sorcadins!K$1529*('Base Numbers'!$C$5*'Base Numbers'!$C$6)-K433","v":29.860248},{"$f":"Sorcadins!L$1529*('Base Numbers'!$C$5*'Base Numbers'!$C$6)-L433","v":29.860248},{"$f":"Sorcadins!M$1529*('Base Numbers'!$C$5*'Base Numbers'!$C$6)-M433","v":29.870432},{"$f":"Sorcadins!N$1529*('Base Numbers'!$C$5*'Base Numbers'!$C$6)-N433","v":29.8908},{"$f":"Sorcadins!O$1529*('Base Numbers'!$C$5*'Base Numbers'!$C$6)-O433","v":29.911168},{"$f":"Sorcadins!P$1529*('Base Numbers'!$C$5*'Base Numbers'!$C$6)-P433","v":29.75172},{"$f":"Sorcadins!Q$1529*('Base Numbers'!$C$5*'Base Numbers'!$C$6)-Q433","v":29.761904},{"$f":"Sorcadins!R$1529*('Base Numbers'!$C$5*'Base Numbers'!$C$6)-R433","v":29.782272},{"$f":"Sorcadins!S$1529*('Base Numbers'!$C$5*'Base Numbers'!$C$6)-S433","v":29.80264},{"$f":"Sorcadins!T$1529*('Base Numbers'!$C$5*'Base Numbers'!$C$6)-T433","v":29.823008},{"$f":"Sorcadins!U$1529*('Base Numbers'!$C$5*'Base Numbers'!$C$6)-U433","v":29.356596},{"$f":"Sorcadins!V$1529*('Base Numbers'!$C$5*'Base Numbers'!$C$6)-V433","v":29.36678},{"$f":"Sorcadins!W$1529*('Base Numbers'!$C$5*'Base Numbers'!$C$6)-W433","v":29.382056},{"$f":"Sorcadins!X$1529*('Base Numbers'!$C$5*'Base Numbers'!$C$6)-X433","v":29.407516}]
[{"$nulls":3},"smite dice left for non-crits",{"$f":"ROUND(MAX(0,E431-E433*E435),4)","v":0},{"$f":"ROUND(MAX(0,F431-F433*F435),4)","v":0},0,0,0,0,0,0,0,0,0,0,0,0,0,0,0,0,0,0]
[{"$nulls":3},"total smite dice used on crits",{"$f":"E434*E435","v":0},{"$f":"F434*F435","v":0},0,0,0,0,0,0,0,0,0,0,0,0,0,0,0,0,0,0]
[{"$nulls":3},"total crit smite damage per day",{"$f":"9*E439","v":0},0,0,0,0,0,0,0,0,0,0,0,0,0,0,0,0,0,0,0]
[{"$nulls":3},"total non-crit smite damage per day",{"$f":"4.5*MIN(MIN(E437,E436)*E$7,E438)","v":0},{"$f":"4.5*MIN(MIN(F437,F436)*F$7,F438)","v":0},0,0,0,0,0,0,0,0,0,0,0,0,0,0,0,0,0,0]
[{"$nulls":3},"leftover sorc points + spell levels",{"$f":"IF(E431>0,IF(Sorcadins!E$323>0,(Sorcadins!E$323*E429+E428-E434*E435-E441/4.5)/Sorcadins!E$323,0),E429+E428)","v":0},{"$f":"IF(F431>0,IF(Sorcadins!F$323>0,(Sorcadins!F$323*F429+F428-F434*F435-F441/4.5)/Sorcadins!F$323,0),F429+F428)","v":0},{"$f":"IF(G431>0,IF(Sorcadins!G$323>0,(Sorcadins!G$323*G429+G428-G434*G435-G441/4.5)/Sorcadins!G$323,0),G429+G428)","v":0},{"$f":"IF(H431>0,IF(Sorcadins!H$323>0,(Sorcadins!H$323*H429+H428-H434*H435-H441/4.5)/Sorcadins!H$323,0),H429+H428)","v":0},{"$f":"IF(I431>0,IF(Sorcadins!I$323>0,(Sorcadins!I$323*I429+I428-I434*I435-I441/4.5)/Sorcadins!I$323,0),I429+I428)","v":4},{"$f":"IF(J431>0,IF(Sorcadins!J$323>0,(Sorcadins!J$323*J429+J428-J434*J435-J441/4.5)/Sorcadins!J$323,0),J429+J428)","v":4},{"$f":"IF(K431>0,IF(Sorcadins!K$323>0,(Sorcadins!K$323*K429+K428-K434*K435-K441/4.5)/Sorcadins!K$323,0),K429+K428)","v":4},{"$f":"IF(L431>0,IF(Sorcadins!L$323>0,(Sorcadins!L$323*L429+L428-L434*L435-L441/4.5)/Sorcadins!L$323,0),L429+L428)","v":4},{"$f":"IF(M431>0,IF(Sorcadins!M$323>0,(Sorcadins!M$323*M429+M428-M434*M435-M441/4.5)/Sorcadins!M$323,0),M429+M428)","v":4},{"$f":"IF(N431>0,IF(Sorcadins!N$323>0,(Sorcadins!N$323*N429+N428-N434*N435-N441/4.5)/Sorcadins!N$323,0),N429+N428)","v":4},{"$f":"IF(O431>0,IF(Sorcadins!O$323>0,(Sorcadins!O$323*O429+O428-O434*O435-O441/4.5)/Sorcadins!O$323,0),O429+O428)","v":4},{"$f":"IF(P431>0,IF(Sorcadins!P$323>0,(Sorcadins!P$323*P429+P428-P434*P435-P441/4.5)/Sorcadins!P$323,0),P429+P428)","v":4},{"$f":"IF(Q431>0,IF(Sorcadins!Q$323>0,(Sorcadins!Q$323*Q429+Q428-Q434*Q435-Q441/4.5)/Sorcadins!Q$323,0),Q429+Q428)","v":4},{"$f":"IF(R431>0,IF(Sorcadins!R$323>0,(Sorcadins!R$323*R429+R428-R434*R435-R441/4.5)/Sorcadins!R$323,0),R429+R428)","v":4},{"$f":"IF(S431>0,IF(Sorcadins!S$323>0,(Sorcadins!S$323*S429+S428-S434*S435-S441/4.5)/Sorcadins!S$323,0),S429+S428)","v":4},{"$f":"IF(T431>0,IF(Sorcadins!T$323>0,(Sorcadins!T$323*T429+T428-T434*T435-T441/4.5)/Sorcadins!T$323,0),T429+T428)","v":4},{"$f":"IF(U431>0,IF(Sorcadins!U$323>0,(Sorcadins!U$323*U429+U428-U434*U435-U441/4.5)/Sorcadins!U$323,0),U429+U428)","v":4},{"$f":"IF(V431>0,IF(Sorcadins!V$323>0,(Sorcadins!V$323*V429+V428-V434*V435-V441/4.5)/Sorcadins!V$323,0),V429+V428)","v":4},{"$f":"IF(W431>0,IF(Sorcadins!W$323>0,(Sorcadins!W$323*W429+W428-W434*W435-W441/4.5)/Sorcadins!W$323,0),W429+W428)","v":4.770831803630529},{"$f":"IF(X431>0,IF(Sorcadins!X$323>0,(Sorcadins!X$323*X429+X428-X434*X435-X441/4.5)/Sorcadins!X$323,0),X429+X428)","v":4.770831803630529}]
[{"$nulls":3},"actual smites performed",{"$f":"E434+IF(E$7>0,MIN(E436,E437,E438/E$7),0)","v":0},{"$f":"F434+IF(F$7>0,MIN(F436,F437,F438/F$7),0)","v":0},0,0,0,0,0,0,0,0,0,0,0,0,0,0,0,0,0,0]
[{"$nulls":3},"total daily smite damage: M5, B11 (Ranged)",{"$f":"E440+E441","v":0},0,0,0,0,0,0,0,0,0,0,0,0,0,0,0,0,0,0,0]

{"sheet":"Damage Scenarios","index":5,"n_rows":30,"n_cols":12,"rows_kept":30}
[]
[]
[]
[]
[null,"Main Attack Scenarios",null,"Damage Scenarios"]
[null,"(M1) main attack attack action (adj for spells)",null,null,"BB?","EB?","QBB?","QEB?","Ranged?","M#","B#","O#"]
[null,"(M2) main attack BB",null,"M1, B1, O1/O2",0,0,0,0,0,1,1,1]
[null,"(M3) main attack melee EB",null,"M1, B1, O3",0,0,0,0,0,1,1,3]
[null,"(M4) main attack ranged EB",null,"M1, B2, O1/O2",0,0,1,0,0,1,2,1]
[null,"(M5) main attack ranged bow",null,"M1, B2, O3",0,0,1,0,0,1,2,3]
[{"$nulls":3},"M1, B3, O1/O2",0,0,0,1,0,1,3,1]
[null,"Bonus Attack Scenarios:",null,"M1, B3, O3",0,0,0,1,0,1,3,3]
[null,"(B1) weapon-based bonus attack (no Quicken BB or EB)",null,"M1, B4, O1/O2",0,0,1,0,0,1,4,1]
[null,"(B2) weapon-based bonus attack when possible, otherwise Q BB",null,"M1, B4, O3",0,0,1,0,0,1,4,3]
[null,"(B3) weapon-based bonus attack when possible, otherwise Q EB",null,"M1, B5, O1/O2",0,0,0,1,0,1,5,1]
[null,"(B4) bonus attack Q BB when possible, otherwise weapon attack",null,"M1, B5, O3",0,0,0,1,0,1,5,3]
[null,"(B5) bonus attack Q EB when possible, otherwise weapon attack",null,"M2, B6, O1/O2",1,0,1,0,0,2,6,1]
[null,"(B6) bonus attack Q BB and GWM bonus melee attacks (with main action BB)",null,"M2, B6, O3",1,0,1,0,0,2,6,3]
[null,"(B7) bonus attack Q EB and GWM bonus melee attacks (with main action BB)",null,"M2, B7, O1/O2",1,0,0,1,0,2,7,1]
[null,"(B8) bonus attack QQ EB melee range (only, with main action EB)",null,"M2, B7, O3",1,0,0,1,0,2,7,3]
[null,"(B9) bonus attack QQ EB ranged (only, with main action EB)",null,"M2, B12, O1/O2",1,0,1,0,0,2,12,1]
[null,"(B10) bonus attack QQ EB ranged, or Ranged bonus attack",null,"M2, B12, O3",1,0,1,0,0,2,12,3]
[null,"(B11) ranged bonus attack (no Quicken BB or EB)",null,"M2, B13, O1/O2",1,0,0,1,0,2,13,1]
[null,"(B12) bonus attack GWM bons att w Q BB fallback  (with main action BB)",null,"M2, B13, O3",1,0,0,1,0,2,13,3]
[null,"(B13) bonus attack GWM bons att w Q EB fallback  (with main action BB)",null,"M3, B8, O1/O2",0,1,0,1,0,3,8,1]
[{"$nulls":3},"M3, B8, O3",0,1,0,1,0,3,8,3]
[null,"Opportunity Attack Scenarios:",null,"M4, B9",0,1,0,1,1,4,9,0]
[null,"(O1) opp att damage option: melee attack",null,"M5, B10",0,0,0,1,1,5,10,0]
[null,"(O2) opp att damage option: booming blade",null,"M5, B11",0,0,0,0,1,5,11,0]
[null,"(O3) opp att damage option: melee-range eldritch blast"]

{"sheet":"SpellOrder","index":6,"n_rows":28,"n_cols":132,"rows_kept":28,"merged":[[3,4,4,4]]}
[]
[{"$nulls":3},"actual casts per day row number:"]
[null,"ACTUAL CASTS PER DAY (based on total available slots)",null,{"$f":"MATCH(B3,Sorcadins!$D$1:'Sorcadins'!$D1746,0)","v":262},null,"Level"]
[{"$nulls":4},"Spell index in Actual Casts Array:",1,2,3,4,5,6,7,8,9,10,11,12,13,14,15,16,17,18,19,20]
[null,"Spell","SpellPriority",null,null,"actual casts per day",{"$nulls":20},"total upcastable spells of equal or higher priority",{"$nulls":20},"avg spell slot of spells with equal or higher priority",{"$nulls":20},"upcast equation factor for spell",{"$nulls":20},"avg slot used for this spell",{"$nulls":20},"upcast equation factor for this spell, for use in other spell's higher upcast priority equation"]
[null,"Spirit Guardians",1,"spirit guardians casts (c) (req Divine Soul)",{"$f":"MATCH($D6,INDEX(Sorcadins!$D:$D,$D$3):'Sorcadins'!$D1746,0)-1","v":12},{"$f":"IF(CELL(\"contents\",INDIRECT(ADDRESS($D$3+$E6,4+F$4,1,1,\"Sorcadins\")))>=1,CELL(\"contents\",INDIRECT(ADDRESS($D$3+$E6,4+F$4,1,1,\"Sorcadins\"))),0)","v":0},{"$f":"IF(CELL(\"contents\",INDIRECT(ADDRESS($D$3+$E6,4+G$4,1,1,\"Sorcadins\")))>=1,CELL(\"contents\",INDIRECT(ADDRESS($D$3+$E6,4+G$4,1,1,\"Sorcadins\"))),0)","v":0},{"$f":"IF(CELL(\"contents\",INDIRECT(ADDRESS($D$3+$E6,4+H$4,1,1,\"Sorcadins\")))>=1,CELL(\"contents\",INDIRECT(ADDRESS($D$3+$E6,4+H$4,1,1,\"Sorcadins\"))),0)","v":0},{"$f":"IF(CELL(\"contents\",INDIRECT(ADDRESS($D$3+$E6,4+I$4,1,1,\"Sorcadins\")))>=1,CELL(\"contents\",INDIRECT(ADDRESS($D$3+$E6,4+I$4,1,1,\"Sorcadins\"))),0)","v":0},{"$f":"IF(CELL(\"contents\",INDIRECT(ADDRESS($D$3+$E6,4+J$4,1,1,\"Sorcadins\")))>=1,CELL(\"contents\",INDIRECT(ADDRESS($D$3+$E6,4+J$4,1,1,\"Sorcadins\"))),0)","v":0},{"$f":"IF(CELL(\"contents\",INDIRECT(ADDRESS($D$3+$E6,4+K$4,1,1,\"Sorcadins\")))>=1,CELL(\"contents\",INDIRECT(ADDRESS($D$3+$E6,4+K$4,1,1,\"Sorcadins\"))),0)","v":0},{"$f":"IF(CELL(\"contents\",INDIRECT(ADDRESS($D$3+$E6,4+L$4,1,1,\"Sorcadins\")))>=1,CELL(\"contents\",INDIRECT(ADDRESS($D$3+$E6,4+L$4,1,1,\"Sorcadins\"))),0)","v":0},{"$f":"IF(CELL(\"contents\",INDIRECT(ADDRESS($D$3+$E6,4+M$4,1,1,\"Sorcadins\")))>=1,CELL(\"contents\",INDIRECT(ADDRESS($D$3+$E6,4+M$4,1,1,\"Sorcadins\"))),0)","v":0},{"$f":"IF(CELL(\"contents\",INDIRECT(ADDRESS($D$3+$E6,4+N$4,1,1,\"Sorcadins\")))>=1,CELL(\"contents\",INDIRECT(ADDRESS($D$3+$E6,4+N$4,1,1,\"Sorcadins\"))),0)","v":0},{"$f":"IF(CELL(\"contents\",INDIRECT(ADDRESS($D$3+$E6,4+O$4,1,1,\"Sorcadins\")))>=1,CELL(\"contents\",INDIRECT(ADDRESS($D$3+$E6,4+O$4,1,1,\"Sorcadins\"))),0)","v":0},{"$f":"IF(CELL(\"contents\",INDIRECT(ADDRESS($D$3+$E6,4+P$4,1,1,\"Sorcadins\")))>=1,CELL(\"contents\",INDIRECT(ADDRESS($D$3+$E6,4+P$4,1,1,\"Sorcadins\"))),0)","v":0},{"$f":"IF(CELL(\"contents\",INDIRECT(ADDRESS($D$3+$E6,4+Q$4,1,1,\"Sorcadins\")))>=1,CELL(\"contents\",INDIRECT(ADDRESS($D$3+$E6,4+Q$4,1,1,\"Sorcadins\"))),0)","v":0},{"$f":"IF(CELL(\"contents\",INDIRECT(ADDRESS($D$3+$E6,4+R$4,1,1,\"Sorcadins\")))>=1,CELL(\"contents\",INDIRECT(ADDRESS($D$3+$E6,4+R$4,1,1,\"Sorcadins\"))),0)","v":0},{"$f":"IF(CELL(\"contents\",INDIRECT(ADDRESS($D$3+$E6,4+S$4,1,1,\"Sorcadins\")))>=1,CELL(\"contents\",INDIRECT(ADDRESS($D$3+$E6,4+S$4,1,1,\"Sorcadins\"))),0)","v":0},{"$f":"IF(CELL(\"contents\",INDIRECT(ADDRESS($D$3+$E6,4+T$4,1,1,\"Sorcadins\")))>=1,CELL(\"contents\",INDIRECT(ADDRESS($D$3+$E6,4+T$4,1,1,\"Sorcadins\"))),0)","v":0},{"$f":"IF(CELL(\"contents\",INDIRECT(ADDRESS($D$3+$E6,4+U$4,1,1,\"Sorcadins\")))>=1,CELL(\"contents\",INDIRECT(ADDRESS($D$3+$E6,4+U$4,1,1,\"Sorcadins\"))),0)","v":0},{"$f":"IF(CELL(\"contents\",INDIRECT(ADDRESS($D$3+$E6,4+V$4,1,1,\"Sorcadins\")))>=1,CELL(\"contents\",INDIRECT(ADDRESS($D$3+$E6,4+V$4,1,1,\"Sorcadins\"))),0)","v":0},{"$f":"IF(CELL(\"contents\",INDIRECT(ADDRESS($D$3+$E6,4+W$4,1,1,\"Sorcadins\")))>=1,CELL(\"contents\",INDIRECT(ADDRESS($D$3+$E6,4+W$4,1,1,\"Sorcadins\"))),0)","v":0},{"$f":"IF(CELL(\"contents\",INDIRECT(ADDRESS($D$3+$E6,4+X$4,1,1,\"Sorcadins\")))>=1,CELL(\"contents\",INDIRECT(ADDRESS($D$3+$E6,4+X$4,1,1,\"Sorcadins\"))),0)","v":0},{"$f":"IF(CELL(\"contents\",INDIRECT(ADDRESS($D$3+$E6,4+Y$4,1,1,\"Sorcadins\")))>=1,CELL(\"contents\",INDIRECT(ADDRESS($D$3+$E6,4+Y$4,1,1,\"Sorcadins\"))),0)","v":0},null,{"$f":"SUM(F$6:INDEX(F:F,5+$C6))","v":0},{"$f":"SUM(G$6:INDEX(G:G,5+$C6))","v":0},{"$f":"SUM(H$6:INDEX(H:H,5+$C6))","v":0},{"$f":"SUM(I$6:INDEX(I:I,5+$C6))","v":0},{"$f":"SUM(J$6:INDEX(J:J,5+$C6))","v":0},{"$f":"SUM(K$6:INDEX(K:K,5+$C6))","v":0},{"$f":"SUM(L$6:INDEX(L:L,5+$C6))","v":0},{"$f":"SUM(M$6:INDEX(M:M,5+$C6))","v":0},{"$f":"SUM(N$6:INDEX(N:N,5+$C6))","v":0},{"$f":"SUM(O$6:INDEX(O:O,5+$C6))","v":0},{"$f":"SUM(P$6:INDEX(P:P,5+$C6))","v":0},{"$f":"SUM(Q$6:INDEX(Q:Q,5+$C6))","v":0},{"$f":"SUM(R$6:INDEX(R:R,5+$C6))","v":0},{"$f":"SUM(S$6:INDEX(S:S,5+$C6))","v":0},{"$f":"SUM(T$6:INDEX(T:T,5+$C6))","v":0},{"$f":"SUM(U$6:INDEX(U:U,5+$C6))","v":0},{"$f":"SUM(V$6:INDEX(V:V,5+$C6))","v":0},{"$f":"SUM(W$6:INDEX(W:W,5+$C6))","v":0},{"$f":"SUM(X$6:INDEX(X:X,5+$C6))","v":0},{"$f":"SUM(Y$6:INDEX(Y:Y,5+$C6))","v":0},null,{"$f":"IF(AA6>0,IF(Sorcadins!E$315>Sorcadins!E$319,MIN(Sorcadins!E$315,Sorcadins!E$313/AA6),CELL(\"contents\",INDIRECT(ADDRESS(43+Sorcadins!E$25,ROUNDUP(5+MIN(20,AA6),0),1,1,\"Caster Tables\")))),0)","v":0},{"$f":"IF(AB6>0,IF(Sorcadins!F$315>Sorcadins!F$319,MIN(Sorcadins!F$315,Sorcadins!F$313/AB6),CELL(\"contents\",INDIRECT(ADDRESS(43+Sorcadins!F$25,ROUNDUP(5+MIN(20,AB6),0),1,1,\"Caster Tables\")))),0)","v":0},{"$f":"IF(AC6>0,IF(Sorcadins!G$315>Sorcadins!G$319,MIN(Sorcadins!G$315,Sorcadins!G$313/AC6),CELL(\"contents\",INDIRECT(ADDRESS(43+Sorcadins!G$25,ROUNDUP(5+MIN(20,AC6),0),1,1,\"Caster Tables\")))),0)","v":0},{"$f":"IF(AD6>0,IF(Sorcadins!H$315>Sorcadins!H$319,MIN(Sorcadins!H$315,Sorcadins!H$313/AD6),CELL(\"contents\",INDIRECT(ADDRESS(43+Sorcadins!H$25,ROUNDUP(5+MIN(20,AD6),0),1,1,\"Caster Tables\")))),0)","v":0},{"$f":"IF(AE6>0,IF(Sorcadins!I$315>Sorcadins!I$319,MIN(Sorcadins!I$315,Sorcadins!I$313/AE6),CELL(\"contents\",INDIRECT(ADDRESS(43+Sorcadins!I$25,ROUNDUP(5+MIN(20,AE6),0),1,1,\"Caster Tables\")))),0)","v":0},{"$f":"IF(AF6>0,IF(Sorcadins!J$315>Sorcadins!J$319,MIN(Sorcadins!J$315,Sorcadins!J$313/AF6),CELL(\"contents\",INDIRECT(ADDRESS(43+Sorcadins!J$25,ROUNDUP(5+MIN(20,AF6),0),1,1,\"Caster Tables\")))),0)","v":0},{"$f":"IF(AG6>0,IF(Sorcadins!K$315>Sorcadins!K$319,MIN(Sorcadins!K$315,Sorcadins!K$313/AG6),CELL(\"contents\",INDIRECT(ADDRESS(43+Sorcadins!K$25,ROUNDUP(5+MIN(20,AG6),0),1,1,\"Caster Tables\")))),0)","v":0},{"$f":"IF(AH6>0,IF(Sorcadins!L$315>Sorcadins!L$319,MIN(Sorcadins!L$315,Sorcadins!L$313/AH6),CELL(\"contents\",INDIRECT(ADDRESS(43+Sorcadins!L$25,ROUNDUP(5+MIN(20,AH6),0),1,1,\"Caster Tables\")))),0)","v":0},{"$f":"IF(AI6>0,IF(Sorcadins!M$315>Sorcadins!M$319,MIN(Sorcadins!M$315,Sorcadins!M$313/AI6),CELL(\"contents\",INDIRECT(ADDRESS(43+Sorcadins!M$25,ROUNDUP(5+MIN(20,AI6),0),1,1,\"Caster Tables\")))),0)","v":0},{"$f":"IF(AJ6>0,IF(Sorcadins!N$315>Sorcadins!N$319,MIN(Sorcadins!N$315,Sorcadins!N$313/AJ6),CELL(\"contents\",INDIRECT(ADDRESS(43+Sorcadins!N$25,ROUNDUP(5+MIN(20,AJ6),0),1,1,\"Caster Tables\")))),0)","v":0},{"$f":"IF(AK6>0,IF(Sorcadins!O$315>Sorcadins!O$319,MIN(Sorcadins!O$315,Sorcadins!O$313/AK6),CELL(\"contents\",INDIRECT(ADDRESS(43+Sorcadins!O$25,ROUNDUP(5+MIN(20,AK6),0),1,1,\"Caster Tables\")))),0)","v":0},{"$f":"IF(AL6>0,IF(Sorcadins!P$315>Sorcadins!P$319,MIN(Sorcadins!P$315,Sorcadins!P$313/AL6),CELL(\"contents\",INDIRECT(ADDRESS(43+Sorcadins!P$25,ROUNDUP(5+MIN(20,AL6),0),1,1,\"Caster Tables\")))),0)","v":0},{"$f":"IF(AM6>0,IF(Sorcadins!Q$315>Sorcadins!Q$319,MIN(Sorcadins!Q$315,Sorcadins!Q$313/AM6),CELL(\"contents\",INDIRECT(ADDRESS(43+Sorcadins!Q$25,ROUNDUP(5+MIN(20,AM6),0),1,1,\"Caster Tables\")))),0)","v":0},{"$f":"IF(AN6>0,IF(Sorcadins!R$315>Sorcadins!R$319,MIN(Sorcadins!R$315,Sorcadins!R$313/AN6),CELL(\"contents\",INDIRECT(ADDRESS(43+Sorcadins!R$25,ROUNDUP(5+MIN(20,AN6),0),1,1,\"Caster Tables\")))),0)","v":0},{"$f":"IF(AO6>0,IF(Sorcadins!S$315>Sorcadins!S$319,MIN(Sorcadins!S$315,Sorcadins!S$313/AO6),CELL(\"contents\",INDIRECT(ADDRESS(43+Sorcadins!S$25,ROUNDUP(5+MIN(20,AO6),0),1,1,\"Caster Tables\")))),0)","v":0},{"$f":"IF(AP6>0,IF(Sorcadins!T$315>Sorcadins!T$319,MIN(Sorcadins!T$315,Sorcadins!T$313/AP6),CELL(\"contents\",INDIRECT(ADDRESS(43+Sorcadins!T$25,ROUNDUP(5+MIN(20,AP6),0),1,1,\"Caster Tables\")))),0)","v":0},{"$f":"IF(AQ6>0,IF(Sorcadins!U$315>Sorcadins!U$319,MIN(Sorcadins!U$315,Sorcadins!U$313/AQ6),CELL(\"contents\",INDIRECT(ADDRESS(43+Sorcadins!U$25,ROUNDUP(5+MIN(20,AQ6),0),1,1,\"Caster Tables\")))),0)","v":0},{"$f":"IF(AR6>0,IF(Sorcadins!V$315>Sorcadins!V$319,MIN(Sorcadins!V$315,Sorcadins!V$313/AR6),CELL(\"contents\",INDIRECT(ADDRESS(43+Sorcadins!V$25,ROUNDUP(5+MIN(20,AR6),0),1,1,\"Caster Tables\")))),0)","v":0},{"$f":"IF(AS6>0,IF(Sorcadins!W$315>Sorcadins!W$319,MIN(Sorcadins!W$315,Sorcadins!W$313/AS6),CELL(\"contents\",INDIRECT(ADDRESS(43+Sorcadins!W$25,ROUNDUP(5+MIN(20,AS6),0),1,1,\"Caster Tables\")))),0)","v":0},{"$f":"IF(AT6>0,IF(Sorcadins!X$315>Sorcadins!X$319,MIN(Sorcadins!X$315,Sorcadins!X$313/AT6),CELL(\"contents\",INDIRECT(ADDRESS(43+Sorcadins!X$25,ROUNDUP(5+MIN(20,AT6),0),1,1,\"Caster Tables\")))),0)","v":0},null,{"$f":"IF(F6>=1,AA6/F6,0)","v":0},0,0,0,0,0,0,0,0,0,{"$f":"IF(P6>=1,AK6/P6,0)","v":0},0,0,0,0,0,0,0,0,0,null,{"$f":"MIN(AV6,MAX(0,IF(F6>=1,AV6,0))*BQ6)","v":0},0,0,0,0,0,0,0,0,0,0,0,0,0,0,0,0,0,0,0,null,{"$f":"F6*CL6","v":0},0,0,0,0,0,0,0,0,0,{"$f":"P6*CV6","v":0},0,0,0,0,0,0,0,0,0,null,"Spirit Guardians"]
[null,"Spirit Shroud",{"$f":"C6+1","v":2},"spirit shroud casts (c) (bonus action)",{"$f":"MATCH($D7,INDEX(Sorcadins!$D:$D,$D$3):'Sorcadins'!$D1747,0)-1","v":14},{"$f":"IF(CELL(\"contents\",INDIRECT(ADDRESS($D$3+$E7,4+F$4,1,1,\"Sorcadins\")))>=1,CELL(\"contents\",INDIRECT(ADDRESS($D$3+$E7,4+F$4,1,1,\"Sorcadins\"))),0)","v":0},{"$f":"IF(CELL(\"contents\",INDIRECT(ADDRESS($D$3+$E7,4+G$4,1,1,\"Sorcadins\")))>=1,CELL(\"contents\",INDIRECT(ADDRESS($D$3+$E7,4+G$4,1,1,\"Sorcadins\"))),0)","v":0},{"$f":"IF(CELL(\"contents\",INDIRECT(ADDRESS($D$3+$E7,4+H$4,1,1,\"Sorcadins\")))>=1,CELL(\"contents\",INDIRECT(ADDRESS($D$3+$E7,4+H$4,1,1,\"Sorcadins\"))),0)","v":0},{"$f":"IF(CELL(\"contents\",INDIRECT(ADDRESS($D$3+$E7,4+I$4,1,1,\"Sorcadins\")))>=1,CELL(\"contents\",INDIRECT(ADDRESS($D$3+$E7,4+I$4,1,1,\"Sorcadins\"))),0)","v":0},{"$f":"IF(CELL(\"contents\",INDIRECT(ADDRESS($D$3+$E7,4+J$4,1,1,\"Sorcadins\")))>=1,CELL(\"contents\",INDIRECT(ADDRESS($D$3+$E7,4+J$4,1,1,\"Sorcadins\"))),0)","v":0},{"$f":"IF(CELL(\"contents\",INDIRECT(ADDRESS($D$3+$E7,4+K$4,1,1,\"Sorcadins\")))>=1,CELL(\"contents\",INDIRECT(ADDRESS($D$3+$E7,4+K$4,1,1,\"Sorcadins\"))),0)","v":0},{"$f":"IF(CELL(\"contents\",INDIRECT(ADDRESS($D$3+$E7,4+L$4,1,1,\"Sorcadins\")))>=1,CELL(\"contents\",INDIRECT(ADDRESS($D$3+$E7,4+L$4,1,1,\"Sorcadins\"))),0)","v":0},{"$f":"IF(CELL(\"contents\",INDIRECT(ADDRESS($D$3+$E7,4+M$4,1,1,\"Sorcadins\")))>=1,CELL(\"contents\",INDIRECT(ADDRESS($D$3+$E7,4+M$4,1,1,\"Sorcadins\"))),0)","v":0},{"$f":"IF(CELL(\"contents\",INDIRECT(ADDRESS($D$3+$E7,4+N$4,1,1,\"Sorcadins\")))>=1,CELL(\"contents\",INDIRECT(ADDRESS($D$3+$E7,4+N$4,1,1,\"Sorcadins\"))),0)","v":0},{"$f":"IF(CELL(\"contents\",INDIRECT(ADDRESS($D$3+$E7,4+O$4,1,1,\"Sorcadins\")))>=1,CELL(\"contents\",INDIRECT(ADDRESS($D$3+$E7,4+O$4,1,1,\"Sorcadins\"))),0)","v":0},{"$f":"IF(CELL(\"contents\",INDIRECT(ADDRESS($D$3+$E7,4+P$4,1,1,\"Sorcadins\")))>=1,CELL(\"contents\",INDIRECT(ADDRESS($D$3+$E7,4+P$4,1,1,\"Sorcadins\"))),0)","v":0},{"$f":"IF(CELL(\"contents\",INDIRECT(ADDRESS($D$3+$E7,4+Q$4,1,1,\"Sorcadins\")))>=1,CELL(\"contents\",INDIRECT(ADDRESS($D$3+$E7,4+Q$4,1,1,\"Sorcadins\"))),0)","v":0},{"$f":"IF(CELL(\"contents\",INDIRECT(ADDRESS($D$3+$E7,4+R$4,1,1,\"Sorcadins\")))>=1,CELL(\"contents\",INDIRECT(ADDRESS($D$3+$E7,4+R$4,1,1,\"Sorcadins\"))),0)","v":0},{"$f":"IF(CELL(\"contents\",INDIRECT(ADDRESS($D$3+$E7,4+S$4,1,1,\"Sorcadins\")))>=1,CELL(\"contents\",INDIRECT(ADDRESS($D$3+$E7,4+S$4,1,1,\"Sorcadins\"))),0)","v":0},{"$f":"IF(CELL(\"contents\",INDIRECT(ADDRESS($D$3+$E7,4+T$4,1,1,\"Sorcadins\")))>=1,CELL(\"contents\",INDIRECT(ADDRESS($D$3+$E7,4+T$4,1,1,\"Sorcadins\"))),0)","v":0},{"$f":"IF(CELL(\"contents\",INDIRECT(ADDRESS($D$3+$E7,4+U$4,1,1,\"Sorcadins\")))>=1,CELL(\"contents\",INDIRECT(ADDRESS($D$3+$E7,4+U$4,1,1,\"Sorcadins\"))),0)","v":0},{"$f":"IF(CELL(\"contents\",INDIRECT(ADDRESS($D$3+$E7,4+V$4,1,1,\"Sorcadins\")))>=1,CELL(\"contents\",INDIRECT(ADDRESS($D$3+$E7,4+V$4,1,1,\"Sorcadins\"))),0)","v":0},{"$f":"IF(CELL(\"contents\",INDIRECT(ADDRESS($D$3+$E7,4+W$4,1,1,\"Sorcadins\")))>=1,CELL(\"contents\",INDIRECT(ADDRESS($D$3+$E7,4+W$4,1,1,\"Sorcadins\"))),0)","v":0},{"$f":"IF(CELL(\"contents\",INDIRECT(ADDRESS($D$3+$E7,4+X$4,1,1,\"Sorcadins\")))>=1,CELL(\"contents\",INDIRECT(ADDRESS($D$3+$E7,4+X$4,1,1,\"Sorcadins\"))),0)","v":0},{"$f":"IF(CELL(\"contents\",INDIRECT(ADDRESS($D$3+$E7,4+Y$4,1,1,\"Sorcadins\")))>=1,CELL(\"contents\",INDIRECT(ADDRESS($D$3+$E7,4+Y$4,1,1,\"Sorcadins\"))),0)","v":0},null,{"$f":"SUM(F$6:INDEX(F:F,5+$C7))","v":0},{"$f":"SUM(G$6:INDEX(G:G,5+$C7))","v":0},{"$f":"SUM(H$6:INDEX(H:H,5+$C7))","v":0},{"$f":"SUM(I$6:INDEX(I:I,5+$C7))","v":0},{"$f":"SUM(J$6:INDEX(J:J,5+$C7))","v":0},{"$f":"SUM(K$6:INDEX(K:K,5+$C7))","v":0},{"$f":"SUM(L$6:INDEX(L:L,5+$C7))","v":0},{"$f":"SUM(M$6:INDEX(M:M,5+$C7))","v":0},{"$f":"SUM(N$6:INDEX(N:N,5+$C7))","v":0},{"$f":"SUM(O$6:INDEX(O:O,5+$C7))","v":0},{"$f":"SUM(P$6:INDEX(P:P,5+$C7))","v":0},{"$f":"SUM(Q$6:INDEX(Q:Q,5+$C7))","v":0},{"$f":"SUM(R$6:INDEX(R:R,5+$C7))","v":0},{"$f":"SUM(S$6:INDEX(S:S,5+$C7))","v":0},{"$f":"SUM(T$6:INDEX(T:T,5+$C7))","v":0},{"$f":"SUM(U$6:INDEX(U:U,5+$C7))","v":0},{"$f":"SUM(V$6:INDEX(V:V,5+$C7))","v":0},{"$f":"SUM(W$6:INDEX(W:W,5+$C7))","v":0},{"$f":"SUM(X$6:INDEX(X:X,5+$C7))","v":0},{"$f":"SUM(Y$6:INDEX(Y:Y,5+$C7))","v":0},null,{"$f":"IF(AA7>0,IF(Sorcadins!E$315>Sorcadins!E$319,MIN(Sorcadins!E$315,Sorcadins!E$313/AA7),CELL(\"contents\",INDIRECT(ADDRESS(43+Sorcadins!E$25,ROUNDUP(5+MIN(20,AA7),0),1,1,\"Caster Tables\")))),0)","v":0},{"$f":"IF(AB7>0,IF(Sorcadins!F$315>Sorcadins!F$319,MIN(Sorcadins!F$315,Sorcadins!F$313/AB7),CELL(\"contents\",INDIRECT(ADDRESS(43+Sorcadins!F$25,ROUNDUP(5+MIN(20,AB7),0),1,1,\"Caster Tables\")))),0)","v":0},{"$f":"IF(AC7>0,IF(Sorcadins!G$315>Sorcadins!G$319,MIN(Sorcadins!G$315,Sorcadins!G$313/AC7),CELL(\"contents\",INDIRECT(ADDRESS(43+Sorcadins!G$25,ROUNDUP(5+MIN(20,AC7),0),1,1,\"Caster Tables\")))),0)","v":0},{"$f":"IF(AD7>0,IF(Sorcadins!H$315>Sorcadins!H$319,MIN(Sorcadins!H$315,Sorcadins!H$313/AD7),CELL(\"contents\",INDIRECT(ADDRESS(43+Sorcadins!H$25,ROUNDUP(5+MIN(20,AD7),0),1,1,\"Caster Tables\")))),0)","v":0},{"$f":"IF(AE7>0,IF(Sorcadins!I$315>Sorcadins!I$319,MIN(Sorcadins!I$315,Sorcadins!I$313/AE7),CELL(\"contents\",INDIRECT(ADDRESS(43+Sorcadins!I$25,ROUNDUP(5+MIN(20,AE7),0),1,1,\"Caster Tables\")))),0)","v":0},{"$f":"IF(AF7>0,IF(Sorcadins!J$315>Sorcadins!J$319,MIN(Sorcadins!J$315,Sorcadins!J$313/AF7),CELL(\"contents\",INDIRECT(ADDRESS(43+Sorcadins!J$25,ROUNDUP(5+MIN(20,AF7),0),1,1,\"Caster Tables\")))),0)","v":0},{"$f":"IF(AG7>0,IF(Sorcadins!K$315>Sorcadins!K$319,MIN(Sorcadins!K$315,Sorcadins!K$313/AG7),CELL(\"contents\",INDIRECT(ADDRESS(43+Sorcadins!K$25,ROUNDUP(5+MIN(20,AG7),0),1,1,\"Caster Tables\")))),0)","v":0},{"$f":"IF(AH7>0,IF(Sorcadins!L$315>Sorcadins!L$319,MIN(Sorcadins!L$315,Sorcadins!L$313/AH7),CELL(\"contents\",INDIRECT(ADDRESS(43+Sorcadins!L$25,ROUNDUP(5+MIN(20,AH7),0),1,1,\"Caster Tables\")))),0)","v":0},{"$f":"IF(AI7>0,IF(Sorcadins!M$315>Sorcadins!M$319,MIN(Sorcadins!M$315,Sorcadins!M$313/AI7),CELL(\"contents\",INDIRECT(ADDRESS(43+Sorcadins!M$25,ROUNDUP(5+MIN(20,AI7),0),1,1,\"Caster Tables\")))),0)","v":0},{"$f":"IF(AJ7>0,IF(Sorcadins!N$315>Sorcadins!N$319,MIN(Sorcadins!N$315,Sorcadins!N$313/AJ7),CELL(\"contents\",INDIRECT(ADDRESS(43+Sorcadins!N$25,ROUNDUP(5+MIN(20,AJ7),0),1,1,\"Caster Tables\")))),0)","v":0},{"$f":"IF(AK7>0,IF(Sorcadins!O$315>Sorcadins!O$319,MIN(Sorcadins!O$315,Sorcadins!O$313/AK7),CELL(\"contents\",INDIRECT(ADDRESS(43+Sorcadins!O$25,ROUNDUP(5+MIN(20,AK7),0),1,1,\"Caster Tables\")))),0)","v":0},{"$f":"IF(AL7>0,IF(Sorcadins!P$315>Sorcadins!P$319,MIN(Sorcadins!P$315,Sorcadins!P$313/AL7),CELL(\"contents\",INDIRECT(ADDRESS(43+Sorcadins!P$25,ROUNDUP(5+MIN(20,AL7),0),1,1,\"Caster Tables\")))),0)","v":0},{"$f":"IF(AM7>0,IF(Sorcadins!Q$315>Sorcadins!Q$319,MIN(Sorcadins!Q$315,Sorcadins!Q$313/AM7),CELL(\"contents\",INDIRECT(ADDRESS(43+Sorcadins!Q$25,ROUNDUP(5+MIN(20,AM7),0),1,1,\"Caster Tables\")))),0)","v":0},{"$f":"IF(AN7>0,IF(Sorcadins!R$315>Sorcadins!R$319,MIN(Sorcadins!R$315,Sorcadins!R$313/AN7),CELL(\"contents\",INDIRECT(ADDRESS(43+Sorcadins!R$25,ROUNDUP(5+MIN(20,AN7),0),1,1,\"Caster Tables\")))),0)","v":0},{"$f":"IF(AO7>0,IF(Sorcadins!S$315>Sorcadins!S$319,MIN(Sorcadins!S$315,Sorcadins!S$313/AO7),CELL(\"contents\",INDIRECT(ADDRESS(43+Sorcadins!S$25,ROUNDUP(5+MIN(20,AO7),0),1,1,\"Caster Tables\")))),0)","v":0},{"$f":"IF(AP7>0,IF(Sorcadins!T$315>Sorcadins!T$319,MIN(Sorcadins!T$315,Sorcadins!T$313/AP7),CELL(\"contents\",INDIRECT(ADDRESS(43+Sorcadins!T$25,ROUNDUP(5+MIN(20,AP7),0),1,1,\"Caster Tables\")))),0)","v":0},{"$f":"IF(AQ7>0,IF(Sorcadins!U$315>Sorcadins!U$319,MIN(Sorcadins!U$315,Sorcadins!U$313/AQ7),CELL(\"contents\",INDIRECT(ADDRESS(43+Sorcadins!U$25,ROUNDUP(5+MIN(20,AQ7),0),1,1,\"Caster Tables\")))),0)","v":0},{"$f":"IF(AR7>0,IF(Sorcadins!V$315>Sorcadins!V$319,MIN(Sorcadins!V$315,Sorcadins!V$313/AR7),CELL(\"contents\",INDIRECT(ADDRESS(43+Sorcadins!V$25,ROUNDUP(5+MIN(20,AR7),0),1,1,\"Caster Tables\")))),0)","v":0},{"$f":"IF(AS7>0,IF(Sorcadins!W$315>Sorcadins!W$319,MIN(Sorcadins!W$315,Sorcadins!W$313/AS7),CELL(\"contents\",INDIRECT(ADDRESS(43+Sorcadins!W$25,ROUNDUP(5+MIN(20,AS7),0),1,1,\"Caster Tables\")))),0)","v":0},{"$f":"IF(AT7>0,IF(Sorcadins!X$315>Sorcadins!X$319,MIN(Sorcadins!X$315,Sorcadins!X$313/AT7),CELL(\"contents\",INDIRECT(ADDRESS(43+Sorcadins!X$25,ROUNDUP(5+MIN(20,AT7),0),1,1,\"Caster Tables\")))),0)","v":0},null,0,0,0,0,0,0,0,0,0,0,0,0,0,0,0,0,0,0,0,0,null,{"$f":"IF(AV7>0,MIN(AV7,MAX(0,IF(F7>=0,AV7,0)-SUM(DG$6:INDEX(DG:DG,5+$C7-1))/AA7)*BQ7),0)","v":0},{"$f":"IF(AW7>0,MIN(AW7,MAX(0,IF(G7>=0,AW7,0)-SUM(DH$6:INDEX(DH:DH,5+$C7-1))/AB7)*BR7),0)","v":0},{"$f":"IF(AX7>0,MIN(AX7,MAX(0,IF(H7>=0,AX7,0)-SUM(DI$6:INDEX(DI:DI,5+$C7-1))/AC7)*BS7),0)","v":0},{"$f":"IF(AY7>0,MIN(AY7,MAX(0,IF(I7>=0,AY7,0)-SUM(DJ$6:INDEX(DJ:DJ,5+$C7-1))/AD7)*BT7),0)","v":0},{"$f":"IF(AZ7>0,MIN(AZ7,MAX(0,IF(J7>=0,AZ7,0)-SUM(DK$6:INDEX(DK:DK,5+$C7-1))/AE7)*BU7),0)","v":0},{"$f":"IF(BA7>0,MIN(BA7,MAX(0,IF(K7>=0,BA7,0)-SUM(DL$6:INDEX(DL:DL,5+$C7-1))/AF7)*BV7),0)","v":0},{"$f":"IF(BB7>0,MIN(BB7,MAX(0,IF(L7>=0,BB7,0)-SUM(DM$6:INDEX(DM:DM,5+$C7-1))/AG7)*BW7),0)","v":0},{"$f":"IF(BC7>0,MIN(BC7,MAX(0,IF(M7>=0,BC7,0)-SUM(DN$6:INDEX(DN:DN,5+$C7-1))/AH7)*BX7),0)","v":0},{"$f":"IF(BD7>0,MIN(BD7,MAX(0,IF(N7>=0,BD7,0)-SUM(DO$6:INDEX(DO:DO,5+$C7-1))/AI7)*BY7),0)","v":0},{"$f":"IF(BE7>0,MIN(BE7,MAX(0,IF(O7>=0,BE7,0)-SUM(DP$6:INDEX(DP:DP,5+$C7-1))/AJ7)*BZ7),0)","v":0},{"$f":"IF(BF7>0,MIN(BF7,MAX(0,IF(P7>=0,BF7,0)-SUM(DQ$6:INDEX(DQ:DQ,5+$C7-1))/AK7)*CA7),0)","v":0},{"$f":"IF(BG7>0,MIN(BG7,MAX(0,IF(Q7>=0,BG7,0)-SUM(DR$6:INDEX(DR:DR,5+$C7-1))/AL7)*CB7),0)","v":0},{"$f":"IF(BH7>0,MIN(BH7,MAX(0,IF(R7>=0,BH7,0)-SUM(DS$6:INDEX(DS:DS,5+$C7-1))/AM7)*CC7),0)","v":0},{"$f":"IF(BI7>0,MIN(BI7,MAX(0,IF(S7>=0,BI7,0)-SUM(DT$6:INDEX(DT:DT,5+$C7-1))/AN7)*CD7),0)","v":0},{"$f":"IF(BJ7>0,MIN(BJ7,MAX(0,IF(T7>=0,BJ7,0)-SUM(DU$6:INDEX(DU:DU,5+$C7-1))/AO7)*CE7),0)","v":0},{"$f":"IF(BK7>0,MIN(BK7,MAX(0,IF(U7>=0,BK7,0)-SUM(DV$6:INDEX(DV:DV,5+$C7-1))/AP7)*CF7),0)","v":0},{"$f":"IF(BL7>0,MIN(BL7,MAX(0,IF(V7>=0,BL7,0)-SUM(DW$6:INDEX(DW:DW,5+$C7-1))/AQ7)*CG7),0)","v":0},{"$f":"IF(BM7>0,MIN(BM7,MAX(0,IF(W7>=0,BM7,0)-SUM(DX$6:INDEX(DX:DX,5+$C7-1))/AR7)*CH7),0)","v":0},{"$f":"IF(BN7>0,MIN(BN7,MAX(0,IF(X7>=0,BN7,0)-SUM(DY$6:INDEX(DY:DY,5+$C7-1))/AS7)*CI7),0)","v":0},{"$f":"IF(BO7>0,MIN(BO7,MAX(0,IF(Y7>=0,BO7,0)-SUM(DZ$6:INDEX(DZ:DZ,5+$C7-1))/AT7)*CJ7),0)","v":0},null,0,0,0,0,0,0,0,0,0,0,0,0,0,0,0,0,0,0,0,0,null,"Spirit Shroud"]
[null,"Bigby's Hand",{"$f":"C7+1","v":3},"bigby's hand casts (c)",{"$f":"MATCH($D8,INDEX(Sorcadins!$D:$D,$D$3):'Sorcadins'!$D1748,0)-1","v":31},{"$f":"IF(CELL(\"contents\",INDIRECT(ADDRESS($D$3+$E8,4+F$4,1,1,\"Sorcadins\")))>=1,CELL(\"contents\",INDIRECT(ADDRESS($D$3+$E8,4+F$4,1,1,\"Sorcadins\"))),0)","v":0},{"$f":"IF(CELL(\"contents\",INDIRECT(ADDRESS($D$3+$E8,4+G$4,1,1,\"Sorcadins\")))>=1,CELL(\"contents\",INDIRECT(ADDRESS($D$3+$E8,4+G$4,1,1,\"Sorcadins\"))),0)","v":0},{"$f":"IF(CELL(\"contents\",INDIRECT(ADDRESS($D$3+$E8,4+H$4,1,1,\"Sorcadins\")))>=1,CELL(\"contents\",INDIRECT(ADDRESS($D$3+$E8,4+H$4,1,1,\"Sorcadins\"))),0)","v":0},{"$f":"IF(CELL(\"contents\",INDIRECT(ADDRESS($D$3+$E8,4+I$4,1,1,\"Sorcadins\")))>=1,CELL(\"contents\",INDIRECT(ADDRESS($D$3+$E8,4+I$4,1,1,\"Sorcadins\"))),0)","v":0},{"$f":"IF(CELL(\"contents\",INDIRECT(ADDRESS($D$3+$E8,4+J$4,1,1,\"Sorcadins\")))>=1,CELL(\"contents\",INDIRECT(ADDRESS($D$3+$E8,4+J$4,1,1,\"Sorcadins\"))),0)","v":0},{"$f":"IF(CELL(\"contents\",INDIRECT(ADDRESS($D$3+$E8,4+K$4,1,1,\"Sorcadins\")))>=1,CELL(\"contents\",INDIRECT(ADDRESS($D$3+$E8,4+K$4,1,1,\"Sorcadins\"))),0)","v":0},{"$f":"IF(CELL(\"contents\",INDIRECT(ADDRESS($D$3+$E8,4+L$4,1,1,\"Sorcadins\")))>=1,CELL(\"contents\",INDIRECT(ADDRESS($D$3+$E8,4+L$4,1,1,\"Sorcadins\"))),0)","v":0},{"$f":"IF(CELL(\"contents\",INDIRECT(ADDRESS($D$3+$E8,4+M$4,1,1,\"Sorcadins\")))>=1,CELL(\"contents\",INDIRECT(ADDRESS($D$3+$E8,4+M$4,1,1,\"Sorcadins\"))),0)","v":0},{"$f":"IF(CELL(\"contents\",INDIRECT(ADDRESS($D$3+$E8,4+N$4,1,1,\"Sorcadins\")))>=1,CELL(\"contents\",INDIRECT(ADDRESS($D$3+$E8,4+N$4,1,1,\"Sorcadins\"))),0)","v":0},{"$f":"IF(CELL(\"contents\",INDIRECT(ADDRESS($D$3+$E8,4+O$4,1,1,\"Sorcadins\")))>=1,CELL(\"contents\",INDIRECT(ADDRESS($D$3+$E8,4+O$4,1,1,\"Sorcadins\"))),0)","v":0},{"$f":"IF(CELL(\"contents\",INDIRECT(ADDRESS($D$3+$E8,4+P$4,1,1,\"Sorcadins\")))>=1,CELL(\"contents\",INDIRECT(ADDRESS($D$3+$E8,4+P$4,1,1,\"Sorcadins\"))),0)","v":0},{"$f":"IF(CELL(\"contents\",INDIRECT(ADDRESS($D$3+$E8,4+Q$4,1,1,\"Sorcadins\")))>=1,CELL(\"contents\",INDIRECT(ADDRESS($D$3+$E8,4+Q$4,1,1,\"Sorcadins\"))),0)","v":0},{"$f":"IF(CELL(\"contents\",INDIRECT(ADDRESS($D$3+$E8,4+R$4,1,1,\"Sorcadins\")))>=1,CELL(\"contents\",INDIRECT(ADDRESS($D$3+$E8,4+R$4,1,1,\"Sorcadins\"))),0)","v":0},{"$f":"IF(CELL(\"contents\",INDIRECT(ADDRESS($D$3+$E8,4+S$4,1,1,\"Sorcadins\")))>=1,CELL(\"contents\",INDIRECT(ADDRESS($D$3+$E8,4+S$4,1,1,\"Sorcadins\"))),0)","v":0},{"$f":"IF(CELL(\"contents\",INDIRECT(ADDRESS($D$3+$E8,4+T$4,1,1,\"Sorcadins\")))>=1,CELL(\"contents\",INDIRECT(ADDRESS($D$3+$E8,4+T$4,1,1,\"Sorcadins\"))),0)","v":0},{"$f":"IF(CELL(\"contents\",INDIRECT(ADDRESS($D$3+$E8,4+U$4,1,1,\"Sorcadins\")))>=1,CELL(\"contents\",INDIRECT(ADDRESS($D$3+$E8,4+U$4,1,1,\"Sorcadins\"))),0)","v":0},{"$f":"IF(CELL(\"contents\",INDIRECT(ADDRESS($D$3+$E8,4+V$4,1,1,\"Sorcadins\")))>=1,CELL(\"contents\",INDIRECT(ADDRESS($D$3+$E8,4+V$4,1,1,\"Sorcadins\"))),0)","v":0},{"$f":"IF(CELL(\"contents\",INDIRECT(ADDRESS($D$3+$E8,4+W$4,1,1,\"Sorcadins\")))>=1,CELL(\"contents\",INDIRECT(ADDRESS($D$3+$E8,4+W$4,1,1,\"Sorcadins\"))),0)","v":0},{"$f":"IF(CELL(\"contents\",INDIRECT(ADDRESS($D$3+$E8,4+X$4,1,1,\"Sorcadins\")))>=1,CELL(\"contents\",INDIRECT(ADDRESS($D$3+$E8,4+X$4,1,1,\"Sorcadins\"))),0)","v":0},{"$f":"IF(CELL(\"contents\",INDIRECT(ADDRESS($D$3+$E8,4+Y$4,1,1,\"Sorcadins\")))>=1,CELL(\"contents\",INDIRECT(ADDRESS($D$3+$E8,4+Y$4,1,1,\"Sorcadins\"))),0)","v":0},null,{"$f":"SUM(F$6:INDEX(F:F,5+$C8))","v":0},{"$f":"SUM(G$6:INDEX(G:G,5+$C8))","v":0},{"$f":"SUM(H$6:INDEX(H:H,5+$C8))","v":0},{"$f":"SUM(I$6:INDEX(I:I,5+$C8))","v":0},{"$f":"SUM(J$6:INDEX(J:J,5+$C8))","v":0},{"$f":"SUM(K$6:INDEX(K:K,5+$C8))","v":0},{"$f":"SUM(L$6:INDEX(L:L,5+$C8))","v":0},{"$f":"SUM(M$6:INDEX(M:M,5+$C8))","v":0},{"$f":"SUM(N$6:INDEX(N:N,5+$C8))","v":0},{"$f":"SUM(O$6:INDEX(O:O,5+$C8))","v":0},{"$f":"SUM(P$6:INDEX(P:P,5+$C8))","v":0},{"$f":"SUM(Q$6:INDEX(Q:Q,5+$C8))","v":0},{"$f":"SUM(R$6:INDEX(R:R,5+$C8))","v":0},{"$f":"SUM(S$6:INDEX(S:S,5+$C8))","v":0},{"$f":"SUM(T$6:INDEX(T:T,5+$C8))","v":0},{"$f":"SUM(U$6:INDEX(U:U,5+$C8))","v":0},{"$f":"SUM(V$6:INDEX(V:V,5+$C8))","v":0},{"$f":"SUM(W$6:INDEX(W:W,5+$C8))","v":0},{"$f":"SUM(X$6:INDEX(X:X,5+$C8))","v":0},{"$f":"SUM(Y$6:INDEX(Y:Y,5+$C8))","v":0},null,{"$f":"IF(AA8>0,IF(Sorcadins!E$315>Sorcadins!E$319,MIN(Sorcadins!E$315,Sorcadins!E$313/AA8),CELL(\"contents\",INDIRECT(ADDRESS(43+Sorcadins!E$25,ROUNDUP(5+MIN(20,AA8),0),1,1,\"Caster Tables\")))),0)","v":0},{"$f":"IF(AB8>0,IF(Sorcadins!F$315>Sorcadins!F$319,MIN(Sorcadins!F$315,Sorcadins!F$313/AB8),CELL(\"contents\",INDIRECT(ADDRESS(43+Sorcadins!F$25,ROUNDUP(5+MIN(20,AB8),0),1,1,\"Caster Tables\")))),0)","v":0},{"$f":"IF(AC8>0,IF(Sorcadins!G$315>Sorcadins!G$319,MIN(Sorcadins!G$315,Sorcadins!G$313/AC8),CELL(\"contents\",INDIRECT(ADDRESS(43+Sorcadins!G$25,ROUNDUP(5+MIN(20,AC8),0),1,1,\"Caster Tables\")))),0)","v":0},{"$f":"IF(AD8>0,IF(Sorcadins!H$315>Sorcadins!H$319,MIN(Sorcadins!H$315,Sorcadins!H$313/AD8),CELL(\"contents\",INDIRECT(ADDRESS(43+Sorcadins!H$25,ROUNDUP(5+MIN(20,AD8),0),1,1,\"Caster Tables\")))),0)","v":0},{"$f":"IF(AE8>0,IF(Sorcadins!I$315>Sorcadins!I$319,MIN(Sorcadins!I$315,Sorcadins!I$313/AE8),CELL(\"contents\",INDIRECT(ADDRESS(43+Sorcadins!I$25,ROUNDUP(5+MIN(20,AE8),0),1,1,\"Caster Tables\")))),0)","v":0},{"$f":"IF(AF8>0,IF(Sorcadins!J$315>Sorcadins!J$319,MIN(Sorcadins!J$315,Sorcadins!J$313/AF8),CELL(\"contents\",INDIRECT(ADDRESS(43+Sorcadins!J$25,ROUNDUP(5+MIN(20,AF8),0),1,1,\"Caster Tables\")))),0)","v":0},{"$f":"IF(AG8>0,IF(Sorcadins!K$315>Sorcadins!K$319,MIN(Sorcadins!K$315,Sorcadins!K$313/AG8),CELL(\"contents\",INDIRECT(ADDRESS(43+Sorcadins!K$25,ROUNDUP(5+MIN(20,AG8),0),1,1,\"Caster Tables\")))),0)","v":0},{"$f":"IF(AH8>0,IF(Sorcadins!L$315>Sorcadins!L$319,MIN(Sorcadins!L$315,Sorcadins!L$313/AH8),CELL(\"contents\",INDIRECT(ADDRESS(43+Sorcadins!L$25,ROUNDUP(5+MIN(20,AH8),0),1,1,\"Caster Tables\")))),0)","v":0},{"$f":"IF(AI8>0,IF(Sorcadins!M$315>Sorcadins!M$319,MIN(Sorcadins!M$315,Sorcadins!M$313/AI8),CELL(\"contents\",INDIRECT(ADDRESS(43+Sorcadins!M$25,ROUNDUP(5+MIN(20,AI8),0),1,1,\"Caster Tables\")))),0)","v":0},{"$f":"IF(AJ8>0,IF(Sorcadins!N$315>Sorcadins!N$319,MIN(Sorcadins!N$315,Sorcadins!N$313/AJ8),CELL(\"contents\",INDIRECT(ADDRESS(43+Sorcadins!N$25,ROUNDUP(5+MIN(20,AJ8),0),1,1,\"Caster Tables\")))),0)","v":0},{"$f":"IF(AK8>0,IF(Sorcadins!O$315>Sorcadins!O$319,MIN(Sorcadins!O$315,Sorcadins!O$313/AK8),CELL(\"contents\",INDIRECT(ADDRESS(43+Sorcadins!O$25,ROUNDUP(5+MIN(20,AK8),0),1,1,\"Caster Tables\")))),0)","v":0},{"$f":"IF(AL8>0,IF(Sorcadins!P$315>Sorcadins!P$319,MIN(Sorcadins!P$315,Sorcadins!P$313/AL8),CELL(\"contents\",INDIRECT(ADDRESS(43+Sorcadins!P$25,ROUNDUP(5+MIN(20,AL8),0),1,1,\"Caster Tables\")))),0)","v":0},{"$f":"IF(AM8>0,IF(Sorcadins!Q$315>Sorcadins!Q$319,MIN(Sorcadins!Q$315,Sorcadins!Q$313/AM8),CELL(\"contents\",INDIRECT(ADDRESS(43+Sorcadins!Q$25,ROUNDUP(5+MIN(20,AM8),0),1,1,\"Caster Tables\")))),0)","v":0},{"$f":"IF(AN8>0,IF(Sorcadins!R$315>Sorcadins!R$319,MIN(Sorcadins!R$315,Sorcadins!R$313/AN8),CELL(\"contents\",INDIRECT(ADDRESS(43+Sorcadins!R$25,ROUNDUP(5+MIN(20,AN8),0),1,1,\"Caster Tables\")))),0)","v":0},{"$f":"IF(AO8>0,IF(Sorcadins!S$315>Sorcadins!S$319,MIN(Sorcadins!S$315,Sorcadins!S$313/AO8),CELL(\"contents\",INDIRECT(ADDRESS(43+Sorcadins!S$25,ROUNDUP(5+MIN(20,AO8),0),1,1,\"Caster Tables\")))),0)","v":0},{"$f":"IF(AP8>0,IF(Sorcadins!T$315>Sorcadins!T$319,MIN(Sorcadins!T$315,Sorcadins!T$313/AP8),CELL(\"contents\",INDIRECT(ADDRESS(43+Sorcadins!T$25,ROUNDUP(5+MIN(20,AP8),0),1,1,\"Caster Tables\")))),0)","v":0},{"$f":"IF(AQ8>0,IF(Sorcadins!U$315>Sorcadins!U$319,MIN(Sorcadins!U$315,Sorcadins!U$313/AQ8),CELL(\"contents\",INDIRECT(ADDRESS(43+Sorcadins!U$25,ROUNDUP(5+MIN(20,AQ8),0),1,1,\"Caster Tables\")))),0)","v":0},{"$f":"IF(AR8>0,IF(Sorcadins!V$315>Sorcadins!V$319,MIN(Sorcadins!V$315,Sorcadins!V$313/AR8),CELL(\"contents\",INDIRECT(ADDRESS(43+Sorcadins!V$25,ROUNDUP(5+MIN(20,AR8),0),1,1,\"Caster Tables\")))),0)","v":0},{"$f":"IF(AS8>0,IF(Sorcadins!W$315>Sorcadins!W$319,MIN(Sorcadins!W$315,Sorcadins!W$313/AS8),CELL(\"contents\",INDIRECT(ADDRESS(43+Sorcadins!W$25,ROUNDUP(5+MIN(20,AS8),0),1,1,\"Caster Tables\")))),0)","v":0},{"$f":"IF(AT8>0,IF(Sorcadins!X$315>Sorcadins!X$319,MIN(Sorcadins!X$315,Sorcadins!X$313/AT8),CELL(\"contents\",INDIRECT(ADDRESS(43+Sorcadins!X$25,ROUNDUP(5+MIN(20,AT8),0),1,1,\"Caster Tables\")))),0)","v":0},null,0,0,0,0,0,0,0,0,0,0,0,0,0,0,0,0,0,0,0,0,null,{"$f":"IF(AV8>0,MIN(AV8,MAX(0,IF(F8>=0,AV8,0)-SUM(DG$6:INDEX(DG:DG,5+$C8-1))/AA8)*BQ8),0)","v":0},{"$f":"IF(AW8>0,MIN(AW8,MAX(0,IF(G8>=0,AW8,0)-SUM(DH$6:INDEX(DH:DH,5+$C8-1))/AB8)*BR8),0)","v":0},{"$f":"IF(AX8>0,MIN(AX8,MAX(0,IF(H8>=0,AX8,0)-SUM(DI$6:INDEX(DI:DI,5+$C8-1))/AC8)*BS8),0)","v":0},{"$f":"IF(AY8>0,MIN(AY8,MAX(0,IF(I8>=0,AY8,0)-SUM(DJ$6:INDEX(DJ:DJ,5+$C8-1))/AD8)*BT8),0)","v":0},{"$f":"IF(AZ8>0,MIN(AZ8,MAX(0,IF(J8>=0,AZ8,0)-SUM(DK$6:INDEX(DK:DK,5+$C8-1))/AE8)*BU8),0)","v":0},{"$f":"IF(BA8>0,MIN(BA8,MAX(0,IF(K8>=0,BA8,0)-SUM(DL$6:INDEX(DL:DL,5+$C8-1))/AF8)*BV8),0)","v":0},{"$f":"IF(BB8>0,MIN(BB8,MAX(0,IF(L8>=0,BB8,0)-SUM(DM$6:INDEX(DM:DM,5+$C8-1))/AG8)*BW8),0)","v":0},{"$f":"IF(BC8>0,MIN(BC8,MAX(0,IF(M8>=0,BC8,0)-SUM(DN$6:INDEX(DN:DN,5+$C8-1))/AH8)*BX8),0)","v":0},{"$f":"IF(BD8>0,MIN(BD8,MAX(0,IF(N8>=0,BD8,0)-SUM(DO$6:INDEX(DO:DO,5+$C8-1))/AI8)*BY8),0)","v":0},{"$f":"IF(BE8>0,MIN(BE8,MAX(0,IF(O8>=0,BE8,0)-SUM(DP$6:INDEX(DP:DP,5+$C8-1))/AJ8)*BZ8),0)","v":0},{"$f":"IF(BF8>0,MIN(BF8,MAX(0,IF(P8>=0,BF8,0)-SUM(DQ$6:INDEX(DQ:DQ,5+$C8-1))/AK8)*CA8),0)","v":0},{"$f":"IF(BG8>0,MIN(BG8,MAX(0,IF(Q8>=0,BG8,0)-SUM(DR$6:INDEX(DR:DR,5+$C8-1))/AL8)*CB8),0)","v":0},{"$f":"IF(BH8>0,MIN(BH8,MAX(0,IF(R8>=0,BH8,0)-SUM(DS$6:INDEX(DS:DS,5+$C8-1))/AM8)*CC8),0)","v":0},{"$f":"IF(BI8>0,MIN(BI8,MAX(0,IF(S8>=0,BI8,0)-SUM(DT$6:INDEX(DT:DT,5+$C8-1))/AN8)*CD8),0)","v":0},{"$f":"IF(BJ8>0,MIN(BJ8,MAX(0,IF(T8>=0,BJ8,0)-SUM(DU$6:INDEX(DU:DU,5+$C8-1))/AO8)*CE8),0)","v":0},{"$f":"IF(BK8>0,MIN(BK8,MAX(0,IF(U8>=0,BK8,0)-SUM(DV$6:INDEX(DV:DV,5+$C8-1))/AP8)*CF8),0)","v":0},{"$f":"IF(BL8>0,MIN(BL8,MAX(0,IF(V8>=0,BL8,0)-SUM(DW$6:INDEX(DW:DW,5+$C8-1))/AQ8)*CG8),0)","v":0},{"$f":"IF(BM8>0,MIN(BM8,MAX(0,IF(W8>=0,BM8,0)-SUM(DX$6:INDEX(DX:DX,5+$C8-1))/AR8)*CH8),0)","v":0},{"$f":"IF(BN8>0,MIN(BN8,MAX(0,IF(X8>=0,BN8,0)-SUM(DY$6:INDEX(DY:DY,5+$C8-1))/AS8)*CI8),0)","v":0},{"$f":"IF(BO8>0,MIN(BO8,MAX(0,IF(Y8>=0,BO8,0)-SUM(DZ$6:INDEX(DZ:DZ,5+$C8-1))/AT8)*CJ8),0)","v":0},null,0,0,0,0,0,0,0,0,0,0,0,0,0,0,0,0,0,0,0,0,null,"Bigby's Hand"]
[null,"Animate Objects",4,"animate objects casts (c)",{"$f":"MATCH($D9,INDEX(Sorcadins!$D:$D,$D$3):'Sorcadins'!$D1749,0)-1","v":32},{"$f":"IF(CELL(\"contents\",INDIRECT(ADDRESS($D$3+$E9,4+F$4,1,1,\"Sorcadins\")))>=1,CELL(\"contents\",INDIRECT(ADDRESS($D$3+$E9,4+F$4,1,1,\"Sorcadins\"))),0)","v":0},{"$f":"IF(CELL(\"contents\",INDIRECT(ADDRESS($D$3+$E9,4+G$4,1,1,\"Sorcadins\")))>=1,CELL(\"contents\",INDIRECT(ADDRESS($D$3+$E9,4+G$4,1,1,\"Sorcadins\"))),0)","v":0},{"$f":"IF(CELL(\"contents\",INDIRECT(ADDRESS($D$3+$E9,4+H$4,1,1,\"Sorcadins\")))>=1,CELL(\"contents\",INDIRECT(ADDRESS($D$3+$E9,4+H$4,1,1,\"Sorcadins\"))),0)","v":0},{"$f":"IF(CELL(\"contents\",INDIRECT(ADDRESS($D$3+$E9,4+I$4,1,1,\"Sorcadins\")))>=1,CELL(\"contents\",INDIRECT(ADDRESS($D$3+$E9,4+I$4,1,1,\"Sorcadins\"))),0)","v":0},{"$f":"IF(CELL(\"contents\",INDIRECT(ADDRESS($D$3+$E9,4+J$4,1,1,\"Sorcadins\")))>=1,CELL(\"contents\",INDIRECT(ADDRESS($D$3+$E9,4+J$4,1,1,\"Sorcadins\"))),0)","v":0},{"$f":"IF(CELL(\"contents\",INDIRECT(ADDRESS($D$3+$E9,4+K$4,1,1,\"Sorcadins\")))>=1,CELL(\"contents\",INDIRECT(ADDRESS($D$3+$E9,4+K$4,1,1,\"Sorcadins\"))),0)","v":0},{"$f":"IF(CELL(\"contents\",INDIRECT(ADDRESS($D$3+$E9,4+L$4,1,1,\"Sorcadins\")))>=1,CELL(\"contents\",INDIRECT(ADDRESS($D$3+$E9,4+L$4,1,1,\"Sorcadins\"))),0)","v":0},{"$f":"IF(CELL(\"contents\",INDIRECT(ADDRESS($D$3+$E9,4+M$4,1,1,\"Sorcadins\")))>=1,CELL(\"contents\",INDIRECT(ADDRESS($D$3+$E9,4+M$4,1,1,\"Sorcadins\"))),0)","v":0},{"$f":"IF(CELL(\"contents\",INDIRECT(ADDRESS($D$3+$E9,4+N$4,1,1,\"Sorcadins\")))>=1,CELL(\"contents\",INDIRECT(ADDRESS($D$3+$E9,4+N$4,1,1,\"Sorcadins\"))),0)","v":0},{"$f":"IF(CELL(\"contents\",INDIRECT(ADDRESS($D$3+$E9,4+O$4,1,1,\"Sorcadins\")))>=1,CELL(\"contents\",INDIRECT(ADDRESS($D$3+$E9,4+O$4,1,1,\"Sorcadins\"))),0)","v":0},{"$f":"IF(CELL(\"contents\",INDIRECT(ADDRESS($D$3+$E9,4+P$4,1,1,\"Sorcadins\")))>=1,CELL(\"contents\",INDIRECT(ADDRESS($D$3+$E9,4+P$4,1,1,\"Sorcadins\"))),0)","v":0},{"$f":"IF(CELL(\"contents\",INDIRECT(ADDRESS($D$3+$E9,4+Q$4,1,1,\"Sorcadins\")))>=1,CELL(\"contents\",INDIRECT(ADDRESS($D$3+$E9,4+Q$4,1,1,\"Sorcadins\"))),0)","v":0},{"$f":"IF(CELL(\"contents\",INDIRECT(ADDRESS($D$3+$E9,4+R$4,1,1,\"Sorcadins\")))>=1,CELL(\"contents\",INDIRECT(ADDRESS($D$3+$E9,4+R$4,1,1,\"Sorcadins\"))),0)","v":0},{"$f":"IF(CELL(\"contents\",INDIRECT(ADDRESS($D$3+$E9,4+S$4,1,1,\"Sorcadins\")))>=1,CELL(\"contents\",INDIRECT(ADDRESS($D$3+$E9,4+S$4,1,1,\"Sorcadins\"))),0)","v":0},{"$f":"IF(CELL(\"contents\",INDIRECT(ADDRESS($D$3+$E9,4+T$4,1,1,\"Sorcadins\")))>=1,CELL(\"contents\",INDIRECT(ADDRESS($D$3+$E9,4+T$4,1,1,\"Sorcadins\"))),0)","v":0},{"$f":"IF(CELL(\"contents\",INDIRECT(ADDRESS($D$3+$E9,4+U$4,1,1,\"Sorcadins\")))>=1,CELL(\"contents\",INDIRECT(ADDRESS($D$3+$E9,4+U$4,1,1,\"Sorcadins\"))),0)","v":0},{"$f":"IF(CELL(\"contents\",INDIRECT(ADDRESS($D$3+$E9,4+V$4,1,1,\"Sorcadins\")))>=1,CELL(\"contents\",INDIRECT(ADDRESS($D$3+$E9,4+V$4,1,1,\"Sorcadins\"))),0)","v":0},{"$f":"IF(CELL(\"contents\",INDIRECT(ADDRESS($D$3+$E9,4+W$4,1,1,\"Sorcadins\")))>=1,CELL(\"contents\",INDIRECT(ADDRESS($D$3+$E9,4+W$4,1,1,\"Sorcadins\"))),0)","v":0},{"$f":"IF(CELL(\"contents\",INDIRECT(ADDRESS($D$3+$E9,4+X$4,1,1,\"Sorcadins\")))>=1,CELL(\"contents\",INDIRECT(ADDRESS($D$3+$E9,4+X$4,1,1,\"Sorcadins\"))),0)","v":0},{"$f":"IF(CELL(\"contents\",INDIRECT(ADDRESS($D$3+$E9,4+Y$4,1,1,\"Sorcadins\")))>=1,CELL(\"contents\",INDIRECT(ADDRESS($D$3+$E9,4+Y$4,1,1,\"Sorcadins\"))),0)","v":0},null,{"$f":"SUM(F$6:INDEX(F:F,5+$C9))","v":0},{"$f":"SUM(G$6:INDEX(G:G,5+$C9))","v":0},{"$f":"SUM(H$6:INDEX(H:H,5+$C9))","v":0},{"$f":"SUM(I$6:INDEX(I:I,5+$C9))","v":0},{"$f":"SUM(J$6:INDEX(J:J,5+$C9))","v":0},{"$f":"SUM(K$6:INDEX(K:K,5+$C9))","v":0},{"$f":"SUM(L$6:INDEX(L:L,5+$C9))","v":0},{"$f":"SUM(M$6:INDEX(M:M,5+$C9))","v":0},{"$f":"SUM(N$6:INDEX(N:N,5+$C9))","v":0},{"$f":"SUM(O$6:INDEX(O:O,5+$C9))","v":0},{"$f":"SUM(P$6:INDEX(P:P,5+$C9))","v":0},{"$f":"SUM(Q$6:INDEX(Q:Q,5+$C9))","v":0},{"$f":"SUM(R$6:INDEX(R:R,5+$C9))","v":0},{"$f":"SUM(S$6:INDEX(S:S,5+$C9))","v":0},{"$f":"SUM(T$6:INDEX(T:T,5+$C9))","v":0},{"$f":"SUM(U$6:INDEX(U:U,5+$C9))","v":0},{"$f":"SUM(V$6:INDEX(V:V,5+$C9))","v":0},{"$f":"SUM(W$6:INDEX(W:W,5+$C9))","v":0},{"$f":"SUM(X$6:INDEX(X:X,5+$C9))","v":0},{"$f":"SUM(Y$6:INDEX(Y:Y,5+$C9))","v":0},null,{"$f":"IF(AA9>0,IF(Sorcadins!E$315>Sorcadins!E$319,MIN(Sorcadins!E$315,Sorcadins!E$313/AA9),CELL(\"contents\",INDIRECT(ADDRESS(43+Sorcadins!E$25,ROUNDUP(5+MIN(20,AA9),0),1,1,\"Caster Tables\")))),0)","v":0},{"$f":"IF(AB9>0,IF(Sorcadins!F$315>Sorcadins!F$319,MIN(Sorcadins!F$315,Sorcadins!F$313/AB9),CELL(\"contents\",INDIRECT(ADDRESS(43+Sorcadins!F$25,ROUNDUP(5+MIN(20,AB9),0),1,1,\"Caster Tables\")))),0)","v":0},{"$f":"IF(AC9>0,IF(Sorcadins!G$315>Sorcadins!G$319,MIN(Sorcadins!G$315,Sorcadins!G$313/AC9),CELL(\"contents\",INDIRECT(ADDRESS(43+Sorcadins!G$25,ROUNDUP(5+MIN(20,AC9),0),1,1,\"Caster Tables\")))),0)","v":0},{"$f":"IF(AD9>0,IF(Sorcadins!H$315>Sorcadins!H$319,MIN(Sorcadins!H$315,Sorcadins!H$313/AD9),CELL(\"contents\",INDIRECT(ADDRESS(43+Sorcadins!H$25,ROUNDUP(5+MIN(20,AD9),0),1,1,\"Caster Tables\")))),0)","v":0},{"$f":"IF(AE9>0,IF(Sorcadins!I$315>Sorcadins!I$319,MIN(Sorcadins!I$315,Sorcadins!I$313/AE9),CELL(\"contents\",INDIRECT(ADDRESS(43+Sorcadins!I$25,ROUNDUP(5+MIN(20,AE9),0),1,1,\"Caster Tables\")))),0)","v":0},{"$f":"IF(AF9>0,IF(Sorcadins!J$315>Sorcadins!J$319,MIN(Sorcadins!J$315,Sorcadins!J$313/AF9),CELL(\"contents\",INDIRECT(ADDRESS(43+Sorcadins!J$25,ROUNDUP(5+MIN(20,AF9),0),1,1,\"Caster Tables\")))),0)","v":0},{"$f":"IF(AG9>0,IF(Sorcadins!K$315>Sorcadins!K$319,MIN(Sorcadins!K$315,Sorcadins!K$313/AG9),CELL(\"contents\",INDIRECT(ADDRESS(43+Sorcadins!K$25,ROUNDUP(5+MIN(20,AG9),0),1,1,\"Caster Tables\")))),0)","v":0},{"$f":"IF(AH9>0,IF(Sorcadins!L$315>Sorcadins!L$319,MIN(Sorcadins!L$315,Sorcadins!L$313/AH9),CELL(\"contents\",INDIRECT(ADDRESS(43+Sorcadins!L$25,ROUNDUP(5+MIN(20,AH9),0),1,1,\"Caster Tables\")))),0)","v":0},{"$f":"IF(AI9>0,IF(Sorcadins!M$315>Sorcadins!M$319,MIN(Sorcadins!M$315,Sorcadins!M$313/AI9),CELL(\"contents\",INDIRECT(ADDRESS(43+Sorcadins!M$25,ROUNDUP(5+MIN(20,AI9),0),1,1,\"Caster Tables\")))),0)","v":0},{"$f":"IF(AJ9>0,IF(Sorcadins!N$315>Sorcadins!N$319,MIN(Sorcadins!N$315,Sorcadins!N$313/AJ9),CELL(\"contents\",INDIRECT(ADDRESS(43+Sorcadins!N$25,ROUNDUP(5+MIN(20,AJ9),0),1,1,\"Caster Tables\")))),0)","v":0},{"$f":"IF(AK9>0,IF(Sorcadins!O$315>Sorcadins!O$319,MIN(Sorcadins!O$315,Sorcadins!O$313/AK9),CELL(\"contents\",INDIRECT(ADDRESS(43+Sorcadins!O$25,ROUNDUP(5+MIN(20,AK9),0),1,1,\"Caster Tables\")))),0)","v":0},{"$f":"IF(AL9>0,IF(Sorcadins!P$315>Sorcadins!P$319,MIN(Sorcadins!P$315,Sorcadins!P$313/AL9),CELL(\"contents\",INDIRECT(ADDRESS(43+Sorcadins!P$25,ROUNDUP(5+MIN(20,AL9),0),1,1,\"Caster Tables\")))),0)","v":0},{"$f":"IF(AM9>0,IF(Sorcadins!Q$315>Sorcadins!Q$319,MIN(Sorcadins!Q$315,Sorcadins!Q$313/AM9),CELL(\"contents\",INDIRECT(ADDRESS(43+Sorcadins!Q$25,ROUNDUP(5+MIN(20,AM9),0),1,1,\"Caster Tables\")))),0)","v":0},{"$f":"IF(AN9>0,IF(Sorcadins!R$315>Sorcadins!R$319,MIN(Sorcadins!R$315,Sorcadins!R$313/AN9),CELL(\"contents\",INDIRECT(ADDRESS(43+Sorcadins!R$25,ROUNDUP(5+MIN(20,AN9),0),1,1,\"Caster Tables\")))),0)","v":0},{"$f":"IF(AO9>0,IF(Sorcadins!S$315>Sorcadins!S$319,MIN(Sorcadins!S$315,Sorcadins!S$313/AO9),CELL(\"contents\",INDIRECT(ADDRESS(43+Sorcadins!S$25,ROUNDUP(5+MIN(20,AO9),0),1,1,\"Caster Tables\")))),0)","v":0},{"$f":"IF(AP9>0,IF(Sorcadins!T$315>Sorcadins!T$319,MIN(Sorcadins!T$315,Sorcadins!T$313/AP9),CELL(\"contents\",INDIRECT(ADDRESS(43+Sorcadins!T$25,ROUNDUP(5+MIN(20,AP9),0),1,1,\"Caster Tables\")))),0)","v":0},{"$f":"IF(AQ9>0,IF(Sorcadins!U$315>Sorcadins!U$319,MIN(Sorcadins!U$315,Sorcadins!U$313/AQ9),CELL(\"contents\",INDIRECT(ADDRESS(43+Sorcadins!U$25,ROUNDUP(5+MIN(20,AQ9),0),1,1,\"Caster Tables\")))),0)","v":0},{"$f":"IF(AR9>0,IF(Sorcadins!V$315>Sorcadins!V$319,MIN(Sorcadins!V$315,Sorcadins!V$313/AR9),CELL(\"contents\",INDIRECT(ADDRESS(43+Sorcadins!V$25,ROUNDUP(5+MIN(20,AR9),0),1,1,\"Caster Tables\")))),0)","v":0},{"$f":"IF(AS9>0,IF(Sorcadins!W$315>Sorcadins!W$319,MIN(Sorcadins!W$315,Sorcadins!W$313/AS9),CELL(\"contents\",INDIRECT(ADDRESS(43+Sorcadins!W$25,ROUNDUP(5+MIN(20,AS9),0),1,1,\"Caster Tables\")))),0)","v":0},{"$f":"IF(AT9>0,IF(Sorcadins!X$315>Sorcadins!X$319,MIN(Sorcadins!X$315,Sorcadins!X$313/AT9),CELL(\"contents\",INDIRECT(ADDRESS(43+Sorcadins!X$25,ROUNDUP(5+MIN(20,AT9),0),1,1,\"Caster Tables\")))),0)","v":0},null,0,0,0,0,0,0,0,0,0,0,0,0,0,0,0,0,0,0,0,0,null,{"$f":"IF(AV9>0,MIN(AV9,MAX(0,IF(F9>=0,AV9,0)-SUM(DG$6:INDEX(DG:DG,5+$C9-1))/AA9)*BQ9),0)","v":0},{"$f":"IF(AW9>0,MIN(AW9,MAX(0,IF(G9>=0,AW9,0)-SUM(DH$6:INDEX(DH:DH,5+$C9-1))/AB9)*BR9),0)","v":0},{"$f":"IF(AX9>0,MIN(AX9,MAX(0,IF(H9>=0,AX9,0)-SUM(DI$6:INDEX(DI:DI,5+$C9-1))/AC9)*BS9),0)","v":0},{"$f":"IF(AY9>0,MIN(AY9,MAX(0,IF(I9>=0,AY9,0)-SUM(DJ$6:INDEX(DJ:DJ,5+$C9-1))/AD9)*BT9),0)","v":0},{"$f":"IF(AZ9>0,MIN(AZ9,MAX(0,IF(J9>=0,AZ9,0)-SUM(DK$6:INDEX(DK:DK,5+$C9-1))/AE9)*BU9),0)","v":0},{"$f":"IF(BA9>0,MIN(BA9,MAX(0,IF(K9>=0,BA9,0)-SUM(DL$6:INDEX(DL:DL,5+$C9-1))/AF9)*BV9),0)","v":0},{"$f":"IF(BB9>0,MIN(BB9,MAX(0,IF(L9>=0,BB9,0)-SUM(DM$6:INDEX(DM:DM,5+$C9-1))/AG9)*BW9),0)","v":0},{"$f":"IF(BC9>0,MIN(BC9,MAX(0,IF(M9>=0,BC9,0)-SUM(DN$6:INDEX(DN:DN,5+$C9-1))/AH9)*BX9),0)","v":0},{"$f":"IF(BD9>0,MIN(BD9,MAX(0,IF(N9>=0,BD9,0)-SUM(DO$6:INDEX(DO:DO,5+$C9-1))/AI9)*BY9),0)","v":0},{"$f":"IF(BE9>0,MIN(BE9,MAX(0,IF(O9>=0,BE9,0)-SUM(DP$6:INDEX(DP:DP,5+$C9-1))/AJ9)*BZ9),0)","v":0},{"$f":"IF(BF9>0,MIN(BF9,MAX(0,IF(P9>=0,BF9,0)-SUM(DQ$6:INDEX(DQ:DQ,5+$C9-1))/AK9)*CA9),0)","v":0},{"$f":"IF(BG9>0,MIN(BG9,MAX(0,IF(Q9>=0,BG9,0)-SUM(DR$6:INDEX(DR:DR,5+$C9-1))/AL9)*CB9),0)","v":0},{"$f":"IF(BH9>0,MIN(BH9,MAX(0,IF(R9>=0,BH9,0)-SUM(DS$6:INDEX(DS:DS,5+$C9-1))/AM9)*CC9),0)","v":0},{"$f":"IF(BI9>0,MIN(BI9,MAX(0,IF(S9>=0,BI9,0)-SUM(DT$6:INDEX(DT:DT,5+$C9-1))/AN9)*CD9),0)","v":0},{"$f":"IF(BJ9>0,MIN(BJ9,MAX(0,IF(T9>=0,BJ9,0)-SUM(DU$6:INDEX(DU:DU,5+$C9-1))/AO9)*CE9),0)","v":0},{"$f":"IF(BK9>0,MIN(BK9,MAX(0,IF(U9>=0,BK9,0)-SUM(DV$6:INDEX(DV:DV,5+$C9-1))/AP9)*CF9),0)","v":0},{"$f":"IF(BL9>0,MIN(BL9,MAX(0,IF(V9>=0,BL9,0)-SUM(DW$6:INDEX(DW:DW,5+$C9-1))/AQ9)*CG9),0)","v":0},{"$f":"IF(BM9>0,MIN(BM9,MAX(0,IF(W9>=0,BM9,0)-SUM(DX$6:INDEX(DX:DX,5+$C9-1))/AR9)*CH9),0)","v":0},{"$f":"IF(BN9>0,MIN(BN9,MAX(0,IF(X9>=0,BN9,0)-SUM(DY$6:INDEX(DY:DY,5+$C9-1))/AS9)*CI9),0)","v":0},{"$f":"IF(BO9>0,MIN(BO9,MAX(0,IF(Y9>=0,BO9,0)-SUM(DZ$6:INDEX(DZ:DZ,5+$C9-1))/AT9)*CJ9),0)","v":0},null,0,0,0,0,0,0,0,0,0,0,0,0,0,0,0,0,0,0,0,0,null,"Animate Objects"]
[null,"Fireball",5,"fireball casts : AE",{"$f":"MATCH($D10,INDEX(Sorcadins!$D:$D,$D$3):'Sorcadins'!$D1750,0)-1","v":35},{"$f":"IF(CELL(\"contents\",INDIRECT(ADDRESS($D$3+$E10,4+F$4,1,1,\"Sorcadins\")))>=1,CELL(\"contents\",INDIRECT(ADDRESS($D$3+$E10,4+F$4,1,1,\"Sorcadins\"))),0)","v":0},{"$f":"IF(CELL(\"contents\",INDIRECT(ADDRESS($D$3+$E10,4+G$4,1,1,\"Sorcadins\")))>=1,CELL(\"contents\",INDIRECT(ADDRESS($D$3+$E10,4+G$4,1,1,\"Sorcadins\"))),0)","v":0},{"$f":"IF(CELL(\"contents\",INDIRECT(ADDRESS($D$3+$E10,4+H$4,1,1,\"Sorcadins\")))>=1,CELL(\"contents\",INDIRECT(ADDRESS($D$3+$E10,4+H$4,1,1,\"Sorcadins\"))),0)","v":0},{"$f":"IF(CELL(\"contents\",INDIRECT(ADDRESS($D$3+$E10,4+I$4,1,1,\"Sorcadins\")))>=1,CELL(\"contents\",INDIRECT(ADDRESS($D$3+$E10,4+I$4,1,1,\"Sorcadins\"))),0)","v":0},{"$f":"IF(CELL(\"contents\",INDIRECT(ADDRESS($D$3+$E10,4+J$4,1,1,\"Sorcadins\")))>=1,CELL(\"contents\",INDIRECT(ADDRESS($D$3+$E10,4+J$4,1,1,\"Sorcadins\"))),0)","v":0},{"$f":"IF(CELL(\"contents\",INDIRECT(ADDRESS($D$3+$E10,4+K$4,1,1,\"Sorcadins\")))>=1,CELL(\"contents\",INDIRECT(ADDRESS($D$3+$E10,4+K$4,1,1,\"Sorcadins\"))),0)","v":0},{"$f":"IF(CELL(\"contents\",INDIRECT(ADDRESS($D$3+$E10,4+L$4,1,1,\"Sorcadins\")))>=1,CELL(\"contents\",INDIRECT(ADDRESS($D$3+$E10,4+L$4,1,1,\"Sorcadins\"))),0)","v":0},{"$f":"IF(CELL(\"contents\",INDIRECT(ADDRESS($D$3+$E10,4+M$4,1,1,\"Sorcadins\")))>=1,CELL(\"contents\",INDIRECT(ADDRESS($D$3+$E10,4+M$4,1,1,\"Sorcadins\"))),0)","v":0},{"$f":"IF(CELL(\"contents\",INDIRECT(ADDRESS($D$3+$E10,4+N$4,1,1,\"Sorcadins\")))>=1,CELL(\"contents\",INDIRECT(ADDRESS($D$3+$E10,4+N$4,1,1,\"Sorcadins\"))),0)","v":0},{"$f":"IF(CELL(\"contents\",INDIRECT(ADDRESS($D$3+$E10,4+O$4,1,1,\"Sorcadins\")))>=1,CELL(\"contents\",INDIRECT(ADDRESS($D$3+$E10,4+O$4,1,1,\"Sorcadins\"))),0)","v":0},{"$f":"IF(CELL(\"contents\",INDIRECT(ADDRESS($D$3+$E10,4+P$4,1,1,\"Sorcadins\")))>=1,CELL(\"contents\",INDIRECT(ADDRESS($D$3+$E10,4+P$4,1,1,\"Sorcadins\"))),0)","v":0},{"$f":"IF(CELL(\"contents\",INDIRECT(ADDRESS($D$3+$E10,4+Q$4,1,1,\"Sorcadins\")))>=1,CELL(\"contents\",INDIRECT(ADDRESS($D$3+$E10,4+Q$4,1,1,\"Sorcadins\"))),0)","v":0},{"$f":"IF(CELL(\"contents\",INDIRECT(ADDRESS($D$3+$E10,4+R$4,1,1,\"Sorcadins\")))>=1,CELL(\"contents\",INDIRECT(ADDRESS($D$3+$E10,4+R$4,1,1,\"Sorcadins\"))),0)","v":0},{"$f":"IF(CELL(\"contents\",INDIRECT(ADDRESS($D$3+$E10,4+S$4,1,1,\"Sorcadins\")))>=1,CELL(\"contents\",INDIRECT(ADDRESS($D$3+$E10,4+S$4,1,1,\"Sorcadins\"))),0)","v":0},{"$f":"IF(CELL(\"contents\",INDIRECT(ADDRESS($D$3+$E10,4+T$4,1,1,\"Sorcadins\")))>=1,CELL(\"contents\",INDIRECT(ADDRESS($D$3+$E10,4+T$4,1,1,\"Sorcadins\"))),0)","v":0},{"$f":"IF(CELL(\"contents\",INDIRECT(ADDRESS($D$3+$E10,4+U$4,1,1,\"Sorcadins\")))>=1,CELL(\"contents\",INDIRECT(ADDRESS($D$3+$E10,4+U$4,1,1,\"Sorcadins\"))),0)","v":0},{"$f":"IF(CELL(\"contents\",INDIRECT(ADDRESS($D$3+$E10,4+V$4,1,1,\"Sorcadins\")))>=1,CELL(\"contents\",INDIRECT(ADDRESS($D$3+$E10,4+V$4,1,1,\"Sorcadins\"))),0)","v":0},{"$f":"IF(CELL(\"contents\",INDIRECT(ADDRESS($D$3+$E10,4+W$4,1,1,\"Sorcadins\")))>=1,CELL(\"contents\",INDIRECT(ADDRESS($D$3+$E10,4+W$4,1,1,\"Sorcadins\"))),0)","v":0},{"$f":"IF(CELL(\"contents\",INDIRECT(ADDRESS($D$3+$E10,4+X$4,1,1,\"Sorcadins\")))>=1,CELL(\"contents\",INDIRECT(ADDRESS($D$3+$E10,4+X$4,1,1,\"Sorcadins\"))),0)","v":0},{"$f":"IF(CELL(\"contents\",INDIRECT(ADDRESS($D$3+$E10,4+Y$4,1,1,\"Sorcadins\")))>=1,CELL(\"contents\",INDIRECT(ADDRESS($D$3+$E10,4+Y$4,1,1,\"Sorcadins\"))),0)","v":0},null,{"$f":"SUM(F$6:INDEX(F:F,5+$C10))","v":0},{"$f":"SUM(G$6:INDEX(G:G,5+$C10))","v":0},{"$f":"SUM(H$6:INDEX(H:H,5+$C10))","v":0},{"$f":"SUM(I$6:INDEX(I:I,5+$C10))","v":0},{"$f":"SUM(J$6:INDEX(J:J,5+$C10))","v":0},{"$f":"SUM(K$6:INDEX(K:K,5+$C10))","v":0},{"$f":"SUM(L$6:INDEX(L:L,5+$C10))","v":0},{"$f":"SUM(M$6:INDEX(M:M,5+$C10))","v":0},{"$f":"SUM(N$6:INDEX(N:N,5+$C10))","v":0},{"$f":"SUM(O$6:INDEX(O:O,5+$C10))","v":0},{"$f":"SUM(P$6:INDEX(P:P,5+$C10))","v":0},{"$f":"SUM(Q$6:INDEX(Q:Q,5+$C10))","v":0},{"$f":"SUM(R$6:INDEX(R:R,5+$C10))","v":0},{"$f":"SUM(S$6:INDEX(S:S,5+$C10))","v":0},{"$f":"SUM(T$6:INDEX(T:T,5+$C10))","v":0},{"$f":"SUM(U$6:INDEX(U:U,5+$C10))","v":0},{"$f":"SUM(V$6:INDEX(V:V,5+$C10))","v":0},{"$f":"SUM(W$6:INDEX(W:W,5+$C10))","v":0},{"$f":"SUM(X$6:INDEX(X:X,5+$C10))","v":0},{"$f":"SUM(Y$6:INDEX(Y:Y,5+$C10))","v":0},null,{"$f":"IF(AA10>0,IF(Sorcadins!E$315>Sorcadins!E$319,MIN(Sorcadins!E$315,Sorcadins!E$313/AA10),CELL(\"contents\",INDIRECT(ADDRESS(43+Sorcadins!E$25,ROUNDUP(5+MIN(20,AA10),0),1,1,\"Caster Tables\")))),0)","v":0},{"$f":"IF(AB10>0,IF(Sorcadins!F$315>Sorcadins!F$319,MIN(Sorcadins!F$315,Sorcadins!F$313/AB10),CELL(\"contents\",INDIRECT(ADDRESS(43+Sorcadins!F$25,ROUNDUP(5+MIN(20,AB10),0),1,1,\"Caster Tables\")))),0)","v":0},{"$f":"IF(AC10>0,IF(Sorcadins!G$315>Sorcadins!G$319,MIN(Sorcadins!G$315,Sorcadins!G$313/AC10),CELL(\"contents\",INDIRECT(ADDRESS(43+Sorcadins!G$25,ROUNDUP(5+MIN(20,AC10),0),1,1,\"Caster Tables\")))),0)","v":0},{"$f":"IF(AD10>0,IF(Sorcadins!H$315>Sorcadins!H$319,MIN(Sorcadins!H$315,Sorcadins!H$313/AD10),CELL(\"contents\",INDIRECT(ADDRESS(43+Sorcadins!H$25,ROUNDUP(5+MIN(20,AD10),0),1,1,\"Caster Tables\")))),0)","v":0},{"$f":"IF(AE10>0,IF(Sorcadins!I$315>Sorcadins!I$319,MIN(Sorcadins!I$315,Sorcadins!I$313/AE10),CELL(\"contents\",INDIRECT(ADDRESS(43+Sorcadins!I$25,ROUNDUP(5+MIN(20,AE10),0),1,1,\"Caster Tables\")))),0)","v":0},{"$f":"IF(AF10>0,IF(Sorcadins!J$315>Sorcadins!J$319,MIN(Sorcadins!J$315,Sorcadins!J$313/AF10),CELL(\"contents\",INDIRECT(ADDRESS(43+Sorcadins!J$25,ROUNDUP(5+MIN(20,AF10),0),1,1,\"Caster Tables\")))),0)","v":0},{"$f":"IF(AG10>0,IF(Sorcadins!K$315>Sorcadins!K$319,MIN(Sorcadins!K$315,Sorcadins!K$313/AG10),CELL(\"contents\",INDIRECT(ADDRESS(43+Sorcadins!K$25,ROUNDUP(5+MIN(20,AG10),0),1,1,\"Caster Tables\")))),0)","v":0},{"$f":"IF(AH10>0,IF(Sorcadins!L$315>Sorcadins!L$319,MIN(Sorcadins!L$315,Sorcadins!L$313/AH10),CELL(\"contents\",INDIRECT(ADDRESS(43+Sorcadins!L$25,ROUNDUP(5+MIN(20,AH10),0),1,1,\"Caster Tables\")))),0)","v":0},{"$f":"IF(AI10>0,IF(Sorcadins!M$315>Sorcadins!M$319,MIN(Sorcadins!M$315,Sorcadins!M$313/AI10),CELL(\"contents\",INDIRECT(ADDRESS(43+Sorcadins!M$25,ROUNDUP(5+MIN(20,AI10),0),1,1,\"Caster Tables\")))),0)","v":0},{"$f":"IF(AJ10>0,IF(Sorcadins!N$315>Sorcadins!N$319,MIN(Sorcadins!N$315,Sorcadins!N$313/AJ10),CELL(\"contents\",INDIRECT(ADDRESS(43+Sorcadins!N$25,ROUNDUP(5+MIN(20,AJ10),0),1,1,\"Caster Tables\")))),0)","v":0},{"$f":"IF(AK10>0,IF(Sorcadins!O$315>Sorcadins!O$319,MIN(Sorcadins!O$315,Sorcadins!O$313/AK10),CELL(\"contents\",INDIRECT(ADDRESS(43+Sorcadins!O$25,ROUNDUP(5+MIN(20,AK10),0),1,1,\"Caster Tables\")))),0)","v":0},{"$f":"IF(AL10>0,IF(Sorcadins!P$315>Sorcadins!P$319,MIN(Sorcadins!P$315,Sorcadins!P$313/AL10),CELL(\"contents\",INDIRECT(ADDRESS(43+Sorcadins!P$25,ROUNDUP(5+MIN(20,AL10),0),1,1,\"Caster Tables\")))),0)","v":0},{"$f":"IF(AM10>0,IF(Sorcadins!Q$315>Sorcadins!Q$319,MIN(Sorcadins!Q$315,Sorcadins!Q$313/AM10),CELL(\"contents\",INDIRECT(ADDRESS(43+Sorcadins!Q$25,ROUNDUP(5+MIN(20,AM10),0),1,1,\"Caster Tables\")))),0)","v":0},{"$f":"IF(AN10>0,IF(Sorcadins!R$315>Sorcadins!R$319,MIN(Sorcadins!R$315,Sorcadins!R$313/AN10),CELL(\"contents\",INDIRECT(ADDRESS(43+Sorcadins!R$25,ROUNDUP(5+MIN(20,AN10),0),1,1,\"Caster Tables\")))),0)","v":0},{"$f":"IF(AO10>0,IF(Sorcadins!S$315>Sorcadins!S$319,MIN(Sorcadins!S$315,Sorcadins!S$313/AO10),CELL(\"contents\",INDIRECT(ADDRESS(43+Sorcadins!S$25,ROUNDUP(5+MIN(20,AO10),0),1,1,\"Caster Tables\")))),0)","v":0},{"$f":"IF(AP10>0,IF(Sorcadins!T$315>Sorcadins!T$319,MIN(Sorcadins!T$315,Sorcadins!T$313/AP10),CELL(\"contents\",INDIRECT(ADDRESS(43+Sorcadins!T$25,ROUNDUP(5+MIN(20,AP10),0),1,1,\"Caster Tables\")))),0)","v":0},{"$f":"IF(AQ10>0,IF(Sorcadins!U$315>Sorcadins!U$319,MIN(Sorcadins!U$315,Sorcadins!U$313/AQ10),CELL(\"contents\",INDIRECT(ADDRESS(43+Sorcadins!U$25,ROUNDUP(5+MIN(20,AQ10),0),1,1,\"Caster Tables\")))),0)","v":0},{"$f":"IF(AR10>0,IF(Sorcadins!V$315>Sorcadins!V$319,MIN(Sorcadins!V$315,Sorcadins!V$313/AR10),CELL(\"contents\",INDIRECT(ADDRESS(43+Sorcadins!V$25,ROUNDUP(5+MIN(20,AR10),0),1,1,\"Caster Tables\")))),0)","v":0},{"$f":"IF(AS10>0,IF(Sorcadins!W$315>Sorcadins!W$319,MIN(Sorcadins!W$315,Sorcadins!W$313/AS10),CELL(\"contents\",INDIRECT(ADDRESS(43+Sorcadins!W$25,ROUNDUP(5+MIN(20,AS10),0),1,1,\"Caster Tables\")))),0)","v":0},{"$f":"IF(AT10>0,IF(Sorcadins!X$315>Sorcadins!X$319,MIN(Sorcadins!X$315,Sorcadins!X$313/AT10),CELL(\"contents\",INDIRECT(ADDRESS(43+Sorcadins!X$25,ROUNDUP(5+MIN(20,AT10),0),1,1,\"Caster Tables\")))),0)","v":0},null,0,0,0,0,0,0,0,0,0,0,0,0,0,0,0,0,0,0,0,0,null,{"$f":"IF(AV10>0,MIN(AV10,MAX(0,IF(F10>=0,AV10,0)-SUM(DG$6:INDEX(DG:DG,5+$C10-1))/AA10)*BQ10),0)","v":0},{"$f":"IF(AW10>0,MIN(AW10,MAX(0,IF(G10>=0,AW10,0)-SUM(DH$6:INDEX(DH:DH,5+$C10-1))/AB10)*BR10),0)","v":0},{"$f":"IF(AX10>0,MIN(AX10,MAX(0,IF(H10>=0,AX10,0)-SUM(DI$6:INDEX(DI:DI,5+$C10-1))/AC10)*BS10),0)","v":0},{"$f":"IF(AY10>0,MIN(AY10,MAX(0,IF(I10>=0,AY10,0)-SUM(DJ$6:INDEX(DJ:DJ,5+$C10-1))/AD10)*BT10),0)","v":0},{"$f":"IF(AZ10>0,MIN(AZ10,MAX(0,IF(J10>=0,AZ10,0)-SUM(DK$6:INDEX(DK:DK,5+$C10-1))/AE10)*BU10),0)","v":0},{"$f":"IF(BA10>0,MIN(BA10,MAX(0,IF(K10>=0,BA10,0)-SUM(DL$6:INDEX(DL:DL,5+$C10-1))/AF10)*BV10),0)","v":0},{"$f":"IF(BB10>0,MIN(BB10,MAX(0,IF(L10>=0,BB10,0)-SUM(DM$6:INDEX(DM:DM,5+$C10-1))/AG10)*BW10),0)","v":0},{"$f":"IF(BC10>0,MIN(BC10,MAX(0,IF(M10>=0,BC10,0)-SUM(DN$6:INDEX(DN:DN,5+$C10-1))/AH10)*BX10),0)","v":0},{"$f":"IF(BD10>0,MIN(BD10,MAX(0,IF(N10>=0,BD10,0)-SUM(DO$6:INDEX(DO:DO,5+$C10-1))/AI10)*BY10),0)","v":0},{"$f":"IF(BE10>0,MIN(BE10,MAX(0,IF(O10>=0,BE10,0)-SUM(DP$6:INDEX(DP:DP,5+$C10-1))/AJ10)*BZ10),0)","v":0},{"$f":"IF(BF10>0,MIN(BF10,MAX(0,IF(P10>=0,BF10,0)-SUM(DQ$6:INDEX(DQ:DQ,5+$C10-1))/AK10)*CA10),0)","v":0},{"$f":"IF(BG10>0,MIN(BG10,MAX(0,IF(Q10>=0,BG10,0)-SUM(DR$6:INDEX(DR:DR,5+$C10-1))/AL10)*CB10),0)","v":0},{"$f":"IF(BH10>0,MIN(BH10,MAX(0,IF(R10>=0,BH10,0)-SUM(DS$6:INDEX(DS:DS,5+$C10-1))/AM10)*CC10),0)","v":0},{"$f":"IF(BI10>0,MIN(BI10,MAX(0,IF(S10>=0,BI10,0)-SUM(DT$6:INDEX(DT:DT,5+$C10-1))/AN10)*CD10),0)","v":0},{"$f":"IF(BJ10>0,MIN(BJ10,MAX(0,IF(T10>=0,BJ10,0)-SUM(DU$6:INDEX(DU:DU,5+$C10-1))/AO10)*CE10),0)","v":0},{"$f":"IF(BK10>0,MIN(BK10,MAX(0,IF(U10>=0,BK10,0)-SUM(DV$6:INDEX(DV:DV,5+$C10-1))/AP10)*CF10),0)","v":0},{"$f":"IF(BL10>0,MIN(BL10,MAX(0,IF(V10>=0,BL10,0)-SUM(DW$6:INDEX(DW:DW,5+$C10-1))/AQ10)*CG10),0)","v":0},{"$f":"IF(BM10>0,MIN(BM10,MAX(0,IF(W10>=0,BM10,0)-SUM(DX$6:INDEX(DX:DX,5+$C10-1))/AR10)*CH10),0)","v":0},{"$f":"IF(BN10>0,MIN(BN10,MAX(0,IF(X10>=0,BN10,0)-SUM(DY$6:INDEX(DY:DY,5+$C10-1))/AS10)*CI10),0)","v":0},{"$f":"IF(BO10>0,MIN(BO10,MAX(0,IF(Y10>=0,BO10,0)-SUM(DZ$6:INDEX(DZ:DZ,5+$C10-1))/AT10)*CJ10),0)","v":0},null,0,0,0,0,0,0,0,0,0,0,0,0,0,0,0,0,0,0,0,0,null,"Fireball"]
[null,"Spiritual Weapon",6,"spirtual weapon casts (free cast) req Conq or Divine S",{"$f":"MATCH($D11,INDEX(Sorcadins!$D:$D,$D$3):'Sorcadins'!$D1751,0)-1","v":33},{"$f":"IF(CELL(\"contents\",INDIRECT(ADDRESS($D$3+$E11,4+F$4,1,1,\"Sorcadins\")))>=1,CELL(\"contents\",INDIRECT(ADDRESS($D$3+$E11,4+F$4,1,1,\"Sorcadins\"))),0)","v":0},{"$f":"IF(CELL(\"contents\",INDIRECT(ADDRESS($D$3+$E11,4+G$4,1,1,\"Sorcadins\")))>=1,CELL(\"contents\",INDIRECT(ADDRESS($D$3+$E11,4+G$4,1,1,\"Sorcadins\"))),0)","v":0},{"$f":"IF(CELL(\"contents\",INDIRECT(ADDRESS($D$3+$E11,4+H$4,1,1,\"Sorcadins\")))>=1,CELL(\"contents\",INDIRECT(ADDRESS($D$3+$E11,4+H$4,1,1,\"Sorcadins\"))),0)","v":0},{"$f":"IF(CELL(\"contents\",INDIRECT(ADDRESS($D$3+$E11,4+I$4,1,1,\"Sorcadins\")))>=1,CELL(\"contents\",INDIRECT(ADDRESS($D$3+$E11,4+I$4,1,1,\"Sorcadins\"))),0)","v":0},{"$f":"IF(CELL(\"contents\",INDIRECT(ADDRESS($D$3+$E11,4+J$4,1,1,\"Sorcadins\")))>=1,CELL(\"contents\",INDIRECT(ADDRESS($D$3+$E11,4+J$4,1,1,\"Sorcadins\"))),0)","v":0},{"$f":"IF(CELL(\"contents\",INDIRECT(ADDRESS($D$3+$E11,4+K$4,1,1,\"Sorcadins\")))>=1,CELL(\"contents\",INDIRECT(ADDRESS($D$3+$E11,4+K$4,1,1,\"Sorcadins\"))),0)","v":0},{"$f":"IF(CELL(\"contents\",INDIRECT(ADDRESS($D$3+$E11,4+L$4,1,1,\"Sorcadins\")))>=1,CELL(\"contents\",INDIRECT(ADDRESS($D$3+$E11,4+L$4,1,1,\"Sorcadins\"))),0)","v":0},{"$f":"IF(CELL(\"contents\",INDIRECT(ADDRESS($D$3+$E11,4+M$4,1,1,\"Sorcadins\")))>=1,CELL(\"contents\",INDIRECT(ADDRESS($D$3+$E11,4+M$4,1,1,\"Sorcadins\"))),0)","v":0},{"$f":"IF(CELL(\"contents\",INDIRECT(ADDRESS($D$3+$E11,4+N$4,1,1,\"Sorcadins\")))>=1,CELL(\"contents\",INDIRECT(ADDRESS($D$3+$E11,4+N$4,1,1,\"Sorcadins\"))),0)","v":0},{"$f":"IF(CELL(\"contents\",INDIRECT(ADDRESS($D$3+$E11,4+O$4,1,1,\"Sorcadins\")))>=1,CELL(\"contents\",INDIRECT(ADDRESS($D$3+$E11,4+O$4,1,1,\"Sorcadins\"))),0)","v":0},{"$f":"IF(CELL(\"contents\",INDIRECT(ADDRESS($D$3+$E11,4+P$4,1,1,\"Sorcadins\")))>=1,CELL(\"contents\",INDIRECT(ADDRESS($D$3+$E11,4+P$4,1,1,\"Sorcadins\"))),0)","v":0},{"$f":"IF(CELL(\"contents\",INDIRECT(ADDRESS($D$3+$E11,4+Q$4,1,1,\"Sorcadins\")))>=1,CELL(\"contents\",INDIRECT(ADDRESS($D$3+$E11,4+Q$4,1,1,\"Sorcadins\"))),0)","v":0},{"$f":"IF(CELL(\"contents\",INDIRECT(ADDRESS($D$3+$E11,4+R$4,1,1,\"Sorcadins\")))>=1,CELL(\"contents\",INDIRECT(ADDRESS($D$3+$E11,4+R$4,1,1,\"Sorcadins\"))),0)","v":0},{"$f":"IF(CELL(\"contents\",INDIRECT(ADDRESS($D$3+$E11,4+S$4,1,1,\"Sorcadins\")))>=1,CELL(\"contents\",INDIRECT(ADDRESS($D$3+$E11,4+S$4,1,1,\"Sorcadins\"))),0)","v":0},{"$f":"IF(CELL(\"contents\",INDIRECT(ADDRESS($D$3+$E11,4+T$4,1,1,\"Sorcadins\")))>=1,CELL(\"contents\",INDIRECT(ADDRESS($D$3+$E11,4+T$4,1,1,\"Sorcadins\"))),0)","v":0},{"$f":"IF(CELL(\"contents\",INDIRECT(ADDRESS($D$3+$E11,4+U$4,1,1,\"Sorcadins\")))>=1,CELL(\"contents\",INDIRECT(ADDRESS($D$3+$E11,4+U$4,1,1,\"Sorcadins\"))),0)","v":0},{"$f":"IF(CELL(\"contents\",INDIRECT(ADDRESS($D$3+$E11,4+V$4,1,1,\"Sorcadins\")))>=1,CELL(\"contents\",INDIRECT(ADDRESS($D$3+$E11,4+V$4,1,1,\"Sorcadins\"))),0)","v":0},{"$f":"IF(CELL(\"contents\",INDIRECT(ADDRESS($D$3+$E11,4+W$4,1,1,\"Sorcadins\")))>=1,CELL(\"contents\",INDIRECT(ADDRESS($D$3+$E11,4+W$4,1,1,\"Sorcadins\"))),0)","v":0},{"$f":"IF(CELL(\"contents\",INDIRECT(ADDRESS($D$3+$E11,4+X$4,1,1,\"Sorcadins\")))>=1,CELL(\"contents\",INDIRECT(ADDRESS($D$3+$E11,4+X$4,1,1,\"Sorcadins\"))),0)","v":0},{"$f":"IF(CELL(\"contents\",INDIRECT(ADDRESS($D$3+$E11,4+Y$4,1,1,\"Sorcadins\")))>=1,CELL(\"contents\",INDIRECT(ADDRESS($D$3+$E11,4+Y$4,1,1,\"Sorcadins\"))),0)","v":0},null,{"$f":"SUM(F$6:INDEX(F:F,5+$C11))","v":0},{"$f":"SUM(G$6:INDEX(G:G,5+$C11))","v":0},{"$f":"SUM(H$6:INDEX(H:H,5+$C11))","v":0},{"$f":"SUM(I$6:INDEX(I:I,5+$C11))","v":0},{"$f":"SUM(J$6:INDEX(J:J,5+$C11))","v":0},{"$f":"SUM(K$6:INDEX(K:K,5+$C11))","v":0},{"$f":"SUM(L$6:INDEX(L:L,5+$C11))","v":0},{"$f":"SUM(M$6:INDEX(M:M,5+$C11))","v":0},{"$f":"SUM(N$6:INDEX(N:N,5+$C11))","v":0},{"$f":"SUM(O$6:INDEX(O:O,5+$C11))","v":0},{"$f":"SUM(P$6:INDEX(P:P,5+$C11))","v":0},{"$f":"SUM(Q$6:INDEX(Q:Q,5+$C11))","v":0},{"$f":"SUM(R$6:INDEX(R:R,5+$C11))","v":0},{"$f":"SUM(S$6:INDEX(S:S,5+$C11))","v":0},{"$f":"SUM(T$6:INDEX(T:T,5+$C11))","v":0},{"$f":"SUM(U$6:INDEX(U:U,5+$C11))","v":0},{"$f":"SUM(V$6:INDEX(V:V,5+$C11))","v":0},{"$f":"SUM(W$6:INDEX(W:W,5+$C11))","v":0},{"$f":"SUM(X$6:INDEX(X:X,5+$C11))","v":0},{"$f":"SUM(Y$6:INDEX(Y:Y,5+$C11))","v":0},null,{"$f":"IF(AA11>0,IF(Sorcadins!E$315>Sorcadins!E$319,MIN(Sorcadins!E$315,Sorcadins!E$313/AA11),CELL(\"contents\",INDIRECT(ADDRESS(43+Sorcadins!E$25,ROUNDUP(5+MIN(20,AA11),0),1,1,\"Caster Tables\")))),0)","v":0},{"$f":"IF(AB11>0,IF(Sorcadins!F$315>Sorcadins!F$319,MIN(Sorcadins!F$315,Sorcadins!F$313/AB11),CELL(\"contents\",INDIRECT(ADDRESS(43+Sorcadins!F$25,ROUNDUP(5+MIN(20,AB11),0),1,1,\"Caster Tables\")))),0)","v":0},{"$f":"IF(AC11>0,IF(Sorcadins!G$315>Sorcadins!G$319,MIN(Sorcadins!G$315,Sorcadins!G$313/AC11),CELL(\"contents\",INDIRECT(ADDRESS(43+Sorcadins!G$25,ROUNDUP(5+MIN(20,AC11),0),1,1,\"Caster Tables\")))),0)","v":0},{"$f":"IF(AD11>0,IF(Sorcadins!H$315>Sorcadins!H$319,MIN(Sorcadins!H$315,Sorcadins!H$313/AD11),CELL(\"contents\",INDIRECT(ADDRESS(43+Sorcadins!H$25,ROUNDUP(5+MIN(20,AD11),0),1,1,\"Caster Tables\")))),0)","v":0},{"$f":"IF(AE11>0,IF(Sorcadins!I$315>Sorcadins!I$319,MIN(Sorcadins!I$315,Sorcadins!I$313/AE11),CELL(\"contents\",INDIRECT(ADDRESS(43+Sorcadins!I$25,ROUNDUP(5+MIN(20,AE11),0),1,1,\"Caster Tables\")))),0)","v":0},{"$f":"IF(AF11>0,IF(Sorcadins!J$315>Sorcadins!J$319,MIN(Sorcadins!J$315,Sorcadins!J$313/AF11),CELL(\"contents\",INDIRECT(ADDRESS(43+Sorcadins!J$25,ROUNDUP(5+MIN(20,AF11),0),1,1,\"Caster Tables\")))),0)","v":0},{"$f":"IF(AG11>0,IF(Sorcadins!K$315>Sorcadins!K$319,MIN(Sorcadins!K$315,Sorcadins!K$313/AG11),CELL(\"contents\",INDIRECT(ADDRESS(43+Sorcadins!K$25,ROUNDUP(5+MIN(20,AG11),0),1,1,\"Caster Tables\")))),0)","v":0},{"$f":"IF(AH11>0,IF(Sorcadins!L$315>Sorcadins!L$319,MIN(Sorcadins!L$315,Sorcadins!L$313/AH11),CELL(\"contents\",INDIRECT(ADDRESS(43+Sorcadins!L$25,ROUNDUP(5+MIN(20,AH11),0),1,1,\"Caster Tables\")))),0)","v":0},{"$f":"IF(AI11>0,IF(Sorcadins!M$315>Sorcadins!M$319,MIN(Sorcadins!M$315,Sorcadins!M$313/AI11),CELL(\"contents\",INDIRECT(ADDRESS(43+Sorcadins!M$25,ROUNDUP(5+MIN(20,AI11),0),1,1,\"Caster Tables\")))),0)","v":0},{"$f":"IF(AJ11>0,IF(Sorcadins!N$315>Sorcadins!N$319,MIN(Sorcadins!N$315,Sorcadins!N$313/AJ11),CELL(\"contents\",INDIRECT(ADDRESS(43+Sorcadins!N$25,ROUNDUP(5+MIN(20,AJ11),0),1,1,\"Caster Tables\")))),0)","v":0},{"$f":"IF(AK11>0,IF(Sorcadins!O$315>Sorcadins!O$319,MIN(Sorcadins!O$315,Sorcadins!O$313/AK11),CELL(\"contents\",INDIRECT(ADDRESS(43+Sorcadins!O$25,ROUNDUP(5+MIN(20,AK11),0),1,1,\"Caster Tables\")))),0)","v":0},{"$f":"IF(AL11>0,IF(Sorcadins!P$315>Sorcadins!P$319,MIN(Sorcadins!P$315,Sorcadins!P$313/AL11),CELL(\"contents\",INDIRECT(ADDRESS(43+Sorcadins!P$25,ROUNDUP(5+MIN(20,AL11),0),1,1,\"Caster Tables\")))),0)","v":0},{"$f":"IF(AM11>0,IF(Sorcadins!Q$315>Sorcadins!Q$319,MIN(Sorcadins!Q$315,Sorcadins!Q$313/AM11),CELL(\"contents\",INDIRECT(ADDRESS(43+Sorcadins!Q$25,ROUNDUP(5+MIN(20,AM11),0),1,1,\"Caster Tables\")))),0)","v":0},{"$f":"IF(AN11>0,IF(Sorcadins!R$315>Sorcadins!R$319,MIN(Sorcadins!R$315,Sorcadins!R$313/AN11),CELL(\"contents\",INDIRECT(ADDRESS(43+Sorcadins!R$25,ROUNDUP(5+MIN(20,AN11),0),1,1,\"Caster Tables\")))),0)","v":0},{"$f":"IF(AO11>0,IF(Sorcadins!S$315>Sorcadins!S$319,MIN(Sorcadins!S$315,Sorcadins!S$313/AO11),CELL(\"contents\",INDIRECT(ADDRESS(43+Sorcadins!S$25,ROUNDUP(5+MIN(20,AO11),0),1,1,\"Caster Tables\")))),0)","v":0},{"$f":"IF(AP11>0,IF(Sorcadins!T$315>Sorcadins!T$319,MIN(Sorcadins!T$315,Sorcadins!T$313/AP11),CELL(\"contents\",INDIRECT(ADDRESS(43+Sorcadins!T$25,ROUNDUP(5+MIN(20,AP11),0),1,1,\"Caster Tables\")))),0)","v":0},{"$f":"IF(AQ11>0,IF(Sorcadins!U$315>Sorcadins!U$319,MIN(Sorcadins!U$315,Sorcadins!U$313/AQ11),CELL(\"contents\",INDIRECT(ADDRESS(43+Sorcadins!U$25,ROUNDUP(5+MIN(20,AQ11),0),1,1,\"Caster Tables\")))),0)","v":0},{"$f":"IF(AR11>0,IF(Sorcadins!V$315>Sorcadins!V$319,MIN(Sorcadins!V$315,Sorcadins!V$313/AR11),CELL(\"contents\",INDIRECT(ADDRESS(43+Sorcadins!V$25,ROUNDUP(5+MIN(20,AR11),0),1,1,\"Caster Tables\")))),0)","v":0},{"$f":"IF(AS11>0,IF(Sorcadins!W$315>Sorcadins!W$319,MIN(Sorcadins!W$315,Sorcadins!W$313/AS11),CELL(\"contents\",INDIRECT(ADDRESS(43+Sorcadins!W$25,ROUNDUP(5+MIN(20,AS11),0),1,1,\"Caster Tables\")))),0)","v":0},{"$f":"IF(AT11>0,IF(Sorcadins!X$315>Sorcadins!X$319,MIN(Sorcadins!X$315,Sorcadins!X$313/AT11),CELL(\"contents\",INDIRECT(ADDRESS(43+Sorcadins!X$25,ROUNDUP(5+MIN(20,AT11),0),1,1,\"Caster Tables\")))),0)","v":0},null,{"$f":"IF(F11>=1,AA11/F11,0)","v":0},{"$f":"IF(G11>=1,AB11/G11,0)","v":0},0,0,0,0,0,0,0,0,0,0,0,0,0,0,0,0,0,0,null,{"$f":"IF(AV11>0,MIN(AV11,MAX(0,IF(F11>=0,AV11,0)-SUM(DG$6:INDEX(DG:DG,5+$C11-1))/AA11)*BQ11),0)","v":0},{"$f":"IF(AW11>0,MIN(AW11,MAX(0,IF(G11>=0,AW11,0)-SUM(DH$6:INDEX(DH:DH,5+$C11-1))/AB11)*BR11),0)","v":0},{"$f":"IF(AX11>0,MIN(AX11,MAX(0,IF(H11>=0,AX11,0)-SUM(DI$6:INDEX(DI:DI,5+$C11-1))/AC11)*BS11),0)","v":0},{"$f":"IF(AY11>0,MIN(AY11,MAX(0,IF(I11>=0,AY11,0)-SUM(DJ$6:INDEX(DJ:DJ,5+$C11-1))/AD11)*BT11),0)","v":0},{"$f":"IF(AZ11>0,MIN(AZ11,MAX(0,IF(J11>=0,AZ11,0)-SUM(DK$6:INDEX(DK:DK,5+$C11-1))/AE11)*BU11),0)","v":0},{"$f":"IF(BA11>0,MIN(BA11,MAX(0,IF(K11>=0,BA11,0)-SUM(DL$6:INDEX(DL:DL,5+$C11-1))/AF11)*BV11),0)","v":0},{"$f":"IF(BB11>0,MIN(BB11,MAX(0,IF(L11>=0,BB11,0)-SUM(DM$6:INDEX(DM:DM,5+$C11-1))/AG11)*BW11),0)","v":0},{"$f":"IF(BC11>0,MIN(BC11,MAX(0,IF(M11>=0,BC11,0)-SUM(DN$6:INDEX(DN:DN,5+$C11-1))/AH11)*BX11),0)","v":0},{"$f":"IF(BD11>0,MIN(BD11,MAX(0,IF(N11>=0,BD11,0)-SUM(DO$6:INDEX(DO:DO,5+$C11-1))/AI11)*BY11),0)","v":0},{"$f":"IF(BE11>0,MIN(BE11,MAX(0,IF(O11>=0,BE11,0)-SUM(DP$6:INDEX(DP:DP,5+$C11-1))/AJ11)*BZ11),0)","v":0},{"$f":"IF(BF11>0,MIN(BF11,MAX(0,IF(P11>=0,BF11,0)-SUM(DQ$6:INDEX(DQ:DQ,5+$C11-1))/AK11)*CA11),0)","v":0},{"$f":"IF(BG11>0,MIN(BG11,MAX(0,IF(Q11>=0,BG11,0)-SUM(DR$6:INDEX(DR:DR,5+$C11-1))/AL11)*CB11),0)","v":0},{"$f":"IF(BH11>0,MIN(BH11,MAX(0,IF(R11>=0,BH11,0)-SUM(DS$6:INDEX(DS:DS,5+$C11-1))/AM11)*CC11),0)","v":0},{"$f":"IF(BI11>0,MIN(BI11,MAX(0,IF(S11>=0,BI11,0)-SUM(DT$6:INDEX(DT:DT,5+$C11-1))/AN11)*CD11),0)","v":0},{"$f":"IF(BJ11>0,MIN(BJ11,MAX(0,IF(T11>=0,BJ11,0)-SUM(DU$6:INDEX(DU:DU,5+$C11-1))/AO11)*CE11),0)","v":0},{"$f":"IF(BK11>0,MIN(BK11,MAX(0,IF(U11>=0,BK11,0)-SUM(DV$6:INDEX(DV:DV,5+$C11-1))/AP11)*CF11),0)","v":0},{"$f":"IF(BL11>0,MIN(BL11,MAX(0,IF(V11>=0,BL11,0)-SUM(DW$6:INDEX(DW:DW,5+$C11-1))/AQ11)*CG11),0)","v":0},{"$f":"IF(BM11>0,MIN(BM11,MAX(0,IF(W11>=0,BM11,0)-SUM(DX$6:INDEX(DX:DX,5+$C11-1))/AR11)*CH11),0)","v":0},{"$f":"IF(BN11>0,MIN(BN11,MAX(0,IF(X11>=0,BN11,0)-SUM(DY$6:INDEX(DY:DY,5+$C11-1))/AS11)*CI11),0)","v":0},{"$f":"IF(BO11>0,MIN(BO11,MAX(0,IF(Y11>=0,BO11,0)-SUM(DZ$6:INDEX(DZ:DZ,5+$C11-1))/AT11)*CJ11),0)","v":0},null,0,0,0,0,0,0,0,0,0,0,0,0,0,0,0,0,0,0,0,0,null,"Spiritual Weapon"]
[null,"Summon Beast",7,"summon beast (c)",{"$f":"MATCH($D12,INDEX(Sorcadins!$D:$D,$D$3):'Sorcadins'!$D1752,0)-1","v":40},{"$f":"IF(CELL(\"contents\",INDIRECT(ADDRESS($D$3+$E12,4+F$4,1,1,\"Sorcadins\")))>=1,CELL(\"contents\",INDIRECT(ADDRESS($D$3+$E12,4+F$4,1,1,\"Sorcadins\"))),0)","v":0},{"$f":"IF(CELL(\"contents\",INDIRECT(ADDRESS($D$3+$E12,4+G$4,1,1,\"Sorcadins\")))>=1,CELL(\"contents\",INDIRECT(ADDRESS($D$3+$E12,4+G$4,1,1,\"Sorcadins\"))),0)","v":0},{"$f":"IF(CELL(\"contents\",INDIRECT(ADDRESS($D$3+$E12,4+H$4,1,1,\"Sorcadins\")))>=1,CELL(\"contents\",INDIRECT(ADDRESS($D$3+$E12,4+H$4,1,1,\"Sorcadins\"))),0)","v":0},{"$f":"IF(CELL(\"contents\",INDIRECT(ADDRESS($D$3+$E12,4+I$4,1,1,\"Sorcadins\")))>=1,CELL(\"contents\",INDIRECT(ADDRESS($D$3+$E12,4+I$4,1,1,\"Sorcadins\"))),0)","v":0},{"$f":"IF(CELL(\"contents\",INDIRECT(ADDRESS($D$3+$E12,4+J$4,1,1,\"Sorcadins\")))>=1,CELL(\"contents\",INDIRECT(ADDRESS($D$3+$E12,4+J$4,1,1,\"Sorcadins\"))),0)","v":0},{"$f":"IF(CELL(\"contents\",INDIRECT(ADDRESS($D$3+$E12,4+K$4,1,1,\"Sorcadins\")))>=1,CELL(\"contents\",INDIRECT(ADDRESS($D$3+$E12,4+K$4,1,1,\"Sorcadins\"))),0)","v":0},{"$f":"IF(CELL(\"contents\",INDIRECT(ADDRESS($D$3+$E12,4+L$4,1,1,\"Sorcadins\")))>=1,CELL(\"contents\",INDIRECT(ADDRESS($D$3+$E12,4+L$4,1,1,\"Sorcadins\"))),0)","v":0},{"$f":"IF(CELL(\"contents\",INDIRECT(ADDRESS($D$3+$E12,4+M$4,1,1,\"Sorcadins\")))>=1,CELL(\"contents\",INDIRECT(ADDRESS($D$3+$E12,4+M$4,1,1,\"Sorcadins\"))),0)","v":0},{"$f":"IF(CELL(\"contents\",INDIRECT(ADDRESS($D$3+$E12,4+N$4,1,1,\"Sorcadins\")))>=1,CELL(\"contents\",INDIRECT(ADDRESS($D$3+$E12,4+N$4,1,1,\"Sorcadins\"))),0)","v":0},{"$f":"IF(CELL(\"contents\",INDIRECT(ADDRESS($D$3+$E12,4+O$4,1,1,\"Sorcadins\")))>=1,CELL(\"contents\",INDIRECT(ADDRESS($D$3+$E12,4+O$4,1,1,\"Sorcadins\"))),0)","v":0},{"$f":"IF(CELL(\"contents\",INDIRECT(ADDRESS($D$3+$E12,4+P$4,1,1,\"Sorcadins\")))>=1,CELL(\"contents\",INDIRECT(ADDRESS($D$3+$E12,4+P$4,1,1,\"Sorcadins\"))),0)","v":0},{"$f":"IF(CELL(\"contents\",INDIRECT(ADDRESS($D$3+$E12,4+Q$4,1,1,\"Sorcadins\")))>=1,CELL(\"contents\",INDIRECT(ADDRESS($D$3+$E12,4+Q$4,1,1,\"Sorcadins\"))),0)","v":0},{"$f":"IF(CELL(\"contents\",INDIRECT(ADDRESS($D$3+$E12,4+R$4,1,1,\"Sorcadins\")))>=1,CELL(\"contents\",INDIRECT(ADDRESS($D$3+$E12,4+R$4,1,1,\"Sorcadins\"))),0)","v":0},{"$f":"IF(CELL(\"contents\",INDIRECT(ADDRESS($D$3+$E12,4+S$4,1,1,\"Sorcadins\")))>=1,CELL(\"contents\",INDIRECT(ADDRESS($D$3+$E12,4+S$4,1,1,\"Sorcadins\"))),0)","v":0},{"$f":"IF(CELL(\"contents\",INDIRECT(ADDRESS($D$3+$E12,4+T$4,1,1,\"Sorcadins\")))>=1,CELL(\"contents\",INDIRECT(ADDRESS($D$3+$E12,4+T$4,1,1,\"Sorcadins\"))),0)","v":0},{"$f":"IF(CELL(\"contents\",INDIRECT(ADDRESS($D$3+$E12,4+U$4,1,1,\"Sorcadins\")))>=1,CELL(\"contents\",INDIRECT(ADDRESS($D$3+$E12,4+U$4,1,1,\"Sorcadins\"))),0)","v":0},{"$f":"IF(CELL(\"contents\",INDIRECT(ADDRESS($D$3+$E12,4+V$4,1,1,\"Sorcadins\")))>=1,CELL(\"contents\",INDIRECT(ADDRESS($D$3+$E12,4+V$4,1,1,\"Sorcadins\"))),0)","v":0},{"$f":"IF(CELL(\"contents\",INDIRECT(ADDRESS($D$3+$E12,4+W$4,1,1,\"Sorcadins\")))>=1,CELL(\"contents\",INDIRECT(ADDRESS($D$3+$E12,4+W$4,1,1,\"Sorcadins\"))),0)","v":0},{"$f":"IF(CELL(\"contents\",INDIRECT(ADDRESS($D$3+$E12,4+X$4,1,1,\"Sorcadins\")))>=1,CELL(\"contents\",INDIRECT(ADDRESS($D$3+$E12,4+X$4,1,1,\"Sorcadins\"))),0)","v":0},{"$f":"IF(CELL(\"contents\",INDIRECT(ADDRESS($D$3+$E12,4+Y$4,1,1,\"Sorcadins\")))>=1,CELL(\"contents\",INDIRECT(ADDRESS($D$3+$E12,4+Y$4,1,1,\"Sorcadins\"))),0)","v":0},null,{"$f":"SUM(F$6:INDEX(F:F,5+$C12))","v":0},{"$f":"SUM(G$6:INDEX(G:G,5+$C12))","v":0},{"$f":"SUM(H$6:INDEX(H:H,5+$C12))","v":0},{"$f":"SUM(I$6:INDEX(I:I,5+$C12))","v":0},{"$f":"SUM(J$6:INDEX(J:J,5+$C12))","v":0},{"$f":"SUM(K$6:INDEX(K:K,5+$C12))","v":0},{"$f":"SUM(L$6:INDEX(L:L,5+$C12))","v":0},{"$f":"SUM(M$6:INDEX(M:M,5+$C12))","v":0},{"$f":"SUM(N$6:INDEX(N:N,5+$C12))","v":0},{"$f":"SUM(O$6:INDEX(O:O,5+$C12))","v":0},{"$f":"SUM(P$6:INDEX(P:P,5+$C12))","v":0},{"$f":"SUM(Q$6:INDEX(Q:Q,5+$C12))","v":0},{"$f":"SUM(R$6:INDEX(R:R,5+$C12))","v":0},{"$f":"SUM(S$6:INDEX(S:S,5+$C12))","v":0},{"$f":"SUM(T$6:INDEX(T:T,5+$C12))","v":0},{"$f":"SUM(U$6:INDEX(U:U,5+$C12))","v":0},{"$f":"SUM(V$6:INDEX(V:V,5+$C12))","v":0},{"$f":"SUM(W$6:INDEX(W:W,5+$C12))","v":0},{"$f":"SUM(X$6:INDEX(X:X,5+$C12))","v":0},{"$f":"SUM(Y$6:INDEX(Y:Y,5+$C12))","v":0},null,{"$f":"IF(AA12>0,IF(Sorcadins!E$315>Sorcadins!E$319,MIN(Sorcadins!E$315,Sorcadins!E$313/AA12),CELL(\"contents\",INDIRECT(ADDRESS(43+Sorcadins!E$25,ROUNDUP(5+MIN(20,AA12),0),1,1,\"Caster Tables\")))),0)","v":0},{"$f":"IF(AB12>0,IF(Sorcadins!F$315>Sorcadins!F$319,MIN(Sorcadins!F$315,Sorcadins!F$313/AB12),CELL(\"contents\",INDIRECT(ADDRESS(43+Sorcadins!F$25,ROUNDUP(5+MIN(20,AB12),0),1,1,\"Caster Tables\")))),0)","v":0},{"$f":"IF(AC12>0,IF(Sorcadins!G$315>Sorcadins!G$319,MIN(Sorcadins!G$315,Sorcadins!G$313/AC12),CELL(\"contents\",INDIRECT(ADDRESS(43+Sorcadins!G$25,ROUNDUP(5+MIN(20,AC12),0),1,1,\"Caster Tables\")))),0)","v":0},{"$f":"IF(AD12>0,IF(Sorcadins!H$315>Sorcadins!H$319,MIN(Sorcadins!H$315,Sorcadins!H$313/AD12),CELL(\"contents\",INDIRECT(ADDRESS(43+Sorcadins!H$25,ROUNDUP(5+MIN(20,AD12),0),1,1,\"Caster Tables\")))),0)","v":0},{"$f":"IF(AE12>0,IF(Sorcadins!I$315>Sorcadins!I$319,MIN(Sorcadins!I$315,Sorcadins!I$313/AE12),CELL(\"contents\",INDIRECT(ADDRESS(43+Sorcadins!I$25,ROUNDUP(5+MIN(20,AE12),0),1,1,\"Caster Tables\")))),0)","v":0},{"$f":"IF(AF12>0,IF(Sorcadins!J$315>Sorcadins!J$319,MIN(Sorcadins!J$315,Sorcadins!J$313/AF12),CELL(\"contents\",INDIRECT(ADDRESS(43+Sorcadins!J$25,ROUNDUP(5+MIN(20,AF12),0),1,1,\"Caster Tables\")))),0)","v":0},{"$f":"IF(AG12>0,IF(Sorcadins!K$315>Sorcadins!K$319,MIN(Sorcadins!K$315,Sorcadins!K$313/AG12),CELL(\"contents\",INDIRECT(ADDRESS(43+Sorcadins!K$25,ROUNDUP(5+MIN(20,AG12),0),1,1,\"Caster Tables\")))),0)","v":0},{"$f":"IF(AH12>0,IF(Sorcadins!L$315>Sorcadins!L$319,MIN(Sorcadins!L$315,Sorcadins!L$313/AH12),CELL(\"contents\",INDIRECT(ADDRESS(43+Sorcadins!L$25,ROUNDUP(5+MIN(20,AH12),0),1,1,\"Caster Tables\")))),0)","v":0},{"$f":"IF(AI12>0,IF(Sorcadins!M$315>Sorcadins!M$319,MIN(Sorcadins!M$315,Sorcadins!M$313/AI12),CELL(\"contents\",INDIRECT(ADDRESS(43+Sorcadins!M$25,ROUNDUP(5+MIN(20,AI12),0),1,1,\"Caster Tables\")))),0)","v":0},{"$f":"IF(AJ12>0,IF(Sorcadins!N$315>Sorcadins!N$319,MIN(Sorcadins!N$315,Sorcadins!N$313/AJ12),CELL(\"contents\",INDIRECT(ADDRESS(43+Sorcadins!N$25,ROUNDUP(5+MIN(20,AJ12),0),1,1,\"Caster Tables\")))),0)","v":0},{"$f":"IF(AK12>0,IF(Sorcadins!O$315>Sorcadins!O$319,MIN(Sorcadins!O$315,Sorcadins!O$313/AK12),CELL(\"contents\",INDIRECT(ADDRESS(43+Sorcadins!O$25,ROUNDUP(5+MIN(20,AK12),0),1,1,\"Caster Tables\")))),0)","v":0},{"$f":"IF(AL12>0,IF(Sorcadins!P$315>Sorcadins!P$319,MIN(Sorcadins!P$315,Sorcadins!P$313/AL12),CELL(\"contents\",INDIRECT(ADDRESS(43+Sorcadins!P$25,ROUNDUP(5+MIN(20,AL12),0),1,1,\"Caster Tables\")))),0)","v":0},{"$f":"IF(AM12>0,IF(Sorcadins!Q$315>Sorcadins!Q$319,MIN(Sorcadins!Q$315,Sorcadins!Q$313/AM12),CELL(\"contents\",INDIRECT(ADDRESS(43+Sorcadins!Q$25,ROUNDUP(5+MIN(20,AM12),0),1,1,\"Caster Tables\")))),0)","v":0},{"$f":"IF(AN12>0,IF(Sorcadins!R$315>Sorcadins!R$319,MIN(Sorcadins!R$315,Sorcadins!R$313/AN12),CELL(\"contents\",INDIRECT(ADDRESS(43+Sorcadins!R$25,ROUNDUP(5+MIN(20,AN12),0),1,1,\"Caster Tables\")))),0)","v":0},{"$f":"IF(AO12>0,IF(Sorcadins!S$315>Sorcadins!S$319,MIN(Sorcadins!S$315,Sorcadins!S$313/AO12),CELL(\"contents\",INDIRECT(ADDRESS(43+Sorcadins!S$25,ROUNDUP(5+MIN(20,AO12),0),1,1,\"Caster Tables\")))),0)","v":0},{"$f":"IF(AP12>0,IF(Sorcadins!T$315>Sorcadins!T$319,MIN(Sorcadins!T$315,Sorcadins!T$313/AP12),CELL(\"contents\",INDIRECT(ADDRESS(43+Sorcadins!T$25,ROUNDUP(5+MIN(20,AP12),0),1,1,\"Caster Tables\")))),0)","v":0},{"$f":"IF(AQ12>0,IF(Sorcadins!U$315>Sorcadins!U$319,MIN(Sorcadins!U$315,Sorcadins!U$313/AQ12),CELL(\"contents\",INDIRECT(ADDRESS(43+Sorcadins!U$25,ROUNDUP(5+MIN(20,AQ12),0),1,1,\"Caster Tables\")))),0)","v":0},{"$f":"IF(AR12>0,IF(Sorcadins!V$315>Sorcadins!V$319,MIN(Sorcadins!V$315,Sorcadins!V$313/AR12),CELL(\"contents\",INDIRECT(ADDRESS(43+Sorcadins!V$25,ROUNDUP(5+MIN(20,AR12),0),1,1,\"Caster Tables\")))),0)","v":0},{"$f":"IF(AS12>0,IF(Sorcadins!W$315>Sorcadins!W$319,MIN(Sorcadins!W$315,Sorcadins!W$313/AS12),CELL(\"contents\",INDIRECT(ADDRESS(43+Sorcadins!W$25,ROUNDUP(5+MIN(20,AS12),0),1,1,\"Caster Tables\")))),0)","v":0},{"$f":"IF(AT12>0,IF(Sorcadins!X$315>Sorcadins!X$319,MIN(Sorcadins!X$315,Sorcadins!X$313/AT12),CELL(\"contents\",INDIRECT(ADDRESS(43+Sorcadins!X$25,ROUNDUP(5+MIN(20,AT12),0),1,1,\"Caster Tables\")))),0)","v":0},null,0,0,0,0,0,0,0,0,0,0,0,0,0,0,0,0,0,0,0,0,null,{"$f":"IF(AV12>0,MIN(AV12,MAX(0,IF(F12>=0,AV12,0)-SUM(DG$6:INDEX(DG:DG,5+$C12-1))/AA12)*BQ12),0)","v":0},{"$f":"IF(AW12>0,MIN(AW12,MAX(0,IF(G12>=0,AW12,0)-SUM(DH$6:INDEX(DH:DH,5+$C12-1))/AB12)*BR12),0)","v":0},{"$f":"IF(AX12>0,MIN(AX12,MAX(0,IF(H12>=0,AX12,0)-SUM(DI$6:INDEX(DI:DI,5+$C12-1))/AC12)*BS12),0)","v":0},{"$f":"IF(AY12>0,MIN(AY12,MAX(0,IF(I12>=0,AY12,0)-SUM(DJ$6:INDEX(DJ:DJ,5+$C12-1))/AD12)*BT12),0)","v":0},{"$f":"IF(AZ12>0,MIN(AZ12,MAX(0,IF(J12>=0,AZ12,0)-SUM(DK$6:INDEX(DK:DK,5+$C12-1))/AE12)*BU12),0)","v":0},{"$f":"IF(BA12>0,MIN(BA12,MAX(0,IF(K12>=0,BA12,0)-SUM(DL$6:INDEX(DL:DL,5+$C12-1))/AF12)*BV12),0)","v":0},{"$f":"IF(BB12>0,MIN(BB12,MAX(0,IF(L12>=0,BB12,0)-SUM(DM$6:INDEX(DM:DM,5+$C12-1))/AG12)*BW12),0)","v":0},{"$f":"IF(BC12>0,MIN(BC12,MAX(0,IF(M12>=0,BC12,0)-SUM(DN$6:INDEX(DN:DN,5+$C12-1))/AH12)*BX12),0)","v":0},{"$f":"IF(BD12>0,MIN(BD12,MAX(0,IF(N12>=0,BD12,0)-SUM(DO$6:INDEX(DO:DO,5+$C12-1))/AI12)*BY12),0)","v":0},{"$f":"IF(BE12>0,MIN(BE12,MAX(0,IF(O12>=0,BE12,0)-SUM(DP$6:INDEX(DP:DP,5+$C12-1))/AJ12)*BZ12),0)","v":0},{"$f":"IF(BF12>0,MIN(BF12,MAX(0,IF(P12>=0,BF12,0)-SUM(DQ$6:INDEX(DQ:DQ,5+$C12-1))/AK12)*CA12),0)","v":0},{"$f":"IF(BG12>0,MIN(BG12,MAX(0,IF(Q12>=0,BG12,0)-SUM(DR$6:INDEX(DR:DR,5+$C12-1))/AL12)*CB12),0)","v":0},{"$f":"IF(BH12>0,MIN(BH12,MAX(0,IF(R12>=0,BH12,0)-SUM(DS$6:INDEX(DS:DS,5+$C12-1))/AM12)*CC12),0)","v":0},{"$f":"IF(BI12>0,MIN(BI12,MAX(0,IF(S12>=0,BI12,0)-SUM(DT$6:INDEX(DT:DT,5+$C12-1))/AN12)*CD12),0)","v":0},{"$f":"IF(BJ12>0,MIN(BJ12,MAX(0,IF(T12>=0,BJ12,0)-SUM(DU$6:INDEX(DU:DU,5+$C12-1))/AO12)*CE12),0)","v":0},{"$f":"IF(BK12>0,MIN(BK12,MAX(0,IF(U12>=0,BK12,0)-SUM(DV$6:INDEX(DV:DV,5+$C12-1))/AP12)*CF12),0)","v":0},{"$f":"IF(BL12>0,MIN(BL12,MAX(0,IF(V12>=0,BL12,0)-SUM(DW$6:INDEX(DW:DW,5+$C12-1))/AQ12)*CG12),0)","v":0},{"$f":"IF(BM12>0,MIN(BM12,MAX(0,IF(W12>=0,BM12,0)-SUM(DX$6:INDEX(DX:DX,5+$C12-1))/AR12)*CH12),0)","v":0},{"$f":"IF(BN12>0,MIN(BN12,MAX(0,IF(X12>=0,BN12,0)-SUM(DY$6:INDEX(DY:DY,5+$C12-1))/AS12)*CI12),0)","v":0},{"$f":"IF(BO12>0,MIN(BO12,MAX(0,IF(Y12>=0,BO12,0)-SUM(DZ$6:INDEX(DZ:DZ,5+$C12-1))/AT12)*CJ12),0)","v":0},null,{"$f":"F12*CL12","v":0},0,0,0,0,0,0,0,0,0,{"$f":"P12*CV12","v":0},0,0,0,0,0,0,0,0,0,null,"Summon Beast"]
[null,"Summon Fey",8,"summon fey (c)",{"$f":"MATCH($D13,INDEX(Sorcadins!$D:$D,$D$3):'Sorcadins'!$D1753,0)-1","v":41},{"$f":"IF(CELL(\"contents\",INDIRECT(ADDRESS($D$3+$E13,4+F$4,1,1,\"Sorcadins\")))>=1,CELL(\"contents\",INDIRECT(ADDRESS($D$3+$E13,4+F$4,1,1,\"Sorcadins\"))),0)","v":0},{"$f":"IF(CELL(\"contents\",INDIRECT(ADDRESS($D$3+$E13,4+G$4,1,1,\"Sorcadins\")))>=1,CELL(\"contents\",INDIRECT(ADDRESS($D$3+$E13,4+G$4,1,1,\"Sorcadins\"))),0)","v":0},{"$f":"IF(CELL(\"contents\",INDIRECT(ADDRESS($D$3+$E13,4+H$4,1,1,\"Sorcadins\")))>=1,CELL(\"contents\",INDIRECT(ADDRESS($D$3+$E13,4+H$4,1,1,\"Sorcadins\"))),0)","v":0},{"$f":"IF(CELL(\"contents\",INDIRECT(ADDRESS($D$3+$E13,4+I$4,1,1,\"Sorcadins\")))>=1,CELL(\"contents\",INDIRECT(ADDRESS($D$3+$E13,4+I$4,1,1,\"Sorcadins\"))),0)","v":0},{"$f":"IF(CELL(\"contents\",INDIRECT(ADDRESS($D$3+$E13,4+J$4,1,1,\"Sorcadins\")))>=1,CELL(\"contents\",INDIRECT(ADDRESS($D$3+$E13,4+J$4,1,1,\"Sorcadins\"))),0)","v":0},{"$f":"IF(CELL(\"contents\",INDIRECT(ADDRESS($D$3+$E13,4+K$4,1,1,\"Sorcadins\")))>=1,CELL(\"contents\",INDIRECT(ADDRESS($D$3+$E13,4+K$4,1,1,\"Sorcadins\"))),0)","v":0},{"$f":"IF(CELL(\"contents\",INDIRECT(ADDRESS($D$3+$E13,4+L$4,1,1,\"Sorcadins\")))>=1,CELL(\"contents\",INDIRECT(ADDRESS($D$3+$E13,4+L$4,1,1,\"Sorcadins\"))),0)","v":0},{"$f":"IF(CELL(\"contents\",INDIRECT(ADDRESS($D$3+$E13,4+M$4,1,1,\"Sorcadins\")))>=1,CELL(\"contents\",INDIRECT(ADDRESS($D$3+$E13,4+M$4,1,1,\"Sorcadins\"))),0)","v":0},{"$f":"IF(CELL(\"contents\",INDIRECT(ADDRESS($D$3+$E13,4+N$4,1,1,\"Sorcadins\")))>=1,CELL(\"contents\",INDIRECT(ADDRESS($D$3+$E13,4+N$4,1,1,\"Sorcadins\"))),0)","v":0},{"$f":"IF(CELL(\"contents\",INDIRECT(ADDRESS($D$3+$E13,4+O$4,1,1,\"Sorcadins\")))>=1,CELL(\"contents\",INDIRECT(ADDRESS($D$3+$E13,4+O$4,1,1,\"Sorcadins\"))),0)","v":0},{"$f":"IF(CELL(\"contents\",INDIRECT(ADDRESS($D$3+$E13,4+P$4,1,1,\"Sorcadins\")))>=1,CELL(\"contents\",INDIRECT(ADDRESS($D$3+$E13,4+P$4,1,1,\"Sorcadins\"))),0)","v":0},{"$f":"IF(CELL(\"contents\",INDIRECT(ADDRESS($D$3+$E13,4+Q$4,1,1,\"Sorcadins\")))>=1,CELL(\"contents\",INDIRECT(ADDRESS($D$3+$E13,4+Q$4,1,1,\"Sorcadins\"))),0)","v":0},{"$f":"IF(CELL(\"contents\",INDIRECT(ADDRESS($D$3+$E13,4+R$4,1,1,\"Sorcadins\")))>=1,CELL(\"contents\",INDIRECT(ADDRESS($D$3+$E13,4+R$4,1,1,\"Sorcadins\"))),0)","v":0},{"$f":"IF(CELL(\"contents\",INDIRECT(ADDRESS($D$3+$E13,4+S$4,1,1,\"Sorcadins\")))>=1,CELL(\"contents\",INDIRECT(ADDRESS($D$3+$E13,4+S$4,1,1,\"Sorcadins\"))),0)","v":0},{"$f":"IF(CELL(\"contents\",INDIRECT(ADDRESS($D$3+$E13,4+T$4,1,1,\"Sorcadins\")))>=1,CELL(\"contents\",INDIRECT(ADDRESS($D$3+$E13,4+T$4,1,1,\"Sorcadins\"))),0)","v":0},{"$f":"IF(CELL(\"contents\",INDIRECT(ADDRESS($D$3+$E13,4+U$4,1,1,\"Sorcadins\")))>=1,CELL(\"contents\",INDIRECT(ADDRESS($D$3+$E13,4+U$4,1,1,\"Sorcadins\"))),0)","v":0},{"$f":"IF(CELL(\"contents\",INDIRECT(ADDRESS($D$3+$E13,4+V$4,1,1,\"Sorcadins\")))>=1,CELL(\"contents\",INDIRECT(ADDRESS($D$3+$E13,4+V$4,1,1,\"Sorcadins\"))),0)","v":0},{"$f":"IF(CELL(\"contents\",INDIRECT(ADDRESS($D$3+$E13,4+W$4,1,1,\"Sorcadins\")))>=1,CELL(\"contents\",INDIRECT(ADDRESS($D$3+$E13,4+W$4,1,1,\"Sorcadins\"))),0)","v":0},{"$f":"IF(CELL(\"contents\",INDIRECT(ADDRESS($D$3+$E13,4+X$4,1,1,\"Sorcadins\")))>=1,CELL(\"contents\",INDIRECT(ADDRESS($D$3+$E13,4+X$4,1,1,\"Sorcadins\"))),0)","v":0},{"$f":"IF(CELL(\"contents\",INDIRECT(ADDRESS($D$3+$E13,4+Y$4,1,1,\"Sorcadins\")))>=1,CELL(\"contents\",INDIRECT(ADDRESS($D$3+$E13,4+Y$4,1,1,\"Sorcadins\"))),0)","v":0},null,{"$f":"SUM(F$6:INDEX(F:F,5+$C13))","v":0},{"$f":"SUM(G$6:INDEX(G:G,5+$C13))","v":0},{"$f":"SUM(H$6:INDEX(H:H,5+$C13))","v":0},{"$f":"SUM(I$6:INDEX(I:I,5+$C13))","v":0},{"$f":"SUM(J$6:INDEX(J:J,5+$C13))","v":0},{"$f":"SUM(K$6:INDEX(K:K,5+$C13))","v":0},{"$f":"SUM(L$6:INDEX(L:L,5+$C13))","v":0},{"$f":"SUM(M$6:INDEX(M:M,5+$C13))","v":0},{"$f":"SUM(N$6:INDEX(N:N,5+$C13))","v":0},{"$f":"SUM(O$6:INDEX(O:O,5+$C13))","v":0},{"$f":"SUM(P$6:INDEX(P:P,5+$C13))","v":0},{"$f":"SUM(Q$6:INDEX(Q:Q,5+$C13))","v":0},{"$f":"SUM(R$6:INDEX(R:R,5+$C13))","v":0},{"$f":"SUM(S$6:INDEX(S:S,5+$C13))","v":0},{"$f":"SUM(T$6:INDEX(T:T,5+$C13))","v":0},{"$f":"SUM(U$6:INDEX(U:U,5+$C13))","v":0},{"$f":"SUM(V$6:INDEX(V:V,5+$C13))","v":0},{"$f":"SUM(W$6:INDEX(W:W,5+$C13))","v":0},{"$f":"SUM(X$6:INDEX(X:X,5+$C13))","v":0},{"$f":"SUM(Y$6:INDEX(Y:Y,5+$C13))","v":0},null,{"$f":"IF(AA13>0,IF(Sorcadins!E$315>Sorcadins!E$319,MIN(Sorcadins!E$315,Sorcadins!E$313/AA13),CELL(\"contents\",INDIRECT(ADDRESS(43+Sorcadins!E$25,ROUNDUP(5+MIN(20,AA13),0),1,1,\"Caster Tables\")))),0)","v":0},{"$f":"IF(AB13>0,IF(Sorcadins!F$315>Sorcadins!F$319,MIN(Sorcadins!F$315,Sorcadins!F$313/AB13),CELL(\"contents\",INDIRECT(ADDRESS(43+Sorcadins!F$25,ROUNDUP(5+MIN(20,AB13),0),1,1,\"Caster Tables\")))),0)","v":0},{"$f":"IF(AC13>0,IF(Sorcadins!G$315>Sorcadins!G$319,MIN(Sorcadins!G$315,Sorcadins!G$313/AC13),CELL(\"contents\",INDIRECT(ADDRESS(43+Sorcadins!G$25,ROUNDUP(5+MIN(20,AC13),0),1,1,\"Caster Tables\")))),0)","v":0},{"$f":"IF(AD13>0,IF(Sorcadins!H$315>Sorcadins!H$319,MIN(Sorcadins!H$315,Sorcadins!H$313/AD13),CELL(\"contents\",INDIRECT(ADDRESS(43+Sorcadins!H$25,ROUNDUP(5+MIN(20,AD13),0),1,1,\"Caster Tables\")))),0)","v":0},{"$f":"IF(AE13>0,IF(Sorcadins!I$315>Sorcadins!I$319,MIN(Sorcadins!I$315,Sorcadins!I$313/AE13),CELL(\"contents\",INDIRECT(ADDRESS(43+Sorcadins!I$25,ROUNDUP(5+MIN(20,AE13),0),1,1,\"Caster Tables\")))),0)","v":0},{"$f":"IF(AF13>0,IF(Sorcadins!J$315>Sorcadins!J$319,MIN(Sorcadins!J$315,Sorcadins!J$313/AF13),CELL(\"contents\",INDIRECT(ADDRESS(43+Sorcadins!J$25,ROUNDUP(5+MIN(20,AF13),0),1,1,\"Caster Tables\")))),0)","v":0},{"$f":"IF(AG13>0,IF(Sorcadins!K$315>Sorcadins!K$319,MIN(Sorcadins!K$315,Sorcadins!K$313/AG13),CELL(\"contents\",INDIRECT(ADDRESS(43+Sorcadins!K$25,ROUNDUP(5+MIN(20,AG13),0),1,1,\"Caster Tables\")))),0)","v":0},{"$f":"IF(AH13>0,IF(Sorcadins!L$315>Sorcadins!L$319,MIN(Sorcadins!L$315,Sorcadins!L$313/AH13),CELL(\"contents\",INDIRECT(ADDRESS(43+Sorcadins!L$25,ROUNDUP(5+MIN(20,AH13),0),1,1,\"Caster Tables\")))),0)","v":0},{"$f":"IF(AI13>0,IF(Sorcadins!M$315>Sorcadins!M$319,MIN(Sorcadins!M$315,Sorcadins!M$313/AI13),CELL(\"contents\",INDIRECT(ADDRESS(43+Sorcadins!M$25,ROUNDUP(5+MIN(20,AI13),0),1,1,\"Caster Tables\")))),0)","v":0},{"$f":"IF(AJ13>0,IF(Sorcadins!N$315>Sorcadins!N$319,MIN(Sorcadins!N$315,Sorcadins!N$313/AJ13),CELL(\"contents\",INDIRECT(ADDRESS(43+Sorcadins!N$25,ROUNDUP(5+MIN(20,AJ13),0),1,1,\"Caster Tables\")))),0)","v":0},{"$f":"IF(AK13>0,IF(Sorcadins!O$315>Sorcadins!O$319,MIN(Sorcadins!O$315,Sorcadins!O$313/AK13),CELL(\"contents\",INDIRECT(ADDRESS(43+Sorcadins!O$25,ROUNDUP(5+MIN(20,AK13),0),1,1,\"Caster Tables\")))),0)","v":0},{"$f":"IF(AL13>0,IF(Sorcadins!P$315>Sorcadins!P$319,MIN(Sorcadins!P$315,Sorcadins!P$313/AL13),CELL(\"contents\",INDIRECT(ADDRESS(43+Sorcadins!P$25,ROUNDUP(5+MIN(20,AL13),0),1,1,\"Caster Tables\")))),0)","v":0},{"$f":"IF(AM13>0,IF(Sorcadins!Q$315>Sorcadins!Q$319,MIN(Sorcadins!Q$315,Sorcadins!Q$313/AM13),CELL(\"contents\",INDIRECT(ADDRESS(43+Sorcadins!Q$25,ROUNDUP(5+MIN(20,AM13),0),1,1,\"Caster Tables\")))),0)","v":0},{"$f":"IF(AN13>0,IF(Sorcadins!R$315>Sorcadins!R$319,MIN(Sorcadins!R$315,Sorcadins!R$313/AN13),CELL(\"contents\",INDIRECT(ADDRESS(43+Sorcadins!R$25,ROUNDUP(5+MIN(20,AN13),0),1,1,\"Caster Tables\")))),0)","v":0},{"$f":"IF(AO13>0,IF(Sorcadins!S$315>Sorcadins!S$319,MIN(Sorcadins!S$315,Sorcadins!S$313/AO13),CELL(\"contents\",INDIRECT(ADDRESS(43+Sorcadins!S$25,ROUNDUP(5+MIN(20,AO13),0),1,1,\"Caster Tables\")))),0)","v":0},{"$f":"IF(AP13>0,IF(Sorcadins!T$315>Sorcadins!T$319,MIN(Sorcadins!T$315,Sorcadins!T$313/AP13),CELL(\"contents\",INDIRECT(ADDRESS(43+Sorcadins!T$25,ROUNDUP(5+MIN(20,AP13),0),1,1,\"Caster Tables\")))),0)","v":0},{"$f":"IF(AQ13>0,IF(Sorcadins!U$315>Sorcadins!U$319,MIN(Sorcadins!U$315,Sorcadins!U$313/AQ13),CELL(\"contents\",INDIRECT(ADDRESS(43+Sorcadins!U$25,ROUNDUP(5+MIN(20,AQ13),0),1,1,\"Caster Tables\")))),0)","v":0},{"$f":"IF(AR13>0,IF(Sorcadins!V$315>Sorcadins!V$319,MIN(Sorcadins!V$315,Sorcadins!V$313/AR13),CELL(\"contents\",INDIRECT(ADDRESS(43+Sorcadins!V$25,ROUNDUP(5+MIN(20,AR13),0),1,1,\"Caster Tables\")))),0)","v":0},{"$f":"IF(AS13>0,IF(Sorcadins!W$315>Sorcadins!W$319,MIN(Sorcadins!W$315,Sorcadins!W$313/AS13),CELL(\"contents\",INDIRECT(ADDRESS(43+Sorcadins!W$25,ROUNDUP(5+MIN(20,AS13),0),1,1,\"Caster Tables\")))),0)","v":0},{"$f":"IF(AT13>0,IF(Sorcadins!X$315>Sorcadins!X$319,MIN(Sorcadins!X$315,Sorcadins!X$313/AT13),CELL(\"contents\",INDIRECT(ADDRESS(43+Sorcadins!X$25,ROUNDUP(5+MIN(20,AT13),0),1,1,\"Caster Tables\")))),0)","v":0},null,0,0,0,0,0,0,0,0,0,0,0,0,0,0,0,0,0,0,0,0,null,{"$f":"IF(AV13>0,MIN(AV13,MAX(0,IF(F13>=0,AV13,0)-SUM(DG$6:INDEX(DG:DG,5+$C13-1))/AA13)*BQ13),0)","v":0},{"$f":"IF(AW13>0,MIN(AW13,MAX(0,IF(G13>=0,AW13,0)-SUM(DH$6:INDEX(DH:DH,5+$C13-1))/AB13)*BR13),0)","v":0},{"$f":"IF(AX13>0,MIN(AX13,MAX(0,IF(H13>=0,AX13,0)-SUM(DI$6:INDEX(DI:DI,5+$C13-1))/AC13)*BS13),0)","v":0},{"$f":"IF(AY13>0,MIN(AY13,MAX(0,IF(I13>=0,AY13,0)-SUM(DJ$6:INDEX(DJ:DJ,5+$C13-1))/AD13)*BT13),0)","v":0},{"$f":"IF(AZ13>0,MIN(AZ13,MAX(0,IF(J13>=0,AZ13,0)-SUM(DK$6:INDEX(DK:DK,5+$C13-1))/AE13)*BU13),0)","v":0},{"$f":"IF(BA13>0,MIN(BA13,MAX(0,IF(K13>=0,BA13,0)-SUM(DL$6:INDEX(DL:DL,5+$C13-1))/AF13)*BV13),0)","v":0},{"$f":"IF(BB13>0,MIN(BB13,MAX(0,IF(L13>=0,BB13,0)-SUM(DM$6:INDEX(DM:DM,5+$C13-1))/AG13)*BW13),0)","v":0},{"$f":"IF(BC13>0,MIN(BC13,MAX(0,IF(M13>=0,BC13,0)-SUM(DN$6:INDEX(DN:DN,5+$C13-1))/AH13)*BX13),0)","v":0},{"$f":"IF(BD13>0,MIN(BD13,MAX(0,IF(N13>=0,BD13,0)-SUM(DO$6:INDEX(DO:DO,5+$C13-1))/AI13)*BY13),0)","v":0},{"$f":"IF(BE13>0,MIN(BE13,MAX(0,IF(O13>=0,BE13,0)-SUM(DP$6:INDEX(DP:DP,5+$C13-1))/AJ13)*BZ13),0)","v":0},{"$f":"IF(BF13>0,MIN(BF13,MAX(0,IF(P13>=0,BF13,0)-SUM(DQ$6:INDEX(DQ:DQ,5+$C13-1))/AK13)*CA13),0)","v":0},{"$f":"IF(BG13>0,MIN(BG13,MAX(0,IF(Q13>=0,BG13,0)-SUM(DR$6:INDEX(DR:DR,5+$C13-1))/AL13)*CB13),0)","v":0},{"$f":"IF(BH13>0,MIN(BH13,MAX(0,IF(R13>=0,BH13,0)-SUM(DS$6:INDEX(DS:DS,5+$C13-1))/AM13)*CC13),0)","v":0},{"$f":"IF(BI13>0,MIN(BI13,MAX(0,IF(S13>=0,BI13,0)-SUM(DT$6:INDEX(DT:DT,5+$C13-1))/AN13)*CD13),0)","v":0},{"$f":"IF(BJ13>0,MIN(BJ13,MAX(0,IF(T13>=0,BJ13,0)-SUM(DU$6:INDEX(DU:DU,5+$C13-1))/AO13)*CE13),0)","v":0},{"$f":"IF(BK13>0,MIN(BK13,MAX(0,IF(U13>=0,BK13,0)-SUM(DV$6:INDEX(DV:DV,5+$C13-1))/AP13)*CF13),0)","v":0},{"$f":"IF(BL13>0,MIN(BL13,MAX(0,IF(V13>=0,BL13,0)-SUM(DW$6:INDEX(DW:DW,5+$C13-1))/AQ13)*CG13),0)","v":0},{"$f":"IF(BM13>0,MIN(BM13,MAX(0,IF(W13>=0,BM13,0)-SUM(DX$6:INDEX(DX:DX,5+$C13-1))/AR13)*CH13),0)","v":0},{"$f":"IF(BN13>0,MIN(BN13,MAX(0,IF(X13>=0,BN13,0)-SUM(DY$6:INDEX(DY:DY,5+$C13-1))/AS13)*CI13),0)","v":0},{"$f":"IF(BO13>0,MIN(BO13,MAX(0,IF(Y13>=0,BO13,0)-SUM(DZ$6:INDEX(DZ:DZ,5+$C13-1))/AT13)*CJ13),0)","v":0},null,0,0,0,0,0,0,0,0,0,0,0,0,0,0,0,0,0,0,0,0,null,"Summon Fey"]
[null,"Summon Undead",9,"summon undead (c)",{"$f":"MATCH($D14,INDEX(Sorcadins!$D:$D,$D$3):'Sorcadins'!$D1754,0)-1","v":42},{"$f":"IF(CELL(\"contents\",INDIRECT(ADDRESS($D$3+$E14,4+F$4,1,1,\"Sorcadins\")))>=1,CELL(\"contents\",INDIRECT(ADDRESS($D$3+$E14,4+F$4,1,1,\"Sorcadins\"))),0)","v":0},{"$f":"IF(CELL(\"contents\",INDIRECT(ADDRESS($D$3+$E14,4+G$4,1,1,\"Sorcadins\")))>=1,CELL(\"contents\",INDIRECT(ADDRESS($D$3+$E14,4+G$4,1,1,\"Sorcadins\"))),0)","v":0},{"$f":"IF(CELL(\"contents\",INDIRECT(ADDRESS($D$3+$E14,4+H$4,1,1,\"Sorcadins\")))>=1,CELL(\"contents\",INDIRECT(ADDRESS($D$3+$E14,4+H$4,1,1,\"Sorcadins\"))),0)","v":0},{"$f":"IF(CELL(\"contents\",INDIRECT(ADDRESS($D$3+$E14,4+I$4,1,1,\"Sorcadins\")))>=1,CELL(\"contents\",INDIRECT(ADDRESS($D$3+$E14,4+I$4,1,1,\"Sorcadins\"))),0)","v":0},{"$f":"IF(CELL(\"contents\",INDIRECT(ADDRESS($D$3+$E14,4+J$4,1,1,\"Sorcadins\")))>=1,CELL(\"contents\",INDIRECT(ADDRESS($D$3+$E14,4+J$4,1,1,\"Sorcadins\"))),0)","v":0},{"$f":"IF(CELL(\"contents\",INDIRECT(ADDRESS($D$3+$E14,4+K$4,1,1,\"Sorcadins\")))>=1,CELL(\"contents\",INDIRECT(ADDRESS($D$3+$E14,4+K$4,1,1,\"Sorcadins\"))),0)","v":0},{"$f":"IF(CELL(\"contents\",INDIRECT(ADDRESS($D$3+$E14,4+L$4,1,1,\"Sorcadins\")))>=1,CELL(\"contents\",INDIRECT(ADDRESS($D$3+$E14,4+L$4,1,1,\"Sorcadins\"))),0)","v":0},{"$f":"IF(CELL(\"contents\",INDIRECT(ADDRESS($D$3+$E14,4+M$4,1,1,\"Sorcadins\")))>=1,CELL(\"contents\",INDIRECT(ADDRESS($D$3+$E14,4+M$4,1,1,\"Sorcadins\"))),0)","v":0},{"$f":"IF(CELL(\"contents\",INDIRECT(ADDRESS($D$3+$E14,4+N$4,1,1,\"Sorcadins\")))>=1,CELL(\"contents\",INDIRECT(ADDRESS($D$3+$E14,4+N$4,1,1,\"Sorcadins\"))),0)","v":0},{"$f":"IF(CELL(\"contents\",INDIRECT(ADDRESS($D$3+$E14,4+O$4,1,1,\"Sorcadins\")))>=1,CELL(\"contents\",INDIRECT(ADDRESS($D$3+$E14,4+O$4,1,1,\"Sorcadins\"))),0)","v":0},{"$f":"IF(CELL(\"contents\",INDIRECT(ADDRESS($D$3+$E14,4+P$4,1,1,\"Sorcadins\")))>=1,CELL(\"contents\",INDIRECT(ADDRESS($D$3+$E14,4+P$4,1,1,\"Sorcadins\"))),0)","v":0},{"$f":"IF(CELL(\"contents\",INDIRECT(ADDRESS($D$3+$E14,4+Q$4,1,1,\"Sorcadins\")))>=1,CELL(\"contents\",INDIRECT(ADDRESS($D$3+$E14,4+Q$4,1,1,\"Sorcadins\"))),0)","v":0},{"$f":"IF(CELL(\"contents\",INDIRECT(ADDRESS($D$3+$E14,4+R$4,1,1,\"Sorcadins\")))>=1,CELL(\"contents\",INDIRECT(ADDRESS($D$3+$E14,4+R$4,1,1,\"Sorcadins\"))),0)","v":0},{"$f":"IF(CELL(\"contents\",INDIRECT(ADDRESS($D$3+$E14,4+S$4,1,1,\"Sorcadins\")))>=1,CELL(\"contents\",INDIRECT(ADDRESS($D$3+$E14,4+S$4,1,1,\"Sorcadins\"))),0)","v":0},{"$f":"IF(CELL(\"contents\",INDIRECT(ADDRESS($D$3+$E14,4+T$4,1,1,\"Sorcadins\")))>=1,CELL(\"contents\",INDIRECT(ADDRESS($D$3+$E14,4+T$4,1,1,\"Sorcadins\"))),0)","v":0},{"$f":"IF(CELL(\"contents\",INDIRECT(ADDRESS($D$3+$E14,4+U$4,1,1,\"Sorcadins\")))>=1,CELL(\"contents\",INDIRECT(ADDRESS($D$3+$E14,4+U$4,1,1,\"Sorcadins\"))),0)","v":0},{"$f":"IF(CELL(\"contents\",INDIRECT(ADDRESS($D$3+$E14,4+V$4,1,1,\"Sorcadins\")))>=1,CELL(\"contents\",INDIRECT(ADDRESS($D$3+$E14,4+V$4,1,1,\"Sorcadins\"))),0)","v":0},{"$f":"IF(CELL(\"contents\",INDIRECT(ADDRESS($D$3+$E14,4+W$4,1,1,\"Sorcadins\")))>=1,CELL(\"contents\",INDIRECT(ADDRESS($D$3+$E14,4+W$4,1,1,\"Sorcadins\"))),0)","v":0},{"$f":"IF(CELL(\"contents\",INDIRECT(ADDRESS($D$3+$E14,4+X$4,1,1,\"Sorcadins\")))>=1,CELL(\"contents\",INDIRECT(ADDRESS($D$3+$E14,4+X$4,1,1,\"Sorcadins\"))),0)","v":0},{"$f":"IF(CELL(\"contents\",INDIRECT(ADDRESS($D$3+$E14,4+Y$4,1,1,\"Sorcadins\")))>=1,CELL(\"contents\",INDIRECT(ADDRESS($D$3+$E14,4+Y$4,1,1,\"Sorcadins\"))),0)","v":0},null,{"$f":"SUM(F$6:INDEX(F:F,5+$C14))","v":0},{"$f":"SUM(G$6:INDEX(G:G,5+$C14))","v":0},{"$f":"SUM(H$6:INDEX(H:H,5+$C14))","v":0},{"$f":"SUM(I$6:INDEX(I:I,5+$C14))","v":0},{"$f":"SUM(J$6:INDEX(J:J,5+$C14))","v":0},{"$f":"SUM(K$6:INDEX(K:K,5+$C14))","v":0},{"$f":"SUM(L$6:INDEX(L:L,5+$C14))","v":0},{"$f":"SUM(M$6:INDEX(M:M,5+$C14))","v":0},{"$f":"SUM(N$6:INDEX(N:N,5+$C14))","v":0},{"$f":"SUM(O$6:INDEX(O:O,5+$C14))","v":0},{"$f":"SUM(P$6:INDEX(P:P,5+$C14))","v":0},{"$f":"SUM(Q$6:INDEX(Q:Q,5+$C14))","v":0},{"$f":"SUM(R$6:INDEX(R:R,5+$C14))","v":0},{"$f":"SUM(S$6:INDEX(S:S,5+$C14))","v":0},{"$f":"SUM(T$6:INDEX(T:T,5+$C14))","v":0},{"$f":"SUM(U$6:INDEX(U:U,5+$C14))","v":0},{"$f":"SUM(V$6:INDEX(V:V,5+$C14))","v":0},{"$f":"SUM(W$6:INDEX(W:W,5+$C14))","v":0},{"$f":"SUM(X$6:INDEX(X:X,5+$C14))","v":0},{"$f":"SUM(Y$6:INDEX(Y:Y,5+$C14))","v":0},null,{"$f":"IF(AA14>0,IF(Sorcadins!E$315>Sorcadins!E$319,MIN(Sorcadins!E$315,Sorcadins!E$313/AA14),CELL(\"contents\",INDIRECT(ADDRESS(43+Sorcadins!E$25,ROUNDUP(5+MIN(20,AA14),0),1,1,\"Caster Tables\")))),0)","v":0},{"$f":"IF(AB14>0,IF(Sorcadins!F$315>Sorcadins!F$319,MIN(Sorcadins!F$315,Sorcadins!F$313/AB14),CELL(\"contents\",INDIRECT(ADDRESS(43+Sorcadins!F$25,ROUNDUP(5+MIN(20,AB14),0),1,1,\"Caster Tables\")))),0)","v":0},{"$f":"IF(AC14>0,IF(Sorcadins!G$315>Sorcadins!G$319,MIN(Sorcadins!G$315,Sorcadins!G$313/AC14),CELL(\"contents\",INDIRECT(ADDRESS(43+Sorcadins!G$25,ROUNDUP(5+MIN(20,AC14),0),1,1,\"Caster Tables\")))),0)","v":0},{"$f":"IF(AD14>0,IF(Sorcadins!H$315>Sorcadins!H$319,MIN(Sorcadins!H$315,Sorcadins!H$313/AD14),CELL(\"contents\",INDIRECT(ADDRESS(43+Sorcadins!H$25,ROUNDUP(5+MIN(20,AD14),0),1,1,\"Caster Tables\")))),0)","v":0},{"$f":"IF(AE14>0,IF(Sorcadins!I$315>Sorcadins!I$319,MIN(Sorcadins!I$315,Sorcadins!I$313/AE14),CELL(\"contents\",INDIRECT(ADDRESS(43+Sorcadins!I$25,ROUNDUP(5+MIN(20,AE14),0),1,1,\"Caster Tables\")))),0)","v":0},{"$f":"IF(AF14>0,IF(Sorcadins!J$315>Sorcadins!J$319,MIN(Sorcadins!J$315,Sorcadins!J$313/AF14),CELL(\"contents\",INDIRECT(ADDRESS(43+Sorcadins!J$25,ROUNDUP(5+MIN(20,AF14),0),1,1,\"Caster Tables\")))),0)","v":0},{"$f":"IF(AG14>0,IF(Sorcadins!K$315>Sorcadins!K$319,MIN(Sorcadins!K$315,Sorcadins!K$313/AG14),CELL(\"contents\",INDIRECT(ADDRESS(43+Sorcadins!K$25,ROUNDUP(5+MIN(20,AG14),0),1,1,\"Caster Tables\")))),0)","v":0},{"$f":"IF(AH14>0,IF(Sorcadins!L$315>Sorcadins!L$319,MIN(Sorcadins!L$315,Sorcadins!L$313/AH14),CELL(\"contents\",INDIRECT(ADDRESS(43+Sorcadins!L$25,ROUNDUP(5+MIN(20,AH14),0),1,1,\"Caster Tables\")))),0)","v":0},{"$f":"IF(AI14>0,IF(Sorcadins!M$315>Sorcadins!M$319,MIN(Sorcadins!M$315,Sorcadins!M$313/AI14),CELL(\"contents\",INDIRECT(ADDRESS(43+Sorcadins!M$25,ROUNDUP(5+MIN(20,AI14),0),1,1,\"Caster Tables\")))),0)","v":0},{"$f":"IF(AJ14>0,IF(Sorcadins!N$315>Sorcadins!N$319,MIN(Sorcadins!N$315,Sorcadins!N$313/AJ14),CELL(\"contents\",INDIRECT(ADDRESS(43+Sorcadins!N$25,ROUNDUP(5+MIN(20,AJ14),0),1,1,\"Caster Tables\")))),0)","v":0},{"$f":"IF(AK14>0,IF(Sorcadins!O$315>Sorcadins!O$319,MIN(Sorcadins!O$315,Sorcadins!O$313/AK14),CELL(\"contents\",INDIRECT(ADDRESS(43+Sorcadins!O$25,ROUNDUP(5+MIN(20,AK14),0),1,1,\"Caster Tables\")))),0)","v":0},{"$f":"IF(AL14>0,IF(Sorcadins!P$315>Sorcadins!P$319,MIN(Sorcadins!P$315,Sorcadins!P$313/AL14),CELL(\"contents\",INDIRECT(ADDRESS(43+Sorcadins!P$25,ROUNDUP(5+MIN(20,AL14),0),1,1,\"Caster Tables\")))),0)","v":0},{"$f":"IF(AM14>0,IF(Sorcadins!Q$315>Sorcadins!Q$319,MIN(Sorcadins!Q$315,Sorcadins!Q$313/AM14),CELL(\"contents\",INDIRECT(ADDRESS(43+Sorcadins!Q$25,ROUNDUP(5+MIN(20,AM14),0),1,1,\"Caster Tables\")))),0)","v":0},{"$f":"IF(AN14>0,IF(Sorcadins!R$315>Sorcadins!R$319,MIN(Sorcadins!R$315,Sorcadins!R$313/AN14),CELL(\"contents\",INDIRECT(ADDRESS(43+Sorcadins!R$25,ROUNDUP(5+MIN(20,AN14),0),1,1,\"Caster Tables\")))),0)","v":0},{"$f":"IF(AO14>0,IF(Sorcadins!S$315>Sorcadins!S$319,MIN(Sorcadins!S$315,Sorcadins!S$313/AO14),CELL(\"contents\",INDIRECT(ADDRESS(43+Sorcadins!S$25,ROUNDUP(5+MIN(20,AO14),0),1,1,\"Caster Tables\")))),0)","v":0},{"$f":"IF(AP14>0,IF(Sorcadins!T$315>Sorcadins!T$319,MIN(Sorcadins!T$315,Sorcadins!T$313/AP14),CELL(\"contents\",INDIRECT(ADDRESS(43+Sorcadins!T$25,ROUNDUP(5+MIN(20,AP14),0),1,1,\"Caster Tables\")))),0)","v":0},{"$f":"IF(AQ14>0,IF(Sorcadins!U$315>Sorcadins!U$319,MIN(Sorcadins!U$315,Sorcadins!U$313/AQ14),CELL(\"contents\",INDIRECT(ADDRESS(43+Sorcadins!U$25,ROUNDUP(5+MIN(20,AQ14),0),1,1,\"Caster Tables\")))),0)","v":0},{"$f":"IF(AR14>0,IF(Sorcadins!V$315>Sorcadins!V$319,MIN(Sorcadins!V$315,Sorcadins!V$313/AR14),CELL(\"contents\",INDIRECT(ADDRESS(43+Sorcadins!V$25,ROUNDUP(5+MIN(20,AR14),0),1,1,\"Caster Tables\")))),0)","v":0},{"$f":"IF(AS14>0,IF(Sorcadins!W$315>Sorcadins!W$319,MIN(Sorcadins!W$315,Sorcadins!W$313/AS14),CELL(\"contents\",INDIRECT(ADDRESS(43+Sorcadins!W$25,ROUNDUP(5+MIN(20,AS14),0),1,1,\"Caster Tables\")))),0)","v":0},{"$f":"IF(AT14>0,IF(Sorcadins!X$315>Sorcadins!X$319,MIN(Sorcadins!X$315,Sorcadins!X$313/AT14),CELL(\"contents\",INDIRECT(ADDRESS(43+Sorcadins!X$25,ROUNDUP(5+MIN(20,AT14),0),1,1,\"Caster Tables\")))),0)","v":0},null,0,0,0,0,0,0,0,0,0,0,0,0,0,0,0,0,0,0,0,0,null,{"$f":"IF(AV14>0,MIN(AV14,MAX(0,IF(F14>=0,AV14,0)-SUM(DG$6:INDEX(DG:DG,5+$C14-1))/AA14)*BQ14),0)","v":0},{"$f":"IF(AW14>0,MIN(AW14,MAX(0,IF(G14>=0,AW14,0)-SUM(DH$6:INDEX(DH:DH,5+$C14-1))/AB14)*BR14),0)","v":0},{"$f":"IF(AX14>0,MIN(AX14,MAX(0,IF(H14>=0,AX14,0)-SUM(DI$6:INDEX(DI:DI,5+$C14-1))/AC14)*BS14),0)","v":0},{"$f":"IF(AY14>0,MIN(AY14,MAX(0,IF(I14>=0,AY14,0)-SUM(DJ$6:INDEX(DJ:DJ,5+$C14-1))/AD14)*BT14),0)","v":0},{"$f":"IF(AZ14>0,MIN(AZ14,MAX(0,IF(J14>=0,AZ14,0)-SUM(DK$6:INDEX(DK:DK,5+$C14-1))/AE14)*BU14),0)","v":0},{"$f":"IF(BA14>0,MIN(BA14,MAX(0,IF(K14>=0,BA14,0)-SUM(DL$6:INDEX(DL:DL,5+$C14-1))/AF14)*BV14),0)","v":0},{"$f":"IF(BB14>0,MIN(BB14,MAX(0,IF(L14>=0,BB14,0)-SUM(DM$6:INDEX(DM:DM,5+$C14-1))/AG14)*BW14),0)","v":0},{"$f":"IF(BC14>0,MIN(BC14,MAX(0,IF(M14>=0,BC14,0)-SUM(DN$6:INDEX(DN:DN,5+$C14-1))/AH14)*BX14),0)","v":0},{"$f":"IF(BD14>0,MIN(BD14,MAX(0,IF(N14>=0,BD14,0)-SUM(DO$6:INDEX(DO:DO,5+$C14-1))/AI14)*BY14),0)","v":0},{"$f":"IF(BE14>0,MIN(BE14,MAX(0,IF(O14>=0,BE14,0)-SUM(DP$6:INDEX(DP:DP,5+$C14-1))/AJ14)*BZ14),0)","v":0},{"$f":"IF(BF14>0,MIN(BF14,MAX(0,IF(P14>=0,BF14,0)-SUM(DQ$6:INDEX(DQ:DQ,5+$C14-1))/AK14)*CA14),0)","v":0},{"$f":"IF(BG14>0,MIN(BG14,MAX(0,IF(Q14>=0,BG14,0)-SUM(DR$6:INDEX(DR:DR,5+$C14-1))/AL14)*CB14),0)","v":0},{"$f":"IF(BH14>0,MIN(BH14,MAX(0,IF(R14>=0,BH14,0)-SUM(DS$6:INDEX(DS:DS,5+$C14-1))/AM14)*CC14),0)","v":0},{"$f":"IF(BI14>0,MIN(BI14,MAX(0,IF(S14>=0,BI14,0)-SUM(DT$6:INDEX(DT:DT,5+$C14-1))/AN14)*CD14),0)","v":0},{"$f":"IF(BJ14>0,MIN(BJ14,MAX(0,IF(T14>=0,BJ14,0)-SUM(DU$6:INDEX(DU:DU,5+$C14-1))/AO14)*CE14),0)","v":0},{"$f":"IF(BK14>0,MIN(BK14,MAX(0,IF(U14>=0,BK14,0)-SUM(DV$6:INDEX(DV:DV,5+$C14-1))/AP14)*CF14),0)","v":0},{"$f":"IF(BL14>0,MIN(BL14,MAX(0,IF(V14>=0,BL14,0)-SUM(DW$6:INDEX(DW:DW,5+$C14-1))/AQ14)*CG14),0)","v":0},{"$f":"IF(BM14>0,MIN(BM14,MAX(0,IF(W14>=0,BM14,0)-SUM(DX$6:INDEX(DX:DX,5+$C14-1))/AR14)*CH14),0)","v":0},{"$f":"IF(BN14>0,MIN(BN14,MAX(0,IF(X14>=0,BN14,0)-SUM(DY$6:INDEX(DY:DY,5+$C14-1))/AS14)*CI14),0)","v":0},{"$f":"IF(BO14>0,MIN(BO14,MAX(0,IF(Y14>=0,BO14,0)-SUM(DZ$6:INDEX(DZ:DZ,5+$C14-1))/AT14)*CJ14),0)","v":0},null,0,0,0,0,0,0,0,0,0,0,0,0,0,0,0,0,0,0,0,0,null,"Summon Undead"]
[null,"Summon Aberration",10,"summon aberation (c)",{"$f":"MATCH($D15,INDEX(Sorcadins!$D:$D,$D$3):'Sorcadins'!$D1755,0)-1","v":43},{"$f":"IF(CELL(\"contents\",INDIRECT(ADDRESS($D$3+$E15,4+F$4,1,1,\"Sorcadins\")))>=1,CELL(\"contents\",INDIRECT(ADDRESS($D$3+$E15,4+F$4,1,1,\"Sorcadins\"))),0)","v":0},{"$f":"IF(CELL(\"contents\",INDIRECT(ADDRESS($D$3+$E15,4+G$4,1,1,\"Sorcadins\")))>=1,CELL(\"contents\",INDIRECT(ADDRESS($D$3+$E15,4+G$4,1,1,\"Sorcadins\"))),0)","v":0},{"$f":"IF(CELL(\"contents\",INDIRECT(ADDRESS($D$3+$E15,4+H$4,1,1,\"Sorcadins\")))>=1,CELL(\"contents\",INDIRECT(ADDRESS($D$3+$E15,4+H$4,1,1,\"Sorcadins\"))),0)","v":0},{"$f":"IF(CELL(\"contents\",INDIRECT(ADDRESS($D$3+$E15,4+I$4,1,1,\"Sorcadins\")))>=1,CELL(\"contents\",INDIRECT(ADDRESS($D$3+$E15,4+I$4,1,1,\"Sorcadins\"))),0)","v":0},{"$f":"IF(CELL(\"contents\",INDIRECT(ADDRESS($D$3+$E15,4+J$4,1,1,\"Sorcadins\")))>=1,CELL(\"contents\",INDIRECT(ADDRESS($D$3+$E15,4+J$4,1,1,\"Sorcadins\"))),0)","v":0},{"$f":"IF(CELL(\"contents\",INDIRECT(ADDRESS($D$3+$E15,4+K$4,1,1,\"Sorcadins\")))>=1,CELL(\"contents\",INDIRECT(ADDRESS($D$3+$E15,4+K$4,1,1,\"Sorcadins\"))),0)","v":0},{"$f":"IF(CELL(\"contents\",INDIRECT(ADDRESS($D$3+$E15,4+L$4,1,1,\"Sorcadins\")))>=1,CELL(\"contents\",INDIRECT(ADDRESS($D$3+$E15,4+L$4,1,1,\"Sorcadins\"))),0)","v":0},{"$f":"IF(CELL(\"contents\",INDIRECT(ADDRESS($D$3+$E15,4+M$4,1,1,\"Sorcadins\")))>=1,CELL(\"contents\",INDIRECT(ADDRESS($D$3+$E15,4+M$4,1,1,\"Sorcadins\"))),0)","v":0},{"$f":"IF(CELL(\"contents\",INDIRECT(ADDRESS($D$3+$E15,4+N$4,1,1,\"Sorcadins\")))>=1,CELL(\"contents\",INDIRECT(ADDRESS($D$3+$E15,4+N$4,1,1,\"Sorcadins\"))),0)","v":0},{"$f":"IF(CELL(\"contents\",INDIRECT(ADDRESS($D$3+$E15,4+O$4,1,1,\"Sorcadins\")))>=1,CELL(\"contents\",INDIRECT(ADDRESS($D$3+$E15,4+O$4,1,1,\"Sorcadins\"))),0)","v":0},{"$f":"IF(CELL(\"contents\",INDIRECT(ADDRESS($D$3+$E15,4+P$4,1,1,\"Sorcadins\")))>=1,CELL(\"contents\",INDIRECT(ADDRESS($D$3+$E15,4+P$4,1,1,\"Sorcadins\"))),0)","v":0},{"$f":"IF(CELL(\"contents\",INDIRECT(ADDRESS($D$3+$E15,4+Q$4,1,1,\"Sorcadins\")))>=1,CELL(\"contents\",INDIRECT(ADDRESS($D$3+$E15,4+Q$4,1,1,\"Sorcadins\"))),0)","v":0},{"$f":"IF(CELL(\"contents\",INDIRECT(ADDRESS($D$3+$E15,4+R$4,1,1,\"Sorcadins\")))>=1,CELL(\"contents\",INDIRECT(ADDRESS($D$3+$E15,4+R$4,1,1,\"Sorcadins\"))),0)","v":0},{"$f":"IF(CELL(\"contents\",INDIRECT(ADDRESS($D$3+$E15,4+S$4,1,1,\"Sorcadins\")))>=1,CELL(\"contents\",INDIRECT(ADDRESS($D$3+$E15,4+S$4,1,1,\"Sorcadins\"))),0)","v":0},{"$f":"IF(CELL(\"contents\",INDIRECT(ADDRESS($D$3+$E15,4+T$4,1,1,\"Sorcadins\")))>=1,CELL(\"contents\",INDIRECT(ADDRESS($D$3+$E15,4+T$4,1,1,\"Sorcadins\"))),0)","v":0},{"$f":"IF(CELL(\"contents\",INDIRECT(ADDRESS($D$3+$E15,4+U$4,1,1,\"Sorcadins\")))>=1,CELL(\"contents\",INDIRECT(ADDRESS($D$3+$E15,4+U$4,1,1,\"Sorcadins\"))),0)","v":0},{"$f":"IF(CELL(\"contents\",INDIRECT(ADDRESS($D$3+$E15,4+V$4,1,1,\"Sorcadins\")))>=1,CELL(\"contents\",INDIRECT(ADDRESS($D$3+$E15,4+V$4,1,1,\"Sorcadins\"))),0)","v":0},{"$f":"IF(CELL(\"contents\",INDIRECT(ADDRESS($D$3+$E15,4+W$4,1,1,\"Sorcadins\")))>=1,CELL(\"contents\",INDIRECT(ADDRESS($D$3+$E15,4+W$4,1,1,\"Sorcadins\"))),0)","v":0},{"$f":"IF(CELL(\"contents\",INDIRECT(ADDRESS($D$3+$E15,4+X$4,1,1,\"Sorcadins\")))>=1,CELL(\"contents\",INDIRECT(ADDRESS($D$3+$E15,4+X$4,1,1,\"Sorcadins\"))),0)","v":0},{"$f":"IF(CELL(\"contents\",INDIRECT(ADDRESS($D$3+$E15,4+Y$4,1,1,\"Sorcadins\")))>=1,CELL(\"contents\",INDIRECT(ADDRESS($D$3+$E15,4+Y$4,1,1,\"Sorcadins\"))),0)","v":0},null,{"$f":"SUM(F$6:INDEX(F:F,5+$C15))","v":0},{"$f":"SUM(G$6:INDEX(G:G,5+$C15))","v":0},{"$f":"SUM(H$6:INDEX(H:H,5+$C15))","v":0},{"$f":"SUM(I$6:INDEX(I:I,5+$C15))","v":0},{"$f":"SUM(J$6:INDEX(J:J,5+$C15))","v":0},{"$f":"SUM(K$6:INDEX(K:K,5+$C15))","v":0},{"$f":"SUM(L$6:INDEX(L:L,5+$C15))","v":0},{"$f":"SUM(M$6:INDEX(M:M,5+$C15))","v":0},{"$f":"SUM(N$6:INDEX(N:N,5+$C15))","v":0},{"$f":"SUM(O$6:INDEX(O:O,5+$C15))","v":0},{"$f":"SUM(P$6:INDEX(P:P,5+$C15))","v":0},{"$f":"SUM(Q$6:INDEX(Q:Q,5+$C15))","v":0},{"$f":"SUM(R$6:INDEX(R:R,5+$C15))","v":0},{"$f":"SUM(S$6:INDEX(S:S,5+$C15))","v":0},{"$f":"SUM(T$6:INDEX(T:T,5+$C15))","v":0},{"$f":"SUM(U$6:INDEX(U:U,5+$C15))","v":0},{"$f":"SUM(V$6:INDEX(V:V,5+$C15))","v":0},{"$f":"SUM(W$6:INDEX(W:W,5+$C15))","v":0},{"$f":"SUM(X$6:INDEX(X:X,5+$C15))","v":0},{"$f":"SUM(Y$6:INDEX(Y:Y,5+$C15))","v":0},null,{"$f":"IF(AA15>0,IF(Sorcadins!E$315>Sorcadins!E$319,MIN(Sorcadins!E$315,Sorcadins!E$313/AA15),CELL(\"contents\",INDIRECT(ADDRESS(43+Sorcadins!E$25,ROUNDUP(5+MIN(20,AA15),0),1,1,\"Caster Tables\")))),0)","v":0},{"$f":"IF(AB15>0,IF(Sorcadins!F$315>Sorcadins!F$319,MIN(Sorcadins!F$315,Sorcadins!F$313/AB15),CELL(\"contents\",INDIRECT(ADDRESS(43+Sorcadins!F$25,ROUNDUP(5+MIN(20,AB15),0),1,1,\"Caster Tables\")))),0)","v":0},{"$f":"IF(AC15>0,IF(Sorcadins!G$315>Sorcadins!G$319,MIN(Sorcadins!G$315,Sorcadins!G$313/AC15),CELL(\"contents\",INDIRECT(ADDRESS(43+Sorcadins!G$25,ROUNDUP(5+MIN(20,AC15),0),1,1,\"Caster Tables\")))),0)","v":0},{"$f":"IF(AD15>0,IF(Sorcadins!H$315>Sorcadins!H$319,MIN(Sorcadins!H$315,Sorcadins!H$313/AD15),CELL(\"contents\",INDIRECT(ADDRESS(43+Sorcadins!H$25,ROUNDUP(5+MIN(20,AD15),0),1,1,\"Caster Tables\")))),0)","v":0},{"$f":"IF(AE15>0,IF(Sorcadins!I$315>Sorcadins!I$319,MIN(Sorcadins!I$315,Sorcadins!I$313/AE15),CELL(\"contents\",INDIRECT(ADDRESS(43+Sorcadins!I$25,ROUNDUP(5+MIN(20,AE15),0),1,1,\"Caster Tables\")))),0)","v":0},{"$f":"IF(AF15>0,IF(Sorcadins!J$315>Sorcadins!J$319,MIN(Sorcadins!J$315,Sorcadins!J$313/AF15),CELL(\"contents\",INDIRECT(ADDRESS(43+Sorcadins!J$25,ROUNDUP(5+MIN(20,AF15),0),1,1,\"Caster Tables\")))),0)","v":0},{"$f":"IF(AG15>0,IF(Sorcadins!K$315>Sorcadins!K$319,MIN(Sorcadins!K$315,Sorcadins!K$313/AG15),CELL(\"contents\",INDIRECT(ADDRESS(43+Sorcadins!K$25,ROUNDUP(5+MIN(20,AG15),0),1,1,\"Caster Tables\")))),0)","v":0},{"$f":"IF(AH15>0,IF(Sorcadins!L$315>Sorcadins!L$319,MIN(Sorcadins!L$315,Sorcadins!L$313/AH15),CELL(\"contents\",INDIRECT(ADDRESS(43+Sorcadins!L$25,ROUNDUP(5+MIN(20,AH15),0),1,1,\"Caster Tables\")))),0)","v":0},{"$f":"IF(AI15>0,IF(Sorcadins!M$315>Sorcadins!M$319,MIN(Sorcadins!M$315,Sorcadins!M$313/AI15),CELL(\"contents\",INDIRECT(ADDRESS(43+Sorcadins!M$25,ROUNDUP(5+MIN(20,AI15),0),1,1,\"Caster Tables\")))),0)","v":0},{"$f":"IF(AJ15>0,IF(Sorcadins!N$315>Sorcadins!N$319,MIN(Sorcadins!N$315,Sorcadins!N$313/AJ15),CELL(\"contents\",INDIRECT(ADDRESS(43+Sorcadins!N$25,ROUNDUP(5+MIN(20,AJ15),0),1,1,\"Caster Tables\")))),0)","v":0},{"$f":"IF(AK15>0,IF(Sorcadins!O$315>Sorcadins!O$319,MIN(Sorcadins!O$315,Sorcadins!O$313/AK15),CELL(\"contents\",INDIRECT(ADDRESS(43+Sorcadins!O$25,ROUNDUP(5+MIN(20,AK15),0),1,1,\"Caster Tables\")))),0)","v":0},{"$f":"IF(AL15>0,IF(Sorcadins!P$315>Sorcadins!P$319,MIN(Sorcadins!P$315,Sorcadins!P$313/AL15),CELL(\"contents\",INDIRECT(ADDRESS(43+Sorcadins!P$25,ROUNDUP(5+MIN(20,AL15),0),1,1,\"Caster Tables\")))),0)","v":0},{"$f":"IF(AM15>0,IF(Sorcadins!Q$315>Sorcadins!Q$319,MIN(Sorcadins!Q$315,Sorcadins!Q$313/AM15),CELL(\"contents\",INDIRECT(ADDRESS(43+Sorcadins!Q$25,ROUNDUP(5+MIN(20,AM15),0),1,1,\"Caster Tables\")))),0)","v":0},{"$f":"IF(AN15>0,IF(Sorcadins!R$315>Sorcadins!R$319,MIN(Sorcadins!R$315,Sorcadins!R$313/AN15),CELL(\"contents\",INDIRECT(ADDRESS(43+Sorcadins!R$25,ROUNDUP(5+MIN(20,AN15),0),1,1,\"Caster Tables\")))),0)","v":0},{"$f":"IF(AO15>0,IF(Sorcadins!S$315>Sorcadins!S$319,MIN(Sorcadins!S$315,Sorcadins!S$313/AO15),CELL(\"contents\",INDIRECT(ADDRESS(43+Sorcadins!S$25,ROUNDUP(5+MIN(20,AO15),0),1,1,\"Caster Tables\")))),0)","v":0},{"$f":"IF(AP15>0,IF(Sorcadins!T$315>Sorcadins!T$319,MIN(Sorcadins!T$315,Sorcadins!T$313/AP15),CELL(\"contents\",INDIRECT(ADDRESS(43+Sorcadins!T$25,ROUNDUP(5+MIN(20,AP15),0),1,1,\"Caster Tables\")))),0)","v":0},{"$f":"IF(AQ15>0,IF(Sorcadins!U$315>Sorcadins!U$319,MIN(Sorcadins!U$315,Sorcadins!U$313/AQ15),CELL(\"contents\",INDIRECT(ADDRESS(43+Sorcadins!U$25,ROUNDUP(5+MIN(20,AQ15),0),1,1,\"Caster Tables\")))),0)","v":0},{"$f":"IF(AR15>0,IF(Sorcadins!V$315>Sorcadins!V$319,MIN(Sorcadins!V$315,Sorcadins!V$313/AR15),CELL(\"contents\",INDIRECT(ADDRESS(43+Sorcadins!V$25,ROUNDUP(5+MIN(20,AR15),0),1,1,\"Caster Tables\")))),0)","v":0},{"$f":"IF(AS15>0,IF(Sorcadins!W$315>Sorcadins!W$319,MIN(Sorcadins!W$315,Sorcadins!W$313/AS15),CELL(\"contents\",INDIRECT(ADDRESS(43+Sorcadins!W$25,ROUNDUP(5+MIN(20,AS15),0),1,1,\"Caster Tables\")))),0)","v":0},{"$f":"IF(AT15>0,IF(Sorcadins!X$315>Sorcadins!X$319,MIN(Sorcadins!X$315,Sorcadins!X$313/AT15),CELL(\"contents\",INDIRECT(ADDRESS(43+Sorcadins!X$25,ROUNDUP(5+MIN(20,AT15),0),1,1,\"Caster Tables\")))),0)","v":0},null,0,0,0,0,0,0,0,0,0,0,0,0,0,0,0,0,0,0,0,0,null,{"$f":"IF(AV15>0,MIN(AV15,MAX(0,IF(F15>=0,AV15,0)-SUM(DG$6:INDEX(DG:DG,5+$C15-1))/AA15)*BQ15),0)","v":0},{"$f":"IF(AW15>0,MIN(AW15,MAX(0,IF(G15>=0,AW15,0)-SUM(DH$6:INDEX(DH:DH,5+$C15-1))/AB15)*BR15),0)","v":0},{"$f":"IF(AX15>0,MIN(AX15,MAX(0,IF(H15>=0,AX15,0)-SUM(DI$6:INDEX(DI:DI,5+$C15-1))/AC15)*BS15),0)","v":0},{"$f":"IF(AY15>0,MIN(AY15,MAX(0,IF(I15>=0,AY15,0)-SUM(DJ$6:INDEX(DJ:DJ,5+$C15-1))/AD15)*BT15),0)","v":0},{"$f":"IF(AZ15>0,MIN(AZ15,MAX(0,IF(J15>=0,AZ15,0)-SUM(DK$6:INDEX(DK:DK,5+$C15-1))/AE15)*BU15),0)","v":0},{"$f":"IF(BA15>0,MIN(BA15,MAX(0,IF(K15>=0,BA15,0)-SUM(DL$6:INDEX(DL:DL,5+$C15-1))/AF15)*BV15),0)","v":0},{"$f":"IF(BB15>0,MIN(BB15,MAX(0,IF(L15>=0,BB15,0)-SUM(DM$6:INDEX(DM:DM,5+$C15-1))/AG15)*BW15),0)","v":0},{"$f":"IF(BC15>0,MIN(BC15,MAX(0,IF(M15>=0,BC15,0)-SUM(DN$6:INDEX(DN:DN,5+$C15-1))/AH15)*BX15),0)","v":0},{"$f":"IF(BD15>0,MIN(BD15,MAX(0,IF(N15>=0,BD15,0)-SUM(DO$6:INDEX(DO:DO,5+$C15-1))/AI15)*BY15),0)","v":0},{"$f":"IF(BE15>0,MIN(BE15,MAX(0,IF(O15>=0,BE15,0)-SUM(DP$6:INDEX(DP:DP,5+$C15-1))/AJ15)*BZ15),0)","v":0},{"$f":"IF(BF15>0,MIN(BF15,MAX(0,IF(P15>=0,BF15,0)-SUM(DQ$6:INDEX(DQ:DQ,5+$C15-1))/AK15)*CA15),0)","v":0},{"$f":"IF(BG15>0,MIN(BG15,MAX(0,IF(Q15>=0,BG15,0)-SUM(DR$6:INDEX(DR:DR,5+$C15-1))/AL15)*CB15),0)","v":0},{"$f":"IF(BH15>0,MIN(BH15,MAX(0,IF(R15>=0,BH15,0)-SUM(DS$6:INDEX(DS:DS,5+$C15-1))/AM15)*CC15),0)","v":0},{"$f":"IF(BI15>0,MIN(BI15,MAX(0,IF(S15>=0,BI15,0)-SUM(DT$6:INDEX(DT:DT,5+$C15-1))/AN15)*CD15),0)","v":0},{"$f":"IF(BJ15>0,MIN(BJ15,MAX(0,IF(T15>=0,BJ15,0)-SUM(DU$6:INDEX(DU:DU,5+$C15-1))/AO15)*CE15),0)","v":0},{"$f":"IF(BK15>0,MIN(BK15,MAX(0,IF(U15>=0,BK15,0)-SUM(DV$6:INDEX(DV:DV,5+$C15-1))/AP15)*CF15),0)","v":0},{"$f":"IF(BL15>0,MIN(BL15,MAX(0,IF(V15>=0,BL15,0)-SUM(DW$6:INDEX(DW:DW,5+$C15-1))/AQ15)*CG15),0)","v":0},{"$f":"IF(BM15>0,MIN(BM15,MAX(0,IF(W15>=0,BM15,0)-SUM(DX$6:INDEX(DX:DX,5+$C15-1))/AR15)*CH15),0)","v":0},{"$f":"IF(BN15>0,MIN(BN15,MAX(0,IF(X15>=0,BN15,0)-SUM(DY$6:INDEX(DY:DY,5+$C15-1))/AS15)*CI15),0)","v":0},{"$f":"IF(BO15>0,MIN(BO15,MAX(0,IF(Y15>=0,BO15,0)-SUM(DZ$6:INDEX(DZ:DZ,5+$C15-1))/AT15)*CJ15),0)","v":0},null,0,0,0,0,0,0,0,0,0,0,0,0,0,0,0,0,0,0,0,0,null,"Summon Aberration"]
[null,"Summon Construct",11,"summon construct (c)",{"$f":"MATCH($D16,INDEX(Sorcadins!$D:$D,$D$3):'Sorcadins'!$D1756,0)-1","v":44},{"$f":"IF(CELL(\"contents\",INDIRECT(ADDRESS($D$3+$E16,4+F$4,1,1,\"Sorcadins\")))>=1,CELL(\"contents\",INDIRECT(ADDRESS($D$3+$E16,4+F$4,1,1,\"Sorcadins\"))),0)","v":0},{"$f":"IF(CELL(\"contents\",INDIRECT(ADDRESS($D$3+$E16,4+G$4,1,1,\"Sorcadins\")))>=1,CELL(\"contents\",INDIRECT(ADDRESS($D$3+$E16,4+G$4,1,1,\"Sorcadins\"))),0)","v":0},{"$f":"IF(CELL(\"contents\",INDIRECT(ADDRESS($D$3+$E16,4+H$4,1,1,\"Sorcadins\")))>=1,CELL(\"contents\",INDIRECT(ADDRESS($D$3+$E16,4+H$4,1,1,\"Sorcadins\"))),0)","v":0},{"$f":"IF(CELL(\"contents\",INDIRECT(ADDRESS($D$3+$E16,4+I$4,1,1,\"Sorcadins\")))>=1,CELL(\"contents\",INDIRECT(ADDRESS($D$3+$E16,4+I$4,1,1,\"Sorcadins\"))),0)","v":0},{"$f":"IF(CELL(\"contents\",INDIRECT(ADDRESS($D$3+$E16,4+J$4,1,1,\"Sorcadins\")))>=1,CELL(\"contents\",INDIRECT(ADDRESS($D$3+$E16,4+J$4,1,1,\"Sorcadins\"))),0)","v":0},{"$f":"IF(CELL(\"contents\",INDIRECT(ADDRESS($D$3+$E16,4+K$4,1,1,\"Sorcadins\")))>=1,CELL(\"contents\",INDIRECT(ADDRESS($D$3+$E16,4+K$4,1,1,\"Sorcadins\"))),0)","v":0},{"$f":"IF(CELL(\"contents\",INDIRECT(ADDRESS($D$3+$E16,4+L$4,1,1,\"Sorcadins\")))>=1,CELL(\"contents\",INDIRECT(ADDRESS($D$3+$E16,4+L$4,1,1,\"Sorcadins\"))),0)","v":0},{"$f":"IF(CELL(\"contents\",INDIRECT(ADDRESS($D$3+$E16,4+M$4,1,1,\"Sorcadins\")))>=1,CELL(\"contents\",INDIRECT(ADDRESS($D$3+$E16,4+M$4,1,1,\"Sorcadins\"))),0)","v":0},{"$f":"IF(CELL(\"contents\",INDIRECT(ADDRESS($D$3+$E16,4+N$4,1,1,\"Sorcadins\")))>=1,CELL(\"contents\",INDIRECT(ADDRESS($D$3+$E16,4+N$4,1,1,\"Sorcadins\"))),0)","v":0},{"$f":"IF(CELL(\"contents\",INDIRECT(ADDRESS($D$3+$E16,4+O$4,1,1,\"Sorcadins\")))>=1,CELL(\"contents\",INDIRECT(ADDRESS($D$3+$E16,4+O$4,1,1,\"Sorcadins\"))),0)","v":0},{"$f":"IF(CELL(\"contents\",INDIRECT(ADDRESS($D$3+$E16,4+P$4,1,1,\"Sorcadins\")))>=1,CELL(\"contents\",INDIRECT(ADDRESS($D$3+$E16,4+P$4,1,1,\"Sorcadins\"))),0)","v":0},{"$f":"IF(CELL(\"contents\",INDIRECT(ADDRESS($D$3+$E16,4+Q$4,1,1,\"Sorcadins\")))>=1,CELL(\"contents\",INDIRECT(ADDRESS($D$3+$E16,4+Q$4,1,1,\"Sorcadins\"))),0)","v":0},{"$f":"IF(CELL(\"contents\",INDIRECT(ADDRESS($D$3+$E16,4+R$4,1,1,\"Sorcadins\")))>=1,CELL(\"contents\",INDIRECT(ADDRESS($D$3+$E16,4+R$4,1,1,\"Sorcadins\"))),0)","v":0},{"$f":"IF(CELL(\"contents\",INDIRECT(ADDRESS($D$3+$E16,4+S$4,1,1,\"Sorcadins\")))>=1,CELL(\"contents\",INDIRECT(ADDRESS($D$3+$E16,4+S$4,1,1,\"Sorcadins\"))),0)","v":0},{"$f":"IF(CELL(\"contents\",INDIRECT(ADDRESS($D$3+$E16,4+T$4,1,1,\"Sorcadins\")))>=1,CELL(\"contents\",INDIRECT(ADDRESS($D$3+$E16,4+T$4,1,1,\"Sorcadins\"))),0)","v":0},{"$f":"IF(CELL(\"contents\",INDIRECT(ADDRESS($D$3+$E16,4+U$4,1,1,\"Sorcadins\")))>=1,CELL(\"contents\",INDIRECT(ADDRESS($D$3+$E16,4+U$4,1,1,\"Sorcadins\"))),0)","v":0},{"$f":"IF(CELL(\"contents\",INDIRECT(ADDRESS($D$3+$E16,4+V$4,1,1,\"Sorcadins\")))>=1,CELL(\"contents\",INDIRECT(ADDRESS($D$3+$E16,4+V$4,1,1,\"Sorcadins\"))),0)","v":0},{"$f":"IF(CELL(\"contents\",INDIRECT(ADDRESS($D$3+$E16,4+W$4,1,1,\"Sorcadins\")))>=1,CELL(\"contents\",INDIRECT(ADDRESS($D$3+$E16,4+W$4,1,1,\"Sorcadins\"))),0)","v":0},{"$f":"IF(CELL(\"contents\",INDIRECT(ADDRESS($D$3+$E16,4+X$4,1,1,\"Sorcadins\")))>=1,CELL(\"contents\",INDIRECT(ADDRESS($D$3+$E16,4+X$4,1,1,\"Sorcadins\"))),0)","v":0},{"$f":"IF(CELL(\"contents\",INDIRECT(ADDRESS($D$3+$E16,4+Y$4,1,1,\"Sorcadins\")))>=1,CELL(\"contents\",INDIRECT(ADDRESS($D$3+$E16,4+Y$4,1,1,\"Sorcadins\"))),0)","v":0},null,{"$f":"SUM(F$6:INDEX(F:F,5+$C16))","v":0},{"$f":"SUM(G$6:INDEX(G:G,5+$C16))","v":0},{"$f":"SUM(H$6:INDEX(H:H,5+$C16))","v":0},{"$f":"SUM(I$6:INDEX(I:I,5+$C16))","v":0},{"$f":"SUM(J$6:INDEX(J:J,5+$C16))","v":0},{"$f":"SUM(K$6:INDEX(K:K,5+$C16))","v":0},{"$f":"SUM(L$6:INDEX(L:L,5+$C16))","v":0},{"$f":"SUM(M$6:INDEX(M:M,5+$C16))","v":0},{"$f":"SUM(N$6:INDEX(N:N,5+$C16))","v":0},{"$f":"SUM(O$6:INDEX(O:O,5+$C16))","v":0},{"$f":"SUM(P$6:INDEX(P:P,5+$C16))","v":0},{"$f":"SUM(Q$6:INDEX(Q:Q,5+$C16))","v":0},{"$f":"SUM(R$6:INDEX(R:R,5+$C16))","v":0},{"$f":"SUM(S$6:INDEX(S:S,5+$C16))","v":0},{"$f":"SUM(T$6:INDEX(T:T,5+$C16))","v":0},{"$f":"SUM(U$6:INDEX(U:U,5+$C16))","v":0},{"$f":"SUM(V$6:INDEX(V:V,5+$C16))","v":0},{"$f":"SUM(W$6:INDEX(W:W,5+$C16))","v":0},{"$f":"SUM(X$6:INDEX(X:X,5+$C16))","v":0},{"$f":"SUM(Y$6:INDEX(Y:Y,5+$C16))","v":0},null,{"$f":"IF(AA16>0,IF(Sorcadins!E$315>Sorcadins!E$319,MIN(Sorcadins!E$315,Sorcadins!E$313/AA16),CELL(\"contents\",INDIRECT(ADDRESS(43+Sorcadins!E$25,ROUNDUP(5+MIN(20,AA16),0),1,1,\"Caster Tables\")))),0)","v":0},{"$f":"IF(AB16>0,IF(Sorcadins!F$315>Sorcadins!F$319,MIN(Sorcadins!F$315,Sorcadins!F$313/AB16),CELL(\"contents\",INDIRECT(ADDRESS(43+Sorcadins!F$25,ROUNDUP(5+MIN(20,AB16),0),1,1,\"Caster Tables\")))),0)","v":0},{"$f":"IF(AC16>0,IF(Sorcadins!G$315>Sorcadins!G$319,MIN(Sorcadins!G$315,Sorcadins!G$313/AC16),CELL(\"contents\",INDIRECT(ADDRESS(43+Sorcadins!G$25,ROUNDUP(5+MIN(20,AC16),0),1,1,\"Caster Tables\")))),0)","v":0},{"$f":"IF(AD16>0,IF(Sorcadins!H$315>Sorcadins!H$319,MIN(Sorcadins!H$315,Sorcadins!H$313/AD16),CELL(\"contents\",INDIRECT(ADDRESS(43+Sorcadins!H$25,ROUNDUP(5+MIN(20,AD16),0),1,1,\"Caster Tables\")))),0)","v":0},{"$f":"IF(AE16>0,IF(Sorcadins!I$315>Sorcadins!I$319,MIN(Sorcadins!I$315,Sorcadins!I$313/AE16),CELL(\"contents\",INDIRECT(ADDRESS(43+Sorcadins!I$25,ROUNDUP(5+MIN(20,AE16),0),1,1,\"Caster Tables\")))),0)","v":0},{"$f":"IF(AF16>0,IF(Sorcadins!J$315>Sorcadins!J$319,MIN(Sorcadins!J$315,Sorcadins!J$313/AF16),CELL(\"contents\",INDIRECT(ADDRESS(43+Sorcadins!J$25,ROUNDUP(5+MIN(20,AF16),0),1,1,\"Caster Tables\")))),0)","v":0},{"$f":"IF(AG16>0,IF(Sorcadins!K$315>Sorcadins!K$319,MIN(Sorcadins!K$315,Sorcadins!K$313/AG16),CELL(\"contents\",INDIRECT(ADDRESS(43+Sorcadins!K$25,ROUNDUP(5+MIN(20,AG16),0),1,1,\"Caster Tables\")))),0)","v":0},{"$f":"IF(AH16>0,IF(Sorcadins!L$315>Sorcadins!L$319,MIN(Sorcadins!L$315,Sorcadins!L$313/AH16),CELL(\"contents\",INDIRECT(ADDRESS(43+Sorcadins!L$25,ROUNDUP(5+MIN(20,AH16),0),1,1,\"Caster Tables\")))),0)","v":0},{"$f":"IF(AI16>0,IF(Sorcadins!M$315>Sorcadins!M$319,MIN(Sorcadins!M$315,Sorcadins!M$313/AI16),CELL(\"contents\",INDIRECT(ADDRESS(43+Sorcadins!M$25,ROUNDUP(5+MIN(20,AI16),0),1,1,\"Caster Tables\")))),0)","v":0},{"$f":"IF(AJ16>0,IF(Sorcadins!N$315>Sorcadins!N$319,MIN(Sorcadins!N$315,Sorcadins!N$313/AJ16),CELL(\"contents\",INDIRECT(ADDRESS(43+Sorcadins!N$25,ROUNDUP(5+MIN(20,AJ16),0),1,1,\"Caster Tables\")))),0)","v":0},{"$f":"IF(AK16>0,IF(Sorcadins!O$315>Sorcadins!O$319,MIN(Sorcadins!O$315,Sorcadins!O$313/AK16),CELL(\"contents\",INDIRECT(ADDRESS(43+Sorcadins!O$25,ROUNDUP(5+MIN(20,AK16),0),1,1,\"Caster Tables\")))),0)","v":0},{"$f":"IF(AL16>0,IF(Sorcadins!P$315>Sorcadins!P$319,MIN(Sorcadins!P$315,Sorcadins!P$313/AL16),CELL(\"contents\",INDIRECT(ADDRESS(43+Sorcadins!P$25,ROUNDUP(5+MIN(20,AL16),0),1,1,\"Caster Tables\")))),0)","v":0},{"$f":"IF(AM16>0,IF(Sorcadins!Q$315>Sorcadins!Q$319,MIN(Sorcadins!Q$315,Sorcadins!Q$313/AM16),CELL(\"contents\",INDIRECT(ADDRESS(43+Sorcadins!Q$25,ROUNDUP(5+MIN(20,AM16),0),1,1,\"Caster Tables\")))),0)","v":0},{"$f":"IF(AN16>0,IF(Sorcadins!R$315>Sorcadins!R$319,MIN(Sorcadins!R$315,Sorcadins!R$313/AN16),CELL(\"contents\",INDIRECT(ADDRESS(43+Sorcadins!R$25,ROUNDUP(5+MIN(20,AN16),0),1,1,\"Caster Tables\")))),0)","v":0},{"$f":"IF(AO16>0,IF(Sorcadins!S$315>Sorcadins!S$319,MIN(Sorcadins!S$315,Sorcadins!S$313/AO16),CELL(\"contents\",INDIRECT(ADDRESS(43+Sorcadins!S$25,ROUNDUP(5+MIN(20,AO16),0),1,1,\"Caster Tables\")))),0)","v":0},{"$f":"IF(AP16>0,IF(Sorcadins!T$315>Sorcadins!T$319,MIN(Sorcadins!T$315,Sorcadins!T$313/AP16),CELL(\"contents\",INDIRECT(ADDRESS(43+Sorcadins!T$25,ROUNDUP(5+MIN(20,AP16),0),1,1,\"Caster Tables\")))),0)","v":0},{"$f":"IF(AQ16>0,IF(Sorcadins!U$315>Sorcadins!U$319,MIN(Sorcadins!U$315,Sorcadins!U$313/AQ16),CELL(\"contents\",INDIRECT(ADDRESS(43+Sorcadins!U$25,ROUNDUP(5+MIN(20,AQ16),0),1,1,\"Caster Tables\")))),0)","v":0},{"$f":"IF(AR16>0,IF(Sorcadins!V$315>Sorcadins!V$319,MIN(Sorcadins!V$315,Sorcadins!V$313/AR16),CELL(\"contents\",INDIRECT(ADDRESS(43+Sorcadins!V$25,ROUNDUP(5+MIN(20,AR16),0),1,1,\"Caster Tables\")))),0)","v":0},{"$f":"IF(AS16>0,IF(Sorcadins!W$315>Sorcadins!W$319,MIN(Sorcadins!W$315,Sorcadins!W$313/AS16),CELL(\"contents\",INDIRECT(ADDRESS(43+Sorcadins!W$25,ROUNDUP(5+MIN(20,AS16),0),1,1,\"Caster Tables\")))),0)","v":0},{"$f":"IF(AT16>0,IF(Sorcadins!X$315>Sorcadins!X$319,MIN(Sorcadins!X$315,Sorcadins!X$313/AT16),CELL(\"contents\",INDIRECT(ADDRESS(43+Sorcadins!X$25,ROUNDUP(5+MIN(20,AT16),0),1,1,\"Caster Tables\")))),0)","v":0},null,0,0,0,0,0,0,0,0,0,0,0,0,0,0,0,0,0,0,0,0,null,{"$f":"IF(AV16>0,MIN(AV16,MAX(0,IF(F16>=0,AV16,0)-SUM(DG$6:INDEX(DG:DG,5+$C16-1))/AA16)*BQ16),0)","v":0},{"$f":"IF(AW16>0,MIN(AW16,MAX(0,IF(G16>=0,AW16,0)-SUM(DH$6:INDEX(DH:DH,5+$C16-1))/AB16)*BR16),0)","v":0},{"$f":"IF(AX16>0,MIN(AX16,MAX(0,IF(H16>=0,AX16,0)-SUM(DI$6:INDEX(DI:DI,5+$C16-1))/AC16)*BS16),0)","v":0},{"$f":"IF(AY16>0,MIN(AY16,MAX(0,IF(I16>=0,AY16,0)-SUM(DJ$6:INDEX(DJ:DJ,5+$C16-1))/AD16)*BT16),0)","v":0},{"$f":"IF(AZ16>0,MIN(AZ16,MAX(0,IF(J16>=0,AZ16,0)-SUM(DK$6:INDEX(DK:DK,5+$C16-1))/AE16)*BU16),0)","v":0},{"$f":"IF(BA16>0,MIN(BA16,MAX(0,IF(K16>=0,BA16,0)-SUM(DL$6:INDEX(DL:DL,5+$C16-1))/AF16)*BV16),0)","v":0},{"$f":"IF(BB16>0,MIN(BB16,MAX(0,IF(L16>=0,BB16,0)-SUM(DM$6:INDEX(DM:DM,5+$C16-1))/AG16)*BW16),0)","v":0},{"$f":"IF(BC16>0,MIN(BC16,MAX(0,IF(M16>=0,BC16,0)-SUM(DN$6:INDEX(DN:DN,5+$C16-1))/AH16)*BX16),0)","v":0},{"$f":"IF(BD16>0,MIN(BD16,MAX(0,IF(N16>=0,BD16,0)-SUM(DO$6:INDEX(DO:DO,5+$C16-1))/AI16)*BY16),0)","v":0},{"$f":"IF(BE16>0,MIN(BE16,MAX(0,IF(O16>=0,BE16,0)-SUM(DP$6:INDEX(DP:DP,5+$C16-1))/AJ16)*BZ16),0)","v":0},{"$f":"IF(BF16>0,MIN(BF16,MAX(0,IF(P16>=0,BF16,0)-SUM(DQ$6:INDEX(DQ:DQ,5+$C16-1))/AK16)*CA16),0)","v":0},{"$f":"IF(BG16>0,MIN(BG16,MAX(0,IF(Q16>=0,BG16,0)-SUM(DR$6:INDEX(DR:DR,5+$C16-1))/AL16)*CB16),0)","v":0},{"$f":"IF(BH16>0,MIN(BH16,MAX(0,IF(R16>=0,BH16,0)-SUM(DS$6:INDEX(DS:DS,5+$C16-1))/AM16)*CC16),0)","v":0},{"$f":"IF(BI16>0,MIN(BI16,MAX(0,IF(S16>=0,BI16,0)-SUM(DT$6:INDEX(DT:DT,5+$C16-1))/AN16)*CD16),0)","v":0},{"$f":"IF(BJ16>0,MIN(BJ16,MAX(0,IF(T16>=0,BJ16,0)-SUM(DU$6:INDEX(DU:DU,5+$C16-1))/AO16)*CE16),0)","v":0},{"$f":"IF(BK16>0,MIN(BK16,MAX(0,IF(U16>=0,BK16,0)-SUM(DV$6:INDEX(DV:DV,5+$C16-1))/AP16)*CF16),0)","v":0},{"$f":"IF(BL16>0,MIN(BL16,MAX(0,IF(V16>=0,BL16,0)-SUM(DW$6:INDEX(DW:DW,5+$C16-1))/AQ16)*CG16),0)","v":0},{"$f":"IF(BM16>0,MIN(BM16,MAX(0,IF(W16>=0,BM16,0)-SUM(DX$6:INDEX(DX:DX,5+$C16-1))/AR16)*CH16),0)","v":0},{"$f":"IF(BN16>0,MIN(BN16,MAX(0,IF(X16>=0,BN16,0)-SUM(DY$6:INDEX(DY:DY,5+$C16-1))/AS16)*CI16),0)","v":0},{"$f":"IF(BO16>0,MIN(BO16,MAX(0,IF(Y16>=0,BO16,0)-SUM(DZ$6:INDEX(DZ:DZ,5+$C16-1))/AT16)*CJ16),0)","v":0},null,0,0,0,0,0,0,0,0,0,0,0,0,0,0,0,0,0,0,0,0,null,"Summon Construct"]
[null,"Summon Celestial",12,"summon celestial (c)",{"$f":"MATCH($D17,INDEX(Sorcadins!$D:$D,$D$3):'Sorcadins'!$D1757,0)-1","v":45},{"$f":"IF(CELL(\"contents\",INDIRECT(ADDRESS($D$3+$E17,4+F$4,1,1,\"Sorcadins\")))>=1,CELL(\"contents\",INDIRECT(ADDRESS($D$3+$E17,4+F$4,1,1,\"Sorcadins\"))),0)","v":0},{"$f":"IF(CELL(\"contents\",INDIRECT(ADDRESS($D$3+$E17,4+G$4,1,1,\"Sorcadins\")))>=1,CELL(\"contents\",INDIRECT(ADDRESS($D$3+$E17,4+G$4,1,1,\"Sorcadins\"))),0)","v":0},{"$f":"IF(CELL(\"contents\",INDIRECT(ADDRESS($D$3+$E17,4+H$4,1,1,\"Sorcadins\")))>=1,CELL(\"contents\",INDIRECT(ADDRESS($D$3+$E17,4+H$4,1,1,\"Sorcadins\"))),0)","v":0},{"$f":"IF(CELL(\"contents\",INDIRECT(ADDRESS($D$3+$E17,4+I$4,1,1,\"Sorcadins\")))>=1,CELL(\"contents\",INDIRECT(ADDRESS($D$3+$E17,4+I$4,1,1,\"Sorcadins\"))),0)","v":0},{"$f":"IF(CELL(\"contents\",INDIRECT(ADDRESS($D$3+$E17,4+J$4,1,1,\"Sorcadins\")))>=1,CELL(\"contents\",INDIRECT(ADDRESS($D$3+$E17,4+J$4,1,1,\"Sorcadins\"))),0)","v":0},{"$f":"IF(CELL(\"contents\",INDIRECT(ADDRESS($D$3+$E17,4+K$4,1,1,\"Sorcadins\")))>=1,CELL(\"contents\",INDIRECT(ADDRESS($D$3+$E17,4+K$4,1,1,\"Sorcadins\"))),0)","v":0},{"$f":"IF(CELL(\"contents\",INDIRECT(ADDRESS($D$3+$E17,4+L$4,1,1,\"Sorcadins\")))>=1,CELL(\"contents\",INDIRECT(ADDRESS($D$3+$E17,4+L$4,1,1,\"Sorcadins\"))),0)","v":0},{"$f":"IF(CELL(\"contents\",INDIRECT(ADDRESS($D$3+$E17,4+M$4,1,1,\"Sorcadins\")))>=1,CELL(\"contents\",INDIRECT(ADDRESS($D$3+$E17,4+M$4,1,1,\"Sorcadins\"))),0)","v":0},{"$f":"IF(CELL(\"contents\",INDIRECT(ADDRESS($D$3+$E17,4+N$4,1,1,\"Sorcadins\")))>=1,CELL(\"contents\",INDIRECT(ADDRESS($D$3+$E17,4+N$4,1,1,\"Sorcadins\"))),0)","v":0},{"$f":"IF(CELL(\"contents\",INDIRECT(ADDRESS($D$3+$E17,4+O$4,1,1,\"Sorcadins\")))>=1,CELL(\"contents\",INDIRECT(ADDRESS($D$3+$E17,4+O$4,1,1,\"Sorcadins\"))),0)","v":0},{"$f":"IF(CELL(\"contents\",INDIRECT(ADDRESS($D$3+$E17,4+P$4,1,1,\"Sorcadins\")))>=1,CELL(\"contents\",INDIRECT(ADDRESS($D$3+$E17,4+P$4,1,1,\"Sorcadins\"))),0)","v":0},{"$f":"IF(CELL(\"contents\",INDIRECT(ADDRESS($D$3+$E17,4+Q$4,1,1,\"Sorcadins\")))>=1,CELL(\"contents\",INDIRECT(ADDRESS($D$3+$E17,4+Q$4,1,1,\"Sorcadins\"))),0)","v":0},{"$f":"IF(CELL(\"contents\",INDIRECT(ADDRESS($D$3+$E17,4+R$4,1,1,\"Sorcadins\")))>=1,CELL(\"contents\",INDIRECT(ADDRESS($D$3+$E17,4+R$4,1,1,\"Sorcadins\"))),0)","v":0},{"$f":"IF(CELL(\"contents\",INDIRECT(ADDRESS($D$3+$E17,4+S$4,1,1,\"Sorcadins\")))>=1,CELL(\"contents\",INDIRECT(ADDRESS($D$3+$E17,4+S$4,1,1,\"Sorcadins\"))),0)","v":0},{"$f":"IF(CELL(\"contents\",INDIRECT(ADDRESS($D$3+$E17,4+T$4,1,1,\"Sorcadins\")))>=1,CELL(\"contents\",INDIRECT(ADDRESS($D$3+$E17,4+T$4,1,1,\"Sorcadins\"))),0)","v":0},{"$f":"IF(CELL(\"contents\",INDIRECT(ADDRESS($D$3+$E17,4+U$4,1,1,\"Sorcadins\")))>=1,CELL(\"contents\",INDIRECT(ADDRESS($D$3+$E17,4+U$4,1,1,\"Sorcadins\"))),0)","v":0},{"$f":"IF(CELL(\"contents\",INDIRECT(ADDRESS($D$3+$E17,4+V$4,1,1,\"Sorcadins\")))>=1,CELL(\"contents\",INDIRECT(ADDRESS($D$3+$E17,4+V$4,1,1,\"Sorcadins\"))),0)","v":0},{"$f":"IF(CELL(\"contents\",INDIRECT(ADDRESS($D$3+$E17,4+W$4,1,1,\"Sorcadins\")))>=1,CELL(\"contents\",INDIRECT(ADDRESS($D$3+$E17,4+W$4,1,1,\"Sorcadins\"))),0)","v":0},{"$f":"IF(CELL(\"contents\",INDIRECT(ADDRESS($D$3+$E17,4+X$4,1,1,\"Sorcadins\")))>=1,CELL(\"contents\",INDIRECT(ADDRESS($D$3+$E17,4+X$4,1,1,\"Sorcadins\"))),0)","v":0},{"$f":"IF(CELL(\"contents\",INDIRECT(ADDRESS($D$3+$E17,4+Y$4,1,1,\"Sorcadins\")))>=1,CELL(\"contents\",INDIRECT(ADDRESS($D$3+$E17,4+Y$4,1,1,\"Sorcadins\"))),0)","v":0},null,{"$f":"SUM(F$6:INDEX(F:F,5+$C17))","v":0},{"$f":"SUM(G$6:INDEX(G:G,5+$C17))","v":0},{"$f":"SUM(H$6:INDEX(H:H,5+$C17))","v":0},{"$f":"SUM(I$6:INDEX(I:I,5+$C17))","v":0},{"$f":"SUM(J$6:INDEX(J:J,5+$C17))","v":0},{"$f":"SUM(K$6:INDEX(K:K,5+$C17))","v":0},{"$f":"SUM(L$6:INDEX(L:L,5+$C17))","v":0},{"$f":"SUM(M$6:INDEX(M:M,5+$C17))","v":0},{"$f":"SUM(N$6:INDEX(N:N,5+$C17))","v":0},{"$f":"SUM(O$6:INDEX(O:O,5+$C17))","v":0},{"$f":"SUM(P$6:INDEX(P:P,5+$C17))","v":0},{"$f":"SUM(Q$6:INDEX(Q:Q,5+$C17))","v":0},{"$f":"SUM(R$6:INDEX(R:R,5+$C17))","v":0},{"$f":"SUM(S$6:INDEX(S:S,5+$C17))","v":0},{"$f":"SUM(T$6:INDEX(T:T,5+$C17))","v":0},{"$f":"SUM(U$6:INDEX(U:U,5+$C17))","v":0},{"$f":"SUM(V$6:INDEX(V:V,5+$C17))","v":0},{"$f":"SUM(W$6:INDEX(W:W,5+$C17))","v":0},{"$f":"SUM(X$6:INDEX(X:X,5+$C17))","v":0},{"$f":"SUM(Y$6:INDEX(Y:Y,5+$C17))","v":0},null,{"$f":"IF(AA17>0,IF(Sorcadins!E$315>Sorcadins!E$319,MIN(Sorcadins!E$315,Sorcadins!E$313/AA17),CELL(\"contents\",INDIRECT(ADDRESS(43+Sorcadins!E$25,ROUNDUP(5+MIN(20,AA17),0),1,1,\"Caster Tables\")))),0)","v":0},{"$f":"IF(AB17>0,IF(Sorcadins!F$315>Sorcadins!F$319,MIN(Sorcadins!F$315,Sorcadins!F$313/AB17),CELL(\"contents\",INDIRECT(ADDRESS(43+Sorcadins!F$25,ROUNDUP(5+MIN(20,AB17),0),1,1,\"Caster Tables\")))),0)","v":0},{"$f":"IF(AC17>0,IF(Sorcadins!G$315>Sorcadins!G$319,MIN(Sorcadins!G$315,Sorcadins!G$313/AC17),CELL(\"contents\",INDIRECT(ADDRESS(43+Sorcadins!G$25,ROUNDUP(5+MIN(20,AC17),0),1,1,\"Caster Tables\")))),0)","v":0},{"$f":"IF(AD17>0,IF(Sorcadins!H$315>Sorcadins!H$319,MIN(Sorcadins!H$315,Sorcadins!H$313/AD17),CELL(\"contents\",INDIRECT(ADDRESS(43+Sorcadins!H$25,ROUNDUP(5+MIN(20,AD17),0),1,1,\"Caster Tables\")))),0)","v":0},{"$f":"IF(AE17>0,IF(Sorcadins!I$315>Sorcadins!I$319,MIN(Sorcadins!I$315,Sorcadins!I$313/AE17),CELL(\"contents\",INDIRECT(ADDRESS(43+Sorcadins!I$25,ROUNDUP(5+MIN(20,AE17),0),1,1,\"Caster Tables\")))),0)","v":0},{"$f":"IF(AF17>0,IF(Sorcadins!J$315>Sorcadins!J$319,MIN(Sorcadins!J$315,Sorcadins!J$313/AF17),CELL(\"contents\",INDIRECT(ADDRESS(43+Sorcadins!J$25,ROUNDUP(5+MIN(20,AF17),0),1,1,\"Caster Tables\")))),0)","v":0},{"$f":"IF(AG17>0,IF(Sorcadins!K$315>Sorcadins!K$319,MIN(Sorcadins!K$315,Sorcadins!K$313/AG17),CELL(\"contents\",INDIRECT(ADDRESS(43+Sorcadins!K$25,ROUNDUP(5+MIN(20,AG17),0),1,1,\"Caster Tables\")))),0)","v":0},{"$f":"IF(AH17>0,IF(Sorcadins!L$315>Sorcadins!L$319,MIN(Sorcadins!L$315,Sorcadins!L$313/AH17),CELL(\"contents\",INDIRECT(ADDRESS(43+Sorcadins!L$25,ROUNDUP(5+MIN(20,AH17),0),1,1,\"Caster Tables\")))),0)","v":0},{"$f":"IF(AI17>0,IF(Sorcadins!M$315>Sorcadins!M$319,MIN(Sorcadins!M$315,Sorcadins!M$313/AI17),CELL(\"contents\",INDIRECT(ADDRESS(43+Sorcadins!M$25,ROUNDUP(5+MIN(20,AI17),0),1,1,\"Caster Tables\")))),0)","v":0},{"$f":"IF(AJ17>0,IF(Sorcadins!N$315>Sorcadins!N$319,MIN(Sorcadins!N$315,Sorcadins!N$313/AJ17),CELL(\"contents\",INDIRECT(ADDRESS(43+Sorcadins!N$25,ROUNDUP(5+MIN(20,AJ17),0),1,1,\"Caster Tables\")))),0)","v":0},{"$f":"IF(AK17>0,IF(Sorcadins!O$315>Sorcadins!O$319,MIN(Sorcadins!O$315,Sorcadins!O$313/AK17),CELL(\"contents\",INDIRECT(ADDRESS(43+Sorcadins!O$25,ROUNDUP(5+MIN(20,AK17),0),1,1,\"Caster Tables\")))),0)","v":0},{"$f":"IF(AL17>0,IF(Sorcadins!P$315>Sorcadins!P$319,MIN(Sorcadins!P$315,Sorcadins!P$313/AL17),CELL(\"contents\",INDIRECT(ADDRESS(43+Sorcadins!P$25,ROUNDUP(5+MIN(20,AL17),0),1,1,\"Caster Tables\")))),0)","v":0},{"$f":"IF(AM17>0,IF(Sorcadins!Q$315>Sorcadins!Q$319,MIN(Sorcadins!Q$315,Sorcadins!Q$313/AM17),CELL(\"contents\",INDIRECT(ADDRESS(43+Sorcadins!Q$25,ROUNDUP(5+MIN(20,AM17),0),1,1,\"Caster Tables\")))),0)","v":0},{"$f":"IF(AN17>0,IF(Sorcadins!R$315>Sorcadins!R$319,MIN(Sorcadins!R$315,Sorcadins!R$313/AN17),CELL(\"contents\",INDIRECT(ADDRESS(43+Sorcadins!R$25,ROUNDUP(5+MIN(20,AN17),0),1,1,\"Caster Tables\")))),0)","v":0},{"$f":"IF(AO17>0,IF(Sorcadins!S$315>Sorcadins!S$319,MIN(Sorcadins!S$315,Sorcadins!S$313/AO17),CELL(\"contents\",INDIRECT(ADDRESS(43+Sorcadins!S$25,ROUNDUP(5+MIN(20,AO17),0),1,1,\"Caster Tables\")))),0)","v":0},{"$f":"IF(AP17>0,IF(Sorcadins!T$315>Sorcadins!T$319,MIN(Sorcadins!T$315,Sorcadins!T$313/AP17),CELL(\"contents\",INDIRECT(ADDRESS(43+Sorcadins!T$25,ROUNDUP(5+MIN(20,AP17),0),1,1,\"Caster Tables\")))),0)","v":0},{"$f":"IF(AQ17>0,IF(Sorcadins!U$315>Sorcadins!U$319,MIN(Sorcadins!U$315,Sorcadins!U$313/AQ17),CELL(\"contents\",INDIRECT(ADDRESS(43+Sorcadins!U$25,ROUNDUP(5+MIN(20,AQ17),0),1,1,\"Caster Tables\")))),0)","v":0},{"$f":"IF(AR17>0,IF(Sorcadins!V$315>Sorcadins!V$319,MIN(Sorcadins!V$315,Sorcadins!V$313/AR17),CELL(\"contents\",INDIRECT(ADDRESS(43+Sorcadins!V$25,ROUNDUP(5+MIN(20,AR17),0),1,1,\"Caster Tables\")))),0)","v":0},{"$f":"IF(AS17>0,IF(Sorcadins!W$315>Sorcadins!W$319,MIN(Sorcadins!W$315,Sorcadins!W$313/AS17),CELL(\"contents\",INDIRECT(ADDRESS(43+Sorcadins!W$25,ROUNDUP(5+MIN(20,AS17),0),1,1,\"Caster Tables\")))),0)","v":0},{"$f":"IF(AT17>0,IF(Sorcadins!X$315>Sorcadins!X$319,MIN(Sorcadins!X$315,Sorcadins!X$313/AT17),CELL(\"contents\",INDIRECT(ADDRESS(43+Sorcadins!X$25,ROUNDUP(5+MIN(20,AT17),0),1,1,\"Caster Tables\")))),0)","v":0},null,0,{"$f":"IF(G17>=1,AB17/G17,0)","v":0},0,0,0,0,0,0,0,0,0,0,0,0,0,0,0,0,0,0,null,{"$f":"IF(AV17>0,MIN(AV17,MAX(0,IF(F17>=0,AV17,0)-SUM(DG$6:INDEX(DG:DG,5+$C17-1))/AA17)*BQ17),0)","v":0},{"$f":"IF(AW17>0,MIN(AW17,MAX(0,IF(G17>=0,AW17,0)-SUM(DH$6:INDEX(DH:DH,5+$C17-1))/AB17)*BR17),0)","v":0},{"$f":"IF(AX17>0,MIN(AX17,MAX(0,IF(H17>=0,AX17,0)-SUM(DI$6:INDEX(DI:DI,5+$C17-1))/AC17)*BS17),0)","v":0},{"$f":"IF(AY17>0,MIN(AY17,MAX(0,IF(I17>=0,AY17,0)-SUM(DJ$6:INDEX(DJ:DJ,5+$C17-1))/AD17)*BT17),0)","v":0},{"$f":"IF(AZ17>0,MIN(AZ17,MAX(0,IF(J17>=0,AZ17,0)-SUM(DK$6:INDEX(DK:DK,5+$C17-1))/AE17)*BU17),0)","v":0},{"$f":"IF(BA17>0,MIN(BA17,MAX(0,IF(K17>=0,BA17,0)-SUM(DL$6:INDEX(DL:DL,5+$C17-1))/AF17)*BV17),0)","v":0},{"$f":"IF(BB17>0,MIN(BB17,MAX(0,IF(L17>=0,BB17,0)-SUM(DM$6:INDEX(DM:DM,5+$C17-1))/AG17)*BW17),0)","v":0},{"$f":"IF(BC17>0,MIN(BC17,MAX(0,IF(M17>=0,BC17,0)-SUM(DN$6:INDEX(DN:DN,5+$C17-1))/AH17)*BX17),0)","v":0},{"$f":"IF(BD17>0,MIN(BD17,MAX(0,IF(N17>=0,BD17,0)-SUM(DO$6:INDEX(DO:DO,5+$C17-1))/AI17)*BY17),0)","v":0},{"$f":"IF(BE17>0,MIN(BE17,MAX(0,IF(O17>=0,BE17,0)-SUM(DP$6:INDEX(DP:DP,5+$C17-1))/AJ17)*BZ17),0)","v":0},{"$f":"IF(BF17>0,MIN(BF17,MAX(0,IF(P17>=0,BF17,0)-SUM(DQ$6:INDEX(DQ:DQ,5+$C17-1))/AK17)*CA17),0)","v":0},{"$f":"IF(BG17>0,MIN(BG17,MAX(0,IF(Q17>=0,BG17,0)-SUM(DR$6:INDEX(DR:DR,5+$C17-1))/AL17)*CB17),0)","v":0},{"$f":"IF(BH17>0,MIN(BH17,MAX(0,IF(R17>=0,BH17,0)-SUM(DS$6:INDEX(DS:DS,5+$C17-1))/AM17)*CC17),0)","v":0},{"$f":"IF(BI17>0,MIN(BI17,MAX(0,IF(S17>=0,BI17,0)-SUM(DT$6:INDEX(DT:DT,5+$C17-1))/AN17)*CD17),0)","v":0},{"$f":"IF(BJ17>0,MIN(BJ17,MAX(0,IF(T17>=0,BJ17,0)-SUM(DU$6:INDEX(DU:DU,5+$C17-1))/AO17)*CE17),0)","v":0},{"$f":"IF(BK17>0,MIN(BK17,MAX(0,IF(U17>=0,BK17,0)-SUM(DV$6:INDEX(DV:DV,5+$C17-1))/AP17)*CF17),0)","v":0},{"$f":"IF(BL17>0,MIN(BL17,MAX(0,IF(V17>=0,BL17,0)-SUM(DW$6:INDEX(DW:DW,5+$C17-1))/AQ17)*CG17),0)","v":0},{"$f":"IF(BM17>0,MIN(BM17,MAX(0,IF(W17>=0,BM17,0)-SUM(DX$6:INDEX(DX:DX,5+$C17-1))/AR17)*CH17),0)","v":0},{"$f":"IF(BN17>0,MIN(BN17,MAX(0,IF(X17>=0,BN17,0)-SUM(DY$6:INDEX(DY:DY,5+$C17-1))/AS17)*CI17),0)","v":0},{"$f":"IF(BO17>0,MIN(BO17,MAX(0,IF(Y17>=0,BO17,0)-SUM(DZ$6:INDEX(DZ:DZ,5+$C17-1))/AT17)*CJ17),0)","v":0},null,0,0,0,0,0,0,0,0,0,0,0,0,0,0,0,0,0,0,0,0,null,"Summon Celestial"]
[null,"Shadow Blade",13,"shadow blade (c) (bonus action)",{"$f":"MATCH($D18,INDEX(Sorcadins!$D:$D,$D$3):'Sorcadins'!$D1758,0)-1","v":7},{"$f":"IF(CELL(\"contents\",INDIRECT(ADDRESS($D$3+$E18,4+F$4,1,1,\"Sorcadins\")))>=1,CELL(\"contents\",INDIRECT(ADDRESS($D$3+$E18,4+F$4,1,1,\"Sorcadins\"))),0)","v":0},{"$f":"IF(CELL(\"contents\",INDIRECT(ADDRESS($D$3+$E18,4+G$4,1,1,\"Sorcadins\")))>=1,CELL(\"contents\",INDIRECT(ADDRESS($D$3+$E18,4+G$4,1,1,\"Sorcadins\"))),0)","v":0},{"$f":"IF(CELL(\"contents\",INDIRECT(ADDRESS($D$3+$E18,4+H$4,1,1,\"Sorcadins\")))>=1,CELL(\"contents\",INDIRECT(ADDRESS($D$3+$E18,4+H$4,1,1,\"Sorcadins\"))),0)","v":0},{"$f":"IF(CELL(\"contents\",INDIRECT(ADDRESS($D$3+$E18,4+I$4,1,1,\"Sorcadins\")))>=1,CELL(\"contents\",INDIRECT(ADDRESS($D$3+$E18,4+I$4,1,1,\"Sorcadins\"))),0)","v":0},{"$f":"IF(CELL(\"contents\",INDIRECT(ADDRESS($D$3+$E18,4+J$4,1,1,\"Sorcadins\")))>=1,CELL(\"contents\",INDIRECT(ADDRESS($D$3+$E18,4+J$4,1,1,\"Sorcadins\"))),0)","v":0},{"$f":"IF(CELL(\"contents\",INDIRECT(ADDRESS($D$3+$E18,4+K$4,1,1,\"Sorcadins\")))>=1,CELL(\"contents\",INDIRECT(ADDRESS($D$3+$E18,4+K$4,1,1,\"Sorcadins\"))),0)","v":0},{"$f":"IF(CELL(\"contents\",INDIRECT(ADDRESS($D$3+$E18,4+L$4,1,1,\"Sorcadins\")))>=1,CELL(\"contents\",INDIRECT(ADDRESS($D$3+$E18,4+L$4,1,1,\"Sorcadins\"))),0)","v":0},{"$f":"IF(CELL(\"contents\",INDIRECT(ADDRESS($D$3+$E18,4+M$4,1,1,\"Sorcadins\")))>=1,CELL(\"contents\",INDIRECT(ADDRESS($D$3+$E18,4+M$4,1,1,\"Sorcadins\"))),0)","v":0},{"$f":"IF(CELL(\"contents\",INDIRECT(ADDRESS($D$3+$E18,4+N$4,1,1,\"Sorcadins\")))>=1,CELL(\"contents\",INDIRECT(ADDRESS($D$3+$E18,4+N$4,1,1,\"Sorcadins\"))),0)","v":0},{"$f":"IF(CELL(\"contents\",INDIRECT(ADDRESS($D$3+$E18,4+O$4,1,1,\"Sorcadins\")))>=1,CELL(\"contents\",INDIRECT(ADDRESS($D$3+$E18,4+O$4,1,1,\"Sorcadins\"))),0)","v":0},{"$f":"IF(CELL(\"contents\",INDIRECT(ADDRESS($D$3+$E18,4+P$4,1,1,\"Sorcadins\")))>=1,CELL(\"contents\",INDIRECT(ADDRESS($D$3+$E18,4+P$4,1,1,\"Sorcadins\"))),0)","v":0},{"$f":"IF(CELL(\"contents\",INDIRECT(ADDRESS($D$3+$E18,4+Q$4,1,1,\"Sorcadins\")))>=1,CELL(\"contents\",INDIRECT(ADDRESS($D$3+$E18,4+Q$4,1,1,\"Sorcadins\"))),0)","v":0},{"$f":"IF(CELL(\"contents\",INDIRECT(ADDRESS($D$3+$E18,4+R$4,1,1,\"Sorcadins\")))>=1,CELL(\"contents\",INDIRECT(ADDRESS($D$3+$E18,4+R$4,1,1,\"Sorcadins\"))),0)","v":0},{"$f":"IF(CELL(\"contents\",INDIRECT(ADDRESS($D$3+$E18,4+S$4,1,1,\"Sorcadins\")))>=1,CELL(\"contents\",INDIRECT(ADDRESS($D$3+$E18,4+S$4,1,1,\"Sorcadins\"))),0)","v":0},{"$f":"IF(CELL(\"contents\",INDIRECT(ADDRESS($D$3+$E18,4+T$4,1,1,\"Sorcadins\")))>=1,CELL(\"contents\",INDIRECT(ADDRESS($D$3+$E18,4+T$4,1,1,\"Sorcadins\"))),0)","v":0},{"$f":"IF(CELL(\"contents\",INDIRECT(ADDRESS($D$3+$E18,4+U$4,1,1,\"Sorcadins\")))>=1,CELL(\"contents\",INDIRECT(ADDRESS($D$3+$E18,4+U$4,1,1,\"Sorcadins\"))),0)","v":0},{"$f":"IF(CELL(\"contents\",INDIRECT(ADDRESS($D$3+$E18,4+V$4,1,1,\"Sorcadins\")))>=1,CELL(\"contents\",INDIRECT(ADDRESS($D$3+$E18,4+V$4,1,1,\"Sorcadins\"))),0)","v":0},{"$f":"IF(CELL(\"contents\",INDIRECT(ADDRESS($D$3+$E18,4+W$4,1,1,\"Sorcadins\")))>=1,CELL(\"contents\",INDIRECT(ADDRESS($D$3+$E18,4+W$4,1,1,\"Sorcadins\"))),0)","v":0},{"$f":"IF(CELL(\"contents\",INDIRECT(ADDRESS($D$3+$E18,4+X$4,1,1,\"Sorcadins\")))>=1,CELL(\"contents\",INDIRECT(ADDRESS($D$3+$E18,4+X$4,1,1,\"Sorcadins\"))),0)","v":0},{"$f":"IF(CELL(\"contents\",INDIRECT(ADDRESS($D$3+$E18,4+Y$4,1,1,\"Sorcadins\")))>=1,CELL(\"contents\",INDIRECT(ADDRESS($D$3+$E18,4+Y$4,1,1,\"Sorcadins\"))),0)","v":0},null,{"$f":"SUM(F$6:INDEX(F:F,5+$C18))","v":0},{"$f":"SUM(G$6:INDEX(G:G,5+$C18))","v":0},{"$f":"SUM(H$6:INDEX(H:H,5+$C18))","v":0},{"$f":"SUM(I$6:INDEX(I:I,5+$C18))","v":0},{"$f":"SUM(J$6:INDEX(J:J,5+$C18))","v":0},{"$f":"SUM(K$6:INDEX(K:K,5+$C18))","v":0},{"$f":"SUM(L$6:INDEX(L:L,5+$C18))","v":0},{"$f":"SUM(M$6:INDEX(M:M,5+$C18))","v":0},{"$f":"SUM(N$6:INDEX(N:N,5+$C18))","v":0},{"$f":"SUM(O$6:INDEX(O:O,5+$C18))","v":0},{"$f":"SUM(P$6:INDEX(P:P,5+$C18))","v":0},{"$f":"SUM(Q$6:INDEX(Q:Q,5+$C18))","v":0},{"$f":"SUM(R$6:INDEX(R:R,5+$C18))","v":0},{"$f":"SUM(S$6:INDEX(S:S,5+$C18))","v":0},{"$f":"SUM(T$6:INDEX(T:T,5+$C18))","v":0},{"$f":"SUM(U$6:INDEX(U:U,5+$C18))","v":0},{"$f":"SUM(V$6:INDEX(V:V,5+$C18))","v":0},{"$f":"SUM(W$6:INDEX(W:W,5+$C18))","v":0},{"$f":"SUM(X$6:INDEX(X:X,5+$C18))","v":0},{"$f":"SUM(Y$6:INDEX(Y:Y,5+$C18))","v":0},null,{"$f":"IF(AA18>0,IF(Sorcadins!E$315>Sorcadins!E$319,MIN(Sorcadins!E$315,Sorcadins!E$313/AA18),CELL(\"contents\",INDIRECT(ADDRESS(43+Sorcadins!E$25,ROUNDUP(5+MIN(20,AA18),0),1,1,\"Caster Tables\")))),0)","v":0},{"$f":"IF(AB18>0,IF(Sorcadins!F$315>Sorcadins!F$319,MIN(Sorcadins!F$315,Sorcadins!F$313/AB18),CELL(\"contents\",INDIRECT(ADDRESS(43+Sorcadins!F$25,ROUNDUP(5+MIN(20,AB18),0),1,1,\"Caster Tables\")))),0)","v":0},{"$f":"IF(AC18>0,IF(Sorcadins!G$315>Sorcadins!G$319,MIN(Sorcadins!G$315,Sorcadins!G$313/AC18),CELL(\"contents\",INDIRECT(ADDRESS(43+Sorcadins!G$25,ROUNDUP(5+MIN(20,AC18),0),1,1,\"Caster Tables\")))),0)","v":0},{"$f":"IF(AD18>0,IF(Sorcadins!H$315>Sorcadins!H$319,MIN(Sorcadins!H$315,Sorcadins!H$313/AD18),CELL(\"contents\",INDIRECT(ADDRESS(43+Sorcadins!H$25,ROUNDUP(5+MIN(20,AD18),0),1,1,\"Caster Tables\")))),0)","v":0},{"$f":"IF(AE18>0,IF(Sorcadins!I$315>Sorcadins!I$319,MIN(Sorcadins!I$315,Sorcadins!I$313/AE18),CELL(\"contents\",INDIRECT(ADDRESS(43+Sorcadins!I$25,ROUNDUP(5+MIN(20,AE18),0),1,1,\"Caster Tables\")))),0)","v":0},{"$f":"IF(AF18>0,IF(Sorcadins!J$315>Sorcadins!J$319,MIN(Sorcadins!J$315,Sorcadins!J$313/AF18),CELL(\"contents\",INDIRECT(ADDRESS(43+Sorcadins!J$25,ROUNDUP(5+MIN(20,AF18),0),1,1,\"Caster Tables\")))),0)","v":0},{"$f":"IF(AG18>0,IF(Sorcadins!K$315>Sorcadins!K$319,MIN(Sorcadins!K$315,Sorcadins!K$313/AG18),CELL(\"contents\",INDIRECT(ADDRESS(43+Sorcadins!K$25,ROUNDUP(5+MIN(20,AG18),0),1,1,\"Caster Tables\")))),0)","v":0},{"$f":"IF(AH18>0,IF(Sorcadins!L$315>Sorcadins!L$319,MIN(Sorcadins!L$315,Sorcadins!L$313/AH18),CELL(\"contents\",INDIRECT(ADDRESS(43+Sorcadins!L$25,ROUNDUP(5+MIN(20,AH18),0),1,1,\"Caster Tables\")))),0)","v":0},{"$f":"IF(AI18>0,IF(Sorcadins!M$315>Sorcadins!M$319,MIN(Sorcadins!M$315,Sorcadins!M$313/AI18),CELL(\"contents\",INDIRECT(ADDRESS(43+Sorcadins!M$25,ROUNDUP(5+MIN(20,AI18),0),1,1,\"Caster Tables\")))),0)","v":0},{"$f":"IF(AJ18>0,IF(Sorcadins!N$315>Sorcadins!N$319,MIN(Sorcadins!N$315,Sorcadins!N$313/AJ18),CELL(\"contents\",INDIRECT(ADDRESS(43+Sorcadins!N$25,ROUNDUP(5+MIN(20,AJ18),0),1,1,\"Caster Tables\")))),0)","v":0},{"$f":"IF(AK18>0,IF(Sorcadins!O$315>Sorcadins!O$319,MIN(Sorcadins!O$315,Sorcadins!O$313/AK18),CELL(\"contents\",INDIRECT(ADDRESS(43+Sorcadins!O$25,ROUNDUP(5+MIN(20,AK18),0),1,1,\"Caster Tables\")))),0)","v":0},{"$f":"IF(AL18>0,IF(Sorcadins!P$315>Sorcadins!P$319,MIN(Sorcadins!P$315,Sorcadins!P$313/AL18),CELL(\"contents\",INDIRECT(ADDRESS(43+Sorcadins!P$25,ROUNDUP(5+MIN(20,AL18),0),1,1,\"Caster Tables\")))),0)","v":0},{"$f":"IF(AM18>0,IF(Sorcadins!Q$315>Sorcadins!Q$319,MIN(Sorcadins!Q$315,Sorcadins!Q$313/AM18),CELL(\"contents\",INDIRECT(ADDRESS(43+Sorcadins!Q$25,ROUNDUP(5+MIN(20,AM18),0),1,1,\"Caster Tables\")))),0)","v":0},{"$f":"IF(AN18>0,IF(Sorcadins!R$315>Sorcadins!R$319,MIN(Sorcadins!R$315,Sorcadins!R$313/AN18),CELL(\"contents\",INDIRECT(ADDRESS(43+Sorcadins!R$25,ROUNDUP(5+MIN(20,AN18),0),1,1,\"Caster Tables\")))),0)","v":0},{"$f":"IF(AO18>0,IF(Sorcadins!S$315>Sorcadins!S$319,MIN(Sorcadins!S$315,Sorcadins!S$313/AO18),CELL(\"contents\",INDIRECT(ADDRESS(43+Sorcadins!S$25,ROUNDUP(5+MIN(20,AO18),0),1,1,\"Caster Tables\")))),0)","v":0},{"$f":"IF(AP18>0,IF(Sorcadins!T$315>Sorcadins!T$319,MIN(Sorcadins!T$315,Sorcadins!T$313/AP18),CELL(\"contents\",INDIRECT(ADDRESS(43+Sorcadins!T$25,ROUNDUP(5+MIN(20,AP18),0),1,1,\"Caster Tables\")))),0)","v":0},{"$f":"IF(AQ18>0,IF(Sorcadins!U$315>Sorcadins!U$319,MIN(Sorcadins!U$315,Sorcadins!U$313/AQ18),CELL(\"contents\",INDIRECT(ADDRESS(43+Sorcadins!U$25,ROUNDUP(5+MIN(20,AQ18),0),1,1,\"Caster Tables\")))),0)","v":0},{"$f":"IF(AR18>0,IF(Sorcadins!V$315>Sorcadins!V$319,MIN(Sorcadins!V$315,Sorcadins!V$313/AR18),CELL(\"contents\",INDIRECT(ADDRESS(43+Sorcadins!V$25,ROUNDUP(5+MIN(20,AR18),0),1,1,\"Caster Tables\")))),0)","v":0},{"$f":"IF(AS18>0,IF(Sorcadins!W$315>Sorcadins!W$319,MIN(Sorcadins!W$315,Sorcadins!W$313/AS18),CELL(\"contents\",INDIRECT(ADDRESS(43+Sorcadins!W$25,ROUNDUP(5+MIN(20,AS18),0),1,1,\"Caster Tables\")))),0)","v":0},{"$f":"IF(AT18>0,IF(Sorcadins!X$315>Sorcadins!X$319,MIN(Sorcadins!X$315,Sorcadins!X$313/AT18),CELL(\"contents\",INDIRECT(ADDRESS(43+Sorcadins!X$25,ROUNDUP(5+MIN(20,AT18),0),1,1,\"Caster Tables\")))),0)","v":0},null,{"$f":"IF(F18>=1,AA18/F18,0)","v":0},0,0,0,0,0,0,0,0,0,{"$f":"IF(P18>=1,AK18/P18,0)","v":0},0,0,0,0,0,0,0,0,0,null,{"$f":"IF(AV18>0,MIN(AV18,MAX(0,IF(F18>=0,AV18,0)-SUM(DG$6:INDEX(DG:DG,5+$C18-1))/AA18)*BQ18),0)","v":0},{"$f":"IF(AW18>0,MIN(AW18,MAX(0,IF(G18>=0,AW18,0)-SUM(DH$6:INDEX(DH:DH,5+$C18-1))/AB18)*BR18),0)","v":0},{"$f":"IF(AX18>0,MIN(AX18,MAX(0,IF(H18>=0,AX18,0)-SUM(DI$6:INDEX(DI:DI,5+$C18-1))/AC18)*BS18),0)","v":0},{"$f":"IF(AY18>0,MIN(AY18,MAX(0,IF(I18>=0,AY18,0)-SUM(DJ$6:INDEX(DJ:DJ,5+$C18-1))/AD18)*BT18),0)","v":0},{"$f":"IF(AZ18>0,MIN(AZ18,MAX(0,IF(J18>=0,AZ18,0)-SUM(DK$6:INDEX(DK:DK,5+$C18-1))/AE18)*BU18),0)","v":0},{"$f":"IF(BA18>0,MIN(BA18,MAX(0,IF(K18>=0,BA18,0)-SUM(DL$6:INDEX(DL:DL,5+$C18-1))/AF18)*BV18),0)","v":0},{"$f":"IF(BB18>0,MIN(BB18,MAX(0,IF(L18>=0,BB18,0)-SUM(DM$6:INDEX(DM:DM,5+$C18-1))/AG18)*BW18),0)","v":0},{"$f":"IF(BC18>0,MIN(BC18,MAX(0,IF(M18>=0,BC18,0)-SUM(DN$6:INDEX(DN:DN,5+$C18-1))/AH18)*BX18),0)","v":0},{"$f":"IF(BD18>0,MIN(BD18,MAX(0,IF(N18>=0,BD18,0)-SUM(DO$6:INDEX(DO:DO,5+$C18-1))/AI18)*BY18),0)","v":0},{"$f":"IF(BE18>0,MIN(BE18,MAX(0,IF(O18>=0,BE18,0)-SUM(DP$6:INDEX(DP:DP,5+$C18-1))/AJ18)*BZ18),0)","v":0},{"$f":"IF(BF18>0,MIN(BF18,MAX(0,IF(P18>=0,BF18,0)-SUM(DQ$6:INDEX(DQ:DQ,5+$C18-1))/AK18)*CA18),0)","v":0},{"$f":"IF(BG18>0,MIN(BG18,MAX(0,IF(Q18>=0,BG18,0)-SUM(DR$6:INDEX(DR:DR,5+$C18-1))/AL18)*CB18),0)","v":0},{"$f":"IF(BH18>0,MIN(BH18,MAX(0,IF(R18>=0,BH18,0)-SUM(DS$6:INDEX(DS:DS,5+$C18-1))/AM18)*CC18),0)","v":0},{"$f":"IF(BI18>0,MIN(BI18,MAX(0,IF(S18>=0,BI18,0)-SUM(DT$6:INDEX(DT:DT,5+$C18-1))/AN18)*CD18),0)","v":0},{"$f":"IF(BJ18>0,MIN(BJ18,MAX(0,IF(T18>=0,BJ18,0)-SUM(DU$6:INDEX(DU:DU,5+$C18-1))/AO18)*CE18),0)","v":0},{"$f":"IF(BK18>0,MIN(BK18,MAX(0,IF(U18>=0,BK18,0)-SUM(DV$6:INDEX(DV:DV,5+$C18-1))/AP18)*CF18),0)","v":0},{"$f":"IF(BL18>0,MIN(BL18,MAX(0,IF(V18>=0,BL18,0)-SUM(DW$6:INDEX(DW:DW,5+$C18-1))/AQ18)*CG18),0)","v":0},{"$f":"IF(BM18>0,MIN(BM18,MAX(0,IF(W18>=0,BM18,0)-SUM(DX$6:INDEX(DX:DX,5+$C18-1))/AR18)*CH18),0)","v":0},{"$f":"IF(BN18>0,MIN(BN18,MAX(0,IF(X18>=0,BN18,0)-SUM(DY$6:INDEX(DY:DY,5+$C18-1))/AS18)*CI18),0)","v":0},{"$f":"IF(BO18>0,MIN(BO18,MAX(0,IF(Y18>=0,BO18,0)-SUM(DZ$6:INDEX(DZ:DZ,5+$C18-1))/AT18)*CJ18),0)","v":0},null,{"$f":"F18*CL18","v":0},0,0,0,0,0,0,0,0,0,{"$f":"P18*CV18","v":0},0,0,0,0,0,0,0,0,0,null,"Shadow Blade"]
[null,"Scorching Ray",14,"scorching ray : AE",{"$f":"MATCH($D19,INDEX(Sorcadins!$D:$D,$D$3):'Sorcadins'!$D1759,0)-1","v":3},{"$f":"IF(CELL(\"contents\",INDIRECT(ADDRESS($D$3+$E19,4+F$4,1,1,\"Sorcadins\")))>=1,CELL(\"contents\",INDIRECT(ADDRESS($D$3+$E19,4+F$4,1,1,\"Sorcadins\"))),0)","v":0},{"$f":"IF(CELL(\"contents\",INDIRECT(ADDRESS($D$3+$E19,4+G$4,1,1,\"Sorcadins\")))>=1,CELL(\"contents\",INDIRECT(ADDRESS($D$3+$E19,4+G$4,1,1,\"Sorcadins\"))),0)","v":0},{"$f":"IF(CELL(\"contents\",INDIRECT(ADDRESS($D$3+$E19,4+H$4,1,1,\"Sorcadins\")))>=1,CELL(\"contents\",INDIRECT(ADDRESS($D$3+$E19,4+H$4,1,1,\"Sorcadins\"))),0)","v":0},{"$f":"IF(CELL(\"contents\",INDIRECT(ADDRESS($D$3+$E19,4+I$4,1,1,\"Sorcadins\")))>=1,CELL(\"contents\",INDIRECT(ADDRESS($D$3+$E19,4+I$4,1,1,\"Sorcadins\"))),0)","v":0},{"$f":"IF(CELL(\"contents\",INDIRECT(ADDRESS($D$3+$E19,4+J$4,1,1,\"Sorcadins\")))>=1,CELL(\"contents\",INDIRECT(ADDRESS($D$3+$E19,4+J$4,1,1,\"Sorcadins\"))),0)","v":0},{"$f":"IF(CELL(\"contents\",INDIRECT(ADDRESS($D$3+$E19,4+K$4,1,1,\"Sorcadins\")))>=1,CELL(\"contents\",INDIRECT(ADDRESS($D$3+$E19,4+K$4,1,1,\"Sorcadins\"))),0)","v":0},{"$f":"IF(CELL(\"contents\",INDIRECT(ADDRESS($D$3+$E19,4+L$4,1,1,\"Sorcadins\")))>=1,CELL(\"contents\",INDIRECT(ADDRESS($D$3+$E19,4+L$4,1,1,\"Sorcadins\"))),0)","v":0},{"$f":"IF(CELL(\"contents\",INDIRECT(ADDRESS($D$3+$E19,4+M$4,1,1,\"Sorcadins\")))>=1,CELL(\"contents\",INDIRECT(ADDRESS($D$3+$E19,4+M$4,1,1,\"Sorcadins\"))),0)","v":0},{"$f":"IF(CELL(\"contents\",INDIRECT(ADDRESS($D$3+$E19,4+N$4,1,1,\"Sorcadins\")))>=1,CELL(\"contents\",INDIRECT(ADDRESS($D$3+$E19,4+N$4,1,1,\"Sorcadins\"))),0)","v":0},{"$f":"IF(CELL(\"contents\",INDIRECT(ADDRESS($D$3+$E19,4+O$4,1,1,\"Sorcadins\")))>=1,CELL(\"contents\",INDIRECT(ADDRESS($D$3+$E19,4+O$4,1,1,\"Sorcadins\"))),0)","v":0},{"$f":"IF(CELL(\"contents\",INDIRECT(ADDRESS($D$3+$E19,4+P$4,1,1,\"Sorcadins\")))>=1,CELL(\"contents\",INDIRECT(ADDRESS($D$3+$E19,4+P$4,1,1,\"Sorcadins\"))),0)","v":0},{"$f":"IF(CELL(\"contents\",INDIRECT(ADDRESS($D$3+$E19,4+Q$4,1,1,\"Sorcadins\")))>=1,CELL(\"contents\",INDIRECT(ADDRESS($D$3+$E19,4+Q$4,1,1,\"Sorcadins\"))),0)","v":0},{"$f":"IF(CELL(\"contents\",INDIRECT(ADDRESS($D$3+$E19,4+R$4,1,1,\"Sorcadins\")))>=1,CELL(\"contents\",INDIRECT(ADDRESS($D$3+$E19,4+R$4,1,1,\"Sorcadins\"))),0)","v":0},{"$f":"IF(CELL(\"contents\",INDIRECT(ADDRESS($D$3+$E19,4+S$4,1,1,\"Sorcadins\")))>=1,CELL(\"contents\",INDIRECT(ADDRESS($D$3+$E19,4+S$4,1,1,\"Sorcadins\"))),0)","v":0},{"$f":"IF(CELL(\"contents\",INDIRECT(ADDRESS($D$3+$E19,4+T$4,1,1,\"Sorcadins\")))>=1,CELL(\"contents\",INDIRECT(ADDRESS($D$3+$E19,4+T$4,1,1,\"Sorcadins\"))),0)","v":0},{"$f":"IF(CELL(\"contents\",INDIRECT(ADDRESS($D$3+$E19,4+U$4,1,1,\"Sorcadins\")))>=1,CELL(\"contents\",INDIRECT(ADDRESS($D$3+$E19,4+U$4,1,1,\"Sorcadins\"))),0)","v":0},{"$f":"IF(CELL(\"contents\",INDIRECT(ADDRESS($D$3+$E19,4+V$4,1,1,\"Sorcadins\")))>=1,CELL(\"contents\",INDIRECT(ADDRESS($D$3+$E19,4+V$4,1,1,\"Sorcadins\"))),0)","v":0},{"$f":"IF(CELL(\"contents\",INDIRECT(ADDRESS($D$3+$E19,4+W$4,1,1,\"Sorcadins\")))>=1,CELL(\"contents\",INDIRECT(ADDRESS($D$3+$E19,4+W$4,1,1,\"Sorcadins\"))),0)","v":0},{"$f":"IF(CELL(\"contents\",INDIRECT(ADDRESS($D$3+$E19,4+X$4,1,1,\"Sorcadins\")))>=1,CELL(\"contents\",INDIRECT(ADDRESS($D$3+$E19,4+X$4,1,1,\"Sorcadins\"))),0)","v":0},{"$f":"IF(CELL(\"contents\",INDIRECT(ADDRESS($D$3+$E19,4+Y$4,1,1,\"Sorcadins\")))>=1,CELL(\"contents\",INDIRECT(ADDRESS($D$3+$E19,4+Y$4,1,1,\"Sorcadins\"))),0)","v":0},null,{"$f":"SUM(F$6:INDEX(F:F,5+$C19))","v":0},{"$f":"SUM(G$6:INDEX(G:G,5+$C19))","v":0},{"$f":"SUM(H$6:INDEX(H:H,5+$C19))","v":0},{"$f":"SUM(I$6:INDEX(I:I,5+$C19))","v":0},{"$f":"SUM(J$6:INDEX(J:J,5+$C19))","v":0},{"$f":"SUM(K$6:INDEX(K:K,5+$C19))","v":0},{"$f":"SUM(L$6:INDEX(L:L,5+$C19))","v":0},{"$f":"SUM(M$6:INDEX(M:M,5+$C19))","v":0},{"$f":"SUM(N$6:INDEX(N:N,5+$C19))","v":0},{"$f":"SUM(O$6:INDEX(O:O,5+$C19))","v":0},{"$f":"SUM(P$6:INDEX(P:P,5+$C19))","v":0},{"$f":"SUM(Q$6:INDEX(Q:Q,5+$C19))","v":0},{"$f":"SUM(R$6:INDEX(R:R,5+$C19))","v":0},{"$f":"SUM(S$6:INDEX(S:S,5+$C19))","v":0},{"$f":"SUM(T$6:INDEX(T:T,5+$C19))","v":0},{"$f":"SUM(U$6:INDEX(U:U,5+$C19))","v":0},{"$f":"SUM(V$6:INDEX(V:V,5+$C19))","v":0},{"$f":"SUM(W$6:INDEX(W:W,5+$C19))","v":0},{"$f":"SUM(X$6:INDEX(X:X,5+$C19))","v":0},{"$f":"SUM(Y$6:INDEX(Y:Y,5+$C19))","v":0},null,{"$f":"IF(AA19>0,IF(Sorcadins!E$315>Sorcadins!E$319,MIN(Sorcadins!E$315,Sorcadins!E$313/AA19),CELL(\"contents\",INDIRECT(ADDRESS(43+Sorcadins!E$25,ROUNDUP(5+MIN(20,AA19),0),1,1,\"Caster Tables\")))),0)","v":0},{"$f":"IF(AB19>0,IF(Sorcadins!F$315>Sorcadins!F$319,MIN(Sorcadins!F$315,Sorcadins!F$313/AB19),CELL(\"contents\",INDIRECT(ADDRESS(43+Sorcadins!F$25,ROUNDUP(5+MIN(20,AB19),0),1,1,\"Caster Tables\")))),0)","v":0},{"$f":"IF(AC19>0,IF(Sorcadins!G$315>Sorcadins!G$319,MIN(Sorcadins!G$315,Sorcadins!G$313/AC19),CELL(\"contents\",INDIRECT(ADDRESS(43+Sorcadins!G$25,ROUNDUP(5+MIN(20,AC19),0),1,1,\"Caster Tables\")))),0)","v":0},{"$f":"IF(AD19>0,IF(Sorcadins!H$315>Sorcadins!H$319,MIN(Sorcadins!H$315,Sorcadins!H$313/AD19),CELL(\"contents\",INDIRECT(ADDRESS(43+Sorcadins!H$25,ROUNDUP(5+MIN(20,AD19),0),1,1,\"Caster Tables\")))),0)","v":0},{"$f":"IF(AE19>0,IF(Sorcadins!I$315>Sorcadins!I$319,MIN(Sorcadins!I$315,Sorcadins!I$313/AE19),CELL(\"contents\",INDIRECT(ADDRESS(43+Sorcadins!I$25,ROUNDUP(5+MIN(20,AE19),0),1,1,\"Caster Tables\")))),0)","v":0},{"$f":"IF(AF19>0,IF(Sorcadins!J$315>Sorcadins!J$319,MIN(Sorcadins!J$315,Sorcadins!J$313/AF19),CELL(\"contents\",INDIRECT(ADDRESS(43+Sorcadins!J$25,ROUNDUP(5+MIN(20,AF19),0),1,1,\"Caster Tables\")))),0)","v":0},{"$f":"IF(AG19>0,IF(Sorcadins!K$315>Sorcadins!K$319,MIN(Sorcadins!K$315,Sorcadins!K$313/AG19),CELL(\"contents\",INDIRECT(ADDRESS(43+Sorcadins!K$25,ROUNDUP(5+MIN(20,AG19),0),1,1,\"Caster Tables\")))),0)","v":0},{"$f":"IF(AH19>0,IF(Sorcadins!L$315>Sorcadins!L$319,MIN(Sorcadins!L$315,Sorcadins!L$313/AH19),CELL(\"contents\",INDIRECT(ADDRESS(43+Sorcadins!L$25,ROUNDUP(5+MIN(20,AH19),0),1,1,\"Caster Tables\")))),0)","v":0},{"$f":"IF(AI19>0,IF(Sorcadins!M$315>Sorcadins!M$319,MIN(Sorcadins!M$315,Sorcadins!M$313/AI19),CELL(\"contents\",INDIRECT(ADDRESS(43+Sorcadins!M$25,ROUNDUP(5+MIN(20,AI19),0),1,1,\"Caster Tables\")))),0)","v":0},{"$f":"IF(AJ19>0,IF(Sorcadins!N$315>Sorcadins!N$319,MIN(Sorcadins!N$315,Sorcadins!N$313/AJ19),CELL(\"contents\",INDIRECT(ADDRESS(43+Sorcadins!N$25,ROUNDUP(5+MIN(20,AJ19),0),1,1,\"Caster Tables\")))),0)","v":0},{"$f":"IF(AK19>0,IF(Sorcadins!O$315>Sorcadins!O$319,MIN(Sorcadins!O$315,Sorcadins!O$313/AK19),CELL(\"contents\",INDIRECT(ADDRESS(43+Sorcadins!O$25,ROUNDUP(5+MIN(20,AK19),0),1,1,\"Caster Tables\")))),0)","v":0},{"$f":"IF(AL19>0,IF(Sorcadins!P$315>Sorcadins!P$319,MIN(Sorcadins!P$315,Sorcadins!P$313/AL19),CELL(\"contents\",INDIRECT(ADDRESS(43+Sorcadins!P$25,ROUNDUP(5+MIN(20,AL19),0),1,1,\"Caster Tables\")))),0)","v":0},{"$f":"IF(AM19>0,IF(Sorcadins!Q$315>Sorcadins!Q$319,MIN(Sorcadins!Q$315,Sorcadins!Q$313/AM19),CELL(\"contents\",INDIRECT(ADDRESS(43+Sorcadins!Q$25,ROUNDUP(5+MIN(20,AM19),0),1,1,\"Caster Tables\")))),0)","v":0},{"$f":"IF(AN19>0,IF(Sorcadins!R$315>Sorcadins!R$319,MIN(Sorcadins!R$315,Sorcadins!R$313/AN19),CELL(\"contents\",INDIRECT(ADDRESS(43+Sorcadins!R$25,ROUNDUP(5+MIN(20,AN19),0),1,1,\"Caster Tables\")))),0)","v":0},{"$f":"IF(AO19>0,IF(Sorcadins!S$315>Sorcadins!S$319,MIN(Sorcadins!S$315,Sorcadins!S$313/AO19),CELL(\"contents\",INDIRECT(ADDRESS(43+Sorcadins!S$25,ROUNDUP(5+MIN(20,AO19),0),1,1,\"Caster Tables\")))),0)","v":0},{"$f":"IF(AP19>0,IF(Sorcadins!T$315>Sorcadins!T$319,MIN(Sorcadins!T$315,Sorcadins!T$313/AP19),CELL(\"contents\",INDIRECT(ADDRESS(43+Sorcadins!T$25,ROUNDUP(5+MIN(20,AP19),0),1,1,\"Caster Tables\")))),0)","v":0},{"$f":"IF(AQ19>0,IF(Sorcadins!U$315>Sorcadins!U$319,MIN(Sorcadins!U$315,Sorcadins!U$313/AQ19),CELL(\"contents\",INDIRECT(ADDRESS(43+Sorcadins!U$25,ROUNDUP(5+MIN(20,AQ19),0),1,1,\"Caster Tables\")))),0)","v":0},{"$f":"IF(AR19>0,IF(Sorcadins!V$315>Sorcadins!V$319,MIN(Sorcadins!V$315,Sorcadins!V$313/AR19),CELL(\"contents\",INDIRECT(ADDRESS(43+Sorcadins!V$25,ROUNDUP(5+MIN(20,AR19),0),1,1,\"Caster Tables\")))),0)","v":0},{"$f":"IF(AS19>0,IF(Sorcadins!W$315>Sorcadins!W$319,MIN(Sorcadins!W$315,Sorcadins!W$313/AS19),CELL(\"contents\",INDIRECT(ADDRESS(43+Sorcadins!W$25,ROUNDUP(5+MIN(20,AS19),0),1,1,\"Caster Tables\")))),0)","v":0},{"$f":"IF(AT19>0,IF(Sorcadins!X$315>Sorcadins!X$319,MIN(Sorcadins!X$315,Sorcadins!X$313/AT19),CELL(\"contents\",INDIRECT(ADDRESS(43+Sorcadins!X$25,ROUNDUP(5+MIN(20,AT19),0),1,1,\"Caster Tables\")))),0)","v":0},null,0,{"$f":"IF(G19>=1,AB19/G19,0)","v":0},{"$f":"IF(H19>=1,AC19/H19,0)","v":0},{"$f":"IF(I19>=1,AD19/I19,0)","v":0},{"$f":"IF(J19>=1,AE19/J19,0)","v":0},{"$f":"IF(K19>=1,AF19/K19,0)","v":0},{"$f":"IF(L19>=1,AG19/L19,0)","v":0},{"$f":"IF(M19>=1,AH19/M19,0)","v":0},{"$f":"IF(N19>=1,AI19/N19,0)","v":0},{"$f":"IF(O19>=1,AJ19/O19,0)","v":0},0,0,0,0,0,0,0,0,0,0,null,{"$f":"IF(AV19>0,MIN(AV19,MAX(0,IF(F19>=0,AV19,0)-SUM(DG$6:INDEX(DG:DG,5+$C19-1))/AA19)*BQ19),0)","v":0},{"$f":"IF(AW19>0,MIN(AW19,MAX(0,IF(G19>=0,AW19,0)-SUM(DH$6:INDEX(DH:DH,5+$C19-1))/AB19)*BR19),0)","v":0},{"$f":"IF(AX19>0,MIN(AX19,MAX(0,IF(H19>=0,AX19,0)-SUM(DI$6:INDEX(DI:DI,5+$C19-1))/AC19)*BS19),0)","v":0},{"$f":"IF(AY19>0,MIN(AY19,MAX(0,IF(I19>=0,AY19,0)-SUM(DJ$6:INDEX(DJ:DJ,5+$C19-1))/AD19)*BT19),0)","v":0},{"$f":"IF(AZ19>0,MIN(AZ19,MAX(0,IF(J19>=0,AZ19,0)-SUM(DK$6:INDEX(DK:DK,5+$C19-1))/AE19)*BU19),0)","v":0},{"$f":"IF(BA19>0,MIN(BA19,MAX(0,IF(K19>=0,BA19,0)-SUM(DL$6:INDEX(DL:DL,5+$C19-1))/AF19)*BV19),0)","v":0},{"$f":"IF(BB19>0,MIN(BB19,MAX(0,IF(L19>=0,BB19,0)-SUM(DM$6:INDEX(DM:DM,5+$C19-1))/AG19)*BW19),0)","v":0},{"$f":"IF(BC19>0,MIN(BC19,MAX(0,IF(M19>=0,BC19,0)-SUM(DN$6:INDEX(DN:DN,5+$C19-1))/AH19)*BX19),0)","v":0},{"$f":"IF(BD19>0,MIN(BD19,MAX(0,IF(N19>=0,BD19,0)-SUM(DO$6:INDEX(DO:DO,5+$C19-1))/AI19)*BY19),0)","v":0},{"$f":"IF(BE19>0,MIN(BE19,MAX(0,IF(O19>=0,BE19,0)-SUM(DP$6:INDEX(DP:DP,5+$C19-1))/AJ19)*BZ19),0)","v":0},{"$f":"IF(BF19>0,MIN(BF19,MAX(0,IF(P19>=0,BF19,0)-SUM(DQ$6:INDEX(DQ:DQ,5+$C19-1))/AK19)*CA19),0)","v":0},{"$f":"IF(BG19>0,MIN(BG19,MAX(0,IF(Q19>=0,BG19,0)-SUM(DR$6:INDEX(DR:DR,5+$C19-1))/AL19)*CB19),0)","v":0},{"$f":"IF(BH19>0,MIN(BH19,MAX(0,IF(R19>=0,BH19,0)-SUM(DS$6:INDEX(DS:DS,5+$C19-1))/AM19)*CC19),0)","v":0},{"$f":"IF(BI19>0,MIN(BI19,MAX(0,IF(S19>=0,BI19,0)-SUM(DT$6:INDEX(DT:DT,5+$C19-1))/AN19)*CD19),0)","v":0},{"$f":"IF(BJ19>0,MIN(BJ19,MAX(0,IF(T19>=0,BJ19,0)-SUM(DU$6:INDEX(DU:DU,5+$C19-1))/AO19)*CE19),0)","v":0},{"$f":"IF(BK19>0,MIN(BK19,MAX(0,IF(U19>=0,BK19,0)-SUM(DV$6:INDEX(DV:DV,5+$C19-1))/AP19)*CF19),0)","v":0},{"$f":"IF(BL19>0,MIN(BL19,MAX(0,IF(V19>=0,BL19,0)-SUM(DW$6:INDEX(DW:DW,5+$C19-1))/AQ19)*CG19),0)","v":0},{"$f":"IF(BM19>0,MIN(BM19,MAX(0,IF(W19>=0,BM19,0)-SUM(DX$6:INDEX(DX:DX,5+$C19-1))/AR19)*CH19),0)","v":0},{"$f":"IF(BN19>0,MIN(BN19,MAX(0,IF(X19>=0,BN19,0)-SUM(DY$6:INDEX(DY:DY,5+$C19-1))/AS19)*CI19),0)","v":0},{"$f":"IF(BO19>0,MIN(BO19,MAX(0,IF(Y19>=0,BO19,0)-SUM(DZ$6:INDEX(DZ:DZ,5+$C19-1))/AT19)*CJ19),0)","v":0},null,0,{"$f":"G19*CM19","v":0},{"$f":"H19*CN19","v":0},{"$f":"I19*CO19","v":0},{"$f":"J19*CP19","v":0},{"$f":"K19*CQ19","v":0},{"$f":"L19*CR19","v":0},{"$f":"M19*CS19","v":0},{"$f":"N19*CT19","v":0},{"$f":"O19*CU19","v":0},0,0,0,0,0,0,0,0,0,0,null,"Scorching Ray"]
[null,"Conjure Animals",15,"conjure animals (c)",{"$f":"MATCH($D20,INDEX(Sorcadins!$D:$D,$D$3):'Sorcadins'!$D1760,0)-1","v":38},{"$f":"IF(CELL(\"contents\",INDIRECT(ADDRESS($D$3+$E20,4+F$4,1,1,\"Sorcadins\")))>=1,CELL(\"contents\",INDIRECT(ADDRESS($D$3+$E20,4+F$4,1,1,\"Sorcadins\"))),0)","v":0},{"$f":"IF(CELL(\"contents\",INDIRECT(ADDRESS($D$3+$E20,4+G$4,1,1,\"Sorcadins\")))>=1,CELL(\"contents\",INDIRECT(ADDRESS($D$3+$E20,4+G$4,1,1,\"Sorcadins\"))),0)","v":0},{"$f":"IF(CELL(\"contents\",INDIRECT(ADDRESS($D$3+$E20,4+H$4,1,1,\"Sorcadins\")))>=1,CELL(\"contents\",INDIRECT(ADDRESS($D$3+$E20,4+H$4,1,1,\"Sorcadins\"))),0)","v":0},{"$f":"IF(CELL(\"contents\",INDIRECT(ADDRESS($D$3+$E20,4+I$4,1,1,\"Sorcadins\")))>=1,CELL(\"contents\",INDIRECT(ADDRESS($D$3+$E20,4+I$4,1,1,\"Sorcadins\"))),0)","v":0},{"$f":"IF(CELL(\"contents\",INDIRECT(ADDRESS($D$3+$E20,4+J$4,1,1,\"Sorcadins\")))>=1,CELL(\"contents\",INDIRECT(ADDRESS($D$3+$E20,4+J$4,1,1,\"Sorcadins\"))),0)","v":0},{"$f":"IF(CELL(\"contents\",INDIRECT(ADDRESS($D$3+$E20,4+K$4,1,1,\"Sorcadins\")))>=1,CELL(\"contents\",INDIRECT(ADDRESS($D$3+$E20,4+K$4,1,1,\"Sorcadins\"))),0)","v":0},{"$f":"IF(CELL(\"contents\",INDIRECT(ADDRESS($D$3+$E20,4+L$4,1,1,\"Sorcadins\")))>=1,CELL(\"contents\",INDIRECT(ADDRESS($D$3+$E20,4+L$4,1,1,\"Sorcadins\"))),0)","v":0},{"$f":"IF(CELL(\"contents\",INDIRECT(ADDRESS($D$3+$E20,4+M$4,1,1,\"Sorcadins\")))>=1,CELL(\"contents\",INDIRECT(ADDRESS($D$3+$E20,4+M$4,1,1,\"Sorcadins\"))),0)","v":0},{"$f":"IF(CELL(\"contents\",INDIRECT(ADDRESS($D$3+$E20,4+N$4,1,1,\"Sorcadins\")))>=1,CELL(\"contents\",INDIRECT(ADDRESS($D$3+$E20,4+N$4,1,1,\"Sorcadins\"))),0)","v":0},{"$f":"IF(CELL(\"contents\",INDIRECT(ADDRESS($D$3+$E20,4+O$4,1,1,\"Sorcadins\")))>=1,CELL(\"contents\",INDIRECT(ADDRESS($D$3+$E20,4+O$4,1,1,\"Sorcadins\"))),0)","v":0},{"$f":"IF(CELL(\"contents\",INDIRECT(ADDRESS($D$3+$E20,4+P$4,1,1,\"Sorcadins\")))>=1,CELL(\"contents\",INDIRECT(ADDRESS($D$3+$E20,4+P$4,1,1,\"Sorcadins\"))),0)","v":0},{"$f":"IF(CELL(\"contents\",INDIRECT(ADDRESS($D$3+$E20,4+Q$4,1,1,\"Sorcadins\")))>=1,CELL(\"contents\",INDIRECT(ADDRESS($D$3+$E20,4+Q$4,1,1,\"Sorcadins\"))),0)","v":0},{"$f":"IF(CELL(\"contents\",INDIRECT(ADDRESS($D$3+$E20,4+R$4,1,1,\"Sorcadins\")))>=1,CELL(\"contents\",INDIRECT(ADDRESS($D$3+$E20,4+R$4,1,1,\"Sorcadins\"))),0)","v":0},{"$f":"IF(CELL(\"contents\",INDIRECT(ADDRESS($D$3+$E20,4+S$4,1,1,\"Sorcadins\")))>=1,CELL(\"contents\",INDIRECT(ADDRESS($D$3+$E20,4+S$4,1,1,\"Sorcadins\"))),0)","v":0},{"$f":"IF(CELL(\"contents\",INDIRECT(ADDRESS($D$3+$E20,4+T$4,1,1,\"Sorcadins\")))>=1,CELL(\"contents\",INDIRECT(ADDRESS($D$3+$E20,4+T$4,1,1,\"Sorcadins\"))),0)","v":0},{"$f":"IF(CELL(\"contents\",INDIRECT(ADDRESS($D$3+$E20,4+U$4,1,1,\"Sorcadins\")))>=1,CELL(\"contents\",INDIRECT(ADDRESS($D$3+$E20,4+U$4,1,1,\"Sorcadins\"))),0)","v":0},{"$f":"IF(CELL(\"contents\",INDIRECT(ADDRESS($D$3+$E20,4+V$4,1,1,\"Sorcadins\")))>=1,CELL(\"contents\",INDIRECT(ADDRESS($D$3+$E20,4+V$4,1,1,\"Sorcadins\"))),0)","v":0},{"$f":"IF(CELL(\"contents\",INDIRECT(ADDRESS($D$3+$E20,4+W$4,1,1,\"Sorcadins\")))>=1,CELL(\"contents\",INDIRECT(ADDRESS($D$3+$E20,4+W$4,1,1,\"Sorcadins\"))),0)","v":0},{"$f":"IF(CELL(\"contents\",INDIRECT(ADDRESS($D$3+$E20,4+X$4,1,1,\"Sorcadins\")))>=1,CELL(\"contents\",INDIRECT(ADDRESS($D$3+$E20,4+X$4,1,1,\"Sorcadins\"))),0)","v":0},{"$f":"IF(CELL(\"contents\",INDIRECT(ADDRESS($D$3+$E20,4+Y$4,1,1,\"Sorcadins\")))>=1,CELL(\"contents\",INDIRECT(ADDRESS($D$3+$E20,4+Y$4,1,1,\"Sorcadins\"))),0)","v":0},null,{"$f":"SUM(F$6:INDEX(F:F,5+$C20))","v":0},{"$f":"SUM(G$6:INDEX(G:G,5+$C20))","v":0},{"$f":"SUM(H$6:INDEX(H:H,5+$C20))","v":0},{"$f":"SUM(I$6:INDEX(I:I,5+$C20))","v":0},{"$f":"SUM(J$6:INDEX(J:J,5+$C20))","v":0},{"$f":"SUM(K$6:INDEX(K:K,5+$C20))","v":0},{"$f":"SUM(L$6:INDEX(L:L,5+$C20))","v":0},{"$f":"SUM(M$6:INDEX(M:M,5+$C20))","v":0},{"$f":"SUM(N$6:INDEX(N:N,5+$C20))","v":0},{"$f":"SUM(O$6:INDEX(O:O,5+$C20))","v":0},{"$f":"SUM(P$6:INDEX(P:P,5+$C20))","v":0},{"$f":"SUM(Q$6:INDEX(Q:Q,5+$C20))","v":0},{"$f":"SUM(R$6:INDEX(R:R,5+$C20))","v":0},{"$f":"SUM(S$6:INDEX(S:S,5+$C20))","v":0},{"$f":"SUM(T$6:INDEX(T:T,5+$C20))","v":0},{"$f":"SUM(U$6:INDEX(U:U,5+$C20))","v":0},{"$f":"SUM(V$6:INDEX(V:V,5+$C20))","v":0},{"$f":"SUM(W$6:INDEX(W:W,5+$C20))","v":0},{"$f":"SUM(X$6:INDEX(X:X,5+$C20))","v":0},{"$f":"SUM(Y$6:INDEX(Y:Y,5+$C20))","v":0},null,{"$f":"IF(AA20>0,IF(Sorcadins!E$315>Sorcadins!E$319,MIN(Sorcadins!E$315,Sorcadins!E$313/AA20),CELL(\"contents\",INDIRECT(ADDRESS(43+Sorcadins!E$25,ROUNDUP(5+MIN(20,AA20),0),1,1,\"Caster Tables\")))),0)","v":0},{"$f":"IF(AB20>0,IF(Sorcadins!F$315>Sorcadins!F$319,MIN(Sorcadins!F$315,Sorcadins!F$313/AB20),CELL(\"contents\",INDIRECT(ADDRESS(43+Sorcadins!F$25,ROUNDUP(5+MIN(20,AB20),0),1,1,\"Caster Tables\")))),0)","v":0},{"$f":"IF(AC20>0,IF(Sorcadins!G$315>Sorcadins!G$319,MIN(Sorcadins!G$315,Sorcadins!G$313/AC20),CELL(\"contents\",INDIRECT(ADDRESS(43+Sorcadins!G$25,ROUNDUP(5+MIN(20,AC20),0),1,1,\"Caster Tables\")))),0)","v":0},{"$f":"IF(AD20>0,IF(Sorcadins!H$315>Sorcadins!H$319,MIN(Sorcadins!H$315,Sorcadins!H$313/AD20),CELL(\"contents\",INDIRECT(ADDRESS(43+Sorcadins!H$25,ROUNDUP(5+MIN(20,AD20),0),1,1,\"Caster Tables\")))),0)","v":0},{"$f":"IF(AE20>0,IF(Sorcadins!I$315>Sorcadins!I$319,MIN(Sorcadins!I$315,Sorcadins!I$313/AE20),CELL(\"contents\",INDIRECT(ADDRESS(43+Sorcadins!I$25,ROUNDUP(5+MIN(20,AE20),0),1,1,\"Caster Tables\")))),0)","v":0},{"$f":"IF(AF20>0,IF(Sorcadins!J$315>Sorcadins!J$319,MIN(Sorcadins!J$315,Sorcadins!J$313/AF20),CELL(\"contents\",INDIRECT(ADDRESS(43+Sorcadins!J$25,ROUNDUP(5+MIN(20,AF20),0),1,1,\"Caster Tables\")))),0)","v":0},{"$f":"IF(AG20>0,IF(Sorcadins!K$315>Sorcadins!K$319,MIN(Sorcadins!K$315,Sorcadins!K$313/AG20),CELL(\"contents\",INDIRECT(ADDRESS(43+Sorcadins!K$25,ROUNDUP(5+MIN(20,AG20),0),1,1,\"Caster Tables\")))),0)","v":0},{"$f":"IF(AH20>0,IF(Sorcadins!L$315>Sorcadins!L$319,MIN(Sorcadins!L$315,Sorcadins!L$313/AH20),CELL(\"contents\",INDIRECT(ADDRESS(43+Sorcadins!L$25,ROUNDUP(5+MIN(20,AH20),0),1,1,\"Caster Tables\")))),0)","v":0},{"$f":"IF(AI20>0,IF(Sorcadins!M$315>Sorcadins!M$319,MIN(Sorcadins!M$315,Sorcadins!M$313/AI20),CELL(\"contents\",INDIRECT(ADDRESS(43+Sorcadins!M$25,ROUNDUP(5+MIN(20,AI20),0),1,1,\"Caster Tables\")))),0)","v":0},{"$f":"IF(AJ20>0,IF(Sorcadins!N$315>Sorcadins!N$319,MIN(Sorcadins!N$315,Sorcadins!N$313/AJ20),CELL(\"contents\",INDIRECT(ADDRESS(43+Sorcadins!N$25,ROUNDUP(5+MIN(20,AJ20),0),1,1,\"Caster Tables\")))),0)","v":0},{"$f":"IF(AK20>0,IF(Sorcadins!O$315>Sorcadins!O$319,MIN(Sorcadins!O$315,Sorcadins!O$313/AK20),CELL(\"contents\",INDIRECT(ADDRESS(43+Sorcadins!O$25,ROUNDUP(5+MIN(20,AK20),0),1,1,\"Caster Tables\")))),0)","v":0},{"$f":"IF(AL20>0,IF(Sorcadins!P$315>Sorcadins!P$319,MIN(Sorcadins!P$315,Sorcadins!P$313/AL20),CELL(\"contents\",INDIRECT(ADDRESS(43+Sorcadins!P$25,ROUNDUP(5+MIN(20,AL20),0),1,1,\"Caster Tables\")))),0)","v":0},{"$f":"IF(AM20>0,IF(Sorcadins!Q$315>Sorcadins!Q$319,MIN(Sorcadins!Q$315,Sorcadins!Q$313/AM20),CELL(\"contents\",INDIRECT(ADDRESS(43+Sorcadins!Q$25,ROUNDUP(5+MIN(20,AM20),0),1,1,\"Caster Tables\")))),0)","v":0},{"$f":"IF(AN20>0,IF(Sorcadins!R$315>Sorcadins!R$319,MIN(Sorcadins!R$315,Sorcadins!R$313/AN20),CELL(\"contents\",INDIRECT(ADDRESS(43+Sorcadins!R$25,ROUNDUP(5+MIN(20,AN20),0),1,1,\"Caster Tables\")))),0)","v":0},{"$f":"IF(AO20>0,IF(Sorcadins!S$315>Sorcadins!S$319,MIN(Sorcadins!S$315,Sorcadins!S$313/AO20),CELL(\"contents\",INDIRECT(ADDRESS(43+Sorcadins!S$25,ROUNDUP(5+MIN(20,AO20),0),1,1,\"Caster Tables\")))),0)","v":0},{"$f":"IF(AP20>0,IF(Sorcadins!T$315>Sorcadins!T$319,MIN(Sorcadins!T$315,Sorcadins!T$313/AP20),CELL(\"contents\",INDIRECT(ADDRESS(43+Sorcadins!T$25,ROUNDUP(5+MIN(20,AP20),0),1,1,\"Caster Tables\")))),0)","v":0},{"$f":"IF(AQ20>0,IF(Sorcadins!U$315>Sorcadins!U$319,MIN(Sorcadins!U$315,Sorcadins!U$313/AQ20),CELL(\"contents\",INDIRECT(ADDRESS(43+Sorcadins!U$25,ROUNDUP(5+MIN(20,AQ20),0),1,1,\"Caster Tables\")))),0)","v":0},{"$f":"IF(AR20>0,IF(Sorcadins!V$315>Sorcadins!V$319,MIN(Sorcadins!V$315,Sorcadins!V$313/AR20),CELL(\"contents\",INDIRECT(ADDRESS(43+Sorcadins!V$25,ROUNDUP(5+MIN(20,AR20),0),1,1,\"Caster Tables\")))),0)","v":0},{"$f":"IF(AS20>0,IF(Sorcadins!W$315>Sorcadins!W$319,MIN(Sorcadins!W$315,Sorcadins!W$313/AS20),CELL(\"contents\",INDIRECT(ADDRESS(43+Sorcadins!W$25,ROUNDUP(5+MIN(20,AS20),0),1,1,\"Caster Tables\")))),0)","v":0},{"$f":"IF(AT20>0,IF(Sorcadins!X$315>Sorcadins!X$319,MIN(Sorcadins!X$315,Sorcadins!X$313/AT20),CELL(\"contents\",INDIRECT(ADDRESS(43+Sorcadins!X$25,ROUNDUP(5+MIN(20,AT20),0),1,1,\"Caster Tables\")))),0)","v":0},null,0,0,0,0,0,0,0,0,0,0,0,0,0,0,0,0,0,0,0,0,null,{"$f":"IF(AV20>0,MIN(AV20,MAX(0,IF(F20>=0,AV20,0)-SUM(DG$6:INDEX(DG:DG,5+$C20-1))/AA20)*BQ20),0)","v":0},{"$f":"IF(AW20>0,MIN(AW20,MAX(0,IF(G20>=0,AW20,0)-SUM(DH$6:INDEX(DH:DH,5+$C20-1))/AB20)*BR20),0)","v":0},{"$f":"IF(AX20>0,MIN(AX20,MAX(0,IF(H20>=0,AX20,0)-SUM(DI$6:INDEX(DI:DI,5+$C20-1))/AC20)*BS20),0)","v":0},{"$f":"IF(AY20>0,MIN(AY20,MAX(0,IF(I20>=0,AY20,0)-SUM(DJ$6:INDEX(DJ:DJ,5+$C20-1))/AD20)*BT20),0)","v":0},{"$f":"IF(AZ20>0,MIN(AZ20,MAX(0,IF(J20>=0,AZ20,0)-SUM(DK$6:INDEX(DK:DK,5+$C20-1))/AE20)*BU20),0)","v":0},{"$f":"IF(BA20>0,MIN(BA20,MAX(0,IF(K20>=0,BA20,0)-SUM(DL$6:INDEX(DL:DL,5+$C20-1))/AF20)*BV20),0)","v":0},{"$f":"IF(BB20>0,MIN(BB20,MAX(0,IF(L20>=0,BB20,0)-SUM(DM$6:INDEX(DM:DM,5+$C20-1))/AG20)*BW20),0)","v":0},{"$f":"IF(BC20>0,MIN(BC20,MAX(0,IF(M20>=0,BC20,0)-SUM(DN$6:INDEX(DN:DN,5+$C20-1))/AH20)*BX20),0)","v":0},{"$f":"IF(BD20>0,MIN(BD20,MAX(0,IF(N20>=0,BD20,0)-SUM(DO$6:INDEX(DO:DO,5+$C20-1))/AI20)*BY20),0)","v":0},{"$f":"IF(BE20>0,MIN(BE20,MAX(0,IF(O20>=0,BE20,0)-SUM(DP$6:INDEX(DP:DP,5+$C20-1))/AJ20)*BZ20),0)","v":0},{"$f":"IF(BF20>0,MIN(BF20,MAX(0,IF(P20>=0,BF20,0)-SUM(DQ$6:INDEX(DQ:DQ,5+$C20-1))/AK20)*CA20),0)","v":0},{"$f":"IF(BG20>0,MIN(BG20,MAX(0,IF(Q20>=0,BG20,0)-SUM(DR$6:INDEX(DR:DR,5+$C20-1))/AL20)*CB20),0)","v":0},{"$f":"IF(BH20>0,MIN(BH20,MAX(0,IF(R20>=0,BH20,0)-SUM(DS$6:INDEX(DS:DS,5+$C20-1))/AM20)*CC20),0)","v":0},{"$f":"IF(BI20>0,MIN(BI20,MAX(0,IF(S20>=0,BI20,0)-SUM(DT$6:INDEX(DT:DT,5+$C20-1))/AN20)*CD20),0)","v":0},{"$f":"IF(BJ20>0,MIN(BJ20,MAX(0,IF(T20>=0,BJ20,0)-SUM(DU$6:INDEX(DU:DU,5+$C20-1))/AO20)*CE20),0)","v":0},{"$f":"IF(BK20>0,MIN(BK20,MAX(0,IF(U20>=0,BK20,0)-SUM(DV$6:INDEX(DV:DV,5+$C20-1))/AP20)*CF20),0)","v":0},{"$f":"IF(BL20>0,MIN(BL20,MAX(0,IF(V20>=0,BL20,0)-SUM(DW$6:INDEX(DW:DW,5+$C20-1))/AQ20)*CG20),0)","v":0},{"$f":"IF(BM20>0,MIN(BM20,MAX(0,IF(W20>=0,BM20,0)-SUM(DX$6:INDEX(DX:DX,5+$C20-1))/AR20)*CH20),0)","v":0},{"$f":"IF(BN20>0,MIN(BN20,MAX(0,IF(X20>=0,BN20,0)-SUM(DY$6:INDEX(DY:DY,5+$C20-1))/AS20)*CI20),0)","v":0},{"$f":"IF(BO20>0,MIN(BO20,MAX(0,IF(Y20>=0,BO20,0)-SUM(DZ$6:INDEX(DZ:DZ,5+$C20-1))/AT20)*CJ20),0)","v":0},null,0,0,0,0,0,0,0,0,0,0,0,0,0,0,0,0,0,0,0,0,null,"Conjure Animals"]
[null,"Melf's Minute Meteors",16,"melf's minute meteors: AE (c)",{"$f":"MATCH($D21,INDEX(Sorcadins!$D:$D,$D$3):'Sorcadins'!$D1761,0)-1","v":34},{"$f":"IF(CELL(\"contents\",INDIRECT(ADDRESS($D$3+$E21,4+F$4,1,1,\"Sorcadins\")))>=1,CELL(\"contents\",INDIRECT(ADDRESS($D$3+$E21,4+F$4,1,1,\"Sorcadins\"))),0)","v":0},{"$f":"IF(CELL(\"contents\",INDIRECT(ADDRESS($D$3+$E21,4+G$4,1,1,\"Sorcadins\")))>=1,CELL(\"contents\",INDIRECT(ADDRESS($D$3+$E21,4+G$4,1,1,\"Sorcadins\"))),0)","v":0},{"$f":"IF(CELL(\"contents\",INDIRECT(ADDRESS($D$3+$E21,4+H$4,1,1,\"Sorcadins\")))>=1,CELL(\"contents\",INDIRECT(ADDRESS($D$3+$E21,4+H$4,1,1,\"Sorcadins\"))),0)","v":0},{"$f":"IF(CELL(\"contents\",INDIRECT(ADDRESS($D$3+$E21,4+I$4,1,1,\"Sorcadins\")))>=1,CELL(\"contents\",INDIRECT(ADDRESS($D$3+$E21,4+I$4,1,1,\"Sorcadins\"))),0)","v":0},{"$f":"IF(CELL(\"contents\",INDIRECT(ADDRESS($D$3+$E21,4+J$4,1,1,\"Sorcadins\")))>=1,CELL(\"contents\",INDIRECT(ADDRESS($D$3+$E21,4+J$4,1,1,\"Sorcadins\"))),0)","v":0},{"$f":"IF(CELL(\"contents\",INDIRECT(ADDRESS($D$3+$E21,4+K$4,1,1,\"Sorcadins\")))>=1,CELL(\"contents\",INDIRECT(ADDRESS($D$3+$E21,4+K$4,1,1,\"Sorcadins\"))),0)","v":0},{"$f":"IF(CELL(\"contents\",INDIRECT(ADDRESS($D$3+$E21,4+L$4,1,1,\"Sorcadins\")))>=1,CELL(\"contents\",INDIRECT(ADDRESS($D$3+$E21,4+L$4,1,1,\"Sorcadins\"))),0)","v":0},{"$f":"IF(CELL(\"contents\",INDIRECT(ADDRESS($D$3+$E21,4+M$4,1,1,\"Sorcadins\")))>=1,CELL(\"contents\",INDIRECT(ADDRESS($D$3+$E21,4+M$4,1,1,\"Sorcadins\"))),0)","v":0},{"$f":"IF(CELL(\"contents\",INDIRECT(ADDRESS($D$3+$E21,4+N$4,1,1,\"Sorcadins\")))>=1,CELL(\"contents\",INDIRECT(ADDRESS($D$3+$E21,4+N$4,1,1,\"Sorcadins\"))),0)","v":0},{"$f":"IF(CELL(\"contents\",INDIRECT(ADDRESS($D$3+$E21,4+O$4,1,1,\"Sorcadins\")))>=1,CELL(\"contents\",INDIRECT(ADDRESS($D$3+$E21,4+O$4,1,1,\"Sorcadins\"))),0)","v":0},{"$f":"IF(CELL(\"contents\",INDIRECT(ADDRESS($D$3+$E21,4+P$4,1,1,\"Sorcadins\")))>=1,CELL(\"contents\",INDIRECT(ADDRESS($D$3+$E21,4+P$4,1,1,\"Sorcadins\"))),0)","v":0},{"$f":"IF(CELL(\"contents\",INDIRECT(ADDRESS($D$3+$E21,4+Q$4,1,1,\"Sorcadins\")))>=1,CELL(\"contents\",INDIRECT(ADDRESS($D$3+$E21,4+Q$4,1,1,\"Sorcadins\"))),0)","v":0},{"$f":"IF(CELL(\"contents\",INDIRECT(ADDRESS($D$3+$E21,4+R$4,1,1,\"Sorcadins\")))>=1,CELL(\"contents\",INDIRECT(ADDRESS($D$3+$E21,4+R$4,1,1,\"Sorcadins\"))),0)","v":0},{"$f":"IF(CELL(\"contents\",INDIRECT(ADDRESS($D$3+$E21,4+S$4,1,1,\"Sorcadins\")))>=1,CELL(\"contents\",INDIRECT(ADDRESS($D$3+$E21,4+S$4,1,1,\"Sorcadins\"))),0)","v":0},{"$f":"IF(CELL(\"contents\",INDIRECT(ADDRESS($D$3+$E21,4+T$4,1,1,\"Sorcadins\")))>=1,CELL(\"contents\",INDIRECT(ADDRESS($D$3+$E21,4+T$4,1,1,\"Sorcadins\"))),0)","v":0},{"$f":"IF(CELL(\"contents\",INDIRECT(ADDRESS($D$3+$E21,4+U$4,1,1,\"Sorcadins\")))>=1,CELL(\"contents\",INDIRECT(ADDRESS($D$3+$E21,4+U$4,1,1,\"Sorcadins\"))),0)","v":0},{"$f":"IF(CELL(\"contents\",INDIRECT(ADDRESS($D$3+$E21,4+V$4,1,1,\"Sorcadins\")))>=1,CELL(\"contents\",INDIRECT(ADDRESS($D$3+$E21,4+V$4,1,1,\"Sorcadins\"))),0)","v":0},{"$f":"IF(CELL(\"contents\",INDIRECT(ADDRESS($D$3+$E21,4+W$4,1,1,\"Sorcadins\")))>=1,CELL(\"contents\",INDIRECT(ADDRESS($D$3+$E21,4+W$4,1,1,\"Sorcadins\"))),0)","v":0},{"$f":"IF(CELL(\"contents\",INDIRECT(ADDRESS($D$3+$E21,4+X$4,1,1,\"Sorcadins\")))>=1,CELL(\"contents\",INDIRECT(ADDRESS($D$3+$E21,4+X$4,1,1,\"Sorcadins\"))),0)","v":0},{"$f":"IF(CELL(\"contents\",INDIRECT(ADDRESS($D$3+$E21,4+Y$4,1,1,\"Sorcadins\")))>=1,CELL(\"contents\",INDIRECT(ADDRESS($D$3+$E21,4+Y$4,1,1,\"Sorcadins\"))),0)","v":0},null,{"$f":"SUM(F$6:INDEX(F:F,5+$C21))","v":0},{"$f":"SUM(G$6:INDEX(G:G,5+$C21))","v":0},{"$f":"SUM(H$6:INDEX(H:H,5+$C21))","v":0},{"$f":"SUM(I$6:INDEX(I:I,5+$C21))","v":0},{"$f":"SUM(J$6:INDEX(J:J,5+$C21))","v":0},{"$f":"SUM(K$6:INDEX(K:K,5+$C21))","v":0},{"$f":"SUM(L$6:INDEX(L:L,5+$C21))","v":0},{"$f":"SUM(M$6:INDEX(M:M,5+$C21))","v":0},{"$f":"SUM(N$6:INDEX(N:N,5+$C21))","v":0},{"$f":"SUM(O$6:INDEX(O:O,5+$C21))","v":0},{"$f":"SUM(P$6:INDEX(P:P,5+$C21))","v":0},{"$f":"SUM(Q$6:INDEX(Q:Q,5+$C21))","v":0},{"$f":"SUM(R$6:INDEX(R:R,5+$C21))","v":0},{"$f":"SUM(S$6:INDEX(S:S,5+$C21))","v":0},{"$f":"SUM(T$6:INDEX(T:T,5+$C21))","v":0},{"$f":"SUM(U$6:INDEX(U:U,5+$C21))","v":0},{"$f":"SUM(V$6:INDEX(V:V,5+$C21))","v":0},{"$f":"SUM(W$6:INDEX(W:W,5+$C21))","v":0},{"$f":"SUM(X$6:INDEX(X:X,5+$C21))","v":0},{"$f":"SUM(Y$6:INDEX(Y:Y,5+$C21))","v":0},null,{"$f":"IF(AA21>0,IF(Sorcadins!E$315>Sorcadins!E$319,MIN(Sorcadins!E$315,Sorcadins!E$313/AA21),CELL(\"contents\",INDIRECT(ADDRESS(43+Sorcadins!E$25,ROUNDUP(5+MIN(20,AA21),0),1,1,\"Caster Tables\")))),0)","v":0},{"$f":"IF(AB21>0,IF(Sorcadins!F$315>Sorcadins!F$319,MIN(Sorcadins!F$315,Sorcadins!F$313/AB21),CELL(\"contents\",INDIRECT(ADDRESS(43+Sorcadins!F$25,ROUNDUP(5+MIN(20,AB21),0),1,1,\"Caster Tables\")))),0)","v":0},{"$f":"IF(AC21>0,IF(Sorcadins!G$315>Sorcadins!G$319,MIN(Sorcadins!G$315,Sorcadins!G$313/AC21),CELL(\"contents\",INDIRECT(ADDRESS(43+Sorcadins!G$25,ROUNDUP(5+MIN(20,AC21),0),1,1,\"Caster Tables\")))),0)","v":0},{"$f":"IF(AD21>0,IF(Sorcadins!H$315>Sorcadins!H$319,MIN(Sorcadins!H$315,Sorcadins!H$313/AD21),CELL(\"contents\",INDIRECT(ADDRESS(43+Sorcadins!H$25,ROUNDUP(5+MIN(20,AD21),0),1,1,\"Caster Tables\")))),0)","v":0},{"$f":"IF(AE21>0,IF(Sorcadins!I$315>Sorcadins!I$319,MIN(Sorcadins!I$315,Sorcadins!I$313/AE21),CELL(\"contents\",INDIRECT(ADDRESS(43+Sorcadins!I$25,ROUNDUP(5+MIN(20,AE21),0),1,1,\"Caster Tables\")))),0)","v":0},{"$f":"IF(AF21>0,IF(Sorcadins!J$315>Sorcadins!J$319,MIN(Sorcadins!J$315,Sorcadins!J$313/AF21),CELL(\"contents\",INDIRECT(ADDRESS(43+Sorcadins!J$25,ROUNDUP(5+MIN(20,AF21),0),1,1,\"Caster Tables\")))),0)","v":0},{"$f":"IF(AG21>0,IF(Sorcadins!K$315>Sorcadins!K$319,MIN(Sorcadins!K$315,Sorcadins!K$313/AG21),CELL(\"contents\",INDIRECT(ADDRESS(43+Sorcadins!K$25,ROUNDUP(5+MIN(20,AG21),0),1,1,\"Caster Tables\")))),0)","v":0},{"$f":"IF(AH21>0,IF(Sorcadins!L$315>Sorcadins!L$319,MIN(Sorcadins!L$315,Sorcadins!L$313/AH21),CELL(\"contents\",INDIRECT(ADDRESS(43+Sorcadins!L$25,ROUNDUP(5+MIN(20,AH21),0),1,1,\"Caster Tables\")))),0)","v":0},{"$f":"IF(AI21>0,IF(Sorcadins!M$315>Sorcadins!M$319,MIN(Sorcadins!M$315,Sorcadins!M$313/AI21),CELL(\"contents\",INDIRECT(ADDRESS(43+Sorcadins!M$25,ROUNDUP(5+MIN(20,AI21),0),1,1,\"Caster Tables\")))),0)","v":0},{"$f":"IF(AJ21>0,IF(Sorcadins!N$315>Sorcadins!N$319,MIN(Sorcadins!N$315,Sorcadins!N$313/AJ21),CELL(\"contents\",INDIRECT(ADDRESS(43+Sorcadins!N$25,ROUNDUP(5+MIN(20,AJ21),0),1,1,\"Caster Tables\")))),0)","v":0},{"$f":"IF(AK21>0,IF(Sorcadins!O$315>Sorcadins!O$319,MIN(Sorcadins!O$315,Sorcadins!O$313/AK21),CELL(\"contents\",INDIRECT(ADDRESS(43+Sorcadins!O$25,ROUNDUP(5+MIN(20,AK21),0),1,1,\"Caster Tables\")))),0)","v":0},{"$f":"IF(AL21>0,IF(Sorcadins!P$315>Sorcadins!P$319,MIN(Sorcadins!P$315,Sorcadins!P$313/AL21),CELL(\"contents\",INDIRECT(ADDRESS(43+Sorcadins!P$25,ROUNDUP(5+MIN(20,AL21),0),1,1,\"Caster Tables\")))),0)","v":0},{"$f":"IF(AM21>0,IF(Sorcadins!Q$315>Sorcadins!Q$319,MIN(Sorcadins!Q$315,Sorcadins!Q$313/AM21),CELL(\"contents\",INDIRECT(ADDRESS(43+Sorcadins!Q$25,ROUNDUP(5+MIN(20,AM21),0),1,1,\"Caster Tables\")))),0)","v":0},{"$f":"IF(AN21>0,IF(Sorcadins!R$315>Sorcadins!R$319,MIN(Sorcadins!R$315,Sorcadins!R$313/AN21),CELL(\"contents\",INDIRECT(ADDRESS(43+Sorcadins!R$25,ROUNDUP(5+MIN(20,AN21),0),1,1,\"Caster Tables\")))),0)","v":0},{"$f":"IF(AO21>0,IF(Sorcadins!S$315>Sorcadins!S$319,MIN(Sorcadins!S$315,Sorcadins!S$313/AO21),CELL(\"contents\",INDIRECT(ADDRESS(43+Sorcadins!S$25,ROUNDUP(5+MIN(20,AO21),0),1,1,\"Caster Tables\")))),0)","v":0},{"$f":"IF(AP21>0,IF(Sorcadins!T$315>Sorcadins!T$319,MIN(Sorcadins!T$315,Sorcadins!T$313/AP21),CELL(\"contents\",INDIRECT(ADDRESS(43+Sorcadins!T$25,ROUNDUP(5+MIN(20,AP21),0),1,1,\"Caster Tables\")))),0)","v":0},{"$f":"IF(AQ21>0,IF(Sorcadins!U$315>Sorcadins!U$319,MIN(Sorcadins!U$315,Sorcadins!U$313/AQ21),CELL(\"contents\",INDIRECT(ADDRESS(43+Sorcadins!U$25,ROUNDUP(5+MIN(20,AQ21),0),1,1,\"Caster Tables\")))),0)","v":0},{"$f":"IF(AR21>0,IF(Sorcadins!V$315>Sorcadins!V$319,MIN(Sorcadins!V$315,Sorcadins!V$313/AR21),CELL(\"contents\",INDIRECT(ADDRESS(43+Sorcadins!V$25,ROUNDUP(5+MIN(20,AR21),0),1,1,\"Caster Tables\")))),0)","v":0},{"$f":"IF(AS21>0,IF(Sorcadins!W$315>Sorcadins!W$319,MIN(Sorcadins!W$315,Sorcadins!W$313/AS21),CELL(\"contents\",INDIRECT(ADDRESS(43+Sorcadins!W$25,ROUNDUP(5+MIN(20,AS21),0),1,1,\"Caster Tables\")))),0)","v":0},{"$f":"IF(AT21>0,IF(Sorcadins!X$315>Sorcadins!X$319,MIN(Sorcadins!X$315,Sorcadins!X$313/AT21),CELL(\"contents\",INDIRECT(ADDRESS(43+Sorcadins!X$25,ROUNDUP(5+MIN(20,AT21),0),1,1,\"Caster Tables\")))),0)","v":0},null,0,0,0,0,0,0,0,0,0,0,0,0,0,0,0,0,0,0,0,0,null,{"$f":"IF(AV21>0,MIN(AV21,MAX(0,IF(F21>=0,AV21,0)-SUM(DG$6:INDEX(DG:DG,5+$C21-1))/AA21)*BQ21),0)","v":0},{"$f":"IF(AW21>0,MIN(AW21,MAX(0,IF(G21>=0,AW21,0)-SUM(DH$6:INDEX(DH:DH,5+$C21-1))/AB21)*BR21),0)","v":0},{"$f":"IF(AX21>0,MIN(AX21,MAX(0,IF(H21>=0,AX21,0)-SUM(DI$6:INDEX(DI:DI,5+$C21-1))/AC21)*BS21),0)","v":0},{"$f":"IF(AY21>0,MIN(AY21,MAX(0,IF(I21>=0,AY21,0)-SUM(DJ$6:INDEX(DJ:DJ,5+$C21-1))/AD21)*BT21),0)","v":0},{"$f":"IF(AZ21>0,MIN(AZ21,MAX(0,IF(J21>=0,AZ21,0)-SUM(DK$6:INDEX(DK:DK,5+$C21-1))/AE21)*BU21),0)","v":0},{"$f":"IF(BA21>0,MIN(BA21,MAX(0,IF(K21>=0,BA21,0)-SUM(DL$6:INDEX(DL:DL,5+$C21-1))/AF21)*BV21),0)","v":0},{"$f":"IF(BB21>0,MIN(BB21,MAX(0,IF(L21>=0,BB21,0)-SUM(DM$6:INDEX(DM:DM,5+$C21-1))/AG21)*BW21),0)","v":0},{"$f":"IF(BC21>0,MIN(BC21,MAX(0,IF(M21>=0,BC21,0)-SUM(DN$6:INDEX(DN:DN,5+$C21-1))/AH21)*BX21),0)","v":0},{"$f":"IF(BD21>0,MIN(BD21,MAX(0,IF(N21>=0,BD21,0)-SUM(DO$6:INDEX(DO:DO,5+$C21-1))/AI21)*BY21),0)","v":0},{"$f":"IF(BE21>0,MIN(BE21,MAX(0,IF(O21>=0,BE21,0)-SUM(DP$6:INDEX(DP:DP,5+$C21-1))/AJ21)*BZ21),0)","v":0},{"$f":"IF(BF21>0,MIN(BF21,MAX(0,IF(P21>=0,BF21,0)-SUM(DQ$6:INDEX(DQ:DQ,5+$C21-1))/AK21)*CA21),0)","v":0},{"$f":"IF(BG21>0,MIN(BG21,MAX(0,IF(Q21>=0,BG21,0)-SUM(DR$6:INDEX(DR:DR,5+$C21-1))/AL21)*CB21),0)","v":0},{"$f":"IF(BH21>0,MIN(BH21,MAX(0,IF(R21>=0,BH21,0)-SUM(DS$6:INDEX(DS:DS,5+$C21-1))/AM21)*CC21),0)","v":0},{"$f":"IF(BI21>0,MIN(BI21,MAX(0,IF(S21>=0,BI21,0)-SUM(DT$6:INDEX(DT:DT,5+$C21-1))/AN21)*CD21),0)","v":0},{"$f":"IF(BJ21>0,MIN(BJ21,MAX(0,IF(T21>=0,BJ21,0)-SUM(DU$6:INDEX(DU:DU,5+$C21-1))/AO21)*CE21),0)","v":0},{"$f":"IF(BK21>0,MIN(BK21,MAX(0,IF(U21>=0,BK21,0)-SUM(DV$6:INDEX(DV:DV,5+$C21-1))/AP21)*CF21),0)","v":0},{"$f":"IF(BL21>0,MIN(BL21,MAX(0,IF(V21>=0,BL21,0)-SUM(DW$6:INDEX(DW:DW,5+$C21-1))/AQ21)*CG21),0)","v":0},{"$f":"IF(BM21>0,MIN(BM21,MAX(0,IF(W21>=0,BM21,0)-SUM(DX$6:INDEX(DX:DX,5+$C21-1))/AR21)*CH21),0)","v":0},{"$f":"IF(BN21>0,MIN(BN21,MAX(0,IF(X21>=0,BN21,0)-SUM(DY$6:INDEX(DY:DY,5+$C21-1))/AS21)*CI21),0)","v":0},{"$f":"IF(BO21>0,MIN(BO21,MAX(0,IF(Y21>=0,BO21,0)-SUM(DZ$6:INDEX(DZ:DZ,5+$C21-1))/AT21)*CJ21),0)","v":0},null,0,0,0,0,0,0,0,0,0,0,0,0,0,0,0,0,0,0,0,0,null,"Melf's Minute Meteors"]
[null,"Moonbeam",17,"moonbeam (c, AE)",{"$f":"MATCH($D22,INDEX(Sorcadins!$D:$D,$D$3):'Sorcadins'!$D1762,0)-1","v":20},{"$f":"IF(CELL(\"contents\",INDIRECT(ADDRESS($D$3+$E22,4+F$4,1,1,\"Sorcadins\")))>=1,CELL(\"contents\",INDIRECT(ADDRESS($D$3+$E22,4+F$4,1,1,\"Sorcadins\"))),0)","v":0},{"$f":"IF(CELL(\"contents\",INDIRECT(ADDRESS($D$3+$E22,4+G$4,1,1,\"Sorcadins\")))>=1,CELL(\"contents\",INDIRECT(ADDRESS($D$3+$E22,4+G$4,1,1,\"Sorcadins\"))),0)","v":0},{"$f":"IF(CELL(\"contents\",INDIRECT(ADDRESS($D$3+$E22,4+H$4,1,1,\"Sorcadins\")))>=1,CELL(\"contents\",INDIRECT(ADDRESS($D$3+$E22,4+H$4,1,1,\"Sorcadins\"))),0)","v":0},{"$f":"IF(CELL(\"contents\",INDIRECT(ADDRESS($D$3+$E22,4+I$4,1,1,\"Sorcadins\")))>=1,CELL(\"contents\",INDIRECT(ADDRESS($D$3+$E22,4+I$4,1,1,\"Sorcadins\"))),0)","v":0},{"$f":"IF(CELL(\"contents\",INDIRECT(ADDRESS($D$3+$E22,4+J$4,1,1,\"Sorcadins\")))>=1,CELL(\"contents\",INDIRECT(ADDRESS($D$3+$E22,4+J$4,1,1,\"Sorcadins\"))),0)","v":0},{"$f":"IF(CELL(\"contents\",INDIRECT(ADDRESS($D$3+$E22,4+K$4,1,1,\"Sorcadins\")))>=1,CELL(\"contents\",INDIRECT(ADDRESS($D$3+$E22,4+K$4,1,1,\"Sorcadins\"))),0)","v":0},{"$f":"IF(CELL(\"contents\",INDIRECT(ADDRESS($D$3+$E22,4+L$4,1,1,\"Sorcadins\")))>=1,CELL(\"contents\",INDIRECT(ADDRESS($D$3+$E22,4+L$4,1,1,\"Sorcadins\"))),0)","v":0},{"$f":"IF(CELL(\"contents\",INDIRECT(ADDRESS($D$3+$E22,4+M$4,1,1,\"Sorcadins\")))>=1,CELL(\"contents\",INDIRECT(ADDRESS($D$3+$E22,4+M$4,1,1,\"Sorcadins\"))),0)","v":0},{"$f":"IF(CELL(\"contents\",INDIRECT(ADDRESS($D$3+$E22,4+N$4,1,1,\"Sorcadins\")))>=1,CELL(\"contents\",INDIRECT(ADDRESS($D$3+$E22,4+N$4,1,1,\"Sorcadins\"))),0)","v":0},{"$f":"IF(CELL(\"contents\",INDIRECT(ADDRESS($D$3+$E22,4+O$4,1,1,\"Sorcadins\")))>=1,CELL(\"contents\",INDIRECT(ADDRESS($D$3+$E22,4+O$4,1,1,\"Sorcadins\"))),0)","v":0},{"$f":"IF(CELL(\"contents\",INDIRECT(ADDRESS($D$3+$E22,4+P$4,1,1,\"Sorcadins\")))>=1,CELL(\"contents\",INDIRECT(ADDRESS($D$3+$E22,4+P$4,1,1,\"Sorcadins\"))),0)","v":0},{"$f":"IF(CELL(\"contents\",INDIRECT(ADDRESS($D$3+$E22,4+Q$4,1,1,\"Sorcadins\")))>=1,CELL(\"contents\",INDIRECT(ADDRESS($D$3+$E22,4+Q$4,1,1,\"Sorcadins\"))),0)","v":0},{"$f":"IF(CELL(\"contents\",INDIRECT(ADDRESS($D$3+$E22,4+R$4,1,1,\"Sorcadins\")))>=1,CELL(\"contents\",INDIRECT(ADDRESS($D$3+$E22,4+R$4,1,1,\"Sorcadins\"))),0)","v":0},{"$f":"IF(CELL(\"contents\",INDIRECT(ADDRESS($D$3+$E22,4+S$4,1,1,\"Sorcadins\")))>=1,CELL(\"contents\",INDIRECT(ADDRESS($D$3+$E22,4+S$4,1,1,\"Sorcadins\"))),0)","v":0},{"$f":"IF(CELL(\"contents\",INDIRECT(ADDRESS($D$3+$E22,4+T$4,1,1,\"Sorcadins\")))>=1,CELL(\"contents\",INDIRECT(ADDRESS($D$3+$E22,4+T$4,1,1,\"Sorcadins\"))),0)","v":0},{"$f":"IF(CELL(\"contents\",INDIRECT(ADDRESS($D$3+$E22,4+U$4,1,1,\"Sorcadins\")))>=1,CELL(\"contents\",INDIRECT(ADDRESS($D$3+$E22,4+U$4,1,1,\"Sorcadins\"))),0)","v":0},{"$f":"IF(CELL(\"contents\",INDIRECT(ADDRESS($D$3+$E22,4+V$4,1,1,\"Sorcadins\")))>=1,CELL(\"contents\",INDIRECT(ADDRESS($D$3+$E22,4+V$4,1,1,\"Sorcadins\"))),0)","v":0},{"$f":"IF(CELL(\"contents\",INDIRECT(ADDRESS($D$3+$E22,4+W$4,1,1,\"Sorcadins\")))>=1,CELL(\"contents\",INDIRECT(ADDRESS($D$3+$E22,4+W$4,1,1,\"Sorcadins\"))),0)","v":0},{"$f":"IF(CELL(\"contents\",INDIRECT(ADDRESS($D$3+$E22,4+X$4,1,1,\"Sorcadins\")))>=1,CELL(\"contents\",INDIRECT(ADDRESS($D$3+$E22,4+X$4,1,1,\"Sorcadins\"))),0)","v":0},{"$f":"IF(CELL(\"contents\",INDIRECT(ADDRESS($D$3+$E22,4+Y$4,1,1,\"Sorcadins\")))>=1,CELL(\"contents\",INDIRECT(ADDRESS($D$3+$E22,4+Y$4,1,1,\"Sorcadins\"))),0)","v":0},null,{"$f":"SUM(F$6:INDEX(F:F,5+$C22))","v":0},{"$f":"SUM(G$6:INDEX(G:G,5+$C22))","v":0},{"$f":"SUM(H$6:INDEX(H:H,5+$C22))","v":0},{"$f":"SUM(I$6:INDEX(I:I,5+$C22))","v":0},{"$f":"SUM(J$6:INDEX(J:J,5+$C22))","v":0},{"$f":"SUM(K$6:INDEX(K:K,5+$C22))","v":0},{"$f":"SUM(L$6:INDEX(L:L,5+$C22))","v":0},{"$f":"SUM(M$6:INDEX(M:M,5+$C22))","v":0},{"$f":"SUM(N$6:INDEX(N:N,5+$C22))","v":0},{"$f":"SUM(O$6:INDEX(O:O,5+$C22))","v":0},{"$f":"SUM(P$6:INDEX(P:P,5+$C22))","v":0},{"$f":"SUM(Q$6:INDEX(Q:Q,5+$C22))","v":0},{"$f":"SUM(R$6:INDEX(R:R,5+$C22))","v":0},{"$f":"SUM(S$6:INDEX(S:S,5+$C22))","v":0},{"$f":"SUM(T$6:INDEX(T:T,5+$C22))","v":0},{"$f":"SUM(U$6:INDEX(U:U,5+$C22))","v":0},{"$f":"SUM(V$6:INDEX(V:V,5+$C22))","v":0},{"$f":"SUM(W$6:INDEX(W:W,5+$C22))","v":0},{"$f":"SUM(X$6:INDEX(X:X,5+$C22))","v":0},{"$f":"SUM(Y$6:INDEX(Y:Y,5+$C22))","v":0},null,{"$f":"IF(AA22>0,IF(Sorcadins!E$315>Sorcadins!E$319,MIN(Sorcadins!E$315,Sorcadins!E$313/AA22),CELL(\"contents\",INDIRECT(ADDRESS(43+Sorcadins!E$25,ROUNDUP(5+MIN(20,AA22),0),1,1,\"Caster Tables\")))),0)","v":0},{"$f":"IF(AB22>0,IF(Sorcadins!F$315>Sorcadins!F$319,MIN(Sorcadins!F$315,Sorcadins!F$313/AB22),CELL(\"contents\",INDIRECT(ADDRESS(43+Sorcadins!F$25,ROUNDUP(5+MIN(20,AB22),0),1,1,\"Caster Tables\")))),0)","v":0},{"$f":"IF(AC22>0,IF(Sorcadins!G$315>Sorcadins!G$319,MIN(Sorcadins!G$315,Sorcadins!G$313/AC22),CELL(\"contents\",INDIRECT(ADDRESS(43+Sorcadins!G$25,ROUNDUP(5+MIN(20,AC22),0),1,1,\"Caster Tables\")))),0)","v":0},{"$f":"IF(AD22>0,IF(Sorcadins!H$315>Sorcadins!H$319,MIN(Sorcadins!H$315,Sorcadins!H$313/AD22),CELL(\"contents\",INDIRECT(ADDRESS(43+Sorcadins!H$25,ROUNDUP(5+MIN(20,AD22),0),1,1,\"Caster Tables\")))),0)","v":0},{"$f":"IF(AE22>0,IF(Sorcadins!I$315>Sorcadins!I$319,MIN(Sorcadins!I$315,Sorcadins!I$313/AE22),CELL(\"contents\",INDIRECT(ADDRESS(43+Sorcadins!I$25,ROUNDUP(5+MIN(20,AE22),0),1,1,\"Caster Tables\")))),0)","v":0},{"$f":"IF(AF22>0,IF(Sorcadins!J$315>Sorcadins!J$319,MIN(Sorcadins!J$315,Sorcadins!J$313/AF22),CELL(\"contents\",INDIRECT(ADDRESS(43+Sorcadins!J$25,ROUNDUP(5+MIN(20,AF22),0),1,1,\"Caster Tables\")))),0)","v":0},{"$f":"IF(AG22>0,IF(Sorcadins!K$315>Sorcadins!K$319,MIN(Sorcadins!K$315,Sorcadins!K$313/AG22),CELL(\"contents\",INDIRECT(ADDRESS(43+Sorcadins!K$25,ROUNDUP(5+MIN(20,AG22),0),1,1,\"Caster Tables\")))),0)","v":0},{"$f":"IF(AH22>0,IF(Sorcadins!L$315>Sorcadins!L$319,MIN(Sorcadins!L$315,Sorcadins!L$313/AH22),CELL(\"contents\",INDIRECT(ADDRESS(43+Sorcadins!L$25,ROUNDUP(5+MIN(20,AH22),0),1,1,\"Caster Tables\")))),0)","v":0},{"$f":"IF(AI22>0,IF(Sorcadins!M$315>Sorcadins!M$319,MIN(Sorcadins!M$315,Sorcadins!M$313/AI22),CELL(\"contents\",INDIRECT(ADDRESS(43+Sorcadins!M$25,ROUNDUP(5+MIN(20,AI22),0),1,1,\"Caster Tables\")))),0)","v":0},{"$f":"IF(AJ22>0,IF(Sorcadins!N$315>Sorcadins!N$319,MIN(Sorcadins!N$315,Sorcadins!N$313/AJ22),CELL(\"contents\",INDIRECT(ADDRESS(43+Sorcadins!N$25,ROUNDUP(5+MIN(20,AJ22),0),1,1,\"Caster Tables\")))),0)","v":0},{"$f":"IF(AK22>0,IF(Sorcadins!O$315>Sorcadins!O$319,MIN(Sorcadins!O$315,Sorcadins!O$313/AK22),CELL(\"contents\",INDIRECT(ADDRESS(43+Sorcadins!O$25,ROUNDUP(5+MIN(20,AK22),0),1,1,\"Caster Tables\")))),0)","v":0},{"$f":"IF(AL22>0,IF(Sorcadins!P$315>Sorcadins!P$319,MIN(Sorcadins!P$315,Sorcadins!P$313/AL22),CELL(\"contents\",INDIRECT(ADDRESS(43+Sorcadins!P$25,ROUNDUP(5+MIN(20,AL22),0),1,1,\"Caster Tables\")))),0)","v":0},{"$f":"IF(AM22>0,IF(Sorcadins!Q$315>Sorcadins!Q$319,MIN(Sorcadins!Q$315,Sorcadins!Q$313/AM22),CELL(\"contents\",INDIRECT(ADDRESS(43+Sorcadins!Q$25,ROUNDUP(5+MIN(20,AM22),0),1,1,\"Caster Tables\")))),0)","v":0},{"$f":"IF(AN22>0,IF(Sorcadins!R$315>Sorcadins!R$319,MIN(Sorcadins!R$315,Sorcadins!R$313/AN22),CELL(\"contents\",INDIRECT(ADDRESS(43+Sorcadins!R$25,ROUNDUP(5+MIN(20,AN22),0),1,1,\"Caster Tables\")))),0)","v":0},{"$f":"IF(AO22>0,IF(Sorcadins!S$315>Sorcadins!S$319,MIN(Sorcadins!S$315,Sorcadins!S$313/AO22),CELL(\"contents\",INDIRECT(ADDRESS(43+Sorcadins!S$25,ROUNDUP(5+MIN(20,AO22),0),1,1,\"Caster Tables\")))),0)","v":0},{"$f":"IF(AP22>0,IF(Sorcadins!T$315>Sorcadins!T$319,MIN(Sorcadins!T$315,Sorcadins!T$313/AP22),CELL(\"contents\",INDIRECT(ADDRESS(43+Sorcadins!T$25,ROUNDUP(5+MIN(20,AP22),0),1,1,\"Caster Tables\")))),0)","v":0},{"$f":"IF(AQ22>0,IF(Sorcadins!U$315>Sorcadins!U$319,MIN(Sorcadins!U$315,Sorcadins!U$313/AQ22),CELL(\"contents\",INDIRECT(ADDRESS(43+Sorcadins!U$25,ROUNDUP(5+MIN(20,AQ22),0),1,1,\"Caster Tables\")))),0)","v":0},{"$f":"IF(AR22>0,IF(Sorcadins!V$315>Sorcadins!V$319,MIN(Sorcadins!V$315,Sorcadins!V$313/AR22),CELL(\"contents\",INDIRECT(ADDRESS(43+Sorcadins!V$25,ROUNDUP(5+MIN(20,AR22),0),1,1,\"Caster Tables\")))),0)","v":0},{"$f":"IF(AS22>0,IF(Sorcadins!W$315>Sorcadins!W$319,MIN(Sorcadins!W$315,Sorcadins!W$313/AS22),CELL(\"contents\",INDIRECT(ADDRESS(43+Sorcadins!W$25,ROUNDUP(5+MIN(20,AS22),0),1,1,\"Caster Tables\")))),0)","v":0},{"$f":"IF(AT22>0,IF(Sorcadins!X$315>Sorcadins!X$319,MIN(Sorcadins!X$315,Sorcadins!X$313/AT22),CELL(\"contents\",INDIRECT(ADDRESS(43+Sorcadins!X$25,ROUNDUP(5+MIN(20,AT22),0),1,1,\"Caster Tables\")))),0)","v":0},null,0,0,0,0,0,0,0,0,0,0,0,0,0,0,0,0,0,0,0,0,null,{"$f":"IF(AV22>0,MIN(AV22,MAX(0,IF(F22>=0,AV22,0)-SUM(DG$6:INDEX(DG:DG,5+$C22-1))/AA22)*BQ22),0)","v":0},{"$f":"IF(AW22>0,MIN(AW22,MAX(0,IF(G22>=0,AW22,0)-SUM(DH$6:INDEX(DH:DH,5+$C22-1))/AB22)*BR22),0)","v":0},{"$f":"IF(AX22>0,MIN(AX22,MAX(0,IF(H22>=0,AX22,0)-SUM(DI$6:INDEX(DI:DI,5+$C22-1))/AC22)*BS22),0)","v":0},{"$f":"IF(AY22>0,MIN(AY22,MAX(0,IF(I22>=0,AY22,0)-SUM(DJ$6:INDEX(DJ:DJ,5+$C22-1))/AD22)*BT22),0)","v":0},{"$f":"IF(AZ22>0,MIN(AZ22,MAX(0,IF(J22>=0,AZ22,0)-SUM(DK$6:INDEX(DK:DK,5+$C22-1))/AE22)*BU22),0)","v":0},{"$f":"IF(BA22>0,MIN(BA22,MAX(0,IF(K22>=0,BA22,0)-SUM(DL$6:INDEX(DL:DL,5+$C22-1))/AF22)*BV22),0)","v":0},{"$f":"IF(BB22>0,MIN(BB22,MAX(0,IF(L22>=0,BB22,0)-SUM(DM$6:INDEX(DM:DM,5+$C22-1))/AG22)*BW22),0)","v":0},{"$f":"IF(BC22>0,MIN(BC22,MAX(0,IF(M22>=0,BC22,0)-SUM(DN$6:INDEX(DN:DN,5+$C22-1))/AH22)*BX22),0)","v":0},{"$f":"IF(BD22>0,MIN(BD22,MAX(0,IF(N22>=0,BD22,0)-SUM(DO$6:INDEX(DO:DO,5+$C22-1))/AI22)*BY22),0)","v":0},{"$f":"IF(BE22>0,MIN(BE22,MAX(0,IF(O22>=0,BE22,0)-SUM(DP$6:INDEX(DP:DP,5+$C22-1))/AJ22)*BZ22),0)","v":0},{"$f":"IF(BF22>0,MIN(BF22,MAX(0,IF(P22>=0,BF22,0)-SUM(DQ$6:INDEX(DQ:DQ,5+$C22-1))/AK22)*CA22),0)","v":0},{"$f":"IF(BG22>0,MIN(BG22,MAX(0,IF(Q22>=0,BG22,0)-SUM(DR$6:INDEX(DR:DR,5+$C22-1))/AL22)*CB22),0)","v":0},{"$f":"IF(BH22>0,MIN(BH22,MAX(0,IF(R22>=0,BH22,0)-SUM(DS$6:INDEX(DS:DS,5+$C22-1))/AM22)*CC22),0)","v":0},{"$f":"IF(BI22>0,MIN(BI22,MAX(0,IF(S22>=0,BI22,0)-SUM(DT$6:INDEX(DT:DT,5+$C22-1))/AN22)*CD22),0)","v":0},{"$f":"IF(BJ22>0,MIN(BJ22,MAX(0,IF(T22>=0,BJ22,0)-SUM(DU$6:INDEX(DU:DU,5+$C22-1))/AO22)*CE22),0)","v":0},{"$f":"IF(BK22>0,MIN(BK22,MAX(0,IF(U22>=0,BK22,0)-SUM(DV$6:INDEX(DV:DV,5+$C22-1))/AP22)*CF22),0)","v":0},{"$f":"IF(BL22>0,MIN(BL22,MAX(0,IF(V22>=0,BL22,0)-SUM(DW$6:INDEX(DW:DW,5+$C22-1))/AQ22)*CG22),0)","v":0},{"$f":"IF(BM22>0,MIN(BM22,MAX(0,IF(W22>=0,BM22,0)-SUM(DX$6:INDEX(DX:DX,5+$C22-1))/AR22)*CH22),0)","v":0},{"$f":"IF(BN22>0,MIN(BN22,MAX(0,IF(X22>=0,BN22,0)-SUM(DY$6:INDEX(DY:DY,5+$C22-1))/AS22)*CI22),0)","v":0},{"$f":"IF(BO22>0,MIN(BO22,MAX(0,IF(Y22>=0,BO22,0)-SUM(DZ$6:INDEX(DZ:DZ,5+$C22-1))/AT22)*CJ22),0)","v":0},null,0,0,0,0,0,0,0,0,0,0,0,0,0,0,0,0,0,0,0,0,null,"Moonbeam"]
[null,"Call Lightning",18,"call lightning (c, AE)",{"$f":"MATCH($D23,INDEX(Sorcadins!$D:$D,$D$3):'Sorcadins'!$D1763,0)-1","v":19},{"$f":"IF(CELL(\"contents\",INDIRECT(ADDRESS($D$3+$E23,4+F$4,1,1,\"Sorcadins\")))>=1,CELL(\"contents\",INDIRECT(ADDRESS($D$3+$E23,4+F$4,1,1,\"Sorcadins\"))),0)","v":0},{"$f":"IF(CELL(\"contents\",INDIRECT(ADDRESS($D$3+$E23,4+G$4,1,1,\"Sorcadins\")))>=1,CELL(\"contents\",INDIRECT(ADDRESS($D$3+$E23,4+G$4,1,1,\"Sorcadins\"))),0)","v":0},{"$f":"IF(CELL(\"contents\",INDIRECT(ADDRESS($D$3+$E23,4+H$4,1,1,\"Sorcadins\")))>=1,CELL(\"contents\",INDIRECT(ADDRESS($D$3+$E23,4+H$4,1,1,\"Sorcadins\"))),0)","v":0},{"$f":"IF(CELL(\"contents\",INDIRECT(ADDRESS($D$3+$E23,4+I$4,1,1,\"Sorcadins\")))>=1,CELL(\"contents\",INDIRECT(ADDRESS($D$3+$E23,4+I$4,1,1,\"Sorcadins\"))),0)","v":0},{"$f":"IF(CELL(\"contents\",INDIRECT(ADDRESS($D$3+$E23,4+J$4,1,1,\"Sorcadins\")))>=1,CELL(\"contents\",INDIRECT(ADDRESS($D$3+$E23,4+J$4,1,1,\"Sorcadins\"))),0)","v":0},{"$f":"IF(CELL(\"contents\",INDIRECT(ADDRESS($D$3+$E23,4+K$4,1,1,\"Sorcadins\")))>=1,CELL(\"contents\",INDIRECT(ADDRESS($D$3+$E23,4+K$4,1,1,\"Sorcadins\"))),0)","v":0},{"$f":"IF(CELL(\"contents\",INDIRECT(ADDRESS($D$3+$E23,4+L$4,1,1,\"Sorcadins\")))>=1,CELL(\"contents\",INDIRECT(ADDRESS($D$3+$E23,4+L$4,1,1,\"Sorcadins\"))),0)","v":0},{"$f":"IF(CELL(\"contents\",INDIRECT(ADDRESS($D$3+$E23,4+M$4,1,1,\"Sorcadins\")))>=1,CELL(\"contents\",INDIRECT(ADDRESS($D$3+$E23,4+M$4,1,1,\"Sorcadins\"))),0)","v":0},{"$f":"IF(CELL(\"contents\",INDIRECT(ADDRESS($D$3+$E23,4+N$4,1,1,\"Sorcadins\")))>=1,CELL(\"contents\",INDIRECT(ADDRESS($D$3+$E23,4+N$4,1,1,\"Sorcadins\"))),0)","v":0},{"$f":"IF(CELL(\"contents\",INDIRECT(ADDRESS($D$3+$E23,4+O$4,1,1,\"Sorcadins\")))>=1,CELL(\"contents\",INDIRECT(ADDRESS($D$3+$E23,4+O$4,1,1,\"Sorcadins\"))),0)","v":0},{"$f":"IF(CELL(\"contents\",INDIRECT(ADDRESS($D$3+$E23,4+P$4,1,1,\"Sorcadins\")))>=1,CELL(\"contents\",INDIRECT(ADDRESS($D$3+$E23,4+P$4,1,1,\"Sorcadins\"))),0)","v":0},{"$f":"IF(CELL(\"contents\",INDIRECT(ADDRESS($D$3+$E23,4+Q$4,1,1,\"Sorcadins\")))>=1,CELL(\"contents\",INDIRECT(ADDRESS($D$3+$E23,4+Q$4,1,1,\"Sorcadins\"))),0)","v":0},{"$f":"IF(CELL(\"contents\",INDIRECT(ADDRESS($D$3+$E23,4+R$4,1,1,\"Sorcadins\")))>=1,CELL(\"contents\",INDIRECT(ADDRESS($D$3+$E23,4+R$4,1,1,\"Sorcadins\"))),0)","v":0},{"$f":"IF(CELL(\"contents\",INDIRECT(ADDRESS($D$3+$E23,4+S$4,1,1,\"Sorcadins\")))>=1,CELL(\"contents\",INDIRECT(ADDRESS($D$3+$E23,4+S$4,1,1,\"Sorcadins\"))),0)","v":0},{"$f":"IF(CELL(\"contents\",INDIRECT(ADDRESS($D$3+$E23,4+T$4,1,1,\"Sorcadins\")))>=1,CELL(\"contents\",INDIRECT(ADDRESS($D$3+$E23,4+T$4,1,1,\"Sorcadins\"))),0)","v":0},{"$f":"IF(CELL(\"contents\",INDIRECT(ADDRESS($D$3+$E23,4+U$4,1,1,\"Sorcadins\")))>=1,CELL(\"contents\",INDIRECT(ADDRESS($D$3+$E23,4+U$4,1,1,\"Sorcadins\"))),0)","v":0},{"$f":"IF(CELL(\"contents\",INDIRECT(ADDRESS($D$3+$E23,4+V$4,1,1,\"Sorcadins\")))>=1,CELL(\"contents\",INDIRECT(ADDRESS($D$3+$E23,4+V$4,1,1,\"Sorcadins\"))),0)","v":0},{"$f":"IF(CELL(\"contents\",INDIRECT(ADDRESS($D$3+$E23,4+W$4,1,1,\"Sorcadins\")))>=1,CELL(\"contents\",INDIRECT(ADDRESS($D$3+$E23,4+W$4,1,1,\"Sorcadins\"))),0)","v":0},{"$f":"IF(CELL(\"contents\",INDIRECT(ADDRESS($D$3+$E23,4+X$4,1,1,\"Sorcadins\")))>=1,CELL(\"contents\",INDIRECT(ADDRESS($D$3+$E23,4+X$4,1,1,\"Sorcadins\"))),0)","v":0},{"$f":"IF(CELL(\"contents\",INDIRECT(ADDRESS($D$3+$E23,4+Y$4,1,1,\"Sorcadins\")))>=1,CELL(\"contents\",INDIRECT(ADDRESS($D$3+$E23,4+Y$4,1,1,\"Sorcadins\"))),0)","v":0},null,{"$f":"SUM(F$6:INDEX(F:F,5+$C23))","v":0},{"$f":"SUM(G$6:INDEX(G:G,5+$C23))","v":0},{"$f":"SUM(H$6:INDEX(H:H,5+$C23))","v":0},{"$f":"SUM(I$6:INDEX(I:I,5+$C23))","v":0},{"$f":"SUM(J$6:INDEX(J:J,5+$C23))","v":0},{"$f":"SUM(K$6:INDEX(K:K,5+$C23))","v":0},{"$f":"SUM(L$6:INDEX(L:L,5+$C23))","v":0},{"$f":"SUM(M$6:INDEX(M:M,5+$C23))","v":0},{"$f":"SUM(N$6:INDEX(N:N,5+$C23))","v":0},{"$f":"SUM(O$6:INDEX(O:O,5+$C23))","v":0},{"$f":"SUM(P$6:INDEX(P:P,5+$C23))","v":0},{"$f":"SUM(Q$6:INDEX(Q:Q,5+$C23))","v":0},{"$f":"SUM(R$6:INDEX(R:R,5+$C23))","v":0},{"$f":"SUM(S$6:INDEX(S:S,5+$C23))","v":0},{"$f":"SUM(T$6:INDEX(T:T,5+$C23))","v":0},{"$f":"SUM(U$6:INDEX(U:U,5+$C23))","v":0},{"$f":"SUM(V$6:INDEX(V:V,5+$C23))","v":0},{"$f":"SUM(W$6:INDEX(W:W,5+$C23))","v":0},{"$f":"SUM(X$6:INDEX(X:X,5+$C23))","v":0},{"$f":"SUM(Y$6:INDEX(Y:Y,5+$C23))","v":0},null,{"$f":"IF(AA23>0,IF(Sorcadins!E$315>Sorcadins!E$319,MIN(Sorcadins!E$315,Sorcadins!E$313/AA23),CELL(\"contents\",INDIRECT(ADDRESS(43+Sorcadins!E$25,ROUNDUP(5+MIN(20,AA23),0),1,1,\"Caster Tables\")))),0)","v":0},{"$f":"IF(AB23>0,IF(Sorcadins!F$315>Sorcadins!F$319,MIN(Sorcadins!F$315,Sorcadins!F$313/AB23),CELL(\"contents\",INDIRECT(ADDRESS(43+Sorcadins!F$25,ROUNDUP(5+MIN(20,AB23),0),1,1,\"Caster Tables\")))),0)","v":0},{"$f":"IF(AC23>0,IF(Sorcadins!G$315>Sorcadins!G$319,MIN(Sorcadins!G$315,Sorcadins!G$313/AC23),CELL(\"contents\",INDIRECT(ADDRESS(43+Sorcadins!G$25,ROUNDUP(5+MIN(20,AC23),0),1,1,\"Caster Tables\")))),0)","v":0},{"$f":"IF(AD23>0,IF(Sorcadins!H$315>Sorcadins!H$319,MIN(Sorcadins!H$315,Sorcadins!H$313/AD23),CELL(\"contents\",INDIRECT(ADDRESS(43+Sorcadins!H$25,ROUNDUP(5+MIN(20,AD23),0),1,1,\"Caster Tables\")))),0)","v":0},{"$f":"IF(AE23>0,IF(Sorcadins!I$315>Sorcadins!I$319,MIN(Sorcadins!I$315,Sorcadins!I$313/AE23),CELL(\"contents\",INDIRECT(ADDRESS(43+Sorcadins!I$25,ROUNDUP(5+MIN(20,AE23),0),1,1,\"Caster Tables\")))),0)","v":0},{"$f":"IF(AF23>0,IF(Sorcadins!J$315>Sorcadins!J$319,MIN(Sorcadins!J$315,Sorcadins!J$313/AF23),CELL(\"contents\",INDIRECT(ADDRESS(43+Sorcadins!J$25,ROUNDUP(5+MIN(20,AF23),0),1,1,\"Caster Tables\")))),0)","v":0},{"$f":"IF(AG23>0,IF(Sorcadins!K$315>Sorcadins!K$319,MIN(Sorcadins!K$315,Sorcadins!K$313/AG23),CELL(\"contents\",INDIRECT(ADDRESS(43+Sorcadins!K$25,ROUNDUP(5+MIN(20,AG23),0),1,1,\"Caster Tables\")))),0)","v":0},{"$f":"IF(AH23>0,IF(Sorcadins!L$315>Sorcadins!L$319,MIN(Sorcadins!L$315,Sorcadins!L$313/AH23),CELL(\"contents\",INDIRECT(ADDRESS(43+Sorcadins!L$25,ROUNDUP(5+MIN(20,AH23),0),1,1,\"Caster Tables\")))),0)","v":0},{"$f":"IF(AI23>0,IF(Sorcadins!M$315>Sorcadins!M$319,MIN(Sorcadins!M$315,Sorcadins!M$313/AI23),CELL(\"contents\",INDIRECT(ADDRESS(43+Sorcadins!M$25,ROUNDUP(5+MIN(20,AI23),0),1,1,\"Caster Tables\")))),0)","v":0},{"$f":"IF(AJ23>0,IF(Sorcadins!N$315>Sorcadins!N$319,MIN(Sorcadins!N$315,Sorcadins!N$313/AJ23),CELL(\"contents\",INDIRECT(ADDRESS(43+Sorcadins!N$25,ROUNDUP(5+MIN(20,AJ23),0),1,1,\"Caster Tables\")))),0)","v":0},{"$f":"IF(AK23>0,IF(Sorcadins!O$315>Sorcadins!O$319,MIN(Sorcadins!O$315,Sorcadins!O$313/AK23),CELL(\"contents\",INDIRECT(ADDRESS(43+Sorcadins!O$25,ROUNDUP(5+MIN(20,AK23),0),1,1,\"Caster Tables\")))),0)","v":0},{"$f":"IF(AL23>0,IF(Sorcadins!P$315>Sorcadins!P$319,MIN(Sorcadins!P$315,Sorcadins!P$313/AL23),CELL(\"contents\",INDIRECT(ADDRESS(43+Sorcadins!P$25,ROUNDUP(5+MIN(20,AL23),0),1,1,\"Caster Tables\")))),0)","v":0},{"$f":"IF(AM23>0,IF(Sorcadins!Q$315>Sorcadins!Q$319,MIN(Sorcadins!Q$315,Sorcadins!Q$313/AM23),CELL(\"contents\",INDIRECT(ADDRESS(43+Sorcadins!Q$25,ROUNDUP(5+MIN(20,AM23),0),1,1,\"Caster Tables\")))),0)","v":0},{"$f":"IF(AN23>0,IF(Sorcadins!R$315>Sorcadins!R$319,MIN(Sorcadins!R$315,Sorcadins!R$313/AN23),CELL(\"contents\",INDIRECT(ADDRESS(43+Sorcadins!R$25,ROUNDUP(5+MIN(20,AN23),0),1,1,\"Caster Tables\")))),0)","v":0},{"$f":"IF(AO23>0,IF(Sorcadins!S$315>Sorcadins!S$319,MIN(Sorcadins!S$315,Sorcadins!S$313/AO23),CELL(\"contents\",INDIRECT(ADDRESS(43+Sorcadins!S$25,ROUNDUP(5+MIN(20,AO23),0),1,1,\"Caster Tables\")))),0)","v":0},{"$f":"IF(AP23>0,IF(Sorcadins!T$315>Sorcadins!T$319,MIN(Sorcadins!T$315,Sorcadins!T$313/AP23),CELL(\"contents\",INDIRECT(ADDRESS(43+Sorcadins!T$25,ROUNDUP(5+MIN(20,AP23),0),1,1,\"Caster Tables\")))),0)","v":0},{"$f":"IF(AQ23>0,IF(Sorcadins!U$315>Sorcadins!U$319,MIN(Sorcadins!U$315,Sorcadins!U$313/AQ23),CELL(\"contents\",INDIRECT(ADDRESS(43+Sorcadins!U$25,ROUNDUP(5+MIN(20,AQ23),0),1,1,\"Caster Tables\")))),0)","v":0},{"$f":"IF(AR23>0,IF(Sorcadins!V$315>Sorcadins!V$319,MIN(Sorcadins!V$315,Sorcadins!V$313/AR23),CELL(\"contents\",INDIRECT(ADDRESS(43+Sorcadins!V$25,ROUNDUP(5+MIN(20,AR23),0),1,1,\"Caster Tables\")))),0)","v":0},{"$f":"IF(AS23>0,IF(Sorcadins!W$315>Sorcadins!W$319,MIN(Sorcadins!W$315,Sorcadins!W$313/AS23),CELL(\"contents\",INDIRECT(ADDRESS(43+Sorcadins!W$25,ROUNDUP(5+MIN(20,AS23),0),1,1,\"Caster Tables\")))),0)","v":0},{"$f":"IF(AT23>0,IF(Sorcadins!X$315>Sorcadins!X$319,MIN(Sorcadins!X$315,Sorcadins!X$313/AT23),CELL(\"contents\",INDIRECT(ADDRESS(43+Sorcadins!X$25,ROUNDUP(5+MIN(20,AT23),0),1,1,\"Caster Tables\")))),0)","v":0},null,{"$f":"IF(F23>=1,AA23/F23,0)","v":0},{"$f":"IF(G23>=1,AB23/G23,0)","v":0},{"$f":"IF(H23>=1,AC23/H23,0)","v":0},{"$f":"IF(I23>=1,AD23/I23,0)","v":0},{"$f":"IF(J23>=1,AE23/J23,0)","v":0},{"$f":"IF(K23>=1,AF23/K23,0)","v":0},{"$f":"IF(L23>=1,AG23/L23,0)","v":0},{"$f":"IF(M23>=1,AH23/M23,0)","v":0},{"$f":"IF(N23>=1,AI23/N23,0)","v":0},{"$f":"IF(O23>=1,AJ23/O23,0)","v":0},{"$f":"IF(P23>=1,AK23/P23,0)","v":0},0,0,0,0,0,0,0,0,0,null,{"$f":"IF(AV23>0,MIN(AV23,MAX(0,IF(F23>=0,AV23,0)-SUM(DG$6:INDEX(DG:DG,5+$C23-1))/AA23)*BQ23),0)","v":0},{"$f":"IF(AW23>0,MIN(AW23,MAX(0,IF(G23>=0,AW23,0)-SUM(DH$6:INDEX(DH:DH,5+$C23-1))/AB23)*BR23),0)","v":0},{"$f":"IF(AX23>0,MIN(AX23,MAX(0,IF(H23>=0,AX23,0)-SUM(DI$6:INDEX(DI:DI,5+$C23-1))/AC23)*BS23),0)","v":0},{"$f":"IF(AY23>0,MIN(AY23,MAX(0,IF(I23>=0,AY23,0)-SUM(DJ$6:INDEX(DJ:DJ,5+$C23-1))/AD23)*BT23),0)","v":0},{"$f":"IF(AZ23>0,MIN(AZ23,MAX(0,IF(J23>=0,AZ23,0)-SUM(DK$6:INDEX(DK:DK,5+$C23-1))/AE23)*BU23),0)","v":0},{"$f":"IF(BA23>0,MIN(BA23,MAX(0,IF(K23>=0,BA23,0)-SUM(DL$6:INDEX(DL:DL,5+$C23-1))/AF23)*BV23),0)","v":0},{"$f":"IF(BB23>0,MIN(BB23,MAX(0,IF(L23>=0,BB23,0)-SUM(DM$6:INDEX(DM:DM,5+$C23-1))/AG23)*BW23),0)","v":0},{"$f":"IF(BC23>0,MIN(BC23,MAX(0,IF(M23>=0,BC23,0)-SUM(DN$6:INDEX(DN:DN,5+$C23-1))/AH23)*BX23),0)","v":0},{"$f":"IF(BD23>0,MIN(BD23,MAX(0,IF(N23>=0,BD23,0)-SUM(DO$6:INDEX(DO:DO,5+$C23-1))/AI23)*BY23),0)","v":0},{"$f":"IF(BE23>0,MIN(BE23,MAX(0,IF(O23>=0,BE23,0)-SUM(DP$6:INDEX(DP:DP,5+$C23-1))/AJ23)*BZ23),0)","v":0},{"$f":"IF(BF23>0,MIN(BF23,MAX(0,IF(P23>=0,BF23,0)-SUM(DQ$6:INDEX(DQ:DQ,5+$C23-1))/AK23)*CA23),0)","v":0},{"$f":"IF(BG23>0,MIN(BG23,MAX(0,IF(Q23>=0,BG23,0)-SUM(DR$6:INDEX(DR:DR,5+$C23-1))/AL23)*CB23),0)","v":0},{"$f":"IF(BH23>0,MIN(BH23,MAX(0,IF(R23>=0,BH23,0)-SUM(DS$6:INDEX(DS:DS,5+$C23-1))/AM23)*CC23),0)","v":0},{"$f":"IF(BI23>0,MIN(BI23,MAX(0,IF(S23>=0,BI23,0)-SUM(DT$6:INDEX(DT:DT,5+$C23-1))/AN23)*CD23),0)","v":0},{"$f":"IF(BJ23>0,MIN(BJ23,MAX(0,IF(T23>=0,BJ23,0)-SUM(DU$6:INDEX(DU:DU,5+$C23-1))/AO23)*CE23),0)","v":0},{"$f":"IF(BK23>0,MIN(BK23,MAX(0,IF(U23>=0,BK23,0)-SUM(DV$6:INDEX(DV:DV,5+$C23-1))/AP23)*CF23),0)","v":0},{"$f":"IF(BL23>0,MIN(BL23,MAX(0,IF(V23>=0,BL23,0)-SUM(DW$6:INDEX(DW:DW,5+$C23-1))/AQ23)*CG23),0)","v":0},{"$f":"IF(BM23>0,MIN(BM23,MAX(0,IF(W23>=0,BM23,0)-SUM(DX$6:INDEX(DX:DX,5+$C23-1))/AR23)*CH23),0)","v":0},{"$f":"IF(BN23>0,MIN(BN23,MAX(0,IF(X23>=0,BN23,0)-SUM(DY$6:INDEX(DY:DY,5+$C23-1))/AS23)*CI23),0)","v":0},{"$f":"IF(BO23>0,MIN(BO23,MAX(0,IF(Y23>=0,BO23,0)-SUM(DZ$6:INDEX(DZ:DZ,5+$C23-1))/AT23)*CJ23),0)","v":0},null,{"$f":"F23*CL23","v":0},{"$f":"G23*CM23","v":0},{"$f":"H23*CN23","v":0},{"$f":"I23*CO23","v":0},{"$f":"J23*CP23","v":0},{"$f":"K23*CQ23","v":0},{"$f":"L23*CR23","v":0},{"$f":"M23*CS23","v":0},{"$f":"N23*CT23","v":0},{"$f":"O23*CU23","v":0},{"$f":"P23*CV23","v":0},0,0,0,0,0,0,0,0,0,null,"Call Lightning"]
[null,"Flaming Sphere",19,"flaming sphere casts (c)",{"$f":"MATCH($D24,INDEX(Sorcadins!$D:$D,$D$3):'Sorcadins'!$D1764,0)-1","v":30},{"$f":"IF(CELL(\"contents\",INDIRECT(ADDRESS($D$3+$E24,4+F$4,1,1,\"Sorcadins\")))>=1,CELL(\"contents\",INDIRECT(ADDRESS($D$3+$E24,4+F$4,1,1,\"Sorcadins\"))),0)","v":0},{"$f":"IF(CELL(\"contents\",INDIRECT(ADDRESS($D$3+$E24,4+G$4,1,1,\"Sorcadins\")))>=1,CELL(\"contents\",INDIRECT(ADDRESS($D$3+$E24,4+G$4,1,1,\"Sorcadins\"))),0)","v":0},{"$f":"IF(CELL(\"contents\",INDIRECT(ADDRESS($D$3+$E24,4+H$4,1,1,\"Sorcadins\")))>=1,CELL(\"contents\",INDIRECT(ADDRESS($D$3+$E24,4+H$4,1,1,\"Sorcadins\"))),0)","v":0},{"$f":"IF(CELL(\"contents\",INDIRECT(ADDRESS($D$3+$E24,4+I$4,1,1,\"Sorcadins\")))>=1,CELL(\"contents\",INDIRECT(ADDRESS($D$3+$E24,4+I$4,1,1,\"Sorcadins\"))),0)","v":0},{"$f":"IF(CELL(\"contents\",INDIRECT(ADDRESS($D$3+$E24,4+J$4,1,1,\"Sorcadins\")))>=1,CELL(\"contents\",INDIRECT(ADDRESS($D$3+$E24,4+J$4,1,1,\"Sorcadins\"))),0)","v":0},{"$f":"IF(CELL(\"contents\",INDIRECT(ADDRESS($D$3+$E24,4+K$4,1,1,\"Sorcadins\")))>=1,CELL(\"contents\",INDIRECT(ADDRESS($D$3+$E24,4+K$4,1,1,\"Sorcadins\"))),0)","v":0},{"$f":"IF(CELL(\"contents\",INDIRECT(ADDRESS($D$3+$E24,4+L$4,1,1,\"Sorcadins\")))>=1,CELL(\"contents\",INDIRECT(ADDRESS($D$3+$E24,4+L$4,1,1,\"Sorcadins\"))),0)","v":0},{"$f":"IF(CELL(\"contents\",INDIRECT(ADDRESS($D$3+$E24,4+M$4,1,1,\"Sorcadins\")))>=1,CELL(\"contents\",INDIRECT(ADDRESS($D$3+$E24,4+M$4,1,1,\"Sorcadins\"))),0)","v":0},{"$f":"IF(CELL(\"contents\",INDIRECT(ADDRESS($D$3+$E24,4+N$4,1,1,\"Sorcadins\")))>=1,CELL(\"contents\",INDIRECT(ADDRESS($D$3+$E24,4+N$4,1,1,\"Sorcadins\"))),0)","v":0},{"$f":"IF(CELL(\"contents\",INDIRECT(ADDRESS($D$3+$E24,4+O$4,1,1,\"Sorcadins\")))>=1,CELL(\"contents\",INDIRECT(ADDRESS($D$3+$E24,4+O$4,1,1,\"Sorcadins\"))),0)","v":0},{"$f":"IF(CELL(\"contents\",INDIRECT(ADDRESS($D$3+$E24,4+P$4,1,1,\"Sorcadins\")))>=1,CELL(\"contents\",INDIRECT(ADDRESS($D$3+$E24,4+P$4,1,1,\"Sorcadins\"))),0)","v":0},{"$f":"IF(CELL(\"contents\",INDIRECT(ADDRESS($D$3+$E24,4+Q$4,1,1,\"Sorcadins\")))>=1,CELL(\"contents\",INDIRECT(ADDRESS($D$3+$E24,4+Q$4,1,1,\"Sorcadins\"))),0)","v":0},{"$f":"IF(CELL(\"contents\",INDIRECT(ADDRESS($D$3+$E24,4+R$4,1,1,\"Sorcadins\")))>=1,CELL(\"contents\",INDIRECT(ADDRESS($D$3+$E24,4+R$4,1,1,\"Sorcadins\"))),0)","v":0},{"$f":"IF(CELL(\"contents\",INDIRECT(ADDRESS($D$3+$E24,4+S$4,1,1,\"Sorcadins\")))>=1,CELL(\"contents\",INDIRECT(ADDRESS($D$3+$E24,4+S$4,1,1,\"Sorcadins\"))),0)","v":0},{"$f":"IF(CELL(\"contents\",INDIRECT(ADDRESS($D$3+$E24,4+T$4,1,1,\"Sorcadins\")))>=1,CELL(\"contents\",INDIRECT(ADDRESS($D$3+$E24,4+T$4,1,1,\"Sorcadins\"))),0)","v":0},{"$f":"IF(CELL(\"contents\",INDIRECT(ADDRESS($D$3+$E24,4+U$4,1,1,\"Sorcadins\")))>=1,CELL(\"contents\",INDIRECT(ADDRESS($D$3+$E24,4+U$4,1,1,\"Sorcadins\"))),0)","v":0},{"$f":"IF(CELL(\"contents\",INDIRECT(ADDRESS($D$3+$E24,4+V$4,1,1,\"Sorcadins\")))>=1,CELL(\"contents\",INDIRECT(ADDRESS($D$3+$E24,4+V$4,1,1,\"Sorcadins\"))),0)","v":0},{"$f":"IF(CELL(\"contents\",INDIRECT(ADDRESS($D$3+$E24,4+W$4,1,1,\"Sorcadins\")))>=1,CELL(\"contents\",INDIRECT(ADDRESS($D$3+$E24,4+W$4,1,1,\"Sorcadins\"))),0)","v":0},{"$f":"IF(CELL(\"contents\",INDIRECT(ADDRESS($D$3+$E24,4+X$4,1,1,\"Sorcadins\")))>=1,CELL(\"contents\",INDIRECT(ADDRESS($D$3+$E24,4+X$4,1,1,\"Sorcadins\"))),0)","v":0},{"$f":"IF(CELL(\"contents\",INDIRECT(ADDRESS($D$3+$E24,4+Y$4,1,1,\"Sorcadins\")))>=1,CELL(\"contents\",INDIRECT(ADDRESS($D$3+$E24,4+Y$4,1,1,\"Sorcadins\"))),0)","v":0},null,{"$f":"SUM(F$6:INDEX(F:F,5+$C24))","v":0},{"$f":"SUM(G$6:INDEX(G:G,5+$C24))","v":0},{"$f":"SUM(H$6:INDEX(H:H,5+$C24))","v":0},{"$f":"SUM(I$6:INDEX(I:I,5+$C24))","v":0},{"$f":"SUM(J$6:INDEX(J:J,5+$C24))","v":0},{"$f":"SUM(K$6:INDEX(K:K,5+$C24))","v":0},{"$f":"SUM(L$6:INDEX(L:L,5+$C24))","v":0},{"$f":"SUM(M$6:INDEX(M:M,5+$C24))","v":0},{"$f":"SUM(N$6:INDEX(N:N,5+$C24))","v":0},{"$f":"SUM(O$6:INDEX(O:O,5+$C24))","v":0},{"$f":"SUM(P$6:INDEX(P:P,5+$C24))","v":0},{"$f":"SUM(Q$6:INDEX(Q:Q,5+$C24))","v":0},{"$f":"SUM(R$6:INDEX(R:R,5+$C24))","v":0},{"$f":"SUM(S$6:INDEX(S:S,5+$C24))","v":0},{"$f":"SUM(T$6:INDEX(T:T,5+$C24))","v":0},{"$f":"SUM(U$6:INDEX(U:U,5+$C24))","v":0},{"$f":"SUM(V$6:INDEX(V:V,5+$C24))","v":0},{"$f":"SUM(W$6:INDEX(W:W,5+$C24))","v":0},{"$f":"SUM(X$6:INDEX(X:X,5+$C24))","v":0},{"$f":"SUM(Y$6:INDEX(Y:Y,5+$C24))","v":0},null,{"$f":"IF(AA24>0,IF(Sorcadins!E$315>Sorcadins!E$319,MIN(Sorcadins!E$315,Sorcadins!E$313/AA24),CELL(\"contents\",INDIRECT(ADDRESS(43+Sorcadins!E$25,ROUNDUP(5+MIN(20,AA24),0),1,1,\"Caster Tables\")))),0)","v":0},{"$f":"IF(AB24>0,IF(Sorcadins!F$315>Sorcadins!F$319,MIN(Sorcadins!F$315,Sorcadins!F$313/AB24),CELL(\"contents\",INDIRECT(ADDRESS(43+Sorcadins!F$25,ROUNDUP(5+MIN(20,AB24),0),1,1,\"Caster Tables\")))),0)","v":0},{"$f":"IF(AC24>0,IF(Sorcadins!G$315>Sorcadins!G$319,MIN(Sorcadins!G$315,Sorcadins!G$313/AC24),CELL(\"contents\",INDIRECT(ADDRESS(43+Sorcadins!G$25,ROUNDUP(5+MIN(20,AC24),0),1,1,\"Caster Tables\")))),0)","v":0},{"$f":"IF(AD24>0,IF(Sorcadins!H$315>Sorcadins!H$319,MIN(Sorcadins!H$315,Sorcadins!H$313/AD24),CELL(\"contents\",INDIRECT(ADDRESS(43+Sorcadins!H$25,ROUNDUP(5+MIN(20,AD24),0),1,1,\"Caster Tables\")))),0)","v":0},{"$f":"IF(AE24>0,IF(Sorcadins!I$315>Sorcadins!I$319,MIN(Sorcadins!I$315,Sorcadins!I$313/AE24),CELL(\"contents\",INDIRECT(ADDRESS(43+Sorcadins!I$25,ROUNDUP(5+MIN(20,AE24),0),1,1,\"Caster Tables\")))),0)","v":0},{"$f":"IF(AF24>0,IF(Sorcadins!J$315>Sorcadins!J$319,MIN(Sorcadins!J$315,Sorcadins!J$313/AF24),CELL(\"contents\",INDIRECT(ADDRESS(43+Sorcadins!J$25,ROUNDUP(5+MIN(20,AF24),0),1,1,\"Caster Tables\")))),0)","v":0},{"$f":"IF(AG24>0,IF(Sorcadins!K$315>Sorcadins!K$319,MIN(Sorcadins!K$315,Sorcadins!K$313/AG24),CELL(\"contents\",INDIRECT(ADDRESS(43+Sorcadins!K$25,ROUNDUP(5+MIN(20,AG24),0),1,1,\"Caster Tables\")))),0)","v":0},{"$f":"IF(AH24>0,IF(Sorcadins!L$315>Sorcadins!L$319,MIN(Sorcadins!L$315,Sorcadins!L$313/AH24),CELL(\"contents\",INDIRECT(ADDRESS(43+Sorcadins!L$25,ROUNDUP(5+MIN(20,AH24),0),1,1,\"Caster Tables\")))),0)","v":0},{"$f":"IF(AI24>0,IF(Sorcadins!M$315>Sorcadins!M$319,MIN(Sorcadins!M$315,Sorcadins!M$313/AI24),CELL(\"contents\",INDIRECT(ADDRESS(43+Sorcadins!M$25,ROUNDUP(5+MIN(20,AI24),0),1,1,\"Caster Tables\")))),0)","v":0},{"$f":"IF(AJ24>0,IF(Sorcadins!N$315>Sorcadins!N$319,MIN(Sorcadins!N$315,Sorcadins!N$313/AJ24),CELL(\"contents\",INDIRECT(ADDRESS(43+Sorcadins!N$25,ROUNDUP(5+MIN(20,AJ24),0),1,1,\"Caster Tables\")))),0)","v":0},{"$f":"IF(AK24>0,IF(Sorcadins!O$315>Sorcadins!O$319,MIN(Sorcadins!O$315,Sorcadins!O$313/AK24),CELL(\"contents\",INDIRECT(ADDRESS(43+Sorcadins!O$25,ROUNDUP(5+MIN(20,AK24),0),1,1,\"Caster Tables\")))),0)","v":0},{"$f":"IF(AL24>0,IF(Sorcadins!P$315>Sorcadins!P$319,MIN(Sorcadins!P$315,Sorcadins!P$313/AL24),CELL(\"contents\",INDIRECT(ADDRESS(43+Sorcadins!P$25,ROUNDUP(5+MIN(20,AL24),0),1,1,\"Caster Tables\")))),0)","v":0},{"$f":"IF(AM24>0,IF(Sorcadins!Q$315>Sorcadins!Q$319,MIN(Sorcadins!Q$315,Sorcadins!Q$313/AM24),CELL(\"contents\",INDIRECT(ADDRESS(43+Sorcadins!Q$25,ROUNDUP(5+MIN(20,AM24),0),1,1,\"Caster Tables\")))),0)","v":0},{"$f":"IF(AN24>0,IF(Sorcadins!R$315>Sorcadins!R$319,MIN(Sorcadins!R$315,Sorcadins!R$313/AN24),CELL(\"contents\",INDIRECT(ADDRESS(43+Sorcadins!R$25,ROUNDUP(5+MIN(20,AN24),0),1,1,\"Caster Tables\")))),0)","v":0},{"$f":"IF(AO24>0,IF(Sorcadins!S$315>Sorcadins!S$319,MIN(Sorcadins!S$315,Sorcadins!S$313/AO24),CELL(\"contents\",INDIRECT(ADDRESS(43+Sorcadins!S$25,ROUNDUP(5+MIN(20,AO24),0),1,1,\"Caster Tables\")))),0)","v":0},{"$f":"IF(AP24>0,IF(Sorcadins!T$315>Sorcadins!T$319,MIN(Sorcadins!T$315,Sorcadins!T$313/AP24),CELL(\"contents\",INDIRECT(ADDRESS(43+Sorcadins!T$25,ROUNDUP(5+MIN(20,AP24),0),1,1,\"Caster Tables\")))),0)","v":0},{"$f":"IF(AQ24>0,IF(Sorcadins!U$315>Sorcadins!U$319,MIN(Sorcadins!U$315,Sorcadins!U$313/AQ24),CELL(\"contents\",INDIRECT(ADDRESS(43+Sorcadins!U$25,ROUNDUP(5+MIN(20,AQ24),0),1,1,\"Caster Tables\")))),0)","v":0},{"$f":"IF(AR24>0,IF(Sorcadins!V$315>Sorcadins!V$319,MIN(Sorcadins!V$315,Sorcadins!V$313/AR24),CELL(\"contents\",INDIRECT(ADDRESS(43+Sorcadins!V$25,ROUNDUP(5+MIN(20,AR24),0),1,1,\"Caster Tables\")))),0)","v":0},{"$f":"IF(AS24>0,IF(Sorcadins!W$315>Sorcadins!W$319,MIN(Sorcadins!W$315,Sorcadins!W$313/AS24),CELL(\"contents\",INDIRECT(ADDRESS(43+Sorcadins!W$25,ROUNDUP(5+MIN(20,AS24),0),1,1,\"Caster Tables\")))),0)","v":0},{"$f":"IF(AT24>0,IF(Sorcadins!X$315>Sorcadins!X$319,MIN(Sorcadins!X$315,Sorcadins!X$313/AT24),CELL(\"contents\",INDIRECT(ADDRESS(43+Sorcadins!X$25,ROUNDUP(5+MIN(20,AT24),0),1,1,\"Caster Tables\")))),0)","v":0},null,0,0,0,0,0,0,0,0,0,0,0,0,0,0,0,0,0,0,0,0,null,{"$f":"IF(AV24>0,MIN(AV24,MAX(0,IF(F24>=0,AV24,0)-SUM(DG$6:INDEX(DG:DG,5+$C24-1))/AA24)*BQ24),0)","v":0},{"$f":"IF(AW24>0,MIN(AW24,MAX(0,IF(G24>=0,AW24,0)-SUM(DH$6:INDEX(DH:DH,5+$C24-1))/AB24)*BR24),0)","v":0},{"$f":"IF(AX24>0,MIN(AX24,MAX(0,IF(H24>=0,AX24,0)-SUM(DI$6:INDEX(DI:DI,5+$C24-1))/AC24)*BS24),0)","v":0},{"$f":"IF(AY24>0,MIN(AY24,MAX(0,IF(I24>=0,AY24,0)-SUM(DJ$6:INDEX(DJ:DJ,5+$C24-1))/AD24)*BT24),0)","v":0},{"$f":"IF(AZ24>0,MIN(AZ24,MAX(0,IF(J24>=0,AZ24,0)-SUM(DK$6:INDEX(DK:DK,5+$C24-1))/AE24)*BU24),0)","v":0},{"$f":"IF(BA24>0,MIN(BA24,MAX(0,IF(K24>=0,BA24,0)-SUM(DL$6:INDEX(DL:DL,5+$C24-1))/AF24)*BV24),0)","v":0},{"$f":"IF(BB24>0,MIN(BB24,MAX(0,IF(L24>=0,BB24,0)-SUM(DM$6:INDEX(DM:DM,5+$C24-1))/AG24)*BW24),0)","v":0},{"$f":"IF(BC24>0,MIN(BC24,MAX(0,IF(M24>=0,BC24,0)-SUM(DN$6:INDEX(DN:DN,5+$C24-1))/AH24)*BX24),0)","v":0},{"$f":"IF(BD24>0,MIN(BD24,MAX(0,IF(N24>=0,BD24,0)-SUM(DO$6:INDEX(DO:DO,5+$C24-1))/AI24)*BY24),0)","v":0},{"$f":"IF(BE24>0,MIN(BE24,MAX(0,IF(O24>=0,BE24,0)-SUM(DP$6:INDEX(DP:DP,5+$C24-1))/AJ24)*BZ24),0)","v":0},{"$f":"IF(BF24>0,MIN(BF24,MAX(0,IF(P24>=0,BF24,0)-SUM(DQ$6:INDEX(DQ:DQ,5+$C24-1))/AK24)*CA24),0)","v":0},{"$f":"IF(BG24>0,MIN(BG24,MAX(0,IF(Q24>=0,BG24,0)-SUM(DR$6:INDEX(DR:DR,5+$C24-1))/AL24)*CB24),0)","v":0},{"$f":"IF(BH24>0,MIN(BH24,MAX(0,IF(R24>=0,BH24,0)-SUM(DS$6:INDEX(DS:DS,5+$C24-1))/AM24)*CC24),0)","v":0},{"$f":"IF(BI24>0,MIN(BI24,MAX(0,IF(S24>=0,BI24,0)-SUM(DT$6:INDEX(DT:DT,5+$C24-1))/AN24)*CD24),0)","v":0},{"$f":"IF(BJ24>0,MIN(BJ24,MAX(0,IF(T24>=0,BJ24,0)-SUM(DU$6:INDEX(DU:DU,5+$C24-1))/AO24)*CE24),0)","v":0},{"$f":"IF(BK24>0,MIN(BK24,MAX(0,IF(U24>=0,BK24,0)-SUM(DV$6:INDEX(DV:DV,5+$C24-1))/AP24)*CF24),0)","v":0},{"$f":"IF(BL24>0,MIN(BL24,MAX(0,IF(V24>=0,BL24,0)-SUM(DW$6:INDEX(DW:DW,5+$C24-1))/AQ24)*CG24),0)","v":0},{"$f":"IF(BM24>0,MIN(BM24,MAX(0,IF(W24>=0,BM24,0)-SUM(DX$6:INDEX(DX:DX,5+$C24-1))/AR24)*CH24),0)","v":0},{"$f":"IF(BN24>0,MIN(BN24,MAX(0,IF(X24>=0,BN24,0)-SUM(DY$6:INDEX(DY:DY,5+$C24-1))/AS24)*CI24),0)","v":0},{"$f":"IF(BO24>0,MIN(BO24,MAX(0,IF(Y24>=0,BO24,0)-SUM(DZ$6:INDEX(DZ:DZ,5+$C24-1))/AT24)*CJ24),0)","v":0},null,0,0,0,0,0,0,0,0,0,0,0,0,0,0,0,0,0,0,0,0,null,"Flaming Sphere"]
[null,"Guiding Bolt",20,"guiding bolt casts (cleric, druid of stars) : AE",{"$f":"MATCH($D25,INDEX(Sorcadins!$D:$D,$D$3):'Sorcadins'!$D1765,0)-1","v":1},{"$f":"IF(CELL(\"contents\",INDIRECT(ADDRESS($D$3+$E25,4+F$4,1,1,\"Sorcadins\")))>=1,CELL(\"contents\",INDIRECT(ADDRESS($D$3+$E25,4+F$4,1,1,\"Sorcadins\"))),0)","v":0},{"$f":"IF(CELL(\"contents\",INDIRECT(ADDRESS($D$3+$E25,4+G$4,1,1,\"Sorcadins\")))>=1,CELL(\"contents\",INDIRECT(ADDRESS($D$3+$E25,4+G$4,1,1,\"Sorcadins\"))),0)","v":0},{"$f":"IF(CELL(\"contents\",INDIRECT(ADDRESS($D$3+$E25,4+H$4,1,1,\"Sorcadins\")))>=1,CELL(\"contents\",INDIRECT(ADDRESS($D$3+$E25,4+H$4,1,1,\"Sorcadins\"))),0)","v":0},{"$f":"IF(CELL(\"contents\",INDIRECT(ADDRESS($D$3+$E25,4+I$4,1,1,\"Sorcadins\")))>=1,CELL(\"contents\",INDIRECT(ADDRESS($D$3+$E25,4+I$4,1,1,\"Sorcadins\"))),0)","v":0},{"$f":"IF(CELL(\"contents\",INDIRECT(ADDRESS($D$3+$E25,4+J$4,1,1,\"Sorcadins\")))>=1,CELL(\"contents\",INDIRECT(ADDRESS($D$3+$E25,4+J$4,1,1,\"Sorcadins\"))),0)","v":0},{"$f":"IF(CELL(\"contents\",INDIRECT(ADDRESS($D$3+$E25,4+K$4,1,1,\"Sorcadins\")))>=1,CELL(\"contents\",INDIRECT(ADDRESS($D$3+$E25,4+K$4,1,1,\"Sorcadins\"))),0)","v":0},{"$f":"IF(CELL(\"contents\",INDIRECT(ADDRESS($D$3+$E25,4+L$4,1,1,\"Sorcadins\")))>=1,CELL(\"contents\",INDIRECT(ADDRESS($D$3+$E25,4+L$4,1,1,\"Sorcadins\"))),0)","v":0},{"$f":"IF(CELL(\"contents\",INDIRECT(ADDRESS($D$3+$E25,4+M$4,1,1,\"Sorcadins\")))>=1,CELL(\"contents\",INDIRECT(ADDRESS($D$3+$E25,4+M$4,1,1,\"Sorcadins\"))),0)","v":0},{"$f":"IF(CELL(\"contents\",INDIRECT(ADDRESS($D$3+$E25,4+N$4,1,1,\"Sorcadins\")))>=1,CELL(\"contents\",INDIRECT(ADDRESS($D$3+$E25,4+N$4,1,1,\"Sorcadins\"))),0)","v":0},{"$f":"IF(CELL(\"contents\",INDIRECT(ADDRESS($D$3+$E25,4+O$4,1,1,\"Sorcadins\")))>=1,CELL(\"contents\",INDIRECT(ADDRESS($D$3+$E25,4+O$4,1,1,\"Sorcadins\"))),0)","v":0},{"$f":"IF(CELL(\"contents\",INDIRECT(ADDRESS($D$3+$E25,4+P$4,1,1,\"Sorcadins\")))>=1,CELL(\"contents\",INDIRECT(ADDRESS($D$3+$E25,4+P$4,1,1,\"Sorcadins\"))),0)","v":0},{"$f":"IF(CELL(\"contents\",INDIRECT(ADDRESS($D$3+$E25,4+Q$4,1,1,\"Sorcadins\")))>=1,CELL(\"contents\",INDIRECT(ADDRESS($D$3+$E25,4+Q$4,1,1,\"Sorcadins\"))),0)","v":0},{"$f":"IF(CELL(\"contents\",INDIRECT(ADDRESS($D$3+$E25,4+R$4,1,1,\"Sorcadins\")))>=1,CELL(\"contents\",INDIRECT(ADDRESS($D$3+$E25,4+R$4,1,1,\"Sorcadins\"))),0)","v":0},{"$f":"IF(CELL(\"contents\",INDIRECT(ADDRESS($D$3+$E25,4+S$4,1,1,\"Sorcadins\")))>=1,CELL(\"contents\",INDIRECT(ADDRESS($D$3+$E25,4+S$4,1,1,\"Sorcadins\"))),0)","v":0},{"$f":"IF(CELL(\"contents\",INDIRECT(ADDRESS($D$3+$E25,4+T$4,1,1,\"Sorcadins\")))>=1,CELL(\"contents\",INDIRECT(ADDRESS($D$3+$E25,4+T$4,1,1,\"Sorcadins\"))),0)","v":0},{"$f":"IF(CELL(\"contents\",INDIRECT(ADDRESS($D$3+$E25,4+U$4,1,1,\"Sorcadins\")))>=1,CELL(\"contents\",INDIRECT(ADDRESS($D$3+$E25,4+U$4,1,1,\"Sorcadins\"))),0)","v":0},{"$f":"IF(CELL(\"contents\",INDIRECT(ADDRESS($D$3+$E25,4+V$4,1,1,\"Sorcadins\")))>=1,CELL(\"contents\",INDIRECT(ADDRESS($D$3+$E25,4+V$4,1,1,\"Sorcadins\"))),0)","v":0},{"$f":"IF(CELL(\"contents\",INDIRECT(ADDRESS($D$3+$E25,4+W$4,1,1,\"Sorcadins\")))>=1,CELL(\"contents\",INDIRECT(ADDRESS($D$3+$E25,4+W$4,1,1,\"Sorcadins\"))),0)","v":0},{"$f":"IF(CELL(\"contents\",INDIRECT(ADDRESS($D$3+$E25,4+X$4,1,1,\"Sorcadins\")))>=1,CELL(\"contents\",INDIRECT(ADDRESS($D$3+$E25,4+X$4,1,1,\"Sorcadins\"))),0)","v":0},{"$f":"IF(CELL(\"contents\",INDIRECT(ADDRESS($D$3+$E25,4+Y$4,1,1,\"Sorcadins\")))>=1,CELL(\"contents\",INDIRECT(ADDRESS($D$3+$E25,4+Y$4,1,1,\"Sorcadins\"))),0)","v":0},null,{"$f":"SUM(F$6:INDEX(F:F,5+$C25))","v":0},{"$f":"SUM(G$6:INDEX(G:G,5+$C25))","v":0},{"$f":"SUM(H$6:INDEX(H:H,5+$C25))","v":0},{"$f":"SUM(I$6:INDEX(I:I,5+$C25))","v":0},{"$f":"SUM(J$6:INDEX(J:J,5+$C25))","v":0},{"$f":"SUM(K$6:INDEX(K:K,5+$C25))","v":0},{"$f":"SUM(L$6:INDEX(L:L,5+$C25))","v":0},{"$f":"SUM(M$6:INDEX(M:M,5+$C25))","v":0},{"$f":"SUM(N$6:INDEX(N:N,5+$C25))","v":0},{"$f":"SUM(O$6:INDEX(O:O,5+$C25))","v":0},{"$f":"SUM(P$6:INDEX(P:P,5+$C25))","v":0},{"$f":"SUM(Q$6:INDEX(Q:Q,5+$C25))","v":0},{"$f":"SUM(R$6:INDEX(R:R,5+$C25))","v":0},{"$f":"SUM(S$6:INDEX(S:S,5+$C25))","v":0},{"$f":"SUM(T$6:INDEX(T:T,5+$C25))","v":0},{"$f":"SUM(U$6:INDEX(U:U,5+$C25))","v":0},{"$f":"SUM(V$6:INDEX(V:V,5+$C25))","v":0},{"$f":"SUM(W$6:INDEX(W:W,5+$C25))","v":0},{"$f":"SUM(X$6:INDEX(X:X,5+$C25))","v":0},{"$f":"SUM(Y$6:INDEX(Y:Y,5+$C25))","v":0},null,{"$f":"IF(AA25>0,IF(Sorcadins!E$315>Sorcadins!E$319,MIN(Sorcadins!E$315,Sorcadins!E$313/AA25),CELL(\"contents\",INDIRECT(ADDRESS(43+Sorcadins!E$25,ROUNDUP(5+MIN(20,AA25),0),1,1,\"Caster Tables\")))),0)","v":0},{"$f":"IF(AB25>0,IF(Sorcadins!F$315>Sorcadins!F$319,MIN(Sorcadins!F$315,Sorcadins!F$313/AB25),CELL(\"contents\",INDIRECT(ADDRESS(43+Sorcadins!F$25,ROUNDUP(5+MIN(20,AB25),0),1,1,\"Caster Tables\")))),0)","v":0},{"$f":"IF(AC25>0,IF(Sorcadins!G$315>Sorcadins!G$319,MIN(Sorcadins!G$315,Sorcadins!G$313/AC25),CELL(\"contents\",INDIRECT(ADDRESS(43+Sorcadins!G$25,ROUNDUP(5+MIN(20,AC25),0),1,1,\"Caster Tables\")))),0)","v":0},{"$f":"IF(AD25>0,IF(Sorcadins!H$315>Sorcadins!H$319,MIN(Sorcadins!H$315,Sorcadins!H$313/AD25),CELL(\"contents\",INDIRECT(ADDRESS(43+Sorcadins!H$25,ROUNDUP(5+MIN(20,AD25),0),1,1,\"Caster Tables\")))),0)","v":0},{"$f":"IF(AE25>0,IF(Sorcadins!I$315>Sorcadins!I$319,MIN(Sorcadins!I$315,Sorcadins!I$313/AE25),CELL(\"contents\",INDIRECT(ADDRESS(43+Sorcadins!I$25,ROUNDUP(5+MIN(20,AE25),0),1,1,\"Caster Tables\")))),0)","v":0},{"$f":"IF(AF25>0,IF(Sorcadins!J$315>Sorcadins!J$319,MIN(Sorcadins!J$315,Sorcadins!J$313/AF25),CELL(\"contents\",INDIRECT(ADDRESS(43+Sorcadins!J$25,ROUNDUP(5+MIN(20,AF25),0),1,1,\"Caster Tables\")))),0)","v":0},{"$f":"IF(AG25>0,IF(Sorcadins!K$315>Sorcadins!K$319,MIN(Sorcadins!K$315,Sorcadins!K$313/AG25),CELL(\"contents\",INDIRECT(ADDRESS(43+Sorcadins!K$25,ROUNDUP(5+MIN(20,AG25),0),1,1,\"Caster Tables\")))),0)","v":0},{"$f":"IF(AH25>0,IF(Sorcadins!L$315>Sorcadins!L$319,MIN(Sorcadins!L$315,Sorcadins!L$313/AH25),CELL(\"contents\",INDIRECT(ADDRESS(43+Sorcadins!L$25,ROUNDUP(5+MIN(20,AH25),0),1,1,\"Caster Tables\")))),0)","v":0},{"$f":"IF(AI25>0,IF(Sorcadins!M$315>Sorcadins!M$319,MIN(Sorcadins!M$315,Sorcadins!M$313/AI25),CELL(\"contents\",INDIRECT(ADDRESS(43+Sorcadins!M$25,ROUNDUP(5+MIN(20,AI25),0),1,1,\"Caster Tables\")))),0)","v":0},{"$f":"IF(AJ25>0,IF(Sorcadins!N$315>Sorcadins!N$319,MIN(Sorcadins!N$315,Sorcadins!N$313/AJ25),CELL(\"contents\",INDIRECT(ADDRESS(43+Sorcadins!N$25,ROUNDUP(5+MIN(20,AJ25),0),1,1,\"Caster Tables\")))),0)","v":0},{"$f":"IF(AK25>0,IF(Sorcadins!O$315>Sorcadins!O$319,MIN(Sorcadins!O$315,Sorcadins!O$313/AK25),CELL(\"contents\",INDIRECT(ADDRESS(43+Sorcadins!O$25,ROUNDUP(5+MIN(20,AK25),0),1,1,\"Caster Tables\")))),0)","v":0},{"$f":"IF(AL25>0,IF(Sorcadins!P$315>Sorcadins!P$319,MIN(Sorcadins!P$315,Sorcadins!P$313/AL25),CELL(\"contents\",INDIRECT(ADDRESS(43+Sorcadins!P$25,ROUNDUP(5+MIN(20,AL25),0),1,1,\"Caster Tables\")))),0)","v":0},{"$f":"IF(AM25>0,IF(Sorcadins!Q$315>Sorcadins!Q$319,MIN(Sorcadins!Q$315,Sorcadins!Q$313/AM25),CELL(\"contents\",INDIRECT(ADDRESS(43+Sorcadins!Q$25,ROUNDUP(5+MIN(20,AM25),0),1,1,\"Caster Tables\")))),0)","v":0},{"$f":"IF(AN25>0,IF(Sorcadins!R$315>Sorcadins!R$319,MIN(Sorcadins!R$315,Sorcadins!R$313/AN25),CELL(\"contents\",INDIRECT(ADDRESS(43+Sorcadins!R$25,ROUNDUP(5+MIN(20,AN25),0),1,1,\"Caster Tables\")))),0)","v":0},{"$f":"IF(AO25>0,IF(Sorcadins!S$315>Sorcadins!S$319,MIN(Sorcadins!S$315,Sorcadins!S$313/AO25),CELL(\"contents\",INDIRECT(ADDRESS(43+Sorcadins!S$25,ROUNDUP(5+MIN(20,AO25),0),1,1,\"Caster Tables\")))),0)","v":0},{"$f":"IF(AP25>0,IF(Sorcadins!T$315>Sorcadins!T$319,MIN(Sorcadins!T$315,Sorcadins!T$313/AP25),CELL(\"contents\",INDIRECT(ADDRESS(43+Sorcadins!T$25,ROUNDUP(5+MIN(20,AP25),0),1,1,\"Caster Tables\")))),0)","v":0},{"$f":"IF(AQ25>0,IF(Sorcadins!U$315>Sorcadins!U$319,MIN(Sorcadins!U$315,Sorcadins!U$313/AQ25),CELL(\"contents\",INDIRECT(ADDRESS(43+Sorcadins!U$25,ROUNDUP(5+MIN(20,AQ25),0),1,1,\"Caster Tables\")))),0)","v":0},{"$f":"IF(AR25>0,IF(Sorcadins!V$315>Sorcadins!V$319,MIN(Sorcadins!V$315,Sorcadins!V$313/AR25),CELL(\"contents\",INDIRECT(ADDRESS(43+Sorcadins!V$25,ROUNDUP(5+MIN(20,AR25),0),1,1,\"Caster Tables\")))),0)","v":0},{"$f":"IF(AS25>0,IF(Sorcadins!W$315>Sorcadins!W$319,MIN(Sorcadins!W$315,Sorcadins!W$313/AS25),CELL(\"contents\",INDIRECT(ADDRESS(43+Sorcadins!W$25,ROUNDUP(5+MIN(20,AS25),0),1,1,\"Caster Tables\")))),0)","v":0},{"$f":"IF(AT25>0,IF(Sorcadins!X$315>Sorcadins!X$319,MIN(Sorcadins!X$315,Sorcadins!X$313/AT25),CELL(\"contents\",INDIRECT(ADDRESS(43+Sorcadins!X$25,ROUNDUP(5+MIN(20,AT25),0),1,1,\"Caster Tables\")))),0)","v":0},null,0,0,0,0,0,0,0,0,0,0,0,0,0,0,0,0,0,0,0,0,null,{"$f":"IF(AV25>0,MIN(AV25,MAX(0,IF(F25>=0,AV25,0)-SUM(DG$6:INDEX(DG:DG,5+$C25-1))/AA25)*BQ25),0)","v":0},{"$f":"IF(AW25>0,MIN(AW25,MAX(0,IF(G25>=0,AW25,0)-SUM(DH$6:INDEX(DH:DH,5+$C25-1))/AB25)*BR25),0)","v":0},{"$f":"IF(AX25>0,MIN(AX25,MAX(0,IF(H25>=0,AX25,0)-SUM(DI$6:INDEX(DI:DI,5+$C25-1))/AC25)*BS25),0)","v":0},{"$f":"IF(AY25>0,MIN(AY25,MAX(0,IF(I25>=0,AY25,0)-SUM(DJ$6:INDEX(DJ:DJ,5+$C25-1))/AD25)*BT25),0)","v":0},{"$f":"IF(AZ25>0,MIN(AZ25,MAX(0,IF(J25>=0,AZ25,0)-SUM(DK$6:INDEX(DK:DK,5+$C25-1))/AE25)*BU25),0)","v":0},{"$f":"IF(BA25>0,MIN(BA25,MAX(0,IF(K25>=0,BA25,0)-SUM(DL$6:INDEX(DL:DL,5+$C25-1))/AF25)*BV25),0)","v":0},{"$f":"IF(BB25>0,MIN(BB25,MAX(0,IF(L25>=0,BB25,0)-SUM(DM$6:INDEX(DM:DM,5+$C25-1))/AG25)*BW25),0)","v":0},{"$f":"IF(BC25>0,MIN(BC25,MAX(0,IF(M25>=0,BC25,0)-SUM(DN$6:INDEX(DN:DN,5+$C25-1))/AH25)*BX25),0)","v":0},{"$f":"IF(BD25>0,MIN(BD25,MAX(0,IF(N25>=0,BD25,0)-SUM(DO$6:INDEX(DO:DO,5+$C25-1))/AI25)*BY25),0)","v":0},{"$f":"IF(BE25>0,MIN(BE25,MAX(0,IF(O25>=0,BE25,0)-SUM(DP$6:INDEX(DP:DP,5+$C25-1))/AJ25)*BZ25),0)","v":0},{"$f":"IF(BF25>0,MIN(BF25,MAX(0,IF(P25>=0,BF25,0)-SUM(DQ$6:INDEX(DQ:DQ,5+$C25-1))/AK25)*CA25),0)","v":0},{"$f":"IF(BG25>0,MIN(BG25,MAX(0,IF(Q25>=0,BG25,0)-SUM(DR$6:INDEX(DR:DR,5+$C25-1))/AL25)*CB25),0)","v":0},{"$f":"IF(BH25>0,MIN(BH25,MAX(0,IF(R25>=0,BH25,0)-SUM(DS$6:INDEX(DS:DS,5+$C25-1))/AM25)*CC25),0)","v":0},{"$f":"IF(BI25>0,MIN(BI25,MAX(0,IF(S25>=0,BI25,0)-SUM(DT$6:INDEX(DT:DT,5+$C25-1))/AN25)*CD25),0)","v":0},{"$f":"IF(BJ25>0,MIN(BJ25,MAX(0,IF(T25>=0,BJ25,0)-SUM(DU$6:INDEX(DU:DU,5+$C25-1))/AO25)*CE25),0)","v":0},{"$f":"IF(BK25>0,MIN(BK25,MAX(0,IF(U25>=0,BK25,0)-SUM(DV$6:INDEX(DV:DV,5+$C25-1))/AP25)*CF25),0)","v":0},{"$f":"IF(BL25>0,MIN(BL25,MAX(0,IF(V25>=0,BL25,0)-SUM(DW$6:INDEX(DW:DW,5+$C25-1))/AQ25)*CG25),0)","v":0},{"$f":"IF(BM25>0,MIN(BM25,MAX(0,IF(W25>=0,BM25,0)-SUM(DX$6:INDEX(DX:DX,5+$C25-1))/AR25)*CH25),0)","v":0},{"$f":"IF(BN25>0,MIN(BN25,MAX(0,IF(X25>=0,BN25,0)-SUM(DY$6:INDEX(DY:DY,5+$C25-1))/AS25)*CI25),0)","v":0},{"$f":"IF(BO25>0,MIN(BO25,MAX(0,IF(Y25>=0,BO25,0)-SUM(DZ$6:INDEX(DZ:DZ,5+$C25-1))/AT25)*CJ25),0)","v":0},null,0,0,0,0,0,0,0,0,0,0,0,0,0,0,0,0,0,0,0,0,null,"Guiding Bolt"]
[null,"Magic Missile",21,"magic missile: AE",{"$f":"MATCH($D26,INDEX(Sorcadins!$D:$D,$D$3):'Sorcadins'!$D1766,0)-1","v":2},{"$f":"IF(CELL(\"contents\",INDIRECT(ADDRESS($D$3+$E26,4+F$4,1,1,\"Sorcadins\")))>=1,CELL(\"contents\",INDIRECT(ADDRESS($D$3+$E26,4+F$4,1,1,\"Sorcadins\"))),0)","v":0},{"$f":"IF(CELL(\"contents\",INDIRECT(ADDRESS($D$3+$E26,4+G$4,1,1,\"Sorcadins\")))>=1,CELL(\"contents\",INDIRECT(ADDRESS($D$3+$E26,4+G$4,1,1,\"Sorcadins\"))),0)","v":0},{"$f":"IF(CELL(\"contents\",INDIRECT(ADDRESS($D$3+$E26,4+H$4,1,1,\"Sorcadins\")))>=1,CELL(\"contents\",INDIRECT(ADDRESS($D$3+$E26,4+H$4,1,1,\"Sorcadins\"))),0)","v":0},{"$f":"IF(CELL(\"contents\",INDIRECT(ADDRESS($D$3+$E26,4+I$4,1,1,\"Sorcadins\")))>=1,CELL(\"contents\",INDIRECT(ADDRESS($D$3+$E26,4+I$4,1,1,\"Sorcadins\"))),0)","v":0},{"$f":"IF(CELL(\"contents\",INDIRECT(ADDRESS($D$3+$E26,4+J$4,1,1,\"Sorcadins\")))>=1,CELL(\"contents\",INDIRECT(ADDRESS($D$3+$E26,4+J$4,1,1,\"Sorcadins\"))),0)","v":0},{"$f":"IF(CELL(\"contents\",INDIRECT(ADDRESS($D$3+$E26,4+K$4,1,1,\"Sorcadins\")))>=1,CELL(\"contents\",INDIRECT(ADDRESS($D$3+$E26,4+K$4,1,1,\"Sorcadins\"))),0)","v":0},{"$f":"IF(CELL(\"contents\",INDIRECT(ADDRESS($D$3+$E26,4+L$4,1,1,\"Sorcadins\")))>=1,CELL(\"contents\",INDIRECT(ADDRESS($D$3+$E26,4+L$4,1,1,\"Sorcadins\"))),0)","v":0},{"$f":"IF(CELL(\"contents\",INDIRECT(ADDRESS($D$3+$E26,4+M$4,1,1,\"Sorcadins\")))>=1,CELL(\"contents\",INDIRECT(ADDRESS($D$3+$E26,4+M$4,1,1,\"Sorcadins\"))),0)","v":0},{"$f":"IF(CELL(\"contents\",INDIRECT(ADDRESS($D$3+$E26,4+N$4,1,1,\"Sorcadins\")))>=1,CELL(\"contents\",INDIRECT(ADDRESS($D$3+$E26,4+N$4,1,1,\"Sorcadins\"))),0)","v":0},{"$f":"IF(CELL(\"contents\",INDIRECT(ADDRESS($D$3+$E26,4+O$4,1,1,\"Sorcadins\")))>=1,CELL(\"contents\",INDIRECT(ADDRESS($D$3+$E26,4+O$4,1,1,\"Sorcadins\"))),0)","v":0},{"$f":"IF(CELL(\"contents\",INDIRECT(ADDRESS($D$3+$E26,4+P$4,1,1,\"Sorcadins\")))>=1,CELL(\"contents\",INDIRECT(ADDRESS($D$3+$E26,4+P$4,1,1,\"Sorcadins\"))),0)","v":0},{"$f":"IF(CELL(\"contents\",INDIRECT(ADDRESS($D$3+$E26,4+Q$4,1,1,\"Sorcadins\")))>=1,CELL(\"contents\",INDIRECT(ADDRESS($D$3+$E26,4+Q$4,1,1,\"Sorcadins\"))),0)","v":0},{"$f":"IF(CELL(\"contents\",INDIRECT(ADDRESS($D$3+$E26,4+R$4,1,1,\"Sorcadins\")))>=1,CELL(\"contents\",INDIRECT(ADDRESS($D$3+$E26,4+R$4,1,1,\"Sorcadins\"))),0)","v":0},{"$f":"IF(CELL(\"contents\",INDIRECT(ADDRESS($D$3+$E26,4+S$4,1,1,\"Sorcadins\")))>=1,CELL(\"contents\",INDIRECT(ADDRESS($D$3+$E26,4+S$4,1,1,\"Sorcadins\"))),0)","v":0},{"$f":"IF(CELL(\"contents\",INDIRECT(ADDRESS($D$3+$E26,4+T$4,1,1,\"Sorcadins\")))>=1,CELL(\"contents\",INDIRECT(ADDRESS($D$3+$E26,4+T$4,1,1,\"Sorcadins\"))),0)","v":0},{"$f":"IF(CELL(\"contents\",INDIRECT(ADDRESS($D$3+$E26,4+U$4,1,1,\"Sorcadins\")))>=1,CELL(\"contents\",INDIRECT(ADDRESS($D$3+$E26,4+U$4,1,1,\"Sorcadins\"))),0)","v":0},{"$f":"IF(CELL(\"contents\",INDIRECT(ADDRESS($D$3+$E26,4+V$4,1,1,\"Sorcadins\")))>=1,CELL(\"contents\",INDIRECT(ADDRESS($D$3+$E26,4+V$4,1,1,\"Sorcadins\"))),0)","v":0},{"$f":"IF(CELL(\"contents\",INDIRECT(ADDRESS($D$3+$E26,4+W$4,1,1,\"Sorcadins\")))>=1,CELL(\"contents\",INDIRECT(ADDRESS($D$3+$E26,4+W$4,1,1,\"Sorcadins\"))),0)","v":0},{"$f":"IF(CELL(\"contents\",INDIRECT(ADDRESS($D$3+$E26,4+X$4,1,1,\"Sorcadins\")))>=1,CELL(\"contents\",INDIRECT(ADDRESS($D$3+$E26,4+X$4,1,1,\"Sorcadins\"))),0)","v":0},{"$f":"IF(CELL(\"contents\",INDIRECT(ADDRESS($D$3+$E26,4+Y$4,1,1,\"Sorcadins\")))>=1,CELL(\"contents\",INDIRECT(ADDRESS($D$3+$E26,4+Y$4,1,1,\"Sorcadins\"))),0)","v":0},null,{"$f":"SUM(F$6:INDEX(F:F,5+$C26))","v":0},{"$f":"SUM(G$6:INDEX(G:G,5+$C26))","v":0},{"$f":"SUM(H$6:INDEX(H:H,5+$C26))","v":0},{"$f":"SUM(I$6:INDEX(I:I,5+$C26))","v":0},{"$f":"SUM(J$6:INDEX(J:J,5+$C26))","v":0},{"$f":"SUM(K$6:INDEX(K:K,5+$C26))","v":0},{"$f":"SUM(L$6:INDEX(L:L,5+$C26))","v":0},{"$f":"SUM(M$6:INDEX(M:M,5+$C26))","v":0},{"$f":"SUM(N$6:INDEX(N:N,5+$C26))","v":0},{"$f":"SUM(O$6:INDEX(O:O,5+$C26))","v":0},{"$f":"SUM(P$6:INDEX(P:P,5+$C26))","v":0},{"$f":"SUM(Q$6:INDEX(Q:Q,5+$C26))","v":0},{"$f":"SUM(R$6:INDEX(R:R,5+$C26))","v":0},{"$f":"SUM(S$6:INDEX(S:S,5+$C26))","v":0},{"$f":"SUM(T$6:INDEX(T:T,5+$C26))","v":0},{"$f":"SUM(U$6:INDEX(U:U,5+$C26))","v":0},{"$f":"SUM(V$6:INDEX(V:V,5+$C26))","v":0},{"$f":"SUM(W$6:INDEX(W:W,5+$C26))","v":0},{"$f":"SUM(X$6:INDEX(X:X,5+$C26))","v":0},{"$f":"SUM(Y$6:INDEX(Y:Y,5+$C26))","v":0},null,{"$f":"IF(AA26>0,IF(Sorcadins!E$315>Sorcadins!E$319,MIN(Sorcadins!E$315,Sorcadins!E$313/AA26),CELL(\"contents\",INDIRECT(ADDRESS(43+Sorcadins!E$25,ROUNDUP(5+MIN(20,AA26),0),1,1,\"Caster Tables\")))),0)","v":0},{"$f":"IF(AB26>0,IF(Sorcadins!F$315>Sorcadins!F$319,MIN(Sorcadins!F$315,Sorcadins!F$313/AB26),CELL(\"contents\",INDIRECT(ADDRESS(43+Sorcadins!F$25,ROUNDUP(5+MIN(20,AB26),0),1,1,\"Caster Tables\")))),0)","v":0},{"$f":"IF(AC26>0,IF(Sorcadins!G$315>Sorcadins!G$319,MIN(Sorcadins!G$315,Sorcadins!G$313/AC26),CELL(\"contents\",INDIRECT(ADDRESS(43+Sorcadins!G$25,ROUNDUP(5+MIN(20,AC26),0),1,1,\"Caster Tables\")))),0)","v":0},{"$f":"IF(AD26>0,IF(Sorcadins!H$315>Sorcadins!H$319,MIN(Sorcadins!H$315,Sorcadins!H$313/AD26),CELL(\"contents\",INDIRECT(ADDRESS(43+Sorcadins!H$25,ROUNDUP(5+MIN(20,AD26),0),1,1,\"Caster Tables\")))),0)","v":0},{"$f":"IF(AE26>0,IF(Sorcadins!I$315>Sorcadins!I$319,MIN(Sorcadins!I$315,Sorcadins!I$313/AE26),CELL(\"contents\",INDIRECT(ADDRESS(43+Sorcadins!I$25,ROUNDUP(5+MIN(20,AE26),0),1,1,\"Caster Tables\")))),0)","v":0},{"$f":"IF(AF26>0,IF(Sorcadins!J$315>Sorcadins!J$319,MIN(Sorcadins!J$315,Sorcadins!J$313/AF26),CELL(\"contents\",INDIRECT(ADDRESS(43+Sorcadins!J$25,ROUNDUP(5+MIN(20,AF26),0),1,1,\"Caster Tables\")))),0)","v":0},{"$f":"IF(AG26>0,IF(Sorcadins!K$315>Sorcadins!K$319,MIN(Sorcadins!K$315,Sorcadins!K$313/AG26),CELL(\"contents\",INDIRECT(ADDRESS(43+Sorcadins!K$25,ROUNDUP(5+MIN(20,AG26),0),1,1,\"Caster Tables\")))),0)","v":0},{"$f":"IF(AH26>0,IF(Sorcadins!L$315>Sorcadins!L$319,MIN(Sorcadins!L$315,Sorcadins!L$313/AH26),CELL(\"contents\",INDIRECT(ADDRESS(43+Sorcadins!L$25,ROUNDUP(5+MIN(20,AH26),0),1,1,\"Caster Tables\")))),0)","v":0},{"$f":"IF(AI26>0,IF(Sorcadins!M$315>Sorcadins!M$319,MIN(Sorcadins!M$315,Sorcadins!M$313/AI26),CELL(\"contents\",INDIRECT(ADDRESS(43+Sorcadins!M$25,ROUNDUP(5+MIN(20,AI26),0),1,1,\"Caster Tables\")))),0)","v":0},{"$f":"IF(AJ26>0,IF(Sorcadins!N$315>Sorcadins!N$319,MIN(Sorcadins!N$315,Sorcadins!N$313/AJ26),CELL(\"contents\",INDIRECT(ADDRESS(43+Sorcadins!N$25,ROUNDUP(5+MIN(20,AJ26),0),1,1,\"Caster Tables\")))),0)","v":0},{"$f":"IF(AK26>0,IF(Sorcadins!O$315>Sorcadins!O$319,MIN(Sorcadins!O$315,Sorcadins!O$313/AK26),CELL(\"contents\",INDIRECT(ADDRESS(43+Sorcadins!O$25,ROUNDUP(5+MIN(20,AK26),0),1,1,\"Caster Tables\")))),0)","v":0},{"$f":"IF(AL26>0,IF(Sorcadins!P$315>Sorcadins!P$319,MIN(Sorcadins!P$315,Sorcadins!P$313/AL26),CELL(\"contents\",INDIRECT(ADDRESS(43+Sorcadins!P$25,ROUNDUP(5+MIN(20,AL26),0),1,1,\"Caster Tables\")))),0)","v":0},{"$f":"IF(AM26>0,IF(Sorcadins!Q$315>Sorcadins!Q$319,MIN(Sorcadins!Q$315,Sorcadins!Q$313/AM26),CELL(\"contents\",INDIRECT(ADDRESS(43+Sorcadins!Q$25,ROUNDUP(5+MIN(20,AM26),0),1,1,\"Caster Tables\")))),0)","v":0},{"$f":"IF(AN26>0,IF(Sorcadins!R$315>Sorcadins!R$319,MIN(Sorcadins!R$315,Sorcadins!R$313/AN26),CELL(\"contents\",INDIRECT(ADDRESS(43+Sorcadins!R$25,ROUNDUP(5+MIN(20,AN26),0),1,1,\"Caster Tables\")))),0)","v":0},{"$f":"IF(AO26>0,IF(Sorcadins!S$315>Sorcadins!S$319,MIN(Sorcadins!S$315,Sorcadins!S$313/AO26),CELL(\"contents\",INDIRECT(ADDRESS(43+Sorcadins!S$25,ROUNDUP(5+MIN(20,AO26),0),1,1,\"Caster Tables\")))),0)","v":0},{"$f":"IF(AP26>0,IF(Sorcadins!T$315>Sorcadins!T$319,MIN(Sorcadins!T$315,Sorcadins!T$313/AP26),CELL(\"contents\",INDIRECT(ADDRESS(43+Sorcadins!T$25,ROUNDUP(5+MIN(20,AP26),0),1,1,\"Caster Tables\")))),0)","v":0},{"$f":"IF(AQ26>0,IF(Sorcadins!U$315>Sorcadins!U$319,MIN(Sorcadins!U$315,Sorcadins!U$313/AQ26),CELL(\"contents\",INDIRECT(ADDRESS(43+Sorcadins!U$25,ROUNDUP(5+MIN(20,AQ26),0),1,1,\"Caster Tables\")))),0)","v":0},{"$f":"IF(AR26>0,IF(Sorcadins!V$315>Sorcadins!V$319,MIN(Sorcadins!V$315,Sorcadins!V$313/AR26),CELL(\"contents\",INDIRECT(ADDRESS(43+Sorcadins!V$25,ROUNDUP(5+MIN(20,AR26),0),1,1,\"Caster Tables\")))),0)","v":0},{"$f":"IF(AS26>0,IF(Sorcadins!W$315>Sorcadins!W$319,MIN(Sorcadins!W$315,Sorcadins!W$313/AS26),CELL(\"contents\",INDIRECT(ADDRESS(43+Sorcadins!W$25,ROUNDUP(5+MIN(20,AS26),0),1,1,\"Caster Tables\")))),0)","v":0},{"$f":"IF(AT26>0,IF(Sorcadins!X$315>Sorcadins!X$319,MIN(Sorcadins!X$315,Sorcadins!X$313/AT26),CELL(\"contents\",INDIRECT(ADDRESS(43+Sorcadins!X$25,ROUNDUP(5+MIN(20,AT26),0),1,1,\"Caster Tables\")))),0)","v":0},null,{"$f":"IF(F26>=1,AA26/F26,0)","v":0},0,0,0,0,0,0,0,0,0,{"$f":"IF(P26>=1,AK26/P26,0)","v":0},0,0,0,0,0,0,0,0,0,null,{"$f":"IF(AV26>0,MIN(AV26,MAX(0,IF(F26>=0,AV26,0)-SUM(DG$6:INDEX(DG:DG,5+$C26-1))/AA26)*BQ26),0)","v":0},{"$f":"IF(AW26>0,MIN(AW26,MAX(0,IF(G26>=0,AW26,0)-SUM(DH$6:INDEX(DH:DH,5+$C26-1))/AB26)*BR26),0)","v":0},{"$f":"IF(AX26>0,MIN(AX26,MAX(0,IF(H26>=0,AX26,0)-SUM(DI$6:INDEX(DI:DI,5+$C26-1))/AC26)*BS26),0)","v":0},{"$f":"IF(AY26>0,MIN(AY26,MAX(0,IF(I26>=0,AY26,0)-SUM(DJ$6:INDEX(DJ:DJ,5+$C26-1))/AD26)*BT26),0)","v":0},{"$f":"IF(AZ26>0,MIN(AZ26,MAX(0,IF(J26>=0,AZ26,0)-SUM(DK$6:INDEX(DK:DK,5+$C26-1))/AE26)*BU26),0)","v":0},{"$f":"IF(BA26>0,MIN(BA26,MAX(0,IF(K26>=0,BA26,0)-SUM(DL$6:INDEX(DL:DL,5+$C26-1))/AF26)*BV26),0)","v":0},{"$f":"IF(BB26>0,MIN(BB26,MAX(0,IF(L26>=0,BB26,0)-SUM(DM$6:INDEX(DM:DM,5+$C26-1))/AG26)*BW26),0)","v":0},{"$f":"IF(BC26>0,MIN(BC26,MAX(0,IF(M26>=0,BC26,0)-SUM(DN$6:INDEX(DN:DN,5+$C26-1))/AH26)*BX26),0)","v":0},{"$f":"IF(BD26>0,MIN(BD26,MAX(0,IF(N26>=0,BD26,0)-SUM(DO$6:INDEX(DO:DO,5+$C26-1))/AI26)*BY26),0)","v":0},{"$f":"IF(BE26>0,MIN(BE26,MAX(0,IF(O26>=0,BE26,0)-SUM(DP$6:INDEX(DP:DP,5+$C26-1))/AJ26)*BZ26),0)","v":0},{"$f":"IF(BF26>0,MIN(BF26,MAX(0,IF(P26>=0,BF26,0)-SUM(DQ$6:INDEX(DQ:DQ,5+$C26-1))/AK26)*CA26),0)","v":0},{"$f":"IF(BG26>0,MIN(BG26,MAX(0,IF(Q26>=0,BG26,0)-SUM(DR$6:INDEX(DR:DR,5+$C26-1))/AL26)*CB26),0)","v":0},{"$f":"IF(BH26>0,MIN(BH26,MAX(0,IF(R26>=0,BH26,0)-SUM(DS$6:INDEX(DS:DS,5+$C26-1))/AM26)*CC26),0)","v":0},{"$f":"IF(BI26>0,MIN(BI26,MAX(0,IF(S26>=0,BI26,0)-SUM(DT$6:INDEX(DT:DT,5+$C26-1))/AN26)*CD26),0)","v":0},{"$f":"IF(BJ26>0,MIN(BJ26,MAX(0,IF(T26>=0,BJ26,0)-SUM(DU$6:INDEX(DU:DU,5+$C26-1))/AO26)*CE26),0)","v":0},{"$f":"IF(BK26>0,MIN(BK26,MAX(0,IF(U26>=0,BK26,0)-SUM(DV$6:INDEX(DV:DV,5+$C26-1))/AP26)*CF26),0)","v":0},{"$f":"IF(BL26>0,MIN(BL26,MAX(0,IF(V26>=0,BL26,0)-SUM(DW$6:INDEX(DW:DW,5+$C26-1))/AQ26)*CG26),0)","v":0},{"$f":"IF(BM26>0,MIN(BM26,MAX(0,IF(W26>=0,BM26,0)-SUM(DX$6:INDEX(DX:DX,5+$C26-1))/AR26)*CH26),0)","v":0},{"$f":"IF(BN26>0,MIN(BN26,MAX(0,IF(X26>=0,BN26,0)-SUM(DY$6:INDEX(DY:DY,5+$C26-1))/AS26)*CI26),0)","v":0},{"$f":"IF(BO26>0,MIN(BO26,MAX(0,IF(Y26>=0,BO26,0)-SUM(DZ$6:INDEX(DZ:DZ,5+$C26-1))/AT26)*CJ26),0)","v":0},null,{"$f":"F26*CL26","v":0},0,0,0,0,0,0,0,0,0,{"$f":"P26*CV26","v":0},0,0,0,0,0,0,0,0,0,null,"Magic Missile"]
[null,"Animate Dead",22,"animate dead (non-combat)",{"$f":"MATCH($D27,INDEX(Sorcadins!$D:$D,$D$3):'Sorcadins'!$D1767,0)-1","v":36},{"$f":"IF(CELL(\"contents\",INDIRECT(ADDRESS($D$3+$E27,4+F$4,1,1,\"Sorcadins\")))>=1,CELL(\"contents\",INDIRECT(ADDRESS($D$3+$E27,4+F$4,1,1,\"Sorcadins\"))),0)","v":0},{"$f":"IF(CELL(\"contents\",INDIRECT(ADDRESS($D$3+$E27,4+G$4,1,1,\"Sorcadins\")))>=1,CELL(\"contents\",INDIRECT(ADDRESS($D$3+$E27,4+G$4,1,1,\"Sorcadins\"))),0)","v":0},{"$f":"IF(CELL(\"contents\",INDIRECT(ADDRESS($D$3+$E27,4+H$4,1,1,\"Sorcadins\")))>=1,CELL(\"contents\",INDIRECT(ADDRESS($D$3+$E27,4+H$4,1,1,\"Sorcadins\"))),0)","v":0},{"$f":"IF(CELL(\"contents\",INDIRECT(ADDRESS($D$3+$E27,4+I$4,1,1,\"Sorcadins\")))>=1,CELL(\"contents\",INDIRECT(ADDRESS($D$3+$E27,4+I$4,1,1,\"Sorcadins\"))),0)","v":0},{"$f":"IF(CELL(\"contents\",INDIRECT(ADDRESS($D$3+$E27,4+J$4,1,1,\"Sorcadins\")))>=1,CELL(\"contents\",INDIRECT(ADDRESS($D$3+$E27,4+J$4,1,1,\"Sorcadins\"))),0)","v":0},{"$f":"IF(CELL(\"contents\",INDIRECT(ADDRESS($D$3+$E27,4+K$4,1,1,\"Sorcadins\")))>=1,CELL(\"contents\",INDIRECT(ADDRESS($D$3+$E27,4+K$4,1,1,\"Sorcadins\"))),0)","v":0},{"$f":"IF(CELL(\"contents\",INDIRECT(ADDRESS($D$3+$E27,4+L$4,1,1,\"Sorcadins\")))>=1,CELL(\"contents\",INDIRECT(ADDRESS($D$3+$E27,4+L$4,1,1,\"Sorcadins\"))),0)","v":0},{"$f":"IF(CELL(\"contents\",INDIRECT(ADDRESS($D$3+$E27,4+M$4,1,1,\"Sorcadins\")))>=1,CELL(\"contents\",INDIRECT(ADDRESS($D$3+$E27,4+M$4,1,1,\"Sorcadins\"))),0)","v":0},{"$f":"IF(CELL(\"contents\",INDIRECT(ADDRESS($D$3+$E27,4+N$4,1,1,\"Sorcadins\")))>=1,CELL(\"contents\",INDIRECT(ADDRESS($D$3+$E27,4+N$4,1,1,\"Sorcadins\"))),0)","v":0},{"$f":"IF(CELL(\"contents\",INDIRECT(ADDRESS($D$3+$E27,4+O$4,1,1,\"Sorcadins\")))>=1,CELL(\"contents\",INDIRECT(ADDRESS($D$3+$E27,4+O$4,1,1,\"Sorcadins\"))),0)","v":0},{"$f":"IF(CELL(\"contents\",INDIRECT(ADDRESS($D$3+$E27,4+P$4,1,1,\"Sorcadins\")))>=1,CELL(\"contents\",INDIRECT(ADDRESS($D$3+$E27,4+P$4,1,1,\"Sorcadins\"))),0)","v":0},{"$f":"IF(CELL(\"contents\",INDIRECT(ADDRESS($D$3+$E27,4+Q$4,1,1,\"Sorcadins\")))>=1,CELL(\"contents\",INDIRECT(ADDRESS($D$3+$E27,4+Q$4,1,1,\"Sorcadins\"))),0)","v":0},{"$f":"IF(CELL(\"contents\",INDIRECT(ADDRESS($D$3+$E27,4+R$4,1,1,\"Sorcadins\")))>=1,CELL(\"contents\",INDIRECT(ADDRESS($D$3+$E27,4+R$4,1,1,\"Sorcadins\"))),0)","v":0},{"$f":"IF(CELL(\"contents\",INDIRECT(ADDRESS($D$3+$E27,4+S$4,1,1,\"Sorcadins\")))>=1,CELL(\"contents\",INDIRECT(ADDRESS($D$3+$E27,4+S$4,1,1,\"Sorcadins\"))),0)","v":0},{"$f":"IF(CELL(\"contents\",INDIRECT(ADDRESS($D$3+$E27,4+T$4,1,1,\"Sorcadins\")))>=1,CELL(\"contents\",INDIRECT(ADDRESS($D$3+$E27,4+T$4,1,1,\"Sorcadins\"))),0)","v":0},{"$f":"IF(CELL(\"contents\",INDIRECT(ADDRESS($D$3+$E27,4+U$4,1,1,\"Sorcadins\")))>=1,CELL(\"contents\",INDIRECT(ADDRESS($D$3+$E27,4+U$4,1,1,\"Sorcadins\"))),0)","v":0},{"$f":"IF(CELL(\"contents\",INDIRECT(ADDRESS($D$3+$E27,4+V$4,1,1,\"Sorcadins\")))>=1,CELL(\"contents\",INDIRECT(ADDRESS($D$3+$E27,4+V$4,1,1,\"Sorcadins\"))),0)","v":0},{"$f":"IF(CELL(\"contents\",INDIRECT(ADDRESS($D$3+$E27,4+W$4,1,1,\"Sorcadins\")))>=1,CELL(\"contents\",INDIRECT(ADDRESS($D$3+$E27,4+W$4,1,1,\"Sorcadins\"))),0)","v":0},{"$f":"IF(CELL(\"contents\",INDIRECT(ADDRESS($D$3+$E27,4+X$4,1,1,\"Sorcadins\")))>=1,CELL(\"contents\",INDIRECT(ADDRESS($D$3+$E27,4+X$4,1,1,\"Sorcadins\"))),0)","v":0},{"$f":"IF(CELL(\"contents\",INDIRECT(ADDRESS($D$3+$E27,4+Y$4,1,1,\"Sorcadins\")))>=1,CELL(\"contents\",INDIRECT(ADDRESS($D$3+$E27,4+Y$4,1,1,\"Sorcadins\"))),0)","v":0},null,{"$f":"SUM(F$6:INDEX(F:F,5+$C27))","v":0},{"$f":"SUM(G$6:INDEX(G:G,5+$C27))","v":0},{"$f":"SUM(H$6:INDEX(H:H,5+$C27))","v":0},{"$f":"SUM(I$6:INDEX(I:I,5+$C27))","v":0},{"$f":"SUM(J$6:INDEX(J:J,5+$C27))","v":0},{"$f":"SUM(K$6:INDEX(K:K,5+$C27))","v":0},{"$f":"SUM(L$6:INDEX(L:L,5+$C27))","v":0},{"$f":"SUM(M$6:INDEX(M:M,5+$C27))","v":0},{"$f":"SUM(N$6:INDEX(N:N,5+$C27))","v":0},{"$f":"SUM(O$6:INDEX(O:O,5+$C27))","v":0},{"$f":"SUM(P$6:INDEX(P:P,5+$C27))","v":0},{"$f":"SUM(Q$6:INDEX(Q:Q,5+$C27))","v":0},{"$f":"SUM(R$6:INDEX(R:R,5+$C27))","v":0},{"$f":"SUM(S$6:INDEX(S:S,5+$C27))","v":0},{"$f":"SUM(T$6:INDEX(T:T,5+$C27))","v":0},{"$f":"SUM(U$6:INDEX(U:U,5+$C27))","v":0},{"$f":"SUM(V$6:INDEX(V:V,5+$C27))","v":0},{"$f":"SUM(W$6:INDEX(W:W,5+$C27))","v":0},{"$f":"SUM(X$6:INDEX(X:X,5+$C27))","v":0},{"$f":"SUM(Y$6:INDEX(Y:Y,5+$C27))","v":0},null,{"$f":"IF(AA27>0,IF(Sorcadins!E$315>Sorcadins!E$319,MIN(Sorcadins!E$315,Sorcadins!E$313/AA27),CELL(\"contents\",INDIRECT(ADDRESS(43+Sorcadins!E$25,ROUNDUP(5+MIN(20,AA27),0),1,1,\"Caster Tables\")))),0)","v":0},{"$f":"IF(AB27>0,IF(Sorcadins!F$315>Sorcadins!F$319,MIN(Sorcadins!F$315,Sorcadins!F$313/AB27),CELL(\"contents\",INDIRECT(ADDRESS(43+Sorcadins!F$25,ROUNDUP(5+MIN(20,AB27),0),1,1,\"Caster Tables\")))),0)","v":0},{"$f":"IF(AC27>0,IF(Sorcadins!G$315>Sorcadins!G$319,MIN(Sorcadins!G$315,Sorcadins!G$313/AC27),CELL(\"contents\",INDIRECT(ADDRESS(43+Sorcadins!G$25,ROUNDUP(5+MIN(20,AC27),0),1,1,\"Caster Tables\")))),0)","v":0},{"$f":"IF(AD27>0,IF(Sorcadins!H$315>Sorcadins!H$319,MIN(Sorcadins!H$315,Sorcadins!H$313/AD27),CELL(\"contents\",INDIRECT(ADDRESS(43+Sorcadins!H$25,ROUNDUP(5+MIN(20,AD27),0),1,1,\"Caster Tables\")))),0)","v":0},{"$f":"IF(AE27>0,IF(Sorcadins!I$315>Sorcadins!I$319,MIN(Sorcadins!I$315,Sorcadins!I$313/AE27),CELL(\"contents\",INDIRECT(ADDRESS(43+Sorcadins!I$25,ROUNDUP(5+MIN(20,AE27),0),1,1,\"Caster Tables\")))),0)","v":0},{"$f":"IF(AF27>0,IF(Sorcadins!J$315>Sorcadins!J$319,MIN(Sorcadins!J$315,Sorcadins!J$313/AF27),CELL(\"contents\",INDIRECT(ADDRESS(43+Sorcadins!J$25,ROUNDUP(5+MIN(20,AF27),0),1,1,\"Caster Tables\")))),0)","v":0},{"$f":"IF(AG27>0,IF(Sorcadins!K$315>Sorcadins!K$319,MIN(Sorcadins!K$315,Sorcadins!K$313/AG27),CELL(\"contents\",INDIRECT(ADDRESS(43+Sorcadins!K$25,ROUNDUP(5+MIN(20,AG27),0),1,1,\"Caster Tables\")))),0)","v":0},{"$f":"IF(AH27>0,IF(Sorcadins!L$315>Sorcadins!L$319,MIN(Sorcadins!L$315,Sorcadins!L$313/AH27),CELL(\"contents\",INDIRECT(ADDRESS(43+Sorcadins!L$25,ROUNDUP(5+MIN(20,AH27),0),1,1,\"Caster Tables\")))),0)","v":0},{"$f":"IF(AI27>0,IF(Sorcadins!M$315>Sorcadins!M$319,MIN(Sorcadins!M$315,Sorcadins!M$313/AI27),CELL(\"contents\",INDIRECT(ADDRESS(43+Sorcadins!M$25,ROUNDUP(5+MIN(20,AI27),0),1,1,\"Caster Tables\")))),0)","v":0},{"$f":"IF(AJ27>0,IF(Sorcadins!N$315>Sorcadins!N$319,MIN(Sorcadins!N$315,Sorcadins!N$313/AJ27),CELL(\"contents\",INDIRECT(ADDRESS(43+Sorcadins!N$25,ROUNDUP(5+MIN(20,AJ27),0),1,1,\"Caster Tables\")))),0)","v":0},{"$f":"IF(AK27>0,IF(Sorcadins!O$315>Sorcadins!O$319,MIN(Sorcadins!O$315,Sorcadins!O$313/AK27),CELL(\"contents\",INDIRECT(ADDRESS(43+Sorcadins!O$25,ROUNDUP(5+MIN(20,AK27),0),1,1,\"Caster Tables\")))),0)","v":0},{"$f":"IF(AL27>0,IF(Sorcadins!P$315>Sorcadins!P$319,MIN(Sorcadins!P$315,Sorcadins!P$313/AL27),CELL(\"contents\",INDIRECT(ADDRESS(43+Sorcadins!P$25,ROUNDUP(5+MIN(20,AL27),0),1,1,\"Caster Tables\")))),0)","v":0},{"$f":"IF(AM27>0,IF(Sorcadins!Q$315>Sorcadins!Q$319,MIN(Sorcadins!Q$315,Sorcadins!Q$313/AM27),CELL(\"contents\",INDIRECT(ADDRESS(43+Sorcadins!Q$25,ROUNDUP(5+MIN(20,AM27),0),1,1,\"Caster Tables\")))),0)","v":0},{"$f":"IF(AN27>0,IF(Sorcadins!R$315>Sorcadins!R$319,MIN(Sorcadins!R$315,Sorcadins!R$313/AN27),CELL(\"contents\",INDIRECT(ADDRESS(43+Sorcadins!R$25,ROUNDUP(5+MIN(20,AN27),0),1,1,\"Caster Tables\")))),0)","v":0},{"$f":"IF(AO27>0,IF(Sorcadins!S$315>Sorcadins!S$319,MIN(Sorcadins!S$315,Sorcadins!S$313/AO27),CELL(\"contents\",INDIRECT(ADDRESS(43+Sorcadins!S$25,ROUNDUP(5+MIN(20,AO27),0),1,1,\"Caster Tables\")))),0)","v":0},{"$f":"IF(AP27>0,IF(Sorcadins!T$315>Sorcadins!T$319,MIN(Sorcadins!T$315,Sorcadins!T$313/AP27),CELL(\"contents\",INDIRECT(ADDRESS(43+Sorcadins!T$25,ROUNDUP(5+MIN(20,AP27),0),1,1,\"Caster Tables\")))),0)","v":0},{"$f":"IF(AQ27>0,IF(Sorcadins!U$315>Sorcadins!U$319,MIN(Sorcadins!U$315,Sorcadins!U$313/AQ27),CELL(\"contents\",INDIRECT(ADDRESS(43+Sorcadins!U$25,ROUNDUP(5+MIN(20,AQ27),0),1,1,\"Caster Tables\")))),0)","v":0},{"$f":"IF(AR27>0,IF(Sorcadins!V$315>Sorcadins!V$319,MIN(Sorcadins!V$315,Sorcadins!V$313/AR27),CELL(\"contents\",INDIRECT(ADDRESS(43+Sorcadins!V$25,ROUNDUP(5+MIN(20,AR27),0),1,1,\"Caster Tables\")))),0)","v":0},{"$f":"IF(AS27>0,IF(Sorcadins!W$315>Sorcadins!W$319,MIN(Sorcadins!W$315,Sorcadins!W$313/AS27),CELL(\"contents\",INDIRECT(ADDRESS(43+Sorcadins!W$25,ROUNDUP(5+MIN(20,AS27),0),1,1,\"Caster Tables\")))),0)","v":0},{"$f":"IF(AT27>0,IF(Sorcadins!X$315>Sorcadins!X$319,MIN(Sorcadins!X$315,Sorcadins!X$313/AT27),CELL(\"contents\",INDIRECT(ADDRESS(43+Sorcadins!X$25,ROUNDUP(5+MIN(20,AT27),0),1,1,\"Caster Tables\")))),0)","v":0},null,0,0,0,0,0,0,0,0,0,0,0,0,0,0,0,0,0,0,0,0,null,{"$f":"IF(AV27>0,MIN(AV27,MAX(0,IF(F27>=0,AV27,0)-SUM(DG$6:INDEX(DG:DG,5+$C27-1))/AA27)*BQ27),0)","v":0},{"$f":"IF(AW27>0,MIN(AW27,MAX(0,IF(G27>=0,AW27,0)-SUM(DH$6:INDEX(DH:DH,5+$C27-1))/AB27)*BR27),0)","v":0},{"$f":"IF(AX27>0,MIN(AX27,MAX(0,IF(H27>=0,AX27,0)-SUM(DI$6:INDEX(DI:DI,5+$C27-1))/AC27)*BS27),0)","v":0},{"$f":"IF(AY27>0,MIN(AY27,MAX(0,IF(I27>=0,AY27,0)-SUM(DJ$6:INDEX(DJ:DJ,5+$C27-1))/AD27)*BT27),0)","v":0},{"$f":"IF(AZ27>0,MIN(AZ27,MAX(0,IF(J27>=0,AZ27,0)-SUM(DK$6:INDEX(DK:DK,5+$C27-1))/AE27)*BU27),0)","v":0},{"$f":"IF(BA27>0,MIN(BA27,MAX(0,IF(K27>=0,BA27,0)-SUM(DL$6:INDEX(DL:DL,5+$C27-1))/AF27)*BV27),0)","v":0},{"$f":"IF(BB27>0,MIN(BB27,MAX(0,IF(L27>=0,BB27,0)-SUM(DM$6:INDEX(DM:DM,5+$C27-1))/AG27)*BW27),0)","v":0},{"$f":"IF(BC27>0,MIN(BC27,MAX(0,IF(M27>=0,BC27,0)-SUM(DN$6:INDEX(DN:DN,5+$C27-1))/AH27)*BX27),0)","v":0},{"$f":"IF(BD27>0,MIN(BD27,MAX(0,IF(N27>=0,BD27,0)-SUM(DO$6:INDEX(DO:DO,5+$C27-1))/AI27)*BY27),0)","v":0},{"$f":"IF(BE27>0,MIN(BE27,MAX(0,IF(O27>=0,BE27,0)-SUM(DP$6:INDEX(DP:DP,5+$C27-1))/AJ27)*BZ27),0)","v":0},{"$f":"IF(BF27>0,MIN(BF27,MAX(0,IF(P27>=0,BF27,0)-SUM(DQ$6:INDEX(DQ:DQ,5+$C27-1))/AK27)*CA27),0)","v":0},{"$f":"IF(BG27>0,MIN(BG27,MAX(0,IF(Q27>=0,BG27,0)-SUM(DR$6:INDEX(DR:DR,5+$C27-1))/AL27)*CB27),0)","v":0},{"$f":"IF(BH27>0,MIN(BH27,MAX(0,IF(R27>=0,BH27,0)-SUM(DS$6:INDEX(DS:DS,5+$C27-1))/AM27)*CC27),0)","v":0},{"$f":"IF(BI27>0,MIN(BI27,MAX(0,IF(S27>=0,BI27,0)-SUM(DT$6:INDEX(DT:DT,5+$C27-1))/AN27)*CD27),0)","v":0},{"$f":"IF(BJ27>0,MIN(BJ27,MAX(0,IF(T27>=0,BJ27,0)-SUM(DU$6:INDEX(DU:DU,5+$C27-1))/AO27)*CE27),0)","v":0},{"$f":"IF(BK27>0,MIN(BK27,MAX(0,IF(U27>=0,BK27,0)-SUM(DV$6:INDEX(DV:DV,5+$C27-1))/AP27)*CF27),0)","v":0},{"$f":"IF(BL27>0,MIN(BL27,MAX(0,IF(V27>=0,BL27,0)-SUM(DW$6:INDEX(DW:DW,5+$C27-1))/AQ27)*CG27),0)","v":0},{"$f":"IF(BM27>0,MIN(BM27,MAX(0,IF(W27>=0,BM27,0)-SUM(DX$6:INDEX(DX:DX,5+$C27-1))/AR27)*CH27),0)","v":0},{"$f":"IF(BN27>0,MIN(BN27,MAX(0,IF(X27>=0,BN27,0)-SUM(DY$6:INDEX(DY:DY,5+$C27-1))/AS27)*CI27),0)","v":0},{"$f":"IF(BO27>0,MIN(BO27,MAX(0,IF(Y27>=0,BO27,0)-SUM(DZ$6:INDEX(DZ:DZ,5+$C27-1))/AT27)*CJ27),0)","v":0},null,0,0,0,0,0,0,0,0,0,0,0,0,0,0,0,0,0,0,0,0,null,"Animate Dead"]
[null,"Tiny Servant",23,"tiny servant (non-combat)",{"$f":"MATCH($D28,INDEX(Sorcadins!$D:$D,$D$3):'Sorcadins'!$D1768,0)-1","v":37},{"$f":"IF(CELL(\"contents\",INDIRECT(ADDRESS($D$3+$E28,4+F$4,1,1,\"Sorcadins\")))>=1,CELL(\"contents\",INDIRECT(ADDRESS($D$3+$E28,4+F$4,1,1,\"Sorcadins\"))),0)","v":0},{"$f":"IF(CELL(\"contents\",INDIRECT(ADDRESS($D$3+$E28,4+G$4,1,1,\"Sorcadins\")))>=1,CELL(\"contents\",INDIRECT(ADDRESS($D$3+$E28,4+G$4,1,1,\"Sorcadins\"))),0)","v":0},{"$f":"IF(CELL(\"contents\",INDIRECT(ADDRESS($D$3+$E28,4+H$4,1,1,\"Sorcadins\")))>=1,CELL(\"contents\",INDIRECT(ADDRESS($D$3+$E28,4+H$4,1,1,\"Sorcadins\"))),0)","v":0},{"$f":"IF(CELL(\"contents\",INDIRECT(ADDRESS($D$3+$E28,4+I$4,1,1,\"Sorcadins\")))>=1,CELL(\"contents\",INDIRECT(ADDRESS($D$3+$E28,4+I$4,1,1,\"Sorcadins\"))),0)","v":0},{"$f":"IF(CELL(\"contents\",INDIRECT(ADDRESS($D$3+$E28,4+J$4,1,1,\"Sorcadins\")))>=1,CELL(\"contents\",INDIRECT(ADDRESS($D$3+$E28,4+J$4,1,1,\"Sorcadins\"))),0)","v":0},{"$f":"IF(CELL(\"contents\",INDIRECT(ADDRESS($D$3+$E28,4+K$4,1,1,\"Sorcadins\")))>=1,CELL(\"contents\",INDIRECT(ADDRESS($D$3+$E28,4+K$4,1,1,\"Sorcadins\"))),0)","v":0},{"$f":"IF(CELL(\"contents\",INDIRECT(ADDRESS($D$3+$E28,4+L$4,1,1,\"Sorcadins\")))>=1,CELL(\"contents\",INDIRECT(ADDRESS($D$3+$E28,4+L$4,1,1,\"Sorcadins\"))),0)","v":0},{"$f":"IF(CELL(\"contents\",INDIRECT(ADDRESS($D$3+$E28,4+M$4,1,1,\"Sorcadins\")))>=1,CELL(\"contents\",INDIRECT(ADDRESS($D$3+$E28,4+M$4,1,1,\"Sorcadins\"))),0)","v":0},{"$f":"IF(CELL(\"contents\",INDIRECT(ADDRESS($D$3+$E28,4+N$4,1,1,\"Sorcadins\")))>=1,CELL(\"contents\",INDIRECT(ADDRESS($D$3+$E28,4+N$4,1,1,\"Sorcadins\"))),0)","v":0},{"$f":"IF(CELL(\"contents\",INDIRECT(ADDRESS($D$3+$E28,4+O$4,1,1,\"Sorcadins\")))>=1,CELL(\"contents\",INDIRECT(ADDRESS($D$3+$E28,4+O$4,1,1,\"Sorcadins\"))),0)","v":0},{"$f":"IF(CELL(\"contents\",INDIRECT(ADDRESS($D$3+$E28,4+P$4,1,1,\"Sorcadins\")))>=1,CELL(\"contents\",INDIRECT(ADDRESS($D$3+$E28,4+P$4,1,1,\"Sorcadins\"))),0)","v":0},{"$f":"IF(CELL(\"contents\",INDIRECT(ADDRESS($D$3+$E28,4+Q$4,1,1,\"Sorcadins\")))>=1,CELL(\"contents\",INDIRECT(ADDRESS($D$3+$E28,4+Q$4,1,1,\"Sorcadins\"))),0)","v":0},{"$f":"IF(CELL(\"contents\",INDIRECT(ADDRESS($D$3+$E28,4+R$4,1,1,\"Sorcadins\")))>=1,CELL(\"contents\",INDIRECT(ADDRESS($D$3+$E28,4+R$4,1,1,\"Sorcadins\"))),0)","v":0},{"$f":"IF(CELL(\"contents\",INDIRECT(ADDRESS($D$3+$E28,4+S$4,1,1,\"Sorcadins\")))>=1,CELL(\"contents\",INDIRECT(ADDRESS($D$3+$E28,4+S$4,1,1,\"Sorcadins\"))),0)","v":0},{"$f":"IF(CELL(\"contents\",INDIRECT(ADDRESS($D$3+$E28,4+T$4,1,1,\"Sorcadins\")))>=1,CELL(\"contents\",INDIRECT(ADDRESS($D$3+$E28,4+T$4,1,1,\"Sorcadins\"))),0)","v":0},{"$f":"IF(CELL(\"contents\",INDIRECT(ADDRESS($D$3+$E28,4+U$4,1,1,\"Sorcadins\")))>=1,CELL(\"contents\",INDIRECT(ADDRESS($D$3+$E28,4+U$4,1,1,\"Sorcadins\"))),0)","v":0},{"$f":"IF(CELL(\"contents\",INDIRECT(ADDRESS($D$3+$E28,4+V$4,1,1,\"Sorcadins\")))>=1,CELL(\"contents\",INDIRECT(ADDRESS($D$3+$E28,4+V$4,1,1,\"Sorcadins\"))),0)","v":0},{"$f":"IF(CELL(\"contents\",INDIRECT(ADDRESS($D$3+$E28,4+W$4,1,1,\"Sorcadins\")))>=1,CELL(\"contents\",INDIRECT(ADDRESS($D$3+$E28,4+W$4,1,1,\"Sorcadins\"))),0)","v":0},{"$f":"IF(CELL(\"contents\",INDIRECT(ADDRESS($D$3+$E28,4+X$4,1,1,\"Sorcadins\")))>=1,CELL(\"contents\",INDIRECT(ADDRESS($D$3+$E28,4+X$4,1,1,\"Sorcadins\"))),0)","v":0},{"$f":"IF(CELL(\"contents\",INDIRECT(ADDRESS($D$3+$E28,4+Y$4,1,1,\"Sorcadins\")))>=1,CELL(\"contents\",INDIRECT(ADDRESS($D$3+$E28,4+Y$4,1,1,\"Sorcadins\"))),0)","v":0},null,{"$f":"SUM(F$6:INDEX(F:F,5+$C28))","v":0},{"$f":"SUM(G$6:INDEX(G:G,5+$C28))","v":0},{"$f":"SUM(H$6:INDEX(H:H,5+$C28))","v":0},{"$f":"SUM(I$6:INDEX(I:I,5+$C28))","v":0},{"$f":"SUM(J$6:INDEX(J:J,5+$C28))","v":0},{"$f":"SUM(K$6:INDEX(K:K,5+$C28))","v":0},{"$f":"SUM(L$6:INDEX(L:L,5+$C28))","v":0},{"$f":"SUM(M$6:INDEX(M:M,5+$C28))","v":0},{"$f":"SUM(N$6:INDEX(N:N,5+$C28))","v":0},{"$f":"SUM(O$6:INDEX(O:O,5+$C28))","v":0},{"$f":"SUM(P$6:INDEX(P:P,5+$C28))","v":0},{"$f":"SUM(Q$6:INDEX(Q:Q,5+$C28))","v":0},{"$f":"SUM(R$6:INDEX(R:R,5+$C28))","v":0},{"$f":"SUM(S$6:INDEX(S:S,5+$C28))","v":0},{"$f":"SUM(T$6:INDEX(T:T,5+$C28))","v":0},{"$f":"SUM(U$6:INDEX(U:U,5+$C28))","v":0},{"$f":"SUM(V$6:INDEX(V:V,5+$C28))","v":0},{"$f":"SUM(W$6:INDEX(W:W,5+$C28))","v":0},{"$f":"SUM(X$6:INDEX(X:X,5+$C28))","v":0},{"$f":"SUM(Y$6:INDEX(Y:Y,5+$C28))","v":0},null,{"$f":"IF(AA28>0,IF(Sorcadins!E$315>Sorcadins!E$319,MIN(Sorcadins!E$315,Sorcadins!E$313/AA28),CELL(\"contents\",INDIRECT(ADDRESS(43+Sorcadins!E$25,ROUNDUP(5+MIN(20,AA28),0),1,1,\"Caster Tables\")))),0)","v":0},{"$f":"IF(AB28>0,IF(Sorcadins!F$315>Sorcadins!F$319,MIN(Sorcadins!F$315,Sorcadins!F$313/AB28),CELL(\"contents\",INDIRECT(ADDRESS(43+Sorcadins!F$25,ROUNDUP(5+MIN(20,AB28),0),1,1,\"Caster Tables\")))),0)","v":0},{"$f":"IF(AC28>0,IF(Sorcadins!G$315>Sorcadins!G$319,MIN(Sorcadins!G$315,Sorcadins!G$313/AC28),CELL(\"contents\",INDIRECT(ADDRESS(43+Sorcadins!G$25,ROUNDUP(5+MIN(20,AC28),0),1,1,\"Caster Tables\")))),0)","v":0},{"$f":"IF(AD28>0,IF(Sorcadins!H$315>Sorcadins!H$319,MIN(Sorcadins!H$315,Sorcadins!H$313/AD28),CELL(\"contents\",INDIRECT(ADDRESS(43+Sorcadins!H$25,ROUNDUP(5+MIN(20,AD28),0),1,1,\"Caster Tables\")))),0)","v":0},{"$f":"IF(AE28>0,IF(Sorcadins!I$315>Sorcadins!I$319,MIN(Sorcadins!I$315,Sorcadins!I$313/AE28),CELL(\"contents\",INDIRECT(ADDRESS(43+Sorcadins!I$25,ROUNDUP(5+MIN(20,AE28),0),1,1,\"Caster Tables\")))),0)","v":0},{"$f":"IF(AF28>0,IF(Sorcadins!J$315>Sorcadins!J$319,MIN(Sorcadins!J$315,Sorcadins!J$313/AF28),CELL(\"contents\",INDIRECT(ADDRESS(43+Sorcadins!J$25,ROUNDUP(5+MIN(20,AF28),0),1,1,\"Caster Tables\")))),0)","v":0},{"$f":"IF(AG28>0,IF(Sorcadins!K$315>Sorcadins!K$319,MIN(Sorcadins!K$315,Sorcadins!K$313/AG28),CELL(\"contents\",INDIRECT(ADDRESS(43+Sorcadins!K$25,ROUNDUP(5+MIN(20,AG28),0),1,1,\"Caster Tables\")))),0)","v":0},{"$f":"IF(AH28>0,IF(Sorcadins!L$315>Sorcadins!L$319,MIN(Sorcadins!L$315,Sorcadins!L$313/AH28),CELL(\"contents\",INDIRECT(ADDRESS(43+Sorcadins!L$25,ROUNDUP(5+MIN(20,AH28),0),1,1,\"Caster Tables\")))),0)","v":0},{"$f":"IF(AI28>0,IF(Sorcadins!M$315>Sorcadins!M$319,MIN(Sorcadins!M$315,Sorcadins!M$313/AI28),CELL(\"contents\",INDIRECT(ADDRESS(43+Sorcadins!M$25,ROUNDUP(5+MIN(20,AI28),0),1,1,\"Caster Tables\")))),0)","v":0},{"$f":"IF(AJ28>0,IF(Sorcadins!N$315>Sorcadins!N$319,MIN(Sorcadins!N$315,Sorcadins!N$313/AJ28),CELL(\"contents\",INDIRECT(ADDRESS(43+Sorcadins!N$25,ROUNDUP(5+MIN(20,AJ28),0),1,1,\"Caster Tables\")))),0)","v":0},{"$f":"IF(AK28>0,IF(Sorcadins!O$315>Sorcadins!O$319,MIN(Sorcadins!O$315,Sorcadins!O$313/AK28),CELL(\"contents\",INDIRECT(ADDRESS(43+Sorcadins!O$25,ROUNDUP(5+MIN(20,AK28),0),1,1,\"Caster Tables\")))),0)","v":0},{"$f":"IF(AL28>0,IF(Sorcadins!P$315>Sorcadins!P$319,MIN(Sorcadins!P$315,Sorcadins!P$313/AL28),CELL(\"contents\",INDIRECT(ADDRESS(43+Sorcadins!P$25,ROUNDUP(5+MIN(20,AL28),0),1,1,\"Caster Tables\")))),0)","v":0},{"$f":"IF(AM28>0,IF(Sorcadins!Q$315>Sorcadins!Q$319,MIN(Sorcadins!Q$315,Sorcadins!Q$313/AM28),CELL(\"contents\",INDIRECT(ADDRESS(43+Sorcadins!Q$25,ROUNDUP(5+MIN(20,AM28),0),1,1,\"Caster Tables\")))),0)","v":0},{"$f":"IF(AN28>0,IF(Sorcadins!R$315>Sorcadins!R$319,MIN(Sorcadins!R$315,Sorcadins!R$313/AN28),CELL(\"contents\",INDIRECT(ADDRESS(43+Sorcadins!R$25,ROUNDUP(5+MIN(20,AN28),0),1,1,\"Caster Tables\")))),0)","v":0},{"$f":"IF(AO28>0,IF(Sorcadins!S$315>Sorcadins!S$319,MIN(Sorcadins!S$315,Sorcadins!S$313/AO28),CELL(\"contents\",INDIRECT(ADDRESS(43+Sorcadins!S$25,ROUNDUP(5+MIN(20,AO28),0),1,1,\"Caster Tables\")))),0)","v":0},{"$f":"IF(AP28>0,IF(Sorcadins!T$315>Sorcadins!T$319,MIN(Sorcadins!T$315,Sorcadins!T$313/AP28),CELL(\"contents\",INDIRECT(ADDRESS(43+Sorcadins!T$25,ROUNDUP(5+MIN(20,AP28),0),1,1,\"Caster Tables\")))),0)","v":0},{"$f":"IF(AQ28>0,IF(Sorcadins!U$315>Sorcadins!U$319,MIN(Sorcadins!U$315,Sorcadins!U$313/AQ28),CELL(\"contents\",INDIRECT(ADDRESS(43+Sorcadins!U$25,ROUNDUP(5+MIN(20,AQ28),0),1,1,\"Caster Tables\")))),0)","v":0},{"$f":"IF(AR28>0,IF(Sorcadins!V$315>Sorcadins!V$319,MIN(Sorcadins!V$315,Sorcadins!V$313/AR28),CELL(\"contents\",INDIRECT(ADDRESS(43+Sorcadins!V$25,ROUNDUP(5+MIN(20,AR28),0),1,1,\"Caster Tables\")))),0)","v":0},{"$f":"IF(AS28>0,IF(Sorcadins!W$315>Sorcadins!W$319,MIN(Sorcadins!W$315,Sorcadins!W$313/AS28),CELL(\"contents\",INDIRECT(ADDRESS(43+Sorcadins!W$25,ROUNDUP(5+MIN(20,AS28),0),1,1,\"Caster Tables\")))),0)","v":0},{"$f":"IF(AT28>0,IF(Sorcadins!X$315>Sorcadins!X$319,MIN(Sorcadins!X$315,Sorcadins!X$313/AT28),CELL(\"contents\",INDIRECT(ADDRESS(43+Sorcadins!X$25,ROUNDUP(5+MIN(20,AT28),0),1,1,\"Caster Tables\")))),0)","v":0},null,0,0,0,0,0,0,0,0,0,0,0,0,0,0,0,0,0,0,0,0,null,{"$f":"IF(AV28>0,MIN(AV28,MAX(0,IF(F28>=0,AV28,0)-SUM(DG$6:INDEX(DG:DG,5+$C28-1))/AA28)*BQ28),0)","v":0},{"$f":"IF(AW28>0,MIN(AW28,MAX(0,IF(G28>=0,AW28,0)-SUM(DH$6:INDEX(DH:DH,5+$C28-1))/AB28)*BR28),0)","v":0},{"$f":"IF(AX28>0,MIN(AX28,MAX(0,IF(H28>=0,AX28,0)-SUM(DI$6:INDEX(DI:DI,5+$C28-1))/AC28)*BS28),0)","v":0},{"$f":"IF(AY28>0,MIN(AY28,MAX(0,IF(I28>=0,AY28,0)-SUM(DJ$6:INDEX(DJ:DJ,5+$C28-1))/AD28)*BT28),0)","v":0},{"$f":"IF(AZ28>0,MIN(AZ28,MAX(0,IF(J28>=0,AZ28,0)-SUM(DK$6:INDEX(DK:DK,5+$C28-1))/AE28)*BU28),0)","v":0},{"$f":"IF(BA28>0,MIN(BA28,MAX(0,IF(K28>=0,BA28,0)-SUM(DL$6:INDEX(DL:DL,5+$C28-1))/AF28)*BV28),0)","v":0},{"$f":"IF(BB28>0,MIN(BB28,MAX(0,IF(L28>=0,BB28,0)-SUM(DM$6:INDEX(DM:DM,5+$C28-1))/AG28)*BW28),0)","v":0},{"$f":"IF(BC28>0,MIN(BC28,MAX(0,IF(M28>=0,BC28,0)-SUM(DN$6:INDEX(DN:DN,5+$C28-1))/AH28)*BX28),0)","v":0},{"$f":"IF(BD28>0,MIN(BD28,MAX(0,IF(N28>=0,BD28,0)-SUM(DO$6:INDEX(DO:DO,5+$C28-1))/AI28)*BY28),0)","v":0},{"$f":"IF(BE28>0,MIN(BE28,MAX(0,IF(O28>=0,BE28,0)-SUM(DP$6:INDEX(DP:DP,5+$C28-1))/AJ28)*BZ28),0)","v":0},{"$f":"IF(BF28>0,MIN(BF28,MAX(0,IF(P28>=0,BF28,0)-SUM(DQ$6:INDEX(DQ:DQ,5+$C28-1))/AK28)*CA28),0)","v":0},{"$f":"IF(BG28>0,MIN(BG28,MAX(0,IF(Q28>=0,BG28,0)-SUM(DR$6:INDEX(DR:DR,5+$C28-1))/AL28)*CB28),0)","v":0},{"$f":"IF(BH28>0,MIN(BH28,MAX(0,IF(R28>=0,BH28,0)-SUM(DS$6:INDEX(DS:DS,5+$C28-1))/AM28)*CC28),0)","v":0},{"$f":"IF(BI28>0,MIN(BI28,MAX(0,IF(S28>=0,BI28,0)-SUM(DT$6:INDEX(DT:DT,5+$C28-1))/AN28)*CD28),0)","v":0},{"$f":"IF(BJ28>0,MIN(BJ28,MAX(0,IF(T28>=0,BJ28,0)-SUM(DU$6:INDEX(DU:DU,5+$C28-1))/AO28)*CE28),0)","v":0},{"$f":"IF(BK28>0,MIN(BK28,MAX(0,IF(U28>=0,BK28,0)-SUM(DV$6:INDEX(DV:DV,5+$C28-1))/AP28)*CF28),0)","v":0},{"$f":"IF(BL28>0,MIN(BL28,MAX(0,IF(V28>=0,BL28,0)-SUM(DW$6:INDEX(DW:DW,5+$C28-1))/AQ28)*CG28),0)","v":0},{"$f":"IF(BM28>0,MIN(BM28,MAX(0,IF(W28>=0,BM28,0)-SUM(DX$6:INDEX(DX:DX,5+$C28-1))/AR28)*CH28),0)","v":0},{"$f":"IF(BN28>0,MIN(BN28,MAX(0,IF(X28>=0,BN28,0)-SUM(DY$6:INDEX(DY:DY,5+$C28-1))/AS28)*CI28),0)","v":0},{"$f":"IF(BO28>0,MIN(BO28,MAX(0,IF(Y28>=0,BO28,0)-SUM(DZ$6:INDEX(DZ:DZ,5+$C28-1))/AT28)*CJ28),0)","v":0},null,0,0,0,0,0,0,0,0,0,0,0,0,0,0,0,0,0,0,0,0,null,"Tiny Servant"]

{"sheet":"Concentration Tables","index":7,"n_rows":201,"n_cols":13,"rows_kept":201}
[]
[]
[null,"LEVEL 1",{"$nulls":5},"Fight Duration:"]
[null,"for Character",null,1,2,3,4,5,6,7,8,9,10]
[null,"prob given another round",null,{"$f":"(1-Sorcadins!$E$350)^D4*Sorcadins!$E$350","v":0.21},{"$f":"(1-Sorcadins!$E$350)^E4*Sorcadins!$E$350","v":0.14699999999999996},{"$f":"(1-Sorcadins!$E$350)^F4*Sorcadins!$E$350","v":0.10289999999999998},{"$f":"(1-Sorcadins!$E$350)^G4*Sorcadins!$E$350","v":0.07202999999999997},{"$f":"(1-Sorcadins!$E$350)^H4*Sorcadins!$E$350","v":0.05042099999999998},{"$f":"(1-Sorcadins!$E$350)^I4*Sorcadins!$E$350","v":0.035294699999999984},{"$f":"(1-Sorcadins!$E$350)^J4*Sorcadins!$E$350","v":0.024706289999999985},{"$f":"(1-Sorcadins!$E$350)^K4*Sorcadins!$E$350","v":0.01729440299999999},{"$f":"(1-Sorcadins!$E$350)^L4*Sorcadins!$E$350","v":0.012106082099999992},{"$f":"(1-Sorcadins!$E$350)^M4*Sorcadins!$E$350","v":0.008474257469999994}]
[null,"prob given last round",null,{"$f":"(1-Sorcadins!$E$350)^D4","v":0.7},{"$f":"(1-Sorcadins!$E$350)^E4","v":0.48999999999999994},{"$f":"(1-Sorcadins!$E$350)^F4","v":0.3429999999999999},{"$f":"(1-Sorcadins!$E$350)^G4","v":0.24009999999999992},{"$f":"(1-Sorcadins!$E$350)^H4","v":0.16806999999999994},{"$f":"(1-Sorcadins!$E$350)^I4","v":0.11764899999999995},{"$f":"(1-Sorcadins!$E$350)^J4","v":0.08235429999999995},{"$f":"(1-Sorcadins!$E$350)^K4","v":0.057648009999999965},{"$f":"(1-Sorcadins!$E$350)^L4","v":0.04035360699999997},{"$f":"(1-Sorcadins!$E$350)^M4","v":0.02824752489999998}]
[null,"expectation given n rounds",null,{"$f":"D4*D6","v":0.7},{"$f":"D4*D5+E4*E6","v":1.19},{"$f":"D4*D5+E4*E5+F4*F6","v":1.5329999999999995},{"$f":"D4*D5+E4*E5+F4*F5+G4*G6","v":1.7730999999999995},{"$f":"D4*D5+E4*E5+F4*F5+G4*G5+H4*H6","v":1.9411699999999994},{"$f":"D4*D5+E4*E5+F4*F5+G4*G5+H4*H5+I4*I6","v":2.0588189999999993},{"$f":"D4*D5+E4*E5+F4*F5+G4*G5+H4*H5+I4*I5+J4*J6","v":2.141173299999999},{"$f":"D4*D5+E4*E5+F4*F5+G4*G5+H4*H5+I4*I5+J4*J5+K4*K6","v":2.1988213099999987},{"$f":"D4*D5+E4*E5+F4*F5+G4*G5+H4*H5+I4*I5+J4*J5+K4*K5+L4*L6","v":2.239174916999999},{"$f":"D4*D5+E4*E5+F4*F5+G4*G5+H4*H5+I4*I5+J4*J5+K4*K5+L4*L5+M4*M6","v":2.2674224418999986}]
[null,"for Character, Defensive",null,1,2,3,4,5,6,7,8,9,10]
[null,"prob given another round",null,{"$f":"(1-Sorcadins!$E$351)^D8*Sorcadins!$E$351","v":0.17437499999999997},{"$f":"(1-Sorcadins!$E$351)^E8*Sorcadins!$E$351","v":0.13514062500000001},{"$f":"(1-Sorcadins!$E$351)^F8*Sorcadins!$E$351","v":0.104733984375},{"$f":"(1-Sorcadins!$E$351)^G8*Sorcadins!$E$351","v":0.08116883789062501},{"$f":"(1-Sorcadins!$E$351)^H8*Sorcadins!$E$351","v":0.06290584936523438},{"$f":"(1-Sorcadins!$E$351)^I8*Sorcadins!$E$351","v":0.04875203325805666},{"$f":"(1-Sorcadins!$E$351)^J8*Sorcadins!$E$351","v":0.03778282577499391},{"$f":"(1-Sorcadins!$E$351)^K8*Sorcadins!$E$351","v":0.029281689975620282},{"$f":"(1-Sorcadins!$E$351)^L8*Sorcadins!$E$351","v":0.022693309731105723},{"$f":"(1-Sorcadins!$E$351)^M8*Sorcadins!$E$351","v":0.017587315041606932}]
[null,"prob given last round",null,{"$f":"(1-Sorcadins!$E$351)^D8","v":0.775},{"$f":"(1-Sorcadins!$E$351)^E8","v":0.6006250000000001},{"$f":"(1-Sorcadins!$E$351)^F8","v":0.46548437500000006},{"$f":"(1-Sorcadins!$E$351)^G8","v":0.3607503906250001},{"$f":"(1-Sorcadins!$E$351)^H8","v":0.27958155273437507},{"$f":"(1-Sorcadins!$E$351)^I8","v":0.21667570336914072},{"$f":"(1-Sorcadins!$E$351)^J8","v":0.16792367011108406},{"$f":"(1-Sorcadins!$E$351)^K8","v":0.13014084433609016},{"$f":"(1-Sorcadins!$E$351)^L8","v":0.10085915436046988},{"$f":"(1-Sorcadins!$E$351)^M8","v":0.07816584462936416}]
[null,"expectation given n rounds",null,{"$f":"D8*D10","v":0.775},{"$f":"D8*D9+E8*E10","v":1.375625},{"$f":"D8*D9+E8*E9+F8*F10","v":1.8411093750000003},{"$f":"D8*D9+E8*E9+F8*F9+G8*G10","v":2.2018597656250005},{"$f":"D8*D9+E8*E9+F8*F9+G8*G9+H8*H10","v":2.4814413183593755},{"$f":"D8*D9+E8*E9+F8*F9+G8*G9+H8*H9+I8*I10","v":2.698117021728516},{"$f":"D8*D9+E8*E9+F8*F9+G8*G9+H8*H9+I8*I9+J8*J10","v":2.8660406918396},{"$f":"D8*D9+E8*E9+F8*F9+G8*G9+H8*H9+I8*I9+J8*J9+K8*K10","v":2.9961815361756905},{"$f":"D8*D9+E8*E9+F8*F9+G8*G9+H8*H9+I8*I9+J8*J9+K8*K9+L8*L10","v":3.0970406905361605},{"$f":"D8*D9+E8*E9+F8*F9+G8*G9+H8*H9+I8*I9+J8*J9+K8*K9+L8*L9+M8*M10","v":3.1752065351655245}]
[]
[null,"LEVEL 2",{"$nulls":5},"Fight Duration:"]
[null,"for Character",null,1,2,3,4,5,6,7,8,9,10]
[null,"prob given another round",null,{"$f":"(1-Sorcadins!$F$350)^D14*Sorcadins!$F$350","v":0.21},{"$f":"(1-Sorcadins!$F$350)^E14*Sorcadins!$F$350","v":0.14699999999999996},{"$f":"(1-Sorcadins!$F$350)^F14*Sorcadins!$F$350","v":0.10289999999999998},{"$f":"(1-Sorcadins!$F$350)^G14*Sorcadins!$F$350","v":0.07202999999999997},{"$f":"(1-Sorcadins!$F$350)^H14*Sorcadins!$F$350","v":0.05042099999999998},{"$f":"(1-Sorcadins!$F$350)^I14*Sorcadins!$F$350","v":0.035294699999999984},{"$f":"(1-Sorcadins!$F$350)^J14*Sorcadins!$F$350","v":0.024706289999999985},{"$f":"(1-Sorcadins!$F$350)^K14*Sorcadins!$F$350","v":0.01729440299999999},{"$f":"(1-Sorcadins!$F$350)^L14*Sorcadins!$F$350","v":0.012106082099999992},{"$f":"(1-Sorcadins!$F$350)^M14*Sorcadins!$F$350","v":0.008474257469999994}]
[null,"prob given last round",null,{"$f":"(1-Sorcadins!$F$350)^D14","v":0.7},{"$f":"(1-Sorcadins!$F$350)^E14","v":0.48999999999999994},{"$f":"(1-Sorcadins!$F$350)^F14","v":0.3429999999999999},{"$f":"(1-Sorcadins!$F$350)^G14","v":0.24009999999999992},{"$f":"(1-Sorcadins!$F$350)^H14","v":0.16806999999999994},{"$f":"(1-Sorcadins!$F$350)^I14","v":0.11764899999999995},{"$f":"(1-Sorcadins!$F$350)^J14","v":0.08235429999999995},{"$f":"(1-Sorcadins!$F$350)^K14","v":0.057648009999999965},{"$f":"(1-Sorcadins!$F$350)^L14","v":0.04035360699999997},{"$f":"(1-Sorcadins!$F$350)^M14","v":0.02824752489999998}]
[null,"expectation given n rounds",null,{"$f":"D14*D16","v":0.7},{"$f":"D14*D15+E14*E16","v":1.19},{"$f":"D14*D15+E14*E15+F14*F16","v":1.5329999999999995},{"$f":"D14*D15+E14*E15+F14*F15+G14*G16","v":1.7730999999999995},{"$f":"D14*D15+E14*E15+F14*F15+G14*G15+H14*H16","v":1.9411699999999994},{"$f":"D14*D15+E14*E15+F14*F15+G14*G15+H14*H15+I14*I16","v":2.0588189999999993},{"$f":"D14*D15+E14*E15+F14*F15+G14*G15+H14*H15+I14*I15+J14*J16","v":2.141173299999999},{"$f":"D14*D15+E14*E15+F14*F15+G14*G15+H14*H15+I14*I15+J14*J15+K14*K16","v":2.1988213099999987},{"$f":"D14*D15+E14*E15+F14*F15+G14*G15+H14*H15+I14*I15+J14*J15+K14*K15+L14*L16","v":2.239174916999999},{"$f":"D14*D15+E14*E15+F14*F15+G14*G15+H14*H15+I14*I15+J14*J15+K14*K15+L14*L15+M14*M16","v":2.2674224418999986}]
[null,"for Character, Defensive",null,1,2,3,4,5,6,7,8,9,10]
[null,"prob given another round",null,{"$f":"(1-Sorcadins!$F$351)^D18*Sorcadins!$F$351","v":0.17437499999999997},{"$f":"(1-Sorcadins!$F$351)^E18*Sorcadins!$F$351","v":0.13514062500000001},{"$f":"(1-Sorcadins!$F$351)^F18*Sorcadins!$F$351","v":0.104733984375},{"$f":"(1-Sorcadins!$F$351)^G18*Sorcadins!$F$351","v":0.08116883789062501},{"$f":"(1-Sorcadins!$F$351)^H18*Sorcadins!$F$351","v":0.06290584936523438},{"$f":"(1-Sorcadins!$F$351)^I18*Sorcadins!$F$351","v":0.04875203325805666},{"$f":"(1-Sorcadins!$F$351)^J18*Sorcadins!$F$351","v":0.03778282577499391},{"$f":"(1-Sorcadins!$F$351)^K18*Sorcadins!$F$351","v":0.029281689975620282},{"$f":"(1-Sorcadins!$F$351)^L18*Sorcadins!$F$351","v":0.022693309731105723},{"$f":"(1-Sorcadins!$F$351)^M18*Sorcadins!$F$351","v":0.017587315041606932}]
[null,"prob given last round",null,{"$f":"(1-Sorcadins!$F$351)^D18","v":0.775},{"$f":"(1-Sorcadins!$F$351)^E18","v":0.6006250000000001},{"$f":"(1-Sorcadins!$F$351)^F18","v":0.46548437500000006},{"$f":"(1-Sorcadins!$F$351)^G18","v":0.3607503906250001},{"$f":"(1-Sorcadins!$F$351)^H18","v":0.27958155273437507},{"$f":"(1-Sorcadins!$F$351)^I18","v":0.21667570336914072},{"$f":"(1-Sorcadins!$F$351)^J18","v":0.16792367011108406},{"$f":"(1-Sorcadins!$F$351)^K18","v":0.13014084433609016},{"$f":"(1-Sorcadins!$F$351)^L18","v":0.10085915436046988},{"$f":"(1-Sorcadins!$F$351)^M18","v":0.07816584462936416}]
[null,"expectation given n rounds",null,{"$f":"D18*D20","v":0.775},{"$f":"D18*D19+E18*E20","v":1.375625},{"$f":"D18*D19+E18*E19+F18*F20","v":1.8411093750000003},{"$f":"D18*D19+E18*E19+F18*F19+G18*G20","v":2.2018597656250005},{"$f":"D18*D19+E18*E19+F18*F19+G18*G19+H18*H20","v":2.4814413183593755},{"$f":"D18*D19+E18*E19+F18*F19+G18*G19+H18*H19+I18*I20","v":2.698117021728516},{"$f":"D18*D19+E18*E19+F18*F19+G18*G19+H18*H19+I18*I19+J18*J20","v":2.8660406918396},{"$f":"D18*D19+E18*E19+F18*F19+G18*G19+H18*H19+I18*I19+J18*J19+K18*K20","v":2.9961815361756905},{"$f":"D18*D19+E18*E19+F18*F19+G18*G19+H18*H19+I18*I19+J18*J19+K18*K19+L18*L20","v":3.0970406905361605},{"$f":"D18*D19+E18*E19+F18*F19+G18*G19+H18*H19+I18*I19+J18*J19+K18*K19+L18*L19+M18*M20","v":3.1752065351655245}]
[]
[null,"LEVEL 3",{"$nulls":5},"Fight Duration:"]
[null,"for Character",null,1,2,3,4,5,6,7,8,9,10]
[null,"prob given another round",null,{"$f":"(1-Sorcadins!$G$350)^D24*Sorcadins!$G$350","v":0.21},{"$f":"(1-Sorcadins!$G$350)^E24*Sorcadins!$G$350","v":0.14699999999999996},{"$f":"(1-Sorcadins!$G$350)^F24*Sorcadins!$G$350","v":0.10289999999999998},{"$f":"(1-Sorcadins!$G$350)^G24*Sorcadins!$G$350","v":0.07202999999999997},{"$f":"(1-Sorcadins!$G$350)^H24*Sorcadins!$G$350","v":0.05042099999999998},{"$f":"(1-Sorcadins!$G$350)^I24*Sorcadins!$G$350","v":0.035294699999999984},{"$f":"(1-Sorcadins!$G$350)^J24*Sorcadins!$G$350","v":0.024706289999999985},{"$f":"(1-Sorcadins!$G$350)^K24*Sorcadins!$G$350","v":0.01729440299999999},{"$f":"(1-Sorcadins!$G$350)^L24*Sorcadins!$G$350","v":0.012106082099999992},{"$f":"(1-Sorcadins!$G$350)^M24*Sorcadins!$G$350","v":0.008474257469999994}]
[null,"prob given last round",null,{"$f":"(1-Sorcadins!$G$350)^D24","v":0.7},{"$f":"(1-Sorcadins!$G$350)^E24","v":0.48999999999999994},{"$f":"(1-Sorcadins!$G$350)^F24","v":0.3429999999999999},{"$f":"(1-Sorcadins!$G$350)^G24","v":0.24009999999999992},{"$f":"(1-Sorcadins!$G$350)^H24","v":0.16806999999999994},{"$f":"(1-Sorcadins!$G$350)^I24","v":0.11764899999999995},{"$f":"(1-Sorcadins!$G$350)^J24","v":0.08235429999999995},{"$f":"(1-Sorcadins!$G$350)^K24","v":0.057648009999999965},{"$f":"(1-Sorcadins!$G$350)^L24","v":0.04035360699999997},{"$f":"(1-Sorcadins!$G$350)^M24","v":0.02824752489999998}]
[null,"expectation given n rounds",null,{"$f":"D24*D26","v":0.7},{"$f":"D24*D25+E24*E26","v":1.19},{"$f":"D24*D25+E24*E25+F24*F26","v":1.5329999999999995},{"$f":"D24*D25+E24*E25+F24*F25+G24*G26","v":1.7730999999999995},{"$f":"D24*D25+E24*E25+F24*F25+G24*G25+H24*H26","v":1.9411699999999994},{"$f":"D24*D25+E24*E25+F24*F25+G24*G25+H24*H25+I24*I26","v":2.0588189999999993},{"$f":"D24*D25+E24*E25+F24*F25+G24*G25+H24*H25+I24*I25+J24*J26","v":2.141173299999999},{"$f":"D24*D25+E24*E25+F24*F25+G24*G25+H24*H25+I24*I25+J24*J25+K24*K26","v":2.1988213099999987},{"$f":"D24*D25+E24*E25+F24*F25+G24*G25+H24*H25+I24*I25+J24*J25+K24*K25+L24*L26","v":2.239174916999999},{"$f":"D24*D25+E24*E25+F24*F25+G24*G25+H24*H25+I24*I25+J24*J25+K24*K25+L24*L25+M24*M26","v":2.2674224418999986}]
[null,"for Character, Defensive",null,1,2,3,4,5,6,7,8,9,10]
[null,"prob given another round",null,{"$f":"(1-Sorcadins!$G$351)^D28*Sorcadins!$G$351","v":0.17437499999999997},{"$f":"(1-Sorcadins!$G$351)^E28*Sorcadins!$G$351","v":0.13514062500000001},{"$f":"(1-Sorcadins!$G$351)^F28*Sorcadins!$G$351","v":0.104733984375},{"$f":"(1-Sorcadins!$G$351)^G28*Sorcadins!$G$351","v":0.08116883789062501},{"$f":"(1-Sorcadins!$G$351)^H28*Sorcadins!$G$351","v":0.06290584936523438},{"$f":"(1-Sorcadins!$G$351)^I28*Sorcadins!$G$351","v":0.04875203325805666},{"$f":"(1-Sorcadins!$G$351)^J28*Sorcadins!$G$351","v":0.03778282577499391},{"$f":"(1-Sorcadins!$G$351)^K28*Sorcadins!$G$351","v":0.029281689975620282},{"$f":"(1-Sorcadins!$G$351)^L28*Sorcadins!$G$351","v":0.022693309731105723},{"$f":"(1-Sorcadins!$G$351)^M28*Sorcadins!$G$351","v":0.017587315041606932}]
[null,"prob given last round",null,{"$f":"(1-Sorcadins!$G$351)^D28","v":0.775},{"$f":"(1-Sorcadins!$G$351)^E28","v":0.6006250000000001},{"$f":"(1-Sorcadins!$G$351)^F28","v":0.46548437500000006},{"$f":"(1-Sorcadins!$G$351)^G28","v":0.3607503906250001},{"$f":"(1-Sorcadins!$G$351)^H28","v":0.27958155273437507},{"$f":"(1-Sorcadins!$G$351)^I28","v":0.21667570336914072},{"$f":"(1-Sorcadins!$G$351)^J28","v":0.16792367011108406},{"$f":"(1-Sorcadins!$G$351)^K28","v":0.13014084433609016},{"$f":"(1-Sorcadins!$G$351)^L28","v":0.10085915436046988},{"$f":"(1-Sorcadins!$G$351)^M28","v":0.07816584462936416}]
[null,"expectation given n rounds",null,{"$f":"D28*D30","v":0.775},{"$f":"D28*D29+E28*E30","v":1.375625},{"$f":"D28*D29+E28*E29+F28*F30","v":1.8411093750000003},{"$f":"D28*D29+E28*E29+F28*F29+G28*G30","v":2.2018597656250005},{"$f":"D28*D29+E28*E29+F28*F29+G28*G29+H28*H30","v":2.4814413183593755},{"$f":"D28*D29+E28*E29+F28*F29+G28*G29+H28*H29+I28*I30","v":2.698117021728516},{"$f":"D28*D29+E28*E29+F28*F29+G28*G29+H28*H29+I28*I29+J28*J30","v":2.8660406918396},{"$f":"D28*D29+E28*E29+F28*F29+G28*G29+H28*H29+I28*I29+J28*J29+K28*K30","v":2.9961815361756905},{"$f":"D28*D29+E28*E29+F28*F29+G28*G29+H28*H29+I28*I29+J28*J29+K28*K29+L28*L30","v":3.0970406905361605},{"$f":"D28*D29+E28*E29+F28*F29+G28*G29+H28*H29+I28*I29+J28*J29+K28*K29+L28*L29+M28*M30","v":3.1752065351655245}]
[]
[null,"LEVEL 4",{"$nulls":5},"Fight Duration:"]
[null,"for Character",null,1,2,3,4,5,6,7,8,9,10]
[null,"prob given another round",null,{"$f":"(1-Sorcadins!$H$350)^D34*Sorcadins!$H$350","v":0.21},{"$f":"(1-Sorcadins!$H$350)^E34*Sorcadins!$H$350","v":0.14699999999999996},{"$f":"(1-Sorcadins!$H$350)^F34*Sorcadins!$H$350","v":0.10289999999999998},{"$f":"(1-Sorcadins!$H$350)^G34*Sorcadins!$H$350","v":0.07202999999999997},{"$f":"(1-Sorcadins!$H$350)^H34*Sorcadins!$H$350","v":0.05042099999999998},{"$f":"(1-Sorcadins!$H$350)^I34*Sorcadins!$H$350","v":0.035294699999999984},{"$f":"(1-Sorcadins!$H$350)^J34*Sorcadins!$H$350","v":0.024706289999999985},{"$f":"(1-Sorcadins!$H$350)^K34*Sorcadins!$H$350","v":0.01729440299999999},{"$f":"(1-Sorcadins!$H$350)^L34*Sorcadins!$H$350","v":0.012106082099999992},{"$f":"(1-Sorcadins!$H$350)^M34*Sorcadins!$H$350","v":0.008474257469999994}]
[null,"prob given last round",null,{"$f":"(1-Sorcadins!$H$350)^D34","v":0.7},{"$f":"(1-Sorcadins!$H$350)^E34","v":0.48999999999999994},{"$f":"(1-Sorcadins!$H$350)^F34","v":0.3429999999999999},{"$f":"(1-Sorcadins!$H$350)^G34","v":0.24009999999999992},{"$f":"(1-Sorcadins!$H$350)^H34","v":0.16806999999999994},{"$f":"(1-Sorcadins!$H$350)^I34","v":0.11764899999999995},{"$f":"(1-Sorcadins!$H$350)^J34","v":0.08235429999999995},{"$f":"(1-Sorcadins!$H$350)^K34","v":0.057648009999999965},{"$f":"(1-Sorcadins!$H$350)^L34","v":0.04035360699999997},{"$f":"(1-Sorcadins!$H$350)^M34","v":0.02824752489999998}]
[null,"expectation given n rounds",null,{"$f":"D34*D36","v":0.7},{"$f":"D34*D35+E34*E36","v":1.19},{"$f":"D34*D35+E34*E35+F34*F36","v":1.5329999999999995},{"$f":"D34*D35+E34*E35+F34*F35+G34*G36","v":1.7730999999999995},{"$f":"D34*D35+E34*E35+F34*F35+G34*G35+H34*H36","v":1.9411699999999994},{"$f":"D34*D35+E34*E35+F34*F35+G34*G35+H34*H35+I34*I36","v":2.0588189999999993},{"$f":"D34*D35+E34*E35+F34*F35+G34*G35+H34*H35+I34*I35+J34*J36","v":2.141173299999999},{"$f":"D34*D35+E34*E35+F34*F35+G34*G35+H34*H35+I34*I35+J34*J35+K34*K36","v":2.1988213099999987},{"$f":"D34*D35+E34*E35+F34*F35+G34*G35+H34*H35+I34*I35+J34*J35+K34*K35+L34*L36","v":2.239174916999999},{"$f":"D34*D35+E34*E35+F34*F35+G34*G35+H34*H35+I34*I35+J34*J35+K34*K35+L34*L35+M34*M36","v":2.2674224418999986}]
[null,"for Character, Defensive",null,1,2,3,4,5,6,7,8,9,10]
[null,"prob given another round",null,{"$f":"(1-Sorcadins!$H$351)^D38*Sorcadins!$H$351","v":0.17437499999999997},{"$f":"(1-Sorcadins!$H$351)^E38*Sorcadins!$H$351","v":0.13514062500000001},{"$f":"(1-Sorcadins!$H$351)^F38*Sorcadins!$H$351","v":0.104733984375},{"$f":"(1-Sorcadins!$H$351)^G38*Sorcadins!$H$351","v":0.08116883789062501},{"$f":"(1-Sorcadins!$H$351)^H38*Sorcadins!$H$351","v":0.06290584936523438},{"$f":"(1-Sorcadins!$H$351)^I38*Sorcadins!$H$351","v":0.04875203325805666},{"$f":"(1-Sorcadins!$H$351)^J38*Sorcadins!$H$351","v":0.03778282577499391},{"$f":"(1-Sorcadins!$H$351)^K38*Sorcadins!$H$351","v":0.029281689975620282},{"$f":"(1-Sorcadins!$H$351)^L38*Sorcadins!$H$351","v":0.022693309731105723},{"$f":"(1-Sorcadins!$H$351)^M38*Sorcadins!$H$351","v":0.017587315041606932}]
[null,"prob given last round",null,{"$f":"(1-Sorcadins!$H$351)^D38","v":0.775},{"$f":"(1-Sorcadins!$H$351)^E38","v":0.6006250000000001},{"$f":"(1-Sorcadins!$H$351)^F38","v":0.46548437500000006},{"$f":"(1-Sorcadins!$H$351)^G38","v":0.3607503906250001},{"$f":"(1-Sorcadins!$H$351)^H38","v":0.27958155273437507},{"$f":"(1-Sorcadins!$H$351)^I38","v":0.21667570336914072},{"$f":"(1-Sorcadins!$H$351)^J38","v":0.16792367011108406},{"$f":"(1-Sorcadins!$H$351)^K38","v":0.13014084433609016},{"$f":"(1-Sorcadins!$H$351)^L38","v":0.10085915436046988},{"$f":"(1-Sorcadins!$H$351)^M38","v":0.07816584462936416}]
[null,"expectation given n rounds",null,{"$f":"D38*D40","v":0.775},{"$f":"D38*D39+E38*E40","v":1.375625},{"$f":"D38*D39+E38*E39+F38*F40","v":1.8411093750000003},{"$f":"D38*D39+E38*E39+F38*F39+G38*G40","v":2.2018597656250005},{"$f":"D38*D39+E38*E39+F38*F39+G38*G39+H38*H40","v":2.4814413183593755},{"$f":"D38*D39+E38*E39+F38*F39+G38*G39+H38*H39+I38*I40","v":2.698117021728516},{"$f":"D38*D39+E38*E39+F38*F39+G38*G39+H38*H39+I38*I39+J38*J40","v":2.8660406918396},{"$f":"D38*D39+E38*E39+F38*F39+G38*G39+H38*H39+I38*I39+J38*J39+K38*K40","v":2.9961815361756905},{"$f":"D38*D39+E38*E39+F38*F39+G38*G39+H38*H39+I38*I39+J38*J39+K38*K39+L38*L40","v":3.0970406905361605},{"$f":"D38*D39+E38*E39+F38*F39+G38*G39+H38*H39+I38*I39+J38*J39+K38*K39+L38*L39+M38*M40","v":3.1752065351655245}]
[]
[null,"LEVEL 5",{"$nulls":5},"Fight Duration:"]
[null,"for Character",null,1,2,3,4,5,6,7,8,9,10]
[null,"prob given another round",null,{"$f":"(1-Sorcadins!$I$350)^D44*Sorcadins!$I$350","v":0.21},{"$f":"(1-Sorcadins!$I$350)^E44*Sorcadins!$I$350","v":0.14699999999999996},{"$f":"(1-Sorcadins!$I$350)^F44*Sorcadins!$I$350","v":0.10289999999999998},{"$f":"(1-Sorcadins!$I$350)^G44*Sorcadins!$I$350","v":0.07202999999999997},{"$f":"(1-Sorcadins!$I$350)^H44*Sorcadins!$I$350","v":0.05042099999999998},{"$f":"(1-Sorcadins!$I$350)^I44*Sorcadins!$I$350","v":0.035294699999999984},{"$f":"(1-Sorcadins!$I$350)^J44*Sorcadins!$I$350","v":0.024706289999999985},{"$f":"(1-Sorcadins!$I$350)^K44*Sorcadins!$I$350","v":0.01729440299999999},{"$f":"(1-Sorcadins!$I$350)^L44*Sorcadins!$I$350","v":0.012106082099999992},{"$f":"(1-Sorcadins!$I$350)^M44*Sorcadins!$I$350","v":0.008474257469999994}]
[null,"prob given last round",null,{"$f":"(1-Sorcadins!$I$350)^D44","v":0.7},{"$f":"(1-Sorcadins!$I$350)^E44","v":0.48999999999999994},{"$f":"(1-Sorcadins!$I$350)^F44","v":0.3429999999999999},{"$f":"(1-Sorcadins!$I$350)^G44","v":0.24009999999999992},{"$f":"(1-Sorcadins!$I$350)^H44","v":0.16806999999999994},{"$f":"(1-Sorcadins!$I$350)^I44","v":0.11764899999999995},{"$f":"(1-Sorcadins!$I$350)^J44","v":0.08235429999999995},{"$f":"(1-Sorcadins!$I$350)^K44","v":0.057648009999999965},{"$f":"(1-Sorcadins!$I$350)^L44","v":0.04035360699999997},{"$f":"(1-Sorcadins!$I$350)^M44","v":0.02824752489999998}]
[null,"expectation given n rounds",null,{"$f":"D44*D46","v":0.7},{"$f":"D44*D45+E44*E46","v":1.19},{"$f":"D44*D45+E44*E45+F44*F46","v":1.5329999999999995},{"$f":"D44*D45+E44*E45+F44*F45+G44*G46","v":1.7730999999999995},{"$f":"D44*D45+E44*E45+F44*F45+G44*G45+H44*H46","v":1.9411699999999994},{"$f":"D44*D45+E44*E45+F44*F45+G44*G45+H44*H45+I44*I46","v":2.0588189999999993},{"$f":"D44*D45+E44*E45+F44*F45+G44*G45+H44*H45+I44*I45+J44*J46","v":2.141173299999999},{"$f":"D44*D45+E44*E45+F44*F45+G44*G45+H44*H45+I44*I45+J44*J45+K44*K46","v":2.1988213099999987},{"$f":"D44*D45+E44*E45+F44*F45+G44*G45+H44*H45+I44*I45+J44*J45+K44*K45+L44*L46","v":2.239174916999999},{"$f":"D44*D45+E44*E45+F44*F45+G44*G45+H44*H45+I44*I45+J44*J45+K44*K45+L44*L45+M44*M46","v":2.2674224418999986}]
[null,"for Character, Defensive",null,1,2,3,4,5,6,7,8,9,10]
[null,"prob given another round",null,{"$f":"(1-Sorcadins!$I$351)^D48*Sorcadins!$I$351","v":0.17437499999999997},{"$f":"(1-Sorcadins!$I$351)^E48*Sorcadins!$I$351","v":0.13514062500000001},{"$f":"(1-Sorcadins!$I$351)^F48*Sorcadins!$I$351","v":0.104733984375},{"$f":"(1-Sorcadins!$I$351)^G48*Sorcadins!$I$351","v":0.08116883789062501},{"$f":"(1-Sorcadins!$I$351)^H48*Sorcadins!$I$351","v":0.06290584936523438},{"$f":"(1-Sorcadins!$I$351)^I48*Sorcadins!$I$351","v":0.04875203325805666},{"$f":"(1-Sorcadins!$I$351)^J48*Sorcadins!$I$351","v":0.03778282577499391},{"$f":"(1-Sorcadins!$I$351)^K48*Sorcadins!$I$351","v":0.029281689975620282},{"$f":"(1-Sorcadins!$I$351)^L48*Sorcadins!$I$351","v":0.022693309731105723},{"$f":"(1-Sorcadins!$I$351)^M48*Sorcadins!$I$351","v":0.017587315041606932}]
[null,"prob given last round",null,{"$f":"(1-Sorcadins!$I$351)^D48","v":0.775},{"$f":"(1-Sorcadins!$I$351)^E48","v":0.6006250000000001},{"$f":"(1-Sorcadins!$I$351)^F48","v":0.46548437500000006},{"$f":"(1-Sorcadins!$I$351)^G48","v":0.3607503906250001},{"$f":"(1-Sorcadins!$I$351)^H48","v":0.27958155273437507},{"$f":"(1-Sorcadins!$I$351)^I48","v":0.21667570336914072},{"$f":"(1-Sorcadins!$I$351)^J48","v":0.16792367011108406},{"$f":"(1-Sorcadins!$I$351)^K48","v":0.13014084433609016},{"$f":"(1-Sorcadins!$I$351)^L48","v":0.10085915436046988},{"$f":"(1-Sorcadins!$I$351)^M48","v":0.07816584462936416}]
[null,"expectation given n rounds",null,{"$f":"D48*D50","v":0.775},{"$f":"D48*D49+E48*E50","v":1.375625},{"$f":"D48*D49+E48*E49+F48*F50","v":1.8411093750000003},{"$f":"D48*D49+E48*E49+F48*F49+G48*G50","v":2.2018597656250005},{"$f":"D48*D49+E48*E49+F48*F49+G48*G49+H48*H50","v":2.4814413183593755},{"$f":"D48*D49+E48*E49+F48*F49+G48*G49+H48*H49+I48*I50","v":2.698117021728516},{"$f":"D48*D49+E48*E49+F48*F49+G48*G49+H48*H49+I48*I49+J48*J50","v":2.8660406918396},{"$f":"D48*D49+E48*E49+F48*F49+G48*G49+H48*H49+I48*I49+J48*J49+K48*K50","v":2.9961815361756905},{"$f":"D48*D49+E48*E49+F48*F49+G48*G49+H48*H49+I48*I49+J48*J49+K48*K49+L48*L50","v":3.0970406905361605},{"$f":"D48*D49+E48*E49+F48*F49+G48*G49+H48*H49+I48*I49+J48*J49+K48*K49+L48*L49+M48*M50","v":3.1752065351655245}]
[]
[null,"LEVEL 6",{"$nulls":5},"Fight Duration:"]
[null,"for Character",null,1,2,3,4,5,6,7,8,9,10]
[null,"prob given another round",null,{"$f":"(1-Sorcadins!$J$350)^D54*Sorcadins!$J$350","v":0.21},{"$f":"(1-Sorcadins!$J$350)^E54*Sorcadins!$J$350","v":0.14699999999999996},{"$f":"(1-Sorcadins!$J$350)^F54*Sorcadins!$J$350","v":0.10289999999999998},{"$f":"(1-Sorcadins!$J$350)^G54*Sorcadins!$J$350","v":0.07202999999999997},{"$f":"(1-Sorcadins!$J$350)^H54*Sorcadins!$J$350","v":0.05042099999999998},{"$f":"(1-Sorcadins!$J$350)^I54*Sorcadins!$J$350","v":0.035294699999999984},{"$f":"(1-Sorcadins!$J$350)^J54*Sorcadins!$J$350","v":0.024706289999999985},{"$f":"(1-Sorcadins!$J$350)^K54*Sorcadins!$J$350","v":0.01729440299999999},{"$f":"(1-Sorcadins!$J$350)^L54*Sorcadins!$J$350","v":0.012106082099999992},{"$f":"(1-Sorcadins!$J$350)^M54*Sorcadins!$J$350","v":0.008474257469999994}]
[null,"prob given last round",null,{"$f":"(1-Sorcadins!$J$350)^D54","v":0.7},{"$f":"(1-Sorcadins!$J$350)^E54","v":0.48999999999999994},{"$f":"(1-Sorcadins!$J$350)^F54","v":0.3429999999999999},{"$f":"(1-Sorcadins!$J$350)^G54","v":0.24009999999999992},{"$f":"(1-Sorcadins!$J$350)^H54","v":0.16806999999999994},{"$f":"(1-Sorcadins!$J$350)^I54","v":0.11764899999999995},{"$f":"(1-Sorcadins!$J$350)^J54","v":0.08235429999999995},{"$f":"(1-Sorcadins!$J$350)^K54","v":0.057648009999999965},{"$f":"(1-Sorcadins!$J$350)^L54","v":0.04035360699999997},{"$f":"(1-Sorcadins!$J$350)^M54","v":0.02824752489999998}]
[null,"expectation given n rounds",null,{"$f":"D54*D56","v":0.7},{"$f":"D54*D55+E54*E56","v":1.19},{"$f":"D54*D55+E54*E55+F54*F56","v":1.5329999999999995},{"$f":"D54*D55+E54*E55+F54*F55+G54*G56","v":1.7730999999999995},{"$f":"D54*D55+E54*E55+F54*F55+G54*G55+H54*H56","v":1.9411699999999994},{"$f":"D54*D55+E54*E55+F54*F55+G54*G55+H54*H55+I54*I56","v":2.0588189999999993},{"$f":"D54*D55+E54*E55+F54*F55+G54*G55+H54*H55+I54*I55+J54*J56","v":2.141173299999999},{"$f":"D54*D55+E54*E55+F54*F55+G54*G55+H54*H55+I54*I55+J54*J55+K54*K56","v":2.1988213099999987},{"$f":"D54*D55+E54*E55+F54*F55+G54*G55+H54*H55+I54*I55+J54*J55+K54*K55+L54*L56","v":2.239174916999999},{"$f":"D54*D55+E54*E55+F54*F55+G54*G55+H54*H55+I54*I55+J54*J55+K54*K55+L54*L55+M54*M56","v":2.2674224418999986}]
[null,"for Character, Defensive",null,1,2,3,4,5,6,7,8,9,10]
[null,"prob given another round",null,{"$f":"(1-Sorcadins!$J$351)^D58*Sorcadins!$J$351","v":0.17437499999999997},{"$f":"(1-Sorcadins!$J$351)^E58*Sorcadins!$J$351","v":0.13514062500000001},{"$f":"(1-Sorcadins!$J$351)^F58*Sorcadins!$J$351","v":0.104733984375},{"$f":"(1-Sorcadins!$J$351)^G58*Sorcadins!$J$351","v":0.08116883789062501},{"$f":"(1-Sorcadins!$J$351)^H58*Sorcadins!$J$351","v":0.06290584936523438},{"$f":"(1-Sorcadins!$J$351)^I58*Sorcadins!$J$351","v":0.04875203325805666},{"$f":"(1-Sorcadins!$J$351)^J58*Sorcadins!$J$351","v":0.03778282577499391},{"$f":"(1-Sorcadins!$J$351)^K58*Sorcadins!$J$351","v":0.029281689975620282},{"$f":"(1-Sorcadins!$J$351)^L58*Sorcadins!$J$351","v":0.022693309731105723},{"$f":"(1-Sorcadins!$J$351)^M58*Sorcadins!$J$351","v":0.017587315041606932}]
[null,"prob given last round",null,{"$f":"(1-Sorcadins!$J$351)^D58","v":0.775},{"$f":"(1-Sorcadins!$J$351)^E58","v":0.6006250000000001},{"$f":"(1-Sorcadins!$J$351)^F58","v":0.46548437500000006},{"$f":"(1-Sorcadins!$J$351)^G58","v":0.3607503906250001},{"$f":"(1-Sorcadins!$J$351)^H58","v":0.27958155273437507},{"$f":"(1-Sorcadins!$J$351)^I58","v":0.21667570336914072},{"$f":"(1-Sorcadins!$J$351)^J58","v":0.16792367011108406},{"$f":"(1-Sorcadins!$J$351)^K58","v":0.13014084433609016},{"$f":"(1-Sorcadins!$J$351)^L58","v":0.10085915436046988},{"$f":"(1-Sorcadins!$J$351)^M58","v":0.07816584462936416}]
[null,"expectation given n rounds",null,{"$f":"D58*D60","v":0.775},{"$f":"D58*D59+E58*E60","v":1.375625},{"$f":"D58*D59+E58*E59+F58*F60","v":1.8411093750000003},{"$f":"D58*D59+E58*E59+F58*F59+G58*G60","v":2.2018597656250005},{"$f":"D58*D59+E58*E59+F58*F59+G58*G59+H58*H60","v":2.4814413183593755},{"$f":"D58*D59+E58*E59+F58*F59+G58*G59+H58*H59+I58*I60","v":2.698117021728516},{"$f":"D58*D59+E58*E59+F58*F59+G58*G59+H58*H59+I58*I59+J58*J60","v":2.8660406918396},{"$f":"D58*D59+E58*E59+F58*F59+G58*G59+H58*H59+I58*I59+J58*J59+K58*K60","v":2.9961815361756905},{"$f":"D58*D59+E58*E59+F58*F59+G58*G59+H58*H59+I58*I59+J58*J59+K58*K59+L58*L60","v":3.0970406905361605},{"$f":"D58*D59+E58*E59+F58*F59+G58*G59+H58*H59+I58*I59+J58*J59+K58*K59+L58*L59+M58*M60","v":3.1752065351655245}]
[]
[null,"LEVEL 7",{"$nulls":5},"Fight Duration:"]
[null,"for Character",null,1,2,3,4,5,6,7,8,9,10]
[null,"prob given another round",null,{"$f":"(1-Sorcadins!$K$350)^D64*Sorcadins!$K$350","v":0.21},{"$f":"(1-Sorcadins!$K$350)^E64*Sorcadins!$K$350","v":0.14699999999999996},{"$f":"(1-Sorcadins!$K$350)^F64*Sorcadins!$K$350","v":0.10289999999999998},{"$f":"(1-Sorcadins!$K$350)^G64*Sorcadins!$K$350","v":0.07202999999999997},{"$f":"(1-Sorcadins!$K$350)^H64*Sorcadins!$K$350","v":0.05042099999999998},{"$f":"(1-Sorcadins!$K$350)^I64*Sorcadins!$K$350","v":0.035294699999999984},{"$f":"(1-Sorcadins!$K$350)^J64*Sorcadins!$K$350","v":0.024706289999999985},{"$f":"(1-Sorcadins!$K$350)^K64*Sorcadins!$K$350","v":0.01729440299999999},{"$f":"(1-Sorcadins!$K$350)^L64*Sorcadins!$K$350","v":0.012106082099999992},{"$f":"(1-Sorcadins!$K$350)^M64*Sorcadins!$K$350","v":0.008474257469999994}]
[null,"prob given last round",null,{"$f":"(1-Sorcadins!$K$350)^D64","v":0.7},{"$f":"(1-Sorcadins!$K$350)^E64","v":0.48999999999999994},{"$f":"(1-Sorcadins!$K$350)^F64","v":0.3429999999999999},{"$f":"(1-Sorcadins!$K$350)^G64","v":0.24009999999999992},{"$f":"(1-Sorcadins!$K$350)^H64","v":0.16806999999999994},{"$f":"(1-Sorcadins!$K$350)^I64","v":0.11764899999999995},{"$f":"(1-Sorcadins!$K$350)^J64","v":0.08235429999999995},{"$f":"(1-Sorcadins!$K$350)^K64","v":0.057648009999999965},{"$f":"(1-Sorcadins!$K$350)^L64","v":0.04035360699999997},{"$f":"(1-Sorcadins!$K$350)^M64","v":0.02824752489999998}]
[null,"expectation given n rounds",null,{"$f":"D64*D66","v":0.7},{"$f":"D64*D65+E64*E66","v":1.19},{"$f":"D64*D65+E64*E65+F64*F66","v":1.5329999999999995},{"$f":"D64*D65+E64*E65+F64*F65+G64*G66","v":1.7730999999999995},{"$f":"D64*D65+E64*E65+F64*F65+G64*G65+H64*H66","v":1.9411699999999994},{"$f":"D64*D65+E64*E65+F64*F65+G64*G65+H64*H65+I64*I66","v":2.0588189999999993},{"$f":"D64*D65+E64*E65+F64*F65+G64*G65+H64*H65+I64*I65+J64*J66","v":2.141173299999999},{"$f":"D64*D65+E64*E65+F64*F65+G64*G65+H64*H65+I64*I65+J64*J65+K64*K66","v":2.1988213099999987},{"$f":"D64*D65+E64*E65+F64*F65+G64*G65+H64*H65+I64*I65+J64*J65+K64*K65+L64*L66","v":2.239174916999999},{"$f":"D64*D65+E64*E65+F64*F65+G64*G65+H64*H65+I64*I65+J64*J65+K64*K65+L64*L65+M64*M66","v":2.2674224418999986}]
[null,"for Character, Defensive",null,1,2,3,4,5,6,7,8,9,10]
[null,"prob given another round",null,{"$f":"(1-Sorcadins!$K$351)^D68*Sorcadins!$K$351","v":0.17437499999999997},{"$f":"(1-Sorcadins!$K$351)^E68*Sorcadins!$K$351","v":0.13514062500000001},{"$f":"(1-Sorcadins!$K$351)^F68*Sorcadins!$K$351","v":0.104733984375},{"$f":"(1-Sorcadins!$K$351)^G68*Sorcadins!$K$351","v":0.08116883789062501},{"$f":"(1-Sorcadins!$K$351)^H68*Sorcadins!$K$351","v":0.06290584936523438},{"$f":"(1-Sorcadins!$K$351)^I68*Sorcadins!$K$351","v":0.04875203325805666},{"$f":"(1-Sorcadins!$K$351)^J68*Sorcadins!$K$351","v":0.03778282577499391},{"$f":"(1-Sorcadins!$K$351)^K68*Sorcadins!$K$351","v":0.029281689975620282},{"$f":"(1-Sorcadins!$K$351)^L68*Sorcadins!$K$351","v":0.022693309731105723},{"$f":"(1-Sorcadins!$K$351)^M68*Sorcadins!$K$351","v":0.017587315041606932}]
[null,"prob given last round",null,{"$f":"(1-Sorcadins!$K$351)^D68","v":0.775},{"$f":"(1-Sorcadins!$K$351)^E68","v":0.6006250000000001},{"$f":"(1-Sorcadins!$K$351)^F68","v":0.46548437500000006},{"$f":"(1-Sorcadins!$K$351)^G68","v":0.3607503906250001},{"$f":"(1-Sorcadins!$K$351)^H68","v":0.27958155273437507},{"$f":"(1-Sorcadins!$K$351)^I68","v":0.21667570336914072},{"$f":"(1-Sorcadins!$K$351)^J68","v":0.16792367011108406},{"$f":"(1-Sorcadins!$K$351)^K68","v":0.13014084433609016},{"$f":"(1-Sorcadins!$K$351)^L68","v":0.10085915436046988},{"$f":"(1-Sorcadins!$K$351)^M68","v":0.07816584462936416}]
[null,"expectation given n rounds",null,{"$f":"D68*D70","v":0.775},{"$f":"D68*D69+E68*E70","v":1.375625},{"$f":"D68*D69+E68*E69+F68*F70","v":1.8411093750000003},{"$f":"D68*D69+E68*E69+F68*F69+G68*G70","v":2.2018597656250005},{"$f":"D68*D69+E68*E69+F68*F69+G68*G69+H68*H70","v":2.4814413183593755},{"$f":"D68*D69+E68*E69+F68*F69+G68*G69+H68*H69+I68*I70","v":2.698117021728516},{"$f":"D68*D69+E68*E69+F68*F69+G68*G69+H68*H69+I68*I69+J68*J70","v":2.8660406918396},{"$f":"D68*D69+E68*E69+F68*F69+G68*G69+H68*H69+I68*I69+J68*J69+K68*K70","v":2.9961815361756905},{"$f":"D68*D69+E68*E69+F68*F69+G68*G69+H68*H69+I68*I69+J68*J69+K68*K69+L68*L70","v":3.0970406905361605},{"$f":"D68*D69+E68*E69+F68*F69+G68*G69+H68*H69+I68*I69+J68*J69+K68*K69+L68*L69+M68*M70","v":3.1752065351655245}]
[]
[null,"LEVEL 8",{"$nulls":5},"Fight Duration:"]
[null,"for Character",null,1,2,3,4,5,6,7,8,9,10]
[null,"prob given another round",null,{"$f":"(1-Sorcadins!$L$350)^D74*Sorcadins!$L$350","v":0.21},{"$f":"(1-Sorcadins!$L$350)^E74*Sorcadins!$L$350","v":0.14699999999999996},{"$f":"(1-Sorcadins!$L$350)^F74*Sorcadins!$L$350","v":0.10289999999999998},{"$f":"(1-Sorcadins!$L$350)^G74*Sorcadins!$L$350","v":0.07202999999999997},{"$f":"(1-Sorcadins!$L$350)^H74*Sorcadins!$L$350","v":0.05042099999999998},{"$f":"(1-Sorcadins!$L$350)^I74*Sorcadins!$L$350","v":0.035294699999999984},{"$f":"(1-Sorcadins!$L$350)^J74*Sorcadins!$L$350","v":0.024706289999999985},{"$f":"(1-Sorcadins!$L$350)^K74*Sorcadins!$L$350","v":0.01729440299999999},{"$f":"(1-Sorcadins!$L$350)^L74*Sorcadins!$L$350","v":0.012106082099999992},{"$f":"(1-Sorcadins!$L$350)^M74*Sorcadins!$L$350","v":0.008474257469999994}]
[null,"prob given last round",null,{"$f":"(1-Sorcadins!$L$350)^D74","v":0.7},{"$f":"(1-Sorcadins!$L$350)^E74","v":0.48999999999999994},{"$f":"(1-Sorcadins!$L$350)^F74","v":0.3429999999999999},{"$f":"(1-Sorcadins!$L$350)^G74","v":0.24009999999999992},{"$f":"(1-Sorcadins!$L$350)^H74","v":0.16806999999999994},{"$f":"(1-Sorcadins!$L$350)^I74","v":0.11764899999999995},{"$f":"(1-Sorcadins!$L$350)^J74","v":0.08235429999999995},{"$f":"(1-Sorcadins!$L$350)^K74","v":0.057648009999999965},{"$f":"(1-Sorcadins!$L$350)^L74","v":0.04035360699999997},{"$f":"(1-Sorcadins!$L$350)^M74","v":0.02824752489999998}]
[null,"expectation given n rounds",null,{"$f":"D74*D76","v":0.7},{"$f":"D74*D75+E74*E76","v":1.19},{"$f":"D74*D75+E74*E75+F74*F76","v":1.5329999999999995},{"$f":"D74*D75+E74*E75+F74*F75+G74*G76","v":1.7730999999999995},{"$f":"D74*D75+E74*E75+F74*F75+G74*G75+H74*H76","v":1.9411699999999994},{"$f":"D74*D75+E74*E75+F74*F75+G74*G75+H74*H75+I74*I76","v":2.0588189999999993},{"$f":"D74*D75+E74*E75+F74*F75+G74*G75+H74*H75+I74*I75+J74*J76","v":2.141173299999999},{"$f":"D74*D75+E74*E75+F74*F75+G74*G75+H74*H75+I74*I75+J74*J75+K74*K76","v":2.1988213099999987},{"$f":"D74*D75+E74*E75+F74*F75+G74*G75+H74*H75+I74*I75+J74*J75+K74*K75+L74*L76","v":2.239174916999999},{"$f":"D74*D75+E74*E75+F74*F75+G74*G75+H74*H75+I74*I75+J74*J75+K74*K75+L74*L75+M74*M76","v":2.2674224418999986}]
[null,"for Character, Defensive",null,1,2,3,4,5,6,7,8,9,10]
[null,"prob given another round",null,{"$f":"(1-Sorcadins!$L$351)^D78*Sorcadins!$L$351","v":0.17437499999999997},{"$f":"(1-Sorcadins!$L$351)^E78*Sorcadins!$L$351","v":0.13514062500000001},{"$f":"(1-Sorcadins!$L$351)^F78*Sorcadins!$L$351","v":0.104733984375},{"$f":"(1-Sorcadins!$L$351)^G78*Sorcadins!$L$351","v":0.08116883789062501},{"$f":"(1-Sorcadins!$L$351)^H78*Sorcadins!$L$351","v":0.06290584936523438},{"$f":"(1-Sorcadins!$L$351)^I78*Sorcadins!$L$351","v":0.04875203325805666},{"$f":"(1-Sorcadins!$L$351)^J78*Sorcadins!$L$351","v":0.03778282577499391},{"$f":"(1-Sorcadins!$L$351)^K78*Sorcadins!$L$351","v":0.029281689975620282},{"$f":"(1-Sorcadins!$L$351)^L78*Sorcadins!$L$351","v":0.022693309731105723},{"$f":"(1-Sorcadins!$L$351)^M78*Sorcadins!$L$351","v":0.017587315041606932}]
[null,"prob given last round",null,{"$f":"(1-Sorcadins!$L$351)^D78","v":0.775},{"$f":"(1-Sorcadins!$L$351)^E78","v":0.6006250000000001},{"$f":"(1-Sorcadins!$L$351)^F78","v":0.46548437500000006},{"$f":"(1-Sorcadins!$L$351)^G78","v":0.3607503906250001},{"$f":"(1-Sorcadins!$L$351)^H78","v":0.27958155273437507},{"$f":"(1-Sorcadins!$L$351)^I78","v":0.21667570336914072},{"$f":"(1-Sorcadins!$L$351)^J78","v":0.16792367011108406},{"$f":"(1-Sorcadins!$L$351)^K78","v":0.13014084433609016},{"$f":"(1-Sorcadins!$L$351)^L78","v":0.10085915436046988},{"$f":"(1-Sorcadins!$L$351)^M78","v":0.07816584462936416}]
[null,"expectation given n rounds",null,{"$f":"D78*D80","v":0.775},{"$f":"D78*D79+E78*E80","v":1.375625},{"$f":"D78*D79+E78*E79+F78*F80","v":1.8411093750000003},{"$f":"D78*D79+E78*E79+F78*F79+G78*G80","v":2.2018597656250005},{"$f":"D78*D79+E78*E79+F78*F79+G78*G79+H78*H80","v":2.4814413183593755},{"$f":"D78*D79+E78*E79+F78*F79+G78*G79+H78*H79+I78*I80","v":2.698117021728516},{"$f":"D78*D79+E78*E79+F78*F79+G78*G79+H78*H79+I78*I79+J78*J80","v":2.8660406918396},{"$f":"D78*D79+E78*E79+F78*F79+G78*G79+H78*H79+I78*I79+J78*J79+K78*K80","v":2.9961815361756905},{"$f":"D78*D79+E78*E79+F78*F79+G78*G79+H78*H79+I78*I79+J78*J79+K78*K79+L78*L80","v":3.0970406905361605},{"$f":"D78*D79+E78*E79+F78*F79+G78*G79+H78*H79+I78*I79+J78*J79+K78*K79+L78*L79+M78*M80","v":3.1752065351655245}]
[]
[null,"LEVEL 9",{"$nulls":5},"Fight Duration:"]
[null,"for Character",null,1,2,3,4,5,6,7,8,9,10]
[null,"prob given another round",null,{"$f":"(1-Sorcadins!$M$350)^D84*Sorcadins!$M$350","v":0.21},{"$f":"(1-Sorcadins!$M$350)^E84*Sorcadins!$M$350","v":0.14699999999999996},{"$f":"(1-Sorcadins!$M$350)^F84*Sorcadins!$M$350","v":0.10289999999999998},{"$f":"(1-Sorcadins!$M$350)^G84*Sorcadins!$M$350","v":0.07202999999999997},{"$f":"(1-Sorcadins!$M$350)^H84*Sorcadins!$M$350","v":0.05042099999999998},{"$f":"(1-Sorcadins!$M$350)^I84*Sorcadins!$M$350","v":0.035294699999999984},{"$f":"(1-Sorcadins!$M$350)^J84*Sorcadins!$M$350","v":0.024706289999999985},{"$f":"(1-Sorcadins!$M$350)^K84*Sorcadins!$M$350","v":0.01729440299999999},{"$f":"(1-Sorcadins!$M$350)^L84*Sorcadins!$M$350","v":0.012106082099999992},{"$f":"(1-Sorcadins!$M$350)^M84*Sorcadins!$M$350","v":0.008474257469999994}]
[null,"prob given last round",null,{"$f":"(1-Sorcadins!$M$350)^D84","v":0.7},{"$f":"(1-Sorcadins!$M$350)^E84","v":0.48999999999999994},{"$f":"(1-Sorcadins!$M$350)^F84","v":0.3429999999999999},{"$f":"(1-Sorcadins!$M$350)^G84","v":0.24009999999999992},{"$f":"(1-Sorcadins!$M$350)^H84","v":0.16806999999999994},{"$f":"(1-Sorcadins!$M$350)^I84","v":0.11764899999999995},{"$f":"(1-Sorcadins!$M$350)^J84","v":0.08235429999999995},{"$f":"(1-Sorcadins!$M$350)^K84","v":0.057648009999999965},{"$f":"(1-Sorcadins!$M$350)^L84","v":0.04035360699999997},{"$f":"(1-Sorcadins!$M$350)^M84","v":0.02824752489999998}]
[null,"expectation given n rounds",null,{"$f":"D84*D86","v":0.7},{"$f":"D84*D85+E84*E86","v":1.19},{"$f":"D84*D85+E84*E85+F84*F86","v":1.5329999999999995},{"$f":"D84*D85+E84*E85+F84*F85+G84*G86","v":1.7730999999999995},{"$f":"D84*D85+E84*E85+F84*F85+G84*G85+H84*H86","v":1.9411699999999994},{"$f":"D84*D85+E84*E85+F84*F85+G84*G85+H84*H85+I84*I86","v":2.0588189999999993},{"$f":"D84*D85+E84*E85+F84*F85+G84*G85+H84*H85+I84*I85+J84*J86","v":2.141173299999999},{"$f":"D84*D85+E84*E85+F84*F85+G84*G85+H84*H85+I84*I85+J84*J85+K84*K86","v":2.1988213099999987},{"$f":"D84*D85+E84*E85+F84*F85+G84*G85+H84*H85+I84*I85+J84*J85+K84*K85+L84*L86","v":2.239174916999999},{"$f":"D84*D85+E84*E85+F84*F85+G84*G85+H84*H85+I84*I85+J84*J85+K84*K85+L84*L85+M84*M86","v":2.2674224418999986}]
[null,"for Character, Defensive",null,1,2,3,4,5,6,7,8,9,10]
[null,"prob given another round",null,{"$f":"(1-Sorcadins!$M$351)^D88*Sorcadins!$M$351","v":0.17437499999999997},{"$f":"(1-Sorcadins!$M$351)^E88*Sorcadins!$M$351","v":0.13514062500000001},{"$f":"(1-Sorcadins!$M$351)^F88*Sorcadins!$M$351","v":0.104733984375},{"$f":"(1-Sorcadins!$M$351)^G88*Sorcadins!$M$351","v":0.08116883789062501},{"$f":"(1-Sorcadins!$M$351)^H88*Sorcadins!$M$351","v":0.06290584936523438},{"$f":"(1-Sorcadins!$M$351)^I88*Sorcadins!$M$351","v":0.04875203325805666},{"$f":"(1-Sorcadins!$M$351)^J88*Sorcadins!$M$351","v":0.03778282577499391},{"$f":"(1-Sorcadins!$M$351)^K88*Sorcadins!$M$351","v":0.029281689975620282},{"$f":"(1-Sorcadins!$M$351)^L88*Sorcadins!$M$351","v":0.022693309731105723},{"$f":"(1-Sorcadins!$M$351)^M88*Sorcadins!$M$351","v":0.017587315041606932}]
[null,"prob given last round",null,{"$f":"(1-Sorcadins!$M$351)^D88","v":0.775},{"$f":"(1-Sorcadins!$M$351)^E88","v":0.6006250000000001},{"$f":"(1-Sorcadins!$M$351)^F88","v":0.46548437500000006},{"$f":"(1-Sorcadins!$M$351)^G88","v":0.3607503906250001},{"$f":"(1-Sorcadins!$M$351)^H88","v":0.27958155273437507},{"$f":"(1-Sorcadins!$M$351)^I88","v":0.21667570336914072},{"$f":"(1-Sorcadins!$M$351)^J88","v":0.16792367011108406},{"$f":"(1-Sorcadins!$M$351)^K88","v":0.13014084433609016},{"$f":"(1-Sorcadins!$M$351)^L88","v":0.10085915436046988},{"$f":"(1-Sorcadins!$M$351)^M88","v":0.07816584462936416}]
[null,"expectation given n rounds",null,{"$f":"D88*D90","v":0.775},{"$f":"D88*D89+E88*E90","v":1.375625},{"$f":"D88*D89+E88*E89+F88*F90","v":1.8411093750000003},{"$f":"D88*D89+E88*E89+F88*F89+G88*G90","v":2.2018597656250005},{"$f":"D88*D89+E88*E89+F88*F89+G88*G89+H88*H90","v":2.4814413183593755},{"$f":"D88*D89+E88*E89+F88*F89+G88*G89+H88*H89+I88*I90","v":2.698117021728516},{"$f":"D88*D89+E88*E89+F88*F89+G88*G89+H88*H89+I88*I89+J88*J90","v":2.8660406918396},{"$f":"D88*D89+E88*E89+F88*F89+G88*G89+H88*H89+I88*I89+J88*J89+K88*K90","v":2.9961815361756905},{"$f":"D88*D89+E88*E89+F88*F89+G88*G89+H88*H89+I88*I89+J88*J89+K88*K89+L88*L90","v":3.0970406905361605},{"$f":"D88*D89+E88*E89+F88*F89+G88*G89+H88*H89+I88*I89+J88*J89+K88*K89+L88*L89+M88*M90","v":3.1752065351655245}]
[]
[null,"LEVEL 10",{"$nulls":5},"Fight Duration:"]
[null,"for Character",null,1,2,3,4,5,6,7,8,9,10]
[null,"prob given another round",null,{"$f":"(1-Sorcadins!$N$350)^D94*Sorcadins!$N$350","v":0.21},{"$f":"(1-Sorcadins!$N$350)^E94*Sorcadins!$N$350","v":0.14699999999999996},{"$f":"(1-Sorcadins!$N$350)^F94*Sorcadins!$N$350","v":0.10289999999999998},{"$f":"(1-Sorcadins!$N$350)^G94*Sorcadins!$N$350","v":0.07202999999999997},{"$f":"(1-Sorcadins!$N$350)^H94*Sorcadins!$N$350","v":0.05042099999999998},{"$f":"(1-Sorcadins!$N$350)^I94*Sorcadins!$N$350","v":0.035294699999999984},{"$f":"(1-Sorcadins!$N$350)^J94*Sorcadins!$N$350","v":0.024706289999999985},{"$f":"(1-Sorcadins!$N$350)^K94*Sorcadins!$N$350","v":0.01729440299999999},{"$f":"(1-Sorcadins!$N$350)^L94*Sorcadins!$N$350","v":0.012106082099999992},{"$f":"(1-Sorcadins!$N$350)^M94*Sorcadins!$N$350","v":0.008474257469999994}]
[null,"prob given last round",null,{"$f":"(1-Sorcadins!$N$350)^D94","v":0.7},{"$f":"(1-Sorcadins!$N$350)^E94","v":0.48999999999999994},{"$f":"(1-Sorcadins!$N$350)^F94","v":0.3429999999999999},{"$f":"(1-Sorcadins!$N$350)^G94","v":0.24009999999999992},{"$f":"(1-Sorcadins!$N$350)^H94","v":0.16806999999999994},{"$f":"(1-Sorcadins!$N$350)^I94","v":0.11764899999999995},{"$f":"(1-Sorcadins!$N$350)^J94","v":0.08235429999999995},{"$f":"(1-Sorcadins!$N$350)^K94","v":0.057648009999999965},{"$f":"(1-Sorcadins!$N$350)^L94","v":0.04035360699999997},{"$f":"(1-Sorcadins!$N$350)^M94","v":0.02824752489999998}]
[null,"expectation given n rounds",null,{"$f":"D94*D96","v":0.7},{"$f":"D94*D95+E94*E96","v":1.19},{"$f":"D94*D95+E94*E95+F94*F96","v":1.5329999999999995},{"$f":"D94*D95+E94*E95+F94*F95+G94*G96","v":1.7730999999999995},{"$f":"D94*D95+E94*E95+F94*F95+G94*G95+H94*H96","v":1.9411699999999994},{"$f":"D94*D95+E94*E95+F94*F95+G94*G95+H94*H95+I94*I96","v":2.0588189999999993},{"$f":"D94*D95+E94*E95+F94*F95+G94*G95+H94*H95+I94*I95+J94*J96","v":2.141173299999999},{"$f":"D94*D95+E94*E95+F94*F95+G94*G95+H94*H95+I94*I95+J94*J95+K94*K96","v":2.1988213099999987},{"$f":"D94*D95+E94*E95+F94*F95+G94*G95+H94*H95+I94*I95+J94*J95+K94*K95+L94*L96","v":2.239174916999999},{"$f":"D94*D95+E94*E95+F94*F95+G94*G95+H94*H95+I94*I95+J94*J95+K94*K95+L94*L95+M94*M96","v":2.2674224418999986}]
[null,"for Character, Defensive",null,1,2,3,4,5,6,7,8,9,10]
[null,"prob given another round",null,{"$f":"(1-Sorcadins!$N$351)^D98*Sorcadins!$N$351","v":0.17437499999999997},{"$f":"(1-Sorcadins!$N$351)^E98*Sorcadins!$N$351","v":0.13514062500000001},{"$f":"(1-Sorcadins!$N$351)^F98*Sorcadins!$N$351","v":0.104733984375},{"$f":"(1-Sorcadins!$N$351)^G98*Sorcadins!$N$351","v":0.08116883789062501},{"$f":"(1-Sorcadins!$N$351)^H98*Sorcadins!$N$351","v":0.06290584936523438},{"$f":"(1-Sorcadins!$N$351)^I98*Sorcadins!$N$351","v":0.04875203325805666},{"$f":"(1-Sorcadins!$N$351)^J98*Sorcadins!$N$351","v":0.03778282577499391},{"$f":"(1-Sorcadins!$N$351)^K98*Sorcadins!$N$351","v":0.029281689975620282},{"$f":"(1-Sorcadins!$N$351)^L98*Sorcadins!$N$351","v":0.022693309731105723},{"$f":"(1-Sorcadins!$N$351)^M98*Sorcadins!$N$351","v":0.017587315041606932}]
[null,"prob given last round",null,{"$f":"(1-Sorcadins!$N$351)^D98","v":0.775},{"$f":"(1-Sorcadins!$N$351)^E98","v":0.6006250000000001},{"$f":"(1-Sorcadins!$N$351)^F98","v":0.46548437500000006},{"$f":"(1-Sorcadins!$N$351)^G98","v":0.3607503906250001},{"$f":"(1-Sorcadins!$N$351)^H98","v":0.27958155273437507},{"$f":"(1-Sorcadins!$N$351)^I98","v":0.21667570336914072},{"$f":"(1-Sorcadins!$N$351)^J98","v":0.16792367011108406},{"$f":"(1-Sorcadins!$N$351)^K98","v":0.13014084433609016},{"$f":"(1-Sorcadins!$N$351)^L98","v":0.10085915436046988},{"$f":"(1-Sorcadins!$N$351)^M98","v":0.07816584462936416}]
[null,"expectation given n rounds",null,{"$f":"D98*D100","v":0.775},{"$f":"D98*D99+E98*E100","v":1.375625},{"$f":"D98*D99+E98*E99+F98*F100","v":1.8411093750000003},{"$f":"D98*D99+E98*E99+F98*F99+G98*G100","v":2.2018597656250005},{"$f":"D98*D99+E98*E99+F98*F99+G98*G99+H98*H100","v":2.4814413183593755},{"$f":"D98*D99+E98*E99+F98*F99+G98*G99+H98*H99+I98*I100","v":2.698117021728516},{"$f":"D98*D99+E98*E99+F98*F99+G98*G99+H98*H99+I98*I99+J98*J100","v":2.8660406918396},{"$f":"D98*D99+E98*E99+F98*F99+G98*G99+H98*H99+I98*I99+J98*J99+K98*K100","v":2.9961815361756905},{"$f":"D98*D99+E98*E99+F98*F99+G98*G99+H98*H99+I98*I99+J98*J99+K98*K99+L98*L100","v":3.0970406905361605},{"$f":"D98*D99+E98*E99+F98*F99+G98*G99+H98*H99+I98*I99+J98*J99+K98*K99+L98*L99+M98*M100","v":3.1752065351655245}]
[]
[null,"LEVEL 11",{"$nulls":5},"Fight Duration:"]
[null,"for Character",null,1,2,3,4,5,6,7,8,9,10]
[null,"prob given another round",null,{"$f":"(1-Sorcadins!$O$350)^D104*Sorcadins!$O$350","v":0.21},{"$f":"(1-Sorcadins!$O$350)^E104*Sorcadins!$O$350","v":0.14699999999999996},{"$f":"(1-Sorcadins!$O$350)^F104*Sorcadins!$O$350","v":0.10289999999999998},{"$f":"(1-Sorcadins!$O$350)^G104*Sorcadins!$O$350","v":0.07202999999999997},{"$f":"(1-Sorcadins!$O$350)^H104*Sorcadins!$O$350","v":0.05042099999999998},{"$f":"(1-Sorcadins!$O$350)^I104*Sorcadins!$O$350","v":0.035294699999999984},{"$f":"(1-Sorcadins!$O$350)^J104*Sorcadins!$O$350","v":0.024706289999999985},{"$f":"(1-Sorcadins!$O$350)^K104*Sorcadins!$O$350","v":0.01729440299999999},{"$f":"(1-Sorcadins!$O$350)^L104*Sorcadins!$O$350","v":0.012106082099999992},{"$f":"(1-Sorcadins!$O$350)^M104*Sorcadins!$O$350","v":0.008474257469999994}]
[null,"prob given last round",null,{"$f":"(1-Sorcadins!$O$350)^D104","v":0.7},{"$f":"(1-Sorcadins!$O$350)^E104","v":0.48999999999999994},{"$f":"(1-Sorcadins!$O$350)^F104","v":0.3429999999999999},{"$f":"(1-Sorcadins!$O$350)^G104","v":0.24009999999999992},{"$f":"(1-Sorcadins!$O$350)^H104","v":0.16806999999999994},{"$f":"(1-Sorcadins!$O$350)^I104","v":0.11764899999999995},{"$f":"(1-Sorcadins!$O$350)^J104","v":0.08235429999999995},{"$f":"(1-Sorcadins!$O$350)^K104","v":0.057648009999999965},{"$f":"(1-Sorcadins!$O$350)^L104","v":0.04035360699999997},{"$f":"(1-Sorcadins!$O$350)^M104","v":0.02824752489999998}]
[null,"expectation given n rounds",null,{"$f":"D104*D106","v":0.7},{"$f":"D104*D105+E104*E106","v":1.19},{"$f":"D104*D105+E104*E105+F104*F106","v":1.5329999999999995},{"$f":"D104*D105+E104*E105+F104*F105+G104*G106","v":1.7730999999999995},{"$f":"D104*D105+E104*E105+F104*F105+G104*G105+H104*H106","v":1.9411699999999994},{"$f":"D104*D105+E104*E105+F104*F105+G104*G105+H104*H105+I104*I106","v":2.0588189999999993},{"$f":"D104*D105+E104*E105+F104*F105+G104*G105+H104*H105+I104*I105+J104*J106","v":2.141173299999999},{"$f":"D104*D105+E104*E105+F104*F105+G104*G105+H104*H105+I104*I105+J104*J105+K104*K106","v":2.1988213099999987},{"$f":"D104*D105+E104*E105+F104*F105+G104*G105+H104*H105+I104*I105+J104*J105+K104*K105+L104*L106","v":2.239174916999999},{"$f":"D104*D105+E104*E105+F104*F105+G104*G105+H104*H105+I104*I105+J104*J105+K104*K105+L104*L105+M104*M106","v":2.2674224418999986}]
[null,"for Character, Defensive",null,1,2,3,4,5,6,7,8,9,10]
[null,"prob given another round",null,{"$f":"(1-Sorcadins!$O$351)^D108*Sorcadins!$O$351","v":0.17437499999999997},{"$f":"(1-Sorcadins!$O$351)^E108*Sorcadins!$O$351","v":0.13514062500000001},{"$f":"(1-Sorcadins!$O$351)^F108*Sorcadins!$O$351","v":0.104733984375},{"$f":"(1-Sorcadins!$O$351)^G108*Sorcadins!$O$351","v":0.08116883789062501},{"$f":"(1-Sorcadins!$O$351)^H108*Sorcadins!$O$351","v":0.06290584936523438},{"$f":"(1-Sorcadins!$O$351)^I108*Sorcadins!$O$351","v":0.04875203325805666},{"$f":"(1-Sorcadins!$O$351)^J108*Sorcadins!$O$351","v":0.03778282577499391},{"$f":"(1-Sorcadins!$O$351)^K108*Sorcadins!$O$351","v":0.029281689975620282},{"$f":"(1-Sorcadins!$O$351)^L108*Sorcadins!$O$351","v":0.022693309731105723},{"$f":"(1-Sorcadins!$O$351)^M108*Sorcadins!$O$351","v":0.017587315041606932}]
[null,"prob given last round",null,{"$f":"(1-Sorcadins!$O$351)^D108","v":0.775},{"$f":"(1-Sorcadins!$O$351)^E108","v":0.6006250000000001},{"$f":"(1-Sorcadins!$O$351)^F108","v":0.46548437500000006},{"$f":"(1-Sorcadins!$O$351)^G108","v":0.3607503906250001},{"$f":"(1-Sorcadins!$O$351)^H108","v":0.27958155273437507},{"$f":"(1-Sorcadins!$O$351)^I108","v":0.21667570336914072},{"$f":"(1-Sorcadins!$O$351)^J108","v":0.16792367011108406},{"$f":"(1-Sorcadins!$O$351)^K108","v":0.13014084433609016},{"$f":"(1-Sorcadins!$O$351)^L108","v":0.10085915436046988},{"$f":"(1-Sorcadins!$O$351)^M108","v":0.07816584462936416}]
[null,"expectation given n rounds",null,{"$f":"D108*D110","v":0.775},{"$f":"D108*D109+E108*E110","v":1.375625},{"$f":"D108*D109+E108*E109+F108*F110","v":1.8411093750000003},{"$f":"D108*D109+E108*E109+F108*F109+G108*G110","v":2.2018597656250005},{"$f":"D108*D109+E108*E109+F108*F109+G108*G109+H108*H110","v":2.4814413183593755},{"$f":"D108*D109+E108*E109+F108*F109+G108*G109+H108*H109+I108*I110","v":2.698117021728516},{"$f":"D108*D109+E108*E109+F108*F109+G108*G109+H108*H109+I108*I109+J108*J110","v":2.8660406918396},{"$f":"D108*D109+E108*E109+F108*F109+G108*G109+H108*H109+I108*I109+J108*J109+K108*K110","v":2.9961815361756905},{"$f":"D108*D109+E108*E109+F108*F109+G108*G109+H108*H109+I108*I109+J108*J109+K108*K109+L108*L110","v":3.0970406905361605},{"$f":"D108*D109+E108*E109+F108*F109+G108*G109+H108*H109+I108*I109+J108*J109+K108*K109+L108*L109+M108*M110","v":3.1752065351655245}]
[]
[null,"LEVEL 12",{"$nulls":5},"Fight Duration:"]
[null,"for Character",null,1,2,3,4,5,6,7,8,9,10]
[null,"prob given another round",null,{"$f":"(1-Sorcadins!$P$350)^D114*Sorcadins!$P$350","v":0.21},{"$f":"(1-Sorcadins!$P$350)^E114*Sorcadins!$P$350","v":0.14699999999999996},{"$f":"(1-Sorcadins!$P$350)^F114*Sorcadins!$P$350","v":0.10289999999999998},{"$f":"(1-Sorcadins!$P$350)^G114*Sorcadins!$P$350","v":0.07202999999999997},{"$f":"(1-Sorcadins!$P$350)^H114*Sorcadins!$P$350","v":0.05042099999999998},{"$f":"(1-Sorcadins!$P$350)^I114*Sorcadins!$P$350","v":0.035294699999999984},{"$f":"(1-Sorcadins!$P$350)^J114*Sorcadins!$P$350","v":0.024706289999999985},{"$f":"(1-Sorcadins!$P$350)^K114*Sorcadins!$P$350","v":0.01729440299999999},{"$f":"(1-Sorcadins!$P$350)^L114*Sorcadins!$P$350","v":0.012106082099999992},{"$f":"(1-Sorcadins!$P$350)^M114*Sorcadins!$P$350","v":0.008474257469999994}]
[null,"prob given last round",null,{"$f":"(1-Sorcadins!$P$350)^D114","v":0.7},{"$f":"(1-Sorcadins!$P$350)^E114","v":0.48999999999999994},{"$f":"(1-Sorcadins!$P$350)^F114","v":0.3429999999999999},{"$f":"(1-Sorcadins!$P$350)^G114","v":0.24009999999999992},{"$f":"(1-Sorcadins!$P$350)^H114","v":0.16806999999999994},{"$f":"(1-Sorcadins!$P$350)^I114","v":0.11764899999999995},{"$f":"(1-Sorcadins!$P$350)^J114","v":0.08235429999999995},{"$f":"(1-Sorcadins!$P$350)^K114","v":0.057648009999999965},{"$f":"(1-Sorcadins!$P$350)^L114","v":0.04035360699999997},{"$f":"(1-Sorcadins!$P$350)^M114","v":0.02824752489999998}]
[null,"expectation given n rounds",null,{"$f":"D114*D116","v":0.7},{"$f":"D114*D115+E114*E116","v":1.19},{"$f":"D114*D115+E114*E115+F114*F116","v":1.5329999999999995},{"$f":"D114*D115+E114*E115+F114*F115+G114*G116","v":1.7730999999999995},{"$f":"D114*D115+E114*E115+F114*F115+G114*G115+H114*H116","v":1.9411699999999994},{"$f":"D114*D115+E114*E115+F114*F115+G114*G115+H114*H115+I114*I116","v":2.0588189999999993},{"$f":"D114*D115+E114*E115+F114*F115+G114*G115+H114*H115+I114*I115+J114*J116","v":2.141173299999999},{"$f":"D114*D115+E114*E115+F114*F115+G114*G115+H114*H115+I114*I115+J114*J115+K114*K116","v":2.1988213099999987},{"$f":"D114*D115+E114*E115+F114*F115+G114*G115+H114*H115+I114*I115+J114*J115+K114*K115+L114*L116","v":2.239174916999999},{"$f":"D114*D115+E114*E115+F114*F115+G114*G115+H114*H115+I114*I115+J114*J115+K114*K115+L114*L115+M114*M116","v":2.2674224418999986}]
[null,"for Character, Defensive",null,1,2,3,4,5,6,7,8,9,10]
[null,"prob given another round",null,{"$f":"(1-Sorcadins!$P$351)^D118*Sorcadins!$P$351","v":0.17437499999999997},{"$f":"(1-Sorcadins!$P$351)^E118*Sorcadins!$P$351","v":0.13514062500000001},{"$f":"(1-Sorcadins!$P$351)^F118*Sorcadins!$P$351","v":0.104733984375},{"$f":"(1-Sorcadins!$P$351)^G118*Sorcadins!$P$351","v":0.08116883789062501},{"$f":"(1-Sorcadins!$P$351)^H118*Sorcadins!$P$351","v":0.06290584936523438},{"$f":"(1-Sorcadins!$P$351)^I118*Sorcadins!$P$351","v":0.04875203325805666},{"$f":"(1-Sorcadins!$P$351)^J118*Sorcadins!$P$351","v":0.03778282577499391},{"$f":"(1-Sorcadins!$P$351)^K118*Sorcadins!$P$351","v":0.029281689975620282},{"$f":"(1-Sorcadins!$P$351)^L118*Sorcadins!$P$351","v":0.022693309731105723},{"$f":"(1-Sorcadins!$P$351)^M118*Sorcadins!$P$351","v":0.017587315041606932}]
[null,"prob given last round",null,{"$f":"(1-Sorcadins!$P$351)^D118","v":0.775},{"$f":"(1-Sorcadins!$P$351)^E118","v":0.6006250000000001},{"$f":"(1-Sorcadins!$P$351)^F118","v":0.46548437500000006},{"$f":"(1-Sorcadins!$P$351)^G118","v":0.3607503906250001},{"$f":"(1-Sorcadins!$P$351)^H118","v":0.27958155273437507},{"$f":"(1-Sorcadins!$P$351)^I118","v":0.21667570336914072},{"$f":"(1-Sorcadins!$P$351)^J118","v":0.16792367011108406},{"$f":"(1-Sorcadins!$P$351)^K118","v":0.13014084433609016},{"$f":"(1-Sorcadins!$P$351)^L118","v":0.10085915436046988},{"$f":"(1-Sorcadins!$P$351)^M118","v":0.07816584462936416}]
[null,"expectation given n rounds",null,{"$f":"D118*D120","v":0.775},{"$f":"D118*D119+E118*E120","v":1.375625},{"$f":"D118*D119+E118*E119+F118*F120","v":1.8411093750000003},{"$f":"D118*D119+E118*E119+F118*F119+G118*G120","v":2.2018597656250005},{"$f":"D118*D119+E118*E119+F118*F119+G118*G119+H118*H120","v":2.4814413183593755},{"$f":"D118*D119+E118*E119+F118*F119+G118*G119+H118*H119+I118*I120","v":2.698117021728516},{"$f":"D118*D119+E118*E119+F118*F119+G118*G119+H118*H119+I118*I119+J118*J120","v":2.8660406918396},{"$f":"D118*D119+E118*E119+F118*F119+G118*G119+H118*H119+I118*I119+J118*J119+K118*K120","v":2.9961815361756905},{"$f":"D118*D119+E118*E119+F118*F119+G118*G119+H118*H119+I118*I119+J118*J119+K118*K119+L118*L120","v":3.0970406905361605},{"$f":"D118*D119+E118*E119+F118*F119+G118*G119+H118*H119+I118*I119+J118*J119+K118*K119+L118*L119+M118*M120","v":3.1752065351655245}]
[]
[null,"LEVEL 13",{"$nulls":5},"Fight Duration:"]
[null,"for Character",null,1,2,3,4,5,6,7,8,9,10]
[null,"prob given another round",null,{"$f":"(1-Sorcadins!$Q$350)^D124*Sorcadins!$Q$350","v":0.21},{"$f":"(1-Sorcadins!$Q$350)^E124*Sorcadins!$Q$350","v":0.14699999999999996},{"$f":"(1-Sorcadins!$Q$350)^F124*Sorcadins!$Q$350","v":0.10289999999999998},{"$f":"(1-Sorcadins!$Q$350)^G124*Sorcadins!$Q$350","v":0.07202999999999997},{"$f":"(1-Sorcadins!$Q$350)^H124*Sorcadins!$Q$350","v":0.05042099999999998},{"$f":"(1-Sorcadins!$Q$350)^I124*Sorcadins!$Q$350","v":0.035294699999999984},{"$f":"(1-Sorcadins!$Q$350)^J124*Sorcadins!$Q$350","v":0.024706289999999985},{"$f":"(1-Sorcadins!$Q$350)^K124*Sorcadins!$Q$350","v":0.01729440299999999},{"$f":"(1-Sorcadins!$Q$350)^L124*Sorcadins!$Q$350","v":0.012106082099999992},{"$f":"(1-Sorcadins!$Q$350)^M124*Sorcadins!$Q$350","v":0.008474257469999994}]
[null,"prob given last round",null,{"$f":"(1-Sorcadins!$Q$350)^D124","v":0.7},{"$f":"(1-Sorcadins!$Q$350)^E124","v":0.48999999999999994},{"$f":"(1-Sorcadins!$Q$350)^F124","v":0.3429999999999999},{"$f":"(1-Sorcadins!$Q$350)^G124","v":0.24009999999999992},{"$f":"(1-Sorcadins!$Q$350)^H124","v":0.16806999999999994},{"$f":"(1-Sorcadins!$Q$350)^I124","v":0.11764899999999995},{"$f":"(1-Sorcadins!$Q$350)^J124","v":0.08235429999999995},{"$f":"(1-Sorcadins!$Q$350)^K124","v":0.057648009999999965},{"$f":"(1-Sorcadins!$Q$350)^L124","v":0.04035360699999997},{"$f":"(1-Sorcadins!$Q$350)^M124","v":0.02824752489999998}]
[null,"expectation given n rounds",null,{"$f":"D124*D126","v":0.7},{"$f":"D124*D125+E124*E126","v":1.19},{"$f":"D124*D125+E124*E125+F124*F126","v":1.5329999999999995},{"$f":"D124*D125+E124*E125+F124*F125+G124*G126","v":1.7730999999999995},{"$f":"D124*D125+E124*E125+F124*F125+G124*G125+H124*H126","v":1.9411699999999994},{"$f":"D124*D125+E124*E125+F124*F125+G124*G125+H124*H125+I124*I126","v":2.0588189999999993},{"$f":"D124*D125+E124*E125+F124*F125+G124*G125+H124*H125+I124*I125+J124*J126","v":2.141173299999999},{"$f":"D124*D125+E124*E125+F124*F125+G124*G125+H124*H125+I124*I125+J124*J125+K124*K126","v":2.1988213099999987},{"$f":"D124*D125+E124*E125+F124*F125+G124*G125+H124*H125+I124*I125+J124*J125+K124*K125+L124*L126","v":2.239174916999999},{"$f":"D124*D125+E124*E125+F124*F125+G124*G125+H124*H125+I124*I125+J124*J125+K124*K125+L124*L125+M124*M126","v":2.2674224418999986}]
[null,"for Character, Defensive",null,1,2,3,4,5,6,7,8,9,10]
[null,"prob given another round",null,{"$f":"(1-Sorcadins!$Q$351)^D128*Sorcadins!$Q$351","v":0.17437499999999997},{"$f":"(1-Sorcadins!$Q$351)^E128*Sorcadins!$Q$351","v":0.13514062500000001},{"$f":"(1-Sorcadins!$Q$351)^F128*Sorcadins!$Q$351","v":0.104733984375},{"$f":"(1-Sorcadins!$Q$351)^G128*Sorcadins!$Q$351","v":0.08116883789062501},{"$f":"(1-Sorcadins!$Q$351)^H128*Sorcadins!$Q$351","v":0.06290584936523438},{"$f":"(1-Sorcadins!$Q$351)^I128*Sorcadins!$Q$351","v":0.04875203325805666},{"$f":"(1-Sorcadins!$Q$351)^J128*Sorcadins!$Q$351","v":0.03778282577499391},{"$f":"(1-Sorcadins!$Q$351)^K128*Sorcadins!$Q$351","v":0.029281689975620282},{"$f":"(1-Sorcadins!$Q$351)^L128*Sorcadins!$Q$351","v":0.022693309731105723},{"$f":"(1-Sorcadins!$Q$351)^M128*Sorcadins!$Q$351","v":0.017587315041606932}]
[null,"prob given last round",null,{"$f":"(1-Sorcadins!$Q$351)^D128","v":0.775},{"$f":"(1-Sorcadins!$Q$351)^E128","v":0.6006250000000001},{"$f":"(1-Sorcadins!$Q$351)^F128","v":0.46548437500000006},{"$f":"(1-Sorcadins!$Q$351)^G128","v":0.3607503906250001},{"$f":"(1-Sorcadins!$Q$351)^H128","v":0.27958155273437507},{"$f":"(1-Sorcadins!$Q$351)^I128","v":0.21667570336914072},{"$f":"(1-Sorcadins!$Q$351)^J128","v":0.16792367011108406},{"$f":"(1-Sorcadins!$Q$351)^K128","v":0.13014084433609016},{"$f":"(1-Sorcadins!$Q$351)^L128","v":0.10085915436046988},{"$f":"(1-Sorcadins!$Q$351)^M128","v":0.07816584462936416}]
[null,"expectation given n rounds",null,{"$f":"D128*D130","v":0.775},{"$f":"D128*D129+E128*E130","v":1.375625},{"$f":"D128*D129+E128*E129+F128*F130","v":1.8411093750000003},{"$f":"D128*D129+E128*E129+F128*F129+G128*G130","v":2.2018597656250005},{"$f":"D128*D129+E128*E129+F128*F129+G128*G129+H128*H130","v":2.4814413183593755},{"$f":"D128*D129+E128*E129+F128*F129+G128*G129+H128*H129+I128*I130","v":2.698117021728516},{"$f":"D128*D129+E128*E129+F128*F129+G128*G129+H128*H129+I128*I129+J128*J130","v":2.8660406918396},{"$f":"D128*D129+E128*E129+F128*F129+G128*G129+H128*H129+I128*I129+J128*J129+K128*K130","v":2.9961815361756905},{"$f":"D128*D129+E128*E129+F128*F129+G128*G129+H128*H129+I128*I129+J128*J129+K128*K129+L128*L130","v":3.0970406905361605},{"$f":"D128*D129+E128*E129+F128*F129+G128*G129+H128*H129+I128*I129+J128*J129+K128*K129+L128*L129+M128*M130","v":3.1752065351655245}]
[]
[null,"LEVEL 14",{"$nulls":5},"Fight Duration:"]
[null,"for Character",null,1,2,3,4,5,6,7,8,9,10]
[null,"prob given another round",null,{"$f":"(1-Sorcadins!$R$350)^D134*Sorcadins!$R$350","v":0.21},{"$f":"(1-Sorcadins!$R$350)^E134*Sorcadins!$R$350","v":0.14699999999999996},{"$f":"(1-Sorcadins!$R$350)^F134*Sorcadins!$R$350","v":0.10289999999999998},{"$f":"(1-Sorcadins!$R$350)^G134*Sorcadins!$R$350","v":0.07202999999999997},{"$f":"(1-Sorcadins!$R$350)^H134*Sorcadins!$R$350","v":0.05042099999999998},{"$f":"(1-Sorcadins!$R$350)^I134*Sorcadins!$R$350","v":0.035294699999999984},{"$f":"(1-Sorcadins!$R$350)^J134*Sorcadins!$R$350","v":0.024706289999999985},{"$f":"(1-Sorcadins!$R$350)^K134*Sorcadins!$R$350","v":0.01729440299999999},{"$f":"(1-Sorcadins!$R$350)^L134*Sorcadins!$R$350","v":0.012106082099999992},{"$f":"(1-Sorcadins!$R$350)^M134*Sorcadins!$R$350","v":0.008474257469999994}]
[null,"prob given last round",null,{"$f":"(1-Sorcadins!$R$350)^D134","v":0.7},{"$f":"(1-Sorcadins!$R$350)^E134","v":0.48999999999999994},{"$f":"(1-Sorcadins!$R$350)^F134","v":0.3429999999999999},{"$f":"(1-Sorcadins!$R$350)^G134","v":0.24009999999999992},{"$f":"(1-Sorcadins!$R$350)^H134","v":0.16806999999999994},{"$f":"(1-Sorcadins!$R$350)^I134","v":0.11764899999999995},{"$f":"(1-Sorcadins!$R$350)^J134","v":0.08235429999999995},{"$f":"(1-Sorcadins!$R$350)^K134","v":0.057648009999999965},{"$f":"(1-Sorcadins!$R$350)^L134","v":0.04035360699999997},{"$f":"(1-Sorcadins!$R$350)^M134","v":0.02824752489999998}]
[null,"expectation given n rounds",null,{"$f":"D134*D136","v":0.7},{"$f":"D134*D135+E134*E136","v":1.19},{"$f":"D134*D135+E134*E135+F134*F136","v":1.5329999999999995},{"$f":"D134*D135+E134*E135+F134*F135+G134*G136","v":1.7730999999999995},{"$f":"D134*D135+E134*E135+F134*F135+G134*G135+H134*H136","v":1.9411699999999994},{"$f":"D134*D135+E134*E135+F134*F135+G134*G135+H134*H135+I134*I136","v":2.0588189999999993},{"$f":"D134*D135+E134*E135+F134*F135+G134*G135+H134*H135+I134*I135+J134*J136","v":2.141173299999999},{"$f":"D134*D135+E134*E135+F134*F135+G134*G135+H134*H135+I134*I135+J134*J135+K134*K136","v":2.1988213099999987},{"$f":"D134*D135+E134*E135+F134*F135+G134*G135+H134*H135+I134*I135+J134*J135+K134*K135+L134*L136","v":2.239174916999999},{"$f":"D134*D135+E134*E135+F134*F135+G134*G135+H134*H135+I134*I135+J134*J135+K134*K135+L134*L135+M134*M136","v":2.2674224418999986}]
[null,"for Character, Defensive",null,1,2,3,4,5,6,7,8,9,10]
[null,"prob given another round",null,{"$f":"(1-Sorcadins!$R$351)^D138*Sorcadins!$R$351","v":0.17437499999999997},{"$f":"(1-Sorcadins!$R$351)^E138*Sorcadins!$R$351","v":0.13514062500000001},{"$f":"(1-Sorcadins!$R$351)^F138*Sorcadins!$R$351","v":0.104733984375},{"$f":"(1-Sorcadins!$R$351)^G138*Sorcadins!$R$351","v":0.08116883789062501},{"$f":"(1-Sorcadins!$R$351)^H138*Sorcadins!$R$351","v":0.06290584936523438},{"$f":"(1-Sorcadins!$R$351)^I138*Sorcadins!$R$351","v":0.04875203325805666},{"$f":"(1-Sorcadins!$R$351)^J138*Sorcadins!$R$351","v":0.03778282577499391},{"$f":"(1-Sorcadins!$R$351)^K138*Sorcadins!$R$351","v":0.029281689975620282},{"$f":"(1-Sorcadins!$R$351)^L138*Sorcadins!$R$351","v":0.022693309731105723},{"$f":"(1-Sorcadins!$R$351)^M138*Sorcadins!$R$351","v":0.017587315041606932}]
[null,"prob given last round",null,{"$f":"(1-Sorcadins!$R$351)^D138","v":0.775},{"$f":"(1-Sorcadins!$R$351)^E138","v":0.6006250000000001},{"$f":"(1-Sorcadins!$R$351)^F138","v":0.46548437500000006},{"$f":"(1-Sorcadins!$R$351)^G138","v":0.3607503906250001},{"$f":"(1-Sorcadins!$R$351)^H138","v":0.27958155273437507},{"$f":"(1-Sorcadins!$R$351)^I138","v":0.21667570336914072},{"$f":"(1-Sorcadins!$R$351)^J138","v":0.16792367011108406},{"$f":"(1-Sorcadins!$R$351)^K138","v":0.13014084433609016},{"$f":"(1-Sorcadins!$R$351)^L138","v":0.10085915436046988},{"$f":"(1-Sorcadins!$R$351)^M138","v":0.07816584462936416}]
[null,"expectation given n rounds",null,{"$f":"D138*D140","v":0.775},{"$f":"D138*D139+E138*E140","v":1.375625},{"$f":"D138*D139+E138*E139+F138*F140","v":1.8411093750000003},{"$f":"D138*D139+E138*E139+F138*F139+G138*G140","v":2.2018597656250005},{"$f":"D138*D139+E138*E139+F138*F139+G138*G139+H138*H140","v":2.4814413183593755},{"$f":"D138*D139+E138*E139+F138*F139+G138*G139+H138*H139+I138*I140","v":2.698117021728516},{"$f":"D138*D139+E138*E139+F138*F139+G138*G139+H138*H139+I138*I139+J138*J140","v":2.8660406918396},{"$f":"D138*D139+E138*E139+F138*F139+G138*G139+H138*H139+I138*I139+J138*J139+K138*K140","v":2.9961815361756905},{"$f":"D138*D139+E138*E139+F138*F139+G138*G139+H138*H139+I138*I139+J138*J139+K138*K139+L138*L140","v":3.0970406905361605},{"$f":"D138*D139+E138*E139+F138*F139+G138*G139+H138*H139+I138*I139+J138*J139+K138*K139+L138*L139+M138*M140","v":3.1752065351655245}]
[]
[null,"LEVEL 15",{"$nulls":5},"Fight Duration:"]
[null,"for Character",null,1,2,3,4,5,6,7,8,9,10]
[null,"prob given another round",null,{"$f":"(1-Sorcadins!$S$350)^D144*Sorcadins!$S$350","v":0.21},{"$f":"(1-Sorcadins!$S$350)^E144*Sorcadins!$S$350","v":0.14699999999999996},{"$f":"(1-Sorcadins!$S$350)^F144*Sorcadins!$S$350","v":0.10289999999999998},{"$f":"(1-Sorcadins!$S$350)^G144*Sorcadins!$S$350","v":0.07202999999999997},{"$f":"(1-Sorcadins!$S$350)^H144*Sorcadins!$S$350","v":0.05042099999999998},{"$f":"(1-Sorcadins!$S$350)^I144*Sorcadins!$S$350","v":0.035294699999999984},{"$f":"(1-Sorcadins!$S$350)^J144*Sorcadins!$S$350","v":0.024706289999999985},{"$f":"(1-Sorcadins!$S$350)^K144*Sorcadins!$S$350","v":0.01729440299999999},{"$f":"(1-Sorcadins!$S$350)^L144*Sorcadins!$S$350","v":0.012106082099999992},{"$f":"(1-Sorcadins!$S$350)^M144*Sorcadins!$S$350","v":0.008474257469999994}]
[null,"prob given last round",null,{"$f":"(1-Sorcadins!$S$350)^D144","v":0.7},{"$f":"(1-Sorcadins!$S$350)^E144","v":0.48999999999999994},{"$f":"(1-Sorcadins!$S$350)^F144","v":0.3429999999999999},{"$f":"(1-Sorcadins!$S$350)^G144","v":0.24009999999999992},{"$f":"(1-Sorcadins!$S$350)^H144","v":0.16806999999999994},{"$f":"(1-Sorcadins!$S$350)^I144","v":0.11764899999999995},{"$f":"(1-Sorcadins!$S$350)^J144","v":0.08235429999999995},{"$f":"(1-Sorcadins!$S$350)^K144","v":0.057648009999999965},{"$f":"(1-Sorcadins!$S$350)^L144","v":0.04035360699999997},{"$f":"(1-Sorcadins!$S$350)^M144","v":0.02824752489999998}]
[null,"expectation given n rounds",null,{"$f":"D144*D146","v":0.7},{"$f":"D144*D145+E144*E146","v":1.19},{"$f":"D144*D145+E144*E145+F144*F146","v":1.5329999999999995},{"$f":"D144*D145+E144*E145+F144*F145+G144*G146","v":1.7730999999999995},{"$f":"D144*D145+E144*E145+F144*F145+G144*G145+H144*H146","v":1.9411699999999994},{"$f":"D144*D145+E144*E145+F144*F145+G144*G145+H144*H145+I144*I146","v":2.0588189999999993},{"$f":"D144*D145+E144*E145+F144*F145+G144*G145+H144*H145+I144*I145+J144*J146","v":2.141173299999999},{"$f":"D144*D145+E144*E145+F144*F145+G144*G145+H144*H145+I144*I145+J144*J145+K144*K146","v":2.1988213099999987},{"$f":"D144*D145+E144*E145+F144*F145+G144*G145+H144*H145+I144*I145+J144*J145+K144*K145+L144*L146","v":2.239174916999999},{"$f":"D144*D145+E144*E145+F144*F145+G144*G145+H144*H145+I144*I145+J144*J145+K144*K145+L144*L145+M144*M146","v":2.2674224418999986}]
[null,"for Character, Defensive",null,1,2,3,4,5,6,7,8,9,10]
[null,"prob given another round",null,{"$f":"(1-Sorcadins!$S$351)^D148*Sorcadins!$S$351","v":0.17437499999999997},{"$f":"(1-Sorcadins!$S$351)^E148*Sorcadins!$S$351","v":0.13514062500000001},{"$f":"(1-Sorcadins!$S$351)^F148*Sorcadins!$S$351","v":0.104733984375},{"$f":"(1-Sorcadins!$S$351)^G148*Sorcadins!$S$351","v":0.08116883789062501},{"$f":"(1-Sorcadins!$S$351)^H148*Sorcadins!$S$351","v":0.06290584936523438},{"$f":"(1-Sorcadins!$S$351)^I148*Sorcadins!$S$351","v":0.04875203325805666},{"$f":"(1-Sorcadins!$S$351)^J148*Sorcadins!$S$351","v":0.03778282577499391},{"$f":"(1-Sorcadins!$S$351)^K148*Sorcadins!$S$351","v":0.029281689975620282},{"$f":"(1-Sorcadins!$S$351)^L148*Sorcadins!$S$351","v":0.022693309731105723},{"$f":"(1-Sorcadins!$S$351)^M148*Sorcadins!$S$351","v":0.017587315041606932}]
[null,"prob given last round",null,{"$f":"(1-Sorcadins!$S$351)^D148","v":0.775},{"$f":"(1-Sorcadins!$S$351)^E148","v":0.6006250000000001},{"$f":"(1-Sorcadins!$S$351)^F148","v":0.46548437500000006},{"$f":"(1-Sorcadins!$S$351)^G148","v":0.3607503906250001},{"$f":"(1-Sorcadins!$S$351)^H148","v":0.27958155273437507},{"$f":"(1-Sorcadins!$S$351)^I148","v":0.21667570336914072},{"$f":"(1-Sorcadins!$S$351)^J148","v":0.16792367011108406},{"$f":"(1-Sorcadins!$S$351)^K148","v":0.13014084433609016},{"$f":"(1-Sorcadins!$S$351)^L148","v":0.10085915436046988},{"$f":"(1-Sorcadins!$S$351)^M148","v":0.07816584462936416}]
[null,"expectation given n rounds",null,{"$f":"D148*D150","v":0.775},{"$f":"D148*D149+E148*E150","v":1.375625},{"$f":"D148*D149+E148*E149+F148*F150","v":1.8411093750000003},{"$f":"D148*D149+E148*E149+F148*F149+G148*G150","v":2.2018597656250005},{"$f":"D148*D149+E148*E149+F148*F149+G148*G149+H148*H150","v":2.4814413183593755},{"$f":"D148*D149+E148*E149+F148*F149+G148*G149+H148*H149+I148*I150","v":2.698117021728516},{"$f":"D148*D149+E148*E149+F148*F149+G148*G149+H148*H149+I148*I149+J148*J150","v":2.8660406918396},{"$f":"D148*D149+E148*E149+F148*F149+G148*G149+H148*H149+I148*I149+J148*J149+K148*K150","v":2.9961815361756905},{"$f":"D148*D149+E148*E149+F148*F149+G148*G149+H148*H149+I148*I149+J148*J149+K148*K149+L148*L150","v":3.0970406905361605},{"$f":"D148*D149+E148*E149+F148*F149+G148*G149+H148*H149+I148*I149+J148*J149+K148*K149+L148*L149+M148*M150","v":3.1752065351655245}]
[]
[null,"LEVEL 16",{"$nulls":5},"Fight Duration:"]
[null,"for Character",null,1,2,3,4,5,6,7,8,9,10]
[null,"prob given another round",null,{"$f":"(1-Sorcadins!$T$350)^D154*Sorcadins!$T$350","v":0.21},{"$f":"(1-Sorcadins!$T$350)^E154*Sorcadins!$T$350","v":0.14699999999999996},{"$f":"(1-Sorcadins!$T$350)^F154*Sorcadins!$T$350","v":0.10289999999999998},{"$f":"(1-Sorcadins!$T$350)^G154*Sorcadins!$T$350","v":0.07202999999999997},{"$f":"(1-Sorcadins!$T$350)^H154*Sorcadins!$T$350","v":0.05042099999999998},{"$f":"(1-Sorcadins!$T$350)^I154*Sorcadins!$T$350","v":0.035294699999999984},{"$f":"(1-Sorcadins!$T$350)^J154*Sorcadins!$T$350","v":0.024706289999999985},{"$f":"(1-Sorcadins!$T$350)^K154*Sorcadins!$T$350","v":0.01729440299999999},{"$f":"(1-Sorcadins!$T$350)^L154*Sorcadins!$T$350","v":0.012106082099999992},{"$f":"(1-Sorcadins!$T$350)^M154*Sorcadins!$T$350","v":0.008474257469999994}]
[null,"prob given last round",null,{"$f":"(1-Sorcadins!$T$350)^D154","v":0.7},{"$f":"(1-Sorcadins!$T$350)^E154","v":0.48999999999999994},{"$f":"(1-Sorcadins!$T$350)^F154","v":0.3429999999999999},{"$f":"(1-Sorcadins!$T$350)^G154","v":0.24009999999999992},{"$f":"(1-Sorcadins!$T$350)^H154","v":0.16806999999999994},{"$f":"(1-Sorcadins!$T$350)^I154","v":0.11764899999999995},{"$f":"(1-Sorcadins!$T$350)^J154","v":0.08235429999999995},{"$f":"(1-Sorcadins!$T$350)^K154","v":0.057648009999999965},{"$f":"(1-Sorcadins!$T$350)^L154","v":0.04035360699999997},{"$f":"(1-Sorcadins!$T$350)^M154","v":0.02824752489999998}]
[null,"expectation given n rounds",null,{"$f":"D154*D156","v":0.7},{"$f":"D154*D155+E154*E156","v":1.19},{"$f":"D154*D155+E154*E155+F154*F156","v":1.5329999999999995},{"$f":"D154*D155+E154*E155+F154*F155+G154*G156","v":1.7730999999999995},{"$f":"D154*D155+E154*E155+F154*F155+G154*G155+H154*H156","v":1.9411699999999994},{"$f":"D154*D155+E154*E155+F154*F155+G154*G155+H154*H155+I154*I156","v":2.0588189999999993},{"$f":"D154*D155+E154*E155+F154*F155+G154*G155+H154*H155+I154*I155+J154*J156","v":2.141173299999999},{"$f":"D154*D155+E154*E155+F154*F155+G154*G155+H154*H155+I154*I155+J154*J155+K154*K156","v":2.1988213099999987},{"$f":"D154*D155+E154*E155+F154*F155+G154*G155+H154*H155+I154*I155+J154*J155+K154*K155+L154*L156","v":2.239174916999999},{"$f":"D154*D155+E154*E155+F154*F155+G154*G155+H154*H155+I154*I155+J154*J155+K154*K155+L154*L155+M154*M156","v":2.2674224418999986}]
[null,"for Character, Defensive",null,1,2,3,4,5,6,7,8,9,10]
[null,"prob given another round",null,{"$f":"(1-Sorcadins!$T$351)^D158*Sorcadins!$T$351","v":0.17437499999999997},{"$f":"(1-Sorcadins!$T$351)^E158*Sorcadins!$T$351","v":0.13514062500000001},{"$f":"(1-Sorcadins!$T$351)^F158*Sorcadins!$T$351","v":0.104733984375},{"$f":"(1-Sorcadins!$T$351)^G158*Sorcadins!$T$351","v":0.08116883789062501},{"$f":"(1-Sorcadins!$T$351)^H158*Sorcadins!$T$351","v":0.06290584936523438},{"$f":"(1-Sorcadins!$T$351)^I158*Sorcadins!$T$351","v":0.04875203325805666},{"$f":"(1-Sorcadins!$T$351)^J158*Sorcadins!$T$351","v":0.03778282577499391},{"$f":"(1-Sorcadins!$T$351)^K158*Sorcadins!$T$351","v":0.029281689975620282},{"$f":"(1-Sorcadins!$T$351)^L158*Sorcadins!$T$351","v":0.022693309731105723},{"$f":"(1-Sorcadins!$T$351)^M158*Sorcadins!$T$351","v":0.017587315041606932}]
[null,"prob given last round",null,{"$f":"(1-Sorcadins!$T$351)^D158","v":0.775},{"$f":"(1-Sorcadins!$T$351)^E158","v":0.6006250000000001},{"$f":"(1-Sorcadins!$T$351)^F158","v":0.46548437500000006},{"$f":"(1-Sorcadins!$T$351)^G158","v":0.3607503906250001},{"$f":"(1-Sorcadins!$T$351)^H158","v":0.27958155273437507},{"$f":"(1-Sorcadins!$T$351)^I158","v":0.21667570336914072},{"$f":"(1-Sorcadins!$T$351)^J158","v":0.16792367011108406},{"$f":"(1-Sorcadins!$T$351)^K158","v":0.13014084433609016},{"$f":"(1-Sorcadins!$T$351)^L158","v":0.10085915436046988},{"$f":"(1-Sorcadins!$T$351)^M158","v":0.07816584462936416}]
[null,"expectation given n rounds",null,{"$f":"D158*D160","v":0.775},{"$f":"D158*D159+E158*E160","v":1.375625},{"$f":"D158*D159+E158*E159+F158*F160","v":1.8411093750000003},{"$f":"D158*D159+E158*E159+F158*F159+G158*G160","v":2.2018597656250005},{"$f":"D158*D159+E158*E159+F158*F159+G158*G159+H158*H160","v":2.4814413183593755},{"$f":"D158*D159+E158*E159+F158*F159+G158*G159+H158*H159+I158*I160","v":2.698117021728516},{"$f":"D158*D159+E158*E159+F158*F159+G158*G159+H158*H159+I158*I159+J158*J160","v":2.8660406918396},{"$f":"D158*D159+E158*E159+F158*F159+G158*G159+H158*H159+I158*I159+J158*J159+K158*K160","v":2.9961815361756905},{"$f":"D158*D159+E158*E159+F158*F159+G158*G159+H158*H159+I158*I159+J158*J159+K158*K159+L158*L160","v":3.0970406905361605},{"$f":"D158*D159+E158*E159+F158*F159+G158*G159+H158*H159+I158*I159+J158*J159+K158*K159+L158*L159+M158*M160","v":3.1752065351655245}]
[]
[null,"LEVEL 17",{"$nulls":5},"Fight Duration:"]
[null,"for Character",null,1,2,3,4,5,6,7,8,9,10]
[null,"prob given another round",null,{"$f":"(1-Sorcadins!$U$350)^D164*Sorcadins!$U$350","v":0.21},{"$f":"(1-Sorcadins!$U$350)^E164*Sorcadins!$U$350","v":0.14699999999999996},{"$f":"(1-Sorcadins!$U$350)^F164*Sorcadins!$U$350","v":0.10289999999999998},{"$f":"(1-Sorcadins!$U$350)^G164*Sorcadins!$U$350","v":0.07202999999999997},{"$f":"(1-Sorcadins!$U$350)^H164*Sorcadins!$U$350","v":0.05042099999999998},{"$f":"(1-Sorcadins!$U$350)^I164*Sorcadins!$U$350","v":0.035294699999999984},{"$f":"(1-Sorcadins!$U$350)^J164*Sorcadins!$U$350","v":0.024706289999999985},{"$f":"(1-Sorcadins!$U$350)^K164*Sorcadins!$U$350","v":0.01729440299999999},{"$f":"(1-Sorcadins!$U$350)^L164*Sorcadins!$U$350","v":0.012106082099999992},{"$f":"(1-Sorcadins!$U$350)^M164*Sorcadins!$U$350","v":0.008474257469999994}]
[null,"prob given last round",null,{"$f":"(1-Sorcadins!$U$350)^D164","v":0.7},{"$f":"(1-Sorcadins!$U$350)^E164","v":0.48999999999999994},{"$f":"(1-Sorcadins!$U$350)^F164","v":0.3429999999999999},{"$f":"(1-Sorcadins!$U$350)^G164","v":0.24009999999999992},{"$f":"(1-Sorcadins!$U$350)^H164","v":0.16806999999999994},{"$f":"(1-Sorcadins!$U$350)^I164","v":0.11764899999999995},{"$f":"(1-Sorcadins!$U$350)^J164","v":0.08235429999999995},{"$f":"(1-Sorcadins!$U$350)^K164","v":0.057648009999999965},{"$f":"(1-Sorcadins!$U$350)^L164","v":0.04035360699999997},{"$f":"(1-Sorcadins!$U$350)^M164","v":0.02824752489999998}]
[null,"expectation given n rounds",null,{"$f":"D164*D166","v":0.7},{"$f":"D164*D165+E164*E166","v":1.19},{"$f":"D164*D165+E164*E165+F164*F166","v":1.5329999999999995},{"$f":"D164*D165+E164*E165+F164*F165+G164*G166","v":1.7730999999999995},{"$f":"D164*D165+E164*E165+F164*F165+G164*G165+H164*H166","v":1.9411699999999994},{"$f":"D164*D165+E164*E165+F164*F165+G164*G165+H164*H165+I164*I166","v":2.0588189999999993},{"$f":"D164*D165+E164*E165+F164*F165+G164*G165+H164*H165+I164*I165+J164*J166","v":2.141173299999999},{"$f":"D164*D165+E164*E165+F164*F165+G164*G165+H164*H165+I164*I165+J164*J165+K164*K166","v":2.1988213099999987},{"$f":"D164*D165+E164*E165+F164*F165+G164*G165+H164*H165+I164*I165+J164*J165+K164*K165+L164*L166","v":2.239174916999999},{"$f":"D164*D165+E164*E165+F164*F165+G164*G165+H164*H165+I164*I165+J164*J165+K164*K165+L164*L165+M164*M166","v":2.2674224418999986}]
[null,"for Character, Defensive",null,1,2,3,4,5,6,7,8,9,10]
[null,"prob given another round",null,{"$f":"(1-Sorcadins!$U$351)^D168*Sorcadins!$U$351","v":0.17437499999999997},{"$f":"(1-Sorcadins!$U$351)^E168*Sorcadins!$U$351","v":0.13514062500000001},{"$f":"(1-Sorcadins!$U$351)^F168*Sorcadins!$U$351","v":0.104733984375},{"$f":"(1-Sorcadins!$U$351)^G168*Sorcadins!$U$351","v":0.08116883789062501},{"$f":"(1-Sorcadins!$U$351)^H168*Sorcadins!$U$351","v":0.06290584936523438},{"$f":"(1-Sorcadins!$U$351)^I168*Sorcadins!$U$351","v":0.04875203325805666},{"$f":"(1-Sorcadins!$U$351)^J168*Sorcadins!$U$351","v":0.03778282577499391},{"$f":"(1-Sorcadins!$U$351)^K168*Sorcadins!$U$351","v":0.029281689975620282},{"$f":"(1-Sorcadins!$U$351)^L168*Sorcadins!$U$351","v":0.022693309731105723},{"$f":"(1-Sorcadins!$U$351)^M168*Sorcadins!$U$351","v":0.017587315041606932}]
[null,"prob given last round",null,{"$f":"(1-Sorcadins!$U$351)^D168","v":0.775},{"$f":"(1-Sorcadins!$U$351)^E168","v":0.6006250000000001},{"$f":"(1-Sorcadins!$U$351)^F168","v":0.46548437500000006},{"$f":"(1-Sorcadins!$U$351)^G168","v":0.3607503906250001},{"$f":"(1-Sorcadins!$U$351)^H168","v":0.27958155273437507},{"$f":"(1-Sorcadins!$U$351)^I168","v":0.21667570336914072},{"$f":"(1-Sorcadins!$U$351)^J168","v":0.16792367011108406},{"$f":"(1-Sorcadins!$U$351)^K168","v":0.13014084433609016},{"$f":"(1-Sorcadins!$U$351)^L168","v":0.10085915436046988},{"$f":"(1-Sorcadins!$U$351)^M168","v":0.07816584462936416}]
[null,"expectation given n rounds",null,{"$f":"D168*D170","v":0.775},{"$f":"D168*D169+E168*E170","v":1.375625},{"$f":"D168*D169+E168*E169+F168*F170","v":1.8411093750000003},{"$f":"D168*D169+E168*E169+F168*F169+G168*G170","v":2.2018597656250005},{"$f":"D168*D169+E168*E169+F168*F169+G168*G169+H168*H170","v":2.4814413183593755},{"$f":"D168*D169+E168*E169+F168*F169+G168*G169+H168*H169+I168*I170","v":2.698117021728516},{"$f":"D168*D169+E168*E169+F168*F169+G168*G169+H168*H169+I168*I169+J168*J170","v":2.8660406918396},{"$f":"D168*D169+E168*E169+F168*F169+G168*G169+H168*H169+I168*I169+J168*J169+K168*K170","v":2.9961815361756905},{"$f":"D168*D169+E168*E169+F168*F169+G168*G169+H168*H169+I168*I169+J168*J169+K168*K169+L168*L170","v":3.0970406905361605},{"$f":"D168*D169+E168*E169+F168*F169+G168*G169+H168*H169+I168*I169+J168*J169+K168*K169+L168*L169+M168*M170","v":3.1752065351655245}]
[]
[null,"LEVEL 18",{"$nulls":5},"Fight Duration:"]
[null,"for Character",null,1,2,3,4,5,6,7,8,9,10]
[null,"prob given another round",null,{"$f":"(1-Sorcadins!$V$350)^D174*Sorcadins!$V$350","v":0.21},{"$f":"(1-Sorcadins!$V$350)^E174*Sorcadins!$V$350","v":0.14699999999999996},{"$f":"(1-Sorcadins!$V$350)^F174*Sorcadins!$V$350","v":0.10289999999999998},{"$f":"(1-Sorcadins!$V$350)^G174*Sorcadins!$V$350","v":0.07202999999999997},{"$f":"(1-Sorcadins!$V$350)^H174*Sorcadins!$V$350","v":0.05042099999999998},{"$f":"(1-Sorcadins!$V$350)^I174*Sorcadins!$V$350","v":0.035294699999999984},{"$f":"(1-Sorcadins!$V$350)^J174*Sorcadins!$V$350","v":0.024706289999999985},{"$f":"(1-Sorcadins!$V$350)^K174*Sorcadins!$V$350","v":0.01729440299999999},{"$f":"(1-Sorcadins!$V$350)^L174*Sorcadins!$V$350","v":0.012106082099999992},{"$f":"(1-Sorcadins!$V$350)^M174*Sorcadins!$V$350","v":0.008474257469999994}]
[null,"prob given last round",null,{"$f":"(1-Sorcadins!$V$350)^D174","v":0.7},{"$f":"(1-Sorcadins!$V$350)^E174","v":0.48999999999999994},{"$f":"(1-Sorcadins!$V$350)^F174","v":0.3429999999999999},{"$f":"(1-Sorcadins!$V$350)^G174","v":0.24009999999999992},{"$f":"(1-Sorcadins!$V$350)^H174","v":0.16806999999999994},{"$f":"(1-Sorcadins!$V$350)^I174","v":0.11764899999999995},{"$f":"(1-Sorcadins!$V$350)^J174","v":0.08235429999999995},{"$f":"(1-Sorcadins!$V$350)^K174","v":0.057648009999999965},{"$f":"(1-Sorcadins!$V$350)^L174","v":0.04035360699999997},{"$f":"(1-Sorcadins!$V$350)^M174","v":0.02824752489999998}]
[null,"expectation given n rounds",null,{"$f":"D174*D176","v":0.7},{"$f":"D174*D175+E174*E176","v":1.19},{"$f":"D174*D175+E174*E175+F174*F176","v":1.5329999999999995},{"$f":"D174*D175+E174*E175+F174*F175+G174*G176","v":1.7730999999999995},{"$f":"D174*D175+E174*E175+F174*F175+G174*G175+H174*H176","v":1.9411699999999994},{"$f":"D174*D175+E174*E175+F174*F175+G174*G175+H174*H175+I174*I176","v":2.0588189999999993},{"$f":"D174*D175+E174*E175+F174*F175+G174*G175+H174*H175+I174*I175+J174*J176","v":2.141173299999999},{"$f":"D174*D175+E174*E175+F174*F175+G174*G175+H174*H175+I174*I175+J174*J175+K174*K176","v":2.1988213099999987},{"$f":"D174*D175+E174*E175+F174*F175+G174*G175+H174*H175+I174*I175+J174*J175+K174*K175+L174*L176","v":2.239174916999999},{"$f":"D174*D175+E174*E175+F174*F175+G174*G175+H174*H175+I174*I175+J174*J175+K174*K175+L174*L175+M174*M176","v":2.2674224418999986}]
[null,"for Character, Defensive",null,1,2,3,4,5,6,7,8,9,10]
[null,"prob given another round",null,{"$f":"(1-Sorcadins!$V$351)^D178*Sorcadins!$V$351","v":0.17437499999999997},{"$f":"(1-Sorcadins!$V$351)^E178*Sorcadins!$V$351","v":0.13514062500000001},{"$f":"(1-Sorcadins!$V$351)^F178*Sorcadins!$V$351","v":0.104733984375},{"$f":"(1-Sorcadins!$V$351)^G178*Sorcadins!$V$351","v":0.08116883789062501},{"$f":"(1-Sorcadins!$V$351)^H178*Sorcadins!$V$351","v":0.06290584936523438},{"$f":"(1-Sorcadins!$V$351)^I178*Sorcadins!$V$351","v":0.04875203325805666},{"$f":"(1-Sorcadins!$V$351)^J178*Sorcadins!$V$351","v":0.03778282577499391},{"$f":"(1-Sorcadins!$V$351)^K178*Sorcadins!$V$351","v":0.029281689975620282},{"$f":"(1-Sorcadins!$V$351)^L178*Sorcadins!$V$351","v":0.022693309731105723},{"$f":"(1-Sorcadins!$V$351)^M178*Sorcadins!$V$351","v":0.017587315041606932}]
[null,"prob given last round",null,{"$f":"(1-Sorcadins!$V$351)^D178","v":0.775},{"$f":"(1-Sorcadins!$V$351)^E178","v":0.6006250000000001},{"$f":"(1-Sorcadins!$V$351)^F178","v":0.46548437500000006},{"$f":"(1-Sorcadins!$V$351)^G178","v":0.3607503906250001},{"$f":"(1-Sorcadins!$V$351)^H178","v":0.27958155273437507},{"$f":"(1-Sorcadins!$V$351)^I178","v":0.21667570336914072},{"$f":"(1-Sorcadins!$V$351)^J178","v":0.16792367011108406},{"$f":"(1-Sorcadins!$V$351)^K178","v":0.13014084433609016},{"$f":"(1-Sorcadins!$V$351)^L178","v":0.10085915436046988},{"$f":"(1-Sorcadins!$V$351)^M178","v":0.07816584462936416}]
[null,"expectation given n rounds",null,{"$f":"D178*D180","v":0.775},{"$f":"D178*D179+E178*E180","v":1.375625},{"$f":"D178*D179+E178*E179+F178*F180","v":1.8411093750000003},{"$f":"D178*D179+E178*E179+F178*F179+G178*G180","v":2.2018597656250005},{"$f":"D178*D179+E178*E179+F178*F179+G178*G179+H178*H180","v":2.4814413183593755},{"$f":"D178*D179+E178*E179+F178*F179+G178*G179+H178*H179+I178*I180","v":2.698117021728516},{"$f":"D178*D179+E178*E179+F178*F179+G178*G179+H178*H179+I178*I179+J178*J180","v":2.8660406918396},{"$f":"D178*D179+E178*E179+F178*F179+G178*G179+H178*H179+I178*I179+J178*J179+K178*K180","v":2.9961815361756905},{"$f":"D178*D179+E178*E179+F178*F179+G178*G179+H178*H179+I178*I179+J178*J179+K178*K179+L178*L180","v":3.0970406905361605},{"$f":"D178*D179+E178*E179+F178*F179+G178*G179+H178*H179+I178*I179+J178*J179+K178*K179+L178*L179+M178*M180","v":3.1752065351655245}]
[]
[null,"LEVEL 19",{"$nulls":5},"Fight Duration:"]
[null,"for Character",null,1,2,3,4,5,6,7,8,9,10]
[null,"prob given another round",null,{"$f":"(1-Sorcadins!$W$350)^D184*Sorcadins!$W$350","v":0.1476},{"$f":"(1-Sorcadins!$W$350)^E184*Sorcadins!$W$350","v":0.12103200000000001},{"$f":"(1-Sorcadins!$W$350)^F184*Sorcadins!$W$350","v":0.09924624000000001},{"$f":"(1-Sorcadins!$W$350)^G184*Sorcadins!$W$350","v":0.08138191680000002},{"$f":"(1-Sorcadins!$W$350)^H184*Sorcadins!$W$350","v":0.06673317177600002},{"$f":"(1-Sorcadins!$W$350)^I184*Sorcadins!$W$350","v":0.054721200856320026},{"$f":"(1-Sorcadins!$W$350)^J184*Sorcadins!$W$350","v":0.04487138470218242},{"$f":"(1-Sorcadins!$W$350)^K184*Sorcadins!$W$350","v":0.03679453545578959},{"$f":"(1-Sorcadins!$W$350)^L184*Sorcadins!$W$350","v":0.030171519073747464},{"$f":"(1-Sorcadins!$W$350)^M184*Sorcadins!$W$350","v":0.024740645640472927}]
[null,"prob given last round",null,{"$f":"(1-Sorcadins!$W$350)^D184","v":0.8200000000000001},{"$f":"(1-Sorcadins!$W$350)^E184","v":0.6724000000000001},{"$f":"(1-Sorcadins!$W$350)^F184","v":0.5513680000000001},{"$f":"(1-Sorcadins!$W$350)^G184","v":0.45212176000000015},{"$f":"(1-Sorcadins!$W$350)^H184","v":0.37073984320000014},{"$f":"(1-Sorcadins!$W$350)^I184","v":0.3040066714240002},{"$f":"(1-Sorcadins!$W$350)^J184","v":0.2492854705676801},{"$f":"(1-Sorcadins!$W$350)^K184","v":0.20441408586549772},{"$f":"(1-Sorcadins!$W$350)^L184","v":0.16761955040970813},{"$f":"(1-Sorcadins!$W$350)^M184","v":0.1374480313359607}]
[null,"expectation given n rounds",null,{"$f":"D184*D186","v":0.8200000000000001},{"$f":"D184*D185+E184*E186","v":1.4924000000000002},{"$f":"D184*D185+E184*E185+F184*F186","v":2.043768},{"$f":"D184*D185+E184*E185+F184*F185+G184*G186","v":2.4958897600000007},{"$f":"D184*D185+E184*E185+F184*F185+G184*G185+H184*H186","v":2.8666296032000007},{"$f":"D184*D185+E184*E185+F184*F185+G184*G185+H184*H185+I184*I186","v":3.1706362746240013},{"$f":"D184*D185+E184*E185+F184*F185+G184*G185+H184*H185+I184*I185+J184*J186","v":3.4199217451916812},{"$f":"D184*D185+E184*E185+F184*F185+G184*G185+H184*H185+I184*I185+J184*J185+K184*K186","v":3.624335831057179},{"$f":"D184*D185+E184*E185+F184*F185+G184*G185+H184*H185+I184*I185+J184*J185+K184*K185+L184*L186","v":3.791955381466887},{"$f":"D184*D185+E184*E185+F184*F185+G184*G185+H184*H185+I184*I185+J184*J185+K184*K185+L184*L185+M184*M186","v":3.9294034128028485}]
[null,"for Character, Defensive",null,1,2,3,4,5,6,7,8,9,10]
[null,"prob given another round",null,{"$f":"(1-Sorcadins!$W$351)^D188*Sorcadins!$W$351","v":0.116775},{"$f":"(1-Sorcadins!$W$351)^E188*Sorcadins!$W$351","v":0.10101037500000001},{"$f":"(1-Sorcadins!$W$351)^F188*Sorcadins!$W$351","v":0.08737397437500001},{"$f":"(1-Sorcadins!$W$351)^G188*Sorcadins!$W$351","v":0.075578487834375},{"$f":"(1-Sorcadins!$W$351)^H188*Sorcadins!$W$351","v":0.06537539197673438},{"$f":"(1-Sorcadins!$W$351)^I188*Sorcadins!$W$351","v":0.05654971405987524},{"$f":"(1-Sorcadins!$W$351)^J188*Sorcadins!$W$351","v":0.04891550266179208},{"$f":"(1-Sorcadins!$W$351)^K188*Sorcadins!$W$351","v":0.04231190980245014},{"$f":"(1-Sorcadins!$W$351)^L188*Sorcadins!$W$351","v":0.03659980197911938},{"$f":"(1-Sorcadins!$W$351)^M188*Sorcadins!$W$351","v":0.031658828711938265}]
[null,"prob given last round",null,{"$f":"(1-Sorcadins!$W$351)^D188","v":0.865},{"$f":"(1-Sorcadins!$W$351)^E188","v":0.748225},{"$f":"(1-Sorcadins!$W$351)^F188","v":0.647214625},{"$f":"(1-Sorcadins!$W$351)^G188","v":0.559840650625},{"$f":"(1-Sorcadins!$W$351)^H188","v":0.484262162790625},{"$f":"(1-Sorcadins!$W$351)^I188","v":0.41888677081389064},{"$f":"(1-Sorcadins!$W$351)^J188","v":0.3623370567540154},{"$f":"(1-Sorcadins!$W$351)^K188","v":0.3134215540922233},{"$f":"(1-Sorcadins!$W$351)^L188","v":0.27110964428977313},{"$f":"(1-Sorcadins!$W$351)^M188","v":0.23450984231065378}]
[null,"expectation given n rounds",null,{"$f":"D188*D190","v":0.865},{"$f":"D188*D189+E188*E190","v":1.6132250000000001},{"$f":"D188*D189+E188*E189+F188*F190","v":2.260439625},{"$f":"D188*D189+E188*E189+F188*F189+G188*G190","v":2.820280275625},{"$f":"D188*D189+E188*E189+F188*F189+G188*G189+H188*H190","v":3.3045424384156252},{"$f":"D188*D189+E188*E189+F188*F189+G188*G189+H188*H189+I188*I190","v":3.723429209229516},{"$f":"D188*D189+E188*E189+F188*F189+G188*G189+H188*H189+I188*I189+J188*J190","v":4.085766265983531},{"$f":"D188*D189+E188*E189+F188*F189+G188*G189+H188*H189+I188*I189+J188*J189+K188*K190","v":4.399187820075754},{"$f":"D188*D189+E188*E189+F188*F189+G188*G189+H188*H189+I188*I189+J188*J189+K188*K189+L188*L190","v":4.670297464365527},{"$f":"D188*D189+E188*E189+F188*F189+G188*G189+H188*H189+I188*I189+J188*J189+K188*K189+L188*L189+M188*M190","v":4.904807306676181}]
[]
[null,"LEVEL 20",{"$nulls":5},"Fight Duration:"]
[null,"for Character",null,1,2,3,4,5,6,7,8,9,10]
[null,"prob given another round",null,{"$f":"(1-Sorcadins!$X$350)^D194*Sorcadins!$X$350","v":0.1476},{"$f":"(1-Sorcadins!$X$350)^E194*Sorcadins!$X$350","v":0.12103200000000001},{"$f":"(1-Sorcadins!$X$350)^F194*Sorcadins!$X$350","v":0.09924624000000001},{"$f":"(1-Sorcadins!$X$350)^G194*Sorcadins!$X$350","v":0.08138191680000002},{"$f":"(1-Sorcadins!$X$350)^H194*Sorcadins!$X$350","v":0.06673317177600002},{"$f":"(1-Sorcadins!$X$350)^I194*Sorcadins!$X$350","v":0.054721200856320026},{"$f":"(1-Sorcadins!$X$350)^J194*Sorcadins!$X$350","v":0.04487138470218242},{"$f":"(1-Sorcadins!$X$350)^K194*Sorcadins!$X$350","v":0.03679453545578959},{"$f":"(1-Sorcadins!$X$350)^L194*Sorcadins!$X$350","v":0.030171519073747464},{"$f":"(1-Sorcadins!$X$350)^M194*Sorcadins!$X$350","v":0.024740645640472927}]
[null,"prob given last round",null,{"$f":"(1-Sorcadins!$X$350)^D194","v":0.8200000000000001},{"$f":"(1-Sorcadins!$X$350)^E194","v":0.6724000000000001},{"$f":"(1-Sorcadins!$X$350)^F194","v":0.5513680000000001},{"$f":"(1-Sorcadins!$X$350)^G194","v":0.45212176000000015},{"$f":"(1-Sorcadins!$X$350)^H194","v":0.37073984320000014},{"$f":"(1-Sorcadins!$X$350)^I194","v":0.3040066714240002},{"$f":"(1-Sorcadins!$X$350)^J194","v":0.2492854705676801},{"$f":"(1-Sorcadins!$X$350)^K194","v":0.20441408586549772},{"$f":"(1-Sorcadins!$X$350)^L194","v":0.16761955040970813},{"$f":"(1-Sorcadins!$X$350)^M194","v":0.1374480313359607}]
[null,"expectation given n rounds",null,{"$f":"D194*D196","v":0.8200000000000001},{"$f":"D194*D195+E194*E196","v":1.4924000000000002},{"$f":"D194*D195+E194*E195+F194*F196","v":2.043768},{"$f":"D194*D195+E194*E195+F194*F195+G194*G196","v":2.4958897600000007},{"$f":"D194*D195+E194*E195+F194*F195+G194*G195+H194*H196","v":2.8666296032000007},{"$f":"D194*D195+E194*E195+F194*F195+G194*G195+H194*H195+I194*I196","v":3.1706362746240013},{"$f":"D194*D195+E194*E195+F194*F195+G194*G195+H194*H195+I194*I195+J194*J196","v":3.4199217451916812},{"$f":"D194*D195+E194*E195+F194*F195+G194*G195+H194*H195+I194*I195+J194*J195+K194*K196","v":3.624335831057179},{"$f":"D194*D195+E194*E195+F194*F195+G194*G195+H194*H195+I194*I195+J194*J195+K194*K195+L194*L196","v":3.791955381466887},{"$f":"D194*D195+E194*E195+F194*F195+G194*G195+H194*H195+I194*I195+J194*J195+K194*K195+L194*L195+M194*M196","v":3.9294034128028485}]
[null,"for Character, Defensive",null,1,2,3,4,5,6,7,8,9,10]
[null,"prob given another round",null,{"$f":"(1-Sorcadins!$X$351)^D198*Sorcadins!$X$351","v":0.116775},{"$f":"(1-Sorcadins!$X$351)^E198*Sorcadins!$X$351","v":0.10101037500000001},{"$f":"(1-Sorcadins!$X$351)^F198*Sorcadins!$X$351","v":0.08737397437500001},{"$f":"(1-Sorcadins!$X$351)^G198*Sorcadins!$X$351","v":0.075578487834375},{"$f":"(1-Sorcadins!$X$351)^H198*Sorcadins!$X$351","v":0.06537539197673438},{"$f":"(1-Sorcadins!$X$351)^I198*Sorcadins!$X$351","v":0.05654971405987524},{"$f":"(1-Sorcadins!$X$351)^J198*Sorcadins!$X$351","v":0.04891550266179208},{"$f":"(1-Sorcadins!$X$351)^K198*Sorcadins!$X$351","v":0.04231190980245014},{"$f":"(1-Sorcadins!$X$351)^L198*Sorcadins!$X$351","v":0.03659980197911938},{"$f":"(1-Sorcadins!$X$351)^M198*Sorcadins!$X$351","v":0.031658828711938265}]
[null,"prob given last round",null,{"$f":"(1-Sorcadins!$X$351)^D198","v":0.865},{"$f":"(1-Sorcadins!$X$351)^E198","v":0.748225},{"$f":"(1-Sorcadins!$X$351)^F198","v":0.647214625},{"$f":"(1-Sorcadins!$X$351)^G198","v":0.559840650625},{"$f":"(1-Sorcadins!$X$351)^H198","v":0.484262162790625},{"$f":"(1-Sorcadins!$X$351)^I198","v":0.41888677081389064},{"$f":"(1-Sorcadins!$X$351)^J198","v":0.3623370567540154},{"$f":"(1-Sorcadins!$X$351)^K198","v":0.3134215540922233},{"$f":"(1-Sorcadins!$X$351)^L198","v":0.27110964428977313},{"$f":"(1-Sorcadins!$X$351)^M198","v":0.23450984231065378}]
[null,"expectation given n rounds",null,{"$f":"D198*D200","v":0.865},{"$f":"D198*D199+E198*E200","v":1.6132250000000001},{"$f":"D198*D199+E198*E199+F198*F200","v":2.260439625},{"$f":"D198*D199+E198*E199+F198*F199+G198*G200","v":2.820280275625},{"$f":"D198*D199+E198*E199+F198*F199+G198*G199+H198*H200","v":3.3045424384156252},{"$f":"D198*D199+E198*E199+F198*F199+G198*G199+H198*H199+I198*I200","v":3.723429209229516},{"$f":"D198*D199+E198*E199+F198*F199+G198*G199+H198*H199+I198*I199+J198*J200","v":4.085766265983531},{"$f":"D198*D199+E198*E199+F198*F199+G198*G199+H198*H199+I198*I199+J198*J199+K198*K200","v":4.399187820075754},{"$f":"D198*D199+E198*E199+F198*F199+G198*G199+H198*H199+I198*I199+J198*J199+K198*K199+L198*L200","v":4.670297464365527},{"$f":"D198*D199+E198*E199+F198*F199+G198*G199+H198*H199+I198*I199+J198*J199+K198*K199+L198*L199+M198*M200","v":4.904807306676181}]

{"sheet":"Build Ideas","index":8,"n_rows":83,"n_cols":28,"rows_kept":83}
[]
[]
[]
[]
[null,"Fighter:",{"$nulls":5},"LEVEL ",1,2,3,4,5,6,7,8,9,10,11,12,13,14,15,16,17,18,19,20]
[null,null,"Rune Knight / Barbarian 2"]
[null,null,"polearm master  / GWM  / Piercer",{"$nulls":4},"DPR:",17.315,18.067500000000003,21.509526110884757,27.494518760357344,39.39060692305825,44.957209894293264,45.653628666111295,63.646092195697115,68.3828995327093,68.36450312601659,68.36714123505965,63.606536591918456,69.40384242445407,88.36708551615449,82.30591415749193,82.30662605625122,88.36264422559799,83.51567979926995,83.52295757469015,88.13391963492047]
[null,null,"RK 6, Barb2, GS 3, Hex1, RK 11, Barb 3, RK 12:",{"$nulls":4},"DPR:",18.03,18.810000000000002,22.30022140883397,28.28558922522609,40.503437342394186,46.07046145679327,46.75223218173629,65.51107955614555,66.25098094154554,67.25065650690331,74.184838257573,73.81737735579546,80.23139270318269,78.938692317294,78.85965255330966,79.92403187027703,112.19959720281106,108.98952488343674,108.99389497104829,108.98210897718685]
[]
[null,"Rogue / Echo Knight"]
[null,null,"L3 Echo Knight, L2 warmage, LX+ Swashbuckler",{"$nulls":4},"DPR",11.504999999999999,12.389999999999999,15.308749999999998,17.82553,19.06575,21.44775,38.80707672625,38.80707672625,44.274576726250004,48.681954933125,60.440243995625,62.74592474343751,66.66783380625,71.07521201312503,68.81831777257813,73.09293755218752,87.24087928250003,88.73288670679688,88.73288670679688,93.00750648640627]
[]
[null,"Rogue / Sorcerer, hold action quicken BB"]
[null,null,"L8 Rogue, L3 Sorc, L9 Rogue, L5 Sorc, L15 Rogue",{"$nulls":5},14.718464448000002,14.718464448000002,21.816323700000005,22.712993700000006,36.865801100000006,35.567489775000006,39.65292585000001,42.2624714,42.2624714,42.2624714,64.52970090903483,70.03338753367979,76.82770838000317,81.26942556621847,78.6630552219942,84.64426140243314,110.61905088799999,113.5881528826875,113.5881528826875,121.656360124875]
[]
[null,"Kobold Archer"]
[null,null,"L6 Samurai, L3 Assassin, L3 Gloomstalker, L11 Saumrai, L6 Assassin"]
[null,null,"xbow master, piercer, sharpshooter",{"$nulls":5},14.0988,14.803740000000001,18.197902613486843,22.756510029666547,33.24209695228246,52.595169748976026,55.68147084610684,55.68147084610684,65.44616550868558,65.51376186810141,70.13214668869364,80.01987179531733,84.33770956053974,84.33770956053974,80.01987179531733,77.19842465754655,101.33615285919792,95.77862805849924,99.68838187136163,99.68838187136163]
[]
[null,"Monk, Way of Mercy"]
[null,null,"with 3 levels of Hexblade pact of the Chain.",{"$nulls":4},"DPR:",19.26965,19.06041718758334,18.438973584185838,22.236891643114536,34.780703124999995,35.62386424285129,36.65132105032339,44.20254725948085,45.957899083907385,46.7211639716698,49.48308967525054,48.35218880069977,53.58539917689757,60.566075501897565,57.87923356442349,58.02879233942349,65.63068585508393,62.38551833153375,62.542871752773756,67.4657587863804]
[]
[]
[null,"Bladesinger  ?",{"$nulls":5},"DPR ",12.4775,12.139909374999998,11.83935625,14.3606367602465,26.51951683284982,36.03961012234119,57.172341821303704,57.7564043213037,62.31717545635759,77.67263038880046,89.28911084125097,87.69320994532508,90.50684965705399,116.63141000195857,136.29090073192418,146.54718276565444,172.76652729998813,198.0656836228539,208.4938881633796,207.98595066337958]
[null,null,"shadowblade stuff",{"$nulls":3},"P2W18","DPR ",9.555,13.282499999999999,19.986071874999997,22.656596875000005,32.052330556517205,38.64650763291716,46.4831231773959,62.94009086786731,67.82425728608726,75.50502545366236,86.82921200765617,87.2088248208157,90.08430734946131,91.64994650439994,122.84728213302836,144.36054843594934,170.22919101365088,194.95784897432924,207.75894158272777,209.60876288272777]
[null,null,"dual weid shadowblade + short sword:"]
[null,null,"2 attacks with shadowblade and 1 attack with booming blade + short sword"]
[]
[null,"Paladin / Lock"]
{"$rows_empty":7}
[{"$nulls":7},"LEVEL ",1,2,3,4,5,6,7,8,9,10,11,12,13,14,15,16,17,18,19,20]
[null,"P1, Warlock5, P4, Sorc 11",{"$nulls":6},10.5625,13.869425781250003,12.620549179,12.543042722,22.706450610257157,28.9585011925,33.807901808698674,44.2568042382814,47.76426608404274,51.413566084042735,55.33529445211252,54.95190234560515,68.58148626120393,75.18550636879428,73.91437167504692,79.77893047342292,95.3663538727613,93.20772689222538,92.24347145900498,94.76834398069762]
[null,"PAM Lock : Warlock20",{"$nulls":6},14.221,14.774126500000001,15.206128385399953,18.44316181879787,36.44369909516427,32.871824700000005,35.000473001625714,41.83117028693708,43.14253702273708,43.12794202273709,48.949142022737085,59.16174805973709,64.52027869310967,64.52027869310967,59.80031479553708,63.0319339277146,74.17930537083302,68.5248344728616,77.5462057844717,86.18510376216867]
[null,"PAM Paladin: Pal20",{"$nulls":6},14.436000000000002,16.4218,18.26064375,21.091487500000003,34.88526875,33.5071875,34.8571875,46.143068975498984,50.828721133477565,49.008858279643476,61.033237155907884,62.60863894880692,69.91142598123712,69.59443335801492,68.67347304203975,68.45217457595504,78.3461196342663,72.78322104434672,72.88675469159892,72.27238717132627]
[null,"GWM Paladin: Pal 20",{"$nulls":6},16.657165000000003,18.457165000000003,18.951868125,23.942291787109372,40.002187,37.06515999999999,38.17398516083377,42.4955477421875,46.964362515176994,46.81624774218749,56.49596023387047,56.95679910346006,64.06051626527778,63.782476707187584,65.37585283000092,69.22221397880561,80.80306245363121,75.1341019671868,75.90665580444346,80.34377320175915]
[]
[null,"GWM Pal6, Sorc 14",{"$nulls":6},10.855,13.410549999999999,15.000488437500001,16.5436678125,36.155148875,33.326358437500005,34.5837584375,38.0100834375,39.4466734375,43.6407727075,54.5875809434375,55.66016701487675,64.2891461368094,74.2249349125186,69.40624845956783,73.09490012573504,83.83197269832922,89.4779987984375,88.95107879843749,92.06165846510416]
[null,"Hexblade 3 pact of the tome, Sorc 17 (no eld blast)",{"$nulls":6},9.53325,10.966826742688001,9.692685996668,15.423777868424674,26.054261441753148,29.839218694809468,33.30966301923192,44.27638011530793,47.08832333779491,49.16806439267491,67.34272767351501,70.85440161511491,77.64094377605389,81.25344377605389,79.07564038820989,82.97251538820989,100.89674896325197,101.16300459471663,101.38956709471663,176.6715251272296]
[null,"Hexblade 3 pact of the tome, Sorc 17 w/eld blast",{"$nulls":6},9.53325,10.966826742688001,9.692685996668,15.423777868424674,26.054261441753148,29.839218694809468,33.30966301923192,44.27638011530793,47.08832333779491,49.16806439267491,70.072148339749,68.27828782151491,74.46228784458552,75.07478784458552,71.35738365803388,72.25425865803389,95.85247433812151,92.35252366172989,92.07908616172989,154.57612677847163]
[null,"Pal2, Warlock1, Sorc17: Quicken BB build",{"$nulls":6},10.489875,14.389375000000001,16.6572825,17.326747500000003,27.948160000000005,24.893539999999998,32.995304244062964,40.784947486582944,45.01679164,47.26432289,68.19382896,69.65320239822674,77.1656269344898,77.66608930693877,84.31184954928572,84.41140312071428,106.442606285,103.81251973619048,108.36285811894554,186.44552735562104]
[null,"Pal2, Warlock1, Sorc17: Quicken BB build / Shadowblade",{"$nulls":6},9.53325,10.966826742688001,9.692685996668,13.73210541881357,23.53593192172167,28.45531894401689,34.542588230238245,45.27967810459154,47.214520345295874,51.80553348582661,68.8483830196943,72.30699714004876,77.57518578934534,80.67925898325996,83.36518078513546,84.85429223561435,103.42618010671904,108.29694862257983,106.17670862745977,189.6370387902032]
[]
[]
[null,"Sorc 4, Hex 1, Pal 2, Sorc 17:",{"$nulls":6},8.607468749999999,8.607468749999999,9.418007812499999,10.083784783135478,24.293137004259933,22.82508586613404,28.181339477296923,39.297070170030466,43.7360384819586,47.127288821679045,70.70356012384094,71.28468277706706,77.83612501361903,78.0771334791041,83.5462066041041,83.2873641041041,102.03496343630002,99.0337872759908,102.9924593607489,177.9965506273689]
[null,"Sorc 4, Hex 3, PAM:",{"$nulls":6},13.123750000000003,13.123750000000003,12.009726562500001,12.466128643464279,21.882891459021465,21.526407432040596,26.567546890562916,38.50550734845156,42.46647504784845,45.23210004784845,61.7611202440666,64.77216312720458,71.5247233690666,75.2630046190666,82.03159188330314,86.90268563330314,101.60593940650787,102.79400533850685,103.07720846350685,181.56422073692136]
[]
[]
[null,"Shadow Sorc 17, Hex/Chain 3",{"$nulls":6},8.479875,9.432281249999999,8.847468749999999,11.793593015794087,18.963156284315637,23.963564969237623,30.629163868703102,43.80121047973718,48.60255532381657,50.680679956297816,69.06835973441044,68.03236980276345,73.25831082646125,74.04124093121823,77.08903958822846,78.21013333822846,102.46074413683652,98.24682193859518,97.90502506359518,164.67839629306798]
[null,"Shadow Sorc 17, Hex 1, Pal 2",{"$nulls":6},8.479875,9.432281249999999,8.847468749999999,13.438125,22.218125,20.325401455078126,26.10981244140625,38.20861503125,41.7815210078125,45.36213485237069,70.86969283670842,73.31551505959341,79.20631909904394,79.38616671218382,86.23317897125763,85.9809455129243,104.06608933765105,101.06498302258325,109.52777634530523,189.13376483275292]
[]
[]
[null,"melee (no fireball)",{"$nulls":5},"LEVEL ",1,2,3,4,5,6,7,8,9,10,11,12,13,14,15,16,17,18,19,20]
[null,"Hex Chain 3, Sorc 17",{"$nulls":6},8.47,8.47,10.780377922147748,10.780377922147748,18.945930967646618,24.60956236041066,30.067688346412773,35.01494783742399,39.07055987311312,42.619561143078315,58.44430585960761,59.86334660853176,65.17630182860167,73.55202271508061,76.01136912412196,80.44533435401355,95.75388924805505,100.11245835269996,100.73745835269996,177.3198838293406]
[null,"Hex Blade 5, Sorc 15, PAM",{"$nulls":6},10.1444384765625,11.575231640625,10.860994253735182,15.337830330753672,31.257813549804684,30.985247521623883,31.465739609375,32.954576804508676,39.47524357562977,43.04559145206472,42.0629635301765,41.37800175477258,54.78258565309288,56.44980167221852,55.81865891593441,58.91022132884789,77.07117405758233,76.0433516328125,75.73618177308238,78.26234673705811]
[null,"Hex Blade 9, Sorc 11, PAM, GWM",{"$nulls":6},10.1444384765625,11.575231640625,10.751077734375,15.344877421875,31.257813549804684,29.3513,32.099499145507814,35.94618609520091,37.86548696271091,39.12668696271091,41.27733430920758,42.00164421847117,51.051247460439285,54.11128659703006,52.28898410086699,52.26145487291809,73.53936943165226,67.03404006795043,68.2326390447673,69.25683385790654]
[null,"Hex Blade 12, Sorc 8, PAM, GWM",{"$nulls":6},10.1444384765625,11.575231640625,10.751077734375,15.344877421875,31.257813549804684,29.3513,32.099499145507814,35.94618609520091,37.86548696271091,37.86548696271091,37.46353430920758,41.18411081687519,55.39096535579772,64.64965353440583,63.82757260842184,63.71977487593389,77.80945401403216,71.78021072547875,72.65064480257111,74.92274380915275]
[null,"Hex Blade 12, Sorc 8, BB sword",{"$nulls":6},9.238188476562499,10.668981640624999,9.907327734374999,13.138453699218749,25.541559897460935,24.423609374999995,26.650939596679684,30.71281474240889,31.952910415694188,31.952910415694188,38.13814913992467,39.26789733314447,51.04905201961221,50.77302272916066,50.55149869027822,53.675231184732446,75.04205071538158,72.34595578390278,74.03886759752614,78.4810596855716]
[]
[]
[]
[null,"Sorcadin P2, W1, Sorc 17 (longsword, elven acc, flanking)",{"$nulls":6},9.290700000000001,9.290700000000001,13.759050000000002,20.178447249999998,31.456925286054688,30.570411358013672,38.73716574682702,42.67970253973027,47.520750596269174,52.02346502357096,75.98532411756638,78.86028005586004,85.66136200625157,86.41367119195944,90.42937157805014,90.62706810123555,111.42743038963009,110.12870032627967,113.45279407627967,115.53311595127968]
[null,"Sorcadin P2, W1, Sorc 17 (PAM w spear, elven acc, flanking)",{"$nulls":6},12.130320000000001,12.130320000000001,18.5094,22.574225000000002,29.359960119726562,29.50605709470982,39.78145342823007,41.93198084318006,45.23834711070309,46.99916585437047,74.22636145182827,76.94133250708725,83.86589102273948,84.6350236758007,89.96196709464338,90.17059161535778,108.70251193019988,106.9223062738047,115.86264704431895,117.94296814421709]
[]
[]
[null,"artificer artillerist (no special spells)",{"$nulls":6},6.005442925870001,7.98094292587,15.406063529413125,15.946063529413125,26.312290646821,26.03089407184688,25.85169196169297,25.7296875,30.7078125,30.454687500000002,47.728125,46.938950028122186,48.234375,47.624168280294676,58.10809065312218,55.68718408780997,63.24164018108614,61.386933938188776,60.05802768818876,58.14263125]
[]
[]
[{"$nulls":7},"LEVEL ",1,2,3,4,5,6,7,8,9,10,11,12,13,14,15,16,17,18,19,20]
[null,"MONK, Beast barb 3, kensei x",{"$nulls":6},8.462499999999999,10.63975,15.16577421875,18.066491005859376,23.669925,23.55092275390625,28.127125,40.85601406250001,41.86987187500001,42.88372968750001,44.291337500000004,43.14807265625,45.166337500000004,48.05271250000001,46.97676015625001,47.53926015625001,49.74021250000001,48.66426015625001,48.8352670309419,57.43411335934084]
[null,"MONK, Hex 3, Mercy X",{"$nulls":6},13.893749999999997,13.437499999999998,13.03125,16.506249999999998,27.099999999999998,29.272449645996094,31.560417644531242,39.6639277242177,42.05484456222844,43.78971279280081,45.7826506733865,45.254256142146815,48.9099054317851,54.38435466418723,53.710394912106025,53.742621195054426,58.958260784395215,57.48659735062688,57.59631967915465,62.32969054261095]
[null,"MONK, Gloomstalker 3, Mercy X",{"$nulls":6},13.893749999999997,13.437499999999998,13.03125,16.506249999999998,27.099999999999998,25.340624999999996,30.712803955078122,38.26338813087654,38.75802710307312,39.13017050695419,44.05851869702148,43.023059618530276,45.47128070654297,51.878584262084956,51.01679406982422,51.0498731315918,55.1072615285083,53.24188633780176,54.0956801106414,58.55196677891582]
[]
[null,"PAM Fighter : BM 6, Barb2, GS 3, BM 11, Barb 3, BM 12:",{"$nulls":6},13.968000000000002,14.763000000000002,18.3975,22.8615,34.738125,36.373125,37.3985625,53.9996862515625,53.9996862515625,55.66434381430663,62.75435379884034,58.44337398156281,72.39672018445387,72.33589180746498,67.40947296268921,85.77167367130366,99.4594795111009,90.78530600656809,90.69476178664404,90.54385475343724]
[null,null,"RK 6, Barb2, GS 3, RK 11, Barb 3, RK 12:",{"$nulls":5},13.968000000000002,14.763000000000002,18.542414304927103,22.268653842381454,35.06089655501361,36.66095187994953,37.597640487123925,53.459089913680764,53.4491316127625,54.91049685980148,61.435323465641645,55.92315604832067,68.9312029082333,68.89857131099534,64.66315825024269,83.24244686248882,95.11538448852174,88.2251711555435,88.17757022222987,88.07857739251682]
[]
[null,"V.Human Xbow master: BM 6, GS3, Assassin 3, BM 11, Assassin 6",{"$nulls":6},10.1,10.73125,12.853124999999999,18.9625,30.19375,31.81875,31.81875,34.0759707546,40.15084662898256,43.30085210115685,43.1269751395887,51.09945419112214,55.50940771435804,61.01404558043252,57.19021273398026,57.84807878914955,76.19435963800798,77.47326901536123,81.60087221094012,81.17701990985933]
[null,"Kobold Xbow master: ",{"$nulls":6},5.936399999999999,6.678449999999999,9.230625,14.935625,22.105799999999995,36.3525,36.3525,39.2222284650336,45.5497619489996,50.386660933758954,50.166441233997766,58.258656769921004,63.24288945095362,69.06359194049247,64.98035669449865,65.52153990852182,83.29387899814006,89.81739217245108,94.63178162853825,93.64262511643638]