{"text_format":"3","workbook":"xlsx","n_sheets":9,"sheets":["Intro","Sorcadins","Base Numbers","Caster Tables","Smites","Damage Scenarios","SpellOrder","Concentration Tables","Build Ideas"],"not_rendered":{"charts":1,"macros":1,"defined_names":30},"read":"whole","date_system":"1900"}

{"sheet":"Intro","index":0,"n_rows":93,"n_cols":2,"rows_kept":93}
[null,"McGeachie's Multi-Class Average-Case 5e DPR Calculator"]
[]
[null,"Purpose"]
[null,"This is an average-case Damage-per-Round (DPR) calculator for multiclass builds in Dungeons and Dragons 5th Edition."]
[]
[null,"Disclaimer"]
[null,"Damage per round is not everything.  It only considers damage done using the elements modeled.  Damage is averaged over the expected length of the fight.  DPR is only one tool that may help you to design a character that is enjoyable for you.  Only you can pick the character right for you."]
[]
[null,"Instructions"]
[null,"To edit this spreadsheet, download a copy to your device or drive in Microsoft Excel format.  Then open that file using MS Excel or Google Sheets.  You can then edit your own copy!"]
[null,"the main DPR is done on the page called \"Sorcadins.\"  To model a character, edit the Green Box areas in the first 100-150 rows of the sheet.  The DPR is listed at the very bottom of the sheet, and at the top row, and is also graphed at the top right."]
[null,"Each column from E to X represents the character and the character's DPR at a specific level, from Level 1 to Level 20."]
[]
[null,"Step 1.  Enter multiclass levels"]
[null,"The character's levels in various classes are represented in the green box labeled Class from E7 to X19.  At each Character Level, a character can have Class Levels in one or more classes that sum to the Total Character Level."]
[null,"Input the level of the corresponding class in the column for character level."]
[null,"For example, if at Level 1, your character will have one level of Paladin, enter a \"1\" in box E7.  Make sure there are no non-zero entries in the rows corresponding to other classes."]
[null,"Then at Level 2, if you will have two levels of Paladin, enter a \"2\" in box F7.  If the character will progress only as a Paladin, continue entering the class level of paladin in the column corresponding to total character level, in other words enter the sequence of numbers from 1 to 20 in boxes E7 to X7."]
[null,"Multiclass characters are entered in the same way.  At each level, the character's total class levels must sum to the character's Total Character Level."]
[null,"For example, suppose the Paladin at Level 3 decides to multiclass into Warlock.  In the column for Character Level 3, enter a \"2\" in the Paladin row and a \"1\" in the Warlock row to indicate they have 2 Levels of Paladin and 1 Level of Warlock."]
[]
[null,"Step 2.  Indicate Subclasses"]
[null,"Character subclasses are indicated in the green and white striped boxes from rows 36 to 85."]
[null,"A character's subclass is indicated by a \"1\" for having the subclass and a \"0\" for not having the subclass."]
[null,"There should be only one subclass with a \"1\" indicated for each class at each level."]
[null,"If you wish to model the DPR of a subclass that doesn't contribute to DPR, such as a Bear Totem Barbarian, simply place \"0\"s in all barbarian subclasses."]
[]
[null,"Step 3. Feats and Ability Score Increases (ASIs) "]
[null,"Feats and ASI's are indicated in the green box from B5 to B29."]
[null,"The total number of ASI's and/or feats your character has at each Total Character Level is shown in Row 22.  This is a guide for you.  If your DM awards other ASI's/Feats, it's ok to deviate from this number.  This does not include Level-1 Feats awarded by certain races."]
[null,"A feat or ASI is indicated with a non-zero number for the Total Character Level at which the feat or ASI is obtained."]
[null,"For example, if the Paladin/Warlock character takes the Great Weapon Master (GWM) feat at L6, enter a \"6\" in box B6.   "]
[null,"If the Paladin/Warlock character is a race that provides a Feat at Level 1, then enter a \"1\" in (for example) box B8 to indicate that Pole Arm Master feat was taken at Level 1."]
[null,"Ability scores are all treated as having a 16 (or a +3 bonus) at character creation.  This is a reasonable assumption if this score is important to the class."]
[null,"For each additional ability score increases resulting in an increase of the ability score bonus (increases to 18 and then to 20), indicate the Level at which this is obtained in the same manner as Feats."]
[null,"For example, if the Paladin/Warlock takes an ASI for Charisma at Level 12, then enter a \"12\" in box B10."]
[null,"If the Paladin/Warlock's DM lets players roll for stats or start with stats much higher than 16, then indicate this with Level 1 ASI increases."]
[null,"For example, if the Paladin/Warlock started with a 20 charisma, enter a \"1\" in box B10 and also a \"1\" in box B11.  This shows that at L1, this character has a +5 bonus to Charisma-based abilities and attacks."]
[null,"Half Feats."]
[null,"If a character obtains a Half-Feat (such as Piercer, or Elven Accuracy) and this also results in an increase in an ability score to the next even number, these  must be indicated separately."]
[null,"For example, if the Paladin/Warlock is an Elf and at Level 10 takes Elven Accuracy with a +1 Charisma bonus, and this increases his/her charisma to 18, indicate this with a \"1\" in box B7 and a \"1\" in box B10."]
[]
[null,"Step 4.  Weapon Choice"]
[null,"Weapon choice is indicated in the green box from B32 to B40.  Use a \"1\" to indicate that the character will use this type of weapon, and a \"0\" to indicate that he/she will not."]
[null,"Indicate only one weapon!"]
[]
[null,"Step 5. Fighting Options"]
[null,"In the green box from B44 to B47, certain strategic options can be indicated. "]
[null,"These are indicated with a \"1\" for something the character will do, and a \"0\" for something the character will not do"]
[null,"Indicate \"Use 2 Weapons\" if the character will dual-weild melee weapons"]
[null,"Indicate \"Force Range\" or \"Force Melee\" if the character will exclusively fight from range or in melee.  If both are \"0\" then DPR simulator will try to guess based on feats and weapon selections."]
[null,"Indicate \"Exclude Eld Blast\" if your character would qualify for the Eldritch Blast cantrip, but you do not want this to be a source of your DPR."]
[]
[null,"Step 6. Racial Traits"]
[null,"Racial traits that impact DPR are indicated in the green box from B51 to B53."]
[null,"These are indicated with a \"1\" for an ability the the character has, and a \"0\" for an ability the character lacks"]
[]
[null,"Step 7. Fighting Style (Martial Classes)"]
[null,"In the green box from B56 to B63, indicate at what level the character obtains a martial fighting style.  These styles are granted from Classes: Fighter, Paladin, and Ranger.  Fighting Styles can also be granted by Feats. "]
[null,"Indicate in the corresponding box what level the character obtains a particular fighting style.  Characters can potentially obtain more than one.  Leave other fighting styles with a \"0\" to indicate the character does not have them."]
[null,"If you wish to model a fighting style that does not contribute to DPR, such as the Defensive style which adds +1 to AC, simply do not select a fighting style.  Place \"0\" in all fighting style boxes."]
[]
[null,"Step 8.  Spell Casts per Day"]
[null,"The large green and white striped box from E88 to X124 indicates which spells will be cast per day."]
[null,"For each spell the character wishes to cast every day, indicate the number of times this spell will be cast."]
[null,"There is some checking for available spells and spell slots, but this works best if the number of spells cast is kept under the limit of spells that the character would have from their class abilities."]
[null,"Spells that can be upcast using a higher level slot for a numerical benefit will automatically be upcast to the highest available slot."]
[null,"Spells take higher priority than other actions, such as attacking.  Thus casting a spell that has a sub-optimal effect may decrease your total DRP."]
[]
[null,"Step 9.  Done! (optionally look at Simulation Parameters)"]
[null,"There's no need to look at any sheets besides the main one, \"Sorcadins\", and the base parameters sheet, \"Base Numbers\"."]
[]
[null,"Advanced DPR Simluation Parameters"]
[null,"The \"Base Numbers\" sheet has many parameters used by the DPR calculations here.  These can be edited to match the expectations of your DM, playgroup, and adventuring style. "]
[null,"The most important numbers for the DPR simulation are the number of fights per day (or per long rest, these terms are used interchangably), the length of those fights in rounds, and the number of short rests per adventuring day."]
[null,"These numbers are in boxes C5 to C7 on the \"Base Numbers\" sheet"]
[null,"Your campaign and DM's style will determine how many fights you have per long rest (or per day).  WOTC recommends 9 fights per day, popular DND podcasts such as Critical Role are closer to 1.5 per day.  A more typical number is probably 4 or 5 fights per long rest."]
[null,"The average DND combat encounter lasts 3.5 rounds.  You can adjust this number based on your DM's style: maybe fights are long and involved, maybe they're more typical."]
[null,"The number of short rests per long rest will determine how effective short-rest characters (monks, warlocks, certain fighters) are relative to long-rest characters (barbarians, paladins, sorcerers, wizards, etc).  WOTC recommends 2 short rests per long rest (or 2 short rests per 9 fights), but most campaigns seem to have fewer."]
[null,"Percent of Fights with a Buff Round is the proportion of fights where casters will have a round to prepare and cast something like Bless without taking up an action during the fight itself."]
[null,"Some general modifiers can be set for the DPR simulation, these include global changes to enemy's armor class and magic weapons that a character may have."]
[null,"Enter the average damage dice for \"Magic Weapon additional damage dice\", for example for a Flame Tongue weapon which does 2d6, enter the average damage \"7\".  For a weapon that adds 1d6 to each hit, enter \"3.5\""]
[null,"The chance for Booming Blade to deal it's secondary damage, triggered upon the target's voluntary movement, is entered in the \"booming blade secondary damage percent\" box."]
[null,"Since the publication of Tasha's Cauldron of Everything, it has been against Rules As Written for booming blade to be cast using a shadowblade as the weapon.  It seems to be allowed by Rules As Intended, since Jeremy Crawford himself has said he would allow it at his table.  There is an option here for you to indicate the ruling used by your DM: enter a \"1\" if allowed and a \"0\" if disallowed."]
[null,"There are a number of parameters that reflect the likelihood of a character to be able to execute an opportunity attack on an opponent's turn, and these may be edited.  It is recommended to leave them as is."]
[null,"A number of parameters relating to Area of Effect attacks can be indicated.  "]
[null,"The total number of opportunities to use each Area of Effect skill can be indicated.  This limits the total number of, for example, fireballs that can be usefully cast on multiple targets. "]
[null,"The number of targets effected by each ability is also indicated here.  This is sometimes increased by certain skills which have much larger areas of effect (such as fireball)."]
[null,"Simulacrum, when available, tends to dominate DPR calculations.  To disable the contribution from Simulacrum, enter a \"0\" in this box."]
[]
[]
[null,"Copyright 2021 Michael McGeachie.  Permission is given to use this for non-commercial purposes as long as attribution is preserved."]
[null,"Contact me at u/mmcgeach on Reddit with comments, suggestions, error reports, and bugs!"]

{"sheet":"Sorcadins","index":1,"n_rows":1421,"n_cols":28,"rows_kept":1421,"merged":[[2,0,3,0],[2,1,3,1]]}
[{"$nulls":3},"TOTAL DPR OUTPUT",{"$f":"E1421","v":{"v":4.4,"d":"4.40"}},{"$f":"F1421","v":{"v":4.4,"d":"4.40"}},{"v":4.075,"d":"4.08"},{"v":4.075,"d":"4.08"},{"v":4.4,"d":"4.40"},{"v":4.075,"d":"4.08"},{"v":4.075,"d":"4.08"},{"v":4.075,"d":"4.08"},{"v":4.075,"d":"4.08"},{"v":4.075,"d":"4.08"},{"v":4.075,"d":"4.08"},3.75,{"v":4.075,"d":"4.08"},{"v":4.075,"d":"4.08"},3.75,3.75,{"v":4.075,"d":"4.08"},3.75,3.75,3.75]
[]
["Feats / ASI","Level"]
[]
["Warcaster",0,null,"CLASS "]
["Great Weapon Master (GWM)",0,null,"Total Character Level",1,2,3,4,5,6,7,8,9,10,11,12,13,14,15,16,17,18,19,20]
["Elven Accuracy (half)",0,null,"Paladin Level",0,0,0,0,0,0,0,0,0,0,0,0,0,0,0,0,0,0,0,0]
["Polearm Master",0,null,"Barbarian Level",0,0,0,0,0,0,0,0,0,0,0,0,0,0,0,0,0,0,0,0]
["Sentinel",0,null,"Ranger Level",0,0,0,0,0,0,0,0,0,0,0,0,0,0,0,0,0,0,0,0]
["first CHA +2",0,null,"Fighter Level",0,0,0,0,0,0,0,0,0,0,0,0,0,0,0,0,0,0,0,0]
["second CHA +2",0,null,"Rogue Level",0,0,0,0,0,0,0,0,0,0,0,0,0,0,0,0,0,0,0,0]
["first STR +2",0,null,"Warlock Level",0,0,0,0,0,0,0,0,0,0,0,0,0,0,0,0,0,0,0,0]
["second STR +2",0,null,"Sorceror Level",0,0,0,0,0,0,0,0,0,0,0,0,0,0,0,0,0,0,0,0]
["first DEX +2",0,null,"Bard Level",0,0,0,0,0,0,0,0,0,0,0,0,0,0,0,0,0,0,0,0]
["second DEX +2",0,null,"Wizard Level",0,0,0,0,0,0,0,0,0,0,0,0,0,0,0,0,0,0,0,0]
["resilient CON",0,null,"Cleric Level",0,0,0,0,0,0,0,0,0,0,0,0,0,0,0,0,0,0,0,0]
["first INT +2",0,null,"Druid Level",0,0,0,0,0,0,0,0,0,0,0,0,0,0,0,0,0,0,0,0]
["second INT +2",0,null,"Monk Level",0,0,0,0,0,0,0,0,0,0,0,0,0,0,0,0,0,0,0,0]
["first WIS +2",0,null,"Artificer Level",0,0,0,0,0,0,0,0,0,0,0,0,0,0,0,0,0,0,0,0]
["second WIS +2",0,null,"Use single class caster levels",{"$f":"IF(IF(E7>=2,1,0)+IF(E9>=2,1,0)+IF(E13>=1,1,0)+IF(E14>=1,1,0)+IF(E15>=1,1,0)+IF(E16>=1,1,0)+IF(E17>=1,1,0)+IF(E19>=1,1,0)+IF(AND(E10>=3,E54>=1),1,0)+IF(AND(E11>=3,E67>=1),1,0)=1,1,0)","v":0},{"$f":"IF(IF(F7>=2,1,0)+IF(F9>=2,1,0)+IF(F13>=1,1,0)+IF(F14>=1,1,0)+IF(F15>=1,1,0)+IF(F16>=1,1,0)+IF(F17>=1,1,0)+IF(F19>=1,1,0)+IF(AND(F10>=3,F54>=1),1,0)+IF(AND(F11>=3,F67>=1),1,0)=1,1,0)","v":0},0,0,0,0,0,0,0,0,0,0,0,0,0,0,0,0,0,0]
["Dual Wielder",0,null,"Total Multiclass Caster Levels",{"$f":"E16+E13+E14+E15+E17+IF(AND(E20>=1,E9+E7>=2),CEILING((E9+E19+E7)/2,1),FLOOR((E9+E7)/2,1)+CEILING(E19/2,1))+IF(AND(E20>=1,OR(AND(E10>=3,E54>=1),AND(E11>=3,E67>=1))),CEILING((E10+E11)/3,1),IF(OR(AND(E10>=3,E54>=1),AND(E11>=3,E67>=1)),FLOOR((E10+E11)/3,1),0))","v":0},{"$f":"F16+F13+F14+F15+F17+IF(AND(F20>=1,F9+F7>=2),CEILING((F9+F19+F7)/2,1),FLOOR((F9+F7)/2,1)+CEILING(F19/2,1))+IF(AND(F20>=1,OR(AND(F10>=3,F54>=1),AND(F11>=3,F67>=1))),CEILING((F10+F11)/3,1),IF(OR(AND(F10>=3,F54>=1),AND(F11>=3,F67>=1)),FLOOR((F10+F11)/3,1),0))","v":0},0,0,0,0,0,0,0,0,0,0,0,0,0,0,0,0,0,0]
["Sharpshooter",0,null,"ASI's (Ability Score Increase or Feats)",{"$f":"IF(E10>=19,7,IF(E11>=19,6,IF(OR(E7>=19,E12>=19,E16>=19,E14>=19,E15>19,E8>=19,E9>=19,E17>=19,E18>=19,E19>=19,E13>=19),5,FLOOR(E7/4,1)+FLOOR(E13/4,1)+FLOOR(E14/4,1)+FLOOR(E12/4,1)+FLOOR(E16/4,1)+FLOOR(E15/4,1)+FLOOR(E10/4,1)+FLOOR(E8/4,1)+FLOOR(E11/4,1)+FLOOR(E17/4,1)+FLOOR(E9/4,1)+FLOOR(E18/4,1)+FLOOR(E19/4,1)+IF(E10>=6,1,0)+IF(E10>=14,1,0)+IF(E11>=10,1,0))))","v":0},{"$f":"IF(F10>=19,7,IF(F11>=19,6,IF(OR(F7>=19,F12>=19,F16>=19,F14>=19,F15>19,F8>=19,F9>=19,F17>=19,F18>=19,F19>=19,F13>=19),5,FLOOR(F7/4,1)+FLOOR(F13/4,1)+FLOOR(F14/4,1)+FLOOR(F12/4,1)+FLOOR(F16/4,1)+FLOOR(F15/4,1)+FLOOR(F10/4,1)+FLOOR(F8/4,1)+FLOOR(F11/4,1)+FLOOR(F17/4,1)+FLOOR(F9/4,1)+FLOOR(F18/4,1)+FLOOR(F19/4,1)+IF(F10>=6,1,0)+IF(F10>=14,1,0)+IF(F11>=10,1,0))))","v":0},0,0,0,0,0,0,0,0,0,0,0,0,0,0,0,0,0,0]
["Xbow Master",0,null,"feat: Warcaster (opportunity spell attack)",{"$f":"IF(AND($B5>0,E$6>=$B5),1,0)","v":0},0,0,0,0,0,0,0,0,0,0,0,0,0,0,0,0,0,0,0]
["Magic Initiate/Eld Blast",0,null,"feat: GWM (-5 hit, +10 dmg)",{"$f":"IF(AND($B6>0,E$6>=$B6),1,0)","v":0},0,0,0,0,0,0,0,0,0,0,0,0,0,0,0,0,0,0,0]
["RitualCaster/FF/BB",0,null,"feat: Elven Acc (3 adv dice vs 2)",{"$f":"IF(AND($B$7>0,E6>=$B$7),1,0)","v":0},{"$f":"IF(AND($B$7>0,F6>=$B$7),1,0)","v":0},0,0,0,0,0,0,0,0,0,0,0,0,0,0,0,0,0,0]
["Metamagic Adept",0,null,"feat: Polearm Master (bonus action attack)",{"$f":"IF(AND($B8>0,E$6>=$B8),1,0)","v":0},0,0,0,0,0,0,0,0,0,0,0,0,0,0,0,0,0,0,0]
["Piercer (+1 Dex/Str)",0,null,"feat: Sentinel (increases opp attacks)",{"$f":"IF(AND($B9>0,E$6>=$B9),1,0)","v":0},0,0,0,0,0,0,0,0,0,0,0,0,0,0,0,0,0,0,0]
["Crusher (+1 Str/Con)",0,null,"feat: Sharpshooter (-5 hit, +10 dmg, forces ranged)",{"$f":"IF(AND($B22>0,E$6>=$B22),1,0)","v":0},0,0,0,0,0,0,0,0,0,0,0,0,0,0,0,0,0,0,0]
["Fey Touched (half)",0,null,"feat: xbow master (ranged bonus attack, no DisAdv from melee)",{"$f":"IF(AND($B23>0,E$6>=$B23),1,0)","v":0},0,0,0,0,0,0,0,0,0,0,0,0,0,0,0,0,0,0,0]
[{"$nulls":3},"str bon",{"$f":"IF(E8>=20,7,MIN(5,3+SUM(IF(AND($B$12>0,E6>=$B$12),1,0),IF(AND($B$13>0,E6>=$B$13),1,0))))","v":3},3,3,3,3,3,3,3,3,3,3,3,3,3,3,3,3,3,3,3]
["Weapon Choice",null,null,"dex bon",{"$f":"MIN(5,3+SUM(IF(AND($B$14>0,E6>=$B$14),1,0),IF(AND($B$15>0,E6>=$B$15),1,0)))","v":3},3,3,3,3,3,3,3,3,3,3,3,3,3,3,3,3,3,3,3]
["Daggers (d4)",0,null,"cha bonus",{"$f":"MIN(5,3+SUM(IF(AND($B$10>0,E6>=$B$10),1,0),IF(AND($B$11>0,E6>=$B$11),1,0)))","v":3},{"$f":"MIN(5,3+SUM(IF(AND($B$10>0,F6>=$B$10),1,0),IF(AND($B$11>0,F6>=$B$11),1,0)))","v":3},3,3,3,3,3,3,3,3,3,3,3,3,3,3,3,3,3,3]
["Short Sword, Spear, Staff (d6)",0,null,"int bonus",{"$f":"MIN(5,3+SUM(IF(AND($B$17>0,E6>=$B$17),1,0),IF(AND($B$18>0,E6>=$B$18),1,0)))","v":3},3,3,3,3,3,3,3,3,3,3,3,3,3,3,3,3,3,3,3]
["Long Sword, Rapier (d8)",0,null,"wis bonus",{"$f":"MIN(5,3+SUM(IF(AND($B$19>0,E6>=$B$19),1,0),IF(AND($B$20>0,E6>=$B$20),1,0)))","v":3},3,3,3,3,3,3,3,3,3,3,3,3,3,3,3,3,3,3,3]
["Pole arm (d10), reach",0,null,"prof bon",2,2,2,2,3,3,3,3,4,4,4,4,5,5,5,5,6,6,6,6]
["Great Axe (d12)",0,null,"paladin devotion: Oath of Vengence",0,1,1,1,1,1,1,1,1,1,1,1,1,1,1,1,1,1,1,1]
["Great Sword (2d6)",0,null,"paladin devotion: Oathbreaker",0,0,0,0,0,0,0,0,0,0,0,0,0,0,0,0,0,0,0,0,null,"To Do List:"]
["hand xbow (d6)",0,null,"paladin devotion: Oath of Conquest",0,0,0,0,0,0,0,0,0,0,0,0,0,0,0,0,0,0,0,0,null,"shadow sorc hound"]
["long bow (d8)",0,null,"sorcerous origin: shadow",1,1,1,1,1,1,1,1,1,1,1,1,1,1,1,1,1,1,1,1,null,"oathbreaker L20 ability"]
["heavy xbow (d10)",0,null,"sorcerous origin: divine soul",0,0,0,0,0,0,0,0,0,0,0,0,0,0,0,0,0,0,0,0,null,"oath of veng L20 ability"]
[{"$nulls":3},"sorcerous origin: draconic ancestor",0,0,0,0,0,0,0,0,0,0,0,0,0,0,0,0,0,0,0,0,null,"tempest cleric additional spells"]
[{"$nulls":3},"wizard arcane tradition: Bladesinger",0,1,1,1,1,1,1,1,1,1,1,1,1,1,1,1,1,1,1,1,null,"fear: additional sources of fear"]
["Fighting Options",null,null,"wizard arcane tradition: Conjurer",0,0,0,0,0,0,0,0,0,0,0,0,0,0,0,0,0,0,0,0,null,"Swiftquivver"]
["Use 2 Weapons",0,null,"wizard arcane tradition: Evoker",0,0,0,0,0,0,0,0,0,0,0,0,0,0,0,0,0,0,0,0,null,"monks using weapons, like xbow master + sharpshooter"]
["Force Ranged",0,null,"wizard arcane tradition: Necromancer",0,0,0,0,0,0,0,0,0,0,0,0,0,0,0,0,0,0,0,0,null,"kensei monk longbow may benefit from ki-fueled bonus attack at range"]
["Force Melee",0,null,"warlock patron: Hexblade",1,1,1,1,1,1,1,1,1,1,1,1,1,1,1,1,1,1,1,1,null,"kensei monk longbow may benefit from additional martial arts die on each attack if bonus action used"]
["Exclude Eld Blast",0,null,"warlock patron: Fiend",0,0,0,0,0,0,0,0,0,0,0,0,0,0,0,0,0,0,0,0,null,"crusher plus PAM feats leads to more Opp Atts"]
["Use a Shield",0,null,"warlock patron: Genie",0,0,0,0,0,0,0,0,0,0,0,0,0,0,0,0,0,0,0,0,null,"rogue sneak crit chance should be proportional to : (crit attack 1)+(miss att 1)*(crit att2)"]
[{"$nulls":3},"warlock pact: pact of the blade",0,0,1,1,1,1,1,1,1,1,1,1,1,1,1,1,1,1,1,1,null,"shield option which limits dual wielding"]
["Racial Traits",null,null,"warlock pact: pact of the tome",0,0,0,0,0,0,0,0,0,0,0,0,0,0,0,0,0,0,0,0,null,"thunderous smite"]
["Half Orc Brutal Crit",0,null,"warlock pact: pact of the chain",0,0,0,0,0,0,0,0,0,0,0,0,0,0,0,0,0,0,0,0]
["Halfling Lucky",0,null,"fighter martial archetype: Battlemaster",0,0,1,1,1,1,1,1,1,1,1,1,1,1,1,1,1,1,1,1]
["Kobold pack tactics",0,null,"fighter martial archetype: Champion",0,0,0,0,0,0,0,0,0,0,0,0,0,0,0,0,0,0,0,0]
[{"$nulls":3},"fighter martial archetype: Eldritch Knight",0,0,0,0,0,0,0,0,0,0,0,0,0,0,0,0,0,0,0,0]
["Fighting Style","Level",null,"fighter martial archetype: Echo Knight",0,0,0,0,0,0,0,0,0,0,0,0,0,0,0,0,0,0,0,0]
["Archery",0,null,"fighter martial archetype: Samurai",0,0,0,0,0,0,0,0,0,0,0,0,0,0,0,0,0,0,0,0]
["Blind Fighting",0,null,"fighter martial archetype: Cavalier",0,0,0,0,0,0,0,0,0,0,0,0,0,0,0,0,0,0,0,0]
["Dueling",0,null,"fighter martial archetype: Psi-Warrior",0,0,0,0,0,0,0,0,0,0,0,0,0,0,0,0,0,0,0,0]
["GW Fighting",0,null,"fighter martial archetype: Rune Knight",0,0,0,0,0,0,0,0,0,0,0,0,0,0,0,0,0,0,0,0]
["Superior Technique",0,null,"bard college: swords",0,0,0,0,0,0,0,0,0,0,0,0,0,0,0,0,0,0,0,0,null,"DONE"]
["Thrown Weapon Fighting",0,null,"bard college: whispers",1,1,1,1,1,1,1,1,1,1,1,1,1,1,1,1,1,1,1,1,null,"sentinel feat should reduce booming blade movement bonuses"]
["Two Weapon Fighting",0,null,"bard college: lore",0,0,0,0,0,0,0,0,0,0,0,0,0,0,0,0,0,0,0,0,null,"Bards"]
["Unarmed Fighting",0,null,"barbarian path: zealot",0,1,1,1,1,1,1,1,1,1,1,1,1,1,1,1,1,1,1,1,null,"College of Swords"]
[{"$nulls":3},"barbarian path: ancestral guardian",0,0,0,0,0,0,0,0,0,0,0,0,0,0,0,0,0,0,0,0,null,"monks"]
[{"$nulls":3},"barbarian path: beast",0,0,0,0,0,0,0,0,0,0,0,0,0,0,0,0,0,0,0,0,null,"model using best slot by decreasing damage of slot-based spells per action"]
[{"$nulls":3},"roguish archetype: assassin",0,0,1,1,1,1,1,1,1,1,1,1,1,1,1,1,1,1,1,1,null,"Eldritch Smite: knock target prone if used a warlock slot for smiting.  L5 Warlock"]
[{"$nulls":3},"roguish archetype: arcane trickster",0,0,0,0,0,0,0,0,0,0,0,0,0,0,0,0,0,0,0,0,null,"warlock smite (eldritch smite) only once per turn"]
[{"$nulls":3},"roguish archetype: phantom",0,0,0,0,0,0,0,0,0,0,0,0,0,0,0,0,0,0,0,0,null,"Dual Weilding"]
[{"$nulls":3},"roguish archetype: swashbuckler",0,0,0,0,0,0,0,0,0,0,0,0,0,0,0,0,0,0,0,0,null,"Dual Wielding feat"]
[{"$nulls":3},"artificer specialist: battle smith",0,0,1,1,1,1,1,1,1,1,1,1,1,1,1,1,1,1,1,1,null,"Sorc Points coverted to Smite Slots if not used on Quicken"]
[{"$nulls":3},"artificer specialist: artillerist",0,0,0,0,0,0,0,0,0,0,0,0,0,0,0,0,0,0,0,0,null,"percent of fights with a buff round preceeding them"]
[{"$nulls":3},"druid circle: stars",0,0,0,0,0,0,0,0,0,0,0,0,0,0,0,0,0,0,0,0,null,"compute average duration of concentration spells"]
[{"$nulls":3},"druid circle: spores",0,0,0,0,0,0,0,0,0,0,0,0,0,0,0,0,0,0,0,0,null,"concentration probability, based on feats"]
[{"$nulls":3},"druid circle: shepherd",0,0,0,0,0,0,0,0,0,0,0,0,0,0,0,0,0,0,0,0,null,"intelligent use of GWM bonus; only on advantage, for example"]
[{"$nulls":3},"monastic tradition: kensei",1,1,1,1,1,1,1,1,1,1,1,1,1,1,1,1,1,1,1,1,null,"actual DEX stat, some kind of Main Stat indicator"]
[{"$nulls":3},"monastic tradition: way of mercy",0,0,0,0,0,0,0,0,0,0,0,0,0,0,0,0,0,0,0,0,null,"wizard spell allowances"]
[{"$nulls":3},"ranger conclave: gloomstalker",0,0,1,1,1,1,1,1,1,1,1,1,1,1,1,1,1,1,1,1,null,"rogue"]
[{"$nulls":3},"ranger conclave: swarmkeeper",0,0,0,0,0,0,0,0,0,0,0,0,0,0,0,0,0,0,0,0,null,"barbarian"]
[{"$nulls":3},"ranger conclave: beastmaster",0,0,0,0,0,0,0,0,0,0,0,0,0,0,0,0,0,0,0,0,null,"  reckless only with STR attacks"]
[{"$nulls":3},"ranger conclave: hunter",0,0,0,0,0,0,0,0,0,0,0,0,0,0,0,0,0,0,0,0,null,"fewer prone targets at level increases"]
[{"$nulls":3},"cleric domain: war",0,0,0,0,0,0,0,0,0,0,0,0,0,0,0,0,0,0,0,0,null,"bard spell allowances"]
[{"$nulls":3},"cleric domain: death",0,0,0,0,0,0,0,0,0,0,0,0,0,0,0,0,0,0,0,0,null,"other ranged attacks"]
[{"$nulls":3},"cleric domain: tempest",0,0,0,0,0,0,0,0,0,0,0,0,0,0,0,0,0,0,0,0,null,"should allow ranged Rogues to use bonus action on hiding"]
[{"$nulls":3},"cleric domain: peace",1,1,1,1,1,1,1,1,1,1,1,1,1,1,1,1,1,1,1,1,null,"   and L14 rangers"]
[{"$nulls":3},"Use GWM only with Advantage",0,0,0,0,0,0,0,0,0,0,0,0,0,0,0,0,0,0,0,0,null,"need to allow booming blade attacks with assassination"]
[{"$nulls":25},"   need to compare booming blade auto crit damage to "]
[{"$nulls":3},"DESIRED CASTS PER DAY",1,2,3,4,5,6,7,8,9,10,11,12,13,14,15,16,17,18,19,20,null,"   all regular attacks during main attack"]
[{"$nulls":3},"guiding bolt casts: (cleric, divine soul sorc, druid of stars) : AE",0,0,0,0,0,0,0,0,0,0,0,0,0,0,0,0,0,0,0,0,null,"split rogue damage into ranged vs melee"]
[{"$nulls":3},"magic missile: AE",0,0,0,0,0,0,0,0,0,0,0,0,0,0,0,0,0,0,0,0,null,"reckless attacks doesn't apply to Opp attacks"]
[{"$nulls":3},"fog cloud casts: (c)",0,0,0,0,0,0,0,0,0,0,0,0,0,0,0,0,0,0,0,0,null," longbow hexweapon combo…"]
[{"$nulls":3},"pyrotechnics casts: ",0,0,0,0,0,0,0,0,0,0,0,0,0,0,0,0,0,0,0,0,null,"  would let you smite, can choose to not knock prone"]
[{"$nulls":3},"darkness casts: (c) (oathbreaker)",0,0,0,0,0,0,0,0,0,0,0,0,0,0,0,0,0,0,0,0,null,"  requires a L2 eldritch invocation, no hand xbow."]
[{"$nulls":3},"shadow blade (c)",0,0,0,0,0,0,0,0,0,0,0,0,0,0,0,0,0,0,0,0,null,"Should fully integrate Eld Blas"]
[{"$nulls":3},"bless casts (c)",0,0,0,0,0,0,0,0,0,0,0,0,0,0,0,0,0,0,0,0,null,"  animate objects"]
[{"$nulls":3},"divine favor casts (c)",0,0,0,0,0,0,0,0,0,0,0,0,0,0,0,0,0,0,0,0,null,"tiny servant"]
[{"$nulls":3},"haste casts (c) (veng)",0,0,0,0,0,0,0,0,0,0,0,0,0,0,0,0,0,0,0,0,null,"  bigby's hand"]
[{"$nulls":3},"hunter's mark / hex casts (c) (veng) (bonus action)",0,0,0,0,0,0,0,0,0,0,0,0,0,0,0,0,0,0,0,0,null,"  simulacrum"]
[{"$nulls":3},"spirit guardians casts (c) (req Divine Soul)",0,0,0,0,0,0,0,0,0,0,0,0,0,0,0,0,0,0,0,0,null,"  flaming sphere"]
[{"$nulls":3},"faerie fire casts (c)",0,0,0,0,0,0,0,0,0,0,0,0,0,0,0,0,0,0,0,0,null,"  tenser's transformation"]
[{"$nulls":3},"spirit shroud casts (c)",0,0,0,0,0,0,0,0,0,0,0,0,0,0,0,0,0,0,0,0,null,"wizard"]
[{"$nulls":3},"steel wind strike : AE",0,0,0,0,0,0,0,0,0,0,0,0,0,0,0,0,0,0,0,0,null,"    bladesinger"]
[{"$nulls":3},"guardian of nature (c)",0,0,0,0,0,0,0,0,0,0,0,0,0,0,0,0,0,0,0,0,null,"spells"]
[{"$nulls":3},"crown of stars",0,0,0,0,0,0,0,0,0,0,0,0,0,0,0,0,0,0,0,0,null,"  faerie fire"]
[{"$nulls":3},"holy weapon casts (bonus action) (c)",0,0,0,0,0,0,0,0,0,0,0,0,0,0,0,0,0,0,0,0,null,"  steel wind strike"]
[{"$nulls":3},"hold person casts (conq, veng) (c)",0,0,0,0,0,0,0,0,0,0,0,0,0,0,0,0,0,0,0,0,null,"  guardian of nature"]
[{"$nulls":3},"hold monster casts (veng) (c)",0,0,0,0,0,0,0,0,0,0,0,0,0,0,0,0,0,0,0,0,null,"feat for blindfighting allowing darkness."]
[{"$nulls":3},"shadow of moil (c) ",0,0,0,0,0,0,0,0,0,0,0,0,0,0,0,0,0,0,0,0,null,"add two weapon fighting to weapon choice"]
[{"$nulls":3},"greater invisibility (c)",0,0,0,0,0,0,0,0,0,0,0,0,0,0,0,0,0,0,0,0,null,"sorc L20 capstone"]
[{"$nulls":3},"fear casts (conq) (c)",0,0,0,0,0,0,0,0,0,0,0,0,0,0,0,0,0,0,0,0,null,"rogue weapons (finesse weapons)"]
[{"$nulls":3},"tenser's transformation casts (c)",0,0,0,0,0,0,0,0,0,0,0,0,0,0,0,0,0,0,0,0,null,"shadow blade damage scaling"]
[{"$nulls":3},"flaming sphere casts (c) ",0,0,0,0,0,0,0,0,0,0,0,0,0,0,0,0,0,0,0,0,null,"shadow blade L2 warlock dependence(?)"]
[{"$nulls":3},"bigby's hand casts (c) ",0,0,0,0,0,0,0,0,0,0,0,0,0,0,0,0,0,0,0,0,null,"shadow blade advantage percentage : 0.1?"]
[{"$nulls":3},"animate objects casts (c) ",0,0,0,0,0,0,0,0,0,0,0,0,0,0,0,0,0,0,0,0,null,"Eldritch Blast with xbow master feat"]
[{"$nulls":3},"spirtual weapon casts (free) req Conq or Divine S",0,0,0,0,0,0,0,0,0,0,0,0,0,0,0,0,0,0,0,0,null,"Eld Blast review"]
[{"$nulls":3},"fireball casts : AE",0,0,0,0,0,0,0,0,0,0,0,0,0,0,0,0,0,0,0,0,null,"shadow blade incompatibilty with BB (?)"]
[{"$nulls":3},"animate dead (non-combat)",0,0,0,0,0,0,0,0,0,0,0,0,0,0,0,0,0,0,0,0,null,"spending leftover sorc points on Empowered Spell"]
[{"$nulls":3},"tiny servants (non-combat)",0,0,0,0,0,0,0,0,0,0,0,0,0,0,0,0,0,0,0,0,null,"shadow blade reduction of PAM and GWM bonus attacks"]
[{"$nulls":3},"summon beast (c)",0,0,0,0,0,0,0,0,0,0,0,0,0,0,0,0,0,0,0,0,null,"great weapon fighting style should affect base weapon damage (and crits)"]
[{"$nulls":3},"summon fey (c)",0,0,0,0,0,0,0,0,0,0,0,0,0,0,0,0,0,0,0,0,null,"   and also the d4 bonus attack from PAM"]
[{"$nulls":3},"summon undead (c)",0,0,0,0,0,0,0,0,0,0,0,0,0,0,0,0,0,0,0,0,null,"spirit shroud - scaling spell attack damage buff"]
[{"$nulls":3},"summon aberation (c)",0,0,0,0,0,0,0,0,0,0,0,0,0,0,0,0,0,0,0,0,null,"  ss damage on spiritual weapon"]
[{"$nulls":3},"summon construct (c)",0,0,0,0,0,0,0,0,0,0,0,0,0,0,0,0,0,0,0,0,null,"  ss damage on eldritch blast"]
[{"$nulls":3},"summon celestial (c)",0,0,0,0,0,0,0,0,0,0,0,0,0,0,0,0,0,0,0,0,null,"need to fix spell effects to be based on rounds active"]
[{"$nulls":3},"Favored Foe Ranger marking ability (c) (free  action)",0,0,0,0,0,0,0,0,0,0,0,0,0,0,0,0,0,0,0,0,null,"darkness"]
[{"$nulls":3},"Bonus Action to provide Advantage (Spell-like action: Rogue, Ranger)",0,0,0,0,0,0,0,0,0,0,0,0,0,0,0,0,0,0,0,0,null,"shadowblade"]
[{"$nulls":25},"blesss"]
[{"$nulls":3},"Find Familiar (adv on first attack of every round)",{"$f":"IF(IF(E13>=17,1,0)+IF(E15>=1,1,0)+IF(AND($B$25>=1,E6>=$B$25),1,0)+IF(AND(E10>=3,E54>=1),1,0)+IF(AND(E11>=3,E67>=1)+IF(AND(E12>=3,OR(E51>=1,E50>=1)),1,0),1,0)>=1,1,0)+IF(E19>=2,1,0)","v":0},{"$f":"IF(IF(F13>=17,1,0)+IF(F15>=1,1,0)+IF(AND($B$25>=1,F6>=$B$25),1,0)+IF(AND(F10>=3,F54>=1),1,0)+IF(AND(F11>=3,F67>=1)+IF(AND(F12>=3,OR(F51>=1,F50>=1)),1,0),1,0)>=1,1,0)+IF(F19>=2,1,0)","v":0},0,0,0,0,0,0,0,0,0,0,0,0,0,0,0,0,0,0,null,"divine favor"]
[{"$nulls":3},"Has Booming Blade (based on cantrip-class availability, and NOT PAM)",{"$f":"IF(OR(E12>=1,E13>=1,E15>=1,E19>=1,AND(E10>=3,E54),AND($B$25>=1,E6>=$B$25),AND(E11>=3,E67)),1,0)","v":0},{"$f":"IF(OR(F12>=1,F13>=1,F15>=1,F19>=1,AND(F10>=3,F54),AND($B$25>=1,F6>=$B$25),AND(F11>=3,F67)),1,0)","v":0},0,0,0,0,0,0,0,0,0,0,0,0,0,0,0,0,0,0,null,"haste"]
[{"$nulls":3},"Avg Opp AC",{"$f":"'Caster Tables'!C7+'Base Numbers'!$G$5","v":13},{"$f":"'Caster Tables'!D7+'Base Numbers'!$G$5","v":13},{"$f":"'Caster Tables'!E7+'Base Numbers'!$G$5","v":14},{"$f":"'Caster Tables'!F7+'Base Numbers'!$G$5","v":14},{"$f":"'Caster Tables'!G7+'Base Numbers'!$G$5","v":14},{"$f":"'Caster Tables'!H7+'Base Numbers'!$G$5","v":15},{"$f":"'Caster Tables'!I7+'Base Numbers'!$G$5","v":15},{"$f":"'Caster Tables'!J7+'Base Numbers'!$G$5","v":15},{"$f":"'Caster Tables'!K7+'Base Numbers'!$G$5","v":16},{"$f":"'Caster Tables'!L7+'Base Numbers'!$G$5","v":16},{"$f":"'Caster Tables'!M7+'Base Numbers'!$G$5","v":16},{"$f":"'Caster Tables'!N7+'Base Numbers'!$G$5","v":17},{"$f":"'Caster Tables'!O7+'Base Numbers'!$G$5","v":17},{"$f":"'Caster Tables'!P7+'Base Numbers'!$G$5","v":17},{"$f":"'Caster Tables'!Q7+'Base Numbers'!$G$5","v":18},{"$f":"'Caster Tables'!R7+'Base Numbers'!$G$5","v":18},{"$f":"'Caster Tables'!S7+'Base Numbers'!$G$5","v":18},{"$f":"'Caster Tables'!T7+'Base Numbers'!$G$5","v":19},{"$f":"'Caster Tables'!U7+'Base Numbers'!$G$5","v":19},{"$f":"'Caster Tables'!V7+'Base Numbers'!$G$5","v":19},null,"hold perseon"]
[{"$nulls":3},"Avg Opp save prob",{"$f":"14/20 - E32/20 - E35/20+'Caster Tables'!C6/20","v":0.39999999999999997},{"$f":"14/20 - F32/20 - F35/20+'Caster Tables'!D6/20","v":0.39999999999999997},{"$f":"14/20 - G32/20 - G35/20+'Caster Tables'!E6/20","v":0.44999999999999996},{"$f":"14/20 - H32/20 - H35/20+'Caster Tables'!F6/20","v":0.44999999999999996},{"$f":"14/20 - I32/20 - I35/20+'Caster Tables'!G6/20","v":0.3999999999999999},{"$f":"14/20 - J32/20 - J35/20+'Caster Tables'!H6/20","v":0.3999999999999999},{"$f":"14/20 - K32/20 - K35/20+'Caster Tables'!I6/20","v":0.4499999999999999},{"$f":"14/20 - L32/20 - L35/20+'Caster Tables'!J6/20","v":0.4499999999999999},{"$f":"14/20 - M32/20 - M35/20+'Caster Tables'!K6/20","v":0.44999999999999996},{"$f":"14/20 - N32/20 - N35/20+'Caster Tables'!L6/20","v":0.44999999999999996},{"$f":"14/20 - O32/20 - O35/20+'Caster Tables'!M6/20","v":0.44999999999999996},{"$f":"14/20 - P32/20 - P35/20+'Caster Tables'!N6/20","v":0.4999999999999999},{"$f":"14/20 - Q32/20 - Q35/20+'Caster Tables'!O6/20","v":0.44999999999999996},{"$f":"14/20 - R32/20 - R35/20+'Caster Tables'!P6/20","v":0.49999999999999994},{"$f":"14/20 - S32/20 - S35/20+'Caster Tables'!Q6/20","v":0.49999999999999994},{"$f":"14/20 - T32/20 - T35/20+'Caster Tables'!R6/20","v":0.5499999999999999},{"$f":"14/20 - U32/20 - U35/20+'Caster Tables'!S6/20","v":0.49999999999999994},{"$f":"14/20 - V32/20 - V35/20+'Caster Tables'!T6/20","v":0.5499999999999999},{"$f":"14/20 - W32/20 - W35/20+'Caster Tables'!U6/20","v":0.5499999999999999},{"$f":"14/20 - X32/20 - X35/20+'Caster Tables'!V6/20","v":0.5999999999999999},null,"greater invis"]
[{"$nulls":3},"Use CHA bonus (if Hexblade Warlock >0)",{"$f":"IF(AND(E133=0,E8<=1,E46>0,OR(AND(E12>=1,AND(E32>=E31,E32>=E30),OR($B$32>=1,$B$33>=1,$B$34>=1)),AND(E12>=3,E49>=1,$B$38=0,E32>=E30))),1,0)","v":0},0,0,0,0,0,0,0,0,0,0,0,0,0,0,0,0,0,0,0,null,"Most of these will take effect on the Bonus Action, if available"]
[{"$nulls":3},"Use DEX bonus (if no GWM, PAM, and DEX > STR, no Barb 2, Or Monk1)",{"$f":"IF(AND(E133=0,E8<=1),IF(AND(E131=0,OR(E18>=1,AND(E26=0,E24=0)),E31>E30),1,0),0)","v":0},{"$f":"IF(AND(F133=0,F8<=1),IF(AND(F131=0,OR(F18>=1,AND(F26=0,F24=0)),F31>F30),1,0),0)","v":0},0,0,0,0,0,0,0,0,0,0,0,0,0,0,0,0,0,0,null,"can add +1 to their duration for bonus action Advantage, which is the point of most of them"]
[{"$nulls":3},"Use INT bonus (if Artificer Battle Smith)",{"$f":"IF(AND(E8<=1,AND(E19>=3,E70>=1)),1,0)","v":0},0,0,0,0,0,0,0,0,0,0,0,0,0,0,0,0,0,0,0,null,"fighters"]
[{"$nulls":3},"Use STR bonus (otherwise)",{"$f":"IF(E8>=2,1,IF(AND(E132=0,AND(E131=0,E133=0)),1,0))","v":1},1,1,1,1,1,1,1,1,1,1,1,1,1,1,1,1,1,1,1,null,"  action surge"]
[{"$nulls":3},"Total hit and damage bonus (CHA discounted by shadowblade uptime)",{"$f":"IF(E134,E30,0)+IF(E133,E33,0)+IF(E132,E31,0)+IF(E131,E32*(1-E313)+E313*MAX(E30,E31),0)","v":3},3,3,3,3,3,3,3,3,3,3,3,3,3,3,3,3,3,3,3,null,"  subclasses"]
[{"$nulls":3},"Infer if Ranged: Best guess based on spec",{"$f":"IF(AND(E28>=1,NOT(E26),NOT(E24)),1,0)","v":0},0,0,0,0,0,0,0,0,0,0,0,0,0,0,0,0,0,0,0,null,"    psi-warrior"]
[{"$nulls":3},"Force Ranged (turns off melee attacks, bonus attacks, smites, BB)",{"$f":"IF($B45>=1,1,0)","v":0},0,0,0,0,0,0,0,0,0,0,0,0,0,0,0,0,0,0,0,null,"    battlemaster has dice with minimal damage impact, although can prone"]
[{"$nulls":3},"Force Melee (turns off ranged attacks)",{"$f":"IF($B46>=1,1,0)","v":0},0,0,0,0,0,0,0,0,0,0,0,0,0,0,0,0,0,0,0,null,"    battlemaster can also turn miss into hit, and gain a reposte opp att"]
[{"$nulls":3},"Exclude Eld Blast",{"$f":"IF($B47>=1,1,0)","v":0},0,0,0,0,0,0,0,0,0,0,0,0,0,0,0,0,0,0,0,null,"    cavalier has extra opp attacks and prone stuff"]
[{"$nulls":25},"    champion has increased crit range"]
[{"$nulls":25},"    echo knight"]
[{"$nulls":3},"ALLOWED CASTS PER DAY (checks level/class requirements)",1,2,3,4,5,6,7,8,9,10,11,12,13,14,15,16,17,18,19,20,null,"    eldritch knight gives bonus actions if use a cantrip"]
[{"$nulls":3},"guiding bolt casts (cleric, druid of stars)",{"$f":"IF(OR('Base Numbers'!$C$21,AND(E17>=2,E72),AND(E13>=1,E40),E16>=1,E14>=10,AND(E14>=6,E61>=1)),E88,0)","v":0},{"$f":"IF(OR('Base Numbers'!$C$21,AND(F17>=2,F72),AND(F13>=1,F40),F16>=1,F14>=10,AND(F14>=6,F61>=1)),F88,0)","v":0},{"$f":"IF(OR('Base Numbers'!$C$21,AND(G17>=2,G72),AND(G13>=1,G40),G16>=1,G14>=10,AND(G14>=6,G61>=1)),G88,0)","v":0},{"$f":"IF(OR('Base Numbers'!$C$21,AND(H17>=2,H72),AND(H13>=1,H40),H16>=1,H14>=10,AND(H14>=6,H61>=1)),H88,0)","v":0},{"$f":"IF(OR('Base Numbers'!$C$21,AND(I17>=2,I72),AND(I13>=1,I40),I16>=1,I14>=10,AND(I14>=6,I61>=1)),I88,0)","v":0},{"$f":"IF(OR('Base Numbers'!$C$21,AND(J17>=2,J72),AND(J13>=1,J40),J16>=1,J14>=10,AND(J14>=6,J61>=1)),J88,0)","v":0},{"$f":"IF(OR('Base Numbers'!$C$21,AND(K17>=2,K72),AND(K13>=1,K40),K16>=1,K14>=10,AND(K14>=6,K61>=1)),K88,0)","v":0},{"$f":"IF(OR('Base Numbers'!$C$21,AND(L17>=2,L72),AND(L13>=1,L40),L16>=1,L14>=10,AND(L14>=6,L61>=1)),L88,0)","v":0},{"$f":"IF(OR('Base Numbers'!$C$21,AND(M17>=2,M72),AND(M13>=1,M40),M16>=1,M14>=10,AND(M14>=6,M61>=1)),M88,0)","v":0},{"$f":"IF(OR('Base Numbers'!$C$21,AND(N17>=2,N72),AND(N13>=1,N40),N16>=1,N14>=10,AND(N14>=6,N61>=1)),N88,0)","v":0},{"$f":"IF(OR('Base Numbers'!$C$21,AND(O17>=2,O72),AND(O13>=1,O40),O16>=1,O14>=10,AND(O14>=6,O61>=1)),O88,0)","v":0},{"$f":"IF(OR('Base Numbers'!$C$21,AND(P17>=2,P72),AND(P13>=1,P40),P16>=1,P14>=10,AND(P14>=6,P61>=1)),P88,0)","v":0},{"$f":"IF(OR('Base Numbers'!$C$21,AND(Q17>=2,Q72),AND(Q13>=1,Q40),Q16>=1,Q14>=10,AND(Q14>=6,Q61>=1)),Q88,0)","v":0},{"$f":"IF(OR('Base Numbers'!$C$21,AND(R17>=2,R72),AND(R13>=1,R40),R16>=1,R14>=10,AND(R14>=6,R61>=1)),R88,0)","v":0},{"$f":"IF(OR('Base Numbers'!$C$21,AND(S17>=2,S72),AND(S13>=1,S40),S16>=1,S14>=10,AND(S14>=6,S61>=1)),S88,0)","v":0},{"$f":"IF(OR('Base Numbers'!$C$21,AND(T17>=2,T72),AND(T13>=1,T40),T16>=1,T14>=10,AND(T14>=6,T61>=1)),T88,0)","v":0},{"$f":"IF(OR('Base Numbers'!$C$21,AND(U17>=2,U72),AND(U13>=1,U40),U16>=1,U14>=10,AND(U14>=6,U61>=1)),U88,0)","v":0},{"$f":"IF(OR('Base Numbers'!$C$21,AND(V17>=2,V72),AND(V13>=1,V40),V16>=1,V14>=10,AND(V14>=6,V61>=1)),V88,0)","v":0},{"$f":"IF(OR('Base Numbers'!$C$21,AND(W17>=2,W72),AND(W13>=1,W40),W16>=1,W14>=10,AND(W14>=6,W61>=1)),W88,0)","v":0},{"$f":"IF(OR('Base Numbers'!$C$21,AND(X17>=2,X72),AND(X13>=1,X40),X16>=1,X14>=10,AND(X14>=6,X61>=1)),X88,0)","v":0},null,"Tasha's subclasses for:"]
[{"$nulls":3},"magic missile: AE",{"$f":"IF(OR('Base Numbers'!$C$21,E15>=1,E13>=1,E14>=10,AND(E14>=6,E61>=1)),E89,0)","v":0},{"$f":"IF(OR('Base Numbers'!$C$21,F15>=1,F13>=1,F14>=10,AND(F14>=6,F61>=1)),F89,0)","v":0},{"$f":"IF(OR('Base Numbers'!$C$21,G15>=1,G13>=1,G14>=10,AND(G14>=6,G61>=1)),G89,0)","v":0},{"$f":"IF(OR('Base Numbers'!$C$21,H15>=1,H13>=1,H14>=10,AND(H14>=6,H61>=1)),H89,0)","v":0},{"$f":"IF(OR('Base Numbers'!$C$21,I15>=1,I13>=1,I14>=10,AND(I14>=6,I61>=1)),I89,0)","v":0},{"$f":"IF(OR('Base Numbers'!$C$21,J15>=1,J13>=1,J14>=10,AND(J14>=6,J61>=1)),J89,0)","v":0},{"$f":"IF(OR('Base Numbers'!$C$21,K15>=1,K13>=1,K14>=10,AND(K14>=6,K61>=1)),K89,0)","v":0},{"$f":"IF(OR('Base Numbers'!$C$21,L15>=1,L13>=1,L14>=10,AND(L14>=6,L61>=1)),L89,0)","v":0},{"$f":"IF(OR('Base Numbers'!$C$21,M15>=1,M13>=1,M14>=10,AND(M14>=6,M61>=1)),M89,0)","v":0},{"$f":"IF(OR('Base Numbers'!$C$21,N15>=1,N13>=1,N14>=10,AND(N14>=6,N61>=1)),N89,0)","v":0},{"$f":"IF(OR('Base Numbers'!$C$21,O15>=1,O13>=1,O14>=10,AND(O14>=6,O61>=1)),O89,0)","v":0},{"$f":"IF(OR('Base Numbers'!$C$21,P15>=1,P13>=1,P14>=10,AND(P14>=6,P61>=1)),P89,0)","v":0},{"$f":"IF(OR('Base Numbers'!$C$21,Q15>=1,Q13>=1,Q14>=10,AND(Q14>=6,Q61>=1)),Q89,0)","v":0},{"$f":"IF(OR('Base Numbers'!$C$21,R15>=1,R13>=1,R14>=10,AND(R14>=6,R61>=1)),R89,0)","v":0},{"$f":"IF(OR('Base Numbers'!$C$21,S15>=1,S13>=1,S14>=10,AND(S14>=6,S61>=1)),S89,0)","v":0},{"$f":"IF(OR('Base Numbers'!$C$21,T15>=1,T13>=1,T14>=10,AND(T14>=6,T61>=1)),T89,0)","v":0},{"$f":"IF(OR('Base Numbers'!$C$21,U15>=1,U13>=1,U14>=10,AND(U14>=6,U61>=1)),U89,0)","v":0},{"$f":"IF(OR('Base Numbers'!$C$21,V15>=1,V13>=1,V14>=10,AND(V14>=6,V61>=1)),V89,0)","v":0},{"$f":"IF(OR('Base Numbers'!$C$21,W15>=1,W13>=1,W14>=10,AND(W14>=6,W61>=1)),W89,0)","v":0},{"$f":"IF(OR('Base Numbers'!$C$21,X15>=1,X13>=1,X14>=10,AND(X14>=6,X61>=1)),X89,0)","v":0},null,"rogue"]
[{"$nulls":3},"fog cloud casts: (c)",{"$f":"IF(OR('Base Numbers'!$C$21,E9>=2,E13>=1,E15>=1,E17>=1,AND(E10>=3,E54>=1),AND(E11>=3,E67>=1),E14>=10,AND(E14>=6,E61>=1),AND(E12>=1,E48>=1)),E90,0)","v":0},{"$f":"IF(OR('Base Numbers'!$C$21,F9>=2,F13>=1,F15>=1,F17>=1,AND(F10>=3,F54>=1),AND(F11>=3,F67>=1),F14>=10,AND(F14>=6,F61>=1),AND(F12>=1,F48>=1)),F90,0)","v":0},{"$f":"IF(OR('Base Numbers'!$C$21,G9>=2,G13>=1,G15>=1,G17>=1,AND(G10>=3,G54>=1),AND(G11>=3,G67>=1),G14>=10,AND(G14>=6,G61>=1),AND(G12>=1,G48>=1)),G90,0)","v":0},{"$f":"IF(OR('Base Numbers'!$C$21,H9>=2,H13>=1,H15>=1,H17>=1,AND(H10>=3,H54>=1),AND(H11>=3,H67>=1),H14>=10,AND(H14>=6,H61>=1),AND(H12>=1,H48>=1)),H90,0)","v":0},{"$f":"IF(OR('Base Numbers'!$C$21,I9>=2,I13>=1,I15>=1,I17>=1,AND(I10>=3,I54>=1),AND(I11>=3,I67>=1),I14>=10,AND(I14>=6,I61>=1),AND(I12>=1,I48>=1)),I90,0)","v":0},{"$f":"IF(OR('Base Numbers'!$C$21,J9>=2,J13>=1,J15>=1,J17>=1,AND(J10>=3,J54>=1),AND(J11>=3,J67>=1),J14>=10,AND(J14>=6,J61>=1),AND(J12>=1,J48>=1)),J90,0)","v":0},{"$f":"IF(OR('Base Numbers'!$C$21,K9>=2,K13>=1,K15>=1,K17>=1,AND(K10>=3,K54>=1),AND(K11>=3,K67>=1),K14>=10,AND(K14>=6,K61>=1),AND(K12>=1,K48>=1)),K90,0)","v":0},{"$f":"IF(OR('Base Numbers'!$C$21,L9>=2,L13>=1,L15>=1,L17>=1,AND(L10>=3,L54>=1),AND(L11>=3,L67>=1),L14>=10,AND(L14>=6,L61>=1),AND(L12>=1,L48>=1)),L90,0)","v":0},{"$f":"IF(OR('Base Numbers'!$C$21,M9>=2,M13>=1,M15>=1,M17>=1,AND(M10>=3,M54>=1),AND(M11>=3,M67>=1),M14>=10,AND(M14>=6,M61>=1),AND(M12>=1,M48>=1)),M90,0)","v":0},{"$f":"IF(OR('Base Numbers'!$C$21,N9>=2,N13>=1,N15>=1,N17>=1,AND(N10>=3,N54>=1),AND(N11>=3,N67>=1),N14>=10,AND(N14>=6,N61>=1),AND(N12>=1,N48>=1)),N90,0)","v":0},{"$f":"IF(OR('Base Numbers'!$C$21,O9>=2,O13>=1,O15>=1,O17>=1,AND(O10>=3,O54>=1),AND(O11>=3,O67>=1),O14>=10,AND(O14>=6,O61>=1),AND(O12>=1,O48>=1)),O90,0)","v":0},{"$f":"IF(OR('Base Numbers'!$C$21,P9>=2,P13>=1,P15>=1,P17>=1,AND(P10>=3,P54>=1),AND(P11>=3,P67>=1),P14>=10,AND(P14>=6,P61>=1),AND(P12>=1,P48>=1)),P90,0)","v":0},{"$f":"IF(OR('Base Numbers'!$C$21,Q9>=2,Q13>=1,Q15>=1,Q17>=1,AND(Q10>=3,Q54>=1),AND(Q11>=3,Q67>=1),Q14>=10,AND(Q14>=6,Q61>=1),AND(Q12>=1,Q48>=1)),Q90,0)","v":0},{"$f":"IF(OR('Base Numbers'!$C$21,R9>=2,R13>=1,R15>=1,R17>=1,AND(R10>=3,R54>=1),AND(R11>=3,R67>=1),R14>=10,AND(R14>=6,R61>=1),AND(R12>=1,R48>=1)),R90,0)","v":0},{"$f":"IF(OR('Base Numbers'!$C$21,S9>=2,S13>=1,S15>=1,S17>=1,AND(S10>=3,S54>=1),AND(S11>=3,S67>=1),S14>=10,AND(S14>=6,S61>=1),AND(S12>=1,S48>=1)),S90,0)","v":0},{"$f":"IF(OR('Base Numbers'!$C$21,T9>=2,T13>=1,T15>=1,T17>=1,AND(T10>=3,T54>=1),AND(T11>=3,T67>=1),T14>=10,AND(T14>=6,T61>=1),AND(T12>=1,T48>=1)),T90,0)","v":0},{"$f":"IF(OR('Base Numbers'!$C$21,U9>=2,U13>=1,U15>=1,U17>=1,AND(U10>=3,U54>=1),AND(U11>=3,U67>=1),U14>=10,AND(U14>=6,U61>=1),AND(U12>=1,U48>=1)),U90,0)","v":0},{"$f":"IF(OR('Base Numbers'!$C$21,V9>=2,V13>=1,V15>=1,V17>=1,AND(V10>=3,V54>=1),AND(V11>=3,V67>=1),V14>=10,AND(V14>=6,V61>=1),AND(V12>=1,V48>=1)),V90,0)","v":0},{"$f":"IF(OR('Base Numbers'!$C$21,W9>=2,W13>=1,W15>=1,W17>=1,AND(W10>=3,W54>=1),AND(W11>=3,W67>=1),W14>=10,AND(W14>=6,W61>=1),AND(W12>=1,W48>=1)),W90,0)","v":0},{"$f":"IF(OR('Base Numbers'!$C$21,X9>=2,X13>=1,X15>=1,X17>=1,AND(X10>=3,X54>=1),AND(X11>=3,X67>=1),X14>=10,AND(X14>=6,X61>=1),AND(X12>=1,X48>=1)),X90,0)","v":0},null,"    phantom"]
[{"$nulls":3},"pyrotechnics casts: ",{"$f":"IF(OR('Base Numbers'!$C$21,E13>=3,E15>=3,E19>=5,E14>=3,AND(E10>=7,E54>=1),AND(E11>=7,E67>=1)),E91,0)","v":0},{"$f":"IF(OR('Base Numbers'!$C$21,F13>=3,F15>=3,F19>=5,F14>=3,AND(F10>=7,F54>=1),AND(F11>=7,F67>=1)),F91,0)","v":0},{"$f":"IF(OR('Base Numbers'!$C$21,G13>=3,G15>=3,G19>=5,G14>=3,AND(G10>=7,G54>=1),AND(G11>=7,G67>=1)),G91,0)","v":0},{"$f":"IF(OR('Base Numbers'!$C$21,H13>=3,H15>=3,H19>=5,H14>=3,AND(H10>=7,H54>=1),AND(H11>=7,H67>=1)),H91,0)","v":0},{"$f":"IF(OR('Base Numbers'!$C$21,I13>=3,I15>=3,I19>=5,I14>=3,AND(I10>=7,I54>=1),AND(I11>=7,I67>=1)),I91,0)","v":0},{"$f":"IF(OR('Base Numbers'!$C$21,J13>=3,J15>=3,J19>=5,J14>=3,AND(J10>=7,J54>=1),AND(J11>=7,J67>=1)),J91,0)","v":0},{"$f":"IF(OR('Base Numbers'!$C$21,K13>=3,K15>=3,K19>=5,K14>=3,AND(K10>=7,K54>=1),AND(K11>=7,K67>=1)),K91,0)","v":0},{"$f":"IF(OR('Base Numbers'!$C$21,L13>=3,L15>=3,L19>=5,L14>=3,AND(L10>=7,L54>=1),AND(L11>=7,L67>=1)),L91,0)","v":0},{"$f":"IF(OR('Base Numbers'!$C$21,M13>=3,M15>=3,M19>=5,M14>=3,AND(M10>=7,M54>=1),AND(M11>=7,M67>=1)),M91,0)","v":0},{"$f":"IF(OR('Base Numbers'!$C$21,N13>=3,N15>=3,N19>=5,N14>=3,AND(N10>=7,N54>=1),AND(N11>=7,N67>=1)),N91,0)","v":0},{"$f":"IF(OR('Base Numbers'!$C$21,O13>=3,O15>=3,O19>=5,O14>=3,AND(O10>=7,O54>=1),AND(O11>=7,O67>=1)),O91,0)","v":0},{"$f":"IF(OR('Base Numbers'!$C$21,P13>=3,P15>=3,P19>=5,P14>=3,AND(P10>=7,P54>=1),AND(P11>=7,P67>=1)),P91,0)","v":0},{"$f":"IF(OR('Base Numbers'!$C$21,Q13>=3,Q15>=3,Q19>=5,Q14>=3,AND(Q10>=7,Q54>=1),AND(Q11>=7,Q67>=1)),Q91,0)","v":0},{"$f":"IF(OR('Base Numbers'!$C$21,R13>=3,R15>=3,R19>=5,R14>=3,AND(R10>=7,R54>=1),AND(R11>=7,R67>=1)),R91,0)","v":0},{"$f":"IF(OR('Base Numbers'!$C$21,S13>=3,S15>=3,S19>=5,S14>=3,AND(S10>=7,S54>=1),AND(S11>=7,S67>=1)),S91,0)","v":0},{"$f":"IF(OR('Base Numbers'!$C$21,T13>=3,T15>=3,T19>=5,T14>=3,AND(T10>=7,T54>=1),AND(T11>=7,T67>=1)),T91,0)","v":0},{"$f":"IF(OR('Base Numbers'!$C$21,U13>=3,U15>=3,U19>=5,U14>=3,AND(U10>=7,U54>=1),AND(U11>=7,U67>=1)),U91,0)","v":0},{"$f":"IF(OR('Base Numbers'!$C$21,V13>=3,V15>=3,V19>=5,V14>=3,AND(V10>=7,V54>=1),AND(V11>=7,V67>=1)),V91,0)","v":0},{"$f":"IF(OR('Base Numbers'!$C$21,W13>=3,W15>=3,W19>=5,W14>=3,AND(W10>=7,W54>=1),AND(W11>=7,W67>=1)),W91,0)","v":0},{"$f":"IF(OR('Base Numbers'!$C$21,X13>=3,X15>=3,X19>=5,X14>=3,AND(X10>=7,X54>=1),AND(X11>=7,X67>=1)),X91,0)","v":0},null,"ranger"]
[{"$nulls":3},"darkness casts: (c) (oathbreaker)",{"$f":"IF(OR('Base Numbers'!$C$21,E14>=6,E15>=3,E13>=3,E12>=3,AND(E7>=5,E37)),E92,0)","v":0},{"$f":"IF(OR('Base Numbers'!$C$21,F14>=6,F15>=3,F13>=3,F12>=3,AND(F7>=5,F37)),F92,0)","v":0},{"$f":"IF(OR('Base Numbers'!$C$21,G14>=6,G15>=3,G13>=3,G12>=3,AND(G7>=5,G37)),G92,0)","v":0},{"$f":"IF(OR('Base Numbers'!$C$21,H14>=6,H15>=3,H13>=3,H12>=3,AND(H7>=5,H37)),H92,0)","v":0},{"$f":"IF(OR('Base Numbers'!$C$21,I14>=6,I15>=3,I13>=3,I12>=3,AND(I7>=5,I37)),I92,0)","v":0},{"$f":"IF(OR('Base Numbers'!$C$21,J14>=6,J15>=3,J13>=3,J12>=3,AND(J7>=5,J37)),J92,0)","v":0},{"$f":"IF(OR('Base Numbers'!$C$21,K14>=6,K15>=3,K13>=3,K12>=3,AND(K7>=5,K37)),K92,0)","v":0},{"$f":"IF(OR('Base Numbers'!$C$21,L14>=6,L15>=3,L13>=3,L12>=3,AND(L7>=5,L37)),L92,0)","v":0},{"$f":"IF(OR('Base Numbers'!$C$21,M14>=6,M15>=3,M13>=3,M12>=3,AND(M7>=5,M37)),M92,0)","v":0},{"$f":"IF(OR('Base Numbers'!$C$21,N14>=6,N15>=3,N13>=3,N12>=3,AND(N7>=5,N37)),N92,0)","v":0},{"$f":"IF(OR('Base Numbers'!$C$21,O14>=6,O15>=3,O13>=3,O12>=3,AND(O7>=5,O37)),O92,0)","v":0},{"$f":"IF(OR('Base Numbers'!$C$21,P14>=6,P15>=3,P13>=3,P12>=3,AND(P7>=5,P37)),P92,0)","v":0},{"$f":"IF(OR('Base Numbers'!$C$21,Q14>=6,Q15>=3,Q13>=3,Q12>=3,AND(Q7>=5,Q37)),Q92,0)","v":0},{"$f":"IF(OR('Base Numbers'!$C$21,R14>=6,R15>=3,R13>=3,R12>=3,AND(R7>=5,R37)),R92,0)","v":0},{"$f":"IF(OR('Base Numbers'!$C$21,S14>=6,S15>=3,S13>=3,S12>=3,AND(S7>=5,S37)),S92,0)","v":0},{"$f":"IF(OR('Base Numbers'!$C$21,T14>=6,T15>=3,T13>=3,T12>=3,AND(T7>=5,T37)),T92,0)","v":0},{"$f":"IF(OR('Base Numbers'!$C$21,U14>=6,U15>=3,U13>=3,U12>=3,AND(U7>=5,U37)),U92,0)","v":0},{"$f":"IF(OR('Base Numbers'!$C$21,V14>=6,V15>=3,V13>=3,V12>=3,AND(V7>=5,V37)),V92,0)","v":0},{"$f":"IF(OR('Base Numbers'!$C$21,W14>=6,W15>=3,W13>=3,W12>=3,AND(W7>=5,W37)),W92,0)","v":0},{"$f":"IF(OR('Base Numbers'!$C$21,X14>=6,X15>=3,X13>=3,X12>=3,AND(X7>=5,X37)),X92,0)","v":0},null,"  swarmkeeper"]
[{"$nulls":3},"shadow blade (c) (bonus action)",{"$f":"IF(OR('Base Numbers'!$C$21,AND(E10>=7,E54>=1),AND(E11>=7, E67>=1),E15>=3,E14>=10,AND(E14>=6,E61>=1),E12>=3,E13>=3),E93,0)","v":0},{"$f":"IF(OR('Base Numbers'!$C$21,AND(F10>=7,F54>=1),AND(F11>=7, F67>=1),F15>=3,F14>=10,AND(F14>=6,F61>=1),F12>=3,F13>=3),F93,0)","v":0},{"$f":"IF(OR('Base Numbers'!$C$21,AND(G10>=7,G54>=1),AND(G11>=7, G67>=1),G15>=3,G14>=10,AND(G14>=6,G61>=1),G12>=3,G13>=3),G93,0)","v":0},{"$f":"IF(OR('Base Numbers'!$C$21,AND(H10>=7,H54>=1),AND(H11>=7, H67>=1),H15>=3,H14>=10,AND(H14>=6,H61>=1),H12>=3,H13>=3),H93,0)","v":0},{"$f":"IF(OR('Base Numbers'!$C$21,AND(I10>=7,I54>=1),AND(I11>=7, I67>=1),I15>=3,I14>=10,AND(I14>=6,I61>=1),I12>=3,I13>=3),I93,0)","v":0},{"$f":"IF(OR('Base Numbers'!$C$21,AND(J10>=7,J54>=1),AND(J11>=7, J67>=1),J15>=3,J14>=10,AND(J14>=6,J61>=1),J12>=3,J13>=3),J93,0)","v":0},{"$f":"IF(OR('Base Numbers'!$C$21,AND(K10>=7,K54>=1),AND(K11>=7, K67>=1),K15>=3,K14>=10,AND(K14>=6,K61>=1),K12>=3,K13>=3),K93,0)","v":0},{"$f":"IF(OR('Base Numbers'!$C$21,AND(L10>=7,L54>=1),AND(L11>=7, L67>=1),L15>=3,L14>=10,AND(L14>=6,L61>=1),L12>=3,L13>=3),L93,0)","v":0},{"$f":"IF(OR('Base Numbers'!$C$21,AND(M10>=7,M54>=1),AND(M11>=7, M67>=1),M15>=3,M14>=10,AND(M14>=6,M61>=1),M12>=3,M13>=3),M93,0)","v":0},{"$f":"IF(OR('Base Numbers'!$C$21,AND(N10>=7,N54>=1),AND(N11>=7, N67>=1),N15>=3,N14>=10,AND(N14>=6,N61>=1),N12>=3,N13>=3),N93,0)","v":0},{"$f":"IF(OR('Base Numbers'!$C$21,AND(O10>=7,O54>=1),AND(O11>=7, O67>=1),O15>=3,O14>=10,AND(O14>=6,O61>=1),O12>=3,O13>=3),O93,0)","v":0},{"$f":"IF(OR('Base Numbers'!$C$21,AND(P10>=7,P54>=1),AND(P11>=7, P67>=1),P15>=3,P14>=10,AND(P14>=6,P61>=1),P12>=3,P13>=3),P93,0)","v":0},{"$f":"IF(OR('Base Numbers'!$C$21,AND(Q10>=7,Q54>=1),AND(Q11>=7, Q67>=1),Q15>=3,Q14>=10,AND(Q14>=6,Q61>=1),Q12>=3,Q13>=3),Q93,0)","v":0},{"$f":"IF(OR('Base Numbers'!$C$21,AND(R10>=7,R54>=1),AND(R11>=7, R67>=1),R15>=3,R14>=10,AND(R14>=6,R61>=1),R12>=3,R13>=3),R93,0)","v":0},{"$f":"IF(OR('Base Numbers'!$C$21,AND(S10>=7,S54>=1),AND(S11>=7, S67>=1),S15>=3,S14>=10,AND(S14>=6,S61>=1),S12>=3,S13>=3),S93,0)","v":0},{"$f":"IF(OR('Base Numbers'!$C$21,AND(T10>=7,T54>=1),AND(T11>=7, T67>=1),T15>=3,T14>=10,AND(T14>=6,T61>=1),T12>=3,T13>=3),T93,0)","v":0},{"$f":"IF(OR('Base Numbers'!$C$21,AND(U10>=7,U54>=1),AND(U11>=7, U67>=1),U15>=3,U14>=10,AND(U14>=6,U61>=1),U12>=3,U13>=3),U93,0)","v":0},{"$f":"IF(OR('Base Numbers'!$C$21,AND(V10>=7,V54>=1),AND(V11>=7, V67>=1),V15>=3,V14>=10,AND(V14>=6,V61>=1),V12>=3,V13>=3),V93,0)","v":0},{"$f":"IF(OR('Base Numbers'!$C$21,AND(W10>=7,W54>=1),AND(W11>=7, W67>=1),W15>=3,W14>=10,AND(W14>=6,W61>=1),W12>=3,W13>=3),W93,0)","v":0},{"$f":"IF(OR('Base Numbers'!$C$21,AND(X10>=7,X54>=1),AND(X11>=7, X67>=1),X15>=3,X14>=10,AND(X14>=6,X61>=1),X12>=3,X13>=3),X93,0)","v":0},null,"monk"]
[{"$nulls":3},"bless casts (c)",{"$f":"IF(OR('Base Numbers'!$C$21,E14>=6,E16>=1,E7>=2,AND(E40,E13>=1),E14>=10,AND(E14>=6,E61>=1)),E94,0)","v":0},{"$f":"IF(OR('Base Numbers'!$C$21,F14>=6,F16>=1,F7>=2,AND(F40,F13>=1),F14>=10,AND(F14>=6,F61>=1)),F94,0)","v":0},{"$f":"IF(OR('Base Numbers'!$C$21,G14>=6,G16>=1,G7>=2,AND(G40,G13>=1),G14>=10,AND(G14>=6,G61>=1)),G94,0)","v":0},{"$f":"IF(OR('Base Numbers'!$C$21,H14>=6,H16>=1,H7>=2,AND(H40,H13>=1),H14>=10,AND(H14>=6,H61>=1)),H94,0)","v":0},{"$f":"IF(OR('Base Numbers'!$C$21,I14>=6,I16>=1,I7>=2,AND(I40,I13>=1),I14>=10,AND(I14>=6,I61>=1)),I94,0)","v":0},{"$f":"IF(OR('Base Numbers'!$C$21,J14>=6,J16>=1,J7>=2,AND(J40,J13>=1),J14>=10,AND(J14>=6,J61>=1)),J94,0)","v":0},{"$f":"IF(OR('Base Numbers'!$C$21,K14>=6,K16>=1,K7>=2,AND(K40,K13>=1),K14>=10,AND(K14>=6,K61>=1)),K94,0)","v":0},{"$f":"IF(OR('Base Numbers'!$C$21,L14>=6,L16>=1,L7>=2,AND(L40,L13>=1),L14>=10,AND(L14>=6,L61>=1)),L94,0)","v":0},{"$f":"IF(OR('Base Numbers'!$C$21,M14>=6,M16>=1,M7>=2,AND(M40,M13>=1),M14>=10,AND(M14>=6,M61>=1)),M94,0)","v":0},{"$f":"IF(OR('Base Numbers'!$C$21,N14>=6,N16>=1,N7>=2,AND(N40,N13>=1),N14>=10,AND(N14>=6,N61>=1)),N94,0)","v":0},{"$f":"IF(OR('Base Numbers'!$C$21,O14>=6,O16>=1,O7>=2,AND(O40,O13>=1),O14>=10,AND(O14>=6,O61>=1)),O94,0)","v":0},{"$f":"IF(OR('Base Numbers'!$C$21,P14>=6,P16>=1,P7>=2,AND(P40,P13>=1),P14>=10,AND(P14>=6,P61>=1)),P94,0)","v":0},{"$f":"IF(OR('Base Numbers'!$C$21,Q14>=6,Q16>=1,Q7>=2,AND(Q40,Q13>=1),Q14>=10,AND(Q14>=6,Q61>=1)),Q94,0)","v":0},{"$f":"IF(OR('Base Numbers'!$C$21,R14>=6,R16>=1,R7>=2,AND(R40,R13>=1),R14>=10,AND(R14>=6,R61>=1)),R94,0)","v":0},{"$f":"IF(OR('Base Numbers'!$C$21,S14>=6,S16>=1,S7>=2,AND(S40,S13>=1),S14>=10,AND(S14>=6,S61>=1)),S94,0)","v":0},{"$f":"IF(OR('Base Numbers'!$C$21,T14>=6,T16>=1,T7>=2,AND(T40,T13>=1),T14>=10,AND(T14>=6,T61>=1)),T94,0)","v":0},{"$f":"IF(OR('Base Numbers'!$C$21,U14>=6,U16>=1,U7>=2,AND(U40,U13>=1),U14>=10,AND(U14>=6,U61>=1)),U94,0)","v":0},{"$f":"IF(OR('Base Numbers'!$C$21,V14>=6,V16>=1,V7>=2,AND(V40,V13>=1),V14>=10,AND(V14>=6,V61>=1)),V94,0)","v":0},{"$f":"IF(OR('Base Numbers'!$C$21,W14>=6,W16>=1,W7>=2,AND(W40,W13>=1),W14>=10,AND(W14>=6,W61>=1)),W94,0)","v":0},{"$f":"IF(OR('Base Numbers'!$C$21,X14>=6,X16>=1,X7>=2,AND(X40,X13>=1),X14>=10,AND(X14>=6,X61>=1)),X94,0)","v":0},null,"  astral self"]
[{"$nulls":3},"divine favor casts (c)",{"$f":"IF(OR('Base Numbers'!$C$21,E14>=6,E7>=2,AND(E40,E13>=1),E14>=10,AND(E14>=6,E61>=1)),E95,0)","v":0},{"$f":"IF(OR('Base Numbers'!$C$21,F14>=6,F7>=2,AND(F40,F13>=1),F14>=10,AND(F14>=6,F61>=1)),F95,0)","v":0},{"$f":"IF(OR('Base Numbers'!$C$21,G14>=6,G7>=2,AND(G40,G13>=1),G14>=10,AND(G14>=6,G61>=1)),G95,0)","v":0},{"$f":"IF(OR('Base Numbers'!$C$21,H14>=6,H7>=2,AND(H40,H13>=1),H14>=10,AND(H14>=6,H61>=1)),H95,0)","v":0},{"$f":"IF(OR('Base Numbers'!$C$21,I14>=6,I7>=2,AND(I40,I13>=1),I14>=10,AND(I14>=6,I61>=1)),I95,0)","v":0},{"$f":"IF(OR('Base Numbers'!$C$21,J14>=6,J7>=2,AND(J40,J13>=1),J14>=10,AND(J14>=6,J61>=1)),J95,0)","v":0},{"$f":"IF(OR('Base Numbers'!$C$21,K14>=6,K7>=2,AND(K40,K13>=1),K14>=10,AND(K14>=6,K61>=1)),K95,0)","v":0},{"$f":"IF(OR('Base Numbers'!$C$21,L14>=6,L7>=2,AND(L40,L13>=1),L14>=10,AND(L14>=6,L61>=1)),L95,0)","v":0},{"$f":"IF(OR('Base Numbers'!$C$21,M14>=6,M7>=2,AND(M40,M13>=1),M14>=10,AND(M14>=6,M61>=1)),M95,0)","v":0},{"$f":"IF(OR('Base Numbers'!$C$21,N14>=6,N7>=2,AND(N40,N13>=1),N14>=10,AND(N14>=6,N61>=1)),N95,0)","v":0},{"$f":"IF(OR('Base Numbers'!$C$21,O14>=6,O7>=2,AND(O40,O13>=1),O14>=10,AND(O14>=6,O61>=1)),O95,0)","v":0},{"$f":"IF(OR('Base Numbers'!$C$21,P14>=6,P7>=2,AND(P40,P13>=1),P14>=10,AND(P14>=6,P61>=1)),P95,0)","v":0},{"$f":"IF(OR('Base Numbers'!$C$21,Q14>=6,Q7>=2,AND(Q40,Q13>=1),Q14>=10,AND(Q14>=6,Q61>=1)),Q95,0)","v":0},{"$f":"IF(OR('Base Numbers'!$C$21,R14>=6,R7>=2,AND(R40,R13>=1),R14>=10,AND(R14>=6,R61>=1)),R95,0)","v":0},{"$f":"IF(OR('Base Numbers'!$C$21,S14>=6,S7>=2,AND(S40,S13>=1),S14>=10,AND(S14>=6,S61>=1)),S95,0)","v":0},{"$f":"IF(OR('Base Numbers'!$C$21,T14>=6,T7>=2,AND(T40,T13>=1),T14>=10,AND(T14>=6,T61>=1)),T95,0)","v":0},{"$f":"IF(OR('Base Numbers'!$C$21,U14>=6,U7>=2,AND(U40,U13>=1),U14>=10,AND(U14>=6,U61>=1)),U95,0)","v":0},{"$f":"IF(OR('Base Numbers'!$C$21,V14>=6,V7>=2,AND(V40,V13>=1),V14>=10,AND(V14>=6,V61>=1)),V95,0)","v":0},{"$f":"IF(OR('Base Numbers'!$C$21,W14>=6,W7>=2,AND(W40,W13>=1),W14>=10,AND(W14>=6,W61>=1)),W95,0)","v":0},{"$f":"IF(OR('Base Numbers'!$C$21,X14>=6,X7>=2,AND(X40,X13>=1),X14>=10,AND(X14>=6,X61>=1)),X95,0)","v":0},null,"  mercy"]
[{"$nulls":3},"haste casts (c) (veng)",{"$f":"IF(OR('Base Numbers'!$C$21,E14>=6,E15>=5,E13>=5,E19>=9,AND(E36,E7>=9)),E96,0)","v":0},{"$f":"IF(OR('Base Numbers'!$C$21,F14>=6,F15>=5,F13>=5,F19>=9,AND(F36,F7>=9)),F96,0)","v":0},{"$f":"IF(OR('Base Numbers'!$C$21,G14>=6,G15>=5,G13>=5,G19>=9,AND(G36,G7>=9)),G96,0)","v":0},{"$f":"IF(OR('Base Numbers'!$C$21,H14>=6,H15>=5,H13>=5,H19>=9,AND(H36,H7>=9)),H96,0)","v":0},{"$f":"IF(OR('Base Numbers'!$C$21,I14>=6,I15>=5,I13>=5,I19>=9,AND(I36,I7>=9)),I96,0)","v":0},{"$f":"IF(OR('Base Numbers'!$C$21,J14>=6,J15>=5,J13>=5,J19>=9,AND(J36,J7>=9)),J96,0)","v":0},{"$f":"IF(OR('Base Numbers'!$C$21,K14>=6,K15>=5,K13>=5,K19>=9,AND(K36,K7>=9)),K96,0)","v":0},{"$f":"IF(OR('Base Numbers'!$C$21,L14>=6,L15>=5,L13>=5,L19>=9,AND(L36,L7>=9)),L96,0)","v":0},{"$f":"IF(OR('Base Numbers'!$C$21,M14>=6,M15>=5,M13>=5,M19>=9,AND(M36,M7>=9)),M96,0)","v":0},{"$f":"IF(OR('Base Numbers'!$C$21,N14>=6,N15>=5,N13>=5,N19>=9,AND(N36,N7>=9)),N96,0)","v":0},{"$f":"IF(OR('Base Numbers'!$C$21,O14>=6,O15>=5,O13>=5,O19>=9,AND(O36,O7>=9)),O96,0)","v":0},{"$f":"IF(OR('Base Numbers'!$C$21,P14>=6,P15>=5,P13>=5,P19>=9,AND(P36,P7>=9)),P96,0)","v":0},{"$f":"IF(OR('Base Numbers'!$C$21,Q14>=6,Q15>=5,Q13>=5,Q19>=9,AND(Q36,Q7>=9)),Q96,0)","v":0},{"$f":"IF(OR('Base Numbers'!$C$21,R14>=6,R15>=5,R13>=5,R19>=9,AND(R36,R7>=9)),R96,0)","v":0},{"$f":"IF(OR('Base Numbers'!$C$21,S14>=6,S15>=5,S13>=5,S19>=9,AND(S36,S7>=9)),S96,0)","v":0},{"$f":"IF(OR('Base Numbers'!$C$21,T14>=6,T15>=5,T13>=5,T19>=9,AND(T36,T7>=9)),T96,0)","v":0},{"$f":"IF(OR('Base Numbers'!$C$21,U14>=6,U15>=5,U13>=5,U19>=9,AND(U36,U7>=9)),U96,0)","v":0},{"$f":"IF(OR('Base Numbers'!$C$21,V14>=6,V15>=5,V13>=5,V19>=9,AND(V36,V7>=9)),V96,0)","v":0},{"$f":"IF(OR('Base Numbers'!$C$21,W14>=6,W15>=5,W13>=5,W19>=9,AND(W36,W7>=9)),W96,0)","v":0},{"$f":"IF(OR('Base Numbers'!$C$21,X14>=6,X15>=5,X13>=5,X19>=9,AND(X36,X7>=9)),X96,0)","v":0},null,"druid"]
[{"$nulls":3},"hunter's mark / hex casts (c) (veng) (bonus action)",{"$f":"IF(OR('Base Numbers'!$C$21,E14>=10,AND(E14>=6,E61>=1),E12>=1,E9>=2,AND(E36,E7>=3),AND($B$29>=1,E6>=$B$29)),E97,0)","v":0},{"$f":"IF(OR('Base Numbers'!$C$21,F14>=10,AND(F14>=6,F61>=1),F12>=1,F9>=2,AND(F36,F7>=3),AND($B$29>=1,F6>=$B$29)),F97,0)","v":0},{"$f":"IF(OR('Base Numbers'!$C$21,G14>=10,AND(G14>=6,G61>=1),G12>=1,G9>=2,AND(G36,G7>=3),AND($B$29>=1,G6>=$B$29)),G97,0)","v":0},{"$f":"IF(OR('Base Numbers'!$C$21,H14>=10,AND(H14>=6,H61>=1),H12>=1,H9>=2,AND(H36,H7>=3),AND($B$29>=1,H6>=$B$29)),H97,0)","v":0},{"$f":"IF(OR('Base Numbers'!$C$21,I14>=10,AND(I14>=6,I61>=1),I12>=1,I9>=2,AND(I36,I7>=3),AND($B$29>=1,I6>=$B$29)),I97,0)","v":0},{"$f":"IF(OR('Base Numbers'!$C$21,J14>=10,AND(J14>=6,J61>=1),J12>=1,J9>=2,AND(J36,J7>=3),AND($B$29>=1,J6>=$B$29)),J97,0)","v":0},{"$f":"IF(OR('Base Numbers'!$C$21,K14>=10,AND(K14>=6,K61>=1),K12>=1,K9>=2,AND(K36,K7>=3),AND($B$29>=1,K6>=$B$29)),K97,0)","v":0},{"$f":"IF(OR('Base Numbers'!$C$21,L14>=10,AND(L14>=6,L61>=1),L12>=1,L9>=2,AND(L36,L7>=3),AND($B$29>=1,L6>=$B$29)),L97,0)","v":0},{"$f":"IF(OR('Base Numbers'!$C$21,M14>=10,AND(M14>=6,M61>=1),M12>=1,M9>=2,AND(M36,M7>=3),AND($B$29>=1,M6>=$B$29)),M97,0)","v":0},{"$f":"IF(OR('Base Numbers'!$C$21,N14>=10,AND(N14>=6,N61>=1),N12>=1,N9>=2,AND(N36,N7>=3),AND($B$29>=1,N6>=$B$29)),N97,0)","v":0},{"$f":"IF(OR('Base Numbers'!$C$21,O14>=10,AND(O14>=6,O61>=1),O12>=1,O9>=2,AND(O36,O7>=3),AND($B$29>=1,O6>=$B$29)),O97,0)","v":0},{"$f":"IF(OR('Base Numbers'!$C$21,P14>=10,AND(P14>=6,P61>=1),P12>=1,P9>=2,AND(P36,P7>=3),AND($B$29>=1,P6>=$B$29)),P97,0)","v":0},{"$f":"IF(OR('Base Numbers'!$C$21,Q14>=10,AND(Q14>=6,Q61>=1),Q12>=1,Q9>=2,AND(Q36,Q7>=3),AND($B$29>=1,Q6>=$B$29)),Q97,0)","v":0},{"$f":"IF(OR('Base Numbers'!$C$21,R14>=10,AND(R14>=6,R61>=1),R12>=1,R9>=2,AND(R36,R7>=3),AND($B$29>=1,R6>=$B$29)),R97,0)","v":0},{"$f":"IF(OR('Base Numbers'!$C$21,S14>=10,AND(S14>=6,S61>=1),S12>=1,S9>=2,AND(S36,S7>=3),AND($B$29>=1,S6>=$B$29)),S97,0)","v":0},{"$f":"IF(OR('Base Numbers'!$C$21,T14>=10,AND(T14>=6,T61>=1),T12>=1,T9>=2,AND(T36,T7>=3),AND($B$29>=1,T6>=$B$29)),T97,0)","v":0},{"$f":"IF(OR('Base Numbers'!$C$21,U14>=10,AND(U14>=6,U61>=1),U12>=1,U9>=2,AND(U36,U7>=3),AND($B$29>=1,U6>=$B$29)),U97,0)","v":0},{"$f":"IF(OR('Base Numbers'!$C$21,V14>=10,AND(V14>=6,V61>=1),V12>=1,V9>=2,AND(V36,V7>=3),AND($B$29>=1,V6>=$B$29)),V97,0)","v":0},{"$f":"IF(OR('Base Numbers'!$C$21,W14>=10,AND(W14>=6,W61>=1),W12>=1,W9>=2,AND(W36,W7>=3),AND($B$29>=1,W6>=$B$29)),W97,0)","v":0},{"$f":"IF(OR('Base Numbers'!$C$21,X14>=10,AND(X14>=6,X61>=1),X12>=1,X9>=2,AND(X36,X7>=3),AND($B$29>=1,X6>=$B$29)),X97,0)","v":0},null,"warlock"]
[{"$nulls":3},"spirit guardians casts (c) (req Divine Soul)",{"$f":"IF('Base Numbers'!$C$21,'Base Numbers'!$G$21,MIN('Base Numbers'!$G$21,IF(OR('Base Numbers'!E14>=10,AND(E14>=6,E61>=1),E16>=5,AND(E40,E13>=5)),E98,0)))","v":0},{"$f":"IF('Base Numbers'!$C$21,'Base Numbers'!$G$21,MIN('Base Numbers'!$G$21,IF(OR('Base Numbers'!F14>=10,AND(F14>=6,F61>=1),F16>=5,AND(F40,F13>=5)),F98,0)))","v":0},{"$f":"IF('Base Numbers'!$C$21,'Base Numbers'!$G$21,MIN('Base Numbers'!$G$21,IF(OR('Base Numbers'!G14>=10,AND(G14>=6,G61>=1),G16>=5,AND(G40,G13>=5)),G98,0)))","v":0},{"$f":"IF('Base Numbers'!$C$21,'Base Numbers'!$G$21,MIN('Base Numbers'!$G$21,IF(OR('Base Numbers'!H14>=10,AND(H14>=6,H61>=1),H16>=5,AND(H40,H13>=5)),H98,0)))","v":0},{"$f":"IF('Base Numbers'!$C$21,'Base Numbers'!$G$21,MIN('Base Numbers'!$G$21,IF(OR('Base Numbers'!I14>=10,AND(I14>=6,I61>=1),I16>=5,AND(I40,I13>=5)),I98,0)))","v":0},{"$f":"IF('Base Numbers'!$C$21,'Base Numbers'!$G$21,MIN('Base Numbers'!$G$21,IF(OR('Base Numbers'!J14>=10,AND(J14>=6,J61>=1),J16>=5,AND(J40,J13>=5)),J98,0)))","v":0},{"$f":"IF('Base Numbers'!$C$21,'Base Numbers'!$G$21,MIN('Base Numbers'!$G$21,IF(OR('Base Numbers'!K14>=10,AND(K14>=6,K61>=1),K16>=5,AND(K40,K13>=5)),K98,0)))","v":0},{"$f":"IF('Base Numbers'!$C$21,'Base Numbers'!$G$21,MIN('Base Numbers'!$G$21,IF(OR('Base Numbers'!L14>=10,AND(L14>=6,L61>=1),L16>=5,AND(L40,L13>=5)),L98,0)))","v":0},{"$f":"IF('Base Numbers'!$C$21,'Base Numbers'!$G$21,MIN('Base Numbers'!$G$21,IF(OR('Base Numbers'!M14>=10,AND(M14>=6,M61>=1),M16>=5,AND(M40,M13>=5)),M98,0)))","v":0},{"$f":"IF('Base Numbers'!$C$21,'Base Numbers'!$G$21,MIN('Base Numbers'!$G$21,IF(OR('Base Numbers'!N14>=10,AND(N14>=6,N61>=1),N16>=5,AND(N40,N13>=5)),N98,0)))","v":0},{"$f":"IF('Base Numbers'!$C$21,'Base Numbers'!$G$21,MIN('Base Numbers'!$G$21,IF(OR('Base Numbers'!O14>=10,AND(O14>=6,O61>=1),O16>=5,AND(O40,O13>=5)),O98,0)))","v":0},{"$f":"IF('Base Numbers'!$C$21,'Base Numbers'!$G$21,MIN('Base Numbers'!$G$21,IF(OR('Base Numbers'!P14>=10,AND(P14>=6,P61>=1),P16>=5,AND(P40,P13>=5)),P98,0)))","v":0},{"$f":"IF('Base Numbers'!$C$21,'Base Numbers'!$G$21,MIN('Base Numbers'!$G$21,IF(OR('Base Numbers'!Q14>=10,AND(Q14>=6,Q61>=1),Q16>=5,AND(Q40,Q13>=5)),Q98,0)))","v":0},{"$f":"IF('Base Numbers'!$C$21,'Base Numbers'!$G$21,MIN('Base Numbers'!$G$21,IF(OR('Base Numbers'!R14>=10,AND(R14>=6,R61>=1),R16>=5,AND(R40,R13>=5)),R98,0)))","v":0},{"$f":"IF('Base Numbers'!$C$21,'Base Numbers'!$G$21,MIN('Base Numbers'!$G$21,IF(OR('Base Numbers'!S14>=10,AND(S14>=6,S61>=1),S16>=5,AND(S40,S13>=5)),S98,0)))","v":0},{"$f":"IF('Base Numbers'!$C$21,'Base Numbers'!$G$21,MIN('Base Numbers'!$G$21,IF(OR('Base Numbers'!T14>=10,AND(T14>=6,T61>=1),T16>=5,AND(T40,T13>=5)),T98,0)))","v":0},{"$f":"IF('Base Numbers'!$C$21,'Base Numbers'!$G$21,MIN('Base Numbers'!$G$21,IF(OR('Base Numbers'!U14>=10,AND(U14>=6,U61>=1),U16>=5,AND(U40,U13>=5)),U98,0)))","v":0},{"$f":"IF('Base Numbers'!$C$21,'Base Numbers'!$G$21,MIN('Base Numbers'!$G$21,IF(OR('Base Numbers'!V14>=10,AND(V14>=6,V61>=1),V16>=5,AND(V40,V13>=5)),V98,0)))","v":0},{"$f":"IF('Base Numbers'!$C$21,'Base Numbers'!$G$21,MIN('Base Numbers'!$G$21,IF(OR('Base Numbers'!W14>=10,AND(W14>=6,W61>=1),W16>=5,AND(W40,W13>=5)),W98,0)))","v":0},{"$f":"IF('Base Numbers'!$C$21,'Base Numbers'!$G$21,MIN('Base Numbers'!$G$21,IF(OR('Base Numbers'!X14>=10,AND(X14>=6,X61>=1),X16>=5,AND(X40,X13>=5)),X98,0)))","v":0},null,"fighter"]
[{"$nulls":3},"faerie fire casts (c)",{"$f":"IF(OR('Base Numbers'!$C$21,E17>=1,E9>=2,E14>=10,AND(E14>=6,E61>=1)),E99,0)","v":0},{"$f":"IF(OR('Base Numbers'!$C$21,F17>=1,F9>=2,F14>=10,AND(F14>=6,F61>=1)),F99,0)","v":0},{"$f":"IF(OR('Base Numbers'!$C$21,G17>=1,G9>=2,G14>=10,AND(G14>=6,G61>=1)),G99,0)","v":0},{"$f":"IF(OR('Base Numbers'!$C$21,H17>=1,H9>=2,H14>=10,AND(H14>=6,H61>=1)),H99,0)","v":0},{"$f":"IF(OR('Base Numbers'!$C$21,I17>=1,I9>=2,I14>=10,AND(I14>=6,I61>=1)),I99,0)","v":0},{"$f":"IF(OR('Base Numbers'!$C$21,J17>=1,J9>=2,J14>=10,AND(J14>=6,J61>=1)),J99,0)","v":0},{"$f":"IF(OR('Base Numbers'!$C$21,K17>=1,K9>=2,K14>=10,AND(K14>=6,K61>=1)),K99,0)","v":0},{"$f":"IF(OR('Base Numbers'!$C$21,L17>=1,L9>=2,L14>=10,AND(L14>=6,L61>=1)),L99,0)","v":0},{"$f":"IF(OR('Base Numbers'!$C$21,M17>=1,M9>=2,M14>=10,AND(M14>=6,M61>=1)),M99,0)","v":0},{"$f":"IF(OR('Base Numbers'!$C$21,N17>=1,N9>=2,N14>=10,AND(N14>=6,N61>=1)),N99,0)","v":0},{"$f":"IF(OR('Base Numbers'!$C$21,O17>=1,O9>=2,O14>=10,AND(O14>=6,O61>=1)),O99,0)","v":0},{"$f":"IF(OR('Base Numbers'!$C$21,P17>=1,P9>=2,P14>=10,AND(P14>=6,P61>=1)),P99,0)","v":0},{"$f":"IF(OR('Base Numbers'!$C$21,Q17>=1,Q9>=2,Q14>=10,AND(Q14>=6,Q61>=1)),Q99,0)","v":0},{"$f":"IF(OR('Base Numbers'!$C$21,R17>=1,R9>=2,R14>=10,AND(R14>=6,R61>=1)),R99,0)","v":0},{"$f":"IF(OR('Base Numbers'!$C$21,S17>=1,S9>=2,S14>=10,AND(S14>=6,S61>=1)),S99,0)","v":0},{"$f":"IF(OR('Base Numbers'!$C$21,T17>=1,T9>=2,T14>=10,AND(T14>=6,T61>=1)),T99,0)","v":0},{"$f":"IF(OR('Base Numbers'!$C$21,U17>=1,U9>=2,U14>=10,AND(U14>=6,U61>=1)),U99,0)","v":0},{"$f":"IF(OR('Base Numbers'!$C$21,V17>=1,V9>=2,V14>=10,AND(V14>=6,V61>=1)),V99,0)","v":0},{"$f":"IF(OR('Base Numbers'!$C$21,W17>=1,W9>=2,W14>=10,AND(W14>=6,W61>=1)),W99,0)","v":0},{"$f":"IF(OR('Base Numbers'!$C$21,X17>=1,X9>=2,X14>=10,AND(X14>=6,X61>=1)),X99,0)","v":0},null,"    samurai has daily advantage, plus extra attacks instead of advantage"]
[{"$nulls":3},"spirit shroud casts (c)",{"$f":"IF(OR('Base Numbers'!$C$21,E12>=5,E15>=5,E16>=5,E7>=9,E14>=10,AND(E14>=6,E61>=1)),E100,0)","v":0},{"$f":"IF(OR('Base Numbers'!$C$21,F12>=5,F15>=5,F16>=5,F7>=9,F14>=10,AND(F14>=6,F61>=1)),F100,0)","v":0},{"$f":"IF(OR('Base Numbers'!$C$21,G12>=5,G15>=5,G16>=5,G7>=9,G14>=10,AND(G14>=6,G61>=1)),G100,0)","v":0},{"$f":"IF(OR('Base Numbers'!$C$21,H12>=5,H15>=5,H16>=5,H7>=9,H14>=10,AND(H14>=6,H61>=1)),H100,0)","v":0},{"$f":"IF(OR('Base Numbers'!$C$21,I12>=5,I15>=5,I16>=5,I7>=9,I14>=10,AND(I14>=6,I61>=1)),I100,0)","v":0},{"$f":"IF(OR('Base Numbers'!$C$21,J12>=5,J15>=5,J16>=5,J7>=9,J14>=10,AND(J14>=6,J61>=1)),J100,0)","v":0},{"$f":"IF(OR('Base Numbers'!$C$21,K12>=5,K15>=5,K16>=5,K7>=9,K14>=10,AND(K14>=6,K61>=1)),K100,0)","v":0},{"$f":"IF(OR('Base Numbers'!$C$21,L12>=5,L15>=5,L16>=5,L7>=9,L14>=10,AND(L14>=6,L61>=1)),L100,0)","v":0},{"$f":"IF(OR('Base Numbers'!$C$21,M12>=5,M15>=5,M16>=5,M7>=9,M14>=10,AND(M14>=6,M61>=1)),M100,0)","v":0},{"$f":"IF(OR('Base Numbers'!$C$21,N12>=5,N15>=5,N16>=5,N7>=9,N14>=10,AND(N14>=6,N61>=1)),N100,0)","v":0},{"$f":"IF(OR('Base Numbers'!$C$21,O12>=5,O15>=5,O16>=5,O7>=9,O14>=10,AND(O14>=6,O61>=1)),O100,0)","v":0},{"$f":"IF(OR('Base Numbers'!$C$21,P12>=5,P15>=5,P16>=5,P7>=9,P14>=10,AND(P14>=6,P61>=1)),P100,0)","v":0},{"$f":"IF(OR('Base Numbers'!$C$21,Q12>=5,Q15>=5,Q16>=5,Q7>=9,Q14>=10,AND(Q14>=6,Q61>=1)),Q100,0)","v":0},{"$f":"IF(OR('Base Numbers'!$C$21,R12>=5,R15>=5,R16>=5,R7>=9,R14>=10,AND(R14>=6,R61>=1)),R100,0)","v":0},{"$f":"IF(OR('Base Numbers'!$C$21,S12>=5,S15>=5,S16>=5,S7>=9,S14>=10,AND(S14>=6,S61>=1)),S100,0)","v":0},{"$f":"IF(OR('Base Numbers'!$C$21,T12>=5,T15>=5,T16>=5,T7>=9,T14>=10,AND(T14>=6,T61>=1)),T100,0)","v":0},{"$f":"IF(OR('Base Numbers'!$C$21,U12>=5,U15>=5,U16>=5,U7>=9,U14>=10,AND(U14>=6,U61>=1)),U100,0)","v":0},{"$f":"IF(OR('Base Numbers'!$C$21,V12>=5,V15>=5,V16>=5,V7>=9,V14>=10,AND(V14>=6,V61>=1)),V100,0)","v":0},{"$f":"IF(OR('Base Numbers'!$C$21,W12>=5,W15>=5,W16>=5,W7>=9,W14>=10,AND(W14>=6,W61>=1)),W100,0)","v":0},{"$f":"IF(OR('Base Numbers'!$C$21,X12>=5,X15>=5,X16>=5,X7>=9,X14>=10,AND(X14>=6,X61>=1)),X100,0)","v":0},null,"Piercer Feat"]
[{"$nulls":3},"steel wind strike",{"$f":"MIN('Base Numbers'!$G$21,IF(OR('Base Numbers'!$C$21,E15>=9,OR(E9>=17,E14>=10)),E101,0))","v":0},{"$f":"MIN('Base Numbers'!$G$21,IF(OR('Base Numbers'!$C$21,F15>=9,OR(F9>=17,F14>=10)),F101,0))","v":0},{"$f":"MIN('Base Numbers'!$G$21,IF(OR('Base Numbers'!$C$21,G15>=9,OR(G9>=17,G14>=10)),G101,0))","v":0},{"$f":"MIN('Base Numbers'!$G$21,IF(OR('Base Numbers'!$C$21,H15>=9,OR(H9>=17,H14>=10)),H101,0))","v":0},{"$f":"MIN('Base Numbers'!$G$21,IF(OR('Base Numbers'!$C$21,I15>=9,OR(I9>=17,I14>=10)),I101,0))","v":0},{"$f":"MIN('Base Numbers'!$G$21,IF(OR('Base Numbers'!$C$21,J15>=9,OR(J9>=17,J14>=10)),J101,0))","v":0},{"$f":"MIN('Base Numbers'!$G$21,IF(OR('Base Numbers'!$C$21,K15>=9,OR(K9>=17,K14>=10)),K101,0))","v":0},{"$f":"MIN('Base Numbers'!$G$21,IF(OR('Base Numbers'!$C$21,L15>=9,OR(L9>=17,L14>=10)),L101,0))","v":0},{"$f":"MIN('Base Numbers'!$G$21,IF(OR('Base Numbers'!$C$21,M15>=9,OR(M9>=17,M14>=10)),M101,0))","v":0},{"$f":"MIN('Base Numbers'!$G$21,IF(OR('Base Numbers'!$C$21,N15>=9,OR(N9>=17,N14>=10)),N101,0))","v":0},{"$f":"MIN('Base Numbers'!$G$21,IF(OR('Base Numbers'!$C$21,O15>=9,OR(O9>=17,O14>=10)),O101,0))","v":0},{"$f":"MIN('Base Numbers'!$G$21,IF(OR('Base Numbers'!$C$21,P15>=9,OR(P9>=17,P14>=10)),P101,0))","v":0},{"$f":"MIN('Base Numbers'!$G$21,IF(OR('Base Numbers'!$C$21,Q15>=9,OR(Q9>=17,Q14>=10)),Q101,0))","v":0},{"$f":"MIN('Base Numbers'!$G$21,IF(OR('Base Numbers'!$C$21,R15>=9,OR(R9>=17,R14>=10)),R101,0))","v":0},{"$f":"MIN('Base Numbers'!$G$21,IF(OR('Base Numbers'!$C$21,S15>=9,OR(S9>=17,S14>=10)),S101,0))","v":0},{"$f":"MIN('Base Numbers'!$G$21,IF(OR('Base Numbers'!$C$21,T15>=9,OR(T9>=17,T14>=10)),T101,0))","v":0},{"$f":"MIN('Base Numbers'!$G$21,IF(OR('Base Numbers'!$C$21,U15>=9,OR(U9>=17,U14>=10)),U101,0))","v":0},{"$f":"MIN('Base Numbers'!$G$21,IF(OR('Base Numbers'!$C$21,V15>=9,OR(V9>=17,V14>=10)),V101,0))","v":0},{"$f":"MIN('Base Numbers'!$G$21,IF(OR('Base Numbers'!$C$21,W15>=9,OR(W9>=17,W14>=10)),W101,0))","v":0},{"$f":"MIN('Base Numbers'!$G$21,IF(OR('Base Numbers'!$C$21,X15>=9,OR(X9>=17,X14>=10)),X101,0))","v":0},null,"Halfling Lucky hit/crit chance mod"]
[{"$nulls":3},"guardian of nature (bonus action) (c)",{"$f":"IF(OR('Base Numbers'!$C$21,E17>=7,OR(E9>=13,E14>=10)),E102,0)","v":0},{"$f":"IF(OR('Base Numbers'!$C$21,F17>=7,OR(F9>=13,F14>=10)),F102,0)","v":0},{"$f":"IF(OR('Base Numbers'!$C$21,G17>=7,OR(G9>=13,G14>=10)),G102,0)","v":0},{"$f":"IF(OR('Base Numbers'!$C$21,H17>=7,OR(H9>=13,H14>=10)),H102,0)","v":0},{"$f":"IF(OR('Base Numbers'!$C$21,I17>=7,OR(I9>=13,I14>=10)),I102,0)","v":0},{"$f":"IF(OR('Base Numbers'!$C$21,J17>=7,OR(J9>=13,J14>=10)),J102,0)","v":0},{"$f":"IF(OR('Base Numbers'!$C$21,K17>=7,OR(K9>=13,K14>=10)),K102,0)","v":0},{"$f":"IF(OR('Base Numbers'!$C$21,L17>=7,OR(L9>=13,L14>=10)),L102,0)","v":0},{"$f":"IF(OR('Base Numbers'!$C$21,M17>=7,OR(M9>=13,M14>=10)),M102,0)","v":0},{"$f":"IF(OR('Base Numbers'!$C$21,N17>=7,OR(N9>=13,N14>=10)),N102,0)","v":0},{"$f":"IF(OR('Base Numbers'!$C$21,O17>=7,OR(O9>=13,O14>=10)),O102,0)","v":0},{"$f":"IF(OR('Base Numbers'!$C$21,P17>=7,OR(P9>=13,P14>=10)),P102,0)","v":0},{"$f":"IF(OR('Base Numbers'!$C$21,Q17>=7,OR(Q9>=13,Q14>=10)),Q102,0)","v":0},{"$f":"IF(OR('Base Numbers'!$C$21,R17>=7,OR(R9>=13,R14>=10)),R102,0)","v":0},{"$f":"IF(OR('Base Numbers'!$C$21,S17>=7,OR(S9>=13,S14>=10)),S102,0)","v":0},{"$f":"IF(OR('Base Numbers'!$C$21,T17>=7,OR(T9>=13,T14>=10)),T102,0)","v":0},{"$f":"IF(OR('Base Numbers'!$C$21,U17>=7,OR(U9>=13,U14>=10)),U102,0)","v":0},{"$f":"IF(OR('Base Numbers'!$C$21,V17>=7,OR(V9>=13,V14>=10)),V102,0)","v":0},{"$f":"IF(OR('Base Numbers'!$C$21,W17>=7,OR(W9>=13,W14>=10)),W102,0)","v":0},{"$f":"IF(OR('Base Numbers'!$C$21,X17>=7,OR(X9>=13,X14>=10)),X102,0)","v":0},null,"different save probs for different ability save spells"]
[{"$nulls":3},"crown of stars",{"$f":"IF(OR('Base Numbers'!$C$21,E15>=13,OR(E13>=13,OR(E12>=13,E14>=14))),E103,0)","v":0},{"$f":"IF(OR('Base Numbers'!$C$21,F15>=13,OR(F13>=13,OR(F12>=13,F14>=14))),F103,0)","v":0},{"$f":"IF(OR('Base Numbers'!$C$21,G15>=13,OR(G13>=13,OR(G12>=13,G14>=14))),G103,0)","v":0},{"$f":"IF(OR('Base Numbers'!$C$21,H15>=13,OR(H13>=13,OR(H12>=13,H14>=14))),H103,0)","v":0},{"$f":"IF(OR('Base Numbers'!$C$21,I15>=13,OR(I13>=13,OR(I12>=13,I14>=14))),I103,0)","v":0},{"$f":"IF(OR('Base Numbers'!$C$21,J15>=13,OR(J13>=13,OR(J12>=13,J14>=14))),J103,0)","v":0},{"$f":"IF(OR('Base Numbers'!$C$21,K15>=13,OR(K13>=13,OR(K12>=13,K14>=14))),K103,0)","v":0},{"$f":"IF(OR('Base Numbers'!$C$21,L15>=13,OR(L13>=13,OR(L12>=13,L14>=14))),L103,0)","v":0},{"$f":"IF(OR('Base Numbers'!$C$21,M15>=13,OR(M13>=13,OR(M12>=13,M14>=14))),M103,0)","v":0},{"$f":"IF(OR('Base Numbers'!$C$21,N15>=13,OR(N13>=13,OR(N12>=13,N14>=14))),N103,0)","v":0},{"$f":"IF(OR('Base Numbers'!$C$21,O15>=13,OR(O13>=13,OR(O12>=13,O14>=14))),O103,0)","v":0},{"$f":"IF(OR('Base Numbers'!$C$21,P15>=13,OR(P13>=13,OR(P12>=13,P14>=14))),P103,0)","v":0},{"$f":"IF(OR('Base Numbers'!$C$21,Q15>=13,OR(Q13>=13,OR(Q12>=13,Q14>=14))),Q103,0)","v":0},{"$f":"IF(OR('Base Numbers'!$C$21,R15>=13,OR(R13>=13,OR(R12>=13,R14>=14))),R103,0)","v":0},{"$f":"IF(OR('Base Numbers'!$C$21,S15>=13,OR(S13>=13,OR(S12>=13,S14>=14))),S103,0)","v":0},{"$f":"IF(OR('Base Numbers'!$C$21,T15>=13,OR(T13>=13,OR(T12>=13,T14>=14))),T103,0)","v":0},{"$f":"IF(OR('Base Numbers'!$C$21,U15>=13,OR(U13>=13,OR(U12>=13,U14>=14))),U103,0)","v":0},{"$f":"IF(OR('Base Numbers'!$C$21,V15>=13,OR(V13>=13,OR(V12>=13,V14>=14))),V103,0)","v":0},{"$f":"IF(OR('Base Numbers'!$C$21,W15>=13,OR(W13>=13,OR(W12>=13,W14>=14))),W103,0)","v":0},{"$f":"IF(OR('Base Numbers'!$C$21,X15>=13,OR(X13>=13,OR(X12>=13,X14>=14))),X103,0)","v":0},null,"heavy xbow option"]
[{"$nulls":3},"holy weapon casts (bonus action) (c)",{"$f":"IF(OR('Base Numbers'!$C$21,E14>=9,E16>=9,E7>=17,AND(E40,E13>=9)),E104,0)","v":0},{"$f":"IF(OR('Base Numbers'!$C$21,F14>=9,F16>=9,F7>=17,AND(F40,F13>=9)),F104,0)","v":0},{"$f":"IF(OR('Base Numbers'!$C$21,G14>=9,G16>=9,G7>=17,AND(G40,G13>=9)),G104,0)","v":0},{"$f":"IF(OR('Base Numbers'!$C$21,H14>=9,H16>=9,H7>=17,AND(H40,H13>=9)),H104,0)","v":0},{"$f":"IF(OR('Base Numbers'!$C$21,I14>=9,I16>=9,I7>=17,AND(I40,I13>=9)),I104,0)","v":0},{"$f":"IF(OR('Base Numbers'!$C$21,J14>=9,J16>=9,J7>=17,AND(J40,J13>=9)),J104,0)","v":0},{"$f":"IF(OR('Base Numbers'!$C$21,K14>=9,K16>=9,K7>=17,AND(K40,K13>=9)),K104,0)","v":0},{"$f":"IF(OR('Base Numbers'!$C$21,L14>=9,L16>=9,L7>=17,AND(L40,L13>=9)),L104,0)","v":0},{"$f":"IF(OR('Base Numbers'!$C$21,M14>=9,M16>=9,M7>=17,AND(M40,M13>=9)),M104,0)","v":0},{"$f":"IF(OR('Base Numbers'!$C$21,N14>=9,N16>=9,N7>=17,AND(N40,N13>=9)),N104,0)","v":0},{"$f":"IF(OR('Base Numbers'!$C$21,O14>=9,O16>=9,O7>=17,AND(O40,O13>=9)),O104,0)","v":0},{"$f":"IF(OR('Base Numbers'!$C$21,P14>=9,P16>=9,P7>=17,AND(P40,P13>=9)),P104,0)","v":0},{"$f":"IF(OR('Base Numbers'!$C$21,Q14>=9,Q16>=9,Q7>=17,AND(Q40,Q13>=9)),Q104,0)","v":0},{"$f":"IF(OR('Base Numbers'!$C$21,R14>=9,R16>=9,R7>=17,AND(R40,R13>=9)),R104,0)","v":0},{"$f":"IF(OR('Base Numbers'!$C$21,S14>=9,S16>=9,S7>=17,AND(S40,S13>=9)),S104,0)","v":0},{"$f":"IF(OR('Base Numbers'!$C$21,T14>=9,T16>=9,T7>=17,AND(T40,T13>=9)),T104,0)","v":0},{"$f":"IF(OR('Base Numbers'!$C$21,U14>=9,U16>=9,U7>=17,AND(U40,U13>=9)),U104,0)","v":0},{"$f":"IF(OR('Base Numbers'!$C$21,V14>=9,V16>=9,V7>=17,AND(V40,V13>=9)),V104,0)","v":0},{"$f":"IF(OR('Base Numbers'!$C$21,W14>=9,W16>=9,W7>=17,AND(W40,W13>=9)),W104,0)","v":0},{"$f":"IF(OR('Base Numbers'!$C$21,X14>=9,X16>=9,X7>=17,AND(X40,X13>=9)),X104,0)","v":0},null,"separate spell attack chances"]
[{"$nulls":3},"hold person casts (conq, veng) (c)",{"$f":"IF(OR('Base Numbers'!$C$21,E14>=3,E17>=3,E15>=3,E16>=3,E13>=3,AND(E7>=5,OR(E36,E38))),E105,0)","v":0},{"$f":"IF(OR('Base Numbers'!$C$21,F14>=3,F17>=3,F15>=3,F16>=3,F13>=3,AND(F7>=5,OR(F36,F38))),F105,0)","v":0},{"$f":"IF(OR('Base Numbers'!$C$21,G14>=3,G17>=3,G15>=3,G16>=3,G13>=3,AND(G7>=5,OR(G36,G38))),G105,0)","v":0},{"$f":"IF(OR('Base Numbers'!$C$21,H14>=3,H17>=3,H15>=3,H16>=3,H13>=3,AND(H7>=5,OR(H36,H38))),H105,0)","v":0},{"$f":"IF(OR('Base Numbers'!$C$21,I14>=3,I17>=3,I15>=3,I16>=3,I13>=3,AND(I7>=5,OR(I36,I38))),I105,0)","v":0},{"$f":"IF(OR('Base Numbers'!$C$21,J14>=3,J17>=3,J15>=3,J16>=3,J13>=3,AND(J7>=5,OR(J36,J38))),J105,0)","v":0},{"$f":"IF(OR('Base Numbers'!$C$21,K14>=3,K17>=3,K15>=3,K16>=3,K13>=3,AND(K7>=5,OR(K36,K38))),K105,0)","v":0},{"$f":"IF(OR('Base Numbers'!$C$21,L14>=3,L17>=3,L15>=3,L16>=3,L13>=3,AND(L7>=5,OR(L36,L38))),L105,0)","v":0},{"$f":"IF(OR('Base Numbers'!$C$21,M14>=3,M17>=3,M15>=3,M16>=3,M13>=3,AND(M7>=5,OR(M36,M38))),M105,0)","v":0},{"$f":"IF(OR('Base Numbers'!$C$21,N14>=3,N17>=3,N15>=3,N16>=3,N13>=3,AND(N7>=5,OR(N36,N38))),N105,0)","v":0},{"$f":"IF(OR('Base Numbers'!$C$21,O14>=3,O17>=3,O15>=3,O16>=3,O13>=3,AND(O7>=5,OR(O36,O38))),O105,0)","v":0},{"$f":"IF(OR('Base Numbers'!$C$21,P14>=3,P17>=3,P15>=3,P16>=3,P13>=3,AND(P7>=5,OR(P36,P38))),P105,0)","v":0},{"$f":"IF(OR('Base Numbers'!$C$21,Q14>=3,Q17>=3,Q15>=3,Q16>=3,Q13>=3,AND(Q7>=5,OR(Q36,Q38))),Q105,0)","v":0},{"$f":"IF(OR('Base Numbers'!$C$21,R14>=3,R17>=3,R15>=3,R16>=3,R13>=3,AND(R7>=5,OR(R36,R38))),R105,0)","v":0},{"$f":"IF(OR('Base Numbers'!$C$21,S14>=3,S17>=3,S15>=3,S16>=3,S13>=3,AND(S7>=5,OR(S36,S38))),S105,0)","v":0},{"$f":"IF(OR('Base Numbers'!$C$21,T14>=3,T17>=3,T15>=3,T16>=3,T13>=3,AND(T7>=5,OR(T36,T38))),T105,0)","v":0},{"$f":"IF(OR('Base Numbers'!$C$21,U14>=3,U17>=3,U15>=3,U16>=3,U13>=3,AND(U7>=5,OR(U36,U38))),U105,0)","v":0},{"$f":"IF(OR('Base Numbers'!$C$21,V14>=3,V17>=3,V15>=3,V16>=3,V13>=3,AND(V7>=5,OR(V36,V38))),V105,0)","v":0},{"$f":"IF(OR('Base Numbers'!$C$21,W14>=3,W17>=3,W15>=3,W16>=3,W13>=3,AND(W7>=5,OR(W36,W38))),W105,0)","v":0},{"$f":"IF(OR('Base Numbers'!$C$21,X14>=3,X17>=3,X15>=3,X16>=3,X13>=3,AND(X7>=5,OR(X36,X38))),X105,0)","v":0},null,"rangers"]
[{"$nulls":3},"hold monster casts (veng) (c)",{"$f":"IF(OR('Base Numbers'!$C$21,E15>=9,E14>=9,E12>=9,E13>=9,AND(E7>=5,E36)),E106,0)","v":0},{"$f":"IF(OR('Base Numbers'!$C$21,F15>=9,F14>=9,F12>=9,F13>=9,AND(F7>=5,F36)),F106,0)","v":0},{"$f":"IF(OR('Base Numbers'!$C$21,G15>=9,G14>=9,G12>=9,G13>=9,AND(G7>=5,G36)),G106,0)","v":0},{"$f":"IF(OR('Base Numbers'!$C$21,H15>=9,H14>=9,H12>=9,H13>=9,AND(H7>=5,H36)),H106,0)","v":0},{"$f":"IF(OR('Base Numbers'!$C$21,I15>=9,I14>=9,I12>=9,I13>=9,AND(I7>=5,I36)),I106,0)","v":0},{"$f":"IF(OR('Base Numbers'!$C$21,J15>=9,J14>=9,J12>=9,J13>=9,AND(J7>=5,J36)),J106,0)","v":0},{"$f":"IF(OR('Base Numbers'!$C$21,K15>=9,K14>=9,K12>=9,K13>=9,AND(K7>=5,K36)),K106,0)","v":0},{"$f":"IF(OR('Base Numbers'!$C$21,L15>=9,L14>=9,L12>=9,L13>=9,AND(L7>=5,L36)),L106,0)","v":0},{"$f":"IF(OR('Base Numbers'!$C$21,M15>=9,M14>=9,M12>=9,M13>=9,AND(M7>=5,M36)),M106,0)","v":0},{"$f":"IF(OR('Base Numbers'!$C$21,N15>=9,N14>=9,N12>=9,N13>=9,AND(N7>=5,N36)),N106,0)","v":0},{"$f":"IF(OR('Base Numbers'!$C$21,O15>=9,O14>=9,O12>=9,O13>=9,AND(O7>=5,O36)),O106,0)","v":0},{"$f":"IF(OR('Base Numbers'!$C$21,P15>=9,P14>=9,P12>=9,P13>=9,AND(P7>=5,P36)),P106,0)","v":0},{"$f":"IF(OR('Base Numbers'!$C$21,Q15>=9,Q14>=9,Q12>=9,Q13>=9,AND(Q7>=5,Q36)),Q106,0)","v":0},{"$f":"IF(OR('Base Numbers'!$C$21,R15>=9,R14>=9,R12>=9,R13>=9,AND(R7>=5,R36)),R106,0)","v":0},{"$f":"IF(OR('Base Numbers'!$C$21,S15>=9,S14>=9,S12>=9,S13>=9,AND(S7>=5,S36)),S106,0)","v":0},{"$f":"IF(OR('Base Numbers'!$C$21,T15>=9,T14>=9,T12>=9,T13>=9,AND(T7>=5,T36)),T106,0)","v":0},{"$f":"IF(OR('Base Numbers'!$C$21,U15>=9,U14>=9,U12>=9,U13>=9,AND(U7>=5,U36)),U106,0)","v":0},{"$f":"IF(OR('Base Numbers'!$C$21,V15>=9,V14>=9,V12>=9,V13>=9,AND(V7>=5,V36)),V106,0)","v":0},{"$f":"IF(OR('Base Numbers'!$C$21,W15>=9,W14>=9,W12>=9,W13>=9,AND(W7>=5,W36)),W106,0)","v":0},{"$f":"IF(OR('Base Numbers'!$C$21,X15>=9,X14>=9,X12>=9,X13>=9,AND(X7>=5,X36)),X106,0)","v":0},null,"    feywild (tasha's)"]
[{"$nulls":3},"shadow of moil (c) ",{"$f":"IF(OR('Base Numbers'!$C$21,E14>=10,E12>=7),E107,0)","v":0},{"$f":"IF(OR('Base Numbers'!$C$21,F14>=10,F12>=7),F107,0)","v":0},{"$f":"IF(OR('Base Numbers'!$C$21,G14>=10,G12>=7),G107,0)","v":0},{"$f":"IF(OR('Base Numbers'!$C$21,H14>=10,H12>=7),H107,0)","v":0},{"$f":"IF(OR('Base Numbers'!$C$21,I14>=10,I12>=7),I107,0)","v":0},{"$f":"IF(OR('Base Numbers'!$C$21,J14>=10,J12>=7),J107,0)","v":0},{"$f":"IF(OR('Base Numbers'!$C$21,K14>=10,K12>=7),K107,0)","v":0},{"$f":"IF(OR('Base Numbers'!$C$21,L14>=10,L12>=7),L107,0)","v":0},{"$f":"IF(OR('Base Numbers'!$C$21,M14>=10,M12>=7),M107,0)","v":0},{"$f":"IF(OR('Base Numbers'!$C$21,N14>=10,N12>=7),N107,0)","v":0},{"$f":"IF(OR('Base Numbers'!$C$21,O14>=10,O12>=7),O107,0)","v":0},{"$f":"IF(OR('Base Numbers'!$C$21,P14>=10,P12>=7),P107,0)","v":0},{"$f":"IF(OR('Base Numbers'!$C$21,Q14>=10,Q12>=7),Q107,0)","v":0},{"$f":"IF(OR('Base Numbers'!$C$21,R14>=10,R12>=7),R107,0)","v":0},{"$f":"IF(OR('Base Numbers'!$C$21,S14>=10,S12>=7),S107,0)","v":0},{"$f":"IF(OR('Base Numbers'!$C$21,T14>=10,T12>=7),T107,0)","v":0},{"$f":"IF(OR('Base Numbers'!$C$21,U14>=10,U12>=7),U107,0)","v":0},{"$f":"IF(OR('Base Numbers'!$C$21,V14>=10,V12>=7),V107,0)","v":0},{"$f":"IF(OR('Base Numbers'!$C$21,W14>=10,W12>=7),W107,0)","v":0},{"$f":"IF(OR('Base Numbers'!$C$21,X14>=10,X12>=7),X107,0)","v":0},null,"rogue"]
[{"$nulls":3},"greater invisibility (c)",{"$f":"IF(OR('Base Numbers'!$C$21,E14>=7,E13>=7,E15>=7,AND(E9>=13,E77>=1),AND(E11>=19,E67>=1)),E108,0)","v":0},{"$f":"IF(OR('Base Numbers'!$C$21,F14>=7,F13>=7,F15>=7,AND(F9>=13,F77>=1),AND(F11>=19,F67>=1)),F108,0)","v":0},{"$f":"IF(OR('Base Numbers'!$C$21,G14>=7,G13>=7,G15>=7,AND(G9>=13,G77>=1),AND(G11>=19,G67>=1)),G108,0)","v":0},{"$f":"IF(OR('Base Numbers'!$C$21,H14>=7,H13>=7,H15>=7,AND(H9>=13,H77>=1),AND(H11>=19,H67>=1)),H108,0)","v":0},{"$f":"IF(OR('Base Numbers'!$C$21,I14>=7,I13>=7,I15>=7,AND(I9>=13,I77>=1),AND(I11>=19,I67>=1)),I108,0)","v":0},{"$f":"IF(OR('Base Numbers'!$C$21,J14>=7,J13>=7,J15>=7,AND(J9>=13,J77>=1),AND(J11>=19,J67>=1)),J108,0)","v":0},{"$f":"IF(OR('Base Numbers'!$C$21,K14>=7,K13>=7,K15>=7,AND(K9>=13,K77>=1),AND(K11>=19,K67>=1)),K108,0)","v":0},{"$f":"IF(OR('Base Numbers'!$C$21,L14>=7,L13>=7,L15>=7,AND(L9>=13,L77>=1),AND(L11>=19,L67>=1)),L108,0)","v":0},{"$f":"IF(OR('Base Numbers'!$C$21,M14>=7,M13>=7,M15>=7,AND(M9>=13,M77>=1),AND(M11>=19,M67>=1)),M108,0)","v":0},{"$f":"IF(OR('Base Numbers'!$C$21,N14>=7,N13>=7,N15>=7,AND(N9>=13,N77>=1),AND(N11>=19,N67>=1)),N108,0)","v":0},{"$f":"IF(OR('Base Numbers'!$C$21,O14>=7,O13>=7,O15>=7,AND(O9>=13,O77>=1),AND(O11>=19,O67>=1)),O108,0)","v":0},{"$f":"IF(OR('Base Numbers'!$C$21,P14>=7,P13>=7,P15>=7,AND(P9>=13,P77>=1),AND(P11>=19,P67>=1)),P108,0)","v":0},{"$f":"IF(OR('Base Numbers'!$C$21,Q14>=7,Q13>=7,Q15>=7,AND(Q9>=13,Q77>=1),AND(Q11>=19,Q67>=1)),Q108,0)","v":0},{"$f":"IF(OR('Base Numbers'!$C$21,R14>=7,R13>=7,R15>=7,AND(R9>=13,R77>=1),AND(R11>=19,R67>=1)),R108,0)","v":0},{"$f":"IF(OR('Base Numbers'!$C$21,S14>=7,S13>=7,S15>=7,AND(S9>=13,S77>=1),AND(S11>=19,S67>=1)),S108,0)","v":0},{"$f":"IF(OR('Base Numbers'!$C$21,T14>=7,T13>=7,T15>=7,AND(T9>=13,T77>=1),AND(T11>=19,T67>=1)),T108,0)","v":0},{"$f":"IF(OR('Base Numbers'!$C$21,U14>=7,U13>=7,U15>=7,AND(U9>=13,U77>=1),AND(U11>=19,U67>=1)),U108,0)","v":0},{"$f":"IF(OR('Base Numbers'!$C$21,V14>=7,V13>=7,V15>=7,AND(V9>=13,V77>=1),AND(V11>=19,V67>=1)),V108,0)","v":0},{"$f":"IF(OR('Base Numbers'!$C$21,W14>=7,W13>=7,W15>=7,AND(W9>=13,W77>=1),AND(W11>=19,W67>=1)),W108,0)","v":0},{"$f":"IF(OR('Base Numbers'!$C$21,X14>=7,X13>=7,X15>=7,AND(X9>=13,X77>=1),AND(X11>=19,X67>=1)),X108,0)","v":0},null,"    L3: sacrifice bonus action for advantage"]
[{"$nulls":3},"fear casts (conq) (c)",{"$f":"IF(OR('Base Numbers'!$C$21,E15>=5,E14>=5,E12>=5,E13>=5,E12>=5,AND(E7>=9,E38)),E109,0)","v":0},{"$f":"IF(OR('Base Numbers'!$C$21,F15>=5,F14>=5,F12>=5,F13>=5,F12>=5,AND(F7>=9,F38)),F109,0)","v":0},{"$f":"IF(OR('Base Numbers'!$C$21,G15>=5,G14>=5,G12>=5,G13>=5,G12>=5,AND(G7>=9,G38)),G109,0)","v":0},{"$f":"IF(OR('Base Numbers'!$C$21,H15>=5,H14>=5,H12>=5,H13>=5,H12>=5,AND(H7>=9,H38)),H109,0)","v":0},{"$f":"IF(OR('Base Numbers'!$C$21,I15>=5,I14>=5,I12>=5,I13>=5,I12>=5,AND(I7>=9,I38)),I109,0)","v":0},{"$f":"IF(OR('Base Numbers'!$C$21,J15>=5,J14>=5,J12>=5,J13>=5,J12>=5,AND(J7>=9,J38)),J109,0)","v":0},{"$f":"IF(OR('Base Numbers'!$C$21,K15>=5,K14>=5,K12>=5,K13>=5,K12>=5,AND(K7>=9,K38)),K109,0)","v":0},{"$f":"IF(OR('Base Numbers'!$C$21,L15>=5,L14>=5,L12>=5,L13>=5,L12>=5,AND(L7>=9,L38)),L109,0)","v":0},{"$f":"IF(OR('Base Numbers'!$C$21,M15>=5,M14>=5,M12>=5,M13>=5,M12>=5,AND(M7>=9,M38)),M109,0)","v":0},{"$f":"IF(OR('Base Numbers'!$C$21,N15>=5,N14>=5,N12>=5,N13>=5,N12>=5,AND(N7>=9,N38)),N109,0)","v":0},{"$f":"IF(OR('Base Numbers'!$C$21,O15>=5,O14>=5,O12>=5,O13>=5,O12>=5,AND(O7>=9,O38)),O109,0)","v":0},{"$f":"IF(OR('Base Numbers'!$C$21,P15>=5,P14>=5,P12>=5,P13>=5,P12>=5,AND(P7>=9,P38)),P109,0)","v":0},{"$f":"IF(OR('Base Numbers'!$C$21,Q15>=5,Q14>=5,Q12>=5,Q13>=5,Q12>=5,AND(Q7>=9,Q38)),Q109,0)","v":0},{"$f":"IF(OR('Base Numbers'!$C$21,R15>=5,R14>=5,R12>=5,R13>=5,R12>=5,AND(R7>=9,R38)),R109,0)","v":0},{"$f":"IF(OR('Base Numbers'!$C$21,S15>=5,S14>=5,S12>=5,S13>=5,S12>=5,AND(S7>=9,S38)),S109,0)","v":0},{"$f":"IF(OR('Base Numbers'!$C$21,T15>=5,T14>=5,T12>=5,T13>=5,T12>=5,AND(T7>=9,T38)),T109,0)","v":0},{"$f":"IF(OR('Base Numbers'!$C$21,U15>=5,U14>=5,U12>=5,U13>=5,U12>=5,AND(U7>=9,U38)),U109,0)","v":0},{"$f":"IF(OR('Base Numbers'!$C$21,V15>=5,V14>=5,V12>=5,V13>=5,V12>=5,AND(V7>=9,V38)),V109,0)","v":0},{"$f":"IF(OR('Base Numbers'!$C$21,W15>=5,W14>=5,W12>=5,W13>=5,W12>=5,AND(W7>=9,W38)),W109,0)","v":0},{"$f":"IF(OR('Base Numbers'!$C$21,X15>=5,X14>=5,X12>=5,X13>=5,X12>=5,AND(X7>=9,X38)),X109,0)","v":0},null,"    arcane trickster: gain FF, BB, and GFB at L3"]
[{"$nulls":3},"tenser's transformation (c) ",{"$f":"IF(OR('Base Numbers'!$C$21,E15>=11,E14>=14),E110,0)","v":0},{"$f":"IF(OR('Base Numbers'!$C$21,F15>=11,F14>=14),F110,0)","v":0},{"$f":"IF(OR('Base Numbers'!$C$21,G15>=11,G14>=14),G110,0)","v":0},{"$f":"IF(OR('Base Numbers'!$C$21,H15>=11,H14>=14),H110,0)","v":0},{"$f":"IF(OR('Base Numbers'!$C$21,I15>=11,I14>=14),I110,0)","v":0},{"$f":"IF(OR('Base Numbers'!$C$21,J15>=11,J14>=14),J110,0)","v":0},{"$f":"IF(OR('Base Numbers'!$C$21,K15>=11,K14>=14),K110,0)","v":0},{"$f":"IF(OR('Base Numbers'!$C$21,L15>=11,L14>=14),L110,0)","v":0},{"$f":"IF(OR('Base Numbers'!$C$21,M15>=11,M14>=14),M110,0)","v":0},{"$f":"IF(OR('Base Numbers'!$C$21,N15>=11,N14>=14),N110,0)","v":0},{"$f":"IF(OR('Base Numbers'!$C$21,O15>=11,O14>=14),O110,0)","v":0},{"$f":"IF(OR('Base Numbers'!$C$21,P15>=11,P14>=14),P110,0)","v":0},{"$f":"IF(OR('Base Numbers'!$C$21,Q15>=11,Q14>=14),Q110,0)","v":0},{"$f":"IF(OR('Base Numbers'!$C$21,R15>=11,R14>=14),R110,0)","v":0},{"$f":"IF(OR('Base Numbers'!$C$21,S15>=11,S14>=14),S110,0)","v":0},{"$f":"IF(OR('Base Numbers'!$C$21,T15>=11,T14>=14),T110,0)","v":0},{"$f":"IF(OR('Base Numbers'!$C$21,U15>=11,U14>=14),U110,0)","v":0},{"$f":"IF(OR('Base Numbers'!$C$21,V15>=11,V14>=14),V110,0)","v":0},{"$f":"IF(OR('Base Numbers'!$C$21,W15>=11,W14>=14),W110,0)","v":0},{"$f":"IF(OR('Base Numbers'!$C$21,X15>=11,X14>=14),X110,0)","v":0},null,"artificer"]
[{"$nulls":3},"flaming sphere casts (c)",{"$f":"IF(OR('Base Numbers'!$C$21,E17>=3,E15>=3,E14>=10,AND(E14>=6,E61>=1),E13>=3),E111,0)","v":0},{"$f":"IF(OR('Base Numbers'!$C$21,F17>=3,F15>=3,F14>=10,AND(F14>=6,F61>=1),F13>=3),F111,0)","v":0},{"$f":"IF(OR('Base Numbers'!$C$21,G17>=3,G15>=3,G14>=10,AND(G14>=6,G61>=1),G13>=3),G111,0)","v":0},{"$f":"IF(OR('Base Numbers'!$C$21,H17>=3,H15>=3,H14>=10,AND(H14>=6,H61>=1),H13>=3),H111,0)","v":0},{"$f":"IF(OR('Base Numbers'!$C$21,I17>=3,I15>=3,I14>=10,AND(I14>=6,I61>=1),I13>=3),I111,0)","v":0},{"$f":"IF(OR('Base Numbers'!$C$21,J17>=3,J15>=3,J14>=10,AND(J14>=6,J61>=1),J13>=3),J111,0)","v":0},{"$f":"IF(OR('Base Numbers'!$C$21,K17>=3,K15>=3,K14>=10,AND(K14>=6,K61>=1),K13>=3),K111,0)","v":0},{"$f":"IF(OR('Base Numbers'!$C$21,L17>=3,L15>=3,L14>=10,AND(L14>=6,L61>=1),L13>=3),L111,0)","v":0},{"$f":"IF(OR('Base Numbers'!$C$21,M17>=3,M15>=3,M14>=10,AND(M14>=6,M61>=1),M13>=3),M111,0)","v":0},{"$f":"IF(OR('Base Numbers'!$C$21,N17>=3,N15>=3,N14>=10,AND(N14>=6,N61>=1),N13>=3),N111,0)","v":0},{"$f":"IF(OR('Base Numbers'!$C$21,O17>=3,O15>=3,O14>=10,AND(O14>=6,O61>=1),O13>=3),O111,0)","v":0},{"$f":"IF(OR('Base Numbers'!$C$21,P17>=3,P15>=3,P14>=10,AND(P14>=6,P61>=1),P13>=3),P111,0)","v":0},{"$f":"IF(OR('Base Numbers'!$C$21,Q17>=3,Q15>=3,Q14>=10,AND(Q14>=6,Q61>=1),Q13>=3),Q111,0)","v":0},{"$f":"IF(OR('Base Numbers'!$C$21,R17>=3,R15>=3,R14>=10,AND(R14>=6,R61>=1),R13>=3),R111,0)","v":0},{"$f":"IF(OR('Base Numbers'!$C$21,S17>=3,S15>=3,S14>=10,AND(S14>=6,S61>=1),S13>=3),S111,0)","v":0},{"$f":"IF(OR('Base Numbers'!$C$21,T17>=3,T15>=3,T14>=10,AND(T14>=6,T61>=1),T13>=3),T111,0)","v":0},{"$f":"IF(OR('Base Numbers'!$C$21,U17>=3,U15>=3,U14>=10,AND(U14>=6,U61>=1),U13>=3),U111,0)","v":0},{"$f":"IF(OR('Base Numbers'!$C$21,V17>=3,V15>=3,V14>=10,AND(V14>=6,V61>=1),V13>=3),V111,0)","v":0},{"$f":"IF(OR('Base Numbers'!$C$21,W17>=3,W15>=3,W14>=10,AND(W14>=6,W61>=1),W13>=3),W111,0)","v":0},{"$f":"IF(OR('Base Numbers'!$C$21,X17>=3,X15>=3,X14>=10,AND(X14>=6,X61>=1),X13>=3),X111,0)","v":0},null,"  battlesmith"]
[{"$nulls":3},"bigby's hand casts (c)",{"$f":"IF(OR('Base Numbers'!$C$21,E15>=9,E14>=10,E12>=9,E13>=9,E19>=17),E112,0)","v":0},{"$f":"IF(OR('Base Numbers'!$C$21,F15>=9,F14>=10,F12>=9,F13>=9,F19>=17),F112,0)","v":0},{"$f":"IF(OR('Base Numbers'!$C$21,G15>=9,G14>=10,G12>=9,G13>=9,G19>=17),G112,0)","v":0},{"$f":"IF(OR('Base Numbers'!$C$21,H15>=9,H14>=10,H12>=9,H13>=9,H19>=17),H112,0)","v":0},{"$f":"IF(OR('Base Numbers'!$C$21,I15>=9,I14>=10,I12>=9,I13>=9,I19>=17),I112,0)","v":0},{"$f":"IF(OR('Base Numbers'!$C$21,J15>=9,J14>=10,J12>=9,J13>=9,J19>=17),J112,0)","v":0},{"$f":"IF(OR('Base Numbers'!$C$21,K15>=9,K14>=10,K12>=9,K13>=9,K19>=17),K112,0)","v":0},{"$f":"IF(OR('Base Numbers'!$C$21,L15>=9,L14>=10,L12>=9,L13>=9,L19>=17),L112,0)","v":0},{"$f":"IF(OR('Base Numbers'!$C$21,M15>=9,M14>=10,M12>=9,M13>=9,M19>=17),M112,0)","v":0},{"$f":"IF(OR('Base Numbers'!$C$21,N15>=9,N14>=10,N12>=9,N13>=9,N19>=17),N112,0)","v":0},{"$f":"IF(OR('Base Numbers'!$C$21,O15>=9,O14>=10,O12>=9,O13>=9,O19>=17),O112,0)","v":0},{"$f":"IF(OR('Base Numbers'!$C$21,P15>=9,P14>=10,P12>=9,P13>=9,P19>=17),P112,0)","v":0},{"$f":"IF(OR('Base Numbers'!$C$21,Q15>=9,Q14>=10,Q12>=9,Q13>=9,Q19>=17),Q112,0)","v":0},{"$f":"IF(OR('Base Numbers'!$C$21,R15>=9,R14>=10,R12>=9,R13>=9,R19>=17),R112,0)","v":0},{"$f":"IF(OR('Base Numbers'!$C$21,S15>=9,S14>=10,S12>=9,S13>=9,S19>=17),S112,0)","v":0},{"$f":"IF(OR('Base Numbers'!$C$21,T15>=9,T14>=10,T12>=9,T13>=9,T19>=17),T112,0)","v":0},{"$f":"IF(OR('Base Numbers'!$C$21,U15>=9,U14>=10,U12>=9,U13>=9,U19>=17),U112,0)","v":0},{"$f":"IF(OR('Base Numbers'!$C$21,V15>=9,V14>=10,V12>=9,V13>=9,V19>=17),V112,0)","v":0},{"$f":"IF(OR('Base Numbers'!$C$21,W15>=9,W14>=10,W12>=9,W13>=9,W19>=17),W112,0)","v":0},{"$f":"IF(OR('Base Numbers'!$C$21,X15>=9,X14>=10,X12>=9,X13>=9,X19>=17),X112,0)","v":0},null,"  artillerist"]
[{"$nulls":3},"animate objects casts (c)",{"$f":"IF(OR('Base Numbers'!$C$21,E15>=9,E14>=9,E12>=9,E13>=9,E19>=17),E113,0)","v":0},{"$f":"IF(OR('Base Numbers'!$C$21,F15>=9,F14>=9,F12>=9,F13>=9,F19>=17),F113,0)","v":0},{"$f":"IF(OR('Base Numbers'!$C$21,G15>=9,G14>=9,G12>=9,G13>=9,G19>=17),G113,0)","v":0},{"$f":"IF(OR('Base Numbers'!$C$21,H15>=9,H14>=9,H12>=9,H13>=9,H19>=17),H113,0)","v":0},{"$f":"IF(OR('Base Numbers'!$C$21,I15>=9,I14>=9,I12>=9,I13>=9,I19>=17),I113,0)","v":0},{"$f":"IF(OR('Base Numbers'!$C$21,J15>=9,J14>=9,J12>=9,J13>=9,J19>=17),J113,0)","v":0},{"$f":"IF(OR('Base Numbers'!$C$21,K15>=9,K14>=9,K12>=9,K13>=9,K19>=17),K113,0)","v":0},{"$f":"IF(OR('Base Numbers'!$C$21,L15>=9,L14>=9,L12>=9,L13>=9,L19>=17),L113,0)","v":0},{"$f":"IF(OR('Base Numbers'!$C$21,M15>=9,M14>=9,M12>=9,M13>=9,M19>=17),M113,0)","v":0},{"$f":"IF(OR('Base Numbers'!$C$21,N15>=9,N14>=9,N12>=9,N13>=9,N19>=17),N113,0)","v":0},{"$f":"IF(OR('Base Numbers'!$C$21,O15>=9,O14>=9,O12>=9,O13>=9,O19>=17),O113,0)","v":0},{"$f":"IF(OR('Base Numbers'!$C$21,P15>=9,P14>=9,P12>=9,P13>=9,P19>=17),P113,0)","v":0},{"$f":"IF(OR('Base Numbers'!$C$21,Q15>=9,Q14>=9,Q12>=9,Q13>=9,Q19>=17),Q113,0)","v":0},{"$f":"IF(OR('Base Numbers'!$C$21,R15>=9,R14>=9,R12>=9,R13>=9,R19>=17),R113,0)","v":0},{"$f":"IF(OR('Base Numbers'!$C$21,S15>=9,S14>=9,S12>=9,S13>=9,S19>=17),S113,0)","v":0},{"$f":"IF(OR('Base Numbers'!$C$21,T15>=9,T14>=9,T12>=9,T13>=9,T19>=17),T113,0)","v":0},{"$f":"IF(OR('Base Numbers'!$C$21,U15>=9,U14>=9,U12>=9,U13>=9,U19>=17),U113,0)","v":0},{"$f":"IF(OR('Base Numbers'!$C$21,V15>=9,V14>=9,V12>=9,V13>=9,V19>=17),V113,0)","v":0},{"$f":"IF(OR('Base Numbers'!$C$21,W15>=9,W14>=9,W12>=9,W13>=9,W19>=17),W113,0)","v":0},{"$f":"IF(OR('Base Numbers'!$C$21,X15>=9,X14>=9,X12>=9,X13>=9,X19>=17),X113,0)","v":0},null,"generalized cantrip action value"]
[{"$nulls":3},"spirtual weapon casts (free) req Conq or Divine S",{"$f":"IF(OR('Base Numbers'!$C$21,E14>=10,AND(E14>=6,E61>=1),E16>=3,AND(E40,E13>=3),AND(E38,E7>=5)),E114,0)","v":0},{"$f":"IF(OR('Base Numbers'!$C$21,F14>=10,AND(F14>=6,F61>=1),F16>=3,AND(F40,F13>=3),AND(F38,F7>=5)),F114,0)","v":0},{"$f":"IF(OR('Base Numbers'!$C$21,G14>=10,AND(G14>=6,G61>=1),G16>=3,AND(G40,G13>=3),AND(G38,G7>=5)),G114,0)","v":0},{"$f":"IF(OR('Base Numbers'!$C$21,H14>=10,AND(H14>=6,H61>=1),H16>=3,AND(H40,H13>=3),AND(H38,H7>=5)),H114,0)","v":0},{"$f":"IF(OR('Base Numbers'!$C$21,I14>=10,AND(I14>=6,I61>=1),I16>=3,AND(I40,I13>=3),AND(I38,I7>=5)),I114,0)","v":0},{"$f":"IF(OR('Base Numbers'!$C$21,J14>=10,AND(J14>=6,J61>=1),J16>=3,AND(J40,J13>=3),AND(J38,J7>=5)),J114,0)","v":0},{"$f":"IF(OR('Base Numbers'!$C$21,K14>=10,AND(K14>=6,K61>=1),K16>=3,AND(K40,K13>=3),AND(K38,K7>=5)),K114,0)","v":0},{"$f":"IF(OR('Base Numbers'!$C$21,L14>=10,AND(L14>=6,L61>=1),L16>=3,AND(L40,L13>=3),AND(L38,L7>=5)),L114,0)","v":0},{"$f":"IF(OR('Base Numbers'!$C$21,M14>=10,AND(M14>=6,M61>=1),M16>=3,AND(M40,M13>=3),AND(M38,M7>=5)),M114,0)","v":0},{"$f":"IF(OR('Base Numbers'!$C$21,N14>=10,AND(N14>=6,N61>=1),N16>=3,AND(N40,N13>=3),AND(N38,N7>=5)),N114,0)","v":0},{"$f":"IF(OR('Base Numbers'!$C$21,O14>=10,AND(O14>=6,O61>=1),O16>=3,AND(O40,O13>=3),AND(O38,O7>=5)),O114,0)","v":0},{"$f":"IF(OR('Base Numbers'!$C$21,P14>=10,AND(P14>=6,P61>=1),P16>=3,AND(P40,P13>=3),AND(P38,P7>=5)),P114,0)","v":0},{"$f":"IF(OR('Base Numbers'!$C$21,Q14>=10,AND(Q14>=6,Q61>=1),Q16>=3,AND(Q40,Q13>=3),AND(Q38,Q7>=5)),Q114,0)","v":0},{"$f":"IF(OR('Base Numbers'!$C$21,R14>=10,AND(R14>=6,R61>=1),R16>=3,AND(R40,R13>=3),AND(R38,R7>=5)),R114,0)","v":0},{"$f":"IF(OR('Base Numbers'!$C$21,S14>=10,AND(S14>=6,S61>=1),S16>=3,AND(S40,S13>=3),AND(S38,S7>=5)),S114,0)","v":0},{"$f":"IF(OR('Base Numbers'!$C$21,T14>=10,AND(T14>=6,T61>=1),T16>=3,AND(T40,T13>=3),AND(T38,T7>=5)),T114,0)","v":0},{"$f":"IF(OR('Base Numbers'!$C$21,U14>=10,AND(U14>=6,U61>=1),U16>=3,AND(U40,U13>=3),AND(U38,U7>=5)),U114,0)","v":0},{"$f":"IF(OR('Base Numbers'!$C$21,V14>=10,AND(V14>=6,V61>=1),V16>=3,AND(V40,V13>=3),AND(V38,V7>=5)),V114,0)","v":0},{"$f":"IF(OR('Base Numbers'!$C$21,W14>=10,AND(W14>=6,W61>=1),W16>=3,AND(W40,W13>=3),AND(W38,W7>=5)),W114,0)","v":0},{"$f":"IF(OR('Base Numbers'!$C$21,X14>=10,AND(X14>=6,X61>=1),X16>=3,AND(X40,X13>=3),AND(X38,X7>=5)),X114,0)","v":0},null,"  circle of stars"]
[{"$nulls":3},"fireball casts",{"$f":"MIN('Base Numbers'!$G$21,IF(OR('Base Numbers'!$C$21,E15>=5,E14>=10,AND(E14>=6,E61>=1),AND(E12>=5,OR(E48>=1,E47>=1)),E13>=5,AND(E19>=9,E71)),E115,0))","v":0},{"$f":"MIN('Base Numbers'!$G$21,IF(OR('Base Numbers'!$C$21,F15>=5,F14>=10,AND(F14>=6,F61>=1),AND(F12>=5,OR(F48>=1,F47>=1)),F13>=5,AND(F19>=9,F71)),F115,0))","v":0},{"$f":"MIN('Base Numbers'!$G$21,IF(OR('Base Numbers'!$C$21,G15>=5,G14>=10,AND(G14>=6,G61>=1),AND(G12>=5,OR(G48>=1,G47>=1)),G13>=5,AND(G19>=9,G71)),G115,0))","v":0},{"$f":"MIN('Base Numbers'!$G$21,IF(OR('Base Numbers'!$C$21,H15>=5,H14>=10,AND(H14>=6,H61>=1),AND(H12>=5,OR(H48>=1,H47>=1)),H13>=5,AND(H19>=9,H71)),H115,0))","v":0},{"$f":"MIN('Base Numbers'!$G$21,IF(OR('Base Numbers'!$C$21,I15>=5,I14>=10,AND(I14>=6,I61>=1),AND(I12>=5,OR(I48>=1,I47>=1)),I13>=5,AND(I19>=9,I71)),I115,0))","v":0},{"$f":"MIN('Base Numbers'!$G$21,IF(OR('Base Numbers'!$C$21,J15>=5,J14>=10,AND(J14>=6,J61>=1),AND(J12>=5,OR(J48>=1,J47>=1)),J13>=5,AND(J19>=9,J71)),J115,0))","v":0},{"$f":"MIN('Base Numbers'!$G$21,IF(OR('Base Numbers'!$C$21,K15>=5,K14>=10,AND(K14>=6,K61>=1),AND(K12>=5,OR(K48>=1,K47>=1)),K13>=5,AND(K19>=9,K71)),K115,0))","v":0},{"$f":"MIN('Base Numbers'!$G$21,IF(OR('Base Numbers'!$C$21,L15>=5,L14>=10,AND(L14>=6,L61>=1),AND(L12>=5,OR(L48>=1,L47>=1)),L13>=5,AND(L19>=9,L71)),L115,0))","v":0},{"$f":"MIN('Base Numbers'!$G$21,IF(OR('Base Numbers'!$C$21,M15>=5,M14>=10,AND(M14>=6,M61>=1),AND(M12>=5,OR(M48>=1,M47>=1)),M13>=5,AND(M19>=9,M71)),M115,0))","v":0},{"$f":"MIN('Base Numbers'!$G$21,IF(OR('Base Numbers'!$C$21,N15>=5,N14>=10,AND(N14>=6,N61>=1),AND(N12>=5,OR(N48>=1,N47>=1)),N13>=5,AND(N19>=9,N71)),N115,0))","v":0},{"$f":"MIN('Base Numbers'!$G$21,IF(OR('Base Numbers'!$C$21,O15>=5,O14>=10,AND(O14>=6,O61>=1),AND(O12>=5,OR(O48>=1,O47>=1)),O13>=5,AND(O19>=9,O71)),O115,0))","v":0},{"$f":"MIN('Base Numbers'!$G$21,IF(OR('Base Numbers'!$C$21,P15>=5,P14>=10,AND(P14>=6,P61>=1),AND(P12>=5,OR(P48>=1,P47>=1)),P13>=5,AND(P19>=9,P71)),P115,0))","v":0},{"$f":"MIN('Base Numbers'!$G$21,IF(OR('Base Numbers'!$C$21,Q15>=5,Q14>=10,AND(Q14>=6,Q61>=1),AND(Q12>=5,OR(Q48>=1,Q47>=1)),Q13>=5,AND(Q19>=9,Q71)),Q115,0))","v":0},{"$f":"MIN('Base Numbers'!$G$21,IF(OR('Base Numbers'!$C$21,R15>=5,R14>=10,AND(R14>=6,R61>=1),AND(R12>=5,OR(R48>=1,R47>=1)),R13>=5,AND(R19>=9,R71)),R115,0))","v":0},{"$f":"MIN('Base Numbers'!$G$21,IF(OR('Base Numbers'!$C$21,S15>=5,S14>=10,AND(S14>=6,S61>=1),AND(S12>=5,OR(S48>=1,S47>=1)),S13>=5,AND(S19>=9,S71)),S115,0))","v":0},{"$f":"MIN('Base Numbers'!$G$21,IF(OR('Base Numbers'!$C$21,T15>=5,T14>=10,AND(T14>=6,T61>=1),AND(T12>=5,OR(T48>=1,T47>=1)),T13>=5,AND(T19>=9,T71)),T115,0))","v":0},{"$f":"MIN('Base Numbers'!$G$21,IF(OR('Base Numbers'!$C$21,U15>=5,U14>=10,AND(U14>=6,U61>=1),AND(U12>=5,OR(U48>=1,U47>=1)),U13>=5,AND(U19>=9,U71)),U115,0))","v":0},{"$f":"MIN('Base Numbers'!$G$21,IF(OR('Base Numbers'!$C$21,V15>=5,V14>=10,AND(V14>=6,V61>=1),AND(V12>=5,OR(V48>=1,V47>=1)),V13>=5,AND(V19>=9,V71)),V115,0))","v":0},{"$f":"MIN('Base Numbers'!$G$21,IF(OR('Base Numbers'!$C$21,W15>=5,W14>=10,AND(W14>=6,W61>=1),AND(W12>=5,OR(W48>=1,W47>=1)),W13>=5,AND(W19>=9,W71)),W115,0))","v":0},{"$f":"MIN('Base Numbers'!$G$21,IF(OR('Base Numbers'!$C$21,X15>=5,X14>=10,AND(X14>=6,X61>=1),AND(X12>=5,OR(X48>=1,X47>=1)),X13>=5,AND(X19>=9,X71)),X115,0))","v":0},null,"Druid circle of spores damage"]
[{"$nulls":3},"animate dead (non-combat)",{"$f":"IF(OR('Base Numbers'!$C$21,E15>=5,E16>=5,E14>=10,AND(E14>=6,E61>=1)),E116,0)","v":0},{"$f":"IF(OR('Base Numbers'!$C$21,F15>=5,F16>=5,F14>=10,AND(F14>=6,F61>=1)),F116,0)","v":0},{"$f":"IF(OR('Base Numbers'!$C$21,G15>=5,G16>=5,G14>=10,AND(G14>=6,G61>=1)),G116,0)","v":0},{"$f":"IF(OR('Base Numbers'!$C$21,H15>=5,H16>=5,H14>=10,AND(H14>=6,H61>=1)),H116,0)","v":0},{"$f":"IF(OR('Base Numbers'!$C$21,I15>=5,I16>=5,I14>=10,AND(I14>=6,I61>=1)),I116,0)","v":0},{"$f":"IF(OR('Base Numbers'!$C$21,J15>=5,J16>=5,J14>=10,AND(J14>=6,J61>=1)),J116,0)","v":0},{"$f":"IF(OR('Base Numbers'!$C$21,K15>=5,K16>=5,K14>=10,AND(K14>=6,K61>=1)),K116,0)","v":0},{"$f":"IF(OR('Base Numbers'!$C$21,L15>=5,L16>=5,L14>=10,AND(L14>=6,L61>=1)),L116,0)","v":0},{"$f":"IF(OR('Base Numbers'!$C$21,M15>=5,M16>=5,M14>=10,AND(M14>=6,M61>=1)),M116,0)","v":0},{"$f":"IF(OR('Base Numbers'!$C$21,N15>=5,N16>=5,N14>=10,AND(N14>=6,N61>=1)),N116,0)","v":0},{"$f":"IF(OR('Base Numbers'!$C$21,O15>=5,O16>=5,O14>=10,AND(O14>=6,O61>=1)),O116,0)","v":0},{"$f":"IF(OR('Base Numbers'!$C$21,P15>=5,P16>=5,P14>=10,AND(P14>=6,P61>=1)),P116,0)","v":0},{"$f":"IF(OR('Base Numbers'!$C$21,Q15>=5,Q16>=5,Q14>=10,AND(Q14>=6,Q61>=1)),Q116,0)","v":0},{"$f":"IF(OR('Base Numbers'!$C$21,R15>=5,R16>=5,R14>=10,AND(R14>=6,R61>=1)),R116,0)","v":0},{"$f":"IF(OR('Base Numbers'!$C$21,S15>=5,S16>=5,S14>=10,AND(S14>=6,S61>=1)),S116,0)","v":0},{"$f":"IF(OR('Base Numbers'!$C$21,T15>=5,T16>=5,T14>=10,AND(T14>=6,T61>=1)),T116,0)","v":0},{"$f":"IF(OR('Base Numbers'!$C$21,U15>=5,U16>=5,U14>=10,AND(U14>=6,U61>=1)),U116,0)","v":0},{"$f":"IF(OR('Base Numbers'!$C$21,V15>=5,V16>=5,V14>=10,AND(V14>=6,V61>=1)),V116,0)","v":0},{"$f":"IF(OR('Base Numbers'!$C$21,W15>=5,W16>=5,W14>=10,AND(W14>=6,W61>=1)),W116,0)","v":0},{"$f":"IF(OR('Base Numbers'!$C$21,X15>=5,X16>=5,X14>=10,AND(X14>=6,X61>=1)),X116,0)","v":0},null,"assassin advantage"]
[{"$nulls":3},"tiny servant (non-combat)",{"$f":"IF(OR('Base Numbers'!$C$21,E15>=5,E19>=9,E14>=10,AND(E14>=6,E61>=1)),E117,0)","v":0},{"$f":"IF(OR('Base Numbers'!$C$21,F15>=5,F19>=9,F14>=10,AND(F14>=6,F61>=1)),F117,0)","v":0},{"$f":"IF(OR('Base Numbers'!$C$21,G15>=5,G19>=9,G14>=10,AND(G14>=6,G61>=1)),G117,0)","v":0},{"$f":"IF(OR('Base Numbers'!$C$21,H15>=5,H19>=9,H14>=10,AND(H14>=6,H61>=1)),H117,0)","v":0},{"$f":"IF(OR('Base Numbers'!$C$21,I15>=5,I19>=9,I14>=10,AND(I14>=6,I61>=1)),I117,0)","v":0},{"$f":"IF(OR('Base Numbers'!$C$21,J15>=5,J19>=9,J14>=10,AND(J14>=6,J61>=1)),J117,0)","v":0},{"$f":"IF(OR('Base Numbers'!$C$21,K15>=5,K19>=9,K14>=10,AND(K14>=6,K61>=1)),K117,0)","v":0},{"$f":"IF(OR('Base Numbers'!$C$21,L15>=5,L19>=9,L14>=10,AND(L14>=6,L61>=1)),L117,0)","v":0},{"$f":"IF(OR('Base Numbers'!$C$21,M15>=5,M19>=9,M14>=10,AND(M14>=6,M61>=1)),M117,0)","v":0},{"$f":"IF(OR('Base Numbers'!$C$21,N15>=5,N19>=9,N14>=10,AND(N14>=6,N61>=1)),N117,0)","v":0},{"$f":"IF(OR('Base Numbers'!$C$21,O15>=5,O19>=9,O14>=10,AND(O14>=6,O61>=1)),O117,0)","v":0},{"$f":"IF(OR('Base Numbers'!$C$21,P15>=5,P19>=9,P14>=10,AND(P14>=6,P61>=1)),P117,0)","v":0},{"$f":"IF(OR('Base Numbers'!$C$21,Q15>=5,Q19>=9,Q14>=10,AND(Q14>=6,Q61>=1)),Q117,0)","v":0},{"$f":"IF(OR('Base Numbers'!$C$21,R15>=5,R19>=9,R14>=10,AND(R14>=6,R61>=1)),R117,0)","v":0},{"$f":"IF(OR('Base Numbers'!$C$21,S15>=5,S19>=9,S14>=10,AND(S14>=6,S61>=1)),S117,0)","v":0},{"$f":"IF(OR('Base Numbers'!$C$21,T15>=5,T19>=9,T14>=10,AND(T14>=6,T61>=1)),T117,0)","v":0},{"$f":"IF(OR('Base Numbers'!$C$21,U15>=5,U19>=9,U14>=10,AND(U14>=6,U61>=1)),U117,0)","v":0},{"$f":"IF(OR('Base Numbers'!$C$21,V15>=5,V19>=9,V14>=10,AND(V14>=6,V61>=1)),V117,0)","v":0},{"$f":"IF(OR('Base Numbers'!$C$21,W15>=5,W19>=9,W14>=10,AND(W14>=6,W61>=1)),W117,0)","v":0},{"$f":"IF(OR('Base Numbers'!$C$21,X15>=5,X19>=9,X14>=10,AND(X14>=6,X61>=1)),X117,0)","v":0},null,"assassin deathstrike (L17)"]
[{"$nulls":3},"summon beast (c)",{"$f":"IF(OR('Base Numbers'!$C$21,E17>=3,E9>=5,E14>=10,AND(E14>=6,E61>=1)),E118,0)","v":0},{"$f":"IF(OR('Base Numbers'!$C$21,F17>=3,F9>=5,F14>=10,AND(F14>=6,F61>=1)),F118,0)","v":0},{"$f":"IF(OR('Base Numbers'!$C$21,G17>=3,G9>=5,G14>=10,AND(G14>=6,G61>=1)),G118,0)","v":0},{"$f":"IF(OR('Base Numbers'!$C$21,H17>=3,H9>=5,H14>=10,AND(H14>=6,H61>=1)),H118,0)","v":0},{"$f":"IF(OR('Base Numbers'!$C$21,I17>=3,I9>=5,I14>=10,AND(I14>=6,I61>=1)),I118,0)","v":0},{"$f":"IF(OR('Base Numbers'!$C$21,J17>=3,J9>=5,J14>=10,AND(J14>=6,J61>=1)),J118,0)","v":0},{"$f":"IF(OR('Base Numbers'!$C$21,K17>=3,K9>=5,K14>=10,AND(K14>=6,K61>=1)),K118,0)","v":0},{"$f":"IF(OR('Base Numbers'!$C$21,L17>=3,L9>=5,L14>=10,AND(L14>=6,L61>=1)),L118,0)","v":0},{"$f":"IF(OR('Base Numbers'!$C$21,M17>=3,M9>=5,M14>=10,AND(M14>=6,M61>=1)),M118,0)","v":0},{"$f":"IF(OR('Base Numbers'!$C$21,N17>=3,N9>=5,N14>=10,AND(N14>=6,N61>=1)),N118,0)","v":0},{"$f":"IF(OR('Base Numbers'!$C$21,O17>=3,O9>=5,O14>=10,AND(O14>=6,O61>=1)),O118,0)","v":0},{"$f":"IF(OR('Base Numbers'!$C$21,P17>=3,P9>=5,P14>=10,AND(P14>=6,P61>=1)),P118,0)","v":0},{"$f":"IF(OR('Base Numbers'!$C$21,Q17>=3,Q9>=5,Q14>=10,AND(Q14>=6,Q61>=1)),Q118,0)","v":0},{"$f":"IF(OR('Base Numbers'!$C$21,R17>=3,R9>=5,R14>=10,AND(R14>=6,R61>=1)),R118,0)","v":0},{"$f":"IF(OR('Base Numbers'!$C$21,S17>=3,S9>=5,S14>=10,AND(S14>=6,S61>=1)),S118,0)","v":0},{"$f":"IF(OR('Base Numbers'!$C$21,T17>=3,T9>=5,T14>=10,AND(T14>=6,T61>=1)),T118,0)","v":0},{"$f":"IF(OR('Base Numbers'!$C$21,U17>=3,U9>=5,U14>=10,AND(U14>=6,U61>=1)),U118,0)","v":0},{"$f":"IF(OR('Base Numbers'!$C$21,V17>=3,V9>=5,V14>=10,AND(V14>=6,V61>=1)),V118,0)","v":0},{"$f":"IF(OR('Base Numbers'!$C$21,W17>=3,W9>=5,W14>=10,AND(W14>=6,W61>=1)),W118,0)","v":0},{"$f":"IF(OR('Base Numbers'!$C$21,X17>=3,X9>=5,X14>=10,AND(X14>=6,X61>=1)),X118,0)","v":0},null,"Base Numbers option for DM allows BB with Shadowblade"]
[{"$nulls":3},"summon fey (c)",{"$f":"IF(OR('Base Numbers'!$C$21,E9>=9,E12>=5,E15>=5,E17>=5,E14>=10,AND(E14>=6,E61>=1)),E119,0)","v":0},{"$f":"IF(OR('Base Numbers'!$C$21,F9>=9,F12>=5,F15>=5,F17>=5,F14>=10,AND(F14>=6,F61>=1)),F119,0)","v":0},{"$f":"IF(OR('Base Numbers'!$C$21,G9>=9,G12>=5,G15>=5,G17>=5,G14>=10,AND(G14>=6,G61>=1)),G119,0)","v":0},{"$f":"IF(OR('Base Numbers'!$C$21,H9>=9,H12>=5,H15>=5,H17>=5,H14>=10,AND(H14>=6,H61>=1)),H119,0)","v":0},{"$f":"IF(OR('Base Numbers'!$C$21,I9>=9,I12>=5,I15>=5,I17>=5,I14>=10,AND(I14>=6,I61>=1)),I119,0)","v":0},{"$f":"IF(OR('Base Numbers'!$C$21,J9>=9,J12>=5,J15>=5,J17>=5,J14>=10,AND(J14>=6,J61>=1)),J119,0)","v":0},{"$f":"IF(OR('Base Numbers'!$C$21,K9>=9,K12>=5,K15>=5,K17>=5,K14>=10,AND(K14>=6,K61>=1)),K119,0)","v":0},{"$f":"IF(OR('Base Numbers'!$C$21,L9>=9,L12>=5,L15>=5,L17>=5,L14>=10,AND(L14>=6,L61>=1)),L119,0)","v":0},{"$f":"IF(OR('Base Numbers'!$C$21,M9>=9,M12>=5,M15>=5,M17>=5,M14>=10,AND(M14>=6,M61>=1)),M119,0)","v":0},{"$f":"IF(OR('Base Numbers'!$C$21,N9>=9,N12>=5,N15>=5,N17>=5,N14>=10,AND(N14>=6,N61>=1)),N119,0)","v":0},{"$f":"IF(OR('Base Numbers'!$C$21,O9>=9,O12>=5,O15>=5,O17>=5,O14>=10,AND(O14>=6,O61>=1)),O119,0)","v":0},{"$f":"IF(OR('Base Numbers'!$C$21,P9>=9,P12>=5,P15>=5,P17>=5,P14>=10,AND(P14>=6,P61>=1)),P119,0)","v":0},{"$f":"IF(OR('Base Numbers'!$C$21,Q9>=9,Q12>=5,Q15>=5,Q17>=5,Q14>=10,AND(Q14>=6,Q61>=1)),Q119,0)","v":0},{"$f":"IF(OR('Base Numbers'!$C$21,R9>=9,R12>=5,R15>=5,R17>=5,R14>=10,AND(R14>=6,R61>=1)),R119,0)","v":0},{"$f":"IF(OR('Base Numbers'!$C$21,S9>=9,S12>=5,S15>=5,S17>=5,S14>=10,AND(S14>=6,S61>=1)),S119,0)","v":0},{"$f":"IF(OR('Base Numbers'!$C$21,T9>=9,T12>=5,T15>=5,T17>=5,T14>=10,AND(T14>=6,T61>=1)),T119,0)","v":0},{"$f":"IF(OR('Base Numbers'!$C$21,U9>=9,U12>=5,U15>=5,U17>=5,U14>=10,AND(U14>=6,U61>=1)),U119,0)","v":0},{"$f":"IF(OR('Base Numbers'!$C$21,V9>=9,V12>=5,V15>=5,V17>=5,V14>=10,AND(V14>=6,V61>=1)),V119,0)","v":0},{"$f":"IF(OR('Base Numbers'!$C$21,W9>=9,W12>=5,W15>=5,W17>=5,W14>=10,AND(W14>=6,W61>=1)),W119,0)","v":0},{"$f":"IF(OR('Base Numbers'!$C$21,X9>=9,X12>=5,X15>=5,X17>=5,X14>=10,AND(X14>=6,X61>=1)),X119,0)","v":0},null,"add ranged weapons to weapon choice"]
[{"$nulls":3},"summon undead (c)",{"$f":"IF(OR('Base Numbers'!$C$21,E12>=5,E15>=5,E14>=10,AND(E14>=6,E61>=1)),E120,0)","v":0},{"$f":"IF(OR('Base Numbers'!$C$21,F12>=5,F15>=5,F14>=10,AND(F14>=6,F61>=1)),F120,0)","v":0},{"$f":"IF(OR('Base Numbers'!$C$21,G12>=5,G15>=5,G14>=10,AND(G14>=6,G61>=1)),G120,0)","v":0},{"$f":"IF(OR('Base Numbers'!$C$21,H12>=5,H15>=5,H14>=10,AND(H14>=6,H61>=1)),H120,0)","v":0},{"$f":"IF(OR('Base Numbers'!$C$21,I12>=5,I15>=5,I14>=10,AND(I14>=6,I61>=1)),I120,0)","v":0},{"$f":"IF(OR('Base Numbers'!$C$21,J12>=5,J15>=5,J14>=10,AND(J14>=6,J61>=1)),J120,0)","v":0},{"$f":"IF(OR('Base Numbers'!$C$21,K12>=5,K15>=5,K14>=10,AND(K14>=6,K61>=1)),K120,0)","v":0},{"$f":"IF(OR('Base Numbers'!$C$21,L12>=5,L15>=5,L14>=10,AND(L14>=6,L61>=1)),L120,0)","v":0},{"$f":"IF(OR('Base Numbers'!$C$21,M12>=5,M15>=5,M14>=10,AND(M14>=6,M61>=1)),M120,0)","v":0},{"$f":"IF(OR('Base Numbers'!$C$21,N12>=5,N15>=5,N14>=10,AND(N14>=6,N61>=1)),N120,0)","v":0},{"$f":"IF(OR('Base Numbers'!$C$21,O12>=5,O15>=5,O14>=10,AND(O14>=6,O61>=1)),O120,0)","v":0},{"$f":"IF(OR('Base Numbers'!$C$21,P12>=5,P15>=5,P14>=10,AND(P14>=6,P61>=1)),P120,0)","v":0},{"$f":"IF(OR('Base Numbers'!$C$21,Q12>=5,Q15>=5,Q14>=10,AND(Q14>=6,Q61>=1)),Q120,0)","v":0},{"$f":"IF(OR('Base Numbers'!$C$21,R12>=5,R15>=5,R14>=10,AND(R14>=6,R61>=1)),R120,0)","v":0},{"$f":"IF(OR('Base Numbers'!$C$21,S12>=5,S15>=5,S14>=10,AND(S14>=6,S61>=1)),S120,0)","v":0},{"$f":"IF(OR('Base Numbers'!$C$21,T12>=5,T15>=5,T14>=10,AND(T14>=6,T61>=1)),T120,0)","v":0},{"$f":"IF(OR('Base Numbers'!$C$21,U12>=5,U15>=5,U14>=10,AND(U14>=6,U61>=1)),U120,0)","v":0},{"$f":"IF(OR('Base Numbers'!$C$21,V12>=5,V15>=5,V14>=10,AND(V14>=6,V61>=1)),V120,0)","v":0},{"$f":"IF(OR('Base Numbers'!$C$21,W12>=5,W15>=5,W14>=10,AND(W14>=6,W61>=1)),W120,0)","v":0},{"$f":"IF(OR('Base Numbers'!$C$21,X12>=5,X15>=5,X14>=10,AND(X14>=6,X61>=1)),X120,0)","v":0},null,"Summons?"]
[{"$nulls":3},"summon aberation (c)",{"$f":"IF(OR('Base Numbers'!$C$21,E12>=7,E15>=7,E14>=10),E121,0)","v":0},{"$f":"IF(OR('Base Numbers'!$C$21,F12>=7,F15>=7,F14>=10),F121,0)","v":0},{"$f":"IF(OR('Base Numbers'!$C$21,G12>=7,G15>=7,G14>=10),G121,0)","v":0},{"$f":"IF(OR('Base Numbers'!$C$21,H12>=7,H15>=7,H14>=10),H121,0)","v":0},{"$f":"IF(OR('Base Numbers'!$C$21,I12>=7,I15>=7,I14>=10),I121,0)","v":0},{"$f":"IF(OR('Base Numbers'!$C$21,J12>=7,J15>=7,J14>=10),J121,0)","v":0},{"$f":"IF(OR('Base Numbers'!$C$21,K12>=7,K15>=7,K14>=10),K121,0)","v":0},{"$f":"IF(OR('Base Numbers'!$C$21,L12>=7,L15>=7,L14>=10),L121,0)","v":0},{"$f":"IF(OR('Base Numbers'!$C$21,M12>=7,M15>=7,M14>=10),M121,0)","v":0},{"$f":"IF(OR('Base Numbers'!$C$21,N12>=7,N15>=7,N14>=10),N121,0)","v":0},{"$f":"IF(OR('Base Numbers'!$C$21,O12>=7,O15>=7,O14>=10),O121,0)","v":0},{"$f":"IF(OR('Base Numbers'!$C$21,P12>=7,P15>=7,P14>=10),P121,0)","v":0},{"$f":"IF(OR('Base Numbers'!$C$21,Q12>=7,Q15>=7,Q14>=10),Q121,0)","v":0},{"$f":"IF(OR('Base Numbers'!$C$21,R12>=7,R15>=7,R14>=10),R121,0)","v":0},{"$f":"IF(OR('Base Numbers'!$C$21,S12>=7,S15>=7,S14>=10),S121,0)","v":0},{"$f":"IF(OR('Base Numbers'!$C$21,T12>=7,T15>=7,T14>=10),T121,0)","v":0},{"$f":"IF(OR('Base Numbers'!$C$21,U12>=7,U15>=7,U14>=10),U121,0)","v":0},{"$f":"IF(OR('Base Numbers'!$C$21,V12>=7,V15>=7,V14>=10),V121,0)","v":0},{"$f":"IF(OR('Base Numbers'!$C$21,W12>=7,W15>=7,W14>=10),W121,0)","v":0},{"$f":"IF(OR('Base Numbers'!$C$21,X12>=7,X15>=7,X14>=10),X121,0)","v":0},null,"monk unarmed fighting style (d8)"]
[{"$nulls":3},"summon construct (c)",{"$f":"IF(OR('Base Numbers'!$C$21,E19>=13,E15>=7,E14>=10),E122,0)","v":0},{"$f":"IF(OR('Base Numbers'!$C$21,F19>=13,F15>=7,F14>=10),F122,0)","v":0},{"$f":"IF(OR('Base Numbers'!$C$21,G19>=13,G15>=7,G14>=10),G122,0)","v":0},{"$f":"IF(OR('Base Numbers'!$C$21,H19>=13,H15>=7,H14>=10),H122,0)","v":0},{"$f":"IF(OR('Base Numbers'!$C$21,I19>=13,I15>=7,I14>=10),I122,0)","v":0},{"$f":"IF(OR('Base Numbers'!$C$21,J19>=13,J15>=7,J14>=10),J122,0)","v":0},{"$f":"IF(OR('Base Numbers'!$C$21,K19>=13,K15>=7,K14>=10),K122,0)","v":0},{"$f":"IF(OR('Base Numbers'!$C$21,L19>=13,L15>=7,L14>=10),L122,0)","v":0},{"$f":"IF(OR('Base Numbers'!$C$21,M19>=13,M15>=7,M14>=10),M122,0)","v":0},{"$f":"IF(OR('Base Numbers'!$C$21,N19>=13,N15>=7,N14>=10),N122,0)","v":0},{"$f":"IF(OR('Base Numbers'!$C$21,O19>=13,O15>=7,O14>=10),O122,0)","v":0},{"$f":"IF(OR('Base Numbers'!$C$21,P19>=13,P15>=7,P14>=10),P122,0)","v":0},{"$f":"IF(OR('Base Numbers'!$C$21,Q19>=13,Q15>=7,Q14>=10),Q122,0)","v":0},{"$f":"IF(OR('Base Numbers'!$C$21,R19>=13,R15>=7,R14>=10),R122,0)","v":0},{"$f":"IF(OR('Base Numbers'!$C$21,S19>=13,S15>=7,S14>=10),S122,0)","v":0},{"$f":"IF(OR('Base Numbers'!$C$21,T19>=13,T15>=7,T14>=10),T122,0)","v":0},{"$f":"IF(OR('Base Numbers'!$C$21,U19>=13,U15>=7,U14>=10),U122,0)","v":0},{"$f":"IF(OR('Base Numbers'!$C$21,V19>=13,V15>=7,V14>=10),V122,0)","v":0},{"$f":"IF(OR('Base Numbers'!$C$21,W19>=13,W15>=7,W14>=10),W122,0)","v":0},{"$f":"IF(OR('Base Numbers'!$C$21,X19>=13,X15>=7,X14>=10),X122,0)","v":0},null,"assassination round with cantrips / EB"]
[{"$nulls":3},"summon celestial (c)",{"$f":"IF(OR('Base Numbers'!$C$21,E16>=9,E7>=17,E14>=10),E123,0)","v":0},{"$f":"IF(OR('Base Numbers'!$C$21,F16>=9,F7>=17,F14>=10),F123,0)","v":0},{"$f":"IF(OR('Base Numbers'!$C$21,G16>=9,G7>=17,G14>=10),G123,0)","v":0},{"$f":"IF(OR('Base Numbers'!$C$21,H16>=9,H7>=17,H14>=10),H123,0)","v":0},{"$f":"IF(OR('Base Numbers'!$C$21,I16>=9,I7>=17,I14>=10),I123,0)","v":0},{"$f":"IF(OR('Base Numbers'!$C$21,J16>=9,J7>=17,J14>=10),J123,0)","v":0},{"$f":"IF(OR('Base Numbers'!$C$21,K16>=9,K7>=17,K14>=10),K123,0)","v":0},{"$f":"IF(OR('Base Numbers'!$C$21,L16>=9,L7>=17,L14>=10),L123,0)","v":0},{"$f":"IF(OR('Base Numbers'!$C$21,M16>=9,M7>=17,M14>=10),M123,0)","v":0},{"$f":"IF(OR('Base Numbers'!$C$21,N16>=9,N7>=17,N14>=10),N123,0)","v":0},{"$f":"IF(OR('Base Numbers'!$C$21,O16>=9,O7>=17,O14>=10),O123,0)","v":0},{"$f":"IF(OR('Base Numbers'!$C$21,P16>=9,P7>=17,P14>=10),P123,0)","v":0},{"$f":"IF(OR('Base Numbers'!$C$21,Q16>=9,Q7>=17,Q14>=10),Q123,0)","v":0},{"$f":"IF(OR('Base Numbers'!$C$21,R16>=9,R7>=17,R14>=10),R123,0)","v":0},{"$f":"IF(OR('Base Numbers'!$C$21,S16>=9,S7>=17,S14>=10),S123,0)","v":0},{"$f":"IF(OR('Base Numbers'!$C$21,T16>=9,T7>=17,T14>=10),T123,0)","v":0},{"$f":"IF(OR('Base Numbers'!$C$21,U16>=9,U7>=17,U14>=10),U123,0)","v":0},{"$f":"IF(OR('Base Numbers'!$C$21,V16>=9,V7>=17,V14>=10),V123,0)","v":0},{"$f":"IF(OR('Base Numbers'!$C$21,W16>=9,W7>=17,W14>=10),W123,0)","v":0},{"$f":"IF(OR('Base Numbers'!$C$21,X16>=9,X7>=17,X14>=10),X123,0)","v":0},null,"warlock CHA bonus on two handed weapons on at L3"]
[{"$nulls":3},"Favored Foe Ranger marking ability (c) (free action)",{"$f":"IF(E9>=1,MIN(E124,'Base Numbers'!$C$5*'Base Numbers'!$C$6,E35),0)","v":0},{"$f":"IF(F9>=1,MIN(F124,'Base Numbers'!$C$5*'Base Numbers'!$C$6,F35),0)","v":0},{"$f":"IF(G9>=1,MIN(G124,'Base Numbers'!$C$5*'Base Numbers'!$C$6,G35),0)","v":0},{"$f":"IF(H9>=1,MIN(H124,'Base Numbers'!$C$5*'Base Numbers'!$C$6,H35),0)","v":0},{"$f":"IF(I9>=1,MIN(I124,'Base Numbers'!$C$5*'Base Numbers'!$C$6,I35),0)","v":0},{"$f":"IF(J9>=1,MIN(J124,'Base Numbers'!$C$5*'Base Numbers'!$C$6,J35),0)","v":0},{"$f":"IF(K9>=1,MIN(K124,'Base Numbers'!$C$5*'Base Numbers'!$C$6,K35),0)","v":0},{"$f":"IF(L9>=1,MIN(L124,'Base Numbers'!$C$5*'Base Numbers'!$C$6,L35),0)","v":0},{"$f":"IF(M9>=1,MIN(M124,'Base Numbers'!$C$5*'Base Numbers'!$C$6,M35),0)","v":0},{"$f":"IF(N9>=1,MIN(N124,'Base Numbers'!$C$5*'Base Numbers'!$C$6,N35),0)","v":0},{"$f":"IF(O9>=1,MIN(O124,'Base Numbers'!$C$5*'Base Numbers'!$C$6,O35),0)","v":0},{"$f":"IF(P9>=1,MIN(P124,'Base Numbers'!$C$5*'Base Numbers'!$C$6,P35),0)","v":0},{"$f":"IF(Q9>=1,MIN(Q124,'Base Numbers'!$C$5*'Base Numbers'!$C$6,Q35),0)","v":0},{"$f":"IF(R9>=1,MIN(R124,'Base Numbers'!$C$5*'Base Numbers'!$C$6,R35),0)","v":0},{"$f":"IF(S9>=1,MIN(S124,'Base Numbers'!$C$5*'Base Numbers'!$C$6,S35),0)","v":0},{"$f":"IF(T9>=1,MIN(T124,'Base Numbers'!$C$5*'Base Numbers'!$C$6,T35),0)","v":0},{"$f":"IF(U9>=1,MIN(U124,'Base Numbers'!$C$5*'Base Numbers'!$C$6,U35),0)","v":0},{"$f":"IF(V9>=1,MIN(V124,'Base Numbers'!$C$5*'Base Numbers'!$C$6,V35),0)","v":0},{"$f":"IF(W9>=1,MIN(W124,'Base Numbers'!$C$5*'Base Numbers'!$C$6,W35),0)","v":0},{"$f":"IF(X9>=1,MIN(X124,'Base Numbers'!$C$5*'Base Numbers'!$C$6,X35),0)","v":0},null,"kobold pack tactics","(kensai, mercy, astral self)"]
[{"$nulls":3},"Bonus Action to provide Advantage (Spell-like action: Rogue, Ranger)",{"$f":"IF(OR(E11>=3,E9>=14),MIN(E125,'Base Numbers'!$C$5*'Base Numbers'!$C$6),0)","v":0},{"$f":"IF(OR(F11>=3,F9>=14),MIN(F125,'Base Numbers'!$C$5*'Base Numbers'!$C$6),0)","v":0},{"$f":"IF(OR(G11>=3,G9>=14),MIN(G125,'Base Numbers'!$C$5*'Base Numbers'!$C$6),0)","v":0},{"$f":"IF(OR(H11>=3,H9>=14),MIN(H125,'Base Numbers'!$C$5*'Base Numbers'!$C$6),0)","v":0},{"$f":"IF(OR(I11>=3,I9>=14),MIN(I125,'Base Numbers'!$C$5*'Base Numbers'!$C$6),0)","v":0},{"$f":"IF(OR(J11>=3,J9>=14),MIN(J125,'Base Numbers'!$C$5*'Base Numbers'!$C$6),0)","v":0},{"$f":"IF(OR(K11>=3,K9>=14),MIN(K125,'Base Numbers'!$C$5*'Base Numbers'!$C$6),0)","v":0},{"$f":"IF(OR(L11>=3,L9>=14),MIN(L125,'Base Numbers'!$C$5*'Base Numbers'!$C$6),0)","v":0},{"$f":"IF(OR(M11>=3,M9>=14),MIN(M125,'Base Numbers'!$C$5*'Base Numbers'!$C$6),0)","v":0},{"$f":"IF(OR(N11>=3,N9>=14),MIN(N125,'Base Numbers'!$C$5*'Base Numbers'!$C$6),0)","v":0},{"$f":"IF(OR(O11>=3,O9>=14),MIN(O125,'Base Numbers'!$C$5*'Base Numbers'!$C$6),0)","v":0},{"$f":"IF(OR(P11>=3,P9>=14),MIN(P125,'Base Numbers'!$C$5*'Base Numbers'!$C$6),0)","v":0},{"$f":"IF(OR(Q11>=3,Q9>=14),MIN(Q125,'Base Numbers'!$C$5*'Base Numbers'!$C$6),0)","v":0},{"$f":"IF(OR(R11>=3,R9>=14),MIN(R125,'Base Numbers'!$C$5*'Base Numbers'!$C$6),0)","v":0},{"$f":"IF(OR(S11>=3,S9>=14),MIN(S125,'Base Numbers'!$C$5*'Base Numbers'!$C$6),0)","v":0},{"$f":"IF(OR(T11>=3,T9>=14),MIN(T125,'Base Numbers'!$C$5*'Base Numbers'!$C$6),0)","v":0},{"$f":"IF(OR(U11>=3,U9>=14),MIN(U125,'Base Numbers'!$C$5*'Base Numbers'!$C$6),0)","v":0},{"$f":"IF(OR(V11>=3,V9>=14),MIN(V125,'Base Numbers'!$C$5*'Base Numbers'!$C$6),0)","v":0},{"$f":"IF(OR(W11>=3,W9>=14),MIN(W125,'Base Numbers'!$C$5*'Base Numbers'!$C$6),0)","v":0},{"$f":"IF(OR(X11>=3,X9>=14),MIN(X125,'Base Numbers'!$C$5*'Base Numbers'!$C$6),0)","v":0},null,"Crusher feat"]
[{"$nulls":3},"total allowed concenctration spells:",{"$f":"E148+E149+E150+E151+E152+E153+E154+E155+E157+E159+E165+E166+E167+E168+E179","v":0},{"$f":"F148+F149+F150+F151+F152+F153+F154+F155+F157+F159+F165+F166+F167+F168+F179","v":0},0,0,0,0,0,0,0,0,0,0,0,0,0,0,0,0,0,0,null,"fog cloud and pyrotecnics"]
[{"$nulls":3},"total allowed defensive concenctration spells:",{"$f":"E145+E147+E160+E161+E162+E164+E163","v":0},{"$f":"F145+F147+F160+F161+F162+F164+F163","v":0},0,0,0,0,0,0,0,0,0,0,0,0,0,0,0,0,0,0,null,"bard whipsers damage"]
[{"$nulls":3},"total allowed 1-hour summon concentration spells:",{"$f":"E173+E174+E175+E176+E177+E178","v":0},{"$f":"F173+F174+F175+F176+F177+F178","v":0},0,0,0,0,0,0,0,0,0,0,0,0,0,0,0,0,0,0,null,"fog cloud and pyrotecnics"]
[{"$nulls":3},"concentration spell percent reduction",{"$f":"IF(E182+E181+E183 > 0, MIN(1,'Base Numbers'!$C$5*'Base Numbers'!$C$6/(E182*MIN('Base Numbers'!$C$6,(1+E307))+E181*MIN('Base Numbers'!$C$6,(1+E306))+E183*MIN('Base Numbers'!$C$6*2,(1+E308)))),1)","v":1},{"$f":"IF(F182+F181+F183 > 0, MIN(1,'Base Numbers'!$C$5*'Base Numbers'!$C$6/(F182*MIN('Base Numbers'!$C$6,(1+F307))+F181*MIN('Base Numbers'!$C$6,(1+F306))+F183*MIN('Base Numbers'!$C$6*2,(1+F308)))),1)","v":1},{"$f":"IF(G182+G181+G183 > 0, MIN(1,'Base Numbers'!$C$5*'Base Numbers'!$C$6/(G182*MIN('Base Numbers'!$C$6,(1+G307))+G181*MIN('Base Numbers'!$C$6,(1+G306))+G183*MIN('Base Numbers'!$C$6*2,(1+G308)))),1)","v":1},{"$f":"IF(H182+H181+H183 > 0, MIN(1,'Base Numbers'!$C$5*'Base Numbers'!$C$6/(H182*MIN('Base Numbers'!$C$6,(1+H307))+H181*MIN('Base Numbers'!$C$6,(1+H306))+H183*MIN('Base Numbers'!$C$6*2,(1+H308)))),1)","v":1},{"$f":"IF(I182+I181+I183 > 0, MIN(1,'Base Numbers'!$C$5*'Base Numbers'!$C$6/(I182*MIN('Base Numbers'!$C$6,(1+I307))+I181*MIN('Base Numbers'!$C$6,(1+I306))+I183*MIN('Base Numbers'!$C$6*2,(1+I308)))),1)","v":1},{"$f":"IF(J182+J181+J183 > 0, MIN(1,'Base Numbers'!$C$5*'Base Numbers'!$C$6/(J182*MIN('Base Numbers'!$C$6,(1+J307))+J181*MIN('Base Numbers'!$C$6,(1+J306))+J183*MIN('Base Numbers'!$C$6*2,(1+J308)))),1)","v":1},{"$f":"IF(K182+K181+K183 > 0, MIN(1,'Base Numbers'!$C$5*'Base Numbers'!$C$6/(K182*MIN('Base Numbers'!$C$6,(1+K307))+K181*MIN('Base Numbers'!$C$6,(1+K306))+K183*MIN('Base Numbers'!$C$6*2,(1+K308)))),1)","v":1},{"$f":"IF(L182+L181+L183 > 0, MIN(1,'Base Numbers'!$C$5*'Base Numbers'!$C$6/(L182*MIN('Base Numbers'!$C$6,(1+L307))+L181*MIN('Base Numbers'!$C$6,(1+L306))+L183*MIN('Base Numbers'!$C$6*2,(1+L308)))),1)","v":1},{"$f":"IF(M182+M181+M183 > 0, MIN(1,'Base Numbers'!$C$5*'Base Numbers'!$C$6/(M182*MIN('Base Numbers'!$C$6,(1+M307))+M181*MIN('Base Numbers'!$C$6,(1+M306))+M183*MIN('Base Numbers'!$C$6*2,(1+M308)))),1)","v":1},{"$f":"IF(N182+N181+N183 > 0, MIN(1,'Base Numbers'!$C$5*'Base Numbers'!$C$6/(N182*MIN('Base Numbers'!$C$6,(1+N307))+N181*MIN('Base Numbers'!$C$6,(1+N306))+N183*MIN('Base Numbers'!$C$6*2,(1+N308)))),1)","v":1},{"$f":"IF(O182+O181+O183 > 0, MIN(1,'Base Numbers'!$C$5*'Base Numbers'!$C$6/(O182*MIN('Base Numbers'!$C$6,(1+O307))+O181*MIN('Base Numbers'!$C$6,(1+O306))+O183*MIN('Base Numbers'!$C$6*2,(1+O308)))),1)","v":1},{"$f":"IF(P182+P181+P183 > 0, MIN(1,'Base Numbers'!$C$5*'Base Numbers'!$C$6/(P182*MIN('Base Numbers'!$C$6,(1+P307))+P181*MIN('Base Numbers'!$C$6,(1+P306))+P183*MIN('Base Numbers'!$C$6*2,(1+P308)))),1)","v":1},{"$f":"IF(Q182+Q181+Q183 > 0, MIN(1,'Base Numbers'!$C$5*'Base Numbers'!$C$6/(Q182*MIN('Base Numbers'!$C$6,(1+Q307))+Q181*MIN('Base Numbers'!$C$6,(1+Q306))+Q183*MIN('Base Numbers'!$C$6*2,(1+Q308)))),1)","v":1},{"$f":"IF(R182+R181+R183 > 0, MIN(1,'Base Numbers'!$C$5*'Base Numbers'!$C$6/(R182*MIN('Base Numbers'!$C$6,(1+R307))+R181*MIN('Base Numbers'!$C$6,(1+R306))+R183*MIN('Base Numbers'!$C$6*2,(1+R308)))),1)","v":1},{"$f":"IF(S182+S181+S183 > 0, MIN(1,'Base Numbers'!$C$5*'Base Numbers'!$C$6/(S182*MIN('Base Numbers'!$C$6,(1+S307))+S181*MIN('Base Numbers'!$C$6,(1+S306))+S183*MIN('Base Numbers'!$C$6*2,(1+S308)))),1)","v":1},{"$f":"IF(T182+T181+T183 > 0, MIN(1,'Base Numbers'!$C$5*'Base Numbers'!$C$6/(T182*MIN('Base Numbers'!$C$6,(1+T307))+T181*MIN('Base Numbers'!$C$6,(1+T306))+T183*MIN('Base Numbers'!$C$6*2,(1+T308)))),1)","v":1},{"$f":"IF(U182+U181+U183 > 0, MIN(1,'Base Numbers'!$C$5*'Base Numbers'!$C$6/(U182*MIN('Base Numbers'!$C$6,(1+U307))+U181*MIN('Base Numbers'!$C$6,(1+U306))+U183*MIN('Base Numbers'!$C$6*2,(1+U308)))),1)","v":1},{"$f":"IF(V182+V181+V183 > 0, MIN(1,'Base Numbers'!$C$5*'Base Numbers'!$C$6/(V182*MIN('Base Numbers'!$C$6,(1+V307))+V181*MIN('Base Numbers'!$C$6,(1+V306))+V183*MIN('Base Numbers'!$C$6*2,(1+V308)))),1)","v":1},{"$f":"IF(W182+W181+W183 > 0, MIN(1,'Base Numbers'!$C$5*'Base Numbers'!$C$6/(W182*MIN('Base Numbers'!$C$6,(1+W307))+W181*MIN('Base Numbers'!$C$6,(1+W306))+W183*MIN('Base Numbers'!$C$6*2,(1+W308)))),1)","v":1},{"$f":"IF(X182+X181+X183 > 0, MIN(1,'Base Numbers'!$C$5*'Base Numbers'!$C$6/(X182*MIN('Base Numbers'!$C$6,(1+X307))+X181*MIN('Base Numbers'!$C$6,(1+X306))+X183*MIN('Base Numbers'!$C$6*2,(1+X308)))),1)","v":1},null,"variable monster saves vs. abilities"]
[{"$nulls":25},"wizard bladesinger doesn't actually require one-handed weapon for extra attack"]
[{"$nulls":3},"ADJUSTED CONCENTRATION SPELLS PER DAY (based on total fights)",1,2,3,4,5,6,7,8,9,10,11,12,13,14,15,16,17,18,19,20,null,"wizard bladesong 14th level dmg bonus only applies to one-handed weapons"]
[{"$nulls":3},"fog cloud casts: (c)",{"$f":"E145*E$184","v":0},0,0,0,0,0,0,0,0,0,0,0,0,0,0,0,0,0,0,0,null,"hunters mark hex"]
[{"$nulls":3},"darkness casts: (c) (oathbreaker)",{"$f":"E147*E$184","v":0},0,0,0,0,0,0,0,0,0,0,0,0,0,0,0,0,0,0,0,null,"spirit guardians"]
[{"$nulls":3},"shadow blade (c) (bonus action)",{"$f":"E148*E$184","v":0},0,0,0,0,0,0,0,0,0,0,0,0,0,0,0,0,0,0,0,null,"holy weapono"]
[{"$nulls":3},"bless casts (c)",{"$f":"E149*E$184","v":0},0,0,0,0,0,0,0,0,0,0,0,0,0,0,0,0,0,0,0,null,"concentration based on Con Resilience and Ranged attacks"]
[{"$nulls":3},"divine favor casts (c)",{"$f":"E150*E$184","v":0},0,0,0,0,0,0,0,0,0,0,0,0,0,0,0,0,0,0,0,null,"concentration easier to maintain on ranged casters/spells"]
[{"$nulls":3},"haste casts (c) (veng)",{"$f":"E151*E$184","v":0},0,0,0,0,0,0,0,0,0,0,0,0,0,0,0,0,0,0,0,null,"variable monster saves vs. abilities"]
[{"$nulls":3},"hunter's mark / hex casts (c) (veng) (bonus action)",{"$f":"E152*E$184","v":0},0,0,0,0,0,0,0,0,0,0,0,0,0,0,0,0,0,0,0,null,"wizard invoker and magic missile"]
[{"$nulls":3},"spirit guardians casts (c) (req Divine Soul)",{"$f":"E153*E$184","v":0},0,0,0,0,0,0,0,0,0,0,0,0,0,0,0,0,0,0,0,null,"spellcasting limits barbarian rage uptime"]
[{"$nulls":3},"faerie fire casts (c)",{"$f":"E154*E$184","v":0},0,0,0,0,0,0,0,0,0,0,0,0,0,0,0,0,0,0,0,null,"piercer feat used with polearm doesn't apply to the bonus attack unless GWM procs"]
[{"$nulls":3},"spirit shroud casts (c)",{"$f":"E155*E$184","v":0},0,0,0,0,0,0,0,0,0,0,0,0,0,0,0,0,0,0,0,null,"magic missile"]
[{"$nulls":3},"guardian of nature (bonus action) (c)",{"$f":"E157*E$184","v":0},0,0,0,0,0,0,0,0,0,0,0,0,0,0,0,0,0,0,0,null,"animate dead"]
[{"$nulls":3},"holy weapon casts (bonus action) (c)",{"$f":"E159*E$184","v":0},0,0,0,0,0,0,0,0,0,0,0,0,0,0,0,0,0,0,0,null,"wizard: conjurer summons bonus"]
[{"$nulls":3},"hold person casts (conq, veng) (c)",{"$f":"E160*E$184","v":0},0,0,0,0,0,0,0,0,0,0,0,0,0,0,0,0,0,0,0,null,"wizard: necromancer animate dead bonus"]
[{"$nulls":3},"hold monster casts (veng) (c)",{"$f":"E161*E$184","v":0},0,0,0,0,0,0,0,0,0,0,0,0,0,0,0,0,0,0,0,null,"animate dead: use remaining spell slots for next day's skeletons"]
[{"$nulls":3},"shadow of moil (c) ",{"$f":"E162*E$184","v":0},{"$f":"F162*F$184","v":0},0,0,0,0,0,0,0,0,0,0,0,0,0,0,0,0,0,0,null,"  rangers"]
[{"$nulls":3},"greater invisibility (c)",{"$f":"E163*E$184","v":0},{"$f":"F163*F$184","v":0},0,0,0,0,0,0,0,0,0,0,0,0,0,0,0,0,0,0,null,"  beastmaster ranger"]
[{"$nulls":3},"fear casts (conq) (c)",{"$f":"E164*E$184","v":0},0,0,0,0,0,0,0,0,0,0,0,0,0,0,0,0,0,0,0,null,"  hunter ranger"]
[{"$nulls":3},"tenser's transformation casts (c) ",{"$f":"E165*E$184","v":0},0,0,0,0,0,0,0,0,0,0,0,0,0,0,0,0,0,0,0,null,"bladesinger bonus concentration from INT"]
[{"$nulls":3},"flaming sphere casts (c) ",{"$f":"E166*E$184","v":0},0,0,0,0,0,0,0,0,0,0,0,0,0,0,0,0,0,0,0,null,"dual wielding with shadow blade and extra attack lets bladesinger attack twice with shadow blade"]
[{"$nulls":3},"bigby's hand casts (c)",{"$f":"E167*E$184","v":0},0,0,0,0,0,0,0,0,0,0,0,0,0,0,0,0,0,0,0,null,"  fighters"]
[{"$nulls":3},"animate objects casts (c)",{"$f":"E168*E$184","v":0},0,0,0,0,0,0,0,0,0,0,0,0,0,0,0,0,0,0,0,null,"     rune knight"]
[{"$nulls":3},"summon beast (c)",{"$f":"E173*E$184","v":0},0,0,0,0,0,0,0,0,0,0,0,0,0,0,0,0,0,0,0,null,"         check other rune knight abilities"]
[{"$nulls":3},"summon fey (c)",{"$f":"E174*E$184","v":0},0,0,0,0,0,0,0,0,0,0,0,0,0,0,0,0,0,0,0,null,"discount animate objects bonus actions required to attack"]
[{"$nulls":3},"summon undead (c)",{"$f":"E175*E$184","v":0},0,0,0,0,0,0,0,0,0,0,0,0,0,0,0,0,0,0,0,null,"opportunity attack review"]
[{"$nulls":3},"summon aberation (c)",{"$f":"E176*E$184","v":0},0,0,0,0,0,0,0,0,0,0,0,0,0,0,0,0,0,0,0,null,"warlock pacts: pact of the blade, pact of the chain"]
[{"$nulls":3},"summon construct (c)",{"$f":"E177*E$184","v":0},0,0,0,0,0,0,0,0,0,0,0,0,0,0,0,0,0,0,0,null,"summons should have reduced damage vs. stuff resistant to nonmagical weapons"]
[{"$nulls":3},"summon celestial (c)",{"$f":"E178*E$184","v":0},0,0,0,0,0,0,0,0,0,0,0,0,0,0,0,0,0,0,0,null,"fey touched (half) allows hunter's mark/hex casts"]
[{"$nulls":3},"Favored Foe Ranger marking ability (c) (free action)",{"$f":"E179*E$184","v":0},0,0,0,0,0,0,0,0,0,0,0,0,0,0,0,0,0,0,0,null,"PAM Feat should not assume a d10 damage (or Reach), spears / quarter staves are good too"]
[{"$nulls":3},"allowed spell levels for upcastables",{"$f":"(E194+ E170+E169+E206+E207+E205+E189+E196+E143+E208+E209+E210+E211+E212+E213+E144+E171+E172)*CELL(\"contents\",INDIRECT(ADDRESS(43+E21,ROUNDUP(5+MIN(20,E194+ E170+E169+E206+E207+E205+E189+E196+E143+E208+E209+E210+E211+E212+E213+E144+E171+E172),0),1,1,\"Caster Tables\")))","v":0},{"$f":"(F194+ F170+F169+F206+F207+F205+F189+F196+F143+F208+F209+F210+F211+F212+F213+F144+F171+F172)*CELL(\"contents\",INDIRECT(ADDRESS(43+F21,ROUNDUP(5+MIN(20,F194+ F170+F169+F206+F207+F205+F189+F196+F143+F208+F209+F210+F211+F212+F213+F144+F171+F172),0),1,1,\"Caster Tables\")))","v":0},{"$f":"(G194+ G170+G169+G206+G207+G205+G189+G196+G143+G208+G209+G210+G211+G212+G213+G144+G171+G172)*CELL(\"contents\",INDIRECT(ADDRESS(43+G21,ROUNDUP(5+MIN(20,G194+ G170+G169+G206+G207+G205+G189+G196+G143+G208+G209+G210+G211+G212+G213+G144+G171+G172),0),1,1,\"Caster Tables\")))","v":0},{"$f":"(H194+ H170+H169+H206+H207+H205+H189+H196+H143+H208+H209+H210+H211+H212+H213+H144+H171+H172)*CELL(\"contents\",INDIRECT(ADDRESS(43+H21,ROUNDUP(5+MIN(20,H194+ H170+H169+H206+H207+H205+H189+H196+H143+H208+H209+H210+H211+H212+H213+H144+H171+H172),0),1,1,\"Caster Tables\")))","v":0},{"$f":"(I194+ I170+I169+I206+I207+I205+I189+I196+I143+I208+I209+I210+I211+I212+I213+I144+I171+I172)*CELL(\"contents\",INDIRECT(ADDRESS(43+I21,ROUNDUP(5+MIN(20,I194+ I170+I169+I206+I207+I205+I189+I196+I143+I208+I209+I210+I211+I212+I213+I144+I171+I172),0),1,1,\"Caster Tables\")))","v":0},{"$f":"(J194+ J170+J169+J206+J207+J205+J189+J196+J143+J208+J209+J210+J211+J212+J213+J144+J171+J172)*CELL(\"contents\",INDIRECT(ADDRESS(43+J21,ROUNDUP(5+MIN(20,J194+ J170+J169+J206+J207+J205+J189+J196+J143+J208+J209+J210+J211+J212+J213+J144+J171+J172),0),1,1,\"Caster Tables\")))","v":0},{"$f":"(K194+ K170+K169+K206+K207+K205+K189+K196+K143+K208+K209+K210+K211+K212+K213+K144+K171+K172)*CELL(\"contents\",INDIRECT(ADDRESS(43+K21,ROUNDUP(5+MIN(20,K194+ K170+K169+K206+K207+K205+K189+K196+K143+K208+K209+K210+K211+K212+K213+K144+K171+K172),0),1,1,\"Caster Tables\")))","v":0},{"$f":"(L194+ L170+L169+L206+L207+L205+L189+L196+L143+L208+L209+L210+L211+L212+L213+L144+L171+L172)*CELL(\"contents\",INDIRECT(ADDRESS(43+L21,ROUNDUP(5+MIN(20,L194+ L170+L169+L206+L207+L205+L189+L196+L143+L208+L209+L210+L211+L212+L213+L144+L171+L172),0),1,1,\"Caster Tables\")))","v":0},{"$f":"(M194+ M170+M169+M206+M207+M205+M189+M196+M143+M208+M209+M210+M211+M212+M213+M144+M171+M172)*CELL(\"contents\",INDIRECT(ADDRESS(43+M21,ROUNDUP(5+MIN(20,M194+ M170+M169+M206+M207+M205+M189+M196+M143+M208+M209+M210+M211+M212+M213+M144+M171+M172),0),1,1,\"Caster Tables\")))","v":0},{"$f":"(N194+ N170+N169+N206+N207+N205+N189+N196+N143+N208+N209+N210+N211+N212+N213+N144+N171+N172)*CELL(\"contents\",INDIRECT(ADDRESS(43+N21,ROUNDUP(5+MIN(20,N194+ N170+N169+N206+N207+N205+N189+N196+N143+N208+N209+N210+N211+N212+N213+N144+N171+N172),0),1,1,\"Caster Tables\")))","v":0},{"$f":"(O194+ O170+O169+O206+O207+O205+O189+O196+O143+O208+O209+O210+O211+O212+O213+O144+O171+O172)*CELL(\"contents\",INDIRECT(ADDRESS(43+O21,ROUNDUP(5+MIN(20,O194+ O170+O169+O206+O207+O205+O189+O196+O143+O208+O209+O210+O211+O212+O213+O144+O171+O172),0),1,1,\"Caster Tables\")))","v":0},{"$f":"(P194+ P170+P169+P206+P207+P205+P189+P196+P143+P208+P209+P210+P211+P212+P213+P144+P171+P172)*CELL(\"contents\",INDIRECT(ADDRESS(43+P21,ROUNDUP(5+MIN(20,P194+ P170+P169+P206+P207+P205+P189+P196+P143+P208+P209+P210+P211+P212+P213+P144+P171+P172),0),1,1,\"Caster Tables\")))","v":0},{"$f":"(Q194+ Q170+Q169+Q206+Q207+Q205+Q189+Q196+Q143+Q208+Q209+Q210+Q211+Q212+Q213+Q144+Q171+Q172)*CELL(\"contents\",INDIRECT(ADDRESS(43+Q21,ROUNDUP(5+MIN(20,Q194+ Q170+Q169+Q206+Q207+Q205+Q189+Q196+Q143+Q208+Q209+Q210+Q211+Q212+Q213+Q144+Q171+Q172),0),1,1,\"Caster Tables\")))","v":0},{"$f":"(R194+ R170+R169+R206+R207+R205+R189+R196+R143+R208+R209+R210+R211+R212+R213+R144+R171+R172)*CELL(\"contents\",INDIRECT(ADDRESS(43+R21,ROUNDUP(5+MIN(20,R194+ R170+R169+R206+R207+R205+R189+R196+R143+R208+R209+R210+R211+R212+R213+R144+R171+R172),0),1,1,\"Caster Tables\")))","v":0},{"$f":"(S194+ S170+S169+S206+S207+S205+S189+S196+S143+S208+S209+S210+S211+S212+S213+S144+S171+S172)*CELL(\"contents\",INDIRECT(ADDRESS(43+S21,ROUNDUP(5+MIN(20,S194+ S170+S169+S206+S207+S205+S189+S196+S143+S208+S209+S210+S211+S212+S213+S144+S171+S172),0),1,1,\"Caster Tables\")))","v":0},{"$f":"(T194+ T170+T169+T206+T207+T205+T189+T196+T143+T208+T209+T210+T211+T212+T213+T144+T171+T172)*CELL(\"contents\",INDIRECT(ADDRESS(43+T21,ROUNDUP(5+MIN(20,T194+ T170+T169+T206+T207+T205+T189+T196+T143+T208+T209+T210+T211+T212+T213+T144+T171+T172),0),1,1,\"Caster Tables\")))","v":0},{"$f":"(U194+ U170+U169+U206+U207+U205+U189+U196+U143+U208+U209+U210+U211+U212+U213+U144+U171+U172)*CELL(\"contents\",INDIRECT(ADDRESS(43+U21,ROUNDUP(5+MIN(20,U194+ U170+U169+U206+U207+U205+U189+U196+U143+U208+U209+U210+U211+U212+U213+U144+U171+U172),0),1,1,\"Caster Tables\")))","v":0},{"$f":"(V194+ V170+V169+V206+V207+V205+V189+V196+V143+V208+V209+V210+V211+V212+V213+V144+V171+V172)*CELL(\"contents\",INDIRECT(ADDRESS(43+V21,ROUNDUP(5+MIN(20,V194+ V170+V169+V206+V207+V205+V189+V196+V143+V208+V209+V210+V211+V212+V213+V144+V171+V172),0),1,1,\"Caster Tables\")))","v":0},{"$f":"(W194+ W170+W169+W206+W207+W205+W189+W196+W143+W208+W209+W210+W211+W212+W213+W144+W171+W172)*CELL(\"contents\",INDIRECT(ADDRESS(43+W21,ROUNDUP(5+MIN(20,W194+ W170+W169+W206+W207+W205+W189+W196+W143+W208+W209+W210+W211+W212+W213+W144+W171+W172),0),1,1,\"Caster Tables\")))","v":0},{"$f":"(X194+ X170+X169+X206+X207+X205+X189+X196+X143+X208+X209+X210+X211+X212+X213+X144+X171+X172)*CELL(\"contents\",INDIRECT(ADDRESS(43+X21,ROUNDUP(5+MIN(20,X194+ X170+X169+X206+X207+X205+X189+X196+X143+X208+X209+X210+X211+X212+X213+X144+X171+X172),0),1,1,\"Caster Tables\")))","v":0},null,"echo knight increased opp att pct."]
[{"$nulls":3},"total allowed spell levels used",{"$f":"2*E188+1*E190+1*E191+3*E192+1*E193+5*E198+2*E199+5*E200+3*E203+4*E201+E215+6*E204+E195+4*E197+5*E156+7*E158+E143+E187+2*E146+E1087+4*E202","v":0},0,0,0,0,0,0,0,0,0,0,0,0,0,0,0,0,0,0,0,null,"druid"]
[{"$nulls":3},"total allowed spell casts (not levels) used",{"$f":"E188+E190+E191+E192+E193+E198+E199+E200+E203+E189+E201+E170+E169+E206+E207+E194+E205+E204+E195+E197+E156+E158+E143+E208+E209+E210+E211+E212+E213+E187+E146+E144+E171+E1087+E172+E202+E196","v":0},0,0,0,0,0,0,0,0,0,0,0,0,0,0,0,0,0,0,0,null,"  summons bonuses?"]
[{"$nulls":3},"remaining spell levels",{"$f":"E271-E216","v":0},{"$f":"F271-F216","v":0},0,0,{"$f":"I271-I216","v":0},0,0,0,0,0,0,0,0,0,0,0,0,0,0,0,null,"death cleric necro cantrips"]
[{"$nulls":3},"spell casts percent reduction",{"$f":"IF(E216 > 0, MIN(E272/E217, MIN(1,E271/E216)),1)","v":1},{"$f":"IF(F216 > 0, MIN(F272/F217, MIN(1,F271/F216)),1)","v":1},1,1,1,1,1,1,1,1,1,1,1,1,1,1,1,1,1,1,null,"peace cleric"]
[{"$nulls":25},"fear duration"]
[{"$nulls":3},"ACTUAL CASTS PER DAY (based on total available slots)",1,2,3,4,5,6,7,8,9,10,11,12,13,14,15,16,17,18,19,20,null,"flametongue style magic weapons"]
[{"$nulls":3},"guiding bolt casts (cleric, druid of stars) : AE",{"$f":"E143*E$219","v":0},{"$f":"F143*F$219","v":0},0,0,0,0,0,0,0,0,0,0,0,0,0,0,0,0,0,0,null,"ranger L20 capstone"]
[{"$nulls":3},"magic missile: AE",{"$f":"E144*E$219","v":0},{"$f":"F144*F$219","v":0},0,0,0,0,0,0,0,0,0,0,0,0,0,0,0,0,0,0,null,"Dueling fighting style should not add to all monk bonus attacks"]
[{"$nulls":3},"fog cloud casts: (c)",{"$f":"E187*E$219","v":0},{"$f":"F187*F$219","v":0},0,0,0,0,0,0,0,0,0,0,0,0,0,0,0,0,0,0,null,"war cleric option"]
[{"$nulls":3},"pyrotechnics casts: ",{"$f":"E146*E$219","v":0},0,0,0,0,0,0,0,0,0,0,0,0,0,0,0,0,0,0,0,null,"combined channel divs for paladin and cleric"]
[{"$nulls":3},"darkness casts: (c) (oathbreaker)",{"$f":"E188*E$219","v":0},0,0,0,0,0,0,0,0,0,0,0,0,0,0,0,0,0,0,0,null,"oath of conq L20 ability"]
[{"$nulls":3},"shadow blade (c) (bonus action)",{"$f":"E189*E$219","v":0},0,0,0,0,0,0,0,0,0,0,0,0,0,0,0,0,0,0,0,null,"barbarian ancestral guardian"]
[{"$nulls":3},"bless casts (c)",{"$f":"E190*E$219","v":0},0,0,0,0,0,0,0,0,0,0,0,0,0,0,0,0,0,0,0,null,"bard spell availability with magical secrets"]
[{"$nulls":3},"divine favor casts (c)",{"$f":"E191*E$219","v":0},0,0,0,0,0,0,0,0,0,0,0,0,0,0,0,0,0,0,0,null,"limit paladin smites to 5d8 only"]
[{"$nulls":3},"haste casts (c) (veng)",{"$f":"E192*E$219","v":0},0,0,0,0,0,0,0,0,0,0,0,0,0,0,0,0,0,0,0,null,"wizard arcane recovery"]
[{"$nulls":3},"hunter's mark / hex casts (c) (veng) (bonus action)",{"$f":"E193*E$219","v":0},0,0,0,0,0,0,0,0,0,0,0,0,0,0,0,0,0,0,0,null,"option for disabling simulacrum damage"]
[{"$nulls":3},"spirit guardians casts (c) (req Divine Soul)",{"$f":"E194*E$219","v":0},0,0,0,0,0,0,0,0,0,0,0,0,0,0,0,0,0,0,0,null,"dual-weilding beast barbarian can attack 4 times, 2 with claws, 2 with one-handed weapons"]
[{"$nulls":3},"faerie fire casts (c)",{"$f":"E195*E$219","v":0},{"$f":"F195*F$219","v":0},0,0,0,0,0,0,0,0,0,0,0,0,0,0,0,0,0,0,null,"similar trick with GWM beast barbarian bonus attack proc"]
[{"$nulls":3},"spirit shroud casts (c) (bonus action)",{"$f":"E196*E$219","v":0},{"$f":"F196*F$219","v":0},0,0,0,0,0,0,0,0,0,0,{"$f":"Q196*Q$219","v":0},0,0,0,0,0,0,0,null,"warlock patron spell lists"]
[{"$nulls":3},"steel wind strike : AE",{"$f":"E156*E$219","v":0},0,0,0,0,0,0,0,0,0,0,0,0,0,0,0,0,0,0,0,null,"shadowblade unusable with CHA bonus"]
[{"$nulls":3},"guardian of nature (bonus action) (c)",{"$f":"E197*E$219","v":0},0,0,0,0,0,0,0,0,0,0,0,0,0,0,0,0,0,0,0,null,"pike weapon incompatible with PAM bonus attack, making Piercer and PAM a nonbo."]
[{"$nulls":3},"crown of stars",{"$f":"E158*E$219","v":0},0,0,0,0,0,0,0,0,0,0,0,0,0,0,0,0,0,0,0,null,"quicken booming blade lets a rogue hold action and use reaction for additional sneak attack"]
[{"$nulls":3},"holy weapon casts (bonus action) (c)",{"$f":"E198*E$219","v":0},0,0,0,0,0,0,0,0,0,0,0,0,0,0,0,0,0,0,0,null,"limit hit rate for Sorc / Rogue Quicken BB combo on main turn"]
[{"$nulls":3},"hold person casts (conq, veng) (c)",{"$f":"E199*E$219","v":0},0,0,0,0,0,0,0,0,0,0,0,0,0,0,0,0,0,0,0,null,"Fixed some DIV by Zero errors when total spellcasts exceeds total combat rounds"]
[{"$nulls":3},"hold monster casts (veng) (c)",{"$f":"E200*E$219","v":0},0,0,0,0,0,0,0,0,0,0,0,0,0,0,0,0,0,0,0,null,"Barb Best + Monk bonus attacks"]
[{"$nulls":3},"shadow of moil (c) ",{"$f":"E201*E$219","v":0},{"$f":"F201*F$219","v":0},0,0,0,0,0,0,0,0,0,0,0,0,0,0,0,0,0,0,null,"fixed bug with paladin smites causing Eldritch smite prones"]
[{"$nulls":3},"greater invisibility (c)",{"$f":"E202*E$219","v":0},{"$f":"F202*F$219","v":0},0,0,0,0,0,0,0,0,0,0,0,0,0,0,0,0,0,0,null,"fixed bug with piercer and spears"]
[{"$nulls":3},"fear casts (conq) (c)",{"$f":"E203*E$219","v":0},0,0,0,0,0,0,0,0,0,0,0,0,0,0,0,0,0,0,0,null,"fixed bug with dueling fighting style and shield + spear"]
[{"$nulls":3},"tenser's transformation casts (c) ",{"$f":"E204*E$219","v":0},0,0,0,0,0,0,0,0,0,0,0,0,0,0,0,0,0,0,0,null,"held actions for sneak attack limited by concentration"]
[{"$nulls":3},"flaming sphere casts (c)",{"$f":"E205*E$219","v":0},0,0,0,0,0,0,0,0,0,0,0,0,0,0,0,0,0,0,0,null,"  artificer firebolt and damage scenarios"]
[{"$nulls":3},"bigby's hand casts (c)",{"$f":"E206*E$219","v":0},0,0,0,0,0,0,0,0,0,0,0,0,0,0,0,0,0,0,0,null,"  ranged warlock bow fighter ranger/rogue/warrior?"]
[{"$nulls":3},"animate objects casts (c)",{"$f":"E207*E$219","v":0},0,0,0,0,0,0,0,0,0,0,0,0,0,0,0,0,0,0,0,null,"  rogue"]
[{"$nulls":3},"spirtual weapon casts (free cast) req Conq or Divine S",{"$f":"E169*E$219","v":0},0,0,0,0,0,0,0,0,0,0,0,0,0,0,0,0,0,0,0,null,"  ranger"]
[{"$nulls":3},"fireball casts : AE",{"$f":"E170*E$219","v":0},0,0,0,0,0,0,0,0,0,0,0,0,0,0,0,0,0,0,0,null,"asassination rounds plus extra crit piercer feat damage"]
[{"$nulls":3},"animate dead (non-combat)",{"$f":"E171*E$219","v":0},{"$f":"F171*F$219","v":0},0,0,0,0,0,0,0,0,0,0,0,0,0,0,0,0,0,0,null,"artificer SSI"]
[{"$nulls":3},"tiny servant (non-combat)",{"$f":"E172*E$219","v":0},{"$f":"F172*F$219","v":0},0,0,0,0,0,0,0,0,0,0,0,0,0,0,0,0,0,0,null,"spell attacks now properly benefit from Elven Acc when melee would have been STR based"]
[{"$nulls":3},"summon beast (c)",{"$f":"E208*E$219","v":0},0,0,0,0,0,0,0,0,0,0,0,0,0,0,0,0,0,0,0,null,"Firebolt fully integrated into Damage Scenarios alongside Eld Blast"]
[{"$nulls":3},"summon fey (c)",{"$f":"E209*E$219","v":0},0,0,0,0,0,0,0,0,0,0,0,0,0,0,0,0,0,0,0,null,"fixed some errors in Artificer spell availability"]
[{"$nulls":3},"summon undead (c)",{"$f":"E210*E$219","v":0},0,0,0,0,0,0,0,0,0,0,0,0,0,0,0,0,0,0,0,null,"split shadow of moil out to be obscurement-based "]
[{"$nulls":3},"summon aberation (c)",{"$f":"E211*E$219","v":0},0,0,0,0,0,0,0,0,0,0,0,0,0,0,0,0,0,0,0,null,"removed bug where rangers old favored foe was providing extra damage"]
[{"$nulls":3},"summon construct (c)",{"$f":"E212*E$219","v":0},0,0,0,0,0,0,0,0,0,0,0,0,0,0,0,0,0,0,0,null,"removed bug that caused spirit shroud damage to be counted twice"]
[{"$nulls":3},"summon celestial (c)",{"$f":"E213*E$219","v":0},0,0,0,0,0,0,0,0,0,0,0,0,0,0,0,0,0,0,0,null," Hexblade's Curse now applies to all spell attacks"]
[{"$nulls":3},"total concentration (non-defensive) spells per day",{"$f":"E227+E228+E229+E230+E231+E232+E233+E234+E236+E238+E244+E245+E246+E247","v":0},{"$f":"F227+F228+F229+F230+F231+F232+F233+F234+F236+F238+F244+F245+F246+F247","v":0},0,0,0,0,0,0,0,0,0,0,0,0,0,0,0,0,0,0,null,"spell attack damage bonuses"]
[{"$nulls":3},"total concentration (defensive) spells per day",{"$f":"E224+E226+E239+E240+E241+E243+E242","v":0},{"$f":"F224+F226+F239+F240+F241+F243+F242","v":0},0,0,0,0,0,0,0,0,0,0,0,0,0,0,0,0,0,0,null,"   split into spell static damage and spell dice damage bonuses"]
[{"$nulls":3},"total concentration (1 hour summon) spells per day",{"$f":"E252+E253+E254+E255+E256+E257","v":0},{"$f":"F252+F253+F254+F255+F256+F257","v":0},0,0,0,0,0,0,0,0,0,0,0,0,0,0,0,0,0,0,null,"   set up for spell criticals"]
[{"$nulls":25},"Druid Stars archer from damage bonuses"]
[{"$nulls":3},"SPELL SLOTS",{"$nulls":21},"channel divs uses per day don't stack"]
[{"$nulls":3},"warlock spell levels",{"$f":"CELL(\"contents\",INDIRECT(ADDRESS(12+E12,9,1,1,\"Caster Tables\")))","v":0},{"$f":"CELL(\"contents\",INDIRECT(ADDRESS(12+F12,9,1,1,\"Caster Tables\")))","v":0},{"$f":"CELL(\"contents\",INDIRECT(ADDRESS(12+G12,9,1,1,\"Caster Tables\")))","v":0},{"$f":"CELL(\"contents\",INDIRECT(ADDRESS(12+H12,9,1,1,\"Caster Tables\")))","v":0},{"$f":"CELL(\"contents\",INDIRECT(ADDRESS(12+I12,9,1,1,\"Caster Tables\")))","v":0},{"$f":"CELL(\"contents\",INDIRECT(ADDRESS(12+J12,9,1,1,\"Caster Tables\")))","v":0},{"$f":"CELL(\"contents\",INDIRECT(ADDRESS(12+K12,9,1,1,\"Caster Tables\")))","v":0},{"$f":"CELL(\"contents\",INDIRECT(ADDRESS(12+L12,9,1,1,\"Caster Tables\")))","v":0},{"$f":"CELL(\"contents\",INDIRECT(ADDRESS(12+M12,9,1,1,\"Caster Tables\")))","v":0},{"$f":"CELL(\"contents\",INDIRECT(ADDRESS(12+N12,9,1,1,\"Caster Tables\")))","v":0},{"$f":"CELL(\"contents\",INDIRECT(ADDRESS(12+O12,9,1,1,\"Caster Tables\")))","v":0},{"$f":"CELL(\"contents\",INDIRECT(ADDRESS(12+P12,9,1,1,\"Caster Tables\")))","v":0},{"$f":"CELL(\"contents\",INDIRECT(ADDRESS(12+Q12,9,1,1,\"Caster Tables\")))","v":0},{"$f":"CELL(\"contents\",INDIRECT(ADDRESS(12+R12,9,1,1,\"Caster Tables\")))","v":0},{"$f":"CELL(\"contents\",INDIRECT(ADDRESS(12+S12,9,1,1,\"Caster Tables\")))","v":0},{"$f":"CELL(\"contents\",INDIRECT(ADDRESS(12+T12,9,1,1,\"Caster Tables\")))","v":0},{"$f":"CELL(\"contents\",INDIRECT(ADDRESS(12+U12,9,1,1,\"Caster Tables\")))","v":0},{"$f":"CELL(\"contents\",INDIRECT(ADDRESS(12+V12,9,1,1,\"Caster Tables\")))","v":0},{"$f":"CELL(\"contents\",INDIRECT(ADDRESS(12+W12,9,1,1,\"Caster Tables\")))","v":0},{"$f":"CELL(\"contents\",INDIRECT(ADDRESS(12+X12,9,1,1,\"Caster Tables\")))","v":0}]
[{"$nulls":3},"warlock smite dice",{"$f":"IF(OR(AND(NOT(E29),E12>=5),OR(E7>=2,E12>=5)),CELL(\"contents\",INDIRECT(ADDRESS(12+E12,10,1,1,\"Caster Tables\"))),0)","v":0},{"$f":"IF(OR(AND(NOT(F29),F12>=5),OR(F7>=2,F12>=5)),CELL(\"contents\",INDIRECT(ADDRESS(12+F12,10,1,1,\"Caster Tables\"))),0)","v":0},{"$f":"IF(OR(AND(NOT(G29),G12>=5),OR(G7>=2,G12>=5)),CELL(\"contents\",INDIRECT(ADDRESS(12+G12,10,1,1,\"Caster Tables\"))),0)","v":0},{"$f":"IF(OR(AND(NOT(H29),H12>=5),OR(H7>=2,H12>=5)),CELL(\"contents\",INDIRECT(ADDRESS(12+H12,10,1,1,\"Caster Tables\"))),0)","v":0},{"$f":"IF(OR(AND(NOT(I29),I12>=5),OR(I7>=2,I12>=5)),CELL(\"contents\",INDIRECT(ADDRESS(12+I12,10,1,1,\"Caster Tables\"))),0)","v":0},{"$f":"IF(OR(AND(NOT(J29),J12>=5),OR(J7>=2,J12>=5)),CELL(\"contents\",INDIRECT(ADDRESS(12+J12,10,1,1,\"Caster Tables\"))),0)","v":0},{"$f":"IF(OR(AND(NOT(K29),K12>=5),OR(K7>=2,K12>=5)),CELL(\"contents\",INDIRECT(ADDRESS(12+K12,10,1,1,\"Caster Tables\"))),0)","v":0},{"$f":"IF(OR(AND(NOT(L29),L12>=5),OR(L7>=2,L12>=5)),CELL(\"contents\",INDIRECT(ADDRESS(12+L12,10,1,1,\"Caster Tables\"))),0)","v":0},{"$f":"IF(OR(AND(NOT(M29),M12>=5),OR(M7>=2,M12>=5)),CELL(\"contents\",INDIRECT(ADDRESS(12+M12,10,1,1,\"Caster Tables\"))),0)","v":0},{"$f":"IF(OR(AND(NOT(N29),N12>=5),OR(N7>=2,N12>=5)),CELL(\"contents\",INDIRECT(ADDRESS(12+N12,10,1,1,\"Caster Tables\"))),0)","v":0},{"$f":"IF(OR(AND(NOT(O29),O12>=5),OR(O7>=2,O12>=5)),CELL(\"contents\",INDIRECT(ADDRESS(12+O12,10,1,1,\"Caster Tables\"))),0)","v":0},{"$f":"IF(OR(AND(NOT(P29),P12>=5),OR(P7>=2,P12>=5)),CELL(\"contents\",INDIRECT(ADDRESS(12+P12,10,1,1,\"Caster Tables\"))),0)","v":0},{"$f":"IF(OR(AND(NOT(Q29),Q12>=5),OR(Q7>=2,Q12>=5)),CELL(\"contents\",INDIRECT(ADDRESS(12+Q12,10,1,1,\"Caster Tables\"))),0)","v":0},{"$f":"IF(OR(AND(NOT(R29),R12>=5),OR(R7>=2,R12>=5)),CELL(\"contents\",INDIRECT(ADDRESS(12+R12,10,1,1,\"Caster Tables\"))),0)","v":0},{"$f":"IF(OR(AND(NOT(S29),S12>=5),OR(S7>=2,S12>=5)),CELL(\"contents\",INDIRECT(ADDRESS(12+S12,10,1,1,\"Caster Tables\"))),0)","v":0},{"$f":"IF(OR(AND(NOT(T29),T12>=5),OR(T7>=2,T12>=5)),CELL(\"contents\",INDIRECT(ADDRESS(12+T12,10,1,1,\"Caster Tables\"))),0)","v":0},{"$f":"IF(OR(AND(NOT(U29),U12>=5),OR(U7>=2,U12>=5)),CELL(\"contents\",INDIRECT(ADDRESS(12+U12,10,1,1,\"Caster Tables\"))),0)","v":0},{"$f":"IF(OR(AND(NOT(V29),V12>=5),OR(V7>=2,V12>=5)),CELL(\"contents\",INDIRECT(ADDRESS(12+V12,10,1,1,\"Caster Tables\"))),0)","v":0},{"$f":"IF(OR(AND(NOT(W29),W12>=5),OR(W7>=2,W12>=5)),CELL(\"contents\",INDIRECT(ADDRESS(12+W12,10,1,1,\"Caster Tables\"))),0)","v":0},{"$f":"IF(OR(AND(NOT(X29),X12>=5),OR(X7>=2,X12>=5)),CELL(\"contents\",INDIRECT(ADDRESS(12+X12,10,1,1,\"Caster Tables\"))),0)","v":0}]
[{"$nulls":3},"max warlock slot",{"$f":"CELL(\"contents\",INDIRECT(ADDRESS(12+E12,12,1,1,\"Caster Tables\")))","v":0},{"$f":"CELL(\"contents\",INDIRECT(ADDRESS(12+F12,12,1,1,\"Caster Tables\")))","v":0},{"$f":"CELL(\"contents\",INDIRECT(ADDRESS(12+G12,12,1,1,\"Caster Tables\")))","v":0},{"$f":"CELL(\"contents\",INDIRECT(ADDRESS(12+H12,12,1,1,\"Caster Tables\")))","v":0},{"$f":"CELL(\"contents\",INDIRECT(ADDRESS(12+I12,12,1,1,\"Caster Tables\")))","v":0},{"$f":"CELL(\"contents\",INDIRECT(ADDRESS(12+J12,12,1,1,\"Caster Tables\")))","v":0},{"$f":"CELL(\"contents\",INDIRECT(ADDRESS(12+K12,12,1,1,\"Caster Tables\")))","v":0},{"$f":"CELL(\"contents\",INDIRECT(ADDRESS(12+L12,12,1,1,\"Caster Tables\")))","v":0},{"$f":"CELL(\"contents\",INDIRECT(ADDRESS(12+M12,12,1,1,\"Caster Tables\")))","v":0},{"$f":"CELL(\"contents\",INDIRECT(ADDRESS(12+N12,12,1,1,\"Caster Tables\")))","v":0},{"$f":"CELL(\"contents\",INDIRECT(ADDRESS(12+O12,12,1,1,\"Caster Tables\")))","v":0},{"$f":"CELL(\"contents\",INDIRECT(ADDRESS(12+P12,12,1,1,\"Caster Tables\")))","v":0},{"$f":"CELL(\"contents\",INDIRECT(ADDRESS(12+Q12,12,1,1,\"Caster Tables\")))","v":0},{"$f":"CELL(\"contents\",INDIRECT(ADDRESS(12+R12,12,1,1,\"Caster Tables\")))","v":0},{"$f":"CELL(\"contents\",INDIRECT(ADDRESS(12+S12,12,1,1,\"Caster Tables\")))","v":0},{"$f":"CELL(\"contents\",INDIRECT(ADDRESS(12+T12,12,1,1,\"Caster Tables\")))","v":0},{"$f":"CELL(\"contents\",INDIRECT(ADDRESS(12+U12,12,1,1,\"Caster Tables\")))","v":0},{"$f":"CELL(\"contents\",INDIRECT(ADDRESS(12+V12,12,1,1,\"Caster Tables\")))","v":0},{"$f":"CELL(\"contents\",INDIRECT(ADDRESS(12+W12,12,1,1,\"Caster Tables\")))","v":0},{"$f":"CELL(\"contents\",INDIRECT(ADDRESS(12+X12,12,1,1,\"Caster Tables\")))","v":0}]
[{"$nulls":3},"number of warlock slots",{"$f":"(IF(E12>=1,1,0)+IF(E12>=11,1,0)+IF(E12>=17,1,0)+IF(E12>=2,1,0))*(1+'Base Numbers'!$C$7)","v":0},{"$f":"(IF(F12>=1,1,0)+IF(F12>=11,1,0)+IF(F12>=17,1,0)+IF(F12>=2,1,0))*(1+'Base Numbers'!$C$7)","v":0},{"$f":"(IF(G12>=1,1,0)+IF(G12>=11,1,0)+IF(G12>=17,1,0)+IF(G12>=2,1,0))*(1+'Base Numbers'!$C$7)","v":0},{"$f":"(IF(H12>=1,1,0)+IF(H12>=11,1,0)+IF(H12>=17,1,0)+IF(H12>=2,1,0))*(1+'Base Numbers'!$C$7)","v":0},{"$f":"(IF(I12>=1,1,0)+IF(I12>=11,1,0)+IF(I12>=17,1,0)+IF(I12>=2,1,0))*(1+'Base Numbers'!$C$7)","v":0},{"$f":"(IF(J12>=1,1,0)+IF(J12>=11,1,0)+IF(J12>=17,1,0)+IF(J12>=2,1,0))*(1+'Base Numbers'!$C$7)","v":0},{"$f":"(IF(K12>=1,1,0)+IF(K12>=11,1,0)+IF(K12>=17,1,0)+IF(K12>=2,1,0))*(1+'Base Numbers'!$C$7)","v":0},{"$f":"(IF(L12>=1,1,0)+IF(L12>=11,1,0)+IF(L12>=17,1,0)+IF(L12>=2,1,0))*(1+'Base Numbers'!$C$7)","v":0},{"$f":"(IF(M12>=1,1,0)+IF(M12>=11,1,0)+IF(M12>=17,1,0)+IF(M12>=2,1,0))*(1+'Base Numbers'!$C$7)","v":0},{"$f":"(IF(N12>=1,1,0)+IF(N12>=11,1,0)+IF(N12>=17,1,0)+IF(N12>=2,1,0))*(1+'Base Numbers'!$C$7)","v":0},{"$f":"(IF(O12>=1,1,0)+IF(O12>=11,1,0)+IF(O12>=17,1,0)+IF(O12>=2,1,0))*(1+'Base Numbers'!$C$7)","v":0},{"$f":"(IF(P12>=1,1,0)+IF(P12>=11,1,0)+IF(P12>=17,1,0)+IF(P12>=2,1,0))*(1+'Base Numbers'!$C$7)","v":0},{"$f":"(IF(Q12>=1,1,0)+IF(Q12>=11,1,0)+IF(Q12>=17,1,0)+IF(Q12>=2,1,0))*(1+'Base Numbers'!$C$7)","v":0},{"$f":"(IF(R12>=1,1,0)+IF(R12>=11,1,0)+IF(R12>=17,1,0)+IF(R12>=2,1,0))*(1+'Base Numbers'!$C$7)","v":0},{"$f":"(IF(S12>=1,1,0)+IF(S12>=11,1,0)+IF(S12>=17,1,0)+IF(S12>=2,1,0))*(1+'Base Numbers'!$C$7)","v":0},{"$f":"(IF(T12>=1,1,0)+IF(T12>=11,1,0)+IF(T12>=17,1,0)+IF(T12>=2,1,0))*(1+'Base Numbers'!$C$7)","v":0},{"$f":"(IF(U12>=1,1,0)+IF(U12>=11,1,0)+IF(U12>=17,1,0)+IF(U12>=2,1,0))*(1+'Base Numbers'!$C$7)","v":0},{"$f":"(IF(V12>=1,1,0)+IF(V12>=11,1,0)+IF(V12>=17,1,0)+IF(V12>=2,1,0))*(1+'Base Numbers'!$C$7)","v":0},{"$f":"(IF(W12>=1,1,0)+IF(W12>=11,1,0)+IF(W12>=17,1,0)+IF(W12>=2,1,0))*(1+'Base Numbers'!$C$7)","v":0},{"$f":"(IF(X12>=1,1,0)+IF(X12>=11,1,0)+IF(X12>=17,1,0)+IF(X12>=2,1,0))*(1+'Base Numbers'!$C$7)","v":0}]
[{"$nulls":3},"caster class (wiz/sorc/cleric/druid/bard) spell levels",{"$f":"CELL(\"contents\",INDIRECT(ADDRESS(12+E21,3,1,1,\"Caster Tables\")))+IF('Base Numbers'!$C$7>=1,CEILING(E15/2,1),0)+IF(AND($B$29>=1,E6>=$B$29),1,0)","v":0},{"$f":"CELL(\"contents\",INDIRECT(ADDRESS(12+F21,3,1,1,\"Caster Tables\")))+IF('Base Numbers'!$C$7>=1,CEILING(F15/2,1),0)+IF(AND($B$29>=1,F6>=$B$29),1,0)","v":0},{"$f":"CELL(\"contents\",INDIRECT(ADDRESS(12+G21,3,1,1,\"Caster Tables\")))+IF('Base Numbers'!$C$7>=1,CEILING(G15/2,1),0)+IF(AND($B$29>=1,G6>=$B$29),1,0)","v":0},{"$f":"CELL(\"contents\",INDIRECT(ADDRESS(12+H21,3,1,1,\"Caster Tables\")))+IF('Base Numbers'!$C$7>=1,CEILING(H15/2,1),0)+IF(AND($B$29>=1,H6>=$B$29),1,0)","v":0},{"$f":"CELL(\"contents\",INDIRECT(ADDRESS(12+I21,3,1,1,\"Caster Tables\")))+IF('Base Numbers'!$C$7>=1,CEILING(I15/2,1),0)+IF(AND($B$29>=1,I6>=$B$29),1,0)","v":0},{"$f":"CELL(\"contents\",INDIRECT(ADDRESS(12+J21,3,1,1,\"Caster Tables\")))+IF('Base Numbers'!$C$7>=1,CEILING(J15/2,1),0)+IF(AND($B$29>=1,J6>=$B$29),1,0)","v":0},{"$f":"CELL(\"contents\",INDIRECT(ADDRESS(12+K21,3,1,1,\"Caster Tables\")))+IF('Base Numbers'!$C$7>=1,CEILING(K15/2,1),0)+IF(AND($B$29>=1,K6>=$B$29),1,0)","v":0},{"$f":"CELL(\"contents\",INDIRECT(ADDRESS(12+L21,3,1,1,\"Caster Tables\")))+IF('Base Numbers'!$C$7>=1,CEILING(L15/2,1),0)+IF(AND($B$29>=1,L6>=$B$29),1,0)","v":0},{"$f":"CELL(\"contents\",INDIRECT(ADDRESS(12+M21,3,1,1,\"Caster Tables\")))+IF('Base Numbers'!$C$7>=1,CEILING(M15/2,1),0)+IF(AND($B$29>=1,M6>=$B$29),1,0)","v":0},{"$f":"CELL(\"contents\",INDIRECT(ADDRESS(12+N21,3,1,1,\"Caster Tables\")))+IF('Base Numbers'!$C$7>=1,CEILING(N15/2,1),0)+IF(AND($B$29>=1,N6>=$B$29),1,0)","v":0},{"$f":"CELL(\"contents\",INDIRECT(ADDRESS(12+O21,3,1,1,\"Caster Tables\")))+IF('Base Numbers'!$C$7>=1,CEILING(O15/2,1),0)+IF(AND($B$29>=1,O6>=$B$29),1,0)","v":0},{"$f":"CELL(\"contents\",INDIRECT(ADDRESS(12+P21,3,1,1,\"Caster Tables\")))+IF('Base Numbers'!$C$7>=1,CEILING(P15/2,1),0)+IF(AND($B$29>=1,P6>=$B$29),1,0)","v":0},{"$f":"CELL(\"contents\",INDIRECT(ADDRESS(12+Q21,3,1,1,\"Caster Tables\")))+IF('Base Numbers'!$C$7>=1,CEILING(Q15/2,1),0)+IF(AND($B$29>=1,Q6>=$B$29),1,0)","v":0},{"$f":"CELL(\"contents\",INDIRECT(ADDRESS(12+R21,3,1,1,\"Caster Tables\")))+IF('Base Numbers'!$C$7>=1,CEILING(R15/2,1),0)+IF(AND($B$29>=1,R6>=$B$29),1,0)","v":0},{"$f":"CELL(\"contents\",INDIRECT(ADDRESS(12+S21,3,1,1,\"Caster Tables\")))+IF('Base Numbers'!$C$7>=1,CEILING(S15/2,1),0)+IF(AND($B$29>=1,S6>=$B$29),1,0)","v":0},{"$f":"CELL(\"contents\",INDIRECT(ADDRESS(12+T21,3,1,1,\"Caster Tables\")))+IF('Base Numbers'!$C$7>=1,CEILING(T15/2,1),0)+IF(AND($B$29>=1,T6>=$B$29),1,0)","v":0},{"$f":"CELL(\"contents\",INDIRECT(ADDRESS(12+U21,3,1,1,\"Caster Tables\")))+IF('Base Numbers'!$C$7>=1,CEILING(U15/2,1),0)+IF(AND($B$29>=1,U6>=$B$29),1,0)","v":0},{"$f":"CELL(\"contents\",INDIRECT(ADDRESS(12+V21,3,1,1,\"Caster Tables\")))+IF('Base Numbers'!$C$7>=1,CEILING(V15/2,1),0)+IF(AND($B$29>=1,V6>=$B$29),1,0)","v":0},{"$f":"CELL(\"contents\",INDIRECT(ADDRESS(12+W21,3,1,1,\"Caster Tables\")))+IF('Base Numbers'!$C$7>=1,CEILING(W15/2,1),0)+IF(AND($B$29>=1,W6>=$B$29),1,0)","v":0},{"$f":"CELL(\"contents\",INDIRECT(ADDRESS(12+X21,3,1,1,\"Caster Tables\")))+IF('Base Numbers'!$C$7>=1,CEILING(X15/2,1),0)+IF(AND($B$29>=1,X6>=$B$29),1,0)","v":0}]
[{"$nulls":3},"caster class (wiz/sorc/cleric/druid/bard) smite levels",{"$f":"IF(AND(NOT(E137),E7>=2),CELL(\"contents\",INDIRECT(ADDRESS(12+E21,4,1,1,\"Caster Tables\"))),0)+IF(AND(E7>=2,'Base Numbers'!$C$7>=1),CEILING(E15/2,1)+CEILING(E15/4,1),0)","v":0},{"$f":"IF(AND(NOT(F137),F7>=2),CELL(\"contents\",INDIRECT(ADDRESS(12+F21,4,1,1,\"Caster Tables\"))),0)+IF(AND(F7>=2,'Base Numbers'!$C$7>=1),CEILING(F15/2,1)+CEILING(F15/4,1),0)","v":0},{"$f":"IF(AND(NOT(G137),G7>=2),CELL(\"contents\",INDIRECT(ADDRESS(12+G21,4,1,1,\"Caster Tables\"))),0)+IF(AND(G7>=2,'Base Numbers'!$C$7>=1),CEILING(G15/2,1)+CEILING(G15/4,1),0)","v":0},{"$f":"IF(AND(NOT(H137),H7>=2),CELL(\"contents\",INDIRECT(ADDRESS(12+H21,4,1,1,\"Caster Tables\"))),0)+IF(AND(H7>=2,'Base Numbers'!$C$7>=1),CEILING(H15/2,1)+CEILING(H15/4,1),0)","v":0},{"$f":"IF(AND(NOT(I137),I7>=2),CELL(\"contents\",INDIRECT(ADDRESS(12+I21,4,1,1,\"Caster Tables\"))),0)+IF(AND(I7>=2,'Base Numbers'!$C$7>=1),CEILING(I15/2,1)+CEILING(I15/4,1),0)","v":0},{"$f":"IF(AND(NOT(J137),J7>=2),CELL(\"contents\",INDIRECT(ADDRESS(12+J21,4,1,1,\"Caster Tables\"))),0)+IF(AND(J7>=2,'Base Numbers'!$C$7>=1),CEILING(J15/2,1)+CEILING(J15/4,1),0)","v":0},{"$f":"IF(AND(NOT(K137),K7>=2),CELL(\"contents\",INDIRECT(ADDRESS(12+K21,4,1,1,\"Caster Tables\"))),0)+IF(AND(K7>=2,'Base Numbers'!$C$7>=1),CEILING(K15/2,1)+CEILING(K15/4,1),0)","v":0},{"$f":"IF(AND(NOT(L137),L7>=2),CELL(\"contents\",INDIRECT(ADDRESS(12+L21,4,1,1,\"Caster Tables\"))),0)+IF(AND(L7>=2,'Base Numbers'!$C$7>=1),CEILING(L15/2,1)+CEILING(L15/4,1),0)","v":0},{"$f":"IF(AND(NOT(M137),M7>=2),CELL(\"contents\",INDIRECT(ADDRESS(12+M21,4,1,1,\"Caster Tables\"))),0)+IF(AND(M7>=2,'Base Numbers'!$C$7>=1),CEILING(M15/2,1)+CEILING(M15/4,1),0)","v":0},{"$f":"IF(AND(NOT(N137),N7>=2),CELL(\"contents\",INDIRECT(ADDRESS(12+N21,4,1,1,\"Caster Tables\"))),0)+IF(AND(N7>=2,'Base Numbers'!$C$7>=1),CEILING(N15/2,1)+CEILING(N15/4,1),0)","v":0},{"$f":"IF(AND(NOT(O137),O7>=2),CELL(\"contents\",INDIRECT(ADDRESS(12+O21,4,1,1,\"Caster Tables\"))),0)+IF(AND(O7>=2,'Base Numbers'!$C$7>=1),CEILING(O15/2,1)+CEILING(O15/4,1),0)","v":0},{"$f":"IF(AND(NOT(P137),P7>=2),CELL(\"contents\",INDIRECT(ADDRESS(12+P21,4,1,1,\"Caster Tables\"))),0)+IF(AND(P7>=2,'Base Numbers'!$C$7>=1),CEILING(P15/2,1)+CEILING(P15/4,1),0)","v":0},{"$f":"IF(AND(NOT(Q137),Q7>=2),CELL(\"contents\",INDIRECT(ADDRESS(12+Q21,4,1,1,\"Caster Tables\"))),0)+IF(AND(Q7>=2,'Base Numbers'!$C$7>=1),CEILING(Q15/2,1)+CEILING(Q15/4,1),0)","v":0},{"$f":"IF(AND(NOT(R137),R7>=2),CELL(\"contents\",INDIRECT(ADDRESS(12+R21,4,1,1,\"Caster Tables\"))),0)+IF(AND(R7>=2,'Base Numbers'!$C$7>=1),CEILING(R15/2,1)+CEILING(R15/4,1),0)","v":0},{"$f":"IF(AND(NOT(S137),S7>=2),CELL(\"contents\",INDIRECT(ADDRESS(12+S21,4,1,1,\"Caster Tables\"))),0)+IF(AND(S7>=2,'Base Numbers'!$C$7>=1),CEILING(S15/2,1)+CEILING(S15/4,1),0)","v":0},{"$f":"IF(AND(NOT(T137),T7>=2),CELL(\"contents\",INDIRECT(ADDRESS(12+T21,4,1,1,\"Caster Tables\"))),0)+IF(AND(T7>=2,'Base Numbers'!$C$7>=1),CEILING(T15/2,1)+CEILING(T15/4,1),0)","v":0},{"$f":"IF(AND(NOT(U137),U7>=2),CELL(\"contents\",INDIRECT(ADDRESS(12+U21,4,1,1,\"Caster Tables\"))),0)+IF(AND(U7>=2,'Base Numbers'!$C$7>=1),CEILING(U15/2,1)+CEILING(U15/4,1),0)","v":0},{"$f":"IF(AND(NOT(V137),V7>=2),CELL(\"contents\",INDIRECT(ADDRESS(12+V21,4,1,1,\"Caster Tables\"))),0)+IF(AND(V7>=2,'Base Numbers'!$C$7>=1),CEILING(V15/2,1)+CEILING(V15/4,1),0)","v":0},{"$f":"IF(AND(NOT(W137),W7>=2),CELL(\"contents\",INDIRECT(ADDRESS(12+W21,4,1,1,\"Caster Tables\"))),0)+IF(AND(W7>=2,'Base Numbers'!$C$7>=1),CEILING(W15/2,1)+CEILING(W15/4,1),0)","v":0},{"$f":"IF(AND(NOT(X137),X7>=2),CELL(\"contents\",INDIRECT(ADDRESS(12+X21,4,1,1,\"Caster Tables\"))),0)+IF(AND(X7>=2,'Base Numbers'!$C$7>=1),CEILING(X15/2,1)+CEILING(X15/4,1),0)","v":0}]
[{"$nulls":3},"max spellcaster slot",{"$f":"CELL(\"contents\",INDIRECT(ADDRESS(12+E21,6,1,1,\"Caster Tables\")))","v":0},{"$f":"CELL(\"contents\",INDIRECT(ADDRESS(12+F21,6,1,1,\"Caster Tables\")))","v":0},{"$f":"CELL(\"contents\",INDIRECT(ADDRESS(12+G21,6,1,1,\"Caster Tables\")))","v":0},{"$f":"CELL(\"contents\",INDIRECT(ADDRESS(12+H21,6,1,1,\"Caster Tables\")))","v":0},{"$f":"CELL(\"contents\",INDIRECT(ADDRESS(12+I21,6,1,1,\"Caster Tables\")))","v":0},{"$f":"CELL(\"contents\",INDIRECT(ADDRESS(12+J21,6,1,1,\"Caster Tables\")))","v":0},{"$f":"CELL(\"contents\",INDIRECT(ADDRESS(12+K21,6,1,1,\"Caster Tables\")))","v":0},{"$f":"CELL(\"contents\",INDIRECT(ADDRESS(12+L21,6,1,1,\"Caster Tables\")))","v":0},{"$f":"CELL(\"contents\",INDIRECT(ADDRESS(12+M21,6,1,1,\"Caster Tables\")))","v":0},{"$f":"CELL(\"contents\",INDIRECT(ADDRESS(12+N21,6,1,1,\"Caster Tables\")))","v":0},{"$f":"CELL(\"contents\",INDIRECT(ADDRESS(12+O21,6,1,1,\"Caster Tables\")))","v":0},{"$f":"CELL(\"contents\",INDIRECT(ADDRESS(12+P21,6,1,1,\"Caster Tables\")))","v":0},{"$f":"CELL(\"contents\",INDIRECT(ADDRESS(12+Q21,6,1,1,\"Caster Tables\")))","v":0},{"$f":"CELL(\"contents\",INDIRECT(ADDRESS(12+R21,6,1,1,\"Caster Tables\")))","v":0},{"$f":"CELL(\"contents\",INDIRECT(ADDRESS(12+S21,6,1,1,\"Caster Tables\")))","v":0},{"$f":"CELL(\"contents\",INDIRECT(ADDRESS(12+T21,6,1,1,\"Caster Tables\")))","v":0},{"$f":"CELL(\"contents\",INDIRECT(ADDRESS(12+U21,6,1,1,\"Caster Tables\")))","v":0},{"$f":"CELL(\"contents\",INDIRECT(ADDRESS(12+V21,6,1,1,\"Caster Tables\")))","v":0},{"$f":"CELL(\"contents\",INDIRECT(ADDRESS(12+W21,6,1,1,\"Caster Tables\")))","v":0},{"$f":"CELL(\"contents\",INDIRECT(ADDRESS(12+X21,6,1,1,\"Caster Tables\")))","v":0}]
[{"$nulls":3},"total smite dice",{"$f":"E268+E264","v":0},{"$f":"F268+F264","v":0},0,0,0,0,0,0,0,0,0,0,0,0,0,0,{"$f":"U268+U264","v":0},0,0,0]
[{"$nulls":3},"total spell levels",{"$f":"E267+E263","v":0},{"$f":"F267+F263","v":0},0,0,0,0,0,0,0,0,0,0,0,0,0,0,0,0,0,0]
[{"$nulls":3},"total spell slots (not combined levels of spell slots)",{"$f":"CELL(\"contents\",INDIRECT(ADDRESS(12+E21,4,1,1,\"Caster Tables\")))-CELL(\"contents\",INDIRECT(ADDRESS(12+E21,3,1,1,\"Caster Tables\")))+CELL(\"contents\",INDIRECT(ADDRESS(12+E12,10,1,1,\"Caster Tables\")))-CELL(\"contents\",INDIRECT(ADDRESS(12+E12,9,1,1,\"Caster Tables\")))+IF(AND($B$29>=1,E6>=$B$29),1,0)","v":0},{"$f":"CELL(\"contents\",INDIRECT(ADDRESS(12+F21,4,1,1,\"Caster Tables\")))-CELL(\"contents\",INDIRECT(ADDRESS(12+F21,3,1,1,\"Caster Tables\")))+CELL(\"contents\",INDIRECT(ADDRESS(12+F12,10,1,1,\"Caster Tables\")))-CELL(\"contents\",INDIRECT(ADDRESS(12+F12,9,1,1,\"Caster Tables\")))+IF(AND($B$29>=1,F6>=$B$29),1,0)","v":0},{"$f":"CELL(\"contents\",INDIRECT(ADDRESS(12+G21,4,1,1,\"Caster Tables\")))-CELL(\"contents\",INDIRECT(ADDRESS(12+G21,3,1,1,\"Caster Tables\")))+CELL(\"contents\",INDIRECT(ADDRESS(12+G12,10,1,1,\"Caster Tables\")))-CELL(\"contents\",INDIRECT(ADDRESS(12+G12,9,1,1,\"Caster Tables\")))+IF(AND($B$29>=1,G6>=$B$29),1,0)","v":0},{"$f":"CELL(\"contents\",INDIRECT(ADDRESS(12+H21,4,1,1,\"Caster Tables\")))-CELL(\"contents\",INDIRECT(ADDRESS(12+H21,3,1,1,\"Caster Tables\")))+CELL(\"contents\",INDIRECT(ADDRESS(12+H12,10,1,1,\"Caster Tables\")))-CELL(\"contents\",INDIRECT(ADDRESS(12+H12,9,1,1,\"Caster Tables\")))+IF(AND($B$29>=1,H6>=$B$29),1,0)","v":0},{"$f":"CELL(\"contents\",INDIRECT(ADDRESS(12+I21,4,1,1,\"Caster Tables\")))-CELL(\"contents\",INDIRECT(ADDRESS(12+I21,3,1,1,\"Caster Tables\")))+CELL(\"contents\",INDIRECT(ADDRESS(12+I12,10,1,1,\"Caster Tables\")))-CELL(\"contents\",INDIRECT(ADDRESS(12+I12,9,1,1,\"Caster Tables\")))+IF(AND($B$29>=1,I6>=$B$29),1,0)","v":0},{"$f":"CELL(\"contents\",INDIRECT(ADDRESS(12+J21,4,1,1,\"Caster Tables\")))-CELL(\"contents\",INDIRECT(ADDRESS(12+J21,3,1,1,\"Caster Tables\")))+CELL(\"contents\",INDIRECT(ADDRESS(12+J12,10,1,1,\"Caster Tables\")))-CELL(\"contents\",INDIRECT(ADDRESS(12+J12,9,1,1,\"Caster Tables\")))+IF(AND($B$29>=1,J6>=$B$29),1,0)","v":0},{"$f":"CELL(\"contents\",INDIRECT(ADDRESS(12+K21,4,1,1,\"Caster Tables\")))-CELL(\"contents\",INDIRECT(ADDRESS(12+K21,3,1,1,\"Caster Tables\")))+CELL(\"contents\",INDIRECT(ADDRESS(12+K12,10,1,1,\"Caster Tables\")))-CELL(\"contents\",INDIRECT(ADDRESS(12+K12,9,1,1,\"Caster Tables\")))+IF(AND($B$29>=1,K6>=$B$29),1,0)","v":0},{"$f":"CELL(\"contents\",INDIRECT(ADDRESS(12+L21,4,1,1,\"Caster Tables\")))-CELL(\"contents\",INDIRECT(ADDRESS(12+L21,3,1,1,\"Caster Tables\")))+CELL(\"contents\",INDIRECT(ADDRESS(12+L12,10,1,1,\"Caster Tables\")))-CELL(\"contents\",INDIRECT(ADDRESS(12+L12,9,1,1,\"Caster Tables\")))+IF(AND($B$29>=1,L6>=$B$29),1,0)","v":0},{"$f":"CELL(\"contents\",INDIRECT(ADDRESS(12+M21,4,1,1,\"Caster Tables\")))-CELL(\"contents\",INDIRECT(ADDRESS(12+M21,3,1,1,\"Caster Tables\")))+CELL(\"contents\",INDIRECT(ADDRESS(12+M12,10,1,1,\"Caster Tables\")))-CELL(\"contents\",INDIRECT(ADDRESS(12+M12,9,1,1,\"Caster Tables\")))+IF(AND($B$29>=1,M6>=$B$29),1,0)","v":0},{"$f":"CELL(\"contents\",INDIRECT(ADDRESS(12+N21,4,1,1,\"Caster Tables\")))-CELL(\"contents\",INDIRECT(ADDRESS(12+N21,3,1,1,\"Caster Tables\")))+CELL(\"contents\",INDIRECT(ADDRESS(12+N12,10,1,1,\"Caster Tables\")))-CELL(\"contents\",INDIRECT(ADDRESS(12+N12,9,1,1,\"Caster Tables\")))+IF(AND($B$29>=1,N6>=$B$29),1,0)","v":0},{"$f":"CELL(\"contents\",INDIRECT(ADDRESS(12+O21,4,1,1,\"Caster Tables\")))-CELL(\"contents\",INDIRECT(ADDRESS(12+O21,3,1,1,\"Caster Tables\")))+CELL(\"contents\",INDIRECT(ADDRESS(12+O12,10,1,1,\"Caster Tables\")))-CELL(\"contents\",INDIRECT(ADDRESS(12+O12,9,1,1,\"Caster Tables\")))+IF(AND($B$29>=1,O6>=$B$29),1,0)","v":0},{"$f":"CELL(\"contents\",INDIRECT(ADDRESS(12+P21,4,1,1,\"Caster Tables\")))-CELL(\"contents\",INDIRECT(ADDRESS(12+P21,3,1,1,\"Caster Tables\")))+CELL(\"contents\",INDIRECT(ADDRESS(12+P12,10,1,1,\"Caster Tables\")))-CELL(\"contents\",INDIRECT(ADDRESS(12+P12,9,1,1,\"Caster Tables\")))+IF(AND($B$29>=1,P6>=$B$29),1,0)","v":0},{"$f":"CELL(\"contents\",INDIRECT(ADDRESS(12+Q21,4,1,1,\"Caster Tables\")))-CELL(\"contents\",INDIRECT(ADDRESS(12+Q21,3,1,1,\"Caster Tables\")))+CELL(\"contents\",INDIRECT(ADDRESS(12+Q12,10,1,1,\"Caster Tables\")))-CELL(\"contents\",INDIRECT(ADDRESS(12+Q12,9,1,1,\"Caster Tables\")))+IF(AND($B$29>=1,Q6>=$B$29),1,0)","v":0},{"$f":"CELL(\"contents\",INDIRECT(ADDRESS(12+R21,4,1,1,\"Caster Tables\")))-CELL(\"contents\",INDIRECT(ADDRESS(12+R21,3,1,1,\"Caster Tables\")))+CELL(\"contents\",INDIRECT(ADDRESS(12+R12,10,1,1,\"Caster Tables\")))-CELL(\"contents\",INDIRECT(ADDRESS(12+R12,9,1,1,\"Caster Tables\")))+IF(AND($B$29>=1,R6>=$B$29),1,0)","v":0},{"$f":"CELL(\"contents\",INDIRECT(ADDRESS(12+S21,4,1,1,\"Caster Tables\")))-CELL(\"contents\",INDIRECT(ADDRESS(12+S21,3,1,1,\"Caster Tables\")))+CELL(\"contents\",INDIRECT(ADDRESS(12+S12,10,1,1,\"Caster Tables\")))-CELL(\"contents\",INDIRECT(ADDRESS(12+S12,9,1,1,\"Caster Tables\")))+IF(AND($B$29>=1,S6>=$B$29),1,0)","v":0},{"$f":"CELL(\"contents\",INDIRECT(ADDRESS(12+T21,4,1,1,\"Caster Tables\")))-CELL(\"contents\",INDIRECT(ADDRESS(12+T21,3,1,1,\"Caster Tables\")))+CELL(\"contents\",INDIRECT(ADDRESS(12+T12,10,1,1,\"Caster Tables\")))-CELL(\"contents\",INDIRECT(ADDRESS(12+T12,9,1,1,\"Caster Tables\")))+IF(AND($B$29>=1,T6>=$B$29),1,0)","v":0},{"$f":"CELL(\"contents\",INDIRECT(ADDRESS(12+U21,4,1,1,\"Caster Tables\")))-CELL(\"contents\",INDIRECT(ADDRESS(12+U21,3,1,1,\"Caster Tables\")))+CELL(\"contents\",INDIRECT(ADDRESS(12+U12,10,1,1,\"Caster Tables\")))-CELL(\"contents\",INDIRECT(ADDRESS(12+U12,9,1,1,\"Caster Tables\")))+IF(AND($B$29>=1,U6>=$B$29),1,0)","v":0},{"$f":"CELL(\"contents\",INDIRECT(ADDRESS(12+V21,4,1,1,\"Caster Tables\")))-CELL(\"contents\",INDIRECT(ADDRESS(12+V21,3,1,1,\"Caster Tables\")))+CELL(\"contents\",INDIRECT(ADDRESS(12+V12,10,1,1,\"Caster Tables\")))-CELL(\"contents\",INDIRECT(ADDRESS(12+V12,9,1,1,\"Caster Tables\")))+IF(AND($B$29>=1,V6>=$B$29),1,0)","v":0},{"$f":"CELL(\"contents\",INDIRECT(ADDRESS(12+W21,4,1,1,\"Caster Tables\")))-CELL(\"contents\",INDIRECT(ADDRESS(12+W21,3,1,1,\"Caster Tables\")))+CELL(\"contents\",INDIRECT(ADDRESS(12+W12,10,1,1,\"Caster Tables\")))-CELL(\"contents\",INDIRECT(ADDRESS(12+W12,9,1,1,\"Caster Tables\")))+IF(AND($B$29>=1,W6>=$B$29),1,0)","v":0},{"$f":"CELL(\"contents\",INDIRECT(ADDRESS(12+X21,4,1,1,\"Caster Tables\")))-CELL(\"contents\",INDIRECT(ADDRESS(12+X21,3,1,1,\"Caster Tables\")))+CELL(\"contents\",INDIRECT(ADDRESS(12+X12,10,1,1,\"Caster Tables\")))-CELL(\"contents\",INDIRECT(ADDRESS(12+X12,9,1,1,\"Caster Tables\")))+IF(AND($B$29>=1,X6>=$B$29),1,0)","v":0}]
[{"$nulls":3},"spell level to smite dice conversion factor",{"$f":"IF(E271>0,(E264+E268)/E271,0)","v":0},0,0,0,0,0,0,0,0,0,0,0,0,0,0,0,0,0,0,0]
[{"$nulls":3},"max smite dice per smite",{"$f":"IF(OR(E12>=5,E7>=2),MIN(6,MAX(E265,E269)+1),0)","v":0},0,0,0,0,0,0,0,0,0,0,0,0,0,0,0,0,0,0,0]
[]
[{"$nulls":3},"ACTUAL SPELL USAGE",1,2,3,4,5,6,7,8,9,10,11,12,13,14,15,16,17,18,19,20]
[{"$nulls":3},"total actual spells cast",{"$f":"SUM(E222:E257)+E1087","v":0},0,0,0,0,0,0,0,0,0,0,0,0,0,0,0,0,0,0,0]
[{"$nulls":3},"total actual upcastables cast",{"$f":"E232+E248+E249+E246+E247+E245+E227+E234+E222+E252+E253+E254+E255+E256+E257+E223+E250+E251","v":0},{"$f":"F232+F248+F249+F246+F247+F245+F227+F234+F222+F252+F253+F254+F255+F256+F257+F223+F250+F251","v":0},0,0,0,0,0,0,0,0,0,0,0,0,0,0,0,0,0,0]
[{"$nulls":3},"total spell levels for upcastables",{"$f":"IF(E278>0,E278*IF(E265>E269,MIN(E265,E263/E278),CELL(\"contents\",INDIRECT(ADDRESS(43+E21,ROUNDUP(5+MIN(20,E278),0),1,1,\"Caster Tables\")))),0)","v":0},{"$f":"IF(F278>0,F278*IF(F265>F269,MIN(F265,F263/F278),CELL(\"contents\",INDIRECT(ADDRESS(43+F21,ROUNDUP(5+MIN(20,F278),0),1,1,\"Caster Tables\")))),0)","v":0},{"$f":"IF(G278>0,G278*IF(G265>G269,MIN(G265,G263/G278),CELL(\"contents\",INDIRECT(ADDRESS(43+G21,ROUNDUP(5+MIN(20,G278),0),1,1,\"Caster Tables\")))),0)","v":0},{"$f":"IF(H278>0,H278*IF(H265>H269,MIN(H265,H263/H278),CELL(\"contents\",INDIRECT(ADDRESS(43+H21,ROUNDUP(5+MIN(20,H278),0),1,1,\"Caster Tables\")))),0)","v":0},{"$f":"IF(I278>0,I278*IF(I265>I269,MIN(I265,I263/I278),CELL(\"contents\",INDIRECT(ADDRESS(43+I21,ROUNDUP(5+MIN(20,I278),0),1,1,\"Caster Tables\")))),0)","v":0},{"$f":"IF(J278>0,J278*IF(J265>J269,MIN(J265,J263/J278),CELL(\"contents\",INDIRECT(ADDRESS(43+J21,ROUNDUP(5+MIN(20,J278),0),1,1,\"Caster Tables\")))),0)","v":0},{"$f":"IF(K278>0,K278*IF(K265>K269,MIN(K265,K263/K278),CELL(\"contents\",INDIRECT(ADDRESS(43+K21,ROUNDUP(5+MIN(20,K278),0),1,1,\"Caster Tables\")))),0)","v":0},{"$f":"IF(L278>0,L278*IF(L265>L269,MIN(L265,L263/L278),CELL(\"contents\",INDIRECT(ADDRESS(43+L21,ROUNDUP(5+MIN(20,L278),0),1,1,\"Caster Tables\")))),0)","v":0},{"$f":"IF(M278>0,M278*IF(M265>M269,MIN(M265,M263/M278),CELL(\"contents\",INDIRECT(ADDRESS(43+M21,ROUNDUP(5+MIN(20,M278),0),1,1,\"Caster Tables\")))),0)","v":0},{"$f":"IF(N278>0,N278*IF(N265>N269,MIN(N265,N263/N278),CELL(\"contents\",INDIRECT(ADDRESS(43+N21,ROUNDUP(5+MIN(20,N278),0),1,1,\"Caster Tables\")))),0)","v":0},{"$f":"IF(O278>0,O278*IF(O265>O269,MIN(O265,O263/O278),CELL(\"contents\",INDIRECT(ADDRESS(43+O21,ROUNDUP(5+MIN(20,O278),0),1,1,\"Caster Tables\")))),0)","v":0},{"$f":"IF(P278>0,P278*IF(P265>P269,MIN(P265,P263/P278),CELL(\"contents\",INDIRECT(ADDRESS(43+P21,ROUNDUP(5+MIN(20,P278),0),1,1,\"Caster Tables\")))),0)","v":0},{"$f":"IF(Q278>0,Q278*IF(Q265>Q269,MIN(Q265,Q263/Q278),CELL(\"contents\",INDIRECT(ADDRESS(43+Q21,ROUNDUP(5+MIN(20,Q278),0),1,1,\"Caster Tables\")))),0)","v":0},{"$f":"IF(R278>0,R278*IF(R265>R269,MIN(R265,R263/R278),CELL(\"contents\",INDIRECT(ADDRESS(43+R21,ROUNDUP(5+MIN(20,R278),0),1,1,\"Caster Tables\")))),0)","v":0},{"$f":"IF(S278>0,S278*IF(S265>S269,MIN(S265,S263/S278),CELL(\"contents\",INDIRECT(ADDRESS(43+S21,ROUNDUP(5+MIN(20,S278),0),1,1,\"Caster Tables\")))),0)","v":0},{"$f":"IF(T278>0,T278*IF(T265>T269,MIN(T265,T263/T278),CELL(\"contents\",INDIRECT(ADDRESS(43+T21,ROUNDUP(5+MIN(20,T278),0),1,1,\"Caster Tables\")))),0)","v":0},{"$f":"IF(U278>0,U278*IF(U265>U269,MIN(U265,U263/U278),CELL(\"contents\",INDIRECT(ADDRESS(43+U21,ROUNDUP(5+MIN(20,U278),0),1,1,\"Caster Tables\")))),0)","v":0},{"$f":"IF(V278>0,V278*IF(V265>V269,MIN(V265,V263/V278),CELL(\"contents\",INDIRECT(ADDRESS(43+V21,ROUNDUP(5+MIN(20,V278),0),1,1,\"Caster Tables\")))),0)","v":0},{"$f":"IF(W278>0,W278*IF(W265>W269,MIN(W265,W263/W278),CELL(\"contents\",INDIRECT(ADDRESS(43+W21,ROUNDUP(5+MIN(20,W278),0),1,1,\"Caster Tables\")))),0)","v":0},{"$f":"IF(X278>0,X278*IF(X265>X269,MIN(X265,X263/X278),CELL(\"contents\",INDIRECT(ADDRESS(43+X21,ROUNDUP(5+MIN(20,X278),0),1,1,\"Caster Tables\")))),0)","v":0}]
[{"$nulls":3},"total actual spell slot levels used",{"$f":"2*E226+1*E228+1*E229+3*E230+1*E231+5*E238+2*E239+5*E240+3*E243+4*E241+E279+6*E244+E233+5*E235+4*E236+7*E237+E222+E224+2*E225+E1087+4*E242","v":0},0,0,0,0,0,0,0,0,0,0,0,0,0,0,0,0,0,0,0]
[{"$nulls":3},"total remaining spell slot levels",{"$f":"MAX(0,E271-E280)","v":0},{"$f":"MAX(0,F271-F280)","v":0},0,0,0,0,0,0,0,0,0,0,0,0,0,0,0,0,0,0,null,"(can go negative if warlock slots are not respected)"]
[{"$nulls":3},"total remaining spell slots (not combined levels)",{"$f":"MAX(0,E272-E277)","v":0},{"$f":"MAX(0,F272-F277)","v":0},0,0,{"$f":"MAX(0,I272-I277)","v":0},0,0,{"$f":"MAX(0,L272-L277)","v":0},0,0,0,0,0,0,0,0,0,0,0,0,null," total number of smites not to exceed remaining number of spell slots"]
[{"$nulls":3},"total buff rounds (free spell casts)",{"$f":"'Base Numbers'!$C$8*'Base Numbers'!$C$5","v":1.2},{"$f":"'Base Numbers'!$C$8*'Base Numbers'!$C$5","v":1.2},{"$f":"'Base Numbers'!$C$8*'Base Numbers'!$C$5","v":1.2},{"$f":"'Base Numbers'!$C$8*'Base Numbers'!$C$5","v":1.2},{"$f":"'Base Numbers'!$C$8*'Base Numbers'!$C$5","v":1.2},{"$f":"'Base Numbers'!$C$8*'Base Numbers'!$C$5","v":1.2},{"$f":"'Base Numbers'!$C$8*'Base Numbers'!$C$5","v":1.2},{"$f":"'Base Numbers'!$C$8*'Base Numbers'!$C$5","v":1.2},{"$f":"'Base Numbers'!$C$8*'Base Numbers'!$C$5","v":1.2},{"$f":"'Base Numbers'!$C$8*'Base Numbers'!$C$5","v":1.2},{"$f":"'Base Numbers'!$C$8*'Base Numbers'!$C$5","v":1.2},{"$f":"'Base Numbers'!$C$8*'Base Numbers'!$C$5","v":1.2},{"$f":"'Base Numbers'!$C$8*'Base Numbers'!$C$5","v":1.2},{"$f":"'Base Numbers'!$C$8*'Base Numbers'!$C$5","v":1.2},{"$f":"'Base Numbers'!$C$8*'Base Numbers'!$C$5","v":1.2},{"$f":"'Base Numbers'!$C$8*'Base Numbers'!$C$5","v":1.2},{"$f":"'Base Numbers'!$C$8*'Base Numbers'!$C$5","v":1.2},{"$f":"'Base Numbers'!$C$8*'Base Numbers'!$C$5","v":1.2},{"$f":"'Base Numbers'!$C$8*'Base Numbers'!$C$5","v":1.2},{"$f":"'Base Numbers'!$C$8*'Base Numbers'!$C$5","v":1.2}]
[{"$nulls":3},"total actions used on spells",{"$f":"MAX(0,E243+E240+E239+E232+E230+E229+E228+E226+E249+E241+E246+E247+E245+E244+E233+E235+E237+E222-E283+E1172+E252+E253+E254+E255+E256+E257+E224+E225+E223+E242+E964/2)","v":0},0,0,0,0,0,0,0,0,0,0,0,0,0,0,0,0,0,0,0]
[{"$nulls":3},"total actions for action-effect spells",{"$f":"E222+E235+E249+E223","v":0},0,0,0,0,0,0,0,0,0,0,0,0,0,0,0,0,0,0,0]
[{"$nulls":3},"total bonus actions spent on spells",{"$f":"MAX(0,E895+E238+E1155+E231+E897+E227+E989+E236+E180+E234+E1129+E1149*'Base Numbers'!$C$5-E283)","v":0},{"$f":"MAX(0,F895+F238+F1155+F231+F897+F227+F989+F236+F180+F234+F1129+F1149*'Base Numbers'!$C$5-F283)","v":0},{"$f":"MAX(0,G895+G238+G1155+G231+G897+G227+G989+G236+G180+G234+G1129+G1149*'Base Numbers'!$C$5-G283)","v":0},{"$f":"MAX(0,H895+H238+H1155+H231+H897+H227+H989+H236+H180+H234+H1129+H1149*'Base Numbers'!$C$5-H283)","v":0},{"$f":"MAX(0,I895+I238+I1155+I231+I897+I227+I989+I236+I180+I234+I1129+I1149*'Base Numbers'!$C$5-I283)","v":0},{"$f":"MAX(0,J895+J238+J1155+J231+J897+J227+J989+J236+J180+J234+J1129+J1149*'Base Numbers'!$C$5-J283)","v":0},{"$f":"MAX(0,K895+K238+K1155+K231+K897+K227+K989+K236+K180+K234+K1129+K1149*'Base Numbers'!$C$5-K283)","v":0},{"$f":"MAX(0,L895+L238+L1155+L231+L897+L227+L989+L236+L180+L234+L1129+L1149*'Base Numbers'!$C$5-L283)","v":0},{"$f":"MAX(0,M895+M238+M1155+M231+M897+M227+M989+M236+M180+M234+M1129+M1149*'Base Numbers'!$C$5-M283)","v":0},{"$f":"MAX(0,N895+N238+N1155+N231+N897+N227+N989+N236+N180+N234+N1129+N1149*'Base Numbers'!$C$5-N283)","v":0},{"$f":"MAX(0,O895+O238+O1155+O231+O897+O227+O989+O236+O180+O234+O1129+O1149*'Base Numbers'!$C$5-O283)","v":0},{"$f":"MAX(0,P895+P238+P1155+P231+P897+P227+P989+P236+P180+P234+P1129+P1149*'Base Numbers'!$C$5-P283)","v":0},{"$f":"MAX(0,Q895+Q238+Q1155+Q231+Q897+Q227+Q989+Q236+Q180+Q234+Q1129+Q1149*'Base Numbers'!$C$5-Q283)","v":0},{"$f":"MAX(0,R895+R238+R1155+R231+R897+R227+R989+R236+R180+R234+R1129+R1149*'Base Numbers'!$C$5-R283)","v":0},{"$f":"MAX(0,S895+S238+S1155+S231+S897+S227+S989+S236+S180+S234+S1129+S1149*'Base Numbers'!$C$5-S283)","v":0},{"$f":"MAX(0,T895+T238+T1155+T231+T897+T227+T989+T236+T180+T234+T1129+T1149*'Base Numbers'!$C$5-T283)","v":0},{"$f":"MAX(0,U895+U238+U1155+U231+U897+U227+U989+U236+U180+U234+U1129+U1149*'Base Numbers'!$C$5-U283)","v":0},{"$f":"MAX(0,V895+V238+V1155+V231+V897+V227+V989+V236+V180+V234+V1129+V1149*'Base Numbers'!$C$5-V283)","v":0},{"$f":"MAX(0,W895+W238+W1155+W231+W897+W227+W989+W236+W180+W234+W1129+W1149*'Base Numbers'!$C$5-W283)","v":0},{"$f":"MAX(0,X895+X238+X1155+X231+X897+X227+X989+X236+X180+X234+X1129+X1149*'Base Numbers'!$C$5-X283)","v":0}]
[{"$nulls":3},"pct main actions used on spells",{"$f":"MIN(1,E284/('Base Numbers'!$C$5*'Base Numbers'!$C$6))","v":0},{"$f":"MIN(1,F284/('Base Numbers'!$C$5*'Base Numbers'!$C$6))","v":0},{"$f":"MIN(1,G284/('Base Numbers'!$C$5*'Base Numbers'!$C$6))","v":0},{"$f":"MIN(1,H284/('Base Numbers'!$C$5*'Base Numbers'!$C$6))","v":0},{"$f":"MIN(1,I284/('Base Numbers'!$C$5*'Base Numbers'!$C$6))","v":0},{"$f":"MIN(1,J284/('Base Numbers'!$C$5*'Base Numbers'!$C$6))","v":0},{"$f":"MIN(1,K284/('Base Numbers'!$C$5*'Base Numbers'!$C$6))","v":0},{"$f":"MIN(1,L284/('Base Numbers'!$C$5*'Base Numbers'!$C$6))","v":0},{"$f":"MIN(1,M284/('Base Numbers'!$C$5*'Base Numbers'!$C$6))","v":0},{"$f":"MIN(1,N284/('Base Numbers'!$C$5*'Base Numbers'!$C$6))","v":0},{"$f":"MIN(1,O284/('Base Numbers'!$C$5*'Base Numbers'!$C$6))","v":0},{"$f":"MIN(1,P284/('Base Numbers'!$C$5*'Base Numbers'!$C$6))","v":0},{"$f":"MIN(1,Q284/('Base Numbers'!$C$5*'Base Numbers'!$C$6))","v":0},{"$f":"MIN(1,R284/('Base Numbers'!$C$5*'Base Numbers'!$C$6))","v":0},{"$f":"MIN(1,S284/('Base Numbers'!$C$5*'Base Numbers'!$C$6))","v":0},{"$f":"MIN(1,T284/('Base Numbers'!$C$5*'Base Numbers'!$C$6))","v":0},{"$f":"MIN(1,U284/('Base Numbers'!$C$5*'Base Numbers'!$C$6))","v":0},{"$f":"MIN(1,V284/('Base Numbers'!$C$5*'Base Numbers'!$C$6))","v":0},{"$f":"MIN(1,W284/('Base Numbers'!$C$5*'Base Numbers'!$C$6))","v":0},{"$f":"MIN(1,X284/('Base Numbers'!$C$5*'Base Numbers'!$C$6))","v":0}]
[{"$nulls":3},"pct bonus actions used on spells",{"$f":"MIN(1,E286/('Base Numbers'!$C$5*'Base Numbers'!$C$6))","v":0},{"$f":"MIN(1,F286/('Base Numbers'!$C$5*'Base Numbers'!$C$6))","v":0},{"$f":"MIN(1,G286/('Base Numbers'!$C$5*'Base Numbers'!$C$6))","v":0},{"$f":"MIN(1,H286/('Base Numbers'!$C$5*'Base Numbers'!$C$6))","v":0},{"$f":"MIN(1,I286/('Base Numbers'!$C$5*'Base Numbers'!$C$6))","v":0},{"$f":"MIN(1,J286/('Base Numbers'!$C$5*'Base Numbers'!$C$6))","v":0},{"$f":"MIN(1,K286/('Base Numbers'!$C$5*'Base Numbers'!$C$6))","v":0},{"$f":"MIN(1,L286/('Base Numbers'!$C$5*'Base Numbers'!$C$6))","v":0},{"$f":"MIN(1,M286/('Base Numbers'!$C$5*'Base Numbers'!$C$6))","v":0},{"$f":"MIN(1,N286/('Base Numbers'!$C$5*'Base Numbers'!$C$6))","v":0},{"$f":"MIN(1,O286/('Base Numbers'!$C$5*'Base Numbers'!$C$6))","v":0},{"$f":"MIN(1,P286/('Base Numbers'!$C$5*'Base Numbers'!$C$6))","v":0},{"$f":"MIN(1,Q286/('Base Numbers'!$C$5*'Base Numbers'!$C$6))","v":0},{"$f":"MIN(1,R286/('Base Numbers'!$C$5*'Base Numbers'!$C$6))","v":0},{"$f":"MIN(1,S286/('Base Numbers'!$C$5*'Base Numbers'!$C$6))","v":0},{"$f":"MIN(1,T286/('Base Numbers'!$C$5*'Base Numbers'!$C$6))","v":0},{"$f":"MIN(1,U286/('Base Numbers'!$C$5*'Base Numbers'!$C$6))","v":0},{"$f":"MIN(1,V286/('Base Numbers'!$C$5*'Base Numbers'!$C$6))","v":0},{"$f":"MIN(1,W286/('Base Numbers'!$C$5*'Base Numbers'!$C$6))","v":0},{"$f":"MIN(1,X286/('Base Numbers'!$C$5*'Base Numbers'!$C$6))","v":0},null,"check all these for bonus action calculations"]
[{"$nulls":3},"pct bonus actions remaining for directed spell attacks",{"$f":"MAX(0,1-E288)","v":1},{"$f":"MAX(0,1-F288)","v":1},1,1,1,1,1,1,1,1,1,1,1,1,1,1,1,1,1,1]
[{"$nulls":3},"total attempted directed bonus action spell attacks",{"$f":"E691+E714+E721+E734+E742+E1178+E1085","v":0},0,0,0,0,0,0,0,0,0,0,0,0,0,0,0,0,0,0,0]
[{"$nulls":3},"directed bonus spell attack pct reduction",{"$f":"IF(E290>0,MIN(1,(E289*'Base Numbers'!$C$5*'Base Numbers'!$C$6)/E290),1)","v":1},{"$f":"IF(F290>0,MIN(1,(F289*'Base Numbers'!$C$5*'Base Numbers'!$C$6)/F290),1)","v":1},{"$f":"IF(G290>0,MIN(1,(G289*'Base Numbers'!$C$5*'Base Numbers'!$C$6)/G290),1)","v":1},{"$f":"IF(H290>0,MIN(1,(H289*'Base Numbers'!$C$5*'Base Numbers'!$C$6)/H290),1)","v":1},{"$f":"IF(I290>0,MIN(1,(I289*'Base Numbers'!$C$5*'Base Numbers'!$C$6)/I290),1)","v":1},{"$f":"IF(J290>0,MIN(1,(J289*'Base Numbers'!$C$5*'Base Numbers'!$C$6)/J290),1)","v":1},{"$f":"IF(K290>0,MIN(1,(K289*'Base Numbers'!$C$5*'Base Numbers'!$C$6)/K290),1)","v":1},{"$f":"IF(L290>0,MIN(1,(L289*'Base Numbers'!$C$5*'Base Numbers'!$C$6)/L290),1)","v":1},{"$f":"IF(M290>0,MIN(1,(M289*'Base Numbers'!$C$5*'Base Numbers'!$C$6)/M290),1)","v":1},{"$f":"IF(N290>0,MIN(1,(N289*'Base Numbers'!$C$5*'Base Numbers'!$C$6)/N290),1)","v":1},{"$f":"IF(O290>0,MIN(1,(O289*'Base Numbers'!$C$5*'Base Numbers'!$C$6)/O290),1)","v":1},{"$f":"IF(P290>0,MIN(1,(P289*'Base Numbers'!$C$5*'Base Numbers'!$C$6)/P290),1)","v":1},{"$f":"IF(Q290>0,MIN(1,(Q289*'Base Numbers'!$C$5*'Base Numbers'!$C$6)/Q290),1)","v":1},{"$f":"IF(R290>0,MIN(1,(R289*'Base Numbers'!$C$5*'Base Numbers'!$C$6)/R290),1)","v":1},{"$f":"IF(S290>0,MIN(1,(S289*'Base Numbers'!$C$5*'Base Numbers'!$C$6)/S290),1)","v":1},{"$f":"IF(T290>0,MIN(1,(T289*'Base Numbers'!$C$5*'Base Numbers'!$C$6)/T290),1)","v":1},{"$f":"IF(U290>0,MIN(1,(U289*'Base Numbers'!$C$5*'Base Numbers'!$C$6)/U290),1)","v":1},{"$f":"IF(V290>0,MIN(1,(V289*'Base Numbers'!$C$5*'Base Numbers'!$C$6)/V290),1)","v":1},{"$f":"IF(W290>0,MIN(1,(W289*'Base Numbers'!$C$5*'Base Numbers'!$C$6)/W290),1)","v":1},{"$f":"IF(X290>0,MIN(1,(X289*'Base Numbers'!$C$5*'Base Numbers'!$C$6)/X290),1)","v":1}]
[{"$nulls":3},"pct bonus actions directing (Sp. Weap, Bigby's, An Obj, Flaming Sphere, Crown of Stars, Druid of Stars)",{"$f":"E695+E725+E736/2+E715+E744+E1179","v":0},0,0,0,0,0,0,0,0,0,0,0,0,0,0,0,0,0,0,0,null,"* this discounts anmate objects since an action is only required to switch targets"]
[{"$nulls":3},"pct directed bonus actions counting as bonus attacks (sp weap, bigby's, crown of stars, druid of stars)",{"$f":"E695+E725+E744+E1179","v":0},0,0,0,0,0,0,0,0,0,0,0,0,0,0,0,0,0,0,0,null,"* this is possibly useful in the future for computing number of attacks per round, "]
[{"$nulls":25},"       for the rare cases that care about spell attacks "]
[{"$nulls":3},"CONCENTRATION"]
[{"$nulls":3},"has CON save Proficiency (Resilient CON, Class Start, Monk L14)",{"$f":"IF(OR(AND($B$16>=1,E6>=$B$16),$E$10=1,$E$13=1,$E$19=1,$E$8=1,E18>=14),1,0)","v":0},0,0,0,0,0,0,0,0,0,0,0,0,0,0,0,0,0,0,0]
[{"$nulls":3},"has Warcaster / Eldritch Mind invocation (warlock L2)",{"$f":"IF(OR(E23>=1,E12>=2),1,0)","v":0},0,0,0,0,0,0,0,0,0,0,0,0,0,0,0,0,0,0,0]
[{"$nulls":3},"fights from Range",{"$f":"IF(AND(E138=0,OR(E137,E136)),1,0)","v":0},0,0,0,0,0,0,0,0,0,0,0,0,0,0,0,0,0,0,0]
[{"$nulls":3},"defensive spell bonus (multiplicative)",0.25,0.25,0.25,0.25,0.25,0.25,0.25,0.25,0.25,0.25,0.25,0.25,0.25,0.25,0.25,0.25,0.25,0.25,0.25,0.25]
[{"$nulls":3},"total single round conc loss prob",{"$f":"0.5*IF(E296,0.6,1)*IF(E297,0.6,1)*IF(E298,0.6,1)*IF(E1149>0,1-0.3*E1149,1)","v":0.5},0.5,0.5,0.5,0.5,0.5,0.5,0.5,0.5,0.5,0.5,0.5,0.5,0.5,0.5,0.5,0.5,0.5,0.5,0.5]
[{"$nulls":3},"total single round conc loss prob, defensive spells",{"$f":"E300*(1-E299)","v":0.375},{"$f":"F300*(1-F299)","v":0.375},0.375,0.375,0.375,0.375,0.375,0.375,0.375,0.375,0.375,0.375,0.375,0.375,0.375,0.375,0.375,0.375,0.375,0.375]
[{"$nulls":3},"concentration duration",{"$f":"CELL(\"contents\",INDIRECT(ADDRESS(7+(E6-1)*10,3+ROUNDUP('Base Numbers'!$C$6,0),1,1,\"Concentration Tables\")))","v":0.9375},{"$f":"CELL(\"contents\",INDIRECT(ADDRESS(7+(F6-1)*10,3+ROUNDUP('Base Numbers'!$C$6,0),1,1,\"Concentration Tables\")))","v":0.9375},{"$f":"CELL(\"contents\",INDIRECT(ADDRESS(7+(G6-1)*10,3+ROUNDUP('Base Numbers'!$C$6,0),1,1,\"Concentration Tables\")))","v":0.9375},{"$f":"CELL(\"contents\",INDIRECT(ADDRESS(7+(H6-1)*10,3+ROUNDUP('Base Numbers'!$C$6,0),1,1,\"Concentration Tables\")))","v":0.9375},{"$f":"CELL(\"contents\",INDIRECT(ADDRESS(7+(I6-1)*10,3+ROUNDUP('Base Numbers'!$C$6,0),1,1,\"Concentration Tables\")))","v":0.9375},{"$f":"CELL(\"contents\",INDIRECT(ADDRESS(7+(J6-1)*10,3+ROUNDUP('Base Numbers'!$C$6,0),1,1,\"Concentration Tables\")))","v":0.9375},{"$f":"CELL(\"contents\",INDIRECT(ADDRESS(7+(K6-1)*10,3+ROUNDUP('Base Numbers'!$C$6,0),1,1,\"Concentration Tables\")))","v":0.9375},{"$f":"CELL(\"contents\",INDIRECT(ADDRESS(7+(L6-1)*10,3+ROUNDUP('Base Numbers'!$C$6,0),1,1,\"Concentration Tables\")))","v":0.9375},{"$f":"CELL(\"contents\",INDIRECT(ADDRESS(7+(M6-1)*10,3+ROUNDUP('Base Numbers'!$C$6,0),1,1,\"Concentration Tables\")))","v":0.9375},{"$f":"CELL(\"contents\",INDIRECT(ADDRESS(7+(N6-1)*10,3+ROUNDUP('Base Numbers'!$C$6,0),1,1,\"Concentration Tables\")))","v":0.9375},{"$f":"CELL(\"contents\",INDIRECT(ADDRESS(7+(O6-1)*10,3+ROUNDUP('Base Numbers'!$C$6,0),1,1,\"Concentration Tables\")))","v":0.9375},{"$f":"CELL(\"contents\",INDIRECT(ADDRESS(7+(P6-1)*10,3+ROUNDUP('Base Numbers'!$C$6,0),1,1,\"Concentration Tables\")))","v":0.9375},{"$f":"CELL(\"contents\",INDIRECT(ADDRESS(7+(Q6-1)*10,3+ROUNDUP('Base Numbers'!$C$6,0),1,1,\"Concentration Tables\")))","v":0.9375},{"$f":"CELL(\"contents\",INDIRECT(ADDRESS(7+(R6-1)*10,3+ROUNDUP('Base Numbers'!$C$6,0),1,1,\"Concentration Tables\")))","v":0.9375},{"$f":"CELL(\"contents\",INDIRECT(ADDRESS(7+(S6-1)*10,3+ROUNDUP('Base Numbers'!$C$6,0),1,1,\"Concentration Tables\")))","v":0.9375},{"$f":"CELL(\"contents\",INDIRECT(ADDRESS(7+(T6-1)*10,3+ROUNDUP('Base Numbers'!$C$6,0),1,1,\"Concentration Tables\")))","v":0.9375},{"$f":"CELL(\"contents\",INDIRECT(ADDRESS(7+(U6-1)*10,3+ROUNDUP('Base Numbers'!$C$6,0),1,1,\"Concentration Tables\")))","v":0.9375},{"$f":"CELL(\"contents\",INDIRECT(ADDRESS(7+(V6-1)*10,3+ROUNDUP('Base Numbers'!$C$6,0),1,1,\"Concentration Tables\")))","v":0.9375},{"$f":"CELL(\"contents\",INDIRECT(ADDRESS(7+(W6-1)*10,3+ROUNDUP('Base Numbers'!$C$6,0),1,1,\"Concentration Tables\")))","v":0.9375},{"$f":"CELL(\"contents\",INDIRECT(ADDRESS(7+(X6-1)*10,3+ROUNDUP('Base Numbers'!$C$6,0),1,1,\"Concentration Tables\")))","v":0.9375}]
[{"$nulls":3},"concentration duration, defensive spells",{"$f":"CELL(\"contents\",INDIRECT(ADDRESS(11+(E6-1)*10,3+ROUNDUP('Base Numbers'!$C$6,0),1,1,\"Concentration Tables\")))","v":1.412353515625},{"$f":"CELL(\"contents\",INDIRECT(ADDRESS(11+(F6-1)*10,3+ROUNDUP('Base Numbers'!$C$6,0),1,1,\"Concentration Tables\")))","v":1.412353515625},{"$f":"CELL(\"contents\",INDIRECT(ADDRESS(11+(G6-1)*10,3+ROUNDUP('Base Numbers'!$C$6,0),1,1,\"Concentration Tables\")))","v":1.412353515625},{"$f":"CELL(\"contents\",INDIRECT(ADDRESS(11+(H6-1)*10,3+ROUNDUP('Base Numbers'!$C$6,0),1,1,\"Concentration Tables\")))","v":1.412353515625},{"$f":"CELL(\"contents\",INDIRECT(ADDRESS(11+(I6-1)*10,3+ROUNDUP('Base Numbers'!$C$6,0),1,1,\"Concentration Tables\")))","v":1.412353515625},{"$f":"CELL(\"contents\",INDIRECT(ADDRESS(11+(J6-1)*10,3+ROUNDUP('Base Numbers'!$C$6,0),1,1,\"Concentration Tables\")))","v":1.412353515625},{"$f":"CELL(\"contents\",INDIRECT(ADDRESS(11+(K6-1)*10,3+ROUNDUP('Base Numbers'!$C$6,0),1,1,\"Concentration Tables\")))","v":1.412353515625},{"$f":"CELL(\"contents\",INDIRECT(ADDRESS(11+(L6-1)*10,3+ROUNDUP('Base Numbers'!$C$6,0),1,1,\"Concentration Tables\")))","v":1.412353515625},{"$f":"CELL(\"contents\",INDIRECT(ADDRESS(11+(M6-1)*10,3+ROUNDUP('Base Numbers'!$C$6,0),1,1,\"Concentration Tables\")))","v":1.412353515625},{"$f":"CELL(\"contents\",INDIRECT(ADDRESS(11+(N6-1)*10,3+ROUNDUP('Base Numbers'!$C$6,0),1,1,\"Concentration Tables\")))","v":1.412353515625},{"$f":"CELL(\"contents\",INDIRECT(ADDRESS(11+(O6-1)*10,3+ROUNDUP('Base Numbers'!$C$6,0),1,1,\"Concentration Tables\")))","v":1.412353515625},{"$f":"CELL(\"contents\",INDIRECT(ADDRESS(11+(P6-1)*10,3+ROUNDUP('Base Numbers'!$C$6,0),1,1,\"Concentration Tables\")))","v":1.412353515625},{"$f":"CELL(\"contents\",INDIRECT(ADDRESS(11+(Q6-1)*10,3+ROUNDUP('Base Numbers'!$C$6,0),1,1,\"Concentration Tables\")))","v":1.412353515625},{"$f":"CELL(\"contents\",INDIRECT(ADDRESS(11+(R6-1)*10,3+ROUNDUP('Base Numbers'!$C$6,0),1,1,\"Concentration Tables\")))","v":1.412353515625},{"$f":"CELL(\"contents\",INDIRECT(ADDRESS(11+(S6-1)*10,3+ROUNDUP('Base Numbers'!$C$6,0),1,1,\"Concentration Tables\")))","v":1.412353515625},{"$f":"CELL(\"contents\",INDIRECT(ADDRESS(11+(T6-1)*10,3+ROUNDUP('Base Numbers'!$C$6,0),1,1,\"Concentration Tables\")))","v":1.412353515625},{"$f":"CELL(\"contents\",INDIRECT(ADDRESS(11+(U6-1)*10,3+ROUNDUP('Base Numbers'!$C$6,0),1,1,\"Concentration Tables\")))","v":1.412353515625},{"$f":"CELL(\"contents\",INDIRECT(ADDRESS(11+(V6-1)*10,3+ROUNDUP('Base Numbers'!$C$6,0),1,1,\"Concentration Tables\")))","v":1.412353515625},{"$f":"CELL(\"contents\",INDIRECT(ADDRESS(11+(W6-1)*10,3+ROUNDUP('Base Numbers'!$C$6,0),1,1,\"Concentration Tables\")))","v":1.412353515625},{"$f":"CELL(\"contents\",INDIRECT(ADDRESS(11+(X6-1)*10,3+ROUNDUP('Base Numbers'!$C$6,0),1,1,\"Concentration Tables\")))","v":1.412353515625}]
[{"$nulls":3},"concentration duration, 1-hour summon spells",{"$f":"CELL(\"contents\",INDIRECT(ADDRESS(11+(E6-1)*10,3+MIN(10,ROUNDUP(2*'Base Numbers'!$C$6,0)),1,1,\"Concentration Tables\")))","v":1.6278615593910217},{"$f":"CELL(\"contents\",INDIRECT(ADDRESS(11+(F6-1)*10,3+MIN(10,ROUNDUP(2*'Base Numbers'!$C$6,0)),1,1,\"Concentration Tables\")))","v":1.6278615593910217},{"$f":"CELL(\"contents\",INDIRECT(ADDRESS(11+(G6-1)*10,3+MIN(10,ROUNDUP(2*'Base Numbers'!$C$6,0)),1,1,\"Concentration Tables\")))","v":1.6278615593910217},{"$f":"CELL(\"contents\",INDIRECT(ADDRESS(11+(H6-1)*10,3+MIN(10,ROUNDUP(2*'Base Numbers'!$C$6,0)),1,1,\"Concentration Tables\")))","v":1.6278615593910217},{"$f":"CELL(\"contents\",INDIRECT(ADDRESS(11+(I6-1)*10,3+MIN(10,ROUNDUP(2*'Base Numbers'!$C$6,0)),1,1,\"Concentration Tables\")))","v":1.6278615593910217},{"$f":"CELL(\"contents\",INDIRECT(ADDRESS(11+(J6-1)*10,3+MIN(10,ROUNDUP(2*'Base Numbers'!$C$6,0)),1,1,\"Concentration Tables\")))","v":1.6278615593910217},{"$f":"CELL(\"contents\",INDIRECT(ADDRESS(11+(K6-1)*10,3+MIN(10,ROUNDUP(2*'Base Numbers'!$C$6,0)),1,1,\"Concentration Tables\")))","v":1.6278615593910217},{"$f":"CELL(\"contents\",INDIRECT(ADDRESS(11+(L6-1)*10,3+MIN(10,ROUNDUP(2*'Base Numbers'!$C$6,0)),1,1,\"Concentration Tables\")))","v":1.6278615593910217},{"$f":"CELL(\"contents\",INDIRECT(ADDRESS(11+(M6-1)*10,3+MIN(10,ROUNDUP(2*'Base Numbers'!$C$6,0)),1,1,\"Concentration Tables\")))","v":1.6278615593910217},{"$f":"CELL(\"contents\",INDIRECT(ADDRESS(11+(N6-1)*10,3+MIN(10,ROUNDUP(2*'Base Numbers'!$C$6,0)),1,1,\"Concentration Tables\")))","v":1.6278615593910217},{"$f":"CELL(\"contents\",INDIRECT(ADDRESS(11+(O6-1)*10,3+MIN(10,ROUNDUP(2*'Base Numbers'!$C$6,0)),1,1,\"Concentration Tables\")))","v":1.6278615593910217},{"$f":"CELL(\"contents\",INDIRECT(ADDRESS(11+(P6-1)*10,3+MIN(10,ROUNDUP(2*'Base Numbers'!$C$6,0)),1,1,\"Concentration Tables\")))","v":1.6278615593910217},{"$f":"CELL(\"contents\",INDIRECT(ADDRESS(11+(Q6-1)*10,3+MIN(10,ROUNDUP(2*'Base Numbers'!$C$6,0)),1,1,\"Concentration Tables\")))","v":1.6278615593910217},{"$f":"CELL(\"contents\",INDIRECT(ADDRESS(11+(R6-1)*10,3+MIN(10,ROUNDUP(2*'Base Numbers'!$C$6,0)),1,1,\"Concentration Tables\")))","v":1.6278615593910217},{"$f":"CELL(\"contents\",INDIRECT(ADDRESS(11+(S6-1)*10,3+MIN(10,ROUNDUP(2*'Base Numbers'!$C$6,0)),1,1,\"Concentration Tables\")))","v":1.6278615593910217},{"$f":"CELL(\"contents\",INDIRECT(ADDRESS(11+(T6-1)*10,3+MIN(10,ROUNDUP(2*'Base Numbers'!$C$6,0)),1,1,\"Concentration Tables\")))","v":1.6278615593910217},{"$f":"CELL(\"contents\",INDIRECT(ADDRESS(11+(U6-1)*10,3+MIN(10,ROUNDUP(2*'Base Numbers'!$C$6,0)),1,1,\"Concentration Tables\")))","v":1.6278615593910217},{"$f":"CELL(\"contents\",INDIRECT(ADDRESS(11+(V6-1)*10,3+MIN(10,ROUNDUP(2*'Base Numbers'!$C$6,0)),1,1,\"Concentration Tables\")))","v":1.6278615593910217},{"$f":"CELL(\"contents\",INDIRECT(ADDRESS(11+(W6-1)*10,3+MIN(10,ROUNDUP(2*'Base Numbers'!$C$6,0)),1,1,\"Concentration Tables\")))","v":1.6278615593910217},{"$f":"CELL(\"contents\",INDIRECT(ADDRESS(11+(X6-1)*10,3+MIN(10,ROUNDUP(2*'Base Numbers'!$C$6,0)),1,1,\"Concentration Tables\")))","v":1.6278615593910217},null,"* these have a max duration of 2 fights"]
[{"$nulls":3},"action surge conc bonus",{"$f":"E1103/('Base Numbers'!$C$5*'Base Numbers'!$C$6)","v":0},{"$f":"F1103/('Base Numbers'!$C$5*'Base Numbers'!$C$6)","v":0},{"$f":"G1103/('Base Numbers'!$C$5*'Base Numbers'!$C$6)","v":0},{"$f":"H1103/('Base Numbers'!$C$5*'Base Numbers'!$C$6)","v":0},{"$f":"I1103/('Base Numbers'!$C$5*'Base Numbers'!$C$6)","v":0},{"$f":"J1103/('Base Numbers'!$C$5*'Base Numbers'!$C$6)","v":0},{"$f":"K1103/('Base Numbers'!$C$5*'Base Numbers'!$C$6)","v":0},{"$f":"L1103/('Base Numbers'!$C$5*'Base Numbers'!$C$6)","v":0},{"$f":"M1103/('Base Numbers'!$C$5*'Base Numbers'!$C$6)","v":0},{"$f":"N1103/('Base Numbers'!$C$5*'Base Numbers'!$C$6)","v":0},{"$f":"O1103/('Base Numbers'!$C$5*'Base Numbers'!$C$6)","v":0},{"$f":"P1103/('Base Numbers'!$C$5*'Base Numbers'!$C$6)","v":0},{"$f":"Q1103/('Base Numbers'!$C$5*'Base Numbers'!$C$6)","v":0},{"$f":"R1103/('Base Numbers'!$C$5*'Base Numbers'!$C$6)","v":0},{"$f":"S1103/('Base Numbers'!$C$5*'Base Numbers'!$C$6)","v":0},{"$f":"T1103/('Base Numbers'!$C$5*'Base Numbers'!$C$6)","v":0},{"$f":"U1103/('Base Numbers'!$C$5*'Base Numbers'!$C$6)","v":0},{"$f":"V1103/('Base Numbers'!$C$5*'Base Numbers'!$C$6)","v":0},{"$f":"W1103/('Base Numbers'!$C$5*'Base Numbers'!$C$6)","v":0},{"$f":"X1103/('Base Numbers'!$C$5*'Base Numbers'!$C$6)","v":0}]
[{"$nulls":3},"total concentration duration",{"$f":"E302*(1+E305)","v":0.9375},{"$f":"F302*(1+F305)","v":0.9375},0.9375,0.9375,0.9375,0.9375,0.9375,0.9375,0.9375,0.9375,0.9375,0.9375,0.9375,0.9375,0.9375,0.9375,0.9375,0.9375,0.9375,0.9375]
[{"$nulls":3},"total concentration duration, defensive spells",{"$f":"E303*(1+E305)","v":1.412353515625},{"$f":"F303*(1+F305)","v":1.412353515625},1.412353515625,1.412353515625,1.412353515625,1.412353515625,1.412353515625,1.412353515625,1.412353515625,1.412353515625,1.412353515625,1.412353515625,1.412353515625,1.412353515625,1.412353515625,1.412353515625,1.412353515625,1.412353515625,1.412353515625,1.412353515625]
[{"$nulls":3},"total concentration duration, 1-hour summon spells",{"$f":"E304","v":1.6278615593910217},{"$f":"F304","v":1.6278615593910217},1.6278615593910217,1.6278615593910217,1.6278615593910217,1.6278615593910217,1.6278615593910217,1.6278615593910217,1.6278615593910217,1.6278615593910217,1.6278615593910217,1.6278615593910217,1.6278615593910217,1.6278615593910217,1.6278615593910217,1.6278615593910217,1.6278615593910217,1.6278615593910217,1.6278615593910217,1.6278615593910217]
[{"$nulls":3},"total concentration rounds",{"$f":"E258*E306+E259*E307+E308*E260","v":0},0,0,0,0,0,0,0,0,0,0,0,0,0,0,0,0,0,0,0,null,"* this is the limit of number of rounds concenctrating, not including the first round when cast"]
[]
[{"$nulls":3},"WEAPON"]
[{"$nulls":3},"dual wields (if using 1 handed light weapons w/o shield)",{"$f":"IF(AND($B$48=0,OR(AND($B$44>=1,E6>=$B$44),$B$33>=1,$B$32>=1,AND($B$21>=1, E6>=$B$21,$B$34>=1))),1,0)","v":0},0,0,0,0,0,0,0,0,0,0,0,0,0,0,0,0,0,0,0,null,"* should make this default to dual weild if BB damage scenario isn't used"]
[{"$nulls":3},"pct rounds with shadowblade active",{"$f":"MIN(1,((1+E306)*E227)/('Base Numbers'!$C$5*'Base Numbers'!$C$6))","v":0},{"$f":"MIN(1,((1+F306)*F227)/('Base Numbers'!$C$5*'Base Numbers'!$C$6))","v":0},{"$f":"MIN(1,((1+G306)*G227)/('Base Numbers'!$C$5*'Base Numbers'!$C$6))","v":0},{"$f":"MIN(1,((1+H306)*H227)/('Base Numbers'!$C$5*'Base Numbers'!$C$6))","v":0},{"$f":"MIN(1,((1+I306)*I227)/('Base Numbers'!$C$5*'Base Numbers'!$C$6))","v":0},{"$f":"MIN(1,((1+J306)*J227)/('Base Numbers'!$C$5*'Base Numbers'!$C$6))","v":0},{"$f":"MIN(1,((1+K306)*K227)/('Base Numbers'!$C$5*'Base Numbers'!$C$6))","v":0},{"$f":"MIN(1,((1+L306)*L227)/('Base Numbers'!$C$5*'Base Numbers'!$C$6))","v":0},{"$f":"MIN(1,((1+M306)*M227)/('Base Numbers'!$C$5*'Base Numbers'!$C$6))","v":0},{"$f":"MIN(1,((1+N306)*N227)/('Base Numbers'!$C$5*'Base Numbers'!$C$6))","v":0},{"$f":"MIN(1,((1+O306)*O227)/('Base Numbers'!$C$5*'Base Numbers'!$C$6))","v":0},{"$f":"MIN(1,((1+P306)*P227)/('Base Numbers'!$C$5*'Base Numbers'!$C$6))","v":0},{"$f":"MIN(1,((1+Q306)*Q227)/('Base Numbers'!$C$5*'Base Numbers'!$C$6))","v":0},{"$f":"MIN(1,((1+R306)*R227)/('Base Numbers'!$C$5*'Base Numbers'!$C$6))","v":0},{"$f":"MIN(1,((1+S306)*S227)/('Base Numbers'!$C$5*'Base Numbers'!$C$6))","v":0},{"$f":"MIN(1,((1+T306)*T227)/('Base Numbers'!$C$5*'Base Numbers'!$C$6))","v":0},{"$f":"MIN(1,((1+U306)*U227)/('Base Numbers'!$C$5*'Base Numbers'!$C$6))","v":0},{"$f":"MIN(1,((1+V306)*V227)/('Base Numbers'!$C$5*'Base Numbers'!$C$6))","v":0},{"$f":"MIN(1,((1+W306)*W227)/('Base Numbers'!$C$5*'Base Numbers'!$C$6))","v":0},{"$f":"MIN(1,((1+X306)*X227)/('Base Numbers'!$C$5*'Base Numbers'!$C$6))","v":0},null,"* L6 bladesingers get BB plus a bonus action attack"]
[{"$nulls":3},"base weapon damage die avg damage",{"$f":"MAX(IF($B33,3.5,0),IF($B32,2.5,0),IF($B34,4.5,0),IF($B35,5.5,0),IF($B36,6.5,0),IF($B37,3.5,0),E972)","v":0},0,0,0,0,0,0,0,0,0,0,0,0,0,0,0,0,0,0,0]
[{"$nulls":3},"base weapon damage",{"$f":"MAX(IF($B33,3.5,0),IF($B32,2.5,0),IF($B34,4.5,0),IF($B35,5.5,0),IF($B36,6.5,0),IF($B37,7,0),E972)+'Base Numbers'!$G$8","v":0},{"$f":"MAX(IF($B33,3.5,0),IF($B32,2.5,0),IF($B34,4.5,0),IF($B35,5.5,0),IF($B36,6.5,0),IF($B37,7,0),F972)+'Base Numbers'!$G$8","v":0},{"$f":"MAX(IF($B33,3.5,0),IF($B32,2.5,0),IF($B34,4.5,0),IF($B35,5.5,0),IF($B36,6.5,0),IF($B37,7,0),G972)+'Base Numbers'!$G$8","v":0},{"$f":"MAX(IF($B33,3.5,0),IF($B32,2.5,0),IF($B34,4.5,0),IF($B35,5.5,0),IF($B36,6.5,0),IF($B37,7,0),H972)+'Base Numbers'!$G$8","v":0},{"$f":"MAX(IF($B33,3.5,0),IF($B32,2.5,0),IF($B34,4.5,0),IF($B35,5.5,0),IF($B36,6.5,0),IF($B37,7,0),I972)+'Base Numbers'!$G$8","v":0},{"$f":"MAX(IF($B33,3.5,0),IF($B32,2.5,0),IF($B34,4.5,0),IF($B35,5.5,0),IF($B36,6.5,0),IF($B37,7,0),J972)+'Base Numbers'!$G$8","v":0},{"$f":"MAX(IF($B33,3.5,0),IF($B32,2.5,0),IF($B34,4.5,0),IF($B35,5.5,0),IF($B36,6.5,0),IF($B37,7,0),K972)+'Base Numbers'!$G$8","v":0},{"$f":"MAX(IF($B33,3.5,0),IF($B32,2.5,0),IF($B34,4.5,0),IF($B35,5.5,0),IF($B36,6.5,0),IF($B37,7,0),L972)+'Base Numbers'!$G$8","v":0},{"$f":"MAX(IF($B33,3.5,0),IF($B32,2.5,0),IF($B34,4.5,0),IF($B35,5.5,0),IF($B36,6.5,0),IF($B37,7,0),M972)+'Base Numbers'!$G$8","v":0},{"$f":"MAX(IF($B33,3.5,0),IF($B32,2.5,0),IF($B34,4.5,0),IF($B35,5.5,0),IF($B36,6.5,0),IF($B37,7,0),N972)+'Base Numbers'!$G$8","v":0},{"$f":"MAX(IF($B33,3.5,0),IF($B32,2.5,0),IF($B34,4.5,0),IF($B35,5.5,0),IF($B36,6.5,0),IF($B37,7,0),O972)+'Base Numbers'!$G$8","v":0},{"$f":"MAX(IF($B33,3.5,0),IF($B32,2.5,0),IF($B34,4.5,0),IF($B35,5.5,0),IF($B36,6.5,0),IF($B37,7,0),P972)+'Base Numbers'!$G$8","v":0},{"$f":"MAX(IF($B33,3.5,0),IF($B32,2.5,0),IF($B34,4.5,0),IF($B35,5.5,0),IF($B36,6.5,0),IF($B37,7,0),Q972)+'Base Numbers'!$G$8","v":0},{"$f":"MAX(IF($B33,3.5,0),IF($B32,2.5,0),IF($B34,4.5,0),IF($B35,5.5,0),IF($B36,6.5,0),IF($B37,7,0),R972)+'Base Numbers'!$G$8","v":0},{"$f":"MAX(IF($B33,3.5,0),IF($B32,2.5,0),IF($B34,4.5,0),IF($B35,5.5,0),IF($B36,6.5,0),IF($B37,7,0),S972)+'Base Numbers'!$G$8","v":0},{"$f":"MAX(IF($B33,3.5,0),IF($B32,2.5,0),IF($B34,4.5,0),IF($B35,5.5,0),IF($B36,6.5,0),IF($B37,7,0),T972)+'Base Numbers'!$G$8","v":0},{"$f":"MAX(IF($B33,3.5,0),IF($B32,2.5,0),IF($B34,4.5,0),IF($B35,5.5,0),IF($B36,6.5,0),IF($B37,7,0),U972)+'Base Numbers'!$G$8","v":0},{"$f":"MAX(IF($B33,3.5,0),IF($B32,2.5,0),IF($B34,4.5,0),IF($B35,5.5,0),IF($B36,6.5,0),IF($B37,7,0),V972)+'Base Numbers'!$G$8","v":0},{"$f":"MAX(IF($B33,3.5,0),IF($B32,2.5,0),IF($B34,4.5,0),IF($B35,5.5,0),IF($B36,6.5,0),IF($B37,7,0),W972)+'Base Numbers'!$G$8","v":0},{"$f":"MAX(IF($B33,3.5,0),IF($B32,2.5,0),IF($B34,4.5,0),IF($B35,5.5,0),IF($B36,6.5,0),IF($B37,7,0),X972)+'Base Numbers'!$G$8","v":0}]
[{"$nulls":3},"avg weapon damage (incl shadowblade)",{"$f":"IF(E699 >0,(E315)*(1-E313)+E313*E699, (E315))","v":0},0,0,0,0,0,0,0,0,0,0,0,0,0,0,0,0,0,0,0]
[{"$nulls":3},"bon attack dmg diff (PAM/Monk) (GWM crit chances)",{"$f":"IF(AND(E26,E24),E316-((1-E326)*2.5+E326*E316),IF(E26>=1,E316-2.5,IF(E18>=2,MAX(0,E316-E972),0)))","v":0},0,0,0,0,0,0,0,0,0,0,0,0,0,0,0,0,0,0,0]
[{"$nulls":3},"Half-Orc racial brutal crit die (melee weapon only)",{"$f":"IF($B$51>=1,E314*(1-E313)+4.5*E313,0)","v":0},{"$f":"IF($B$51>=1,F314*(1-F313)+4.5*F313,0)","v":0},0,0,0,0,0,0,0,0,0,0,0,0,0,0,0,0,0,0]
[{"$nulls":3},"Piercer Feat additional crit die, Melee (piercing weapons only)",{"$f":"MAX(0,IF(AND($B$27>=1,E6>=$B$27,OR(E26=0,$B$33=1)),E314,0)*(1-E313))","v":0},0,0,0,0,0,0,0,0,0,0,0,0,0,0,0,0,0,0,0,null,"* doesn't work with any d12 or 2d6 weapon, or shadowblade."]
[]
[{"$nulls":3},"ATTACKS"]
[{"$nulls":3},"number of basic attacks per round",{"$f":"IF(OR(AND(E60,E14>=6),E7>=5,E10>=5,E8>=5,E9>=5,E18>=5,AND(E19>=5,E70),AND(E12>=5,E49>=1)),2+IF(E10>=11,1,0)+IF(E10>=20,1,0),1+E1145)+E903/'Base Numbers'!$C$5","v":1},{"$f":"IF(OR(AND(F60,F14>=6),F7>=5,F10>=5,F8>=5,F9>=5,F18>=5,AND(F19>=5,F70),AND(F12>=5,F49>=1)),2+IF(F10>=11,1,0)+IF(F10>=20,1,0),1+F1145)+F903/'Base Numbers'!$C$5","v":1},{"$f":"IF(OR(AND(G60,G14>=6),G7>=5,G10>=5,G8>=5,G9>=5,G18>=5,AND(G19>=5,G70),AND(G12>=5,G49>=1)),2+IF(G10>=11,1,0)+IF(G10>=20,1,0),1+G1145)+G903/'Base Numbers'!$C$5","v":1},{"$f":"IF(OR(AND(H60,H14>=6),H7>=5,H10>=5,H8>=5,H9>=5,H18>=5,AND(H19>=5,H70),AND(H12>=5,H49>=1)),2+IF(H10>=11,1,0)+IF(H10>=20,1,0),1+H1145)+H903/'Base Numbers'!$C$5","v":1},{"$f":"IF(OR(AND(I60,I14>=6),I7>=5,I10>=5,I8>=5,I9>=5,I18>=5,AND(I19>=5,I70),AND(I12>=5,I49>=1)),2+IF(I10>=11,1,0)+IF(I10>=20,1,0),1+I1145)+I903/'Base Numbers'!$C$5","v":1},{"$f":"IF(OR(AND(J60,J14>=6),J7>=5,J10>=5,J8>=5,J9>=5,J18>=5,AND(J19>=5,J70),AND(J12>=5,J49>=1)),2+IF(J10>=11,1,0)+IF(J10>=20,1,0),1+J1145)+J903/'Base Numbers'!$C$5","v":1},{"$f":"IF(OR(AND(K60,K14>=6),K7>=5,K10>=5,K8>=5,K9>=5,K18>=5,AND(K19>=5,K70),AND(K12>=5,K49>=1)),2+IF(K10>=11,1,0)+IF(K10>=20,1,0),1+K1145)+K903/'Base Numbers'!$C$5","v":1},{"$f":"IF(OR(AND(L60,L14>=6),L7>=5,L10>=5,L8>=5,L9>=5,L18>=5,AND(L19>=5,L70),AND(L12>=5,L49>=1)),2+IF(L10>=11,1,0)+IF(L10>=20,1,0),1+L1145)+L903/'Base Numbers'!$C$5","v":1},{"$f":"IF(OR(AND(M60,M14>=6),M7>=5,M10>=5,M8>=5,M9>=5,M18>=5,AND(M19>=5,M70),AND(M12>=5,M49>=1)),2+IF(M10>=11,1,0)+IF(M10>=20,1,0),1+M1145)+M903/'Base Numbers'!$C$5","v":1},{"$f":"IF(OR(AND(N60,N14>=6),N7>=5,N10>=5,N8>=5,N9>=5,N18>=5,AND(N19>=5,N70),AND(N12>=5,N49>=1)),2+IF(N10>=11,1,0)+IF(N10>=20,1,0),1+N1145)+N903/'Base Numbers'!$C$5","v":1},{"$f":"IF(OR(AND(O60,O14>=6),O7>=5,O10>=5,O8>=5,O9>=5,O18>=5,AND(O19>=5,O70),AND(O12>=5,O49>=1)),2+IF(O10>=11,1,0)+IF(O10>=20,1,0),1+O1145)+O903/'Base Numbers'!$C$5","v":1},{"$f":"IF(OR(AND(P60,P14>=6),P7>=5,P10>=5,P8>=5,P9>=5,P18>=5,AND(P19>=5,P70),AND(P12>=5,P49>=1)),2+IF(P10>=11,1,0)+IF(P10>=20,1,0),1+P1145)+P903/'Base Numbers'!$C$5","v":1},{"$f":"IF(OR(AND(Q60,Q14>=6),Q7>=5,Q10>=5,Q8>=5,Q9>=5,Q18>=5,AND(Q19>=5,Q70),AND(Q12>=5,Q49>=1)),2+IF(Q10>=11,1,0)+IF(Q10>=20,1,0),1+Q1145)+Q903/'Base Numbers'!$C$5","v":1},{"$f":"IF(OR(AND(R60,R14>=6),R7>=5,R10>=5,R8>=5,R9>=5,R18>=5,AND(R19>=5,R70),AND(R12>=5,R49>=1)),2+IF(R10>=11,1,0)+IF(R10>=20,1,0),1+R1145)+R903/'Base Numbers'!$C$5","v":1},{"$f":"IF(OR(AND(S60,S14>=6),S7>=5,S10>=5,S8>=5,S9>=5,S18>=5,AND(S19>=5,S70),AND(S12>=5,S49>=1)),2+IF(S10>=11,1,0)+IF(S10>=20,1,0),1+S1145)+S903/'Base Numbers'!$C$5","v":1},{"$f":"IF(OR(AND(T60,T14>=6),T7>=5,T10>=5,T8>=5,T9>=5,T18>=5,AND(T19>=5,T70),AND(T12>=5,T49>=1)),2+IF(T10>=11,1,0)+IF(T10>=20,1,0),1+T1145)+T903/'Base Numbers'!$C$5","v":1},{"$f":"IF(OR(AND(U60,U14>=6),U7>=5,U10>=5,U8>=5,U9>=5,U18>=5,AND(U19>=5,U70),AND(U12>=5,U49>=1)),2+IF(U10>=11,1,0)+IF(U10>=20,1,0),1+U1145)+U903/'Base Numbers'!$C$5","v":1},{"$f":"IF(OR(AND(V60,V14>=6),V7>=5,V10>=5,V8>=5,V9>=5,V18>=5,AND(V19>=5,V70),AND(V12>=5,V49>=1)),2+IF(V10>=11,1,0)+IF(V10>=20,1,0),1+V1145)+V903/'Base Numbers'!$C$5","v":1},{"$f":"IF(OR(AND(W60,W14>=6),W7>=5,W10>=5,W8>=5,W9>=5,W18>=5,AND(W19>=5,W70),AND(W12>=5,W49>=1)),2+IF(W10>=11,1,0)+IF(W10>=20,1,0),1+W1145)+W903/'Base Numbers'!$C$5","v":1},{"$f":"IF(OR(AND(X60,X14>=6),X7>=5,X10>=5,X8>=5,X9>=5,X18>=5,AND(X19>=5,X70),AND(X12>=5,X49>=1)),2+IF(X10>=11,1,0)+IF(X10>=20,1,0),1+X1145)+X903/'Base Numbers'!$C$5","v":1}]
[{"$nulls":3},"avg number of haste actions per round (single attack action only)",{"$f":"(1+E306)*E230/('Base Numbers'!$C$5*'Base Numbers'!$C$6)","v":0},{"$f":"(1+F306)*F230/('Base Numbers'!$C$5*'Base Numbers'!$C$6)","v":0},{"$f":"(1+G306)*G230/('Base Numbers'!$C$5*'Base Numbers'!$C$6)","v":0},{"$f":"(1+H306)*H230/('Base Numbers'!$C$5*'Base Numbers'!$C$6)","v":0},{"$f":"(1+I306)*I230/('Base Numbers'!$C$5*'Base Numbers'!$C$6)","v":0},{"$f":"(1+J306)*J230/('Base Numbers'!$C$5*'Base Numbers'!$C$6)","v":0},{"$f":"(1+K306)*K230/('Base Numbers'!$C$5*'Base Numbers'!$C$6)","v":0},{"$f":"(1+L306)*L230/('Base Numbers'!$C$5*'Base Numbers'!$C$6)","v":0},{"$f":"(1+M306)*M230/('Base Numbers'!$C$5*'Base Numbers'!$C$6)","v":0},{"$f":"(1+N306)*N230/('Base Numbers'!$C$5*'Base Numbers'!$C$6)","v":0},{"$f":"(1+O306)*O230/('Base Numbers'!$C$5*'Base Numbers'!$C$6)","v":0},{"$f":"(1+P306)*P230/('Base Numbers'!$C$5*'Base Numbers'!$C$6)","v":0},{"$f":"(1+Q306)*Q230/('Base Numbers'!$C$5*'Base Numbers'!$C$6)","v":0},{"$f":"(1+R306)*R230/('Base Numbers'!$C$5*'Base Numbers'!$C$6)","v":0},{"$f":"(1+S306)*S230/('Base Numbers'!$C$5*'Base Numbers'!$C$6)","v":0},{"$f":"(1+T306)*T230/('Base Numbers'!$C$5*'Base Numbers'!$C$6)","v":0},{"$f":"(1+U306)*U230/('Base Numbers'!$C$5*'Base Numbers'!$C$6)","v":0},{"$f":"(1+V306)*V230/('Base Numbers'!$C$5*'Base Numbers'!$C$6)","v":0},{"$f":"(1+W306)*W230/('Base Numbers'!$C$5*'Base Numbers'!$C$6)","v":0},{"$f":"(1+X306)*X230/('Base Numbers'!$C$5*'Base Numbers'!$C$6)","v":0},null,"*haste actually gives the action the turn you cast it so it's duration is +1 vs. normal"]
[{"$nulls":3},"base pct of bonus actions with available bonus attack(s)",{"$f":"MAX(MIN(1,E973),IF(OR(E312,AND(E14>=3,E60)),1,IF(E26,1,0)))","v":0},0,0,0,0,0,0,0,0,0,0,0,0,0,0,0,0,0,0,0]
[{"$nulls":3},"bonus attacks per round assuming attack action (PAM, Dual Wield, Monk)",{"$f":"MAX(E973,IF(OR(E312,AND(E14>=3,E60)),1,IF(E26,1*(1-E700),0)))","v":0},0,0,0,0,0,0,0,0,0,0,0,0,0,0,0,0,0,0,0,null,"* PAM bonus attacks reduced by Shadow Blade uptime"]
[{"$nulls":3},"GWM crit rate for bonus attacks",{"$f":"IF(E24,1-(1-E471)^(E322+E323)+'Caster Tables'!C5,0)*(1-E700)","v":0},{"$f":"IF(F24,1-(1-F471)^(F322+F323)+'Caster Tables'!D5,0)*(1-F700)","v":0},{"$f":"IF(G24,1-(1-G471)^(G322+G323)+'Caster Tables'!E5,0)*(1-G700)","v":0},{"$f":"IF(H24,1-(1-H471)^(H322+H323)+'Caster Tables'!F5,0)*(1-H700)","v":0},{"$f":"IF(I24,1-(1-I471)^(I322+I323)+'Caster Tables'!G5,0)*(1-I700)","v":0},{"$f":"IF(J24,1-(1-J471)^(J322+J323)+'Caster Tables'!H5,0)*(1-J700)","v":0},{"$f":"IF(K24,1-(1-K471)^(K322+K323)+'Caster Tables'!I5,0)*(1-K700)","v":0},{"$f":"IF(L24,1-(1-L471)^(L322+L323)+'Caster Tables'!J5,0)*(1-L700)","v":0},{"$f":"IF(M24,1-(1-M471)^(M322+M323)+'Caster Tables'!K5,0)*(1-M700)","v":0},{"$f":"IF(N24,1-(1-N471)^(N322+N323)+'Caster Tables'!L5,0)*(1-N700)","v":0},{"$f":"IF(O24,1-(1-O471)^(O322+O323)+'Caster Tables'!M5,0)*(1-O700)","v":0},{"$f":"IF(P24,1-(1-P471)^(P322+P323)+'Caster Tables'!N5,0)*(1-P700)","v":0},{"$f":"IF(Q24,1-(1-Q471)^(Q322+Q323)+'Caster Tables'!O5,0)*(1-Q700)","v":0},{"$f":"IF(R24,1-(1-R471)^(R322+R323)+'Caster Tables'!P5,0)*(1-R700)","v":0},{"$f":"IF(S24,1-(1-S471)^(S322+S323)+'Caster Tables'!Q5,0)*(1-S700)","v":0},{"$f":"IF(T24,1-(1-T471)^(T322+T323)+'Caster Tables'!R5,0)*(1-T700)","v":0},{"$f":"IF(U24,1-(1-U471)^(U322+U323)+'Caster Tables'!S5,0)*(1-U700)","v":0},{"$f":"IF(V24,1-(1-V471)^(V322+V323)+'Caster Tables'!T5,0)*(1-V700)","v":0},{"$f":"IF(W24,1-(1-W471)^(W322+W323)+'Caster Tables'!U5,0)*(1-W700)","v":0},{"$f":"IF(X24,1-(1-X471)^(X322+X323)+'Caster Tables'!V5,0)*(1-X700)","v":0},null,"* reduced by pct uptime of Shadow Blade"]
[{"$nulls":3},"hit bonus from bless (main and opp attacks)",{"$f":"E306*E228*2.5/('Base Numbers'!$C$5*'Base Numbers'!$C$6)","v":0},{"$f":"F306*F228*2.5/('Base Numbers'!$C$5*'Base Numbers'!$C$6)","v":0},{"$f":"G306*G228*2.5/('Base Numbers'!$C$5*'Base Numbers'!$C$6)","v":0},{"$f":"H306*H228*2.5/('Base Numbers'!$C$5*'Base Numbers'!$C$6)","v":0},{"$f":"I306*I228*2.5/('Base Numbers'!$C$5*'Base Numbers'!$C$6)","v":0},{"$f":"J306*J228*2.5/('Base Numbers'!$C$5*'Base Numbers'!$C$6)","v":0},{"$f":"K306*K228*2.5/('Base Numbers'!$C$5*'Base Numbers'!$C$6)","v":0},{"$f":"L306*L228*2.5/('Base Numbers'!$C$5*'Base Numbers'!$C$6)","v":0},{"$f":"M306*M228*2.5/('Base Numbers'!$C$5*'Base Numbers'!$C$6)","v":0},{"$f":"N306*N228*2.5/('Base Numbers'!$C$5*'Base Numbers'!$C$6)","v":0},{"$f":"O306*O228*2.5/('Base Numbers'!$C$5*'Base Numbers'!$C$6)","v":0},{"$f":"P306*P228*2.5/('Base Numbers'!$C$5*'Base Numbers'!$C$6)","v":0},{"$f":"Q306*Q228*2.5/('Base Numbers'!$C$5*'Base Numbers'!$C$6)","v":0},{"$f":"R306*R228*2.5/('Base Numbers'!$C$5*'Base Numbers'!$C$6)","v":0},{"$f":"S306*S228*2.5/('Base Numbers'!$C$5*'Base Numbers'!$C$6)","v":0},{"$f":"T306*T228*2.5/('Base Numbers'!$C$5*'Base Numbers'!$C$6)","v":0},{"$f":"U306*U228*2.5/('Base Numbers'!$C$5*'Base Numbers'!$C$6)","v":0},{"$f":"V306*V228*2.5/('Base Numbers'!$C$5*'Base Numbers'!$C$6)","v":0},{"$f":"W306*W228*2.5/('Base Numbers'!$C$5*'Base Numbers'!$C$6)","v":0},{"$f":"X306*X228*2.5/('Base Numbers'!$C$5*'Base Numbers'!$C$6)","v":0}]
[{"$nulls":3},"hit bonus from bless (bonus attacks)",{"$f":"(1+E306)*E228*2.5/('Base Numbers'!$C$5*'Base Numbers'!$C$6)","v":0},{"$f":"(1+F306)*F228*2.5/('Base Numbers'!$C$5*'Base Numbers'!$C$6)","v":0},{"$f":"(1+G306)*G228*2.5/('Base Numbers'!$C$5*'Base Numbers'!$C$6)","v":0},{"$f":"(1+H306)*H228*2.5/('Base Numbers'!$C$5*'Base Numbers'!$C$6)","v":0},{"$f":"(1+I306)*I228*2.5/('Base Numbers'!$C$5*'Base Numbers'!$C$6)","v":0},{"$f":"(1+J306)*J228*2.5/('Base Numbers'!$C$5*'Base Numbers'!$C$6)","v":0},{"$f":"(1+K306)*K228*2.5/('Base Numbers'!$C$5*'Base Numbers'!$C$6)","v":0},{"$f":"(1+L306)*L228*2.5/('Base Numbers'!$C$5*'Base Numbers'!$C$6)","v":0},{"$f":"(1+M306)*M228*2.5/('Base Numbers'!$C$5*'Base Numbers'!$C$6)","v":0},{"$f":"(1+N306)*N228*2.5/('Base Numbers'!$C$5*'Base Numbers'!$C$6)","v":0},{"$f":"(1+O306)*O228*2.5/('Base Numbers'!$C$5*'Base Numbers'!$C$6)","v":0},{"$f":"(1+P306)*P228*2.5/('Base Numbers'!$C$5*'Base Numbers'!$C$6)","v":0},{"$f":"(1+Q306)*Q228*2.5/('Base Numbers'!$C$5*'Base Numbers'!$C$6)","v":0},{"$f":"(1+R306)*R228*2.5/('Base Numbers'!$C$5*'Base Numbers'!$C$6)","v":0},{"$f":"(1+S306)*S228*2.5/('Base Numbers'!$C$5*'Base Numbers'!$C$6)","v":0},{"$f":"(1+T306)*T228*2.5/('Base Numbers'!$C$5*'Base Numbers'!$C$6)","v":0},{"$f":"(1+U306)*U228*2.5/('Base Numbers'!$C$5*'Base Numbers'!$C$6)","v":0},{"$f":"(1+V306)*V228*2.5/('Base Numbers'!$C$5*'Base Numbers'!$C$6)","v":0},{"$f":"(1+W306)*W228*2.5/('Base Numbers'!$C$5*'Base Numbers'!$C$6)","v":0},{"$f":"(1+X306)*X228*2.5/('Base Numbers'!$C$5*'Base Numbers'!$C$6)","v":0}]
[{"$nulls":3},"hit bonus (GWM, weapon, bless, EmbBond)",{"$f":"IF(AND(E24,E85=0),-5,0)+'Base Numbers'!$G$6+E327+E965/(E325+E322)","v":0},{"$f":"IF(AND(F24,F85=0),-5,0)+'Base Numbers'!$G$6+F327+F965/(F325+F322)","v":0},{"$f":"IF(AND(G24,G85=0),-5,0)+'Base Numbers'!$G$6+G327+G965/(G325+G322)","v":0},{"$f":"IF(AND(H24,H85=0),-5,0)+'Base Numbers'!$G$6+H327+H965/(H325+H322)","v":0},{"$f":"IF(AND(I24,I85=0),-5,0)+'Base Numbers'!$G$6+I327+I965/(I325+I322)","v":0},{"$f":"IF(AND(J24,J85=0),-5,0)+'Base Numbers'!$G$6+J327+J965/(J325+J322)","v":0},{"$f":"IF(AND(K24,K85=0),-5,0)+'Base Numbers'!$G$6+K327+K965/(K325+K322)","v":0},{"$f":"IF(AND(L24,L85=0),-5,0)+'Base Numbers'!$G$6+L327+L965/(L325+L322)","v":0},{"$f":"IF(AND(M24,M85=0),-5,0)+'Base Numbers'!$G$6+M327+M965/(M325+M322)","v":0},{"$f":"IF(AND(N24,N85=0),-5,0)+'Base Numbers'!$G$6+N327+N965/(N325+N322)","v":0},{"$f":"IF(AND(O24,O85=0),-5,0)+'Base Numbers'!$G$6+O327+O965/(O325+O322)","v":0},{"$f":"IF(AND(P24,P85=0),-5,0)+'Base Numbers'!$G$6+P327+P965/(P325+P322)","v":0},{"$f":"IF(AND(Q24,Q85=0),-5,0)+'Base Numbers'!$G$6+Q327+Q965/(Q325+Q322)","v":0},{"$f":"IF(AND(R24,R85=0),-5,0)+'Base Numbers'!$G$6+R327+R965/(R325+R322)","v":0},{"$f":"IF(AND(S24,S85=0),-5,0)+'Base Numbers'!$G$6+S327+S965/(S325+S322)","v":0},{"$f":"IF(AND(T24,T85=0),-5,0)+'Base Numbers'!$G$6+T327+T965/(T325+T322)","v":0},{"$f":"IF(AND(U24,U85=0),-5,0)+'Base Numbers'!$G$6+U327+U965/(U325+U322)","v":0},{"$f":"IF(AND(V24,V85=0),-5,0)+'Base Numbers'!$G$6+V327+V965/(V325+V322)","v":0},{"$f":"IF(AND(W24,W85=0),-5,0)+'Base Numbers'!$G$6+W327+W965/(W325+W322)","v":0},{"$f":"IF(AND(X24,X85=0),-5,0)+'Base Numbers'!$G$6+X327+X965/(X325+X322)","v":0}]
[{"$nulls":3},"hit bonus (GWM, weapon, bless EmbBond) on Bonus attacks",{"$f":"IF(AND(E24,E85=0),-5,0)+E328+'Base Numbers'!$G$6+E965/(E325+E322)","v":0},{"$f":"IF(AND(F24,F85=0),-5,0)+F328+'Base Numbers'!$G$6+F965/(F325+F322)","v":0},{"$f":"IF(AND(G24,G85=0),-5,0)+G328+'Base Numbers'!$G$6+G965/(G325+G322)","v":0},{"$f":"IF(AND(H24,H85=0),-5,0)+H328+'Base Numbers'!$G$6+H965/(H325+H322)","v":0},{"$f":"IF(AND(I24,I85=0),-5,0)+I328+'Base Numbers'!$G$6+I965/(I325+I322)","v":0},{"$f":"IF(AND(J24,J85=0),-5,0)+J328+'Base Numbers'!$G$6+J965/(J325+J322)","v":0},{"$f":"IF(AND(K24,K85=0),-5,0)+K328+'Base Numbers'!$G$6+K965/(K325+K322)","v":0},{"$f":"IF(AND(L24,L85=0),-5,0)+L328+'Base Numbers'!$G$6+L965/(L325+L322)","v":0},{"$f":"IF(AND(M24,M85=0),-5,0)+M328+'Base Numbers'!$G$6+M965/(M325+M322)","v":0},{"$f":"IF(AND(N24,N85=0),-5,0)+N328+'Base Numbers'!$G$6+N965/(N325+N322)","v":0},{"$f":"IF(AND(O24,O85=0),-5,0)+O328+'Base Numbers'!$G$6+O965/(O325+O322)","v":0},{"$f":"IF(AND(P24,P85=0),-5,0)+P328+'Base Numbers'!$G$6+P965/(P325+P322)","v":0},{"$f":"IF(AND(Q24,Q85=0),-5,0)+Q328+'Base Numbers'!$G$6+Q965/(Q325+Q322)","v":0},{"$f":"IF(AND(R24,R85=0),-5,0)+R328+'Base Numbers'!$G$6+R965/(R325+R322)","v":0},{"$f":"IF(AND(S24,S85=0),-5,0)+S328+'Base Numbers'!$G$6+S965/(S325+S322)","v":0},{"$f":"IF(AND(T24,T85=0),-5,0)+T328+'Base Numbers'!$G$6+T965/(T325+T322)","v":0},{"$f":"IF(AND(U24,U85=0),-5,0)+U328+'Base Numbers'!$G$6+U965/(U325+U322)","v":0},{"$f":"IF(AND(V24,V85=0),-5,0)+V328+'Base Numbers'!$G$6+V965/(V325+V322)","v":0},{"$f":"IF(AND(W24,W85=0),-5,0)+W328+'Base Numbers'!$G$6+W965/(W325+W322)","v":0},{"$f":"IF(AND(X24,X85=0),-5,0)+X328+'Base Numbers'!$G$6+X965/(X325+X322)","v":0}]
[{"$nulls":3},"hit bonus (GWM, weapon, bless EmbBond) on Advantage Attacks",{"$f":"IF(E24,-5,0)+'Base Numbers'!$G$6+E327+E965/(E325+E322)","v":0},{"$f":"IF(F24,-5,0)+'Base Numbers'!$G$6+F327+F965/(F325+F322)","v":0},{"$f":"IF(G24,-5,0)+'Base Numbers'!$G$6+G327+G965/(G325+G322)","v":0},{"$f":"IF(H24,-5,0)+'Base Numbers'!$G$6+H327+H965/(H325+H322)","v":0},{"$f":"IF(I24,-5,0)+'Base Numbers'!$G$6+I327+I965/(I325+I322)","v":0},{"$f":"IF(J24,-5,0)+'Base Numbers'!$G$6+J327+J965/(J325+J322)","v":0},{"$f":"IF(K24,-5,0)+'Base Numbers'!$G$6+K327+K965/(K325+K322)","v":0},{"$f":"IF(L24,-5,0)+'Base Numbers'!$G$6+L327+L965/(L325+L322)","v":0},{"$f":"IF(M24,-5,0)+'Base Numbers'!$G$6+M327+M965/(M325+M322)","v":0},{"$f":"IF(N24,-5,0)+'Base Numbers'!$G$6+N327+N965/(N325+N322)","v":0},{"$f":"IF(O24,-5,0)+'Base Numbers'!$G$6+O327+O965/(O325+O322)","v":0},{"$f":"IF(P24,-5,0)+'Base Numbers'!$G$6+P327+P965/(P325+P322)","v":0},{"$f":"IF(Q24,-5,0)+'Base Numbers'!$G$6+Q327+Q965/(Q325+Q322)","v":0},{"$f":"IF(R24,-5,0)+'Base Numbers'!$G$6+R327+R965/(R325+R322)","v":0},{"$f":"IF(S24,-5,0)+'Base Numbers'!$G$6+S327+S965/(S325+S322)","v":0},{"$f":"IF(T24,-5,0)+'Base Numbers'!$G$6+T327+T965/(T325+T322)","v":0},{"$f":"IF(U24,-5,0)+'Base Numbers'!$G$6+U327+U965/(U325+U322)","v":0},{"$f":"IF(V24,-5,0)+'Base Numbers'!$G$6+V327+V965/(V325+V322)","v":0},{"$f":"IF(W24,-5,0)+'Base Numbers'!$G$6+W327+W965/(W325+W322)","v":0},{"$f":"IF(X24,-5,0)+'Base Numbers'!$G$6+X327+X965/(X325+X322)","v":0}]
[{"$nulls":3},"hit bonus (GWM, weapon, bless EmbBond) on Adv Bonus Attacks",{"$f":"IF(E24,-5,0)+E328+'Base Numbers'!$G$6+E965/(E325+E322)","v":0},{"$f":"IF(F24,-5,0)+F328+'Base Numbers'!$G$6+F965/(F325+F322)","v":0},{"$f":"IF(G24,-5,0)+G328+'Base Numbers'!$G$6+G965/(G325+G322)","v":0},{"$f":"IF(H24,-5,0)+H328+'Base Numbers'!$G$6+H965/(H325+H322)","v":0},{"$f":"IF(I24,-5,0)+I328+'Base Numbers'!$G$6+I965/(I325+I322)","v":0},{"$f":"IF(J24,-5,0)+J328+'Base Numbers'!$G$6+J965/(J325+J322)","v":0},{"$f":"IF(K24,-5,0)+K328+'Base Numbers'!$G$6+K965/(K325+K322)","v":0},{"$f":"IF(L24,-5,0)+L328+'Base Numbers'!$G$6+L965/(L325+L322)","v":0},{"$f":"IF(M24,-5,0)+M328+'Base Numbers'!$G$6+M965/(M325+M322)","v":0},{"$f":"IF(N24,-5,0)+N328+'Base Numbers'!$G$6+N965/(N325+N322)","v":0},{"$f":"IF(O24,-5,0)+O328+'Base Numbers'!$G$6+O965/(O325+O322)","v":0},{"$f":"IF(P24,-5,0)+P328+'Base Numbers'!$G$6+P965/(P325+P322)","v":0},{"$f":"IF(Q24,-5,0)+Q328+'Base Numbers'!$G$6+Q965/(Q325+Q322)","v":0},{"$f":"IF(R24,-5,0)+R328+'Base Numbers'!$G$6+R965/(R325+R322)","v":0},{"$f":"IF(S24,-5,0)+S328+'Base Numbers'!$G$6+S965/(S325+S322)","v":0},{"$f":"IF(T24,-5,0)+T328+'Base Numbers'!$G$6+T965/(T325+T322)","v":0},{"$f":"IF(U24,-5,0)+U328+'Base Numbers'!$G$6+U965/(U325+U322)","v":0},{"$f":"IF(V24,-5,0)+V328+'Base Numbers'!$G$6+V965/(V325+V322)","v":0},{"$f":"IF(W24,-5,0)+W328+'Base Numbers'!$G$6+W965/(W325+W322)","v":0},{"$f":"IF(X24,-5,0)+X328+'Base Numbers'!$G$6+X965/(X325+X322)","v":0}]
[{"$nulls":3},"hit bonus on Opp Attacks",{"$f":"IF(AND(E24,E85=0),-5,0)+'Base Numbers'!$G$6+E327+E965/MAX(1,E361)","v":0},{"$f":"IF(AND(F24,F85=0),-5,0)+'Base Numbers'!$G$6+F327+F965/MAX(1,F361)","v":0},{"$f":"IF(AND(G24,G85=0),-5,0)+'Base Numbers'!$G$6+G327+G965/MAX(1,G361)","v":0},{"$f":"IF(AND(H24,H85=0),-5,0)+'Base Numbers'!$G$6+H327+H965/MAX(1,H361)","v":0},{"$f":"IF(AND(I24,I85=0),-5,0)+'Base Numbers'!$G$6+I327+I965/MAX(1,I361)","v":0},{"$f":"IF(AND(J24,J85=0),-5,0)+'Base Numbers'!$G$6+J327+J965/MAX(1,J361)","v":0},{"$f":"IF(AND(K24,K85=0),-5,0)+'Base Numbers'!$G$6+K327+K965/MAX(1,K361)","v":0},{"$f":"IF(AND(L24,L85=0),-5,0)+'Base Numbers'!$G$6+L327+L965/MAX(1,L361)","v":0},{"$f":"IF(AND(M24,M85=0),-5,0)+'Base Numbers'!$G$6+M327+M965/MAX(1,M361)","v":0},{"$f":"IF(AND(N24,N85=0),-5,0)+'Base Numbers'!$G$6+N327+N965/MAX(1,N361)","v":0},{"$f":"IF(AND(O24,O85=0),-5,0)+'Base Numbers'!$G$6+O327+O965/MAX(1,O361)","v":0},{"$f":"IF(AND(P24,P85=0),-5,0)+'Base Numbers'!$G$6+P327+P965/MAX(1,P361)","v":0},{"$f":"IF(AND(Q24,Q85=0),-5,0)+'Base Numbers'!$G$6+Q327+Q965/MAX(1,Q361)","v":0},{"$f":"IF(AND(R24,R85=0),-5,0)+'Base Numbers'!$G$6+R327+R965/MAX(1,R361)","v":0},{"$f":"IF(AND(S24,S85=0),-5,0)+'Base Numbers'!$G$6+S327+S965/MAX(1,S361)","v":0},{"$f":"IF(AND(T24,T85=0),-5,0)+'Base Numbers'!$G$6+T327+T965/MAX(1,T361)","v":0},{"$f":"IF(AND(U24,U85=0),-5,0)+'Base Numbers'!$G$6+U327+U965/MAX(1,U361)","v":0},{"$f":"IF(AND(V24,V85=0),-5,0)+'Base Numbers'!$G$6+V327+V965/MAX(1,V361)","v":0},{"$f":"IF(AND(W24,W85=0),-5,0)+'Base Numbers'!$G$6+W327+W965/MAX(1,W361)","v":0},{"$f":"IF(AND(X24,X85=0),-5,0)+'Base Numbers'!$G$6+X327+X965/MAX(1,X361)","v":0}]
[{"$nulls":3},"hit bonus on Advantage Opp Attacks",{"$f":"IF(E24,-5,0)+'Base Numbers'!$G$6+E327+E965/MAX(1,E361)","v":0},{"$f":"IF(F24,-5,0)+'Base Numbers'!$G$6+F327+F965/MAX(1,F361)","v":0},{"$f":"IF(G24,-5,0)+'Base Numbers'!$G$6+G327+G965/MAX(1,G361)","v":0},{"$f":"IF(H24,-5,0)+'Base Numbers'!$G$6+H327+H965/MAX(1,H361)","v":0},{"$f":"IF(I24,-5,0)+'Base Numbers'!$G$6+I327+I965/MAX(1,I361)","v":0},{"$f":"IF(J24,-5,0)+'Base Numbers'!$G$6+J327+J965/MAX(1,J361)","v":0},{"$f":"IF(K24,-5,0)+'Base Numbers'!$G$6+K327+K965/MAX(1,K361)","v":0},{"$f":"IF(L24,-5,0)+'Base Numbers'!$G$6+L327+L965/MAX(1,L361)","v":0},{"$f":"IF(M24,-5,0)+'Base Numbers'!$G$6+M327+M965/MAX(1,M361)","v":0},{"$f":"IF(N24,-5,0)+'Base Numbers'!$G$6+N327+N965/MAX(1,N361)","v":0},{"$f":"IF(O24,-5,0)+'Base Numbers'!$G$6+O327+O965/MAX(1,O361)","v":0},{"$f":"IF(P24,-5,0)+'Base Numbers'!$G$6+P327+P965/MAX(1,P361)","v":0},{"$f":"IF(Q24,-5,0)+'Base Numbers'!$G$6+Q327+Q965/MAX(1,Q361)","v":0},{"$f":"IF(R24,-5,0)+'Base Numbers'!$G$6+R327+R965/MAX(1,R361)","v":0},{"$f":"IF(S24,-5,0)+'Base Numbers'!$G$6+S327+S965/MAX(1,S361)","v":0},{"$f":"IF(T24,-5,0)+'Base Numbers'!$G$6+T327+T965/MAX(1,T361)","v":0},{"$f":"IF(U24,-5,0)+'Base Numbers'!$G$6+U327+U965/MAX(1,U361)","v":0},{"$f":"IF(V24,-5,0)+'Base Numbers'!$G$6+V327+V965/MAX(1,V361)","v":0},{"$f":"IF(W24,-5,0)+'Base Numbers'!$G$6+W327+W965/MAX(1,W361)","v":0},{"$f":"IF(X24,-5,0)+'Base Numbers'!$G$6+X327+X965/MAX(1,X361)","v":0}]
[{"$nulls":3},"one die hit chance",{"$f":"MIN(0.95,1-(E129-1-E135-E35-E329)/20)+IF($B$52,0.05*MIN(0.95,1-(E129-1-E135-E35-E329)/20))","v":0.65},0.65,0.6,0.6,0.65,0.6,0.6,0.6,0.6,0.6,0.6,0.55,0.6,0.6,0.55,0.55,0.6,0.55,0.55,0.55]
[{"$nulls":3},"one die hit chance on Bonus attacks",{"$f":"MIN(0.95,1-(E129-1-E135-E35-E330)/20)+IF($B$52,0.05*MIN(0.95,1-(E129-1-E135-E35-E330)/20))","v":0.65},0.65,0.6,0.6,0.65,0.6,0.6,0.6,0.6,0.6,0.6,0.55,0.6,0.6,0.55,0.55,0.6,0.55,0.55,0.55]
[{"$nulls":3},"hit chance on Advantage Attacks",{"$f":"1-((E129-1-E135-E35-E331)/20)^E441+IF($B$52,0.05^E441*(1-(E129-1-E135-E35-E331)/20))","v":0.8775000000000001},0.8775000000000001,0.84,0.84,0.8775000000000001,0.84,0.84,0.84,0.84,0.84,0.84,0.7975,0.84,0.84,0.7975,0.7975,0.84,0.7975,0.7975,0.7975]
[{"$nulls":3},"hit chance on Adv Bonus Attacks",{"$f":"1-((E129-1-E135-E35-E332)/20)^E441+IF($B$52,0.05^E441*(1-(E129-1-E135-E35-E332)/20))","v":0.8775000000000001},0.8775000000000001,0.84,0.84,0.8775000000000001,0.84,0.84,0.84,0.84,0.84,0.84,0.7975,0.84,0.84,0.7975,0.7975,0.84,0.7975,0.7975,0.7975]
[{"$nulls":3},"hit chance with Disadv attacks",{"$f":"(1-(E129-1-E135-E35-E331)/20)^2+IF($B$52,(1-0.95^2)*(1-(E129-1-E135-E35-E331)/20))","v":0.42250000000000004},0.42250000000000004,0.36,0.36,0.42250000000000004,0.36,0.36,0.36,0.36,0.36,0.36,0.30250000000000005,0.36,0.36,0.30250000000000005,0.30250000000000005,0.36,0.30250000000000005,0.30250000000000005,0.30250000000000005]
[{"$nulls":3},"hit chance with Disadv Bonus attacks",{"$f":"(1-(E129-1-E135-E35-E330)/20)^2+IF($B$52,(1-0.95^2)*(1-(E129-1-E135-E35-E330)/20))","v":0.42250000000000004},0.42250000000000004,0.36,0.36,0.42250000000000004,0.36,0.36,0.36,0.36,0.36,0.36,0.30250000000000005,0.36,0.36,0.30250000000000005,0.30250000000000005,0.36,0.30250000000000005,0.30250000000000005,0.30250000000000005]
[{"$nulls":3},"one die hit chance on Opp Attacks",{"$f":"MIN(0.95,1-(E129-1-E135-E35-E333)/20)+IF($B$52,0.05*MIN(0.95,1-(E129-1-E135-E35-E333)/20))","v":0.65},0.65,0.6,0.6,0.65,0.6,0.6,0.6,0.6,0.6,0.6,0.55,0.6,0.6,0.55,0.55,0.6,0.55,0.55,0.55]
[{"$nulls":3},"hit chance on Adv Opp Attacks",{"$f":"1-((E129-1-E135-E35-E334)/20)^E441+IF($B$52,0.05^E441*(1-(E129-1-E135-E35-E334)/20))","v":0.8775000000000001},0.8775000000000001,0.84,0.84,0.8775000000000001,0.84,0.84,0.84,0.84,0.84,0.84,0.7975,0.84,0.84,0.7975,0.7975,0.84,0.7975,0.7975,0.7975]
[{"$nulls":3},"pct of bonus actions spent on spell casts",{"$f":"E286/('Base Numbers'!$C$5*'Base Numbers'!$C$6)","v":0},{"$f":"F286/('Base Numbers'!$C$5*'Base Numbers'!$C$6)","v":0},{"$f":"G286/('Base Numbers'!$C$5*'Base Numbers'!$C$6)","v":0},{"$f":"H286/('Base Numbers'!$C$5*'Base Numbers'!$C$6)","v":0},{"$f":"I286/('Base Numbers'!$C$5*'Base Numbers'!$C$6)","v":0},{"$f":"J286/('Base Numbers'!$C$5*'Base Numbers'!$C$6)","v":0},{"$f":"K286/('Base Numbers'!$C$5*'Base Numbers'!$C$6)","v":0},{"$f":"L286/('Base Numbers'!$C$5*'Base Numbers'!$C$6)","v":0},{"$f":"M286/('Base Numbers'!$C$5*'Base Numbers'!$C$6)","v":0},{"$f":"N286/('Base Numbers'!$C$5*'Base Numbers'!$C$6)","v":0},{"$f":"O286/('Base Numbers'!$C$5*'Base Numbers'!$C$6)","v":0},{"$f":"P286/('Base Numbers'!$C$5*'Base Numbers'!$C$6)","v":0},{"$f":"Q286/('Base Numbers'!$C$5*'Base Numbers'!$C$6)","v":0},{"$f":"R286/('Base Numbers'!$C$5*'Base Numbers'!$C$6)","v":0},{"$f":"S286/('Base Numbers'!$C$5*'Base Numbers'!$C$6)","v":0},{"$f":"T286/('Base Numbers'!$C$5*'Base Numbers'!$C$6)","v":0},{"$f":"U286/('Base Numbers'!$C$5*'Base Numbers'!$C$6)","v":0},{"$f":"V286/('Base Numbers'!$C$5*'Base Numbers'!$C$6)","v":0},{"$f":"W286/('Base Numbers'!$C$5*'Base Numbers'!$C$6)","v":0},{"$f":"X286/('Base Numbers'!$C$5*'Base Numbers'!$C$6)","v":0}]
[{"$nulls":3},"average bonus attacks (GWM, PAM, Spirit W, Quicken BB) minus spells",{"$f":"E1377","v":0},0,0,0,0,0,{"$f":"K1377","v":0},0,0,0,0,0,0,0,0,{"$f":"T1377","v":0},0,0,0,0]
[]
[{"$nulls":3},"OPPORTUNITY ATTACKS"]
[{"$nulls":3},"has reach",{"$f":"IF($B$35>=1,1,0)","v":0},{"$f":"IF($B$35>=1,1,0)","v":0},0,0,0,0,0,0,0,0,0,0,0,0,0,0,0,0,0,0]
[{"$nulls":3},"PAM + quarterstaff",{"$f":"IF(AND(E26>=1,$B$33>=1),1,0)","v":0},0,0,0,0,0,0,0,0,0,0,0,0,0,0,0,0,0,0,0,null,"* this allows opp attacks to use booming blade"]
[{"$nulls":3},"crusher + PAM + quarterstaff",{"$f":"IF(AND(E26>=1,$B$28>=1,E6>=$B$28,$B$33>=1),1,0)","v":0},0,0,0,0,0,0,0,0,0,0,0,0,0,0,0,0,0,0,0,null,"* this combo increases Opp Atts with knockbacks"]
[{"$nulls":3},"crusher + PAM + reach polearm",{"$f":"IF(AND(E26>=1,$B$28>=1,E6>=$B$28,$B$35>=1),1,0)","v":0},0,0,0,0,0,0,0,0,0,0,0,0,0,0,0,0,0,0,0,null,"* this combo increases Opp Atts with knockbacks, but less so"]
[{"$nulls":3},"knockback-based opp attacks",{"$f":"'Base Numbers'!$C$13*0.7*E349+'Base Numbers'!$C$13*0.3*E350","v":0},{"$f":"'Base Numbers'!$C$13*0.7*F349+'Base Numbers'!$C$13*0.3*F350","v":0},{"$f":"'Base Numbers'!$C$13*0.7*G349+'Base Numbers'!$C$13*0.3*G350","v":0},{"$f":"'Base Numbers'!$C$13*0.7*H349+'Base Numbers'!$C$13*0.3*H350","v":0},{"$f":"'Base Numbers'!$C$13*0.7*I349+'Base Numbers'!$C$13*0.3*I350","v":0},{"$f":"'Base Numbers'!$C$13*0.7*J349+'Base Numbers'!$C$13*0.3*J350","v":0},{"$f":"'Base Numbers'!$C$13*0.7*K349+'Base Numbers'!$C$13*0.3*K350","v":0},{"$f":"'Base Numbers'!$C$13*0.7*L349+'Base Numbers'!$C$13*0.3*L350","v":0},{"$f":"'Base Numbers'!$C$13*0.7*M349+'Base Numbers'!$C$13*0.3*M350","v":0},{"$f":"'Base Numbers'!$C$13*0.7*N349+'Base Numbers'!$C$13*0.3*N350","v":0},{"$f":"'Base Numbers'!$C$13*0.7*O349+'Base Numbers'!$C$13*0.3*O350","v":0},{"$f":"'Base Numbers'!$C$13*0.7*P349+'Base Numbers'!$C$13*0.3*P350","v":0},{"$f":"'Base Numbers'!$C$13*0.7*Q349+'Base Numbers'!$C$13*0.3*Q350","v":0},{"$f":"'Base Numbers'!$C$13*0.7*R349+'Base Numbers'!$C$13*0.3*R350","v":0},{"$f":"'Base Numbers'!$C$13*0.7*S349+'Base Numbers'!$C$13*0.3*S350","v":0},{"$f":"'Base Numbers'!$C$13*0.7*T349+'Base Numbers'!$C$13*0.3*T350","v":0},{"$f":"'Base Numbers'!$C$13*0.7*U349+'Base Numbers'!$C$13*0.3*U350","v":0},{"$f":"'Base Numbers'!$C$13*0.7*V349+'Base Numbers'!$C$13*0.3*V350","v":0},{"$f":"'Base Numbers'!$C$13*0.7*W349+'Base Numbers'!$C$13*0.3*W350","v":0},{"$f":"'Base Numbers'!$C$13*0.7*X349+'Base Numbers'!$C$13*0.3*X350","v":0}]
[{"$nulls":3},"PAM based opp attacks",{"$f":"IF(E26,'Base Numbers'!$C$13,0)*IF(E347,1.5,0.75)","v":0},{"$f":"IF(F26,'Base Numbers'!$C$13,0)*IF(F347,1.5,0.75)","v":0},{"$f":"IF(G26,'Base Numbers'!$C$13,0)*IF(G347,1.5,0.75)","v":0},{"$f":"IF(H26,'Base Numbers'!$C$13,0)*IF(H347,1.5,0.75)","v":0},{"$f":"IF(I26,'Base Numbers'!$C$13,0)*IF(I347,1.5,0.75)","v":0},{"$f":"IF(J26,'Base Numbers'!$C$13,0)*IF(J347,1.5,0.75)","v":0},{"$f":"IF(K26,'Base Numbers'!$C$13,0)*IF(K347,1.5,0.75)","v":0},{"$f":"IF(L26,'Base Numbers'!$C$13,0)*IF(L347,1.5,0.75)","v":0},{"$f":"IF(M26,'Base Numbers'!$C$13,0)*IF(M347,1.5,0.75)","v":0},{"$f":"IF(N26,'Base Numbers'!$C$13,0)*IF(N347,1.5,0.75)","v":0},{"$f":"IF(O26,'Base Numbers'!$C$13,0)*IF(O347,1.5,0.75)","v":0},{"$f":"IF(P26,'Base Numbers'!$C$13,0)*IF(P347,1.5,0.75)","v":0},{"$f":"IF(Q26,'Base Numbers'!$C$13,0)*IF(Q347,1.5,0.75)","v":0},{"$f":"IF(R26,'Base Numbers'!$C$13,0)*IF(R347,1.5,0.75)","v":0},{"$f":"IF(S26,'Base Numbers'!$C$13,0)*IF(S347,1.5,0.75)","v":0},{"$f":"IF(T26,'Base Numbers'!$C$13,0)*IF(T347,1.5,0.75)","v":0},{"$f":"IF(U26,'Base Numbers'!$C$13,0)*IF(U347,1.5,0.75)","v":0},{"$f":"IF(V26,'Base Numbers'!$C$13,0)*IF(V347,1.5,0.75)","v":0},{"$f":"IF(W26,'Base Numbers'!$C$13,0)*IF(W347,1.5,0.75)","v":0},{"$f":"IF(X26,'Base Numbers'!$C$13,0)*IF(X347,1.5,0.75)","v":0},null,"* greater with a reach weapon"]
[{"$nulls":3},"oath of vengence opp attacks",{"$f":"IF(AND(E36,E7>=15),'Base Numbers'!$C$15*E895/'Base Numbers'!$C$5,0)","v":0},{"$f":"IF(AND(F36,F7>=15),'Base Numbers'!$C$15*F895/'Base Numbers'!$C$5,0)","v":0},{"$f":"IF(AND(G36,G7>=15),'Base Numbers'!$C$15*G895/'Base Numbers'!$C$5,0)","v":0},{"$f":"IF(AND(H36,H7>=15),'Base Numbers'!$C$15*H895/'Base Numbers'!$C$5,0)","v":0},{"$f":"IF(AND(I36,I7>=15),'Base Numbers'!$C$15*I895/'Base Numbers'!$C$5,0)","v":0},{"$f":"IF(AND(J36,J7>=15),'Base Numbers'!$C$15*J895/'Base Numbers'!$C$5,0)","v":0},{"$f":"IF(AND(K36,K7>=15),'Base Numbers'!$C$15*K895/'Base Numbers'!$C$5,0)","v":0},{"$f":"IF(AND(L36,L7>=15),'Base Numbers'!$C$15*L895/'Base Numbers'!$C$5,0)","v":0},{"$f":"IF(AND(M36,M7>=15),'Base Numbers'!$C$15*M895/'Base Numbers'!$C$5,0)","v":0},{"$f":"IF(AND(N36,N7>=15),'Base Numbers'!$C$15*N895/'Base Numbers'!$C$5,0)","v":0},{"$f":"IF(AND(O36,O7>=15),'Base Numbers'!$C$15*O895/'Base Numbers'!$C$5,0)","v":0},{"$f":"IF(AND(P36,P7>=15),'Base Numbers'!$C$15*P895/'Base Numbers'!$C$5,0)","v":0},{"$f":"IF(AND(Q36,Q7>=15),'Base Numbers'!$C$15*Q895/'Base Numbers'!$C$5,0)","v":0},{"$f":"IF(AND(R36,R7>=15),'Base Numbers'!$C$15*R895/'Base Numbers'!$C$5,0)","v":0},{"$f":"IF(AND(S36,S7>=15),'Base Numbers'!$C$15*S895/'Base Numbers'!$C$5,0)","v":0},{"$f":"IF(AND(T36,T7>=15),'Base Numbers'!$C$15*T895/'Base Numbers'!$C$5,0)","v":0},{"$f":"IF(AND(U36,U7>=15),'Base Numbers'!$C$15*U895/'Base Numbers'!$C$5,0)","v":0},{"$f":"IF(AND(V36,V7>=15),'Base Numbers'!$C$15*V895/'Base Numbers'!$C$5,0)","v":0},{"$f":"IF(AND(W36,W7>=15),'Base Numbers'!$C$15*W895/'Base Numbers'!$C$5,0)","v":0},{"$f":"IF(AND(X36,X7>=15),'Base Numbers'!$C$15*X895/'Base Numbers'!$C$5,0)","v":0}]
[{"$nulls":3},"sentinel opp attacks",{"$f":"IF(E27,'Base Numbers'!$C$14,0)","v":0},{"$f":"IF(F27,'Base Numbers'!$C$14,0)","v":0},{"$f":"IF(G27,'Base Numbers'!$C$14,0)","v":0},{"$f":"IF(H27,'Base Numbers'!$C$14,0)","v":0},{"$f":"IF(I27,'Base Numbers'!$C$14,0)","v":0},{"$f":"IF(J27,'Base Numbers'!$C$14,0)","v":0},{"$f":"IF(K27,'Base Numbers'!$C$14,0)","v":0},{"$f":"IF(L27,'Base Numbers'!$C$14,0)","v":0},{"$f":"IF(M27,'Base Numbers'!$C$14,0)","v":0},{"$f":"IF(N27,'Base Numbers'!$C$14,0)","v":0},{"$f":"IF(O27,'Base Numbers'!$C$14,0)","v":0},{"$f":"IF(P27,'Base Numbers'!$C$14,0)","v":0},{"$f":"IF(Q27,'Base Numbers'!$C$14,0)","v":0},{"$f":"IF(R27,'Base Numbers'!$C$14,0)","v":0},{"$f":"IF(S27,'Base Numbers'!$C$14,0)","v":0},{"$f":"IF(T27,'Base Numbers'!$C$14,0)","v":0},{"$f":"IF(U27,'Base Numbers'!$C$14,0)","v":0},{"$f":"IF(V27,'Base Numbers'!$C$14,0)","v":0},{"$f":"IF(W27,'Base Numbers'!$C$14,0)","v":0},{"$f":"IF(X27,'Base Numbers'!$C$14,0)","v":0}]
[{"$nulls":3},"hold the line cavalier opp attacks (L10)",{"$f":"IF(AND(E10>=10,E57),'Base Numbers'!$C$13,0)*IF(E347,1.5,0.75)","v":0},{"$f":"IF(AND(F10>=10,F57),'Base Numbers'!$C$13,0)*IF(F347,1.5,0.75)","v":0},{"$f":"IF(AND(G10>=10,G57),'Base Numbers'!$C$13,0)*IF(G347,1.5,0.75)","v":0},{"$f":"IF(AND(H10>=10,H57),'Base Numbers'!$C$13,0)*IF(H347,1.5,0.75)","v":0},{"$f":"IF(AND(I10>=10,I57),'Base Numbers'!$C$13,0)*IF(I347,1.5,0.75)","v":0},{"$f":"IF(AND(J10>=10,J57),'Base Numbers'!$C$13,0)*IF(J347,1.5,0.75)","v":0},{"$f":"IF(AND(K10>=10,K57),'Base Numbers'!$C$13,0)*IF(K347,1.5,0.75)","v":0},{"$f":"IF(AND(L10>=10,L57),'Base Numbers'!$C$13,0)*IF(L347,1.5,0.75)","v":0},{"$f":"IF(AND(M10>=10,M57),'Base Numbers'!$C$13,0)*IF(M347,1.5,0.75)","v":0},{"$f":"IF(AND(N10>=10,N57),'Base Numbers'!$C$13,0)*IF(N347,1.5,0.75)","v":0},{"$f":"IF(AND(O10>=10,O57),'Base Numbers'!$C$13,0)*IF(O347,1.5,0.75)","v":0},{"$f":"IF(AND(P10>=10,P57),'Base Numbers'!$C$13,0)*IF(P347,1.5,0.75)","v":0},{"$f":"IF(AND(Q10>=10,Q57),'Base Numbers'!$C$13,0)*IF(Q347,1.5,0.75)","v":0},{"$f":"IF(AND(R10>=10,R57),'Base Numbers'!$C$13,0)*IF(R347,1.5,0.75)","v":0},{"$f":"IF(AND(S10>=10,S57),'Base Numbers'!$C$13,0)*IF(S347,1.5,0.75)","v":0},{"$f":"IF(AND(T10>=10,T57),'Base Numbers'!$C$13,0)*IF(T347,1.5,0.75)","v":0},{"$f":"IF(AND(U10>=10,U57),'Base Numbers'!$C$13,0)*IF(U347,1.5,0.75)","v":0},{"$f":"IF(AND(V10>=10,V57),'Base Numbers'!$C$13,0)*IF(V347,1.5,0.75)","v":0},{"$f":"IF(AND(W10>=10,W57),'Base Numbers'!$C$13,0)*IF(W347,1.5,0.75)","v":0},{"$f":"IF(AND(X10>=10,X57),'Base Numbers'!$C$13,0)*IF(X347,1.5,0.75)","v":0},null,"* greater with a reach weapon"]
[{"$nulls":3},"has echo knight echo (L3)",{"$f":"IF(AND(E10>=3,E55>=1),1,0)","v":0},0,0,0,0,0,0,0,0,0,0,0,0,0,0,0,0,0,0,0]
[{"$nulls":3},"opp attacks from echo knight",{"$f":"E356*'Base Numbers'!$C$12","v":0},{"$f":"F356*'Base Numbers'!$C$12","v":0},{"$f":"G356*'Base Numbers'!$C$12","v":0},{"$f":"H356*'Base Numbers'!$C$12","v":0},{"$f":"I356*'Base Numbers'!$C$12","v":0},{"$f":"J356*'Base Numbers'!$C$12","v":0},{"$f":"K356*'Base Numbers'!$C$12","v":0},{"$f":"L356*'Base Numbers'!$C$12","v":0},{"$f":"M356*'Base Numbers'!$C$12","v":0},{"$f":"N356*'Base Numbers'!$C$12","v":0},{"$f":"O356*'Base Numbers'!$C$12","v":0},{"$f":"P356*'Base Numbers'!$C$12","v":0},{"$f":"Q356*'Base Numbers'!$C$12","v":0},{"$f":"R356*'Base Numbers'!$C$12","v":0},{"$f":"S356*'Base Numbers'!$C$12","v":0},{"$f":"T356*'Base Numbers'!$C$12","v":0},{"$f":"U356*'Base Numbers'!$C$12","v":0},{"$f":"V356*'Base Numbers'!$C$12","v":0},{"$f":"W356*'Base Numbers'!$C$12","v":0},{"$f":"X356*'Base Numbers'!$C$12","v":0}]
[{"$nulls":3},"riposte opp attacks",{"$f":"E1113","v":0},{"$f":"F1113","v":0},0,0,0,0,0,0,0,0,0,0,0,0,0,0,0,0,0,0]
[{"$nulls":3},"has Cavalier Vigiliant Defender (L18)",{"$f":"IF(AND(E10>=18,E57),1,0)","v":0},0,0,0,0,0,0,0,0,0,0,0,0,0,0,0,0,0,0,0]
[{"$nulls":3},"base opp attacks (if not ranged)",{"$f":"IF(E137>=1,0,'Base Numbers'!$C$12)","v":0.25},{"$f":"IF(F137>=1,0,'Base Numbers'!$C$12)","v":0.25},{"$f":"IF(G137>=1,0,'Base Numbers'!$C$12)","v":0.25},{"$f":"IF(H137>=1,0,'Base Numbers'!$C$12)","v":0.25},{"$f":"IF(I137>=1,0,'Base Numbers'!$C$12)","v":0.25},{"$f":"IF(J137>=1,0,'Base Numbers'!$C$12)","v":0.25},{"$f":"IF(K137>=1,0,'Base Numbers'!$C$12)","v":0.25},{"$f":"IF(L137>=1,0,'Base Numbers'!$C$12)","v":0.25},{"$f":"IF(M137>=1,0,'Base Numbers'!$C$12)","v":0.25},{"$f":"IF(N137>=1,0,'Base Numbers'!$C$12)","v":0.25},{"$f":"IF(O137>=1,0,'Base Numbers'!$C$12)","v":0.25},{"$f":"IF(P137>=1,0,'Base Numbers'!$C$12)","v":0.25},{"$f":"IF(Q137>=1,0,'Base Numbers'!$C$12)","v":0.25},{"$f":"IF(R137>=1,0,'Base Numbers'!$C$12)","v":0.25},{"$f":"IF(S137>=1,0,'Base Numbers'!$C$12)","v":0.25},{"$f":"IF(T137>=1,0,'Base Numbers'!$C$12)","v":0.25},{"$f":"IF(U137>=1,0,'Base Numbers'!$C$12)","v":0.25},{"$f":"IF(V137>=1,0,'Base Numbers'!$C$12)","v":0.25},{"$f":"IF(W137>=1,0,'Base Numbers'!$C$12)","v":0.25},{"$f":"IF(X137>=1,0,'Base Numbers'!$C$12)","v":0.25},null,"Turned off if Ranged is turned on."]
[{"$nulls":3},"avg number of opp attacks (feat based)",{"$f":"IF(E137>=1,0,MIN(1,E360+E351+E352+E353+E354+E355+E357+E358))*IF(E359,3,1)","v":0.25},0.25,0.25,0.25,0.25,0.25,0.25,0.25,0.25,0.25,0.25,0.25,0.25,0.25,0.25,0.25,0.25,0.25,0.25,0.25]
[{"$nulls":3},"avg number of opp attacks allowing Booming Blade",{"$f":"IF(E137>=1,0,MIN(1,IF(E347=0,E351+E352,0)+E355+E357+E360))","v":0.25},0.25,0.25,0.25,0.25,0.25,0.25,0.25,0.25,0.25,0.25,0.25,0.25,0.25,0.25,0.25,0.25,0.25,0.25,0.25,null,"opp atts that don't allow BB: "]
[{"$nulls":25},"   range 10' reach movement (equipping a polearm)"]
[{"$nulls":25},"   riposte"]
[{"$nulls":3},"SPELL ATTACKS  (based on max of Int, Wis, Cha)",{"$nulls":21},"   cavalier abilities"]
[{"$nulls":3},"spell hit bonus (bless, spell focus bonus)",{"$f":"E306*E228*2.5/('Base Numbers'!$C$5*'Base Numbers'!$C$6)+'Base Numbers'!$G$6+E965/IF(E615>=1,E620,1)","v":0},{"$f":"F306*F228*2.5/('Base Numbers'!$C$5*'Base Numbers'!$C$6)+'Base Numbers'!$G$6+F965/IF(F615>=1,F620,1)","v":0},{"$f":"G306*G228*2.5/('Base Numbers'!$C$5*'Base Numbers'!$C$6)+'Base Numbers'!$G$6+G965/IF(G615>=1,G620,1)","v":0},{"$f":"H306*H228*2.5/('Base Numbers'!$C$5*'Base Numbers'!$C$6)+'Base Numbers'!$G$6+H965/IF(H615>=1,H620,1)","v":0},{"$f":"I306*I228*2.5/('Base Numbers'!$C$5*'Base Numbers'!$C$6)+'Base Numbers'!$G$6+I965/IF(I615>=1,I620,1)","v":0},{"$f":"J306*J228*2.5/('Base Numbers'!$C$5*'Base Numbers'!$C$6)+'Base Numbers'!$G$6+J965/IF(J615>=1,J620,1)","v":0},{"$f":"K306*K228*2.5/('Base Numbers'!$C$5*'Base Numbers'!$C$6)+'Base Numbers'!$G$6+K965/IF(K615>=1,K620,1)","v":0},{"$f":"L306*L228*2.5/('Base Numbers'!$C$5*'Base Numbers'!$C$6)+'Base Numbers'!$G$6+L965/IF(L615>=1,L620,1)","v":0},{"$f":"M306*M228*2.5/('Base Numbers'!$C$5*'Base Numbers'!$C$6)+'Base Numbers'!$G$6+M965/IF(M615>=1,M620,1)","v":0},{"$f":"N306*N228*2.5/('Base Numbers'!$C$5*'Base Numbers'!$C$6)+'Base Numbers'!$G$6+N965/IF(N615>=1,N620,1)","v":0},{"$f":"O306*O228*2.5/('Base Numbers'!$C$5*'Base Numbers'!$C$6)+'Base Numbers'!$G$6+O965/IF(O615>=1,O620,1)","v":0},{"$f":"P306*P228*2.5/('Base Numbers'!$C$5*'Base Numbers'!$C$6)+'Base Numbers'!$G$6+P965/IF(P615>=1,P620,1)","v":0},{"$f":"Q306*Q228*2.5/('Base Numbers'!$C$5*'Base Numbers'!$C$6)+'Base Numbers'!$G$6+Q965/IF(Q615>=1,Q620,1)","v":0},{"$f":"R306*R228*2.5/('Base Numbers'!$C$5*'Base Numbers'!$C$6)+'Base Numbers'!$G$6+R965/IF(R615>=1,R620,1)","v":0},{"$f":"S306*S228*2.5/('Base Numbers'!$C$5*'Base Numbers'!$C$6)+'Base Numbers'!$G$6+S965/IF(S615>=1,S620,1)","v":0},{"$f":"T306*T228*2.5/('Base Numbers'!$C$5*'Base Numbers'!$C$6)+'Base Numbers'!$G$6+T965/IF(T615>=1,T620,1)","v":0},{"$f":"U306*U228*2.5/('Base Numbers'!$C$5*'Base Numbers'!$C$6)+'Base Numbers'!$G$6+U965/IF(U615>=1,U620,1)","v":0},{"$f":"V306*V228*2.5/('Base Numbers'!$C$5*'Base Numbers'!$C$6)+'Base Numbers'!$G$6+V965/IF(V615>=1,V620,1)","v":0},{"$f":"W306*W228*2.5/('Base Numbers'!$C$5*'Base Numbers'!$C$6)+'Base Numbers'!$G$6+W965/IF(W615>=1,W620,1)","v":0},{"$f":"X306*X228*2.5/('Base Numbers'!$C$5*'Base Numbers'!$C$6)+'Base Numbers'!$G$6+X965/IF(X615>=1,X620,1)","v":0},null,"   PAM feat when used with a reach weapon"]
[{"$nulls":3},"spell hit bonus (bless) on Bonus attacks",{"$f":"(1+E306)*E228*2.5/('Base Numbers'!$C$5*'Base Numbers'!$C$6)+'Base Numbers'!$G$6","v":0},{"$f":"(1+F306)*F228*2.5/('Base Numbers'!$C$5*'Base Numbers'!$C$6)+'Base Numbers'!$G$6","v":0},{"$f":"(1+G306)*G228*2.5/('Base Numbers'!$C$5*'Base Numbers'!$C$6)+'Base Numbers'!$G$6","v":0},{"$f":"(1+H306)*H228*2.5/('Base Numbers'!$C$5*'Base Numbers'!$C$6)+'Base Numbers'!$G$6","v":0},{"$f":"(1+I306)*I228*2.5/('Base Numbers'!$C$5*'Base Numbers'!$C$6)+'Base Numbers'!$G$6","v":0},{"$f":"(1+J306)*J228*2.5/('Base Numbers'!$C$5*'Base Numbers'!$C$6)+'Base Numbers'!$G$6","v":0},{"$f":"(1+K306)*K228*2.5/('Base Numbers'!$C$5*'Base Numbers'!$C$6)+'Base Numbers'!$G$6","v":0},{"$f":"(1+L306)*L228*2.5/('Base Numbers'!$C$5*'Base Numbers'!$C$6)+'Base Numbers'!$G$6","v":0},{"$f":"(1+M306)*M228*2.5/('Base Numbers'!$C$5*'Base Numbers'!$C$6)+'Base Numbers'!$G$6","v":0},{"$f":"(1+N306)*N228*2.5/('Base Numbers'!$C$5*'Base Numbers'!$C$6)+'Base Numbers'!$G$6","v":0},{"$f":"(1+O306)*O228*2.5/('Base Numbers'!$C$5*'Base Numbers'!$C$6)+'Base Numbers'!$G$6","v":0},{"$f":"(1+P306)*P228*2.5/('Base Numbers'!$C$5*'Base Numbers'!$C$6)+'Base Numbers'!$G$6","v":0},{"$f":"(1+Q306)*Q228*2.5/('Base Numbers'!$C$5*'Base Numbers'!$C$6)+'Base Numbers'!$G$6","v":0},{"$f":"(1+R306)*R228*2.5/('Base Numbers'!$C$5*'Base Numbers'!$C$6)+'Base Numbers'!$G$6","v":0},{"$f":"(1+S306)*S228*2.5/('Base Numbers'!$C$5*'Base Numbers'!$C$6)+'Base Numbers'!$G$6","v":0},{"$f":"(1+T306)*T228*2.5/('Base Numbers'!$C$5*'Base Numbers'!$C$6)+'Base Numbers'!$G$6","v":0},{"$f":"(1+U306)*U228*2.5/('Base Numbers'!$C$5*'Base Numbers'!$C$6)+'Base Numbers'!$G$6","v":0},{"$f":"(1+V306)*V228*2.5/('Base Numbers'!$C$5*'Base Numbers'!$C$6)+'Base Numbers'!$G$6","v":0},{"$f":"(1+W306)*W228*2.5/('Base Numbers'!$C$5*'Base Numbers'!$C$6)+'Base Numbers'!$G$6","v":0},{"$f":"(1+X306)*X228*2.5/('Base Numbers'!$C$5*'Base Numbers'!$C$6)+'Base Numbers'!$G$6","v":0},null,"   sentinel attacks from target attacking a different target"]
[{"$nulls":3},"spell one die hit chance",{"$f":"MIN(0.95,1-(E129-1-MAX(E32,E33,E34)-E35-E366)/20)+IF($B$52,0.05*MIN(0.95,1-(E129-1-MAX(E32,E33,E34)-E35-E366)/20))","v":0.65},0.65,0.6,0.6,0.65,0.6,0.6,0.6,0.6,0.6,0.6,0.55,0.6,0.6,0.55,0.55,0.6,0.55,0.55,0.55]
[{"$nulls":3},"spell one die hit chance on Bonus attacks",{"$f":"MIN(0.95,1-(E129-1-MAX(E32,E33,E34)-E35-E367)/20)+IF($B$52,0.05*MIN(0.95,1-(E129-1-MAX(E32,E33,E34)-E35-E367)/20))","v":0.65},0.65,0.6,0.6,0.65,0.6,0.6,0.6,0.6,0.6,0.6,0.55,0.6,0.6,0.55,0.55,0.6,0.55,0.55,0.55,null,"*spell hit bonus for emboldened bond averaged over number of eld blasts, or is just 1"]
[{"$nulls":3},"spell hit chance on Advantage Attacks",{"$f":"1-((E129-1-MAX(E32,E33,E34)-E35-E366)/20)^E442+IF($B$52,0.05^E442*(1-(E129-1-MAX(E32,E33,E34)-E35-E366)/20))","v":0.8775000000000001},0.8775000000000001,0.84,0.84,0.8775000000000001,0.84,0.84,0.84,0.84,0.84,0.84,0.7975,0.84,0.84,0.7975,0.7975,0.84,0.7975,0.7975,0.7975]
[{"$nulls":3},"spell hit chance on Adv Bonus Attacks",{"$f":"1-((E129-1-MAX(E32,E33,E34)-E35-E367)/20)^E442+IF($B$52,0.05^E442*(1-(E129-1-MAX(E32,E33,E34)-E35-E367)/20))","v":0.8775000000000001},0.8775000000000001,0.84,0.84,0.8775000000000001,0.84,0.84,0.84,0.84,0.84,0.84,0.7975,0.84,0.84,0.7975,0.7975,0.84,0.7975,0.7975,0.7975]
[{"$nulls":3},"spell one die hit chance with Disadv attacks",{"$f":"(1-(E129-1-MAX(E32,E33,E34)-E35-E366)/20)^2+IF($B$52,(1-0.95^2)*(1-(E129-1-MAX(E32,E33,E34)-E35-E366)/20))","v":0.42250000000000004},0.42250000000000004,0.36,0.36,0.42250000000000004,0.36,0.36,0.36,0.36,0.36,0.36,0.30250000000000005,0.36,0.36,0.30250000000000005,0.30250000000000005,0.36,0.30250000000000005,0.30250000000000005,0.30250000000000005]
[{"$nulls":3},"spell one die hit chance with Disadv Bonus attacks",{"$f":"(1-(E129-1-MAX(E32,E33,E34)-E35-E367)/20)^2+IF($B$52,(1-0.95^2)*(1-(E129-1-MAX(E32,E33,E34)-E35-E367)/20))","v":0.42250000000000004},0.42250000000000004,0.36,0.36,0.42250000000000004,0.36,0.36,0.36,0.36,0.36,0.36,0.30250000000000005,0.36,0.36,0.30250000000000005,0.30250000000000005,0.36,0.30250000000000005,0.30250000000000005,0.30250000000000005]
[]
[{"$nulls":3},"PRONING ATTACKS"]
[{"$nulls":3},"fighter cavalier charge attacks (L15)",{"$f":"IF(AND(E10>=15,E57),'Base Numbers'!$C$5*'Base Numbers'!$C$6,0)","v":0},{"$f":"IF(AND(F10>=15,F57),'Base Numbers'!$C$5*'Base Numbers'!$C$6,0)","v":0},{"$f":"IF(AND(G10>=15,G57),'Base Numbers'!$C$5*'Base Numbers'!$C$6,0)","v":0},{"$f":"IF(AND(H10>=15,H57),'Base Numbers'!$C$5*'Base Numbers'!$C$6,0)","v":0},{"$f":"IF(AND(I10>=15,I57),'Base Numbers'!$C$5*'Base Numbers'!$C$6,0)","v":0},{"$f":"IF(AND(J10>=15,J57),'Base Numbers'!$C$5*'Base Numbers'!$C$6,0)","v":0},{"$f":"IF(AND(K10>=15,K57),'Base Numbers'!$C$5*'Base Numbers'!$C$6,0)","v":0},{"$f":"IF(AND(L10>=15,L57),'Base Numbers'!$C$5*'Base Numbers'!$C$6,0)","v":0},{"$f":"IF(AND(M10>=15,M57),'Base Numbers'!$C$5*'Base Numbers'!$C$6,0)","v":0},{"$f":"IF(AND(N10>=15,N57),'Base Numbers'!$C$5*'Base Numbers'!$C$6,0)","v":0},{"$f":"IF(AND(O10>=15,O57),'Base Numbers'!$C$5*'Base Numbers'!$C$6,0)","v":0},{"$f":"IF(AND(P10>=15,P57),'Base Numbers'!$C$5*'Base Numbers'!$C$6,0)","v":0},{"$f":"IF(AND(Q10>=15,Q57),'Base Numbers'!$C$5*'Base Numbers'!$C$6,0)","v":0},{"$f":"IF(AND(R10>=15,R57),'Base Numbers'!$C$5*'Base Numbers'!$C$6,0)","v":0},{"$f":"IF(AND(S10>=15,S57),'Base Numbers'!$C$5*'Base Numbers'!$C$6,0)","v":0},{"$f":"IF(AND(T10>=15,T57),'Base Numbers'!$C$5*'Base Numbers'!$C$6,0)","v":0},{"$f":"IF(AND(U10>=15,U57),'Base Numbers'!$C$5*'Base Numbers'!$C$6,0)","v":0},{"$f":"IF(AND(V10>=15,V57),'Base Numbers'!$C$5*'Base Numbers'!$C$6,0)","v":0},{"$f":"IF(AND(W10>=15,W57),'Base Numbers'!$C$5*'Base Numbers'!$C$6,0)","v":0},{"$f":"IF(AND(X10>=15,X57),'Base Numbers'!$C$5*'Base Numbers'!$C$6,0)","v":0}]
[{"$nulls":3},"number of fighter battlemaster trip attacks",{"$f":"IF(E1110,E1107*E1112,0)","v":0},{"$f":"IF(F1110,F1107*F1112,0)","v":0},0,0,0,0,0,0,0,0,0,0,0,0,0,0,0,0,0,0]
[{"$nulls":3},"number of prone attempts adjusted for fights with proneable targets",{"$f":"MAX(0,MIN('Caster Tables'!C9*'Base Numbers'!$C$6*'Base Numbers'!$C$5,(E377+E376)/('Base Numbers'!$C$6)))","v":0},{"$f":"MAX(0,MIN('Caster Tables'!D9*'Base Numbers'!$C$6*'Base Numbers'!$C$5,(F377+F376)/('Base Numbers'!$C$6)))","v":0},{"$f":"MAX(0,MIN('Caster Tables'!E9*'Base Numbers'!$C$6*'Base Numbers'!$C$5,(G377+G376)/('Base Numbers'!$C$6)))","v":0},{"$f":"MAX(0,MIN('Caster Tables'!F9*'Base Numbers'!$C$6*'Base Numbers'!$C$5,(H377+H376)/('Base Numbers'!$C$6)))","v":0},{"$f":"MAX(0,MIN('Caster Tables'!G9*'Base Numbers'!$C$6*'Base Numbers'!$C$5,(I377+I376)/('Base Numbers'!$C$6)))","v":0},{"$f":"MAX(0,MIN('Caster Tables'!H9*'Base Numbers'!$C$6*'Base Numbers'!$C$5,(J377+J376)/('Base Numbers'!$C$6)))","v":0},{"$f":"MAX(0,MIN('Caster Tables'!I9*'Base Numbers'!$C$6*'Base Numbers'!$C$5,(K377+K376)/('Base Numbers'!$C$6)))","v":0},{"$f":"MAX(0,MIN('Caster Tables'!J9*'Base Numbers'!$C$6*'Base Numbers'!$C$5,(L377+L376)/('Base Numbers'!$C$6)))","v":0},{"$f":"MAX(0,MIN('Caster Tables'!K9*'Base Numbers'!$C$6*'Base Numbers'!$C$5,(M377+M376)/('Base Numbers'!$C$6)))","v":0},{"$f":"MAX(0,MIN('Caster Tables'!L9*'Base Numbers'!$C$6*'Base Numbers'!$C$5,(N377+N376)/('Base Numbers'!$C$6)))","v":0},{"$f":"MAX(0,MIN('Caster Tables'!M9*'Base Numbers'!$C$6*'Base Numbers'!$C$5,(O377+O376)/('Base Numbers'!$C$6)))","v":0},{"$f":"MAX(0,MIN('Caster Tables'!N9*'Base Numbers'!$C$6*'Base Numbers'!$C$5,(P377+P376)/('Base Numbers'!$C$6)))","v":0},{"$f":"MAX(0,MIN('Caster Tables'!O9*'Base Numbers'!$C$6*'Base Numbers'!$C$5,(Q377+Q376)/('Base Numbers'!$C$6)))","v":0},{"$f":"MAX(0,MIN('Caster Tables'!P9*'Base Numbers'!$C$6*'Base Numbers'!$C$5,(R377+R376)/('Base Numbers'!$C$6)))","v":0},{"$f":"MAX(0,MIN('Caster Tables'!Q9*'Base Numbers'!$C$6*'Base Numbers'!$C$5,(S377+S376)/('Base Numbers'!$C$6)))","v":0},{"$f":"MAX(0,MIN('Caster Tables'!R9*'Base Numbers'!$C$6*'Base Numbers'!$C$5,(T377+T376)/('Base Numbers'!$C$6)))","v":0},{"$f":"MAX(0,MIN('Caster Tables'!S9*'Base Numbers'!$C$6*'Base Numbers'!$C$5,(U377+U376)/('Base Numbers'!$C$6)))","v":0},{"$f":"MAX(0,MIN('Caster Tables'!T9*'Base Numbers'!$C$6*'Base Numbers'!$C$5,(V377+V376)/('Base Numbers'!$C$6)))","v":0},{"$f":"MAX(0,MIN('Caster Tables'!U9*'Base Numbers'!$C$6*'Base Numbers'!$C$5,(W377+W376)/('Base Numbers'!$C$6)))","v":0},{"$f":"MAX(0,MIN('Caster Tables'!V9*'Base Numbers'!$C$6*'Base Numbers'!$C$5,(X377+X376)/('Base Numbers'!$C$6)))","v":0}]
[{"$nulls":3},"number of successful proning attacks",{"$f":"MIN((E378)*E1112,'Caster Tables'!C9*'Base Numbers'!$C$6*'Base Numbers'!$C$5)","v":0},{"$f":"MIN((F378)*F1112,'Caster Tables'!D9*'Base Numbers'!$C$6*'Base Numbers'!$C$5)","v":0},{"$f":"MIN((G378)*G1112,'Caster Tables'!E9*'Base Numbers'!$C$6*'Base Numbers'!$C$5)","v":0},{"$f":"MIN((H378)*H1112,'Caster Tables'!F9*'Base Numbers'!$C$6*'Base Numbers'!$C$5)","v":0},{"$f":"MIN((I378)*I1112,'Caster Tables'!G9*'Base Numbers'!$C$6*'Base Numbers'!$C$5)","v":0},{"$f":"MIN((J378)*J1112,'Caster Tables'!H9*'Base Numbers'!$C$6*'Base Numbers'!$C$5)","v":0},{"$f":"MIN((K378)*K1112,'Caster Tables'!I9*'Base Numbers'!$C$6*'Base Numbers'!$C$5)","v":0},{"$f":"MIN((L378)*L1112,'Caster Tables'!J9*'Base Numbers'!$C$6*'Base Numbers'!$C$5)","v":0},{"$f":"MIN((M378)*M1112,'Caster Tables'!K9*'Base Numbers'!$C$6*'Base Numbers'!$C$5)","v":0},{"$f":"MIN((N378)*N1112,'Caster Tables'!L9*'Base Numbers'!$C$6*'Base Numbers'!$C$5)","v":0},{"$f":"MIN((O378)*O1112,'Caster Tables'!M9*'Base Numbers'!$C$6*'Base Numbers'!$C$5)","v":0},{"$f":"MIN((P378)*P1112,'Caster Tables'!N9*'Base Numbers'!$C$6*'Base Numbers'!$C$5)","v":0},{"$f":"MIN((Q378)*Q1112,'Caster Tables'!O9*'Base Numbers'!$C$6*'Base Numbers'!$C$5)","v":0},{"$f":"MIN((R378)*R1112,'Caster Tables'!P9*'Base Numbers'!$C$6*'Base Numbers'!$C$5)","v":0},{"$f":"MIN((S378)*S1112,'Caster Tables'!Q9*'Base Numbers'!$C$6*'Base Numbers'!$C$5)","v":0},{"$f":"MIN((T378)*T1112,'Caster Tables'!R9*'Base Numbers'!$C$6*'Base Numbers'!$C$5)","v":0},{"$f":"MIN((U378)*U1112,'Caster Tables'!S9*'Base Numbers'!$C$6*'Base Numbers'!$C$5)","v":0},{"$f":"MIN((V378)*V1112,'Caster Tables'!T9*'Base Numbers'!$C$6*'Base Numbers'!$C$5)","v":0},{"$f":"MIN((W378)*W1112,'Caster Tables'!U9*'Base Numbers'!$C$6*'Base Numbers'!$C$5)","v":0},{"$f":"MIN((X378)*X1112,'Caster Tables'!V9*'Base Numbers'!$C$6*'Base Numbers'!$C$5)","v":0}]
[{"$nulls":3},"pct rounds w/ prone target",{"$f":"E379/('Base Numbers'!$C$5*'Base Numbers'!$C$6)","v":0},{"$f":"F379/('Base Numbers'!$C$5*'Base Numbers'!$C$6)","v":0},{"$f":"G379/('Base Numbers'!$C$5*'Base Numbers'!$C$6)","v":0},{"$f":"H379/('Base Numbers'!$C$5*'Base Numbers'!$C$6)","v":0},{"$f":"I379/('Base Numbers'!$C$5*'Base Numbers'!$C$6)","v":0},{"$f":"J379/('Base Numbers'!$C$5*'Base Numbers'!$C$6)","v":0},{"$f":"K379/('Base Numbers'!$C$5*'Base Numbers'!$C$6)","v":0},{"$f":"L379/('Base Numbers'!$C$5*'Base Numbers'!$C$6)","v":0},{"$f":"M379/('Base Numbers'!$C$5*'Base Numbers'!$C$6)","v":0},{"$f":"N379/('Base Numbers'!$C$5*'Base Numbers'!$C$6)","v":0},{"$f":"O379/('Base Numbers'!$C$5*'Base Numbers'!$C$6)","v":0},{"$f":"P379/('Base Numbers'!$C$5*'Base Numbers'!$C$6)","v":0},{"$f":"Q379/('Base Numbers'!$C$5*'Base Numbers'!$C$6)","v":0},{"$f":"R379/('Base Numbers'!$C$5*'Base Numbers'!$C$6)","v":0},{"$f":"S379/('Base Numbers'!$C$5*'Base Numbers'!$C$6)","v":0},{"$f":"T379/('Base Numbers'!$C$5*'Base Numbers'!$C$6)","v":0},{"$f":"U379/('Base Numbers'!$C$5*'Base Numbers'!$C$6)","v":0},{"$f":"V379/('Base Numbers'!$C$5*'Base Numbers'!$C$6)","v":0},{"$f":"W379/('Base Numbers'!$C$5*'Base Numbers'!$C$6)","v":0},{"$f":"X379/('Base Numbers'!$C$5*'Base Numbers'!$C$6)","v":0}]
[]
[{"$nulls":3},"DARKNESS AND OBSCUREMENT"]
[{"$nulls":3},"can see in magical darkness (Shadow Sorc, Warl L2, Rogue 14, Ranger 18)",{"$f":"IF(OR(AND($B$57>0,E6>=$B$57),E12>=2,AND(E13>=3,E39),E9>=18,E11>=14),1,0)","v":0},0,0,0,0,0,0,0,0,0,0,0,0,0,0,0,0,0,0,0,null,"* also a high level rogue/ranger skill"]
[{"$nulls":3},"can see in total obscurement (Blindfighting)",{"$f":"IF(OR(E9>=18,E11>=14,AND($B$57>0,E6>=$B$57)),1,0)","v":0},{"$f":"IF(OR(F9>=18,F11>=14,AND($B$57>0,F6>=$B$57)),1,0)","v":0},0,0,0,0,0,0,0,0,0,0,0,0,0,0,0,0,0,0]
[{"$nulls":3},"pct of actions in obscurement vs. targets w/o blindsight",{"$f":"IF(E393>0,MAX(0,IF(E393>0,MIN(E225*('Base Numbers'!$C$6-1)/E393,E397),MIN(E224*(E303)/E393,E397)),0),0)","v":0},{"$f":"IF(F393>0,MAX(0,IF(F393>0,MIN(F225*('Base Numbers'!$C$6-1)/F393,F397),MIN(F224*(F303)/F393,F397)),0),0)","v":0},{"$f":"IF(G393>0,MAX(0,IF(G393>0,MIN(G225*('Base Numbers'!$C$6-1)/G393,G397),MIN(G224*(G303)/G393,G397)),0),0)","v":0},{"$f":"IF(H393>0,MAX(0,IF(H393>0,MIN(H225*('Base Numbers'!$C$6-1)/H393,H397),MIN(H224*(H303)/H393,H397)),0),0)","v":0},{"$f":"IF(I393>0,MAX(0,IF(I393>0,MIN(I225*('Base Numbers'!$C$6-1)/I393,I397),MIN(I224*(I303)/I393,I397)),0),0)","v":0},{"$f":"IF(J393>0,MAX(0,IF(J393>0,MIN(J225*('Base Numbers'!$C$6-1)/J393,J397),MIN(J224*(J303)/J393,J397)),0),0)","v":0},{"$f":"IF(K393>0,MAX(0,IF(K393>0,MIN(K225*('Base Numbers'!$C$6-1)/K393,K397),MIN(K224*(K303)/K393,K397)),0),0)","v":0},{"$f":"IF(L393>0,MAX(0,IF(L393>0,MIN(L225*('Base Numbers'!$C$6-1)/L393,L397),MIN(L224*(L303)/L393,L397)),0),0)","v":0},{"$f":"IF(M393>0,MAX(0,IF(M393>0,MIN(M225*('Base Numbers'!$C$6-1)/M393,M397),MIN(M224*(M303)/M393,M397)),0),0)","v":0},{"$f":"IF(N393>0,MAX(0,IF(N393>0,MIN(N225*('Base Numbers'!$C$6-1)/N393,N397),MIN(N224*(N303)/N393,N397)),0),0)","v":0},{"$f":"IF(O393>0,MAX(0,IF(O393>0,MIN(O225*('Base Numbers'!$C$6-1)/O393,O397),MIN(O224*(O303)/O393,O397)),0),0)","v":0},{"$f":"IF(P393>0,MAX(0,IF(P393>0,MIN(P225*('Base Numbers'!$C$6-1)/P393,P397),MIN(P224*(P303)/P393,P397)),0),0)","v":0},{"$f":"IF(Q393>0,MAX(0,IF(Q393>0,MIN(Q225*('Base Numbers'!$C$6-1)/Q393,Q397),MIN(Q224*(Q303)/Q393,Q397)),0),0)","v":0},{"$f":"IF(R393>0,MAX(0,IF(R393>0,MIN(R225*('Base Numbers'!$C$6-1)/R393,R397),MIN(R224*(R303)/R393,R397)),0),0)","v":0},{"$f":"IF(S393>0,MAX(0,IF(S393>0,MIN(S225*('Base Numbers'!$C$6-1)/S393,S397),MIN(S224*(S303)/S393,S397)),0),0)","v":0},{"$f":"IF(T393>0,MAX(0,IF(T393>0,MIN(T225*('Base Numbers'!$C$6-1)/T393,T397),MIN(T224*(T303)/T393,T397)),0),0)","v":0},{"$f":"IF(U393>0,MAX(0,IF(U393>0,MIN(U225*('Base Numbers'!$C$6-1)/U393,U397),MIN(U224*(U303)/U393,U397)),0),0)","v":0},{"$f":"IF(V393>0,MAX(0,IF(V393>0,MIN(V225*('Base Numbers'!$C$6-1)/V393,V397),MIN(V224*(V303)/V393,V397)),0),0)","v":0},{"$f":"IF(W393>0,MAX(0,IF(W393>0,MIN(W225*('Base Numbers'!$C$6-1)/W393,W397),MIN(W224*(W303)/W393,W397)),0),0)","v":0},{"$f":"IF(X393>0,MAX(0,IF(X393>0,MIN(X225*('Base Numbers'!$C$6-1)/X393,X397),MIN(X224*(X303)/X393,X397)),0),0)","v":0},null,"* limited by pct of fights w/o tremorsense or blindsight"]
[{"$nulls":3},"pct of actions in darkness vs. targets w/o truesight",{"$f":"IF(E393>0,MAX(0,MIN(E226*(E303)/E393,E395)),0)","v":0},0,0,0,0,0,0,0,0,0,0,0,0,0,0,0,0,0,0,0,null,"* limited by pct of fights w/o truesight or blindsight"]
[{"$nulls":3},"pct of bonus actions in obscurement vs. targets w/o blindsight",{"$f":"IF(E394>0,MAX(0,MIN(E225*('Base Numbers'!$C$6)/E394,E398),MIN(E224*(E303+1)/E394,E398)),0)","v":0},{"$f":"IF(F394>0,MAX(0,MIN(F225*('Base Numbers'!$C$6)/F394,F398),MIN(F224*(F303+1)/F394,F398)),0)","v":0},{"$f":"IF(G394>0,MAX(0,MIN(G225*('Base Numbers'!$C$6)/G394,G398),MIN(G224*(G303+1)/G394,G398)),0)","v":0},{"$f":"IF(H394>0,MAX(0,MIN(H225*('Base Numbers'!$C$6)/H394,H398),MIN(H224*(H303+1)/H394,H398)),0)","v":0},{"$f":"IF(I394>0,MAX(0,MIN(I225*('Base Numbers'!$C$6)/I394,I398),MIN(I224*(I303+1)/I394,I398)),0)","v":0},{"$f":"IF(J394>0,MAX(0,MIN(J225*('Base Numbers'!$C$6)/J394,J398),MIN(J224*(J303+1)/J394,J398)),0)","v":0},{"$f":"IF(K394>0,MAX(0,MIN(K225*('Base Numbers'!$C$6)/K394,K398),MIN(K224*(K303+1)/K394,K398)),0)","v":0},{"$f":"IF(L394>0,MAX(0,MIN(L225*('Base Numbers'!$C$6)/L394,L398),MIN(L224*(L303+1)/L394,L398)),0)","v":0},{"$f":"IF(M394>0,MAX(0,MIN(M225*('Base Numbers'!$C$6)/M394,M398),MIN(M224*(M303+1)/M394,M398)),0)","v":0},{"$f":"IF(N394>0,MAX(0,MIN(N225*('Base Numbers'!$C$6)/N394,N398),MIN(N224*(N303+1)/N394,N398)),0)","v":0},{"$f":"IF(O394>0,MAX(0,MIN(O225*('Base Numbers'!$C$6)/O394,O398),MIN(O224*(O303+1)/O394,O398)),0)","v":0},{"$f":"IF(P394>0,MAX(0,MIN(P225*('Base Numbers'!$C$6)/P394,P398),MIN(P224*(P303+1)/P394,P398)),0)","v":0},{"$f":"IF(Q394>0,MAX(0,MIN(Q225*('Base Numbers'!$C$6)/Q394,Q398),MIN(Q224*(Q303+1)/Q394,Q398)),0)","v":0},{"$f":"IF(R394>0,MAX(0,MIN(R225*('Base Numbers'!$C$6)/R394,R398),MIN(R224*(R303+1)/R394,R398)),0)","v":0},{"$f":"IF(S394>0,MAX(0,MIN(S225*('Base Numbers'!$C$6)/S394,S398),MIN(S224*(S303+1)/S394,S398)),0)","v":0},{"$f":"IF(T394>0,MAX(0,MIN(T225*('Base Numbers'!$C$6)/T394,T398),MIN(T224*(T303+1)/T394,T398)),0)","v":0},{"$f":"IF(U394>0,MAX(0,MIN(U225*('Base Numbers'!$C$6)/U394,U398),MIN(U224*(U303+1)/U394,U398)),0)","v":0},{"$f":"IF(V394>0,MAX(0,MIN(V225*('Base Numbers'!$C$6)/V394,V398),MIN(V224*(V303+1)/V394,V398)),0)","v":0},{"$f":"IF(W394>0,MAX(0,MIN(W225*('Base Numbers'!$C$6)/W394,W398),MIN(W224*(W303+1)/W394,W398)),0)","v":0},{"$f":"IF(X394>0,MAX(0,MIN(X225*('Base Numbers'!$C$6)/X394,X398),MIN(X224*(X303+1)/X394,X398)),0)","v":0}]
[{"$nulls":3},"pct of bonus actions in darkness vs. targets w/o truesight",{"$f":"IF(E396>0,MAX(0,MIN(E228*(E305+1)/E396,E398)),0)","v":0},0,0,0,0,0,0,0,0,0,0,0,0,0,0,0,0,0,0,0]
[{"$nulls":3},"pct of reactions in obscurement vs. targets w/o blindsight",{"$f":"MAX(0,MIN(E225*'Base Numbers'!$C$6/('Base Numbers'!$C$5*'Base Numbers'!$C$6),E393),MIN(E224*(E307)/('Base Numbers'!$C$5*'Base Numbers'!$C$6),E398))","v":0},{"$f":"MAX(0,MIN(F225*'Base Numbers'!$C$6/('Base Numbers'!$C$5*'Base Numbers'!$C$6),F393),MIN(F224*(F307)/('Base Numbers'!$C$5*'Base Numbers'!$C$6),F398))","v":0},{"$f":"MAX(0,MIN(G225*'Base Numbers'!$C$6/('Base Numbers'!$C$5*'Base Numbers'!$C$6),G393),MIN(G224*(G307)/('Base Numbers'!$C$5*'Base Numbers'!$C$6),G398))","v":0},{"$f":"MAX(0,MIN(H225*'Base Numbers'!$C$6/('Base Numbers'!$C$5*'Base Numbers'!$C$6),H393),MIN(H224*(H307)/('Base Numbers'!$C$5*'Base Numbers'!$C$6),H398))","v":0},{"$f":"MAX(0,MIN(I225*'Base Numbers'!$C$6/('Base Numbers'!$C$5*'Base Numbers'!$C$6),I393),MIN(I224*(I307)/('Base Numbers'!$C$5*'Base Numbers'!$C$6),I398))","v":0},{"$f":"MAX(0,MIN(J225*'Base Numbers'!$C$6/('Base Numbers'!$C$5*'Base Numbers'!$C$6),J393),MIN(J224*(J307)/('Base Numbers'!$C$5*'Base Numbers'!$C$6),J398))","v":0},{"$f":"MAX(0,MIN(K225*'Base Numbers'!$C$6/('Base Numbers'!$C$5*'Base Numbers'!$C$6),K393),MIN(K224*(K307)/('Base Numbers'!$C$5*'Base Numbers'!$C$6),K398))","v":0},{"$f":"MAX(0,MIN(L225*'Base Numbers'!$C$6/('Base Numbers'!$C$5*'Base Numbers'!$C$6),L393),MIN(L224*(L307)/('Base Numbers'!$C$5*'Base Numbers'!$C$6),L398))","v":0},{"$f":"MAX(0,MIN(M225*'Base Numbers'!$C$6/('Base Numbers'!$C$5*'Base Numbers'!$C$6),M393),MIN(M224*(M307)/('Base Numbers'!$C$5*'Base Numbers'!$C$6),M398))","v":0},{"$f":"MAX(0,MIN(N225*'Base Numbers'!$C$6/('Base Numbers'!$C$5*'Base Numbers'!$C$6),N393),MIN(N224*(N307)/('Base Numbers'!$C$5*'Base Numbers'!$C$6),N398))","v":0},{"$f":"MAX(0,MIN(O225*'Base Numbers'!$C$6/('Base Numbers'!$C$5*'Base Numbers'!$C$6),O393),MIN(O224*(O307)/('Base Numbers'!$C$5*'Base Numbers'!$C$6),O398))","v":0},{"$f":"MAX(0,MIN(P225*'Base Numbers'!$C$6/('Base Numbers'!$C$5*'Base Numbers'!$C$6),P393),MIN(P224*(P307)/('Base Numbers'!$C$5*'Base Numbers'!$C$6),P398))","v":0},{"$f":"MAX(0,MIN(Q225*'Base Numbers'!$C$6/('Base Numbers'!$C$5*'Base Numbers'!$C$6),Q393),MIN(Q224*(Q307)/('Base Numbers'!$C$5*'Base Numbers'!$C$6),Q398))","v":0},{"$f":"MAX(0,MIN(R225*'Base Numbers'!$C$6/('Base Numbers'!$C$5*'Base Numbers'!$C$6),R393),MIN(R224*(R307)/('Base Numbers'!$C$5*'Base Numbers'!$C$6),R398))","v":0},{"$f":"MAX(0,MIN(S225*'Base Numbers'!$C$6/('Base Numbers'!$C$5*'Base Numbers'!$C$6),S393),MIN(S224*(S307)/('Base Numbers'!$C$5*'Base Numbers'!$C$6),S398))","v":0},{"$f":"MAX(0,MIN(T225*'Base Numbers'!$C$6/('Base Numbers'!$C$5*'Base Numbers'!$C$6),T393),MIN(T224*(T307)/('Base Numbers'!$C$5*'Base Numbers'!$C$6),T398))","v":0},{"$f":"MAX(0,MIN(U225*'Base Numbers'!$C$6/('Base Numbers'!$C$5*'Base Numbers'!$C$6),U393),MIN(U224*(U307)/('Base Numbers'!$C$5*'Base Numbers'!$C$6),U398))","v":0},{"$f":"MAX(0,MIN(V225*'Base Numbers'!$C$6/('Base Numbers'!$C$5*'Base Numbers'!$C$6),V393),MIN(V224*(V307)/('Base Numbers'!$C$5*'Base Numbers'!$C$6),V398))","v":0},{"$f":"MAX(0,MIN(W225*'Base Numbers'!$C$6/('Base Numbers'!$C$5*'Base Numbers'!$C$6),W393),MIN(W224*(W307)/('Base Numbers'!$C$5*'Base Numbers'!$C$6),W398))","v":0},{"$f":"MAX(0,MIN(X225*'Base Numbers'!$C$6/('Base Numbers'!$C$5*'Base Numbers'!$C$6),X393),MIN(X224*(X307)/('Base Numbers'!$C$5*'Base Numbers'!$C$6),X398))","v":0}]
[{"$nulls":3},"pct of reactions in darkness vs. targets w/o truesight",{"$f":"MAX(0,MIN(E226*(E307)/('Base Numbers'!$C$5*'Base Numbers'!$C$6),'Caster Tables'!C$71))","v":0},{"$f":"MAX(0,MIN(F226*(F307)/('Base Numbers'!$C$5*'Base Numbers'!$C$6),'Caster Tables'!D$71))","v":0},{"$f":"MAX(0,MIN(G226*(G307)/('Base Numbers'!$C$5*'Base Numbers'!$C$6),'Caster Tables'!E$71))","v":0},{"$f":"MAX(0,MIN(H226*(H307)/('Base Numbers'!$C$5*'Base Numbers'!$C$6),'Caster Tables'!F$71))","v":0},{"$f":"MAX(0,MIN(I226*(I307)/('Base Numbers'!$C$5*'Base Numbers'!$C$6),'Caster Tables'!G$71))","v":0},{"$f":"MAX(0,MIN(J226*(J307)/('Base Numbers'!$C$5*'Base Numbers'!$C$6),'Caster Tables'!H$71))","v":0},{"$f":"MAX(0,MIN(K226*(K307)/('Base Numbers'!$C$5*'Base Numbers'!$C$6),'Caster Tables'!I$71))","v":0},{"$f":"MAX(0,MIN(L226*(L307)/('Base Numbers'!$C$5*'Base Numbers'!$C$6),'Caster Tables'!J$71))","v":0},{"$f":"MAX(0,MIN(M226*(M307)/('Base Numbers'!$C$5*'Base Numbers'!$C$6),'Caster Tables'!K$71))","v":0},{"$f":"MAX(0,MIN(N226*(N307)/('Base Numbers'!$C$5*'Base Numbers'!$C$6),'Caster Tables'!L$71))","v":0},{"$f":"MAX(0,MIN(O226*(O307)/('Base Numbers'!$C$5*'Base Numbers'!$C$6),'Caster Tables'!M$71))","v":0},{"$f":"MAX(0,MIN(P226*(P307)/('Base Numbers'!$C$5*'Base Numbers'!$C$6),'Caster Tables'!N$71))","v":0},{"$f":"MAX(0,MIN(Q226*(Q307)/('Base Numbers'!$C$5*'Base Numbers'!$C$6),'Caster Tables'!O$71))","v":0},{"$f":"MAX(0,MIN(R226*(R307)/('Base Numbers'!$C$5*'Base Numbers'!$C$6),'Caster Tables'!P$71))","v":0},{"$f":"MAX(0,MIN(S226*(S307)/('Base Numbers'!$C$5*'Base Numbers'!$C$6),'Caster Tables'!Q$71))","v":0},{"$f":"MAX(0,MIN(T226*(T307)/('Base Numbers'!$C$5*'Base Numbers'!$C$6),'Caster Tables'!R$71))","v":0},{"$f":"MAX(0,MIN(U226*(U307)/('Base Numbers'!$C$5*'Base Numbers'!$C$6),'Caster Tables'!S$71))","v":0},{"$f":"MAX(0,MIN(V226*(V307)/('Base Numbers'!$C$5*'Base Numbers'!$C$6),'Caster Tables'!T$71))","v":0},{"$f":"MAX(0,MIN(W226*(W307)/('Base Numbers'!$C$5*'Base Numbers'!$C$6),'Caster Tables'!U$71))","v":0},{"$f":"MAX(0,MIN(X226*(X307)/('Base Numbers'!$C$5*'Base Numbers'!$C$6),'Caster Tables'!V$71))","v":0}]
[]
[{"$nulls":3},"SOURCES OF ADVANTAGE"]
[{"$nulls":3},"number of attack actions remaining after AE spells (nearest whole fight)",{"$f":"MAX(0,'Base Numbers'!$C$5*'Base Numbers'!$C$6-FLOOR(E285/'Base Numbers'!$C$6,1))","v":16},{"$f":"MAX(0,'Base Numbers'!$C$5*'Base Numbers'!$C$6-FLOOR(F285/'Base Numbers'!$C$6,1))","v":16},{"$f":"MAX(0,'Base Numbers'!$C$5*'Base Numbers'!$C$6-FLOOR(G285/'Base Numbers'!$C$6,1))","v":16},{"$f":"MAX(0,'Base Numbers'!$C$5*'Base Numbers'!$C$6-FLOOR(H285/'Base Numbers'!$C$6,1))","v":16},{"$f":"MAX(0,'Base Numbers'!$C$5*'Base Numbers'!$C$6-FLOOR(I285/'Base Numbers'!$C$6,1))","v":16},{"$f":"MAX(0,'Base Numbers'!$C$5*'Base Numbers'!$C$6-FLOOR(J285/'Base Numbers'!$C$6,1))","v":16},{"$f":"MAX(0,'Base Numbers'!$C$5*'Base Numbers'!$C$6-FLOOR(K285/'Base Numbers'!$C$6,1))","v":16},{"$f":"MAX(0,'Base Numbers'!$C$5*'Base Numbers'!$C$6-FLOOR(L285/'Base Numbers'!$C$6,1))","v":16},{"$f":"MAX(0,'Base Numbers'!$C$5*'Base Numbers'!$C$6-FLOOR(M285/'Base Numbers'!$C$6,1))","v":16},{"$f":"MAX(0,'Base Numbers'!$C$5*'Base Numbers'!$C$6-FLOOR(N285/'Base Numbers'!$C$6,1))","v":16},{"$f":"MAX(0,'Base Numbers'!$C$5*'Base Numbers'!$C$6-FLOOR(O285/'Base Numbers'!$C$6,1))","v":16},{"$f":"MAX(0,'Base Numbers'!$C$5*'Base Numbers'!$C$6-FLOOR(P285/'Base Numbers'!$C$6,1))","v":16},{"$f":"MAX(0,'Base Numbers'!$C$5*'Base Numbers'!$C$6-FLOOR(Q285/'Base Numbers'!$C$6,1))","v":16},{"$f":"MAX(0,'Base Numbers'!$C$5*'Base Numbers'!$C$6-FLOOR(R285/'Base Numbers'!$C$6,1))","v":16},{"$f":"MAX(0,'Base Numbers'!$C$5*'Base Numbers'!$C$6-FLOOR(S285/'Base Numbers'!$C$6,1))","v":16},{"$f":"MAX(0,'Base Numbers'!$C$5*'Base Numbers'!$C$6-FLOOR(T285/'Base Numbers'!$C$6,1))","v":16},{"$f":"MAX(0,'Base Numbers'!$C$5*'Base Numbers'!$C$6-FLOOR(U285/'Base Numbers'!$C$6,1))","v":16},{"$f":"MAX(0,'Base Numbers'!$C$5*'Base Numbers'!$C$6-FLOOR(V285/'Base Numbers'!$C$6,1))","v":16},{"$f":"MAX(0,'Base Numbers'!$C$5*'Base Numbers'!$C$6-FLOOR(W285/'Base Numbers'!$C$6,1))","v":16},{"$f":"MAX(0,'Base Numbers'!$C$5*'Base Numbers'!$C$6-FLOOR(X285/'Base Numbers'!$C$6,1))","v":16},null,"Buff spells don't need to be averaged across combats involving just spell slinging"]
[{"$nulls":3},"number of bonus actions remaining after AE spells ",{"$f":"E393","v":16},{"$f":"F393","v":16},16,16,16,16,16,16,16,{"$f":"N393","v":16},16,16,16,16,16,16,16,16,16,16]
[{"$nulls":3},"pct of remaining actions against non-truesight/blindsight enemies",{"$f":"'Caster Tables'!C$71*(E393/('Base Numbers'!$C$5*'Base Numbers'!$C$6))","v":1},{"$f":"'Caster Tables'!D$71*(F393/('Base Numbers'!$C$5*'Base Numbers'!$C$6))","v":1},{"$f":"'Caster Tables'!E$71*(G393/('Base Numbers'!$C$5*'Base Numbers'!$C$6))","v":1},{"$f":"'Caster Tables'!F$71*(H393/('Base Numbers'!$C$5*'Base Numbers'!$C$6))","v":1},{"$f":"'Caster Tables'!G$71*(I393/('Base Numbers'!$C$5*'Base Numbers'!$C$6))","v":1},{"$f":"'Caster Tables'!H$71*(J393/('Base Numbers'!$C$5*'Base Numbers'!$C$6))","v":0.9},{"$f":"'Caster Tables'!I$71*(K393/('Base Numbers'!$C$5*'Base Numbers'!$C$6))","v":0.9},{"$f":"'Caster Tables'!J$71*(L393/('Base Numbers'!$C$5*'Base Numbers'!$C$6))","v":0.8},{"$f":"'Caster Tables'!K$71*(M393/('Base Numbers'!$C$5*'Base Numbers'!$C$6))","v":0.8},{"$f":"'Caster Tables'!L$71*(N393/('Base Numbers'!$C$5*'Base Numbers'!$C$6))","v":0.7},{"$f":"'Caster Tables'!M$71*(O393/('Base Numbers'!$C$5*'Base Numbers'!$C$6))","v":0.6},{"$f":"'Caster Tables'!N$71*(P393/('Base Numbers'!$C$5*'Base Numbers'!$C$6))","v":0.5},{"$f":"'Caster Tables'!O$71*(Q393/('Base Numbers'!$C$5*'Base Numbers'!$C$6))","v":0.4},{"$f":"'Caster Tables'!P$71*(R393/('Base Numbers'!$C$5*'Base Numbers'!$C$6))","v":0.35},{"$f":"'Caster Tables'!Q$71*(S393/('Base Numbers'!$C$5*'Base Numbers'!$C$6))","v":0.3},{"$f":"'Caster Tables'!R$71*(T393/('Base Numbers'!$C$5*'Base Numbers'!$C$6))","v":0.2},{"$f":"'Caster Tables'!S$71*(U393/('Base Numbers'!$C$5*'Base Numbers'!$C$6))","v":0.15},{"$f":"'Caster Tables'!T$71*(V393/('Base Numbers'!$C$5*'Base Numbers'!$C$6))","v":0.1},{"$f":"'Caster Tables'!U$71*(W393/('Base Numbers'!$C$5*'Base Numbers'!$C$6))","v":0.1},{"$f":"'Caster Tables'!V$71*(X393/('Base Numbers'!$C$5*'Base Numbers'!$C$6))","v":0.1}]
[{"$nulls":3},"pct of remaining bonus actions against non-truesight/blindsight",{"$f":"'Caster Tables'!C$71*(E394/('Base Numbers'!$C$5*'Base Numbers'!$C$6))","v":1},{"$f":"'Caster Tables'!D$71*(F394/('Base Numbers'!$C$5*'Base Numbers'!$C$6))","v":1},{"$f":"'Caster Tables'!E$71*(G394/('Base Numbers'!$C$5*'Base Numbers'!$C$6))","v":1},{"$f":"'Caster Tables'!F$71*(H394/('Base Numbers'!$C$5*'Base Numbers'!$C$6))","v":1},{"$f":"'Caster Tables'!G$71*(I394/('Base Numbers'!$C$5*'Base Numbers'!$C$6))","v":1},{"$f":"'Caster Tables'!H$71*(J394/('Base Numbers'!$C$5*'Base Numbers'!$C$6))","v":0.9},{"$f":"'Caster Tables'!I$71*(K394/('Base Numbers'!$C$5*'Base Numbers'!$C$6))","v":0.9},{"$f":"'Caster Tables'!J$71*(L394/('Base Numbers'!$C$5*'Base Numbers'!$C$6))","v":0.8},{"$f":"'Caster Tables'!K$71*(M394/('Base Numbers'!$C$5*'Base Numbers'!$C$6))","v":0.8},{"$f":"'Caster Tables'!L$71*(N394/('Base Numbers'!$C$5*'Base Numbers'!$C$6))","v":0.7},{"$f":"'Caster Tables'!M$71*(O394/('Base Numbers'!$C$5*'Base Numbers'!$C$6))","v":0.6},{"$f":"'Caster Tables'!N$71*(P394/('Base Numbers'!$C$5*'Base Numbers'!$C$6))","v":0.5},{"$f":"'Caster Tables'!O$71*(Q394/('Base Numbers'!$C$5*'Base Numbers'!$C$6))","v":0.4},{"$f":"'Caster Tables'!P$71*(R394/('Base Numbers'!$C$5*'Base Numbers'!$C$6))","v":0.35},{"$f":"'Caster Tables'!Q$71*(S394/('Base Numbers'!$C$5*'Base Numbers'!$C$6))","v":0.3},{"$f":"'Caster Tables'!R$71*(T394/('Base Numbers'!$C$5*'Base Numbers'!$C$6))","v":0.2},{"$f":"'Caster Tables'!S$71*(U394/('Base Numbers'!$C$5*'Base Numbers'!$C$6))","v":0.15},{"$f":"'Caster Tables'!T$71*(V394/('Base Numbers'!$C$5*'Base Numbers'!$C$6))","v":0.1},{"$f":"'Caster Tables'!U$71*(W394/('Base Numbers'!$C$5*'Base Numbers'!$C$6))","v":0.1},{"$f":"'Caster Tables'!V$71*(X394/('Base Numbers'!$C$5*'Base Numbers'!$C$6))","v":0.1}]
[{"$nulls":3},"pct of remaining actions vs non-tremmor sense/blindsight/mobile enemies",{"$f":"0.7-(1-E395)/2","v":0.7},{"$f":"0.7-(1-F395)/2","v":0.7},0.7,0.7,0.7,0.6499999999999999,0.6499999999999999,0.6,0.6,0.5499999999999999,0.49999999999999994,0.44999999999999996,0.39999999999999997,0.37499999999999994,0.35,0.29999999999999993,0.27499999999999997,0.24999999999999994,0.24999999999999994,0.24999999999999994]
[{"$nulls":3},"pct of remaining b actions vs non-tremmor sense/blindsight/mobile",{"$f":"0.7-(1-E396)/2","v":0.7},{"$f":"0.7-(1-F396)/2","v":0.7},0.7,0.7,0.7,0.6499999999999999,0.6499999999999999,0.6,0.6,0.5499999999999999,0.49999999999999994,0.44999999999999996,0.39999999999999997,0.37499999999999994,0.35,0.29999999999999993,0.27499999999999997,0.24999999999999994,0.24999999999999994,0.24999999999999994]
[{"$nulls":3},"pct adv from prone (doesn't apply to first attack)",{"$f":"MIN(1,E380*E393/('Base Numbers'!$C$5*'Base Numbers'!$C$6))","v":0},{"$f":"MIN(1,F380*F393/('Base Numbers'!$C$5*'Base Numbers'!$C$6))","v":0},{"$f":"MIN(1,G380*G393/('Base Numbers'!$C$5*'Base Numbers'!$C$6))","v":0},{"$f":"MIN(1,H380*H393/('Base Numbers'!$C$5*'Base Numbers'!$C$6))","v":0},{"$f":"MIN(1,I380*I393/('Base Numbers'!$C$5*'Base Numbers'!$C$6))","v":0},{"$f":"MIN(1,J380*J393/('Base Numbers'!$C$5*'Base Numbers'!$C$6))","v":0},{"$f":"MIN(1,K380*K393/('Base Numbers'!$C$5*'Base Numbers'!$C$6))","v":0},{"$f":"MIN(1,L380*L393/('Base Numbers'!$C$5*'Base Numbers'!$C$6))","v":0},{"$f":"MIN(1,M380*M393/('Base Numbers'!$C$5*'Base Numbers'!$C$6))","v":0},{"$f":"MIN(1,N380*N393/('Base Numbers'!$C$5*'Base Numbers'!$C$6))","v":0},{"$f":"MIN(1,O380*O393/('Base Numbers'!$C$5*'Base Numbers'!$C$6))","v":0},{"$f":"MIN(1,P380*P393/('Base Numbers'!$C$5*'Base Numbers'!$C$6))","v":0},{"$f":"MIN(1,Q380*Q393/('Base Numbers'!$C$5*'Base Numbers'!$C$6))","v":0},{"$f":"MIN(1,R380*R393/('Base Numbers'!$C$5*'Base Numbers'!$C$6))","v":0},{"$f":"MIN(1,S380*S393/('Base Numbers'!$C$5*'Base Numbers'!$C$6))","v":0},{"$f":"MIN(1,T380*T393/('Base Numbers'!$C$5*'Base Numbers'!$C$6))","v":0},{"$f":"MIN(1,U380*U393/('Base Numbers'!$C$5*'Base Numbers'!$C$6))","v":0},{"$f":"MIN(1,V380*V393/('Base Numbers'!$C$5*'Base Numbers'!$C$6))","v":0},{"$f":"MIN(1,W380*W393/('Base Numbers'!$C$5*'Base Numbers'!$C$6))","v":0},{"$f":"MIN(1,X380*X393/('Base Numbers'!$C$5*'Base Numbers'!$C$6))","v":0},null,"these are discounted by the number of available attack actions"]
[{"$nulls":3},"pct adv from Restrained",{"$f":"IF(E393>0,E1135/E393*IF(AND(E10>=15,E59>=1),2,1),0)","v":0},0,0,0,0,0,0,0,0,0,0,0,0,0,0,0,0,0,0,0,null,"(only source so far is Rune Knight Fire Rune)"]
[{"$nulls":3},"pct adv from Reckless (str only)",{"$f":"IF(E443>=1,1,0)","v":0},{"$f":"IF(F443>=1,1,0)","v":0},0,0,0,0,0,0,0,0,0,0,0,0,0,0,0,0,0,0]
[{"$nulls":3},"pct adv from Find Familiar (FF)  (first attack only)",{"$f":"IF(E127>=1,'Base Numbers'!$C$19,0)","v":0},{"$f":"IF(F127>=1,'Base Numbers'!$C$19,0)","v":0},{"$f":"IF(G127>=1,'Base Numbers'!$C$19,0)","v":0},{"$f":"IF(H127>=1,'Base Numbers'!$C$19,0)","v":0},{"$f":"IF(I127>=1,'Base Numbers'!$C$19,0)","v":0},{"$f":"IF(J127>=1,'Base Numbers'!$C$19,0)","v":0},{"$f":"IF(K127>=1,'Base Numbers'!$C$19,0)","v":0},{"$f":"IF(L127>=1,'Base Numbers'!$C$19,0)","v":0},{"$f":"IF(M127>=1,'Base Numbers'!$C$19,0)","v":0},{"$f":"IF(N127>=1,'Base Numbers'!$C$19,0)","v":0},{"$f":"IF(O127>=1,'Base Numbers'!$C$19,0)","v":0},{"$f":"IF(P127>=1,'Base Numbers'!$C$19,0)","v":0},{"$f":"IF(Q127>=1,'Base Numbers'!$C$19,0)","v":0},{"$f":"IF(R127>=1,'Base Numbers'!$C$19,0)","v":0},{"$f":"IF(S127>=1,'Base Numbers'!$C$19,0)","v":0},{"$f":"IF(T127>=1,'Base Numbers'!$C$19,0)","v":0},{"$f":"IF(U127>=1,'Base Numbers'!$C$19,0)","v":0},{"$f":"IF(V127>=1,'Base Numbers'!$C$19,0)","v":0},{"$f":"IF(W127>=1,'Base Numbers'!$C$19,0)","v":0},{"$f":"IF(X127>=1,'Base Numbers'!$C$19,0)","v":0}]
[{"$nulls":3},"pct adv from Rogue's Bonus (RB) action (first attack only)",{"$f":"IF(E393>0,E180/E393,0)","v":0},0,0,0,0,0,0,0,0,0,0,0,0,0,0,0,0,0,0,0]
[{"$nulls":3},"pct adv from Pack Tactics (kobold racial)",{"$f":"IF($B$53>=1,'Base Numbers'!$G$14^2,0)","v":0},{"$f":"IF($B$53>=1,'Base Numbers'!$G$14^2,0)","v":0},{"$f":"IF($B$53>=1,'Base Numbers'!$G$14^2,0)","v":0},{"$f":"IF($B$53>=1,'Base Numbers'!$G$14^2,0)","v":0},{"$f":"IF($B$53>=1,'Base Numbers'!$G$14^2,0)","v":0},{"$f":"IF($B$53>=1,'Base Numbers'!$G$14^2,0)","v":0},{"$f":"IF($B$53>=1,'Base Numbers'!$G$14^2,0)","v":0},{"$f":"IF($B$53>=1,'Base Numbers'!$G$14^2,0)","v":0},{"$f":"IF($B$53>=1,'Base Numbers'!$G$14^2,0)","v":0},{"$f":"IF($B$53>=1,'Base Numbers'!$G$14^2,0)","v":0},{"$f":"IF($B$53>=1,'Base Numbers'!$G$14^2,0)","v":0},{"$f":"IF($B$53>=1,'Base Numbers'!$G$14^2,0)","v":0},{"$f":"IF($B$53>=1,'Base Numbers'!$G$14^2,0)","v":0},{"$f":"IF($B$53>=1,'Base Numbers'!$G$14^2,0)","v":0},{"$f":"IF($B$53>=1,'Base Numbers'!$G$14^2,0)","v":0},{"$f":"IF($B$53>=1,'Base Numbers'!$G$14^2,0)","v":0},{"$f":"IF($B$53>=1,'Base Numbers'!$G$14^2,0)","v":0},{"$f":"IF($B$53>=1,'Base Numbers'!$G$14^2,0)","v":0},{"$f":"IF($B$53>=1,'Base Numbers'!$G$14^2,0)","v":0},{"$f":"IF($B$53>=1,'Base Numbers'!$G$14^2,0)","v":0}]
[{"$nulls":3},"pct adv from Obscurement (fog, pyrotechnics) (a)",{"$f":"IF(E384,E385,0)","v":0},{"$f":"IF(F384,F385,0)","v":0},0,0,0,0,0,0,0,0,0,0,0,0,0,0,0,0,0,0]
[{"$nulls":3},"pct adv from Darkness (a)",{"$f":"IF(E383,E386,0)","v":0},{"$f":"IF(F383,F386,0)","v":0},0,0,0,0,0,0,0,0,0,0,0,0,0,0,0,0,0,0]
[{"$nulls":3},"pct adv from Shadow Blade (b)",{"$f":"IF(E393>0,MIN(1,MIN(IF(E383,0.2,0.1),E313)*('Base Numbers'!$C$5*'Base Numbers'!$C$6/E393)),0)","v":0},{"$f":"IF(F393>0,MIN(1,MIN(IF(F383,0.2,0.1),F313)*('Base Numbers'!$C$5*'Base Numbers'!$C$6/F393)),0)","v":0},{"$f":"IF(G393>0,MIN(1,MIN(IF(G383,0.2,0.1),G313)*('Base Numbers'!$C$5*'Base Numbers'!$C$6/G393)),0)","v":0},{"$f":"IF(H393>0,MIN(1,MIN(IF(H383,0.2,0.1),H313)*('Base Numbers'!$C$5*'Base Numbers'!$C$6/H393)),0)","v":0},{"$f":"IF(I393>0,MIN(1,MIN(IF(I383,0.2,0.1),I313)*('Base Numbers'!$C$5*'Base Numbers'!$C$6/I393)),0)","v":0},{"$f":"IF(J393>0,MIN(1,MIN(IF(J383,0.2,0.1),J313)*('Base Numbers'!$C$5*'Base Numbers'!$C$6/J393)),0)","v":0},{"$f":"IF(K393>0,MIN(1,MIN(IF(K383,0.2,0.1),K313)*('Base Numbers'!$C$5*'Base Numbers'!$C$6/K393)),0)","v":0},{"$f":"IF(L393>0,MIN(1,MIN(IF(L383,0.2,0.1),L313)*('Base Numbers'!$C$5*'Base Numbers'!$C$6/L393)),0)","v":0},{"$f":"IF(M393>0,MIN(1,MIN(IF(M383,0.2,0.1),M313)*('Base Numbers'!$C$5*'Base Numbers'!$C$6/M393)),0)","v":0},{"$f":"IF(N393>0,MIN(1,MIN(IF(N383,0.2,0.1),N313)*('Base Numbers'!$C$5*'Base Numbers'!$C$6/N393)),0)","v":0},{"$f":"IF(O393>0,MIN(1,MIN(IF(O383,0.2,0.1),O313)*('Base Numbers'!$C$5*'Base Numbers'!$C$6/O393)),0)","v":0},{"$f":"IF(P393>0,MIN(1,MIN(IF(P383,0.2,0.1),P313)*('Base Numbers'!$C$5*'Base Numbers'!$C$6/P393)),0)","v":0},{"$f":"IF(Q393>0,MIN(1,MIN(IF(Q383,0.2,0.1),Q313)*('Base Numbers'!$C$5*'Base Numbers'!$C$6/Q393)),0)","v":0},{"$f":"IF(R393>0,MIN(1,MIN(IF(R383,0.2,0.1),R313)*('Base Numbers'!$C$5*'Base Numbers'!$C$6/R393)),0)","v":0},{"$f":"IF(S393>0,MIN(1,MIN(IF(S383,0.2,0.1),S313)*('Base Numbers'!$C$5*'Base Numbers'!$C$6/S393)),0)","v":0},{"$f":"IF(T393>0,MIN(1,MIN(IF(T383,0.2,0.1),T313)*('Base Numbers'!$C$5*'Base Numbers'!$C$6/T393)),0)","v":0},{"$f":"IF(U393>0,MIN(1,MIN(IF(U383,0.2,0.1),U313)*('Base Numbers'!$C$5*'Base Numbers'!$C$6/U393)),0)","v":0},{"$f":"IF(V393>0,MIN(1,MIN(IF(V383,0.2,0.1),V313)*('Base Numbers'!$C$5*'Base Numbers'!$C$6/V393)),0)","v":0},{"$f":"IF(W393>0,MIN(1,MIN(IF(W383,0.2,0.1),W313)*('Base Numbers'!$C$5*'Base Numbers'!$C$6/W393)),0)","v":0},{"$f":"IF(X393>0,MIN(1,MIN(IF(X383,0.2,0.1),X313)*('Base Numbers'!$C$5*'Base Numbers'!$C$6/X393)),0)","v":0}]
[{"$nulls":3},"pct adv from Vow of Emnity (b)",{"$f":"IF(E393>0,E895/'Base Numbers'!$C$5*('Base Numbers'!$C$5*'Base Numbers'!$C$6/E393),0)","v":0},{"$f":"IF(F393>0,F895/'Base Numbers'!$C$5*('Base Numbers'!$C$5*'Base Numbers'!$C$6/F393),0)","v":0},{"$f":"IF(G393>0,G895/'Base Numbers'!$C$5*('Base Numbers'!$C$5*'Base Numbers'!$C$6/G393),0)","v":0},{"$f":"IF(H393>0,H895/'Base Numbers'!$C$5*('Base Numbers'!$C$5*'Base Numbers'!$C$6/H393),0)","v":0},{"$f":"IF(I393>0,I895/'Base Numbers'!$C$5*('Base Numbers'!$C$5*'Base Numbers'!$C$6/I393),0)","v":0},{"$f":"IF(J393>0,J895/'Base Numbers'!$C$5*('Base Numbers'!$C$5*'Base Numbers'!$C$6/J393),0)","v":0},{"$f":"IF(K393>0,K895/'Base Numbers'!$C$5*('Base Numbers'!$C$5*'Base Numbers'!$C$6/K393),0)","v":0},{"$f":"IF(L393>0,L895/'Base Numbers'!$C$5*('Base Numbers'!$C$5*'Base Numbers'!$C$6/L393),0)","v":0},{"$f":"IF(M393>0,M895/'Base Numbers'!$C$5*('Base Numbers'!$C$5*'Base Numbers'!$C$6/M393),0)","v":0},{"$f":"IF(N393>0,N895/'Base Numbers'!$C$5*('Base Numbers'!$C$5*'Base Numbers'!$C$6/N393),0)","v":0},{"$f":"IF(O393>0,O895/'Base Numbers'!$C$5*('Base Numbers'!$C$5*'Base Numbers'!$C$6/O393),0)","v":0},{"$f":"IF(P393>0,P895/'Base Numbers'!$C$5*('Base Numbers'!$C$5*'Base Numbers'!$C$6/P393),0)","v":0},{"$f":"IF(Q393>0,Q895/'Base Numbers'!$C$5*('Base Numbers'!$C$5*'Base Numbers'!$C$6/Q393),0)","v":0},{"$f":"IF(R393>0,R895/'Base Numbers'!$C$5*('Base Numbers'!$C$5*'Base Numbers'!$C$6/R393),0)","v":0},{"$f":"IF(S393>0,S895/'Base Numbers'!$C$5*('Base Numbers'!$C$5*'Base Numbers'!$C$6/S393),0)","v":0},{"$f":"IF(T393>0,T895/'Base Numbers'!$C$5*('Base Numbers'!$C$5*'Base Numbers'!$C$6/T393),0)","v":0},{"$f":"IF(U393>0,U895/'Base Numbers'!$C$5*('Base Numbers'!$C$5*'Base Numbers'!$C$6/U393),0)","v":0},{"$f":"IF(V393>0,V895/'Base Numbers'!$C$5*('Base Numbers'!$C$5*'Base Numbers'!$C$6/V393),0)","v":0},{"$f":"IF(W393>0,W895/'Base Numbers'!$C$5*('Base Numbers'!$C$5*'Base Numbers'!$C$6/W393),0)","v":0},{"$f":"IF(X393>0,X895/'Base Numbers'!$C$5*('Base Numbers'!$C$5*'Base Numbers'!$C$6/X393),0)","v":0}]
[{"$nulls":3},"pct adv from Hold Person (a)",{"$f":"IF(E393>0,E479*('Base Numbers'!$C$5*'Base Numbers'!$C$6/E393),0)","v":0},{"$f":"IF(F393>0,F479*('Base Numbers'!$C$5*'Base Numbers'!$C$6/F393),0)","v":0},{"$f":"IF(G393>0,G479*('Base Numbers'!$C$5*'Base Numbers'!$C$6/G393),0)","v":0},{"$f":"IF(H393>0,H479*('Base Numbers'!$C$5*'Base Numbers'!$C$6/H393),0)","v":0},{"$f":"IF(I393>0,I479*('Base Numbers'!$C$5*'Base Numbers'!$C$6/I393),0)","v":0},{"$f":"IF(J393>0,J479*('Base Numbers'!$C$5*'Base Numbers'!$C$6/J393),0)","v":0},{"$f":"IF(K393>0,K479*('Base Numbers'!$C$5*'Base Numbers'!$C$6/K393),0)","v":0},{"$f":"IF(L393>0,L479*('Base Numbers'!$C$5*'Base Numbers'!$C$6/L393),0)","v":0},{"$f":"IF(M393>0,M479*('Base Numbers'!$C$5*'Base Numbers'!$C$6/M393),0)","v":0},{"$f":"IF(N393>0,N479*('Base Numbers'!$C$5*'Base Numbers'!$C$6/N393),0)","v":0},{"$f":"IF(O393>0,O479*('Base Numbers'!$C$5*'Base Numbers'!$C$6/O393),0)","v":0},{"$f":"IF(P393>0,P479*('Base Numbers'!$C$5*'Base Numbers'!$C$6/P393),0)","v":0},{"$f":"IF(Q393>0,Q479*('Base Numbers'!$C$5*'Base Numbers'!$C$6/Q393),0)","v":0},{"$f":"IF(R393>0,R479*('Base Numbers'!$C$5*'Base Numbers'!$C$6/R393),0)","v":0},{"$f":"IF(S393>0,S479*('Base Numbers'!$C$5*'Base Numbers'!$C$6/S393),0)","v":0},{"$f":"IF(T393>0,T479*('Base Numbers'!$C$5*'Base Numbers'!$C$6/T393),0)","v":0},{"$f":"IF(U393>0,U479*('Base Numbers'!$C$5*'Base Numbers'!$C$6/U393),0)","v":0},{"$f":"IF(V393>0,V479*('Base Numbers'!$C$5*'Base Numbers'!$C$6/V393),0)","v":0},{"$f":"IF(W393>0,W479*('Base Numbers'!$C$5*'Base Numbers'!$C$6/W393),0)","v":0},{"$f":"IF(X393>0,X479*('Base Numbers'!$C$5*'Base Numbers'!$C$6/X393),0)","v":0}]
[{"$nulls":3},"pct adv from shadow of moil (a)",{"$f":"IF(E393>0,MIN(E241*(E307)/E393,MAX(E395,E397)),0)","v":0},0,0,0,0,0,0,0,0,0,0,0,0,0,0,0,0,0,0,0]
[{"$nulls":3},"pct adv from Greater Invis (a)",{"$f":"IF(E393>0,MIN(E242*(E307)/E393,E395),0)","v":0},{"$f":"IF(F393>0,MIN(F242*(F307)/F393,F395),0)","v":0},0,0,0,0,0,0,0,0,0,0,0,0,0,0,0,0,0,0]
[{"$nulls":3},"pct adv from Faerie Fire (a)",{"$f":"IF(E393>0,E233*E306*(1-E130)/E393,0)","v":0},0,0,0,0,0,0,0,0,0,0,0,0,0,0,0,0,0,0,0]
[{"$nulls":3},"pct adv from Guardian of Nature (b)",{"$f":"IF(E393>0,IF(OR(E132,E137),E236,0)*(1+E306)/E393,0)","v":0},0,0,0,0,0,0,0,0,0,0,0,0,0,0,0,0,0,0,0]
[{"$nulls":3},"pct adv from Gloomstalker (Ranger)",{"$f":"MIN(E1058,E395)","v":0},0,0,0,0,0,0,0,0,0,0,0,0,0,0,0,0,0,0,0]
[{"$nulls":3},"pct adv from Assassin (Rogue)",{"$f":"IF(AND(E11>=3,E66>=1),0.5/'Base Numbers'!$C$6,0)","v":0},{"$f":"IF(AND(F11>=3,F66>=1),0.5/'Base Numbers'!$C$6,0)","v":0},{"$f":"IF(AND(G11>=3,G66>=1),0.5/'Base Numbers'!$C$6,0)","v":0},{"$f":"IF(AND(H11>=3,H66>=1),0.5/'Base Numbers'!$C$6,0)","v":0},{"$f":"IF(AND(I11>=3,I66>=1),0.5/'Base Numbers'!$C$6,0)","v":0},{"$f":"IF(AND(J11>=3,J66>=1),0.5/'Base Numbers'!$C$6,0)","v":0},{"$f":"IF(AND(K11>=3,K66>=1),0.5/'Base Numbers'!$C$6,0)","v":0},{"$f":"IF(AND(L11>=3,L66>=1),0.5/'Base Numbers'!$C$6,0)","v":0},{"$f":"IF(AND(M11>=3,M66>=1),0.5/'Base Numbers'!$C$6,0)","v":0},{"$f":"IF(AND(N11>=3,N66>=1),0.5/'Base Numbers'!$C$6,0)","v":0},{"$f":"IF(AND(O11>=3,O66>=1),0.5/'Base Numbers'!$C$6,0)","v":0},{"$f":"IF(AND(P11>=3,P66>=1),0.5/'Base Numbers'!$C$6,0)","v":0},{"$f":"IF(AND(Q11>=3,Q66>=1),0.5/'Base Numbers'!$C$6,0)","v":0},{"$f":"IF(AND(R11>=3,R66>=1),0.5/'Base Numbers'!$C$6,0)","v":0},{"$f":"IF(AND(S11>=3,S66>=1),0.5/'Base Numbers'!$C$6,0)","v":0},{"$f":"IF(AND(T11>=3,T66>=1),0.5/'Base Numbers'!$C$6,0)","v":0},{"$f":"IF(AND(U11>=3,U66>=1),0.5/'Base Numbers'!$C$6,0)","v":0},{"$f":"IF(AND(V11>=3,V66>=1),0.5/'Base Numbers'!$C$6,0)","v":0},{"$f":"IF(AND(W11>=3,W66>=1),0.5/'Base Numbers'!$C$6,0)","v":0},{"$f":"IF(AND(X11>=3,X66>=1),0.5/'Base Numbers'!$C$6,0)","v":0}]
[{"$nulls":3},"pct adv from Samurai (b) (not bonus, opp atts)",{"$f":"IF(E393>0,E1129/E393,0)","v":0},0,0,0,0,0,0,0,0,0,0,0,0,0,0,0,0,0,0,0]
[{"$nulls":3},"pct adv from Tenser's Transformation (a)",{"$f":"IF(E393>0,E306*E244/E393,0)","v":0},0,0,0,0,0,0,0,0,0,0,0,0,0,0,0,0,0,0,0]
[{"$nulls":3},"bonus action pct adv from Obscurement",{"$f":"IF(E384,E387,0)","v":0},0,0,0,0,0,0,0,0,0,0,0,0,0,0,0,0,0,0,0]
[{"$nulls":3},"bonus action pct adv from Darkness",{"$f":"IF(E383,E388,0)","v":0},{"$f":"IF(F383,F388,0)","v":0},0,0,0,0,0,0,0,0,0,0,0,0,0,0,0,0,0,0,null,"these are discounted by the number of available bonus actions"]
[{"$nulls":3},"bonus action pct adv from Shadow Blade",{"$f":"IF(E394>0,MIN(IF(E383,0.2,0.1),((E313)*E227)/E394),0)","v":0},0,0,0,0,0,0,0,0,0,0,0,0,0,0,0,0,0,0,0]
[{"$nulls":3},"bonus action pct adv from Vow of Emnity (b)",{"$f":"IF(E394>0,(E895*('Base Numbers'!$C$6-1)/('Base Numbers'!$C$5*'Base Numbers'!$C$6)*('Base Numbers'!$C$5*'Base Numbers'!$C$6/E394)),0)","v":0},{"$f":"IF(F394>0,(F895*('Base Numbers'!$C$6-1)/('Base Numbers'!$C$5*'Base Numbers'!$C$6)*('Base Numbers'!$C$5*'Base Numbers'!$C$6/F394)),0)","v":0},{"$f":"IF(G394>0,(G895*('Base Numbers'!$C$6-1)/('Base Numbers'!$C$5*'Base Numbers'!$C$6)*('Base Numbers'!$C$5*'Base Numbers'!$C$6/G394)),0)","v":0},{"$f":"IF(H394>0,(H895*('Base Numbers'!$C$6-1)/('Base Numbers'!$C$5*'Base Numbers'!$C$6)*('Base Numbers'!$C$5*'Base Numbers'!$C$6/H394)),0)","v":0},{"$f":"IF(I394>0,(I895*('Base Numbers'!$C$6-1)/('Base Numbers'!$C$5*'Base Numbers'!$C$6)*('Base Numbers'!$C$5*'Base Numbers'!$C$6/I394)),0)","v":0},{"$f":"IF(J394>0,(J895*('Base Numbers'!$C$6-1)/('Base Numbers'!$C$5*'Base Numbers'!$C$6)*('Base Numbers'!$C$5*'Base Numbers'!$C$6/J394)),0)","v":0},{"$f":"IF(K394>0,(K895*('Base Numbers'!$C$6-1)/('Base Numbers'!$C$5*'Base Numbers'!$C$6)*('Base Numbers'!$C$5*'Base Numbers'!$C$6/K394)),0)","v":0},{"$f":"IF(L394>0,(L895*('Base Numbers'!$C$6-1)/('Base Numbers'!$C$5*'Base Numbers'!$C$6)*('Base Numbers'!$C$5*'Base Numbers'!$C$6/L394)),0)","v":0},{"$f":"IF(M394>0,(M895*('Base Numbers'!$C$6-1)/('Base Numbers'!$C$5*'Base Numbers'!$C$6)*('Base Numbers'!$C$5*'Base Numbers'!$C$6/M394)),0)","v":0},{"$f":"IF(N394>0,(N895*('Base Numbers'!$C$6-1)/('Base Numbers'!$C$5*'Base Numbers'!$C$6)*('Base Numbers'!$C$5*'Base Numbers'!$C$6/N394)),0)","v":0},{"$f":"IF(O394>0,(O895*('Base Numbers'!$C$6-1)/('Base Numbers'!$C$5*'Base Numbers'!$C$6)*('Base Numbers'!$C$5*'Base Numbers'!$C$6/O394)),0)","v":0},{"$f":"IF(P394>0,(P895*('Base Numbers'!$C$6-1)/('Base Numbers'!$C$5*'Base Numbers'!$C$6)*('Base Numbers'!$C$5*'Base Numbers'!$C$6/P394)),0)","v":0},{"$f":"IF(Q394>0,(Q895*('Base Numbers'!$C$6-1)/('Base Numbers'!$C$5*'Base Numbers'!$C$6)*('Base Numbers'!$C$5*'Base Numbers'!$C$6/Q394)),0)","v":0},{"$f":"IF(R394>0,(R895*('Base Numbers'!$C$6-1)/('Base Numbers'!$C$5*'Base Numbers'!$C$6)*('Base Numbers'!$C$5*'Base Numbers'!$C$6/R394)),0)","v":0},{"$f":"IF(S394>0,(S895*('Base Numbers'!$C$6-1)/('Base Numbers'!$C$5*'Base Numbers'!$C$6)*('Base Numbers'!$C$5*'Base Numbers'!$C$6/S394)),0)","v":0},{"$f":"IF(T394>0,(T895*('Base Numbers'!$C$6-1)/('Base Numbers'!$C$5*'Base Numbers'!$C$6)*('Base Numbers'!$C$5*'Base Numbers'!$C$6/T394)),0)","v":0},{"$f":"IF(U394>0,(U895*('Base Numbers'!$C$6-1)/('Base Numbers'!$C$5*'Base Numbers'!$C$6)*('Base Numbers'!$C$5*'Base Numbers'!$C$6/U394)),0)","v":0},{"$f":"IF(V394>0,(V895*('Base Numbers'!$C$6-1)/('Base Numbers'!$C$5*'Base Numbers'!$C$6)*('Base Numbers'!$C$5*'Base Numbers'!$C$6/V394)),0)","v":0},{"$f":"IF(W394>0,(W895*('Base Numbers'!$C$6-1)/('Base Numbers'!$C$5*'Base Numbers'!$C$6)*('Base Numbers'!$C$5*'Base Numbers'!$C$6/W394)),0)","v":0},{"$f":"IF(X394>0,(X895*('Base Numbers'!$C$6-1)/('Base Numbers'!$C$5*'Base Numbers'!$C$6)*('Base Numbers'!$C$5*'Base Numbers'!$C$6/X394)),0)","v":0}]
[{"$nulls":3},"bonus action pct adv from Hold Person",{"$f":"IF(E394>0,E479*('Base Numbers'!$C$5*'Base Numbers'!$C$6/E394),0)","v":0},{"$f":"IF(F394>0,F479*('Base Numbers'!$C$5*'Base Numbers'!$C$6/F394),0)","v":0},{"$f":"IF(G394>0,G479*('Base Numbers'!$C$5*'Base Numbers'!$C$6/G394),0)","v":0},{"$f":"IF(H394>0,H479*('Base Numbers'!$C$5*'Base Numbers'!$C$6/H394),0)","v":0},{"$f":"IF(I394>0,I479*('Base Numbers'!$C$5*'Base Numbers'!$C$6/I394),0)","v":0},{"$f":"IF(J394>0,J479*('Base Numbers'!$C$5*'Base Numbers'!$C$6/J394),0)","v":0},{"$f":"IF(K394>0,K479*('Base Numbers'!$C$5*'Base Numbers'!$C$6/K394),0)","v":0},{"$f":"IF(L394>0,L479*('Base Numbers'!$C$5*'Base Numbers'!$C$6/L394),0)","v":0},{"$f":"IF(M394>0,M479*('Base Numbers'!$C$5*'Base Numbers'!$C$6/M394),0)","v":0},{"$f":"IF(N394>0,N479*('Base Numbers'!$C$5*'Base Numbers'!$C$6/N394),0)","v":0},{"$f":"IF(O394>0,O479*('Base Numbers'!$C$5*'Base Numbers'!$C$6/O394),0)","v":0},{"$f":"IF(P394>0,P479*('Base Numbers'!$C$5*'Base Numbers'!$C$6/P394),0)","v":0},{"$f":"IF(Q394>0,Q479*('Base Numbers'!$C$5*'Base Numbers'!$C$6/Q394),0)","v":0},{"$f":"IF(R394>0,R479*('Base Numbers'!$C$5*'Base Numbers'!$C$6/R394),0)","v":0},{"$f":"IF(S394>0,S479*('Base Numbers'!$C$5*'Base Numbers'!$C$6/S394),0)","v":0},{"$f":"IF(T394>0,T479*('Base Numbers'!$C$5*'Base Numbers'!$C$6/T394),0)","v":0},{"$f":"IF(U394>0,U479*('Base Numbers'!$C$5*'Base Numbers'!$C$6/U394),0)","v":0},{"$f":"IF(V394>0,V479*('Base Numbers'!$C$5*'Base Numbers'!$C$6/V394),0)","v":0},{"$f":"IF(W394>0,W479*('Base Numbers'!$C$5*'Base Numbers'!$C$6/W394),0)","v":0},{"$f":"IF(X394>0,X479*('Base Numbers'!$C$5*'Base Numbers'!$C$6/X394),0)","v":0}]
[{"$nulls":3},"bonus action pct adv from Shadow of Moil",{"$f":"IF(E394>0,MIN(E241*(1+E307)/E394,MAX(E398,E396)),0)","v":0},0,0,0,0,0,0,0,0,0,0,0,0,0,0,0,0,0,0,0]
[{"$nulls":3},"bonus action pct adv from Greater Invis (a)",{"$f":"IF(E394>0,MIN(E242*(1+E307)/E394,E396),0)","v":0},{"$f":"IF(F394>0,MIN(F242*(1+F307)/F394,F396),0)","v":0},0,0,0,0,0,0,0,0,0,0,0,0,0,0,0,0,0,0]
[{"$nulls":3},"bonus action pct adv from Faerie Fire",{"$f":"IF(E394>0,E233*(1+E306)*(1-E130)/E394,0)","v":0},0,0,0,0,0,0,0,0,0,0,0,0,0,0,0,0,0,0,0]
[{"$nulls":3},"bonus action pct adv from Guardian of Nature",{"$f":"IF(E394>0,IF(OR(E132,E137),E236,0)*(E306)/E394,0)","v":0},0,0,0,0,0,0,0,0,0,0,0,0,0,0,0,0,0,0,0]
[{"$nulls":3},"bonus action pct adv from Tenser's Transformation",{"$f":"IF(E394>0,(1+E306)*E244/E394,0)","v":0},0,0,0,0,0,0,0,0,0,0,0,0,0,0,0,0,0,0,0]
[{"$nulls":3},"opp att pct adv from Obscurement",{"$f":"IF(E384,E389,0)","v":0},0,0,0,0,0,0,0,0,0,0,0,0,0,0,0,0,0,0,0]
[{"$nulls":3},"opp att pct adv from Darkness",{"$f":"IF(E383,E390,0)","v":0},0,0,0,0,0,0,0,0,0,0,0,0,0,0,0,0,0,0,0,null,"these aren't discounted; reactions aren't reduced by spell casts"]
[{"$nulls":3},"opp att pct adv from Shadow Blade",{"$f":"IF(E394>0,MIN(IF(E383,0.2,0.1),((E313)*E227)/E394),0)","v":0},0,0,0,0,0,0,0,0,0,0,0,0,0,0,0,0,0,0,0]
[{"$nulls":3},"opp att pct adv from Vow of Emnity",{"$f":"E895/'Base Numbers'!$C$5","v":0},{"$f":"F895/'Base Numbers'!$C$5","v":0},{"$f":"G895/'Base Numbers'!$C$5","v":0},{"$f":"H895/'Base Numbers'!$C$5","v":0},{"$f":"I895/'Base Numbers'!$C$5","v":0},{"$f":"J895/'Base Numbers'!$C$5","v":0},{"$f":"K895/'Base Numbers'!$C$5","v":0},{"$f":"L895/'Base Numbers'!$C$5","v":0},{"$f":"M895/'Base Numbers'!$C$5","v":0},{"$f":"N895/'Base Numbers'!$C$5","v":0},{"$f":"O895/'Base Numbers'!$C$5","v":0},{"$f":"P895/'Base Numbers'!$C$5","v":0},{"$f":"Q895/'Base Numbers'!$C$5","v":0},{"$f":"R895/'Base Numbers'!$C$5","v":0},{"$f":"S895/'Base Numbers'!$C$5","v":0},{"$f":"T895/'Base Numbers'!$C$5","v":0},{"$f":"U895/'Base Numbers'!$C$5","v":0},{"$f":"V895/'Base Numbers'!$C$5","v":0},{"$f":"W895/'Base Numbers'!$C$5","v":0},{"$f":"X895/'Base Numbers'!$C$5","v":0}]
[{"$nulls":3},"opp att pct adv from Shadow of Moil",{"$f":"MIN(E241*(E307)/('Base Numbers'!$C$5*'Base Numbers'!$C$6),MAX(E396,E398))","v":0},{"$f":"MIN(F241*(F307)/('Base Numbers'!$C$5*'Base Numbers'!$C$6),MAX(F396,F398))","v":0},{"$f":"MIN(G241*(G307)/('Base Numbers'!$C$5*'Base Numbers'!$C$6),MAX(G396,G398))","v":0},{"$f":"MIN(H241*(H307)/('Base Numbers'!$C$5*'Base Numbers'!$C$6),MAX(H396,H398))","v":0},{"$f":"MIN(I241*(I307)/('Base Numbers'!$C$5*'Base Numbers'!$C$6),MAX(I396,I398))","v":0},{"$f":"MIN(J241*(J307)/('Base Numbers'!$C$5*'Base Numbers'!$C$6),MAX(J396,J398))","v":0},{"$f":"MIN(K241*(K307)/('Base Numbers'!$C$5*'Base Numbers'!$C$6),MAX(K396,K398))","v":0},{"$f":"MIN(L241*(L307)/('Base Numbers'!$C$5*'Base Numbers'!$C$6),MAX(L396,L398))","v":0},{"$f":"MIN(M241*(M307)/('Base Numbers'!$C$5*'Base Numbers'!$C$6),MAX(M396,M398))","v":0},{"$f":"MIN(N241*(N307)/('Base Numbers'!$C$5*'Base Numbers'!$C$6),MAX(N396,N398))","v":0},{"$f":"MIN(O241*(O307)/('Base Numbers'!$C$5*'Base Numbers'!$C$6),MAX(O396,O398))","v":0},{"$f":"MIN(P241*(P307)/('Base Numbers'!$C$5*'Base Numbers'!$C$6),MAX(P396,P398))","v":0},{"$f":"MIN(Q241*(Q307)/('Base Numbers'!$C$5*'Base Numbers'!$C$6),MAX(Q396,Q398))","v":0},{"$f":"MIN(R241*(R307)/('Base Numbers'!$C$5*'Base Numbers'!$C$6),MAX(R396,R398))","v":0},{"$f":"MIN(S241*(S307)/('Base Numbers'!$C$5*'Base Numbers'!$C$6),MAX(S396,S398))","v":0},{"$f":"MIN(T241*(T307)/('Base Numbers'!$C$5*'Base Numbers'!$C$6),MAX(T396,T398))","v":0},{"$f":"MIN(U241*(U307)/('Base Numbers'!$C$5*'Base Numbers'!$C$6),MAX(U396,U398))","v":0},{"$f":"MIN(V241*(V307)/('Base Numbers'!$C$5*'Base Numbers'!$C$6),MAX(V396,V398))","v":0},{"$f":"MIN(W241*(W307)/('Base Numbers'!$C$5*'Base Numbers'!$C$6),MAX(W396,W398))","v":0},{"$f":"MIN(X241*(X307)/('Base Numbers'!$C$5*'Base Numbers'!$C$6),MAX(X396,X398))","v":0}]
[{"$nulls":3},"opp att pct adv from Greater Invis",{"$f":"MIN(E242*(E307)/('Base Numbers'!$C$5*'Base Numbers'!$C$6),E396)","v":0},{"$f":"MIN(F242*(F307)/('Base Numbers'!$C$5*'Base Numbers'!$C$6),F396)","v":0},{"$f":"MIN(G242*(G307)/('Base Numbers'!$C$5*'Base Numbers'!$C$6),G396)","v":0},{"$f":"MIN(H242*(H307)/('Base Numbers'!$C$5*'Base Numbers'!$C$6),H396)","v":0},{"$f":"MIN(I242*(I307)/('Base Numbers'!$C$5*'Base Numbers'!$C$6),I396)","v":0},{"$f":"MIN(J242*(J307)/('Base Numbers'!$C$5*'Base Numbers'!$C$6),J396)","v":0},{"$f":"MIN(K242*(K307)/('Base Numbers'!$C$5*'Base Numbers'!$C$6),K396)","v":0},{"$f":"MIN(L242*(L307)/('Base Numbers'!$C$5*'Base Numbers'!$C$6),L396)","v":0},{"$f":"MIN(M242*(M307)/('Base Numbers'!$C$5*'Base Numbers'!$C$6),M396)","v":0},{"$f":"MIN(N242*(N307)/('Base Numbers'!$C$5*'Base Numbers'!$C$6),N396)","v":0},{"$f":"MIN(O242*(O307)/('Base Numbers'!$C$5*'Base Numbers'!$C$6),O396)","v":0},{"$f":"MIN(P242*(P307)/('Base Numbers'!$C$5*'Base Numbers'!$C$6),P396)","v":0},{"$f":"MIN(Q242*(Q307)/('Base Numbers'!$C$5*'Base Numbers'!$C$6),Q396)","v":0},{"$f":"MIN(R242*(R307)/('Base Numbers'!$C$5*'Base Numbers'!$C$6),R396)","v":0},{"$f":"MIN(S242*(S307)/('Base Numbers'!$C$5*'Base Numbers'!$C$6),S396)","v":0},{"$f":"MIN(T242*(T307)/('Base Numbers'!$C$5*'Base Numbers'!$C$6),T396)","v":0},{"$f":"MIN(U242*(U307)/('Base Numbers'!$C$5*'Base Numbers'!$C$6),U396)","v":0},{"$f":"MIN(V242*(V307)/('Base Numbers'!$C$5*'Base Numbers'!$C$6),V396)","v":0},{"$f":"MIN(W242*(W307)/('Base Numbers'!$C$5*'Base Numbers'!$C$6),W396)","v":0},{"$f":"MIN(X242*(X307)/('Base Numbers'!$C$5*'Base Numbers'!$C$6),X396)","v":0}]
[{"$nulls":3},"opp att pct adv from Faerie Fire",{"$f":"E233*E306*(1-E130)/('Base Numbers'!$C$5*'Base Numbers'!$C$6)","v":0},{"$f":"F233*F306*(1-F130)/('Base Numbers'!$C$5*'Base Numbers'!$C$6)","v":0},{"$f":"G233*G306*(1-G130)/('Base Numbers'!$C$5*'Base Numbers'!$C$6)","v":0},{"$f":"H233*H306*(1-H130)/('Base Numbers'!$C$5*'Base Numbers'!$C$6)","v":0},{"$f":"I233*I306*(1-I130)/('Base Numbers'!$C$5*'Base Numbers'!$C$6)","v":0},{"$f":"J233*J306*(1-J130)/('Base Numbers'!$C$5*'Base Numbers'!$C$6)","v":0},{"$f":"K233*K306*(1-K130)/('Base Numbers'!$C$5*'Base Numbers'!$C$6)","v":0},{"$f":"L233*L306*(1-L130)/('Base Numbers'!$C$5*'Base Numbers'!$C$6)","v":0},{"$f":"M233*M306*(1-M130)/('Base Numbers'!$C$5*'Base Numbers'!$C$6)","v":0},{"$f":"N233*N306*(1-N130)/('Base Numbers'!$C$5*'Base Numbers'!$C$6)","v":0},{"$f":"O233*O306*(1-O130)/('Base Numbers'!$C$5*'Base Numbers'!$C$6)","v":0},{"$f":"P233*P306*(1-P130)/('Base Numbers'!$C$5*'Base Numbers'!$C$6)","v":0},{"$f":"Q233*Q306*(1-Q130)/('Base Numbers'!$C$5*'Base Numbers'!$C$6)","v":0},{"$f":"R233*R306*(1-R130)/('Base Numbers'!$C$5*'Base Numbers'!$C$6)","v":0},{"$f":"S233*S306*(1-S130)/('Base Numbers'!$C$5*'Base Numbers'!$C$6)","v":0},{"$f":"T233*T306*(1-T130)/('Base Numbers'!$C$5*'Base Numbers'!$C$6)","v":0},{"$f":"U233*U306*(1-U130)/('Base Numbers'!$C$5*'Base Numbers'!$C$6)","v":0},{"$f":"V233*V306*(1-V130)/('Base Numbers'!$C$5*'Base Numbers'!$C$6)","v":0},{"$f":"W233*W306*(1-W130)/('Base Numbers'!$C$5*'Base Numbers'!$C$6)","v":0},{"$f":"X233*X306*(1-X130)/('Base Numbers'!$C$5*'Base Numbers'!$C$6)","v":0}]
[{"$nulls":3},"opp att pct adv from Guardian of Nature",{"$f":"IF(OR(E132,E137),E236,0)*(E306)/('Base Numbers'!$C$5*'Base Numbers'!$C$6)","v":0},{"$f":"IF(OR(F132,F137),F236,0)*(F306)/('Base Numbers'!$C$5*'Base Numbers'!$C$6)","v":0},{"$f":"IF(OR(G132,G137),G236,0)*(G306)/('Base Numbers'!$C$5*'Base Numbers'!$C$6)","v":0},{"$f":"IF(OR(H132,H137),H236,0)*(H306)/('Base Numbers'!$C$5*'Base Numbers'!$C$6)","v":0},{"$f":"IF(OR(I132,I137),I236,0)*(I306)/('Base Numbers'!$C$5*'Base Numbers'!$C$6)","v":0},{"$f":"IF(OR(J132,J137),J236,0)*(J306)/('Base Numbers'!$C$5*'Base Numbers'!$C$6)","v":0},{"$f":"IF(OR(K132,K137),K236,0)*(K306)/('Base Numbers'!$C$5*'Base Numbers'!$C$6)","v":0},{"$f":"IF(OR(L132,L137),L236,0)*(L306)/('Base Numbers'!$C$5*'Base Numbers'!$C$6)","v":0},{"$f":"IF(OR(M132,M137),M236,0)*(M306)/('Base Numbers'!$C$5*'Base Numbers'!$C$6)","v":0},{"$f":"IF(OR(N132,N137),N236,0)*(N306)/('Base Numbers'!$C$5*'Base Numbers'!$C$6)","v":0},{"$f":"IF(OR(O132,O137),O236,0)*(O306)/('Base Numbers'!$C$5*'Base Numbers'!$C$6)","v":0},{"$f":"IF(OR(P132,P137),P236,0)*(P306)/('Base Numbers'!$C$5*'Base Numbers'!$C$6)","v":0},{"$f":"IF(OR(Q132,Q137),Q236,0)*(Q306)/('Base Numbers'!$C$5*'Base Numbers'!$C$6)","v":0},{"$f":"IF(OR(R132,R137),R236,0)*(R306)/('Base Numbers'!$C$5*'Base Numbers'!$C$6)","v":0},{"$f":"IF(OR(S132,S137),S236,0)*(S306)/('Base Numbers'!$C$5*'Base Numbers'!$C$6)","v":0},{"$f":"IF(OR(T132,T137),T236,0)*(T306)/('Base Numbers'!$C$5*'Base Numbers'!$C$6)","v":0},{"$f":"IF(OR(U132,U137),U236,0)*(U306)/('Base Numbers'!$C$5*'Base Numbers'!$C$6)","v":0},{"$f":"IF(OR(V132,V137),V236,0)*(V306)/('Base Numbers'!$C$5*'Base Numbers'!$C$6)","v":0},{"$f":"IF(OR(W132,W137),W236,0)*(W306)/('Base Numbers'!$C$5*'Base Numbers'!$C$6)","v":0},{"$f":"IF(OR(X132,X137),X236,0)*(X306)/('Base Numbers'!$C$5*'Base Numbers'!$C$6)","v":0}]
[{"$nulls":3},"opp att pct adv from Gloomstalker",{"$f":"MIN(E1058,'Caster Tables'!C$71)","v":0},{"$f":"MIN(F1058,'Caster Tables'!D$71)","v":0},{"$f":"MIN(G1058,'Caster Tables'!E$71)","v":0},{"$f":"MIN(H1058,'Caster Tables'!F$71)","v":0},{"$f":"MIN(I1058,'Caster Tables'!G$71)","v":0},{"$f":"MIN(J1058,'Caster Tables'!H$71)","v":0},{"$f":"MIN(K1058,'Caster Tables'!I$71)","v":0},{"$f":"MIN(L1058,'Caster Tables'!J$71)","v":0},{"$f":"MIN(M1058,'Caster Tables'!K$71)","v":0},{"$f":"MIN(N1058,'Caster Tables'!L$71)","v":0},{"$f":"MIN(O1058,'Caster Tables'!M$71)","v":0},{"$f":"MIN(P1058,'Caster Tables'!N$71)","v":0},{"$f":"MIN(Q1058,'Caster Tables'!O$71)","v":0},{"$f":"MIN(R1058,'Caster Tables'!P$71)","v":0},{"$f":"MIN(S1058,'Caster Tables'!Q$71)","v":0},{"$f":"MIN(T1058,'Caster Tables'!R$71)","v":0},{"$f":"MIN(U1058,'Caster Tables'!S$71)","v":0},{"$f":"MIN(V1058,'Caster Tables'!T$71)","v":0},{"$f":"MIN(W1058,'Caster Tables'!U$71)","v":0},{"$f":"MIN(X1058,'Caster Tables'!V$71)","v":0}]
[{"$nulls":3},"opp att pct adv from Tenser's Transformation",{"$f":"E306*E244/('Base Numbers'!$C$5*'Base Numbers'!$C$6)","v":0},{"$f":"F306*F244/('Base Numbers'!$C$5*'Base Numbers'!$C$6)","v":0},{"$f":"G306*G244/('Base Numbers'!$C$5*'Base Numbers'!$C$6)","v":0},{"$f":"H306*H244/('Base Numbers'!$C$5*'Base Numbers'!$C$6)","v":0},{"$f":"I306*I244/('Base Numbers'!$C$5*'Base Numbers'!$C$6)","v":0},{"$f":"J306*J244/('Base Numbers'!$C$5*'Base Numbers'!$C$6)","v":0},{"$f":"K306*K244/('Base Numbers'!$C$5*'Base Numbers'!$C$6)","v":0},{"$f":"L306*L244/('Base Numbers'!$C$5*'Base Numbers'!$C$6)","v":0},{"$f":"M306*M244/('Base Numbers'!$C$5*'Base Numbers'!$C$6)","v":0},{"$f":"N306*N244/('Base Numbers'!$C$5*'Base Numbers'!$C$6)","v":0},{"$f":"O306*O244/('Base Numbers'!$C$5*'Base Numbers'!$C$6)","v":0},{"$f":"P306*P244/('Base Numbers'!$C$5*'Base Numbers'!$C$6)","v":0},{"$f":"Q306*Q244/('Base Numbers'!$C$5*'Base Numbers'!$C$6)","v":0},{"$f":"R306*R244/('Base Numbers'!$C$5*'Base Numbers'!$C$6)","v":0},{"$f":"S306*S244/('Base Numbers'!$C$5*'Base Numbers'!$C$6)","v":0},{"$f":"T306*T244/('Base Numbers'!$C$5*'Base Numbers'!$C$6)","v":0},{"$f":"U306*U244/('Base Numbers'!$C$5*'Base Numbers'!$C$6)","v":0},{"$f":"V306*V244/('Base Numbers'!$C$5*'Base Numbers'!$C$6)","v":0},{"$f":"W306*W244/('Base Numbers'!$C$5*'Base Numbers'!$C$6)","v":0},{"$f":"X306*X244/('Base Numbers'!$C$5*'Base Numbers'!$C$6)","v":0}]
[]
[]
[{"$nulls":3},"ADVANTAGE"]
[{"$nulls":3},"d20s rolled w adv: (CHA/DEX/INT/WIS) nonspell attacks",{"$f":"IF(AND(E134=0,E25),3,2)","v":2},2,2,2,2,2,2,2,2,2,2,2,2,2,2,2,2,2,2,2,null,"* note: Elven Acc doesn't work with STR attacks.  Just DEX/CHA/WIS/INT"]
[{"$nulls":3},"d20s rolled w adv: (CHA/INT/WIS) spell attacks",{"$f":"IF(E25,3,2)","v":2},2,2,2,2,2,2,2,2,2,2,2,2,2,2,2,2,2,2,2]
[{"$nulls":3},"reckless attacks apply (if Str Melee attacks)",{"$f":"IF(AND(AND(E137=0,E8>=2),E134>=1),1,0)","v":0},0,0,0,0,0,0,0,0,0,0,0,0,0,0,0,0,0,0,0]
[{"$nulls":3},"adv on first attack (FF, RB, Reckless, no prone)",{"$f":"MIN(1,E402+E403+E406+E401+E408+E409+E410+E412+E413+E414+E417+E416+E407+E415+E405+E404+E400+E411)","v":0},{"$f":"MIN(1,F402+F403+F406+F401+F408+F409+F410+F412+F413+F414+F417+F416+F407+F415+F405+F404+F400+F411)","v":0},0,0,0,0,0,0,0,0,0,0,0,0,0,0,0,0,0,0,null,1,"adv : first attack"]
[{"$nulls":3},"adv on subsequent attacks (if any) (prone, no FF, no RB)",{"$f":"MIN(1,E406+E401+E408+E409+E410+E412+E413+E414+E417+E399+E416+E407+E415+E405+E404+E400+E411)","v":0},{"$f":"MIN(1,F406+F401+F408+F409+F410+F412+F413+F414+F417+F399+F416+F407+F415+F405+F404+F400+F411)","v":0},0,0,0,0,0,0,0,0,0,0,0,0,0,0,0,0,0,0,null,2,"adv : 2nd+ attacks"]
[{"$nulls":3},"adv average on basic attack ation attacks",{"$f":"(E322-1)/E322*E445+E444/E322","v":0},0,0,0,0,0,0,0,0,0,0,0,0,0,0,0,0,0,{"$f":"(W322-1)/W322*W445+W444/W322","v":0},0,null,3,"adv : avg basic attacks"]
[{"$nulls":3},"adv on bonus attacks (prone, no FF, no RB)",{"$f":"MIN(1,E419+E422+E423+E425+E426+E427+E401+E399+E421+E414+E420+E415+E418+E404+E400+E424)","v":0},{"$f":"MIN(1,F419+F422+F423+F425+F426+F427+F401+F399+F421+F414+F420+F415+F418+F404+F400+F424)","v":0},0,0,0,0,0,0,0,0,0,0,0,0,0,0,0,0,0,0,null,4,"adv : bonus attacks"]
[{"$nulls":3},"adv on Opp atts (no Hold Pers, Reckless, FF, Prone, RB)",{"$f":"MIN(1,E429+E430+E431+E432+E434+E435+E436+E437+E428+E404+E400+E433)","v":0},{"$f":"MIN(1,F429+F430+F431+F432+F434+F435+F436+F437+F428+F404+F400+F433)","v":0},0,0,0,0,0,0,0,0,0,0,0,0,0,0,0,0,0,0,null,5,"adv : opp attacks"]
[{"$nulls":3},"adv average on own turn",{"$f":"(E444+(E322-1+E323)*E445+E344*E447)/(E322+E323+E344)","v":0},0,0,0,0,0,0,0,0,0,0,0,0,0,0,0,0,0,0,0,null,6,"total avg own turn adv"]
[{"$nulls":3},"adv total average on all attacks",{"$f":"(E444+(E322-1+E323)*E445+E344*E447+E361*E448)/(E322+E323+E344+E361)","v":0},0,0,0,0,0,0,0,0,0,0,0,0,0,0,0,0,0,0,0,null,7,"total avg adv"]
[{"$nulls":3},"adv on first spell attack",{"$f":"MIN(1,E406+E409+E410+E412+E414+E402+E408+E415+E404+E400+E411)","v":0},{"$f":"MIN(1,F406+F409+F410+F412+F414+F402+F408+F415+F404+F400+F411)","v":0},0,0,0,0,0,0,0,0,0,0,0,0,0,0,0,0,0,0,null,9,"(spell adv)"]
[{"$nulls":3},"adv on subsequent spell attacks",{"$f":"MIN(1,E406+E409+E410+E412+E414+E399+E408+E415+E404+E400+E411)","v":0},{"$f":"MIN(1,F406+F409+F410+F412+F414+F399+F408+F415+F404+F400+F411)","v":0},0,0,0,0,0,0,0,0,0,0,0,0,0,0,0,0,0,0,null,10,"(spell adv bonus attacks) "]
[{"$nulls":3},"adv on spell bonus attacks",{"$f":"MIN(1,E399+E419+E422+E423+E425+E421+E404+E400+E424)","v":0},{"$f":"MIN(1,F399+F419+F422+F423+F425+F421+F404+F400+F424)","v":0},0,0,0,0,0,0,0,0,0,0,0,0,0,0,0,0,0,0]
[{"$nulls":3},"avg hit chance per first attack",{"$f":"(1-E444)*E$335+E$337*E444","v":0.65},0.65,0.6,0.6,0.65,0.6,0.6,0.6,0.6,0.6,0.6,0.55,0.6,0.6,0.55,0.55,0.6,0.55,0.55,0.55]
[{"$nulls":3},"avg hit chance per subsequent attack (if any)",{"$f":"(1-E445)*E$335+E$337*E445","v":0.65},0.65,0.6,0.6,0.65,0.6,0.6,0.6,0.6,0.6,0.6,0.55,0.6,0.6,0.55,0.55,0.6,0.55,0.55,0.55]
[{"$nulls":3},"avg hit chance per basic attacks (incl haste)",{"$f":"(1-E446)*E$335+E$337*E446","v":0.65},{"$f":"(1-F446)*F$335+F$337*F446","v":0.65},0.6,0.6,0.65,0.6,0.6,0.6,0.6,0.6,0.6,0.55,0.6,0.6,0.55,0.55,0.6,0.55,0.55,0.55]
[{"$nulls":3},"avg hit chance per bonus attack",{"$f":"(1-E447)*E336+E338*E447","v":0.65},0.65,0.6,0.6,0.65,0.6,0.6,0.6,0.6,0.6,0.6,0.55,0.6,0.6,0.55,0.55,0.6,0.55,0.55,0.55]
[{"$nulls":3},"avg hit chance per opp attack",{"$f":"(1-E448)*E341+E342*E448","v":0.65},0.65,0.6,0.6,0.65,0.6,0.6,0.6,0.6,0.6,0.6,0.55,0.6,0.6,0.55,0.55,0.6,0.55,0.55,0.55]
[{"$nulls":3},"total avg own turn hit chance ",{"$f":"(1-E449)*E$335+E$337*E449","v":0.65},{"$f":"(1-F449)*F$335+F$337*F449","v":0.65},0.6,0.6,0.65,0.6,0.6,0.6,0.6,0.6,0.6,0.55,0.6,0.6,0.55,0.55,0.6,0.55,0.55,0.55]
[{"$nulls":3},"total avg hit chance (incl Opp atts)",{"$f":"(1-E450)*E$335+E$337*E450","v":0.65},{"$f":"(1-F450)*F$335+F$337*F450","v":0.65},0.6,0.6,0.65,0.6,0.6,0.6,0.6,0.6,0.6,0.55,0.6,0.6,0.55,0.55,0.6,0.55,0.55,0.55]
[{"$nulls":3},"avg spell hit chance",{"$f":"(1-E451)*E368+E370*E451","v":0.65},0.65,0.6,0.6,0.65,0.6,0.6,0.6,0.6,0.6,0.6,0.55,0.6,0.6,0.55,0.55,0.6,0.55,0.55,0.55]
[{"$nulls":3},"avg spell bonus attack hit chance",{"$f":"(1-E453)*E369+E371*E453","v":0.65},0.65,0.6,0.6,0.65,0.6,0.6,0.6,0.6,0.6,0.6,0.55,0.6,0.6,0.55,0.55,0.6,0.55,0.55,0.55]
[]
[{"$nulls":3},"CRITICALS"]
[{"$nulls":3},"avg base crit chance (hexblade curse)",{"$f":"(1+IF($B$52,0.05,0))*(0.05+IF(E12>0,0.05*E1155/'Base Numbers'!$C$5,0)+IF(AND(E10>=3,E53>=1),0.05,0)+IF(AND(E10>=15,E53>=1),0.05,0)+IF(E903,0.05/'Base Numbers'!$C$5))","v":0.05},{"$f":"(1+IF($B$52,0.05,0))*(0.05+IF(F12>0,0.05*F1155/'Base Numbers'!$C$5,0)+IF(AND(F10>=3,F53>=1),0.05,0)+IF(AND(F10>=15,F53>=1),0.05,0)+IF(F903,0.05/'Base Numbers'!$C$5))","v":0.05},{"$f":"(1+IF($B$52,0.05,0))*(0.05+IF(G12>0,0.05*G1155/'Base Numbers'!$C$5,0)+IF(AND(G10>=3,G53>=1),0.05,0)+IF(AND(G10>=15,G53>=1),0.05,0)+IF(G903,0.05/'Base Numbers'!$C$5))","v":0.05},{"$f":"(1+IF($B$52,0.05,0))*(0.05+IF(H12>0,0.05*H1155/'Base Numbers'!$C$5,0)+IF(AND(H10>=3,H53>=1),0.05,0)+IF(AND(H10>=15,H53>=1),0.05,0)+IF(H903,0.05/'Base Numbers'!$C$5))","v":0.05},{"$f":"(1+IF($B$52,0.05,0))*(0.05+IF(I12>0,0.05*I1155/'Base Numbers'!$C$5,0)+IF(AND(I10>=3,I53>=1),0.05,0)+IF(AND(I10>=15,I53>=1),0.05,0)+IF(I903,0.05/'Base Numbers'!$C$5))","v":0.05},{"$f":"(1+IF($B$52,0.05,0))*(0.05+IF(J12>0,0.05*J1155/'Base Numbers'!$C$5,0)+IF(AND(J10>=3,J53>=1),0.05,0)+IF(AND(J10>=15,J53>=1),0.05,0)+IF(J903,0.05/'Base Numbers'!$C$5))","v":0.05},{"$f":"(1+IF($B$52,0.05,0))*(0.05+IF(K12>0,0.05*K1155/'Base Numbers'!$C$5,0)+IF(AND(K10>=3,K53>=1),0.05,0)+IF(AND(K10>=15,K53>=1),0.05,0)+IF(K903,0.05/'Base Numbers'!$C$5))","v":0.05},{"$f":"(1+IF($B$52,0.05,0))*(0.05+IF(L12>0,0.05*L1155/'Base Numbers'!$C$5,0)+IF(AND(L10>=3,L53>=1),0.05,0)+IF(AND(L10>=15,L53>=1),0.05,0)+IF(L903,0.05/'Base Numbers'!$C$5))","v":0.05},{"$f":"(1+IF($B$52,0.05,0))*(0.05+IF(M12>0,0.05*M1155/'Base Numbers'!$C$5,0)+IF(AND(M10>=3,M53>=1),0.05,0)+IF(AND(M10>=15,M53>=1),0.05,0)+IF(M903,0.05/'Base Numbers'!$C$5))","v":0.05},{"$f":"(1+IF($B$52,0.05,0))*(0.05+IF(N12>0,0.05*N1155/'Base Numbers'!$C$5,0)+IF(AND(N10>=3,N53>=1),0.05,0)+IF(AND(N10>=15,N53>=1),0.05,0)+IF(N903,0.05/'Base Numbers'!$C$5))","v":0.05},{"$f":"(1+IF($B$52,0.05,0))*(0.05+IF(O12>0,0.05*O1155/'Base Numbers'!$C$5,0)+IF(AND(O10>=3,O53>=1),0.05,0)+IF(AND(O10>=15,O53>=1),0.05,0)+IF(O903,0.05/'Base Numbers'!$C$5))","v":0.05},{"$f":"(1+IF($B$52,0.05,0))*(0.05+IF(P12>0,0.05*P1155/'Base Numbers'!$C$5,0)+IF(AND(P10>=3,P53>=1),0.05,0)+IF(AND(P10>=15,P53>=1),0.05,0)+IF(P903,0.05/'Base Numbers'!$C$5))","v":0.05},{"$f":"(1+IF($B$52,0.05,0))*(0.05+IF(Q12>0,0.05*Q1155/'Base Numbers'!$C$5,0)+IF(AND(Q10>=3,Q53>=1),0.05,0)+IF(AND(Q10>=15,Q53>=1),0.05,0)+IF(Q903,0.05/'Base Numbers'!$C$5))","v":0.05},{"$f":"(1+IF($B$52,0.05,0))*(0.05+IF(R12>0,0.05*R1155/'Base Numbers'!$C$5,0)+IF(AND(R10>=3,R53>=1),0.05,0)+IF(AND(R10>=15,R53>=1),0.05,0)+IF(R903,0.05/'Base Numbers'!$C$5))","v":0.05},{"$f":"(1+IF($B$52,0.05,0))*(0.05+IF(S12>0,0.05*S1155/'Base Numbers'!$C$5,0)+IF(AND(S10>=3,S53>=1),0.05,0)+IF(AND(S10>=15,S53>=1),0.05,0)+IF(S903,0.05/'Base Numbers'!$C$5))","v":0.05},{"$f":"(1+IF($B$52,0.05,0))*(0.05+IF(T12>0,0.05*T1155/'Base Numbers'!$C$5,0)+IF(AND(T10>=3,T53>=1),0.05,0)+IF(AND(T10>=15,T53>=1),0.05,0)+IF(T903,0.05/'Base Numbers'!$C$5))","v":0.05},{"$f":"(1+IF($B$52,0.05,0))*(0.05+IF(U12>0,0.05*U1155/'Base Numbers'!$C$5,0)+IF(AND(U10>=3,U53>=1),0.05,0)+IF(AND(U10>=15,U53>=1),0.05,0)+IF(U903,0.05/'Base Numbers'!$C$5))","v":0.05},{"$f":"(1+IF($B$52,0.05,0))*(0.05+IF(V12>0,0.05*V1155/'Base Numbers'!$C$5,0)+IF(AND(V10>=3,V53>=1),0.05,0)+IF(AND(V10>=15,V53>=1),0.05,0)+IF(V903,0.05/'Base Numbers'!$C$5))","v":0.05},{"$f":"(1+IF($B$52,0.05,0))*(0.05+IF(W12>0,0.05*W1155/'Base Numbers'!$C$5,0)+IF(AND(W10>=3,W53>=1),0.05,0)+IF(AND(W10>=15,W53>=1),0.05,0)+IF(W903,0.05/'Base Numbers'!$C$5))","v":0.05},{"$f":"(1+IF($B$52,0.05,0))*(0.05+IF(X12>0,0.05*X1155/'Base Numbers'!$C$5,0)+IF(AND(X10>=3,X53>=1),0.05,0)+IF(AND(X10>=15,X53>=1),0.05,0)+IF(X903,0.05/'Base Numbers'!$C$5))","v":0.05}]
[{"$nulls":3},"avg crit chance with advantage",{"$f":"1-(1-E465)^E441","v":0.09750000000000003},0.09750000000000003,0.09750000000000003,0.09750000000000003,0.09750000000000003,0.09750000000000003,0.09750000000000003,0.09750000000000003,0.09750000000000003,0.09750000000000003,0.09750000000000003,0.09750000000000003,0.09750000000000003,0.09750000000000003,0.09750000000000003,0.09750000000000003,0.09750000000000003,0.09750000000000003,0.09750000000000003,0.09750000000000003]
[{"$nulls":3},"avg crit chance with adv on spell attacks",{"$f":"1-(1-E465)^E442","v":0.09750000000000003},{"$f":"1-(1-F465)^F442","v":0.09750000000000003},0.09750000000000003,0.09750000000000003,0.09750000000000003,0.09750000000000003,0.09750000000000003,0.09750000000000003,0.09750000000000003,0.09750000000000003,0.09750000000000003,0.09750000000000003,0.09750000000000003,0.09750000000000003,0.09750000000000003,0.09750000000000003,0.09750000000000003,0.09750000000000003,0.09750000000000003,0.09750000000000003]
[{"$nulls":3},"avg crit chacen with disadvantage",{"$f":"E465^2","v":2.5000000000000005E-3},{"$f":"F465^2","v":2.5000000000000005E-3},2.5000000000000005E-3,2.5000000000000005E-3,2.5000000000000005E-3,2.5000000000000005E-3,2.5000000000000005E-3,2.5000000000000005E-3,2.5000000000000005E-3,2.5000000000000005E-3,2.5000000000000005E-3,2.5000000000000005E-3,2.5000000000000005E-3,2.5000000000000005E-3,2.5000000000000005E-3,2.5000000000000005E-3,2.5000000000000005E-3,2.5000000000000005E-3,2.5000000000000005E-3,2.5000000000000005E-3]
[{"$nulls":3},"avg crit chance during first attack",{"$f":"MIN(1,E444*E466+(1-E444)*E465+E480)","v":0.05},{"$f":"MIN(1,F444*F466+(1-F444)*F465+F480)","v":0.05},0.05,0.05,0.05,0.05,0.05,0.05,0.05,0.05,0.05,0.05,0.05,0.05,0.05,0.05,0.05,0.05,0.05,0.05]
[{"$nulls":3},"avg crit chance on subsequent attacks (if any)",{"$f":"MIN(1,E445*E466+(1-E445)*E465+E480)","v":0.05},{"$f":"MIN(1,F445*F466+(1-F445)*F465+F480)","v":0.05},0.05,0.05,0.05,0.05,0.05,0.05,0.05,0.05,0.05,0.05,0.05,0.05,0.05,0.05,0.05,0.05,0.05,0.05]
[{"$nulls":3},"avg crit chance of attacks during regular attack action",{"$f":"MIN(1,E446*E466+(1-E446)*E465+E480)","v":0.05},0.05,0.05,0.05,0.05,0.05,0.05,0.05,0.05,{"$f":"MIN(1,N446*N466+(1-N446)*N465+N480)","v":0.05},{"$f":"MIN(1,O446*O466+(1-O446)*O465+O480)","v":0.05},0.05,0.05,0.05,0.05,0.05,0.05,0.05,0.05,0.05]
[{"$nulls":3},"avg crit chance per bonus attack (incl prone, advantage)",{"$f":"MIN(1,E447*E466+(1-E447)*E465+E480)","v":0.05},0.05,0.05,0.05,0.05,0.05,0.05,0.05,0.05,0.05,0.05,0.05,0.05,0.05,0.05,0.05,0.05,0.05,0.05,0.05]
[{"$nulls":3},"avg total crit chance per opportunity attack (no prone, FF, Reckless)",{"$f":"MIN(1,E448*E466+(1-E448)*E465)","v":0.05},0.05,0.05,0.05,0.05,0.05,0.05,0.05,0.05,0.05,0.05,0.05,0.05,0.05,0.05,0.05,0.05,0.05,0.05,0.05]
[{"$nulls":3},"avg total crit chance per attack (incl advantage)",{"$f":"MIN(1,E450*E466+(1-E450)*E465+E480)","v":0.05},0.05,0.05,0.05,0.05,0.05,0.05,0.05,0.05,0.05,0.05,0.05,0.05,0.05,0.05,0.05,0.05,0.05,0.05,0.05]
[{"$nulls":3},"avg crit chance per spell attack",{"$f":"MIN(1,E451*E467+(1-E451)*E465+E480)","v":0.05},{"$f":"MIN(1,F451*F467+(1-F451)*F465+F480)","v":0.05},0.05,0.05,0.05,0.05,0.05,0.05,0.05,0.05,0.05,0.05,0.05,0.05,0.05,0.05,0.05,0.05,0.05,0.05]
[{"$nulls":3},"avg crit chance per spell bonus attack",{"$f":"MIN(1,E453*E467+(1-E453)*E465+E480)","v":0.05},{"$f":"MIN(1,F453*F467+(1-F453)*F465+F480)","v":0.05},0.05,0.05,0.05,0.05,0.05,0.05,0.05,0.05,0.05,0.05,0.05,0.05,0.05,0.05,0.05,0.05,0.05,0.05]
[{"$nulls":3},"single save prob of hold person spell (WIS save, spell DC)",{"$f":"13/20 - MAX(E34,E33,E32)/20 - E35/20+'Caster Tables'!C$77/20","v":0.375},{"$f":"13/20 - MAX(F33,F32)/20 - F35/20+'Caster Tables'!D$77/20","v":0.4},{"$f":"13/20 - MAX(G33,G32)/20 - G35/20+'Caster Tables'!E$77/20","v":0.42500000000000004},{"$f":"13/20 - MAX(H33,H32)/20 - H35/20+'Caster Tables'!F$77/20","v":0.45},{"$f":"13/20 - MAX(I33,I32)/20 - I35/20+'Caster Tables'!G$77/20","v":0.425},{"$f":"13/20 - MAX(J33,J32)/20 - J35/20+'Caster Tables'!H$77/20","v":0.44999999999999996},{"$f":"13/20 - MAX(K33,K32)/20 - K35/20+'Caster Tables'!I$77/20","v":0.475},{"$f":"13/20 - MAX(L33,L32)/20 - L35/20+'Caster Tables'!J$77/20","v":0.5},{"$f":"13/20 - MAX(M33,M32)/20 - M35/20+'Caster Tables'!K$77/20","v":0.475},{"$f":"13/20 - MAX(N33,N32)/20 - N35/20+'Caster Tables'!L$77/20","v":0.5},{"$f":"13/20 - MAX(O33,O32)/20 - O35/20+'Caster Tables'!M$77/20","v":0.525},{"$f":"13/20 - MAX(P33,P32)/20 - P35/20+'Caster Tables'!N$77/20","v":0.55},{"$f":"13/20 - MAX(Q33,Q32)/20 - Q35/20+'Caster Tables'!O$77/20","v":0.525},{"$f":"13/20 - MAX(R33,R32)/20 - R35/20+'Caster Tables'!P$77/20","v":0.55},{"$f":"13/20 - MAX(S33,S32)/20 - S35/20+'Caster Tables'!Q$77/20","v":0.575},{"$f":"13/20 - MAX(T33,T32)/20 - T35/20+'Caster Tables'!R$77/20","v":0.6},{"$f":"13/20 - MAX(U33,U32)/20 - U35/20+'Caster Tables'!S$77/20","v":0.575},{"$f":"13/20 - MAX(V33,V32)/20 - V35/20+'Caster Tables'!T$77/20","v":0.6000000000000001},{"$f":"13/20 - MAX(W33,W32)/20 - W35/20+'Caster Tables'!U$77/20","v":0.625},{"$f":"13/20 - MAX(X33,X32)/20 - X35/20+'Caster Tables'!V$77/20","v":0.65}]
[{"$nulls":3},"avg duration of a hold person spell (based on saves, not incl conc)",{"$f":"(1-E477)*E477+2*(1-E477)^2*(E477)+3*(1-E477)^3*E477+4*(1-E477)^4","v":1.412353515625},{"$f":"(1-F477)*F477+2*(1-F477)^2*(F477)+3*(1-F477)^3*F477+4*(1-F477)^4","v":1.3056},1.2050472656249998,1.11038125,1.2050472656249998,1.11038125,1.021297265625,0.9375,1.021297265625,0.9375,0.858703515625,0.7846312499999999,0.858703515625,0.7846312499999999,0.7150160156250003,0.6496000000000002,0.7150160156250003,0.6495999999999998,0.588134765625,0.5303812499999999]
[{"$nulls":3},"pct of attacks vs. held/paralyzed opponent (really % of rounds)",{"$f":"(E239+E240)*MIN(E307,E478)/('Base Numbers'!$C$5*'Base Numbers'!$C$6)","v":0},{"$f":"(F239+F240)*MIN(F307,F478)/('Base Numbers'!$C$5*'Base Numbers'!$C$6)","v":0},{"$f":"(G239+G240)*MIN(G307,G478)/('Base Numbers'!$C$5*'Base Numbers'!$C$6)","v":0},{"$f":"(H239+H240)*MIN(H307,H478)/('Base Numbers'!$C$5*'Base Numbers'!$C$6)","v":0},{"$f":"(I239+I240)*MIN(I307,I478)/('Base Numbers'!$C$5*'Base Numbers'!$C$6)","v":0},{"$f":"(J239+J240)*MIN(J307,J478)/('Base Numbers'!$C$5*'Base Numbers'!$C$6)","v":0},{"$f":"(K239+K240)*MIN(K307,K478)/('Base Numbers'!$C$5*'Base Numbers'!$C$6)","v":0},{"$f":"(L239+L240)*MIN(L307,L478)/('Base Numbers'!$C$5*'Base Numbers'!$C$6)","v":0},{"$f":"(M239+M240)*MIN(M307,M478)/('Base Numbers'!$C$5*'Base Numbers'!$C$6)","v":0},{"$f":"(N239+N240)*MIN(N307,N478)/('Base Numbers'!$C$5*'Base Numbers'!$C$6)","v":0},{"$f":"(O239+O240)*MIN(O307,O478)/('Base Numbers'!$C$5*'Base Numbers'!$C$6)","v":0},{"$f":"(P239+P240)*MIN(P307,P478)/('Base Numbers'!$C$5*'Base Numbers'!$C$6)","v":0},{"$f":"(Q239+Q240)*MIN(Q307,Q478)/('Base Numbers'!$C$5*'Base Numbers'!$C$6)","v":0},{"$f":"(R239+R240)*MIN(R307,R478)/('Base Numbers'!$C$5*'Base Numbers'!$C$6)","v":0},{"$f":"(S239+S240)*MIN(S307,S478)/('Base Numbers'!$C$5*'Base Numbers'!$C$6)","v":0},{"$f":"(T239+T240)*MIN(T307,T478)/('Base Numbers'!$C$5*'Base Numbers'!$C$6)","v":0},{"$f":"(U239+U240)*MIN(U307,U478)/('Base Numbers'!$C$5*'Base Numbers'!$C$6)","v":0},{"$f":"(V239+V240)*MIN(V307,V478)/('Base Numbers'!$C$5*'Base Numbers'!$C$6)","v":0},{"$f":"(W239+W240)*MIN(W307,W478)/('Base Numbers'!$C$5*'Base Numbers'!$C$6)","v":0},{"$f":"(X239+X240)*MIN(X307,X478)/('Base Numbers'!$C$5*'Base Numbers'!$C$6)","v":0}]
[{"$nulls":3},"additive effect of held targets on crit rate",{"$f":"E479 - E479*(1-(1-E465)^E441)","v":0},0,0,0,0,0,0,0,0,0,0,0,0,0,0,0,0,0,0,0]
[]
[{"$nulls":3},"DAMAGE BONUSES"]
[{"$nulls":3},"improved smite dmg",{"$f":"IF(E7>10,4.5,0)","v":0},0,0,0,0,0,0,0,0,0,0,0,0,0,0,0,0,0,0,0]
[{"$nulls":3},"avg hexblade curse dmg bonus",{"$f":"IF(E12>0,E1155*E35/'Base Numbers'!$C$5,0)","v":0},{"$f":"IF(F12>0,F1155*F35/'Base Numbers'!$C$5,0)","v":0},{"$f":"IF(G12>0,G1155*G35/'Base Numbers'!$C$5,0)","v":0},{"$f":"IF(H12>0,H1155*H35/'Base Numbers'!$C$5,0)","v":0},{"$f":"IF(I12>0,I1155*I35/'Base Numbers'!$C$5,0)","v":0},{"$f":"IF(J12>0,J1155*J35/'Base Numbers'!$C$5,0)","v":0},{"$f":"IF(K12>0,K1155*K35/'Base Numbers'!$C$5,0)","v":0},{"$f":"IF(L12>0,L1155*L35/'Base Numbers'!$C$5,0)","v":0},{"$f":"IF(M12>0,M1155*M35/'Base Numbers'!$C$5,0)","v":0},{"$f":"IF(N12>0,N1155*N35/'Base Numbers'!$C$5,0)","v":0},{"$f":"IF(O12>0,O1155*O35/'Base Numbers'!$C$5,0)","v":0},{"$f":"IF(P12>0,P1155*P35/'Base Numbers'!$C$5,0)","v":0},{"$f":"IF(Q12>0,Q1155*Q35/'Base Numbers'!$C$5,0)","v":0},{"$f":"IF(R12>0,R1155*R35/'Base Numbers'!$C$5,0)","v":0},{"$f":"IF(S12>0,S1155*S35/'Base Numbers'!$C$5,0)","v":0},{"$f":"IF(T12>0,T1155*T35/'Base Numbers'!$C$5,0)","v":0},{"$f":"IF(U12>0,U1155*U35/'Base Numbers'!$C$5,0)","v":0},{"$f":"IF(V12>0,V1155*V35/'Base Numbers'!$C$5,0)","v":0},{"$f":"IF(W12>0,W1155*W35/'Base Numbers'!$C$5,0)","v":0},{"$f":"IF(X12>0,X1155*X35/'Base Numbers'!$C$5,0)","v":0}]
[{"$nulls":3},"avg hexblade curse dmg bonus on bonus attacks",{"$f":"IF(E12>0,E1155*E35*('Base Numbers'!$C$6-1)/('Base Numbers'!$C$5*'Base Numbers'!$C$6),0)","v":0},{"$f":"IF(F12>0,F1155*F35*('Base Numbers'!$C$6-1)/('Base Numbers'!$C$5*'Base Numbers'!$C$6),0)","v":0},{"$f":"IF(G12>0,G1155*G35*('Base Numbers'!$C$6-1)/('Base Numbers'!$C$5*'Base Numbers'!$C$6),0)","v":0},{"$f":"IF(H12>0,H1155*H35*('Base Numbers'!$C$6-1)/('Base Numbers'!$C$5*'Base Numbers'!$C$6),0)","v":0},{"$f":"IF(I12>0,I1155*I35*('Base Numbers'!$C$6-1)/('Base Numbers'!$C$5*'Base Numbers'!$C$6),0)","v":0},{"$f":"IF(J12>0,J1155*J35*('Base Numbers'!$C$6-1)/('Base Numbers'!$C$5*'Base Numbers'!$C$6),0)","v":0},{"$f":"IF(K12>0,K1155*K35*('Base Numbers'!$C$6-1)/('Base Numbers'!$C$5*'Base Numbers'!$C$6),0)","v":0},{"$f":"IF(L12>0,L1155*L35*('Base Numbers'!$C$6-1)/('Base Numbers'!$C$5*'Base Numbers'!$C$6),0)","v":0},{"$f":"IF(M12>0,M1155*M35*('Base Numbers'!$C$6-1)/('Base Numbers'!$C$5*'Base Numbers'!$C$6),0)","v":0},{"$f":"IF(N12>0,N1155*N35*('Base Numbers'!$C$6-1)/('Base Numbers'!$C$5*'Base Numbers'!$C$6),0)","v":0},{"$f":"IF(O12>0,O1155*O35*('Base Numbers'!$C$6-1)/('Base Numbers'!$C$5*'Base Numbers'!$C$6),0)","v":0},{"$f":"IF(P12>0,P1155*P35*('Base Numbers'!$C$6-1)/('Base Numbers'!$C$5*'Base Numbers'!$C$6),0)","v":0},{"$f":"IF(Q12>0,Q1155*Q35*('Base Numbers'!$C$6-1)/('Base Numbers'!$C$5*'Base Numbers'!$C$6),0)","v":0},{"$f":"IF(R12>0,R1155*R35*('Base Numbers'!$C$6-1)/('Base Numbers'!$C$5*'Base Numbers'!$C$6),0)","v":0},{"$f":"IF(S12>0,S1155*S35*('Base Numbers'!$C$6-1)/('Base Numbers'!$C$5*'Base Numbers'!$C$6),0)","v":0},{"$f":"IF(T12>0,T1155*T35*('Base Numbers'!$C$6-1)/('Base Numbers'!$C$5*'Base Numbers'!$C$6),0)","v":0},{"$f":"IF(U12>0,U1155*U35*('Base Numbers'!$C$6-1)/('Base Numbers'!$C$5*'Base Numbers'!$C$6),0)","v":0},{"$f":"IF(V12>0,V1155*V35*('Base Numbers'!$C$6-1)/('Base Numbers'!$C$5*'Base Numbers'!$C$6),0)","v":0},{"$f":"IF(W12>0,W1155*W35*('Base Numbers'!$C$6-1)/('Base Numbers'!$C$5*'Base Numbers'!$C$6),0)","v":0},{"$f":"IF(X12>0,X1155*X35*('Base Numbers'!$C$6-1)/('Base Numbers'!$C$5*'Base Numbers'!$C$6),0)","v":0}]
[{"$nulls":3},"warlock lifedrinker damage bonus (L12 pact of blade)",{"$f":"IF(AND(E12>=12,E49>=1),E32,0)","v":0},0,0,0,0,0,0,0,0,0,0,0,0,0,0,0,0,0,0,0]
[{"$nulls":3},"hunters mark / hex dmg bonus",{"$f":"3.5*E231*(1+E306)/('Base Numbers'!$C$5*'Base Numbers'!$C$6)","v":0},{"$f":"3.5*F231*(1+F306)/('Base Numbers'!$C$5*'Base Numbers'!$C$6)","v":0},{"$f":"3.5*G231*(1+G306)/('Base Numbers'!$C$5*'Base Numbers'!$C$6)","v":0},{"$f":"3.5*H231*(1+H306)/('Base Numbers'!$C$5*'Base Numbers'!$C$6)","v":0},{"$f":"3.5*I231*(1+I306)/('Base Numbers'!$C$5*'Base Numbers'!$C$6)","v":0},{"$f":"3.5*J231*(1+J306)/('Base Numbers'!$C$5*'Base Numbers'!$C$6)","v":0},{"$f":"3.5*K231*(1+K306)/('Base Numbers'!$C$5*'Base Numbers'!$C$6)","v":0},{"$f":"3.5*L231*(1+L306)/('Base Numbers'!$C$5*'Base Numbers'!$C$6)","v":0},{"$f":"3.5*M231*(1+M306)/('Base Numbers'!$C$5*'Base Numbers'!$C$6)","v":0},{"$f":"3.5*N231*(1+N306)/('Base Numbers'!$C$5*'Base Numbers'!$C$6)","v":0},{"$f":"3.5*O231*(1+O306)/('Base Numbers'!$C$5*'Base Numbers'!$C$6)","v":0},{"$f":"3.5*P231*(1+P306)/('Base Numbers'!$C$5*'Base Numbers'!$C$6)","v":0},{"$f":"3.5*Q231*(1+Q306)/('Base Numbers'!$C$5*'Base Numbers'!$C$6)","v":0},{"$f":"3.5*R231*(1+R306)/('Base Numbers'!$C$5*'Base Numbers'!$C$6)","v":0},{"$f":"3.5*S231*(1+S306)/('Base Numbers'!$C$5*'Base Numbers'!$C$6)","v":0},{"$f":"3.5*T231*(1+T306)/('Base Numbers'!$C$5*'Base Numbers'!$C$6)","v":0},{"$f":"3.5*U231*(1+U306)/('Base Numbers'!$C$5*'Base Numbers'!$C$6)","v":0},{"$f":"3.5*V231*(1+V306)/('Base Numbers'!$C$5*'Base Numbers'!$C$6)","v":0},{"$f":"3.5*W231*(1+W306)/('Base Numbers'!$C$5*'Base Numbers'!$C$6)","v":0},{"$f":"3.5*X231*(1+X306)/('Base Numbers'!$C$5*'Base Numbers'!$C$6)","v":0}]
[{"$nulls":3},"hunters mark / hex dmg bonus on bonus attacks",{"$f":"3.5*E231*(E306)/('Base Numbers'!$C$5*'Base Numbers'!$C$6)","v":0},{"$f":"3.5*F231*(F306)/('Base Numbers'!$C$5*'Base Numbers'!$C$6)","v":0},{"$f":"3.5*G231*(G306)/('Base Numbers'!$C$5*'Base Numbers'!$C$6)","v":0},{"$f":"3.5*H231*(H306)/('Base Numbers'!$C$5*'Base Numbers'!$C$6)","v":0},{"$f":"3.5*I231*(I306)/('Base Numbers'!$C$5*'Base Numbers'!$C$6)","v":0},{"$f":"3.5*J231*(J306)/('Base Numbers'!$C$5*'Base Numbers'!$C$6)","v":0},{"$f":"3.5*K231*(K306)/('Base Numbers'!$C$5*'Base Numbers'!$C$6)","v":0},{"$f":"3.5*L231*(L306)/('Base Numbers'!$C$5*'Base Numbers'!$C$6)","v":0},{"$f":"3.5*M231*(M306)/('Base Numbers'!$C$5*'Base Numbers'!$C$6)","v":0},{"$f":"3.5*N231*(N306)/('Base Numbers'!$C$5*'Base Numbers'!$C$6)","v":0},{"$f":"3.5*O231*(O306)/('Base Numbers'!$C$5*'Base Numbers'!$C$6)","v":0},{"$f":"3.5*P231*(P306)/('Base Numbers'!$C$5*'Base Numbers'!$C$6)","v":0},{"$f":"3.5*Q231*(Q306)/('Base Numbers'!$C$5*'Base Numbers'!$C$6)","v":0},{"$f":"3.5*R231*(R306)/('Base Numbers'!$C$5*'Base Numbers'!$C$6)","v":0},{"$f":"3.5*S231*(S306)/('Base Numbers'!$C$5*'Base Numbers'!$C$6)","v":0},{"$f":"3.5*T231*(T306)/('Base Numbers'!$C$5*'Base Numbers'!$C$6)","v":0},{"$f":"3.5*U231*(U306)/('Base Numbers'!$C$5*'Base Numbers'!$C$6)","v":0},{"$f":"3.5*V231*(V306)/('Base Numbers'!$C$5*'Base Numbers'!$C$6)","v":0},{"$f":"3.5*W231*(W306)/('Base Numbers'!$C$5*'Base Numbers'!$C$6)","v":0},{"$f":"3.5*X231*(X306)/('Base Numbers'!$C$5*'Base Numbers'!$C$6)","v":0}]
[{"$nulls":3},"divine favor dmg bonus",{"$f":"2.5*E229*E306/('Base Numbers'!$C$5*'Base Numbers'!$C$6)","v":0},{"$f":"2.5*F229*F306/('Base Numbers'!$C$5*'Base Numbers'!$C$6)","v":0},{"$f":"2.5*G229*G306/('Base Numbers'!$C$5*'Base Numbers'!$C$6)","v":0},{"$f":"2.5*H229*H306/('Base Numbers'!$C$5*'Base Numbers'!$C$6)","v":0},{"$f":"2.5*I229*I306/('Base Numbers'!$C$5*'Base Numbers'!$C$6)","v":0},{"$f":"2.5*J229*J306/('Base Numbers'!$C$5*'Base Numbers'!$C$6)","v":0},{"$f":"2.5*K229*K306/('Base Numbers'!$C$5*'Base Numbers'!$C$6)","v":0},{"$f":"2.5*L229*L306/('Base Numbers'!$C$5*'Base Numbers'!$C$6)","v":0},{"$f":"2.5*M229*M306/('Base Numbers'!$C$5*'Base Numbers'!$C$6)","v":0},{"$f":"2.5*N229*N306/('Base Numbers'!$C$5*'Base Numbers'!$C$6)","v":0},{"$f":"2.5*O229*O306/('Base Numbers'!$C$5*'Base Numbers'!$C$6)","v":0},{"$f":"2.5*P229*P306/('Base Numbers'!$C$5*'Base Numbers'!$C$6)","v":0},{"$f":"2.5*Q229*Q306/('Base Numbers'!$C$5*'Base Numbers'!$C$6)","v":0},{"$f":"2.5*R229*R306/('Base Numbers'!$C$5*'Base Numbers'!$C$6)","v":0},{"$f":"2.5*S229*S306/('Base Numbers'!$C$5*'Base Numbers'!$C$6)","v":0},{"$f":"2.5*T229*T306/('Base Numbers'!$C$5*'Base Numbers'!$C$6)","v":0},{"$f":"2.5*U229*U306/('Base Numbers'!$C$5*'Base Numbers'!$C$6)","v":0},{"$f":"2.5*V229*V306/('Base Numbers'!$C$5*'Base Numbers'!$C$6)","v":0},{"$f":"2.5*W229*W306/('Base Numbers'!$C$5*'Base Numbers'!$C$6)","v":0},{"$f":"2.5*X229*X306/('Base Numbers'!$C$5*'Base Numbers'!$C$6)","v":0}]
[{"$nulls":3},"divine favor dmg bonus on bonus attacks",{"$f":"2.5*E229*(1+E306)/('Base Numbers'!$C$5*'Base Numbers'!$C$6)","v":0},{"$f":"2.5*F229*(1+F306)/('Base Numbers'!$C$5*'Base Numbers'!$C$6)","v":0},{"$f":"2.5*G229*(1+G306)/('Base Numbers'!$C$5*'Base Numbers'!$C$6)","v":0},{"$f":"2.5*H229*(1+H306)/('Base Numbers'!$C$5*'Base Numbers'!$C$6)","v":0},{"$f":"2.5*I229*(1+I306)/('Base Numbers'!$C$5*'Base Numbers'!$C$6)","v":0},{"$f":"2.5*J229*(1+J306)/('Base Numbers'!$C$5*'Base Numbers'!$C$6)","v":0},{"$f":"2.5*K229*(1+K306)/('Base Numbers'!$C$5*'Base Numbers'!$C$6)","v":0},{"$f":"2.5*L229*(1+L306)/('Base Numbers'!$C$5*'Base Numbers'!$C$6)","v":0},{"$f":"2.5*M229*(1+M306)/('Base Numbers'!$C$5*'Base Numbers'!$C$6)","v":0},{"$f":"2.5*N229*(1+N306)/('Base Numbers'!$C$5*'Base Numbers'!$C$6)","v":0},{"$f":"2.5*O229*(1+O306)/('Base Numbers'!$C$5*'Base Numbers'!$C$6)","v":0},{"$f":"2.5*P229*(1+P306)/('Base Numbers'!$C$5*'Base Numbers'!$C$6)","v":0},{"$f":"2.5*Q229*(1+Q306)/('Base Numbers'!$C$5*'Base Numbers'!$C$6)","v":0},{"$f":"2.5*R229*(1+R306)/('Base Numbers'!$C$5*'Base Numbers'!$C$6)","v":0},{"$f":"2.5*S229*(1+S306)/('Base Numbers'!$C$5*'Base Numbers'!$C$6)","v":0},{"$f":"2.5*T229*(1+T306)/('Base Numbers'!$C$5*'Base Numbers'!$C$6)","v":0},{"$f":"2.5*U229*(1+U306)/('Base Numbers'!$C$5*'Base Numbers'!$C$6)","v":0},{"$f":"2.5*V229*(1+V306)/('Base Numbers'!$C$5*'Base Numbers'!$C$6)","v":0},{"$f":"2.5*W229*(1+W306)/('Base Numbers'!$C$5*'Base Numbers'!$C$6)","v":0},{"$f":"2.5*X229*(1+X306)/('Base Numbers'!$C$5*'Base Numbers'!$C$6)","v":0}]
[{"$nulls":3},"avg holy weapon bonus dmg (per attack)",{"$f":"2*4.5*E306*E238/('Base Numbers'!$C$5*'Base Numbers'!$C$6)","v":0},{"$f":"2*4.5*F306*F238/('Base Numbers'!$C$5*'Base Numbers'!$C$6)","v":0},{"$f":"2*4.5*G306*G238/('Base Numbers'!$C$5*'Base Numbers'!$C$6)","v":0},{"$f":"2*4.5*H306*H238/('Base Numbers'!$C$5*'Base Numbers'!$C$6)","v":0},{"$f":"2*4.5*I306*I238/('Base Numbers'!$C$5*'Base Numbers'!$C$6)","v":0},{"$f":"2*4.5*J306*J238/('Base Numbers'!$C$5*'Base Numbers'!$C$6)","v":0},{"$f":"2*4.5*K306*K238/('Base Numbers'!$C$5*'Base Numbers'!$C$6)","v":0},{"$f":"2*4.5*L306*L238/('Base Numbers'!$C$5*'Base Numbers'!$C$6)","v":0},{"$f":"2*4.5*M306*M238/('Base Numbers'!$C$5*'Base Numbers'!$C$6)","v":0},{"$f":"2*4.5*N306*N238/('Base Numbers'!$C$5*'Base Numbers'!$C$6)","v":0},{"$f":"2*4.5*O306*O238/('Base Numbers'!$C$5*'Base Numbers'!$C$6)","v":0},{"$f":"2*4.5*P306*P238/('Base Numbers'!$C$5*'Base Numbers'!$C$6)","v":0},{"$f":"2*4.5*Q306*Q238/('Base Numbers'!$C$5*'Base Numbers'!$C$6)","v":0},{"$f":"2*4.5*R306*R238/('Base Numbers'!$C$5*'Base Numbers'!$C$6)","v":0},{"$f":"2*4.5*S306*S238/('Base Numbers'!$C$5*'Base Numbers'!$C$6)","v":0},{"$f":"2*4.5*T306*T238/('Base Numbers'!$C$5*'Base Numbers'!$C$6)","v":0},{"$f":"2*4.5*U306*U238/('Base Numbers'!$C$5*'Base Numbers'!$C$6)","v":0},{"$f":"2*4.5*V306*V238/('Base Numbers'!$C$5*'Base Numbers'!$C$6)","v":0},{"$f":"2*4.5*W306*W238/('Base Numbers'!$C$5*'Base Numbers'!$C$6)","v":0},{"$f":"2*4.5*X306*X238/('Base Numbers'!$C$5*'Base Numbers'!$C$6)","v":0}]
[{"$nulls":3},"avg holy weapon bonus dmg (per attack) on bonus attacks",{"$f":"2*4.5*(1+E306)*E238/('Base Numbers'!$C$5*'Base Numbers'!$C$6)","v":0},{"$f":"2*4.5*(1+F306)*F238/('Base Numbers'!$C$5*'Base Numbers'!$C$6)","v":0},{"$f":"2*4.5*(1+G306)*G238/('Base Numbers'!$C$5*'Base Numbers'!$C$6)","v":0},{"$f":"2*4.5*(1+H306)*H238/('Base Numbers'!$C$5*'Base Numbers'!$C$6)","v":0},{"$f":"2*4.5*(1+I306)*I238/('Base Numbers'!$C$5*'Base Numbers'!$C$6)","v":0},{"$f":"2*4.5*(1+J306)*J238/('Base Numbers'!$C$5*'Base Numbers'!$C$6)","v":0},{"$f":"2*4.5*(1+K306)*K238/('Base Numbers'!$C$5*'Base Numbers'!$C$6)","v":0},{"$f":"2*4.5*(1+L306)*L238/('Base Numbers'!$C$5*'Base Numbers'!$C$6)","v":0},{"$f":"2*4.5*(1+M306)*M238/('Base Numbers'!$C$5*'Base Numbers'!$C$6)","v":0},{"$f":"2*4.5*(1+N306)*N238/('Base Numbers'!$C$5*'Base Numbers'!$C$6)","v":0},{"$f":"2*4.5*(1+O306)*O238/('Base Numbers'!$C$5*'Base Numbers'!$C$6)","v":0},{"$f":"2*4.5*(1+P306)*P238/('Base Numbers'!$C$5*'Base Numbers'!$C$6)","v":0},{"$f":"2*4.5*(1+Q306)*Q238/('Base Numbers'!$C$5*'Base Numbers'!$C$6)","v":0},{"$f":"2*4.5*(1+R306)*R238/('Base Numbers'!$C$5*'Base Numbers'!$C$6)","v":0},{"$f":"2*4.5*(1+S306)*S238/('Base Numbers'!$C$5*'Base Numbers'!$C$6)","v":0},{"$f":"2*4.5*(1+T306)*T238/('Base Numbers'!$C$5*'Base Numbers'!$C$6)","v":0},{"$f":"2*4.5*(1+U306)*U238/('Base Numbers'!$C$5*'Base Numbers'!$C$6)","v":0},{"$f":"2*4.5*(1+V306)*V238/('Base Numbers'!$C$5*'Base Numbers'!$C$6)","v":0},{"$f":"2*4.5*(1+W306)*W238/('Base Numbers'!$C$5*'Base Numbers'!$C$6)","v":0},{"$f":"2*4.5*(1+X306)*X238/('Base Numbers'!$C$5*'Base Numbers'!$C$6)","v":0}]
[{"$nulls":3},"aura of hate (oathbreaker L7)",{"$f":"IF(AND(E37,E7>=7),E32,0)*E901","v":0},0,0,0,0,0,0,0,0,0,0,0,0,0,0,0,0,0,0,0]
[{"$nulls":3},"fighting style duelist available",{"$f":"IF(AND($B$58>=1,E6>=$B$58),1,0)","v":0},0,0,0,0,0,0,0,0,0,0,0,0,0,0,0,0,0,0,0]
[{"$nulls":3},"fighting style great weapon available",{"$f":"IF(AND($B$59>=1,E6>=$B$59),1,0)","v":0},0,0,0,0,0,0,0,0,0,0,0,0,0,0,0,0,0,0,0]
[{"$nulls":3},"fighting style two weapon available",{"$f":"IF(AND($B$62>=1,E6>=$B$62),1,0)","v":0},0,0,0,0,0,0,0,0,0,0,0,0,0,0,0,0,0,0,0]
[{"$nulls":3},"fighting style bonus damage",{"$f":"IF(AND(E494,OR(AND($B$48=1,OR($B$33=1,$B$32=1)),$B34)),2,0)+IF(AND(E495,$B35),0.8)+IF(AND(E495,$B36),0.833,0)+IF(AND(E495,$B37),1.33,0)","v":0},0,0,0,0,0,0,0,0,0,0,0,0,0,0,0,0,0,0,0]
[{"$nulls":3},"bladesinger weapon damage bonus (L14 Wiz)",{"$f":"IF(AND(E15>=14,E42),E33,0)*E1149","v":0},0,0,0,0,0,0,0,0,0,0,0,0,0,0,0,0,0,0,0]
[{"$nulls":3},"Guardian of Nature dmg on str attacks (L4 Druid/Ranger spell)",{"$f":"IF(AND(E134,E137=0),E236,0)*(1+E306)/('Base Numbers'!$C$5*'Base Numbers'!$C$6)*3.5","v":0},{"$f":"IF(AND(F134,F137=0),F236,0)*(1+F306)/('Base Numbers'!$C$5*'Base Numbers'!$C$6)*3.5","v":0},{"$f":"IF(AND(G134,G137=0),G236,0)*(1+G306)/('Base Numbers'!$C$5*'Base Numbers'!$C$6)*3.5","v":0},{"$f":"IF(AND(H134,H137=0),H236,0)*(1+H306)/('Base Numbers'!$C$5*'Base Numbers'!$C$6)*3.5","v":0},{"$f":"IF(AND(I134,I137=0),I236,0)*(1+I306)/('Base Numbers'!$C$5*'Base Numbers'!$C$6)*3.5","v":0},{"$f":"IF(AND(J134,J137=0),J236,0)*(1+J306)/('Base Numbers'!$C$5*'Base Numbers'!$C$6)*3.5","v":0},{"$f":"IF(AND(K134,K137=0),K236,0)*(1+K306)/('Base Numbers'!$C$5*'Base Numbers'!$C$6)*3.5","v":0},{"$f":"IF(AND(L134,L137=0),L236,0)*(1+L306)/('Base Numbers'!$C$5*'Base Numbers'!$C$6)*3.5","v":0},{"$f":"IF(AND(M134,M137=0),M236,0)*(1+M306)/('Base Numbers'!$C$5*'Base Numbers'!$C$6)*3.5","v":0},{"$f":"IF(AND(N134,N137=0),N236,0)*(1+N306)/('Base Numbers'!$C$5*'Base Numbers'!$C$6)*3.5","v":0},{"$f":"IF(AND(O134,O137=0),O236,0)*(1+O306)/('Base Numbers'!$C$5*'Base Numbers'!$C$6)*3.5","v":0},{"$f":"IF(AND(P134,P137=0),P236,0)*(1+P306)/('Base Numbers'!$C$5*'Base Numbers'!$C$6)*3.5","v":0},{"$f":"IF(AND(Q134,Q137=0),Q236,0)*(1+Q306)/('Base Numbers'!$C$5*'Base Numbers'!$C$6)*3.5","v":0},{"$f":"IF(AND(R134,R137=0),R236,0)*(1+R306)/('Base Numbers'!$C$5*'Base Numbers'!$C$6)*3.5","v":0},{"$f":"IF(AND(S134,S137=0),S236,0)*(1+S306)/('Base Numbers'!$C$5*'Base Numbers'!$C$6)*3.5","v":0},{"$f":"IF(AND(T134,T137=0),T236,0)*(1+T306)/('Base Numbers'!$C$5*'Base Numbers'!$C$6)*3.5","v":0},{"$f":"IF(AND(U134,U137=0),U236,0)*(1+U306)/('Base Numbers'!$C$5*'Base Numbers'!$C$6)*3.5","v":0},{"$f":"IF(AND(V134,V137=0),V236,0)*(1+V306)/('Base Numbers'!$C$5*'Base Numbers'!$C$6)*3.5","v":0},{"$f":"IF(AND(W134,W137=0),W236,0)*(1+W306)/('Base Numbers'!$C$5*'Base Numbers'!$C$6)*3.5","v":0},{"$f":"IF(AND(X134,X137=0),X236,0)*(1+X306)/('Base Numbers'!$C$5*'Base Numbers'!$C$6)*3.5","v":0}]
[{"$nulls":3},"Guardian of Nature dmg on str bonus attacks (L4 Druid/Ranger spell)",{"$f":"IF(AND(E134,E137=0),E236,0)*(E306)/('Base Numbers'!$C$5*'Base Numbers'!$C$6)*3.5","v":0},{"$f":"IF(AND(F134,F137=0),F236,0)*(F306)/('Base Numbers'!$C$5*'Base Numbers'!$C$6)*3.5","v":0},{"$f":"IF(AND(G134,G137=0),G236,0)*(G306)/('Base Numbers'!$C$5*'Base Numbers'!$C$6)*3.5","v":0},{"$f":"IF(AND(H134,H137=0),H236,0)*(H306)/('Base Numbers'!$C$5*'Base Numbers'!$C$6)*3.5","v":0},{"$f":"IF(AND(I134,I137=0),I236,0)*(I306)/('Base Numbers'!$C$5*'Base Numbers'!$C$6)*3.5","v":0},{"$f":"IF(AND(J134,J137=0),J236,0)*(J306)/('Base Numbers'!$C$5*'Base Numbers'!$C$6)*3.5","v":0},{"$f":"IF(AND(K134,K137=0),K236,0)*(K306)/('Base Numbers'!$C$5*'Base Numbers'!$C$6)*3.5","v":0},{"$f":"IF(AND(L134,L137=0),L236,0)*(L306)/('Base Numbers'!$C$5*'Base Numbers'!$C$6)*3.5","v":0},{"$f":"IF(AND(M134,M137=0),M236,0)*(M306)/('Base Numbers'!$C$5*'Base Numbers'!$C$6)*3.5","v":0},{"$f":"IF(AND(N134,N137=0),N236,0)*(N306)/('Base Numbers'!$C$5*'Base Numbers'!$C$6)*3.5","v":0},{"$f":"IF(AND(O134,O137=0),O236,0)*(O306)/('Base Numbers'!$C$5*'Base Numbers'!$C$6)*3.5","v":0},{"$f":"IF(AND(P134,P137=0),P236,0)*(P306)/('Base Numbers'!$C$5*'Base Numbers'!$C$6)*3.5","v":0},{"$f":"IF(AND(Q134,Q137=0),Q236,0)*(Q306)/('Base Numbers'!$C$5*'Base Numbers'!$C$6)*3.5","v":0},{"$f":"IF(AND(R134,R137=0),R236,0)*(R306)/('Base Numbers'!$C$5*'Base Numbers'!$C$6)*3.5","v":0},{"$f":"IF(AND(S134,S137=0),S236,0)*(S306)/('Base Numbers'!$C$5*'Base Numbers'!$C$6)*3.5","v":0},{"$f":"IF(AND(T134,T137=0),T236,0)*(T306)/('Base Numbers'!$C$5*'Base Numbers'!$C$6)*3.5","v":0},{"$f":"IF(AND(U134,U137=0),U236,0)*(U306)/('Base Numbers'!$C$5*'Base Numbers'!$C$6)*3.5","v":0},{"$f":"IF(AND(V134,V137=0),V236,0)*(V306)/('Base Numbers'!$C$5*'Base Numbers'!$C$6)*3.5","v":0},{"$f":"IF(AND(W134,W137=0),W236,0)*(W306)/('Base Numbers'!$C$5*'Base Numbers'!$C$6)*3.5","v":0},{"$f":"IF(AND(X134,X137=0),X236,0)*(X306)/('Base Numbers'!$C$5*'Base Numbers'!$C$6)*3.5","v":0}]
[{"$nulls":3},"Spirit Shroud (main action attacks)",{"$f":"E707","v":0},{"$f":"F707","v":0},0,0,0,0,0,0,0,0,0,0,0,0,0,0,0,0,0,0]
[{"$nulls":3},"Spirit Shroud (bonus action attacks)",{"$f":"E708","v":0},{"$f":"F708","v":0},0,0,0,0,0,0,0,0,0,0,0,0,0,0,0,0,0,0]
[{"$nulls":3},"Tenser's Transformation avg damage per attack",{"$f":"E1146","v":0},{"$f":"F1146","v":0},0,0,0,0,0,0,0,0,0,0,0,0,0,0,0,0,0,0]
[{"$nulls":3},"Druid of Spores avg damage per attack",{"$f":"E1185","v":0},{"$f":"F1185","v":0},0,0,0,0,0,0,0,0,0,0,0,0,0,0,0,0,0,0]
[{"$nulls":3},"Druid of Spores avg damage per bonus attack",{"$f":"E1186","v":0},{"$f":"F1186","v":0},0,0,0,0,0,0,0,0,0,0,0,0,0,0,0,0,0,0]
[{"$nulls":3},"average static rage damage bonus (can't apply to BB or GFB)",{"$f":"E993","v":0},{"$f":"F993","v":0},0,0,0,0,0,0,0,0,0,0,0,0,0,0,0,0,0,0]
[]
[{"$nulls":3},"TOTAL DAMAGE BUFFS"]
[{"$nulls":3},"total dice damage (excluding smite)",{"$f":"E491+E489+E487+E483+E316+E503+E499+IF(E495,E497,0)+E501+E504","v":0},0,0,0,0,0,0,0,0,0,0,0,0,0,0,0,0,0,0,0]
[{"$nulls":3},"total dice damage (excluding smite) on bonus attacks",{"$f":"E492+E490+E488+E483+E316+E503+E500-E317+IF(E495,E497,0)+E502+E505","v":0},0,0,0,0,0,0,0,0,0,0,0,0,0,0,0,0,0,0,0]
[{"$nulls":3},"total static damage on Advantage attacks (GWM, hexblade, STR/CHA)",{"$f":"IF(E24,10,0)+IF(E495,0,E497)+E484+E135+E493+'Base Numbers'!$G$6+E486+E498+E506","v":3},{"$f":"IF(F24,10,0)+IF(F495,0,F497)+F484+F135+F493+'Base Numbers'!$G$6+F486+F498+F506","v":3},{"$f":"IF(G24,10,0)+IF(G495,0,G497)+G484+G135+G493+'Base Numbers'!$G$6+G486+G498+G506","v":3},{"$f":"IF(H24,10,0)+IF(H495,0,H497)+H484+H135+H493+'Base Numbers'!$G$6+H486+H498+H506","v":3},{"$f":"IF(I24,10,0)+IF(I495,0,I497)+I484+I135+I493+'Base Numbers'!$G$6+I486+I498+I506","v":3},{"$f":"IF(J24,10,0)+IF(J495,0,J497)+J484+J135+J493+'Base Numbers'!$G$6+J486+J498+J506","v":3},{"$f":"IF(K24,10,0)+IF(K495,0,K497)+K484+K135+K493+'Base Numbers'!$G$6+K486+K498+K506","v":3},{"$f":"IF(L24,10,0)+IF(L495,0,L497)+L484+L135+L493+'Base Numbers'!$G$6+L486+L498+L506","v":3},{"$f":"IF(M24,10,0)+IF(M495,0,M497)+M484+M135+M493+'Base Numbers'!$G$6+M486+M498+M506","v":3},{"$f":"IF(N24,10,0)+IF(N495,0,N497)+N484+N135+N493+'Base Numbers'!$G$6+N486+N498+N506","v":3},{"$f":"IF(O24,10,0)+IF(O495,0,O497)+O484+O135+O493+'Base Numbers'!$G$6+O486+O498+O506","v":3},{"$f":"IF(P24,10,0)+IF(P495,0,P497)+P484+P135+P493+'Base Numbers'!$G$6+P486+P498+P506","v":3},{"$f":"IF(Q24,10,0)+IF(Q495,0,Q497)+Q484+Q135+Q493+'Base Numbers'!$G$6+Q486+Q498+Q506","v":3},{"$f":"IF(R24,10,0)+IF(R495,0,R497)+R484+R135+R493+'Base Numbers'!$G$6+R486+R498+R506","v":3},{"$f":"IF(S24,10,0)+IF(S495,0,S497)+S484+S135+S493+'Base Numbers'!$G$6+S486+S498+S506","v":3},{"$f":"IF(T24,10,0)+IF(T495,0,T497)+T484+T135+T493+'Base Numbers'!$G$6+T486+T498+T506","v":3},{"$f":"IF(U24,10,0)+IF(U495,0,U497)+U484+U135+U493+'Base Numbers'!$G$6+U486+U498+U506","v":3},{"$f":"IF(V24,10,0)+IF(V495,0,V497)+V484+V135+V493+'Base Numbers'!$G$6+V486+V498+V506","v":3},{"$f":"IF(W24,10,0)+IF(W495,0,W497)+W484+W135+W493+'Base Numbers'!$G$6+W486+W498+W506","v":3},{"$f":"IF(X24,10,0)+IF(X495,0,X497)+X484+X135+X493+'Base Numbers'!$G$6+X486+X498+X506","v":3}]
[{"$nulls":3},"total static damage on attacks w/o adv (hexblade, STR/CHA)",{"$f":"IF(AND(E24,E85=0),10,0)+IF(E495,0,E497)+E484+E135+E493+'Base Numbers'!$G$6+E486+E498+E506","v":3},{"$f":"IF(AND(F24,F85=0),10,0)+IF(F495,0,F497)+F484+F135+F493+'Base Numbers'!$G$6+F486+F498+F506","v":3},{"$f":"IF(AND(G24,G85=0),10,0)+IF(G495,0,G497)+G484+G135+G493+'Base Numbers'!$G$6+G486+G498+G506","v":3},{"$f":"IF(AND(H24,H85=0),10,0)+IF(H495,0,H497)+H484+H135+H493+'Base Numbers'!$G$6+H486+H498+H506","v":3},{"$f":"IF(AND(I24,I85=0),10,0)+IF(I495,0,I497)+I484+I135+I493+'Base Numbers'!$G$6+I486+I498+I506","v":3},{"$f":"IF(AND(J24,J85=0),10,0)+IF(J495,0,J497)+J484+J135+J493+'Base Numbers'!$G$6+J486+J498+J506","v":3},{"$f":"IF(AND(K24,K85=0),10,0)+IF(K495,0,K497)+K484+K135+K493+'Base Numbers'!$G$6+K486+K498+K506","v":3},{"$f":"IF(AND(L24,L85=0),10,0)+IF(L495,0,L497)+L484+L135+L493+'Base Numbers'!$G$6+L486+L498+L506","v":3},{"$f":"IF(AND(M24,M85=0),10,0)+IF(M495,0,M497)+M484+M135+M493+'Base Numbers'!$G$6+M486+M498+M506","v":3},{"$f":"IF(AND(N24,N85=0),10,0)+IF(N495,0,N497)+N484+N135+N493+'Base Numbers'!$G$6+N486+N498+N506","v":3},{"$f":"IF(AND(O24,O85=0),10,0)+IF(O495,0,O497)+O484+O135+O493+'Base Numbers'!$G$6+O486+O498+O506","v":3},{"$f":"IF(AND(P24,P85=0),10,0)+IF(P495,0,P497)+P484+P135+P493+'Base Numbers'!$G$6+P486+P498+P506","v":3},{"$f":"IF(AND(Q24,Q85=0),10,0)+IF(Q495,0,Q497)+Q484+Q135+Q493+'Base Numbers'!$G$6+Q486+Q498+Q506","v":3},{"$f":"IF(AND(R24,R85=0),10,0)+IF(R495,0,R497)+R484+R135+R493+'Base Numbers'!$G$6+R486+R498+R506","v":3},{"$f":"IF(AND(S24,S85=0),10,0)+IF(S495,0,S497)+S484+S135+S493+'Base Numbers'!$G$6+S486+S498+S506","v":3},{"$f":"IF(AND(T24,T85=0),10,0)+IF(T495,0,T497)+T484+T135+T493+'Base Numbers'!$G$6+T486+T498+T506","v":3},{"$f":"IF(AND(U24,U85=0),10,0)+IF(U495,0,U497)+U484+U135+U493+'Base Numbers'!$G$6+U486+U498+U506","v":3},{"$f":"IF(AND(V24,V85=0),10,0)+IF(V495,0,V497)+V484+V135+V493+'Base Numbers'!$G$6+V486+V498+V506","v":3},{"$f":"IF(AND(W24,W85=0),10,0)+IF(W495,0,W497)+W484+W135+W493+'Base Numbers'!$G$6+W486+W498+W506","v":3},{"$f":"IF(AND(X24,X85=0),10,0)+IF(X495,0,X497)+X484+X135+X493+'Base Numbers'!$G$6+X486+X498+X506","v":3}]
[{"$nulls":3},"total static damage on Advantage Bonus attacks ",{"$f":"IF(E24,10,0)+IF(E495,0,IF(E325>1,(2-E325)*E497,E497))+E485+E135+E493+'Base Numbers'!$G$6+E486+E498+E506","v":3},{"$f":"IF(F24,10,0)+IF(F495,0,IF(F325>1,(2-F325)*F497,F497))+F485+F135+F493+'Base Numbers'!$G$6+F486+F498+F993","v":3},{"$f":"IF(G24,10,0)+IF(G495,0,IF(G325>1,(2-G325)*G497,G497))+G485+G135+G493+'Base Numbers'!$G$6+G486+G498+G993","v":3},{"$f":"IF(H24,10,0)+IF(H495,0,IF(H325>1,(2-H325)*H497,H497))+H485+H135+H493+'Base Numbers'!$G$6+H486+H498+H993","v":3},{"$f":"IF(I24,10,0)+IF(I495,0,IF(I325>1,(2-I325)*I497,I497))+I485+I135+I493+'Base Numbers'!$G$6+I486+I498+I993","v":3},{"$f":"IF(J24,10,0)+IF(J495,0,IF(J325>1,(2-J325)*J497,J497))+J485+J135+J493+'Base Numbers'!$G$6+J486+J498+J993","v":3},{"$f":"IF(K24,10,0)+IF(K495,0,IF(K325>1,(2-K325)*K497,K497))+K485+K135+K493+'Base Numbers'!$G$6+K486+K498+K993","v":3},{"$f":"IF(L24,10,0)+IF(L495,0,IF(L325>1,(2-L325)*L497,L497))+L485+L135+L493+'Base Numbers'!$G$6+L486+L498+L993","v":3},{"$f":"IF(M24,10,0)+IF(M495,0,IF(M325>1,(2-M325)*M497,M497))+M485+M135+M493+'Base Numbers'!$G$6+M486+M498+M993","v":3},{"$f":"IF(N24,10,0)+IF(N495,0,IF(N325>1,(2-N325)*N497,N497))+N485+N135+N493+'Base Numbers'!$G$6+N486+N498+N993","v":3},{"$f":"IF(O24,10,0)+IF(O495,0,IF(O325>1,(2-O325)*O497,O497))+O485+O135+O493+'Base Numbers'!$G$6+O486+O498+O993","v":3},{"$f":"IF(P24,10,0)+IF(P495,0,IF(P325>1,(2-P325)*P497,P497))+P485+P135+P493+'Base Numbers'!$G$6+P486+P498+P993","v":3},{"$f":"IF(Q24,10,0)+IF(Q495,0,IF(Q325>1,(2-Q325)*Q497,Q497))+Q485+Q135+Q493+'Base Numbers'!$G$6+Q486+Q498+Q993","v":3},{"$f":"IF(R24,10,0)+IF(R495,0,IF(R325>1,(2-R325)*R497,R497))+R485+R135+R493+'Base Numbers'!$G$6+R486+R498+R993","v":3},{"$f":"IF(S24,10,0)+IF(S495,0,IF(S325>1,(2-S325)*S497,S497))+S485+S135+S493+'Base Numbers'!$G$6+S486+S498+S993","v":3},{"$f":"IF(T24,10,0)+IF(T495,0,IF(T325>1,(2-T325)*T497,T497))+T485+T135+T493+'Base Numbers'!$G$6+T486+T498+T993","v":3},{"$f":"IF(U24,10,0)+IF(U495,0,IF(U325>1,(2-U325)*U497,U497))+U485+U135+U493+'Base Numbers'!$G$6+U486+U498+U993","v":3},{"$f":"IF(V24,10,0)+IF(V495,0,IF(V325>1,(2-V325)*V497,V497))+V485+V135+V493+'Base Numbers'!$G$6+V486+V498+V993","v":3},{"$f":"IF(W24,10,0)+IF(W495,0,IF(W325>1,(2-W325)*W497,W497))+W485+W135+W493+'Base Numbers'!$G$6+W486+W498+W993","v":3},{"$f":"IF(X24,10,0)+IF(X495,0,IF(X325>1,(2-X325)*X497,X497))+X485+X135+X493+'Base Numbers'!$G$6+X486+X498+X993","v":3}]
[{"$nulls":3},"total static damage on bonus attacks w/o adv",{"$f":"IF(AND(E24,E85=0),10,0)+IF(E495,0,IF(E325>1,(2-E325)*E497,E497))+E485+E135+E493+'Base Numbers'!$G$6+E486+E498+E506","v":3},{"$f":"IF(AND(F24,F85=0),10,0)+IF(F495,0,IF(F325>1,(2-F325)*F497,F497))+F485+F135+F493+'Base Numbers'!$G$6+F486+F498+F506","v":3},{"$f":"IF(AND(G24,G85=0),10,0)+IF(G495,0,IF(G325>1,(2-G325)*G497,G497))+G485+G135+G493+'Base Numbers'!$G$6+G486+G498+G506","v":3},{"$f":"IF(AND(H24,H85=0),10,0)+IF(H495,0,IF(H325>1,(2-H325)*H497,H497))+H485+H135+H493+'Base Numbers'!$G$6+H486+H498+H506","v":3},{"$f":"IF(AND(I24,I85=0),10,0)+IF(I495,0,IF(I325>1,(2-I325)*I497,I497))+I485+I135+I493+'Base Numbers'!$G$6+I486+I498+I506","v":3},{"$f":"IF(AND(J24,J85=0),10,0)+IF(J495,0,IF(J325>1,(2-J325)*J497,J497))+J485+J135+J493+'Base Numbers'!$G$6+J486+J498+J506","v":3},{"$f":"IF(AND(K24,K85=0),10,0)+IF(K495,0,IF(K325>1,(2-K325)*K497,K497))+K485+K135+K493+'Base Numbers'!$G$6+K486+K498+K506","v":3},{"$f":"IF(AND(L24,L85=0),10,0)+IF(L495,0,IF(L325>1,(2-L325)*L497,L497))+L485+L135+L493+'Base Numbers'!$G$6+L486+L498+L506","v":3},{"$f":"IF(AND(M24,M85=0),10,0)+IF(M495,0,IF(M325>1,(2-M325)*M497,M497))+M485+M135+M493+'Base Numbers'!$G$6+M486+M498+M506","v":3},{"$f":"IF(AND(N24,N85=0),10,0)+IF(N495,0,IF(N325>1,(2-N325)*N497,N497))+N485+N135+N493+'Base Numbers'!$G$6+N486+N498+N506","v":3},{"$f":"IF(AND(O24,O85=0),10,0)+IF(O495,0,IF(O325>1,(2-O325)*O497,O497))+O485+O135+O493+'Base Numbers'!$G$6+O486+O498+O506","v":3},{"$f":"IF(AND(P24,P85=0),10,0)+IF(P495,0,IF(P325>1,(2-P325)*P497,P497))+P485+P135+P493+'Base Numbers'!$G$6+P486+P498+P506","v":3},{"$f":"IF(AND(Q24,Q85=0),10,0)+IF(Q495,0,IF(Q325>1,(2-Q325)*Q497,Q497))+Q485+Q135+Q493+'Base Numbers'!$G$6+Q486+Q498+Q506","v":3},{"$f":"IF(AND(R24,R85=0),10,0)+IF(R495,0,IF(R325>1,(2-R325)*R497,R497))+R485+R135+R493+'Base Numbers'!$G$6+R486+R498+R506","v":3},{"$f":"IF(AND(S24,S85=0),10,0)+IF(S495,0,IF(S325>1,(2-S325)*S497,S497))+S485+S135+S493+'Base Numbers'!$G$6+S486+S498+S506","v":3},{"$f":"IF(AND(T24,T85=0),10,0)+IF(T495,0,IF(T325>1,(2-T325)*T497,T497))+T485+T135+T493+'Base Numbers'!$G$6+T486+T498+T506","v":3},{"$f":"IF(AND(U24,U85=0),10,0)+IF(U495,0,IF(U325>1,(2-U325)*U497,U497))+U485+U135+U493+'Base Numbers'!$G$6+U486+U498+U506","v":3},{"$f":"IF(AND(V24,V85=0),10,0)+IF(V495,0,IF(V325>1,(2-V325)*V497,V497))+V485+V135+V493+'Base Numbers'!$G$6+V486+V498+V506","v":3},{"$f":"IF(AND(W24,W85=0),10,0)+IF(W495,0,IF(W325>1,(2-W325)*W497,W497))+W485+W135+W493+'Base Numbers'!$G$6+W486+W498+W506","v":3},{"$f":"IF(AND(X24,X85=0),10,0)+IF(X495,0,IF(X325>1,(2-X325)*X497,X497))+X485+X135+X493+'Base Numbers'!$G$6+X486+X498+X506","v":3},null,"* Discounted for Monk's multiple bonus aciton unarmed attacks "]
[{"$nulls":3},"total static damage for Dual Wield Bonus attacks",{"$f":"IF(AND(E496,E312),MAX(E30,E31,IF(AND(E12>=3,E49>=1),E32,0)),0)+E485+E493+'Base Numbers'!$G$6+E498+E506+IF(AND(E12>=3,E46>=1),E486,0)","v":0},{"$f":"IF(AND(F496,F312),MAX(F30,F31,IF(AND(F12>=3,F49>=1),F32,0)),0)+F485+F493+'Base Numbers'!$G$6+F498+F506+IF(AND(F12>=3,F46>=1),F486,0)","v":0},{"$f":"IF(AND(G496,G312),MAX(G30,G31,IF(AND(G12>=3,G49>=1),G32,0)),0)+G485+G493+'Base Numbers'!$G$6+G498+G506+IF(AND(G12>=3,G46>=1),G486,0)","v":0},{"$f":"IF(AND(H496,H312),MAX(H30,H31,IF(AND(H12>=3,H49>=1),H32,0)),0)+H485+H493+'Base Numbers'!$G$6+H498+H506+IF(AND(H12>=3,H46>=1),H486,0)","v":0},{"$f":"IF(AND(I496,I312),MAX(I30,I31,IF(AND(I12>=3,I49>=1),I32,0)),0)+I485+I493+'Base Numbers'!$G$6+I498+I506+IF(AND(I12>=3,I46>=1),I486,0)","v":0},{"$f":"IF(AND(J496,J312),MAX(J30,J31,IF(AND(J12>=3,J49>=1),J32,0)),0)+J485+J493+'Base Numbers'!$G$6+J498+J506+IF(AND(J12>=3,J46>=1),J486,0)","v":0},{"$f":"IF(AND(K496,K312),MAX(K30,K31,IF(AND(K12>=3,K49>=1),K32,0)),0)+K485+K493+'Base Numbers'!$G$6+K498+K506+IF(AND(K12>=3,K46>=1),K486,0)","v":0},{"$f":"IF(AND(L496,L312),MAX(L30,L31,IF(AND(L12>=3,L49>=1),L32,0)),0)+L485+L493+'Base Numbers'!$G$6+L498+L506+IF(AND(L12>=3,L46>=1),L486,0)","v":0},{"$f":"IF(AND(M496,M312),MAX(M30,M31,IF(AND(M12>=3,M49>=1),M32,0)),0)+M485+M493+'Base Numbers'!$G$6+M498+M506+IF(AND(M12>=3,M46>=1),M486,0)","v":0},{"$f":"IF(AND(N496,N312),MAX(N30,N31,IF(AND(N12>=3,N49>=1),N32,0)),0)+N485+N493+'Base Numbers'!$G$6+N498+N506+IF(AND(N12>=3,N46>=1),N486,0)","v":0},{"$f":"IF(AND(O496,O312),MAX(O30,O31,IF(AND(O12>=3,O49>=1),O32,0)),0)+O485+O493+'Base Numbers'!$G$6+O498+O506+IF(AND(O12>=3,O46>=1),O486,0)","v":0},{"$f":"IF(AND(P496,P312),MAX(P30,P31,IF(AND(P12>=3,P49>=1),P32,0)),0)+P485+P493+'Base Numbers'!$G$6+P498+P506+IF(AND(P12>=3,P46>=1),P486,0)","v":0},{"$f":"IF(AND(Q496,Q312),MAX(Q30,Q31,IF(AND(Q12>=3,Q49>=1),Q32,0)),0)+Q485+Q493+'Base Numbers'!$G$6+Q498+Q506+IF(AND(Q12>=3,Q46>=1),Q486,0)","v":0},{"$f":"IF(AND(R496,R312),MAX(R30,R31,IF(AND(R12>=3,R49>=1),R32,0)),0)+R485+R493+'Base Numbers'!$G$6+R498+R506+IF(AND(R12>=3,R46>=1),R486,0)","v":0},{"$f":"IF(AND(S496,S312),MAX(S30,S31,IF(AND(S12>=3,S49>=1),S32,0)),0)+S485+S493+'Base Numbers'!$G$6+S498+S506+IF(AND(S12>=3,S46>=1),S486,0)","v":0},{"$f":"IF(AND(T496,T312),MAX(T30,T31,IF(AND(T12>=3,T49>=1),T32,0)),0)+T485+T493+'Base Numbers'!$G$6+T498+T506+IF(AND(T12>=3,T46>=1),T486,0)","v":0},{"$f":"IF(AND(U496,U312),MAX(U30,U31,IF(AND(U12>=3,U49>=1),U32,0)),0)+U485+U493+'Base Numbers'!$G$6+U498+U506+IF(AND(U12>=3,U46>=1),U486,0)","v":0},{"$f":"IF(AND(V496,V312),MAX(V30,V31,IF(AND(V12>=3,V49>=1),V32,0)),0)+V485+V493+'Base Numbers'!$G$6+V498+V506+IF(AND(V12>=3,V46>=1),V486,0)","v":0},{"$f":"IF(AND(W496,W312),MAX(W30,W31,IF(AND(W12>=3,W49>=1),W32,0)),0)+W485+W493+'Base Numbers'!$G$6+W498+W506+IF(AND(W12>=3,W46>=1),W486,0)","v":0},{"$f":"IF(AND(X496,X312),MAX(X30,X31,IF(AND(X12>=3,X49>=1),X32,0)),0)+X485+X493+'Base Numbers'!$G$6+X498+X506+IF(AND(X12>=3,X46>=1),X486,0)","v":0},null,"*Can only apply CHA bonus to Hex Weapon, which is a single weapon."]
[{"$nulls":3},"total additional crit-only damage (dice avg + static)",{"$f":"E318+E319+E994*E318","v":0},0,0,0,0,0,0,0,0,0,0,0,0,0,0,0,0,0,0,0,null,null,"* unless WARLOCK L3 and Pact of the Blade."]
[{"$nulls":3},"total additional crit-only bonus att damage (dice avg + static)",{"$f":"E318-E317+IF(E26=0,0,E319)+E994*(E318-E317)","v":0},0,0,0,0,0,0,0,0,0,0,0,0,0,0,0,0,0,0,0]
[]
[{"$nulls":3},"total additional dice damage on spell attacks",{"$f":"E487+E501","v":0},{"$f":"F487+F501","v":0},0,0,0,0,0,0,0,0,0,0,0,0,0,0,0,0,0,0]
[{"$nulls":3},"total additional dice damage on spell bonus attacks",{"$f":"E488+E502","v":0},{"$f":"F488+F502","v":0},0,0,0,0,0,0,0,0,0,0,0,0,0,0,0,0,0,0]
[{"$nulls":3},"total additional static damage on spell attacks",{"$f":"E484","v":0},{"$f":"F484","v":0},0,0,0,0,0,0,0,0,0,0,0,0,0,0,0,0,0,0,null,"* most spell attacks don't include ability mods "]
[{"$nulls":3},"total additional static damage on spell bonus attacks",{"$f":"E485","v":0},{"$f":"F485","v":0},0,0,0,0,0,0,0,0,0,0,0,0,0,0,0,0,0,0]
[{"$nulls":3},"total additional dice damage on melee spell attacks",{"$f":"E487+E501","v":0},{"$f":"F487+F501","v":0},0,0,0,0,0,0,0,0,0,0,0,0,0,0,0,0,0,0]
[{"$nulls":3},"total additional dice damage on melee spell bonus attacks",{"$f":"E488+E502","v":0},{"$f":"F488+F502","v":0},0,0,0,0,0,0,0,0,0,0,0,0,0,0,0,0,0,0]
[]
[]
[{"$nulls":3},"AVERAGE MELEE ATTACK DAMAGE",1,2,3,4,5,6,7,8,9,10,11,12,13,14,15,16,17,18,19,20]
[{"$nulls":3},"single attack damage ",{"$f":"(E337*E446*(E509+E511)+E335*(1-E446)*(E509+E512))","v":1.9500000000000002},1.9500000000000002,1.7999999999999998,1.7999999999999998,1.9500000000000002,1.7999999999999998,1.7999999999999998,1.7999999999999998,1.7999999999999998,1.7999999999999998,1.7999999999999998,1.6500000000000001,1.7999999999999998,1.7999999999999998,1.6500000000000001,1.6500000000000001,1.7999999999999998,1.6500000000000001,1.6500000000000001,1.6500000000000001]
[{"$nulls":3},"single attack crit damage ",{"$f":"E471*(E509+E516)","v":0},0,0,0,0,0,0,0,0,0,0,0,0,0,0,0,0,0,0,0]
[{"$nulls":3},"avg attack action dmg (not adj for spells)",{"$f":"E322*E528+E554*E1150","v":1.9500000000000002},1.9500000000000002,1.7999999999999998,1.7999999999999998,1.9500000000000002,1.7999999999999998,1.7999999999999998,1.7999999999999998,1.7999999999999998,1.7999999999999998,1.7999999999999998,1.6500000000000001,1.7999999999999998,1.7999999999999998,1.6500000000000001,1.6500000000000001,1.7999999999999998,1.6500000000000001,1.6500000000000001,1.6500000000000001]
[{"$nulls":3},"avg attack action crit dmg (excl smites)",{"$f":"E322*E529","v":0},0,0,0,0,0,0,0,0,0,0,0,0,0,0,0,0,0,0,0]
[{"$nulls":3},"avg hasted action dmg",{"$f":"E323*(E336*(1-E447)*(E509+E512)+E338*(E509+E511)*E447)","v":0},0,0,0,0,0,0,0,0,0,0,0,0,0,0,0,0,0,0,0]
[{"$nulls":3},"avg hasted action crit dmg (excl smites)",{"$f":"E470*E323*(E510+E516)","v":0},0,0,0,0,0,0,0,0,0,0,0,0,0,0,0,0,0,0,0]
[{"$nulls":3},"avg auto crit dmg with adv (assassin, paralysis) main + haste",{"$f":"(E322+E323)*E337*(2*E509+E511+E516)","v":2.6325000000000003},2.6325000000000003,2.52,2.52,2.6325000000000003,2.52,2.52,2.52,2.52,2.52,2.52,2.3925,2.52,2.52,2.3925,2.3925,2.52,2.3925,2.3925,2.3925]
[{"$nulls":3},"avg auto crit dmg with adv (assassin, paralysis) bonus attacks",{"$f":"E338*E325*E324*(2*E510+IF(E312>=1,E515,E513)+E517)","v":0},0,0,0,0,0,0,0,0,0,0,0,0,0,0,0,0,0,0,0]
[{"$nulls":3},"avg bonus action attack dmg per attack",{"$f":"E457*(E510+IF(E312>=1,E515,(1-E447)*E514+E447*E513))","v":1.9500000000000002},1.9500000000000002,1.7999999999999998,1.7999999999999998,1.9500000000000002,1.7999999999999998,1.7999999999999998,1.7999999999999998,1.7999999999999998,1.7999999999999998,1.7999999999999998,1.6500000000000001,1.7999999999999998,1.7999999999999998,1.6500000000000001,1.6500000000000001,1.7999999999999998,1.6500000000000001,1.6500000000000001,1.6500000000000001]
[{"$nulls":3},"avg bonus action crit dmg per attack",{"$f":"E472*(E517+E510)","v":0},0,0,0,0,0,0,0,0,0,0,0,0,0,0,0,0,0,0,0]
[{"$nulls":3},"avg reaction dmg per attack",{"$f":"E341*(1-E448)*(E509+E512)+E342*(E509+E511)*E448","v":1.9500000000000002},1.9500000000000002,1.7999999999999998,1.7999999999999998,1.9500000000000002,1.7999999999999998,1.7999999999999998,1.7999999999999998,1.7999999999999998,1.7999999999999998,1.7999999999999998,1.6500000000000001,1.7999999999999998,1.7999999999999998,1.6500000000000001,1.6500000000000001,1.7999999999999998,1.6500000000000001,1.6500000000000001,1.6500000000000001]
[{"$nulls":3},"avg reaction crit dmg per attack",{"$f":"E473*(E509+E516)","v":0},0,0,0,0,0,0,0,0,0,0,0,0,0,0,0,0,0,0,0]
[]
[{"$nulls":3},"BOOMING BLADE"]
[{"$nulls":3},"booming blade secondary damage trigger pct",{"$f":"'Base Numbers'!$G$11","v":0.35},{"$f":"'Base Numbers'!$G$11","v":0.35},{"$f":"'Base Numbers'!$G$11","v":0.35},{"$f":"'Base Numbers'!$G$11","v":0.35},{"$f":"'Base Numbers'!$G$11","v":0.35},{"$f":"'Base Numbers'!$G$11","v":0.35},{"$f":"'Base Numbers'!$G$11","v":0.35},{"$f":"'Base Numbers'!$G$11","v":0.35},{"$f":"'Base Numbers'!$G$11","v":0.35},{"$f":"'Base Numbers'!$G$11","v":0.35},{"$f":"'Base Numbers'!$G$11","v":0.35},{"$f":"'Base Numbers'!$G$11","v":0.35},{"$f":"'Base Numbers'!$G$11","v":0.35},{"$f":"'Base Numbers'!$G$11","v":0.35},{"$f":"'Base Numbers'!$G$11","v":0.35},{"$f":"'Base Numbers'!$G$11","v":0.35},{"$f":"'Base Numbers'!$G$11","v":0.35},{"$f":"'Base Numbers'!$G$11","v":0.35},{"$f":"'Base Numbers'!$G$11","v":0.35},{"$f":"'Base Numbers'!$G$11","v":0.35},null,"* Sentinel doesn't actually prevent movement if warcaster replaces Opp Att with BB cast."]
[{"$nulls":3},"booming blade bns dmg",{"$f":"IF(AND(E137=0,E128),'Caster Tables'!C$8*4.5 + (1+'Caster Tables'!C$8)*4.5*E542+IF(AND(E15>=10,E44>=1),E33,0),0)","v":0},{"$f":"IF(AND(F137=0,F128),'Caster Tables'!D$8*4.5 + (1+'Caster Tables'!D$8)*4.5*F542+IF(AND(F15>=10,F44>=1),F33,0),0)","v":0},{"$f":"IF(AND(G137=0,G128),'Caster Tables'!E$8*4.5 + (1+'Caster Tables'!E$8)*4.5*G542+IF(AND(G15>=10,G44>=1),G33,0),0)","v":0},{"$f":"IF(AND(H137=0,H128),'Caster Tables'!F$8*4.5 + (1+'Caster Tables'!F$8)*4.5*H542+IF(AND(H15>=10,H44>=1),H33,0),0)","v":0},{"$f":"IF(AND(I137=0,I128),'Caster Tables'!G$8*4.5 + (1+'Caster Tables'!G$8)*4.5*I542+IF(AND(I15>=10,I44>=1),I33,0),0)","v":0},{"$f":"IF(AND(J137=0,J128),'Caster Tables'!H$8*4.5 + (1+'Caster Tables'!H$8)*4.5*J542+IF(AND(J15>=10,J44>=1),J33,0),0)","v":0},{"$f":"IF(AND(K137=0,K128),'Caster Tables'!I$8*4.5 + (1+'Caster Tables'!I$8)*4.5*K542+IF(AND(K15>=10,K44>=1),K33,0),0)","v":0},{"$f":"IF(AND(L137=0,L128),'Caster Tables'!J$8*4.5 + (1+'Caster Tables'!J$8)*4.5*L542+IF(AND(L15>=10,L44>=1),L33,0),0)","v":0},{"$f":"IF(AND(M137=0,M128),'Caster Tables'!K$8*4.5 + (1+'Caster Tables'!K$8)*4.5*M542+IF(AND(M15>=10,M44>=1),M33,0),0)","v":0},{"$f":"IF(AND(N137=0,N128),'Caster Tables'!L$8*4.5 + (1+'Caster Tables'!L$8)*4.5*N542+IF(AND(N15>=10,N44>=1),N33,0),0)","v":0},{"$f":"IF(AND(O137=0,O128),'Caster Tables'!M$8*4.5 + (1+'Caster Tables'!M$8)*4.5*O542+IF(AND(O15>=10,O44>=1),O33,0),0)","v":0},{"$f":"IF(AND(P137=0,P128),'Caster Tables'!N$8*4.5 + (1+'Caster Tables'!N$8)*4.5*P542+IF(AND(P15>=10,P44>=1),P33,0),0)","v":0},{"$f":"IF(AND(Q137=0,Q128),'Caster Tables'!O$8*4.5 + (1+'Caster Tables'!O$8)*4.5*Q542+IF(AND(Q15>=10,Q44>=1),Q33,0),0)","v":0},{"$f":"IF(AND(R137=0,R128),'Caster Tables'!P$8*4.5 + (1+'Caster Tables'!P$8)*4.5*R542+IF(AND(R15>=10,R44>=1),R33,0),0)","v":0},{"$f":"IF(AND(S137=0,S128),'Caster Tables'!Q$8*4.5 + (1+'Caster Tables'!Q$8)*4.5*S542+IF(AND(S15>=10,S44>=1),S33,0),0)","v":0},{"$f":"IF(AND(T137=0,T128),'Caster Tables'!R$8*4.5 + (1+'Caster Tables'!R$8)*4.5*T542+IF(AND(T15>=10,T44>=1),T33,0),0)","v":0},{"$f":"IF(AND(U137=0,U128),'Caster Tables'!S$8*4.5 + (1+'Caster Tables'!S$8)*4.5*U542+IF(AND(U15>=10,U44>=1),U33,0),0)","v":0},{"$f":"IF(AND(V137=0,V128),'Caster Tables'!T$8*4.5 + (1+'Caster Tables'!T$8)*4.5*V542+IF(AND(V15>=10,V44>=1),V33,0),0)","v":0},{"$f":"IF(AND(W137=0,W128),'Caster Tables'!U$8*4.5 + (1+'Caster Tables'!U$8)*4.5*W542+IF(AND(W15>=10,W44>=1),W33,0),0)","v":0},{"$f":"IF(AND(X137=0,X128),'Caster Tables'!V$8*4.5 + (1+'Caster Tables'!V$8)*4.5*X542+IF(AND(X15>=10,X44>=1),X33,0),0)","v":0},null,"* BB is turned off if Ranged is forced"]
[{"$nulls":3},"booming blade bns dmg on Opp atts",{"$f":"IF(AND(E137=0,E128),'Caster Tables'!C$8*4.5 + (1+'Caster Tables'!C$8)*4.5*(E542+0.35)+IF(AND(E15>=10,E44>=1),E33,0),0)","v":0},{"$f":"IF(AND(F137=0,F128),'Caster Tables'!D$8*4.5 + (1+'Caster Tables'!D$8)*4.5*(F542+0.35)+IF(AND(F15>=10,F44>=1),F33,0),0)","v":0},{"$f":"IF(AND(G137=0,G128),'Caster Tables'!E$8*4.5 + (1+'Caster Tables'!E$8)*4.5*(G542+0.35)+IF(AND(G15>=10,G44>=1),G33,0),0)","v":0},{"$f":"IF(AND(H137=0,H128),'Caster Tables'!F$8*4.5 + (1+'Caster Tables'!F$8)*4.5*(H542+0.35)+IF(AND(H15>=10,H44>=1),H33,0),0)","v":0},{"$f":"IF(AND(I137=0,I128),'Caster Tables'!G$8*4.5 + (1+'Caster Tables'!G$8)*4.5*(I542+0.35)+IF(AND(I15>=10,I44>=1),I33,0),0)","v":0},{"$f":"IF(AND(J137=0,J128),'Caster Tables'!H$8*4.5 + (1+'Caster Tables'!H$8)*4.5*(J542+0.35)+IF(AND(J15>=10,J44>=1),J33,0),0)","v":0},{"$f":"IF(AND(K137=0,K128),'Caster Tables'!I$8*4.5 + (1+'Caster Tables'!I$8)*4.5*(K542+0.35)+IF(AND(K15>=10,K44>=1),K33,0),0)","v":0},{"$f":"IF(AND(L137=0,L128),'Caster Tables'!J$8*4.5 + (1+'Caster Tables'!J$8)*4.5*(L542+0.35)+IF(AND(L15>=10,L44>=1),L33,0),0)","v":0},{"$f":"IF(AND(M137=0,M128),'Caster Tables'!K$8*4.5 + (1+'Caster Tables'!K$8)*4.5*(M542+0.35)+IF(AND(M15>=10,M44>=1),M33,0),0)","v":0},{"$f":"IF(AND(N137=0,N128),'Caster Tables'!L$8*4.5 + (1+'Caster Tables'!L$8)*4.5*(N542+0.35)+IF(AND(N15>=10,N44>=1),N33,0),0)","v":0},{"$f":"IF(AND(O137=0,O128),'Caster Tables'!M$8*4.5 + (1+'Caster Tables'!M$8)*4.5*(O542+0.35)+IF(AND(O15>=10,O44>=1),O33,0),0)","v":0},{"$f":"IF(AND(P137=0,P128),'Caster Tables'!N$8*4.5 + (1+'Caster Tables'!N$8)*4.5*(P542+0.35)+IF(AND(P15>=10,P44>=1),P33,0),0)","v":0},{"$f":"IF(AND(Q137=0,Q128),'Caster Tables'!O$8*4.5 + (1+'Caster Tables'!O$8)*4.5*(Q542+0.35)+IF(AND(Q15>=10,Q44>=1),Q33,0),0)","v":0},{"$f":"IF(AND(R137=0,R128),'Caster Tables'!P$8*4.5 + (1+'Caster Tables'!P$8)*4.5*(R542+0.35)+IF(AND(R15>=10,R44>=1),R33,0),0)","v":0},{"$f":"IF(AND(S137=0,S128),'Caster Tables'!Q$8*4.5 + (1+'Caster Tables'!Q$8)*4.5*(S542+0.35)+IF(AND(S15>=10,S44>=1),S33,0),0)","v":0},{"$f":"IF(AND(T137=0,T128),'Caster Tables'!R$8*4.5 + (1+'Caster Tables'!R$8)*4.5*(T542+0.35)+IF(AND(T15>=10,T44>=1),T33,0),0)","v":0},{"$f":"IF(AND(U137=0,U128),'Caster Tables'!S$8*4.5 + (1+'Caster Tables'!S$8)*4.5*(U542+0.35)+IF(AND(U15>=10,U44>=1),U33,0),0)","v":0},{"$f":"IF(AND(V137=0,V128),'Caster Tables'!T$8*4.5 + (1+'Caster Tables'!T$8)*4.5*(V542+0.35)+IF(AND(V15>=10,V44>=1),V33,0),0)","v":0},{"$f":"IF(AND(W137=0,W128),'Caster Tables'!U$8*4.5 + (1+'Caster Tables'!U$8)*4.5*(W542+0.35)+IF(AND(W15>=10,W44>=1),W33,0),0)","v":0},{"$f":"IF(AND(X137=0,X128),'Caster Tables'!V$8*4.5 + (1+'Caster Tables'!V$8)*4.5*(X542+0.35)+IF(AND(X15>=10,X44>=1),X33,0),0)","v":0}]
[{"$nulls":3},"booming blade bonus crit damage",{"$f":"IF(AND(E137=0,E128),'Caster Tables'!C$8*4.5 + (1+'Caster Tables'!C$8)*4.5*E542,0)","v":0},{"$f":"IF(AND(F137=0,F128),'Caster Tables'!D$8*4.5 + (1+'Caster Tables'!D$8)*4.5*F542,0)","v":0},{"$f":"IF(AND(G137=0,G128),'Caster Tables'!E$8*4.5 + (1+'Caster Tables'!E$8)*4.5*G542,0)","v":0},{"$f":"IF(AND(H137=0,H128),'Caster Tables'!F$8*4.5 + (1+'Caster Tables'!F$8)*4.5*H542,0)","v":0},{"$f":"IF(AND(I137=0,I128),'Caster Tables'!G$8*4.5 + (1+'Caster Tables'!G$8)*4.5*I542,0)","v":0},{"$f":"IF(AND(J137=0,J128),'Caster Tables'!H$8*4.5 + (1+'Caster Tables'!H$8)*4.5*J542,0)","v":0},{"$f":"IF(AND(K137=0,K128),'Caster Tables'!I$8*4.5 + (1+'Caster Tables'!I$8)*4.5*K542,0)","v":0},{"$f":"IF(AND(L137=0,L128),'Caster Tables'!J$8*4.5 + (1+'Caster Tables'!J$8)*4.5*L542,0)","v":0},{"$f":"IF(AND(M137=0,M128),'Caster Tables'!K$8*4.5 + (1+'Caster Tables'!K$8)*4.5*M542,0)","v":0},{"$f":"IF(AND(N137=0,N128),'Caster Tables'!L$8*4.5 + (1+'Caster Tables'!L$8)*4.5*N542,0)","v":0},{"$f":"IF(AND(O137=0,O128),'Caster Tables'!M$8*4.5 + (1+'Caster Tables'!M$8)*4.5*O542,0)","v":0},{"$f":"IF(AND(P137=0,P128),'Caster Tables'!N$8*4.5 + (1+'Caster Tables'!N$8)*4.5*P542,0)","v":0},{"$f":"IF(AND(Q137=0,Q128),'Caster Tables'!O$8*4.5 + (1+'Caster Tables'!O$8)*4.5*Q542,0)","v":0},{"$f":"IF(AND(R137=0,R128),'Caster Tables'!P$8*4.5 + (1+'Caster Tables'!P$8)*4.5*R542,0)","v":0},{"$f":"IF(AND(S137=0,S128),'Caster Tables'!Q$8*4.5 + (1+'Caster Tables'!Q$8)*4.5*S542,0)","v":0},{"$f":"IF(AND(T137=0,T128),'Caster Tables'!R$8*4.5 + (1+'Caster Tables'!R$8)*4.5*T542,0)","v":0},{"$f":"IF(AND(U137=0,U128),'Caster Tables'!S$8*4.5 + (1+'Caster Tables'!S$8)*4.5*U542,0)","v":0},{"$f":"IF(AND(V137=0,V128),'Caster Tables'!T$8*4.5 + (1+'Caster Tables'!T$8)*4.5*V542,0)","v":0},{"$f":"IF(AND(W137=0,W128),'Caster Tables'!U$8*4.5 + (1+'Caster Tables'!U$8)*4.5*W542,0)","v":0},{"$f":"IF(AND(X137=0,X128),'Caster Tables'!V$8*4.5 + (1+'Caster Tables'!V$8)*4.5*X542,0)","v":0}]
[{"$nulls":3},"booming blade bonus crit damage on Opp atts",{"$f":"IF(AND(E137=0,E128),'Caster Tables'!C$8*4.5 + (1+'Caster Tables'!C$8)*4.5*(E542+0.35),0)","v":0},{"$f":"IF(AND(F137=0,F128),'Caster Tables'!D$8*4.5 + (1+'Caster Tables'!D$8)*4.5*(F542+0.35),0)","v":0},{"$f":"IF(AND(G137=0,G128),'Caster Tables'!E$8*4.5 + (1+'Caster Tables'!E$8)*4.5*(G542+0.35),0)","v":0},{"$f":"IF(AND(H137=0,H128),'Caster Tables'!F$8*4.5 + (1+'Caster Tables'!F$8)*4.5*(H542+0.35),0)","v":0},{"$f":"IF(AND(I137=0,I128),'Caster Tables'!G$8*4.5 + (1+'Caster Tables'!G$8)*4.5*(I542+0.35),0)","v":0},{"$f":"IF(AND(J137=0,J128),'Caster Tables'!H$8*4.5 + (1+'Caster Tables'!H$8)*4.5*(J542+0.35),0)","v":0},{"$f":"IF(AND(K137=0,K128),'Caster Tables'!I$8*4.5 + (1+'Caster Tables'!I$8)*4.5*(K542+0.35),0)","v":0},{"$f":"IF(AND(L137=0,L128),'Caster Tables'!J$8*4.5 + (1+'Caster Tables'!J$8)*4.5*(L542+0.35),0)","v":0},{"$f":"IF(AND(M137=0,M128),'Caster Tables'!K$8*4.5 + (1+'Caster Tables'!K$8)*4.5*(M542+0.35),0)","v":0},{"$f":"IF(AND(N137=0,N128),'Caster Tables'!L$8*4.5 + (1+'Caster Tables'!L$8)*4.5*(N542+0.35),0)","v":0},{"$f":"IF(AND(O137=0,O128),'Caster Tables'!M$8*4.5 + (1+'Caster Tables'!M$8)*4.5*(O542+0.35),0)","v":0},{"$f":"IF(AND(P137=0,P128),'Caster Tables'!N$8*4.5 + (1+'Caster Tables'!N$8)*4.5*(P542+0.35),0)","v":0},{"$f":"IF(AND(Q137=0,Q128),'Caster Tables'!O$8*4.5 + (1+'Caster Tables'!O$8)*4.5*(Q542+0.35),0)","v":0},{"$f":"IF(AND(R137=0,R128),'Caster Tables'!P$8*4.5 + (1+'Caster Tables'!P$8)*4.5*(R542+0.35),0)","v":0},{"$f":"IF(AND(S137=0,S128),'Caster Tables'!Q$8*4.5 + (1+'Caster Tables'!Q$8)*4.5*(S542+0.35),0)","v":0},{"$f":"IF(AND(T137=0,T128),'Caster Tables'!R$8*4.5 + (1+'Caster Tables'!R$8)*4.5*(T542+0.35),0)","v":0},{"$f":"IF(AND(U137=0,U128),'Caster Tables'!S$8*4.5 + (1+'Caster Tables'!S$8)*4.5*(U542+0.35),0)","v":0},{"$f":"IF(AND(V137=0,V128),'Caster Tables'!T$8*4.5 + (1+'Caster Tables'!T$8)*4.5*(V542+0.35),0)","v":0},{"$f":"IF(AND(W137=0,W128),'Caster Tables'!U$8*4.5 + (1+'Caster Tables'!U$8)*4.5*(W542+0.35),0)","v":0},{"$f":"IF(AND(X137=0,X128),'Caster Tables'!V$8*4.5 + (1+'Caster Tables'!V$8)*4.5*(X542+0.35),0)","v":0}]
[{"$nulls":3},"total damage from bb hit (main action, no adv)",{"$f":"IF(AND(E137=0,E128),(E543+E509+E512-IF('Base Numbers'!$G$16,0,E316-E315)),0)","v":0},{"$f":"IF(AND(F137=0,F128),(F543+F509+F512-IF('Base Numbers'!$G$16,0,F316-F315)),0)","v":0},{"$f":"IF(AND(G137=0,G128),(G543+G509+G512-IF('Base Numbers'!$G$16,0,G316-G315)),0)","v":0},{"$f":"IF(AND(H137=0,H128),(H543+H509+H512-IF('Base Numbers'!$G$16,0,H316-H315)),0)","v":0},{"$f":"IF(AND(I137=0,I128),(I543+I509+I512-IF('Base Numbers'!$G$16,0,I316-I315)),0)","v":0},{"$f":"IF(AND(J137=0,J128),(J543+J509+J512-IF('Base Numbers'!$G$16,0,J316-J315)),0)","v":0},{"$f":"IF(AND(K137=0,K128),(K543+K509+K512-IF('Base Numbers'!$G$16,0,K316-K315)),0)","v":0},{"$f":"IF(AND(L137=0,L128),(L543+L509+L512-IF('Base Numbers'!$G$16,0,L316-L315)),0)","v":0},{"$f":"IF(AND(M137=0,M128),(M543+M509+M512-IF('Base Numbers'!$G$16,0,M316-M315)),0)","v":0},{"$f":"IF(AND(N137=0,N128),(N543+N509+N512-IF('Base Numbers'!$G$16,0,N316-N315)),0)","v":0},{"$f":"IF(AND(O137=0,O128),(O543+O509+O512-IF('Base Numbers'!$G$16,0,O316-O315)),0)","v":0},{"$f":"IF(AND(P137=0,P128),(P543+P509+P512-IF('Base Numbers'!$G$16,0,P316-P315)),0)","v":0},{"$f":"IF(AND(Q137=0,Q128),(Q543+Q509+Q512-IF('Base Numbers'!$G$16,0,Q316-Q315)),0)","v":0},{"$f":"IF(AND(R137=0,R128),(R543+R509+R512-IF('Base Numbers'!$G$16,0,R316-R315)),0)","v":0},{"$f":"IF(AND(S137=0,S128),(S543+S509+S512-IF('Base Numbers'!$G$16,0,S316-S315)),0)","v":0},{"$f":"IF(AND(T137=0,T128),(T543+T509+T512-IF('Base Numbers'!$G$16,0,T316-T315)),0)","v":0},{"$f":"IF(AND(U137=0,U128),(U543+U509+U512-IF('Base Numbers'!$G$16,0,U316-U315)),0)","v":0},{"$f":"IF(AND(V137=0,V128),(V543+V509+V512-IF('Base Numbers'!$G$16,0,V316-V315)),0)","v":0},{"$f":"IF(AND(W137=0,W128),(W543+W509+W512-IF('Base Numbers'!$G$16,0,W316-W315)),0)","v":0},{"$f":"IF(AND(X137=0,X128),(X543+X509+X512-IF('Base Numbers'!$G$16,0,X316-X315)),0)","v":0},null,"* this is including a reduction for incompatibility of Shadow blade and BB"]
[{"$nulls":3},"total damage from bb hit (main action, with adv)",{"$f":"IF(AND(E137=0,E128),(E543+E509+E511-IF('Base Numbers'!$G$16,0,E316-E315)),0)","v":0},{"$f":"IF(AND(F137=0,F128),(F543+F509+F511-IF('Base Numbers'!$G$16,0,F316-F315)),0)","v":0},{"$f":"IF(AND(G137=0,G128),(G543+G509+G511-IF('Base Numbers'!$G$16,0,G316-G315)),0)","v":0},{"$f":"IF(AND(H137=0,H128),(H543+H509+H511-IF('Base Numbers'!$G$16,0,H316-H315)),0)","v":0},{"$f":"IF(AND(I137=0,I128),(I543+I509+I511-IF('Base Numbers'!$G$16,0,I316-I315)),0)","v":0},{"$f":"IF(AND(J137=0,J128),(J543+J509+J511-IF('Base Numbers'!$G$16,0,J316-J315)),0)","v":0},{"$f":"IF(AND(K137=0,K128),(K543+K509+K511-IF('Base Numbers'!$G$16,0,K316-K315)),0)","v":0},{"$f":"IF(AND(L137=0,L128),(L543+L509+L511-IF('Base Numbers'!$G$16,0,L316-L315)),0)","v":0},{"$f":"IF(AND(M137=0,M128),(M543+M509+M511-IF('Base Numbers'!$G$16,0,M316-M315)),0)","v":0},{"$f":"IF(AND(N137=0,N128),(N543+N509+N511-IF('Base Numbers'!$G$16,0,N316-N315)),0)","v":0},{"$f":"IF(AND(O137=0,O128),(O543+O509+O511-IF('Base Numbers'!$G$16,0,O316-O315)),0)","v":0},{"$f":"IF(AND(P137=0,P128),(P543+P509+P511-IF('Base Numbers'!$G$16,0,P316-P315)),0)","v":0},{"$f":"IF(AND(Q137=0,Q128),(Q543+Q509+Q511-IF('Base Numbers'!$G$16,0,Q316-Q315)),0)","v":0},{"$f":"IF(AND(R137=0,R128),(R543+R509+R511-IF('Base Numbers'!$G$16,0,R316-R315)),0)","v":0},{"$f":"IF(AND(S137=0,S128),(S543+S509+S511-IF('Base Numbers'!$G$16,0,S316-S315)),0)","v":0},{"$f":"IF(AND(T137=0,T128),(T543+T509+T511-IF('Base Numbers'!$G$16,0,T316-T315)),0)","v":0},{"$f":"IF(AND(U137=0,U128),(U543+U509+U511-IF('Base Numbers'!$G$16,0,U316-U315)),0)","v":0},{"$f":"IF(AND(V137=0,V128),(V543+V509+V511-IF('Base Numbers'!$G$16,0,V316-V315)),0)","v":0},{"$f":"IF(AND(W137=0,W128),(W543+W509+W511-IF('Base Numbers'!$G$16,0,W316-W315)),0)","v":0},{"$f":"IF(AND(X137=0,X128),(X543+X509+X511-IF('Base Numbers'!$G$16,0,X316-X315)),0)","v":0},null,"* this is including a reduction for incompatibility of Shadow blade and BB"]
[{"$nulls":3},"total damage from bb hit (opp att, no adv)",{"$f":"IF(AND(E137=0,E128),(E544+E509+E512-IF('Base Numbers'!$G$16,0,E316-E315)),0)","v":0},{"$f":"IF(AND(F137=0,F128),(F544+F509+F512-IF('Base Numbers'!$G$16,0,F316-F315)),0)","v":0},{"$f":"IF(AND(G137=0,G128),(G544+G509+G512-IF('Base Numbers'!$G$16,0,G316-G315)),0)","v":0},{"$f":"IF(AND(H137=0,H128),(H544+H509+H512-IF('Base Numbers'!$G$16,0,H316-H315)),0)","v":0},{"$f":"IF(AND(I137=0,I128),(I544+I509+I512-IF('Base Numbers'!$G$16,0,I316-I315)),0)","v":0},{"$f":"IF(AND(J137=0,J128),(J544+J509+J512-IF('Base Numbers'!$G$16,0,J316-J315)),0)","v":0},{"$f":"IF(AND(K137=0,K128),(K544+K509+K512-IF('Base Numbers'!$G$16,0,K316-K315)),0)","v":0},{"$f":"IF(AND(L137=0,L128),(L544+L509+L512-IF('Base Numbers'!$G$16,0,L316-L315)),0)","v":0},{"$f":"IF(AND(M137=0,M128),(M544+M509+M512-IF('Base Numbers'!$G$16,0,M316-M315)),0)","v":0},{"$f":"IF(AND(N137=0,N128),(N544+N509+N512-IF('Base Numbers'!$G$16,0,N316-N315)),0)","v":0},{"$f":"IF(AND(O137=0,O128),(O544+O509+O512-IF('Base Numbers'!$G$16,0,O316-O315)),0)","v":0},{"$f":"IF(AND(P137=0,P128),(P544+P509+P512-IF('Base Numbers'!$G$16,0,P316-P315)),0)","v":0},{"$f":"IF(AND(Q137=0,Q128),(Q544+Q509+Q512-IF('Base Numbers'!$G$16,0,Q316-Q315)),0)","v":0},{"$f":"IF(AND(R137=0,R128),(R544+R509+R512-IF('Base Numbers'!$G$16,0,R316-R315)),0)","v":0},{"$f":"IF(AND(S137=0,S128),(S544+S509+S512-IF('Base Numbers'!$G$16,0,S316-S315)),0)","v":0},{"$f":"IF(AND(T137=0,T128),(T544+T509+T512-IF('Base Numbers'!$G$16,0,T316-T315)),0)","v":0},{"$f":"IF(AND(U137=0,U128),(U544+U509+U512-IF('Base Numbers'!$G$16,0,U316-U315)),0)","v":0},{"$f":"IF(AND(V137=0,V128),(V544+V509+V512-IF('Base Numbers'!$G$16,0,V316-V315)),0)","v":0},{"$f":"IF(AND(W137=0,W128),(W544+W509+W512-IF('Base Numbers'!$G$16,0,W316-W315)),0)","v":0},{"$f":"IF(AND(X137=0,X128),(X544+X509+X512-IF('Base Numbers'!$G$16,0,X316-X315)),0)","v":0},null,"* this is including a reduction for incompatibility of Shadow blade and BB"]
[{"$nulls":3},"total damage from bb hit (opp att, with adv)",{"$f":"IF(AND(E137=0,E128),(E544+E509+E511-IF('Base Numbers'!$G$16,0,E316-E315)),0)","v":0},{"$f":"IF(AND(F137=0,F128),(F544+F509+F511-IF('Base Numbers'!$G$16,0,F316-F315)),0)","v":0},{"$f":"IF(AND(G137=0,G128),(G544+G509+G511-IF('Base Numbers'!$G$16,0,G316-G315)),0)","v":0},{"$f":"IF(AND(H137=0,H128),(H544+H509+H511-IF('Base Numbers'!$G$16,0,H316-H315)),0)","v":0},{"$f":"IF(AND(I137=0,I128),(I544+I509+I511-IF('Base Numbers'!$G$16,0,I316-I315)),0)","v":0},{"$f":"IF(AND(J137=0,J128),(J544+J509+J511-IF('Base Numbers'!$G$16,0,J316-J315)),0)","v":0},{"$f":"IF(AND(K137=0,K128),(K544+K509+K511-IF('Base Numbers'!$G$16,0,K316-K315)),0)","v":0},{"$f":"IF(AND(L137=0,L128),(L544+L509+L511-IF('Base Numbers'!$G$16,0,L316-L315)),0)","v":0},{"$f":"IF(AND(M137=0,M128),(M544+M509+M511-IF('Base Numbers'!$G$16,0,M316-M315)),0)","v":0},{"$f":"IF(AND(N137=0,N128),(N544+N509+N511-IF('Base Numbers'!$G$16,0,N316-N315)),0)","v":0},{"$f":"IF(AND(O137=0,O128),(O544+O509+O511-IF('Base Numbers'!$G$16,0,O316-O315)),0)","v":0},{"$f":"IF(AND(P137=0,P128),(P544+P509+P511-IF('Base Numbers'!$G$16,0,P316-P315)),0)","v":0},{"$f":"IF(AND(Q137=0,Q128),(Q544+Q509+Q511-IF('Base Numbers'!$G$16,0,Q316-Q315)),0)","v":0},{"$f":"IF(AND(R137=0,R128),(R544+R509+R511-IF('Base Numbers'!$G$16,0,R316-R315)),0)","v":0},{"$f":"IF(AND(S137=0,S128),(S544+S509+S511-IF('Base Numbers'!$G$16,0,S316-S315)),0)","v":0},{"$f":"IF(AND(T137=0,T128),(T544+T509+T511-IF('Base Numbers'!$G$16,0,T316-T315)),0)","v":0},{"$f":"IF(AND(U137=0,U128),(U544+U509+U511-IF('Base Numbers'!$G$16,0,U316-U315)),0)","v":0},{"$f":"IF(AND(V137=0,V128),(V544+V509+V511-IF('Base Numbers'!$G$16,0,V316-V315)),0)","v":0},{"$f":"IF(AND(W137=0,W128),(W544+W509+W511-IF('Base Numbers'!$G$16,0,W316-W315)),0)","v":0},{"$f":"IF(AND(X137=0,X128),(X544+X509+X511-IF('Base Numbers'!$G$16,0,X316-X315)),0)","v":0},null,"* this is including a reduction for incompatibility of Shadow blade and BB"]
[{"$nulls":3},"avg booming blade dmg per opp att (incl hit chance)",{"$f":"E549*E341*(1-E448)+(E550*E342*E448)","v":0},0,0,0,0,0,0,0,0,0,0,0,0,0,0,0,0,0,0,0,null,"opportunity attack triggers split by what allows a booming blade and what doesn't"]
[{"$nulls":3},"avg booming blade bonus crit damage per main action",{"$f":"IF(AND(E137=0,E128),(E444*E466+(1-E444)*E465)*(E545+E509),0)","v":0},0,0,0,0,0,0,0,0,0,0,0,0,0,0,0,0,0,0,0]
[{"$nulls":3},"avg booming blade bonus crit damage per opp att",{"$f":"IF(AND(E137=0,E128),(E448*E466+(1-E448)*E465)*(E546+E509),0)","v":0},0,0,0,0,0,0,0,0,0,0,0,0,0,0,0,0,0,0,0]
[{"$nulls":3},"avg booming blade dmg per main action incl crits",{"$f":"E568+E552","v":0},{"$f":"F568+F552","v":0},0,0,0,0,0,0,0,0,0,0,0,0,0,0,0,0,0,0]
[{"$nulls":3},"avg booming blade dmg per opp att incl crits",{"$f":"IF(E23,(E551+E553),0)","v":0},0,0,0,0,0,0,0,0,0,0,0,0,0,0,0,0,0,0,0,null,"* requires Warcaster feat"]
[{"$nulls":3},"booming blade auto crit main attack damage",{"$f":"IF(AND(E137=0,E128),E337*(2*(E543+E509-(E316-E315))+E511+E516),0)","v":0},0,0,0,0,0,0,0,0,0,0,0,0,0,0,0,0,0,0,0]
[{"$nulls":3},"booming blade auto crit bonus attack damage",{"$f":"IF(AND(E137=0,E128),E338*(2*(E543+E510-(E316-E315))+E512+E517),0)","v":0},0,0,0,0,0,0,0,0,0,0,0,0,0,0,0,0,0,0,0]
[]
[{"$nulls":3},"QUICKEN BOOMING BLADE"]
[{"$nulls":3},"Quicken metamagic available?",{"$f":"IF(OR(AND($B$26>0,E6>=$B$26),E13>=3),1,0)","v":0},0,0,0,0,0,0,0,0,0,0,0,0,0,0,0,0,0,0,0]
[{"$nulls":3},"base sorcery points",{"$f":"IF(E13>=2,E13,0)+IF(E13>=20,4*'Base Numbers'!$C$7,0)+IF(AND($B$26>=1,E6>=$B$26),2,0)","v":0},{"$f":"IF(F13>=2,F13,0)+IF(F13>=20,4*'Base Numbers'!$C$7,0)+IF(AND($B$26>=1,F6>=$B$26),2,0)","v":0},{"$f":"IF(G13>=2,G13,0)+IF(G13>=20,4*'Base Numbers'!$C$7,0)+IF(AND($B$26>=1,G6>=$B$26),2,0)","v":0},{"$f":"IF(H13>=2,H13,0)+IF(H13>=20,4*'Base Numbers'!$C$7,0)+IF(AND($B$26>=1,H6>=$B$26),2,0)","v":0},{"$f":"IF(I13>=2,I13,0)+IF(I13>=20,4*'Base Numbers'!$C$7,0)+IF(AND($B$26>=1,I6>=$B$26),2,0)","v":0},{"$f":"IF(J13>=2,J13,0)+IF(J13>=20,4*'Base Numbers'!$C$7,0)+IF(AND($B$26>=1,J6>=$B$26),2,0)","v":0},{"$f":"IF(K13>=2,K13,0)+IF(K13>=20,4*'Base Numbers'!$C$7,0)+IF(AND($B$26>=1,K6>=$B$26),2,0)","v":0},{"$f":"IF(L13>=2,L13,0)+IF(L13>=20,4*'Base Numbers'!$C$7,0)+IF(AND($B$26>=1,L6>=$B$26),2,0)","v":0},{"$f":"IF(M13>=2,M13,0)+IF(M13>=20,4*'Base Numbers'!$C$7,0)+IF(AND($B$26>=1,M6>=$B$26),2,0)","v":0},{"$f":"IF(N13>=2,N13,0)+IF(N13>=20,4*'Base Numbers'!$C$7,0)+IF(AND($B$26>=1,N6>=$B$26),2,0)","v":0},{"$f":"IF(O13>=2,O13,0)+IF(O13>=20,4*'Base Numbers'!$C$7,0)+IF(AND($B$26>=1,O6>=$B$26),2,0)","v":0},{"$f":"IF(P13>=2,P13,0)+IF(P13>=20,4*'Base Numbers'!$C$7,0)+IF(AND($B$26>=1,P6>=$B$26),2,0)","v":0},{"$f":"IF(Q13>=2,Q13,0)+IF(Q13>=20,4*'Base Numbers'!$C$7,0)+IF(AND($B$26>=1,Q6>=$B$26),2,0)","v":0},{"$f":"IF(R13>=2,R13,0)+IF(R13>=20,4*'Base Numbers'!$C$7,0)+IF(AND($B$26>=1,R6>=$B$26),2,0)","v":0},{"$f":"IF(S13>=2,S13,0)+IF(S13>=20,4*'Base Numbers'!$C$7,0)+IF(AND($B$26>=1,S6>=$B$26),2,0)","v":0},{"$f":"IF(T13>=2,T13,0)+IF(T13>=20,4*'Base Numbers'!$C$7,0)+IF(AND($B$26>=1,T6>=$B$26),2,0)","v":0},{"$f":"IF(U13>=2,U13,0)+IF(U13>=20,4*'Base Numbers'!$C$7,0)+IF(AND($B$26>=1,U6>=$B$26),2,0)","v":0},{"$f":"IF(V13>=2,V13,0)+IF(V13>=20,4*'Base Numbers'!$C$7,0)+IF(AND($B$26>=1,V6>=$B$26),2,0)","v":0},{"$f":"IF(W13>=2,W13,0)+IF(W13>=20,4*'Base Numbers'!$C$7,0)+IF(AND($B$26>=1,W6>=$B$26),2,0)","v":0},{"$f":"IF(X13>=2,X13,0)+IF(X13>=20,4*'Base Numbers'!$C$7,0)+IF(AND($B$26>=1,X6>=$B$26),2,0)","v":0}]
[{"$nulls":3},"bonus actions not spent on spells,  directed spell actions, or shadow blade",{"$f":"MAX(0,'Base Numbers'!$C$5*'Base Numbers'!$C$6-E286-(E292+IF('Base Numbers'!$G$16,0,E313))*'Base Numbers'!$C$5*'Base Numbers'!$C$6)","v":16},{"$f":"MAX(0,'Base Numbers'!$C$5*'Base Numbers'!$C$6-F286-(F292+IF('Base Numbers'!$G$16,0,F313))*'Base Numbers'!$C$5*'Base Numbers'!$C$6)","v":16},{"$f":"MAX(0,'Base Numbers'!$C$5*'Base Numbers'!$C$6-G286-(G292+IF('Base Numbers'!$G$16,0,G313))*'Base Numbers'!$C$5*'Base Numbers'!$C$6)","v":16},{"$f":"MAX(0,'Base Numbers'!$C$5*'Base Numbers'!$C$6-H286-(H292+IF('Base Numbers'!$G$16,0,H313))*'Base Numbers'!$C$5*'Base Numbers'!$C$6)","v":16},{"$f":"MAX(0,'Base Numbers'!$C$5*'Base Numbers'!$C$6-I286-(I292+IF('Base Numbers'!$G$16,0,I313))*'Base Numbers'!$C$5*'Base Numbers'!$C$6)","v":16},{"$f":"MAX(0,'Base Numbers'!$C$5*'Base Numbers'!$C$6-J286-(J292+IF('Base Numbers'!$G$16,0,J313))*'Base Numbers'!$C$5*'Base Numbers'!$C$6)","v":16},{"$f":"MAX(0,'Base Numbers'!$C$5*'Base Numbers'!$C$6-K286-(K292+IF('Base Numbers'!$G$16,0,K313))*'Base Numbers'!$C$5*'Base Numbers'!$C$6)","v":16},{"$f":"MAX(0,'Base Numbers'!$C$5*'Base Numbers'!$C$6-L286-(L292+IF('Base Numbers'!$G$16,0,L313))*'Base Numbers'!$C$5*'Base Numbers'!$C$6)","v":16},{"$f":"MAX(0,'Base Numbers'!$C$5*'Base Numbers'!$C$6-M286-(M292+IF('Base Numbers'!$G$16,0,M313))*'Base Numbers'!$C$5*'Base Numbers'!$C$6)","v":16},{"$f":"MAX(0,'Base Numbers'!$C$5*'Base Numbers'!$C$6-N286-(N292+IF('Base Numbers'!$G$16,0,N313))*'Base Numbers'!$C$5*'Base Numbers'!$C$6)","v":16},{"$f":"MAX(0,'Base Numbers'!$C$5*'Base Numbers'!$C$6-O286-(O292+IF('Base Numbers'!$G$16,0,O313))*'Base Numbers'!$C$5*'Base Numbers'!$C$6)","v":16},{"$f":"MAX(0,'Base Numbers'!$C$5*'Base Numbers'!$C$6-P286-(P292+IF('Base Numbers'!$G$16,0,P313))*'Base Numbers'!$C$5*'Base Numbers'!$C$6)","v":16},{"$f":"MAX(0,'Base Numbers'!$C$5*'Base Numbers'!$C$6-Q286-(Q292+IF('Base Numbers'!$G$16,0,Q313))*'Base Numbers'!$C$5*'Base Numbers'!$C$6)","v":16},{"$f":"MAX(0,'Base Numbers'!$C$5*'Base Numbers'!$C$6-R286-(R292+IF('Base Numbers'!$G$16,0,R313))*'Base Numbers'!$C$5*'Base Numbers'!$C$6)","v":16},{"$f":"MAX(0,'Base Numbers'!$C$5*'Base Numbers'!$C$6-S286-(S292+IF('Base Numbers'!$G$16,0,S313))*'Base Numbers'!$C$5*'Base Numbers'!$C$6)","v":16},{"$f":"MAX(0,'Base Numbers'!$C$5*'Base Numbers'!$C$6-T286-(T292+IF('Base Numbers'!$G$16,0,T313))*'Base Numbers'!$C$5*'Base Numbers'!$C$6)","v":16},{"$f":"MAX(0,'Base Numbers'!$C$5*'Base Numbers'!$C$6-U286-(U292+IF('Base Numbers'!$G$16,0,U313))*'Base Numbers'!$C$5*'Base Numbers'!$C$6)","v":16},{"$f":"MAX(0,'Base Numbers'!$C$5*'Base Numbers'!$C$6-V286-(V292+IF('Base Numbers'!$G$16,0,V313))*'Base Numbers'!$C$5*'Base Numbers'!$C$6)","v":16},{"$f":"MAX(0,'Base Numbers'!$C$5*'Base Numbers'!$C$6-W286-(W292+IF('Base Numbers'!$G$16,0,W313))*'Base Numbers'!$C$5*'Base Numbers'!$C$6)","v":16},{"$f":"MAX(0,'Base Numbers'!$C$5*'Base Numbers'!$C$6-X286-(X292+IF('Base Numbers'!$G$16,0,X313))*'Base Numbers'!$C$5*'Base Numbers'!$C$6)","v":16},null,"* shadow blade only excluded if DM doesn't allow BB with shadowblade"]
[{"$nulls":3},"additional sorc points required to quicken every remaining bonus round",{"$f":"MAX(0,E562*2-E561)","v":32},{"$f":"MAX(0,F562*2-F561)","v":32},32,{"$f":"MAX(0,H562*2-H561)","v":32},32,32,32,32,32,32,32,32,32,32,32,32,32,32,32,32]
[{"$nulls":3},"max possible sorc points generatable by spell slot conversion",{"$f":"IF(E13>=2,MIN(E563,E1159),0)","v":0},0,0,0,0,0,0,0,0,0,0,0,0,0,0,0,0,0,0,0]
[{"$nulls":3},"max possible bonus attack percent with Quicken BB",{"$f":"IF(AND(E128>=1,E560), MIN(E562/('Base Numbers'!$C$5*'Base Numbers'!$C$6),(E561+E564)/('Base Numbers'!$C$5*'Base Numbers'!$C$6*2)),0)","v":0},{"$f":"IF(AND(F128>=1,F560), MIN(F562/('Base Numbers'!$C$5*'Base Numbers'!$C$6),(F561+F564)/('Base Numbers'!$C$5*'Base Numbers'!$C$6*2)),0)","v":0},{"$f":"IF(AND(G128>=1,G560), MIN(G562/('Base Numbers'!$C$5*'Base Numbers'!$C$6),(G561+G564)/('Base Numbers'!$C$5*'Base Numbers'!$C$6*2)),0)","v":0},{"$f":"IF(AND(H128>=1,H560), MIN(H562/('Base Numbers'!$C$5*'Base Numbers'!$C$6),(H561+H564)/('Base Numbers'!$C$5*'Base Numbers'!$C$6*2)),0)","v":0},{"$f":"IF(AND(I128>=1,I560), MIN(I562/('Base Numbers'!$C$5*'Base Numbers'!$C$6),(I561+I564)/('Base Numbers'!$C$5*'Base Numbers'!$C$6*2)),0)","v":0},{"$f":"IF(AND(J128>=1,J560), MIN(J562/('Base Numbers'!$C$5*'Base Numbers'!$C$6),(J561+J564)/('Base Numbers'!$C$5*'Base Numbers'!$C$6*2)),0)","v":0},{"$f":"IF(AND(K128>=1,K560), MIN(K562/('Base Numbers'!$C$5*'Base Numbers'!$C$6),(K561+K564)/('Base Numbers'!$C$5*'Base Numbers'!$C$6*2)),0)","v":0},{"$f":"IF(AND(L128>=1,L560), MIN(L562/('Base Numbers'!$C$5*'Base Numbers'!$C$6),(L561+L564)/('Base Numbers'!$C$5*'Base Numbers'!$C$6*2)),0)","v":0},{"$f":"IF(AND(M128>=1,M560), MIN(M562/('Base Numbers'!$C$5*'Base Numbers'!$C$6),(M561+M564)/('Base Numbers'!$C$5*'Base Numbers'!$C$6*2)),0)","v":0},{"$f":"IF(AND(N128>=1,N560), MIN(N562/('Base Numbers'!$C$5*'Base Numbers'!$C$6),(N561+N564)/('Base Numbers'!$C$5*'Base Numbers'!$C$6*2)),0)","v":0},{"$f":"IF(AND(O128>=1,O560), MIN(O562/('Base Numbers'!$C$5*'Base Numbers'!$C$6),(O561+O564)/('Base Numbers'!$C$5*'Base Numbers'!$C$6*2)),0)","v":0},{"$f":"IF(AND(P128>=1,P560), MIN(P562/('Base Numbers'!$C$5*'Base Numbers'!$C$6),(P561+P564)/('Base Numbers'!$C$5*'Base Numbers'!$C$6*2)),0)","v":0},{"$f":"IF(AND(Q128>=1,Q560), MIN(Q562/('Base Numbers'!$C$5*'Base Numbers'!$C$6),(Q561+Q564)/('Base Numbers'!$C$5*'Base Numbers'!$C$6*2)),0)","v":0},{"$f":"IF(AND(R128>=1,R560), MIN(R562/('Base Numbers'!$C$5*'Base Numbers'!$C$6),(R561+R564)/('Base Numbers'!$C$5*'Base Numbers'!$C$6*2)),0)","v":0},{"$f":"IF(AND(S128>=1,S560), MIN(S562/('Base Numbers'!$C$5*'Base Numbers'!$C$6),(S561+S564)/('Base Numbers'!$C$5*'Base Numbers'!$C$6*2)),0)","v":0},{"$f":"IF(AND(T128>=1,T560), MIN(T562/('Base Numbers'!$C$5*'Base Numbers'!$C$6),(T561+T564)/('Base Numbers'!$C$5*'Base Numbers'!$C$6*2)),0)","v":0},{"$f":"IF(AND(U128>=1,U560), MIN(U562/('Base Numbers'!$C$5*'Base Numbers'!$C$6),(U561+U564)/('Base Numbers'!$C$5*'Base Numbers'!$C$6*2)),0)","v":0},{"$f":"IF(AND(V128>=1,V560), MIN(V562/('Base Numbers'!$C$5*'Base Numbers'!$C$6),(V561+V564)/('Base Numbers'!$C$5*'Base Numbers'!$C$6*2)),0)","v":0},{"$f":"IF(AND(W128>=1,W560), MIN(W562/('Base Numbers'!$C$5*'Base Numbers'!$C$6),(W561+W564)/('Base Numbers'!$C$5*'Base Numbers'!$C$6*2)),0)","v":0},{"$f":"IF(AND(X128>=1,X560), MIN(X562/('Base Numbers'!$C$5*'Base Numbers'!$C$6),(X561+X564)/('Base Numbers'!$C$5*'Base Numbers'!$C$6*2)),0)","v":0},null,"* this is a theoretical maximum of all bonus actions"]
[{"$nulls":3},"total damage from bb hit (bonus action, no adv)",{"$f":"IF(AND(E137=0,E128),(E543+E510+E514-IF('Base Numbers'!$G$16,0,E316-E315)),0)","v":0},{"$f":"IF(AND(F137=0,F128),(F543+F510+F514-IF('Base Numbers'!$G$16,0,F316-F315)),0)","v":0},{"$f":"IF(AND(G137=0,G128),(G543+G510+G514-IF('Base Numbers'!$G$16,0,G316-G315)),0)","v":0},{"$f":"IF(AND(H137=0,H128),(H543+H510+H514-IF('Base Numbers'!$G$16,0,H316-H315)),0)","v":0},{"$f":"IF(AND(I137=0,I128),(I543+I510+I514-IF('Base Numbers'!$G$16,0,I316-I315)),0)","v":0},{"$f":"IF(AND(J137=0,J128),(J543+J510+J514-IF('Base Numbers'!$G$16,0,J316-J315)),0)","v":0},{"$f":"IF(AND(K137=0,K128),(K543+K510+K514-IF('Base Numbers'!$G$16,0,K316-K315)),0)","v":0},{"$f":"IF(AND(L137=0,L128),(L543+L510+L514-IF('Base Numbers'!$G$16,0,L316-L315)),0)","v":0},{"$f":"IF(AND(M137=0,M128),(M543+M510+M514-IF('Base Numbers'!$G$16,0,M316-M315)),0)","v":0},{"$f":"IF(AND(N137=0,N128),(N543+N510+N514-IF('Base Numbers'!$G$16,0,N316-N315)),0)","v":0},{"$f":"IF(AND(O137=0,O128),(O543+O510+O514-IF('Base Numbers'!$G$16,0,O316-O315)),0)","v":0},{"$f":"IF(AND(P137=0,P128),(P543+P510+P514-IF('Base Numbers'!$G$16,0,P316-P315)),0)","v":0},{"$f":"IF(AND(Q137=0,Q128),(Q543+Q510+Q514-IF('Base Numbers'!$G$16,0,Q316-Q315)),0)","v":0},{"$f":"IF(AND(R137=0,R128),(R543+R510+R514-IF('Base Numbers'!$G$16,0,R316-R315)),0)","v":0},{"$f":"IF(AND(S137=0,S128),(S543+S510+S514-IF('Base Numbers'!$G$16,0,S316-S315)),0)","v":0},{"$f":"IF(AND(T137=0,T128),(T543+T510+T514-IF('Base Numbers'!$G$16,0,T316-T315)),0)","v":0},{"$f":"IF(AND(U137=0,U128),(U543+U510+U514-IF('Base Numbers'!$G$16,0,U316-U315)),0)","v":0},{"$f":"IF(AND(V137=0,V128),(V543+V510+V514-IF('Base Numbers'!$G$16,0,V316-V315)),0)","v":0},{"$f":"IF(AND(W137=0,W128),(W543+W510+W514-IF('Base Numbers'!$G$16,0,W316-W315)),0)","v":0},{"$f":"IF(AND(X137=0,X128),(X543+X510+X514-IF('Base Numbers'!$G$16,0,X316-X315)),0)","v":0},null,"* this is including a reduction for incompatibility of Shadow blade and BB"]
[{"$nulls":3},"total damage from bb hit (bonus action, with adv)",{"$f":"IF(AND(E137=0,E128),(E543+E510+E513-IF('Base Numbers'!$G$16,0,E316-E315)),0)","v":0},{"$f":"IF(AND(F137=0,F128),(F543+F510+F513-IF('Base Numbers'!$G$16,0,F316-F315)),0)","v":0},{"$f":"IF(AND(G137=0,G128),(G543+G510+G513-IF('Base Numbers'!$G$16,0,G316-G315)),0)","v":0},{"$f":"IF(AND(H137=0,H128),(H543+H510+H513-IF('Base Numbers'!$G$16,0,H316-H315)),0)","v":0},{"$f":"IF(AND(I137=0,I128),(I543+I510+I513-IF('Base Numbers'!$G$16,0,I316-I315)),0)","v":0},{"$f":"IF(AND(J137=0,J128),(J543+J510+J513-IF('Base Numbers'!$G$16,0,J316-J315)),0)","v":0},{"$f":"IF(AND(K137=0,K128),(K543+K510+K513-IF('Base Numbers'!$G$16,0,K316-K315)),0)","v":0},{"$f":"IF(AND(L137=0,L128),(L543+L510+L513-IF('Base Numbers'!$G$16,0,L316-L315)),0)","v":0},{"$f":"IF(AND(M137=0,M128),(M543+M510+M513-IF('Base Numbers'!$G$16,0,M316-M315)),0)","v":0},{"$f":"IF(AND(N137=0,N128),(N543+N510+N513-IF('Base Numbers'!$G$16,0,N316-N315)),0)","v":0},{"$f":"IF(AND(O137=0,O128),(O543+O510+O513-IF('Base Numbers'!$G$16,0,O316-O315)),0)","v":0},{"$f":"IF(AND(P137=0,P128),(P543+P510+P513-IF('Base Numbers'!$G$16,0,P316-P315)),0)","v":0},{"$f":"IF(AND(Q137=0,Q128),(Q543+Q510+Q513-IF('Base Numbers'!$G$16,0,Q316-Q315)),0)","v":0},{"$f":"IF(AND(R137=0,R128),(R543+R510+R513-IF('Base Numbers'!$G$16,0,R316-R315)),0)","v":0},{"$f":"IF(AND(S137=0,S128),(S543+S510+S513-IF('Base Numbers'!$G$16,0,S316-S315)),0)","v":0},{"$f":"IF(AND(T137=0,T128),(T543+T510+T513-IF('Base Numbers'!$G$16,0,T316-T315)),0)","v":0},{"$f":"IF(AND(U137=0,U128),(U543+U510+U513-IF('Base Numbers'!$G$16,0,U316-U315)),0)","v":0},{"$f":"IF(AND(V137=0,V128),(V543+V510+V513-IF('Base Numbers'!$G$16,0,V316-V315)),0)","v":0},{"$f":"IF(AND(W137=0,W128),(W543+W510+W513-IF('Base Numbers'!$G$16,0,W316-W315)),0)","v":0},{"$f":"IF(AND(X137=0,X128),(X543+X510+X513-IF('Base Numbers'!$G$16,0,X316-X315)),0)","v":0},null,"* this is including a reduction for incompatibility of Shadow blade and BB"]
[{"$nulls":3},"avg booming blade dmg per action (incl hit chance)",{"$f":"IF(AND(E137=0,E128),E547*E335*(1-E444)+(E548*E337*E444),0)","v":0},0,0,0,0,0,0,0,0,0,0,0,0,0,0,0,0,0,0,0]
[{"$nulls":3},"avg booming blade dmg per bonus action (incl hit chance)",{"$f":"E336*E566*(1-E447)+E338*E447*E567","v":0},0,0,0,0,0,0,0,0,0,0,0,0,0,0,0,0,0,0,0]
[{"$nulls":3},"avg booming blade bonus crit damage per bonus action",{"$f":"IF(AND(E137=0,E128),((E447*E466)+(1-E447)*E465)*(E545+E510),0)","v":0},0,0,0,0,0,0,0,0,0,0,0,0,0,0,0,0,0,0,0]
[{"$nulls":3},"avg booming blade dmg per bonus action incl crits",{"$f":"IF(AND(E128>=1,E560),E569+E570,0)","v":0},0,0,0,0,0,0,0,0,0,0,0,0,0,0,0,0,0,0,0,null,"* requires Quicken meta magic"]
[]
[]
[{"$nulls":3},"RANGED ATTACKS"]
[{"$nulls":3},"avg main+haste attack ranged attacks per round (no spell adj)",{"$f":"IF(AND(E29=0,E19<2,OR($B$38>=1,$B$40>=1)),1,E322)+E323","v":1},1,1,1,1,1,1,1,1,1,1,1,1,1,1,1,1,1,1,1,null,"Includes \"loading\" property of xbows"]
[{"$nulls":3},"avg ranged attacks per round (main, haste, minus spells)",{"$f":"E575-(E575-E323)*(E287)","v":1},1,1,1,1,1,1,1,1,1,1,1,1,1,1,1,1,1,1,1,null,"smitable ranged attack requires ranged weapon as a hexweapon and warlock L5"]
[{"$nulls":3},"base ranged weapon bonus attacks per round (xbow master, swiftquivver)",{"$f":"IF(AND($B$38>=1,E29>=1),1,0)","v":0},0,0,0,0,0,0,0,0,0,0,0,0,0,0,0,0,0,0,0,null,null,"smiteable weapon can't be a hand crossbow"]
[{"$nulls":3},"avg ranged bonus attacks per round (xbow master, minus spells)",{"$f":"MAX(0,E577-E286/('Base Numbers'!$C$5*'Base Numbers'!$C$6)-E292)","v":0},{"$f":"MAX(0,F577-F286/('Base Numbers'!$C$5*'Base Numbers'!$C$6)-F292)","v":0},{"$f":"MAX(0,G577-G286/('Base Numbers'!$C$5*'Base Numbers'!$C$6)-G292)","v":0},{"$f":"MAX(0,H577-H286/('Base Numbers'!$C$5*'Base Numbers'!$C$6)-H292)","v":0},{"$f":"MAX(0,I577-I286/('Base Numbers'!$C$5*'Base Numbers'!$C$6)-I292)","v":0},{"$f":"MAX(0,J577-J286/('Base Numbers'!$C$5*'Base Numbers'!$C$6)-J292)","v":0},{"$f":"MAX(0,K577-K286/('Base Numbers'!$C$5*'Base Numbers'!$C$6)-K292)","v":0},{"$f":"MAX(0,L577-L286/('Base Numbers'!$C$5*'Base Numbers'!$C$6)-L292)","v":0},{"$f":"MAX(0,M577-M286/('Base Numbers'!$C$5*'Base Numbers'!$C$6)-M292)","v":0},{"$f":"MAX(0,N577-N286/('Base Numbers'!$C$5*'Base Numbers'!$C$6)-N292)","v":0},{"$f":"MAX(0,O577-O286/('Base Numbers'!$C$5*'Base Numbers'!$C$6)-O292)","v":0},{"$f":"MAX(0,P577-P286/('Base Numbers'!$C$5*'Base Numbers'!$C$6)-P292)","v":0},{"$f":"MAX(0,Q577-Q286/('Base Numbers'!$C$5*'Base Numbers'!$C$6)-Q292)","v":0},{"$f":"MAX(0,R577-R286/('Base Numbers'!$C$5*'Base Numbers'!$C$6)-R292)","v":0},{"$f":"MAX(0,S577-S286/('Base Numbers'!$C$5*'Base Numbers'!$C$6)-S292)","v":0},{"$f":"MAX(0,T577-T286/('Base Numbers'!$C$5*'Base Numbers'!$C$6)-T292)","v":0},{"$f":"MAX(0,U577-U286/('Base Numbers'!$C$5*'Base Numbers'!$C$6)-U292)","v":0},{"$f":"MAX(0,V577-V286/('Base Numbers'!$C$5*'Base Numbers'!$C$6)-V292)","v":0},{"$f":"MAX(0,W577-W286/('Base Numbers'!$C$5*'Base Numbers'!$C$6)-W292)","v":0},{"$f":"MAX(0,X577-X286/('Base Numbers'!$C$5*'Base Numbers'!$C$6)-X292)","v":0},null,null,"requires L3 warlock, Pact of the Blade, and Improved Pact Weapon Invocation"]
[{"$nulls":3},"avg ranged adv first attack",{"$f":"MIN(1,E402+E403+E406+E410+E412+E414+E417+E416+E415+E408+E400+E404+E411)","v":0},0,0,0,0,0,0,0,0,0,0,0,0,0,0,0,0,0,0,0,null,null,"smiting requires L5 warlock and Pact of the Blade"]
[{"$nulls":3},"avg ranged adv subsequent attacks",{"$f":"MIN(1,E406+E410+E412+E414+E417+E416+E415+E408+E400+E404+E411)","v":0},0,0,0,0,0,0,0,0,0,0,0,0,0,0,0,0,0,0,0]
[{"$nulls":3},"avg ranged adv main attack action attacks (incl haste)",{"$f":"(E579+(E575-1)*E580)/(E575)","v":0},{"$f":"(F579+(F575-1)*F580)/(F575)","v":0},0,0,0,0,0,0,0,0,0,0,0,0,0,0,0,0,0,0]
[{"$nulls":3},"avg ranged adv percent on bonus attacks",{"$f":"MIN(1,E414+E419+E423+E425+E427+E415+E421+E400+E404+E424)","v":0},0,0,0,0,0,0,0,0,0,0,0,0,0,0,0,0,0,0,0]
[{"$nulls":3},"avg ranged adv percent across all attacks",{"$f":"(E579+(E575-1)*E580+E578*E582)/(E575+E578)","v":0},{"$f":"(F579+(F575-1)*F580+F578*F582)/(F575+F578)","v":0},0,0,0,0,0,0,0,0,0,0,0,0,0,0,0,0,0,0]
[{"$nulls":3},"fighting style bonus hit chance (Archery Style)",{"$f":"IF(AND($B$56>=1,E6>=$B$56),2,0)","v":0},0,0,0,0,0,0,0,0,0,0,0,0,0,0,0,0,0,0,0]
[{"$nulls":3},"hit bonus (SS, weapon, bless)",{"$f":"IF(E28>=1,-5,0)+E584+E306*E228*2.5/('Base Numbers'!$C$5*'Base Numbers'!$C$6)+'Base Numbers'!$G$6","v":0},{"$f":"IF(F28>=1,-5,0)+F584+F306*F228*2.5/('Base Numbers'!$C$5*'Base Numbers'!$C$6)+'Base Numbers'!$G$6","v":0},{"$f":"IF(G28>=1,-5,0)+G584+G306*G228*2.5/('Base Numbers'!$C$5*'Base Numbers'!$C$6)+'Base Numbers'!$G$6","v":0},{"$f":"IF(H28>=1,-5,0)+H584+H306*H228*2.5/('Base Numbers'!$C$5*'Base Numbers'!$C$6)+'Base Numbers'!$G$6","v":0},{"$f":"IF(I28>=1,-5,0)+I584+I306*I228*2.5/('Base Numbers'!$C$5*'Base Numbers'!$C$6)+'Base Numbers'!$G$6","v":0},{"$f":"IF(J28>=1,-5,0)+J584+J306*J228*2.5/('Base Numbers'!$C$5*'Base Numbers'!$C$6)+'Base Numbers'!$G$6","v":0},{"$f":"IF(K28>=1,-5,0)+K584+K306*K228*2.5/('Base Numbers'!$C$5*'Base Numbers'!$C$6)+'Base Numbers'!$G$6","v":0},{"$f":"IF(L28>=1,-5,0)+L584+L306*L228*2.5/('Base Numbers'!$C$5*'Base Numbers'!$C$6)+'Base Numbers'!$G$6","v":0},{"$f":"IF(M28>=1,-5,0)+M584+M306*M228*2.5/('Base Numbers'!$C$5*'Base Numbers'!$C$6)+'Base Numbers'!$G$6","v":0},{"$f":"IF(N28>=1,-5,0)+N584+N306*N228*2.5/('Base Numbers'!$C$5*'Base Numbers'!$C$6)+'Base Numbers'!$G$6","v":0},{"$f":"IF(O28>=1,-5,0)+O584+O306*O228*2.5/('Base Numbers'!$C$5*'Base Numbers'!$C$6)+'Base Numbers'!$G$6","v":0},{"$f":"IF(P28>=1,-5,0)+P584+P306*P228*2.5/('Base Numbers'!$C$5*'Base Numbers'!$C$6)+'Base Numbers'!$G$6","v":0},{"$f":"IF(Q28>=1,-5,0)+Q584+Q306*Q228*2.5/('Base Numbers'!$C$5*'Base Numbers'!$C$6)+'Base Numbers'!$G$6","v":0},{"$f":"IF(R28>=1,-5,0)+R584+R306*R228*2.5/('Base Numbers'!$C$5*'Base Numbers'!$C$6)+'Base Numbers'!$G$6","v":0},{"$f":"IF(S28>=1,-5,0)+S584+S306*S228*2.5/('Base Numbers'!$C$5*'Base Numbers'!$C$6)+'Base Numbers'!$G$6","v":0},{"$f":"IF(T28>=1,-5,0)+T584+T306*T228*2.5/('Base Numbers'!$C$5*'Base Numbers'!$C$6)+'Base Numbers'!$G$6","v":0},{"$f":"IF(U28>=1,-5,0)+U584+U306*U228*2.5/('Base Numbers'!$C$5*'Base Numbers'!$C$6)+'Base Numbers'!$G$6","v":0},{"$f":"IF(V28>=1,-5,0)+V584+V306*V228*2.5/('Base Numbers'!$C$5*'Base Numbers'!$C$6)+'Base Numbers'!$G$6","v":0},{"$f":"IF(W28>=1,-5,0)+W584+W306*W228*2.5/('Base Numbers'!$C$5*'Base Numbers'!$C$6)+'Base Numbers'!$G$6","v":0},{"$f":"IF(X28>=1,-5,0)+X584+X306*X228*2.5/('Base Numbers'!$C$5*'Base Numbers'!$C$6)+'Base Numbers'!$G$6","v":0}]
[{"$nulls":3},"hit bonus (SS, weapon, bless) on Bonus attacks",{"$f":"IF(E28>=1,-5,0)+E584+(1+E306)*E228*2.5/('Base Numbers'!$C$5*'Base Numbers'!$C$6)+'Base Numbers'!$G$6","v":0},{"$f":"IF(F28>=1,-5,0)+F584+(1+F306)*F228*2.5/('Base Numbers'!$C$5*'Base Numbers'!$C$6)+'Base Numbers'!$G$6","v":0},{"$f":"IF(G28>=1,-5,0)+G584+(1+G306)*G228*2.5/('Base Numbers'!$C$5*'Base Numbers'!$C$6)+'Base Numbers'!$G$6","v":0},{"$f":"IF(H28>=1,-5,0)+H584+(1+H306)*H228*2.5/('Base Numbers'!$C$5*'Base Numbers'!$C$6)+'Base Numbers'!$G$6","v":0},{"$f":"IF(I28>=1,-5,0)+I584+(1+I306)*I228*2.5/('Base Numbers'!$C$5*'Base Numbers'!$C$6)+'Base Numbers'!$G$6","v":0},{"$f":"IF(J28>=1,-5,0)+J584+(1+J306)*J228*2.5/('Base Numbers'!$C$5*'Base Numbers'!$C$6)+'Base Numbers'!$G$6","v":0},{"$f":"IF(K28>=1,-5,0)+K584+(1+K306)*K228*2.5/('Base Numbers'!$C$5*'Base Numbers'!$C$6)+'Base Numbers'!$G$6","v":0},{"$f":"IF(L28>=1,-5,0)+L584+(1+L306)*L228*2.5/('Base Numbers'!$C$5*'Base Numbers'!$C$6)+'Base Numbers'!$G$6","v":0},{"$f":"IF(M28>=1,-5,0)+M584+(1+M306)*M228*2.5/('Base Numbers'!$C$5*'Base Numbers'!$C$6)+'Base Numbers'!$G$6","v":0},{"$f":"IF(N28>=1,-5,0)+N584+(1+N306)*N228*2.5/('Base Numbers'!$C$5*'Base Numbers'!$C$6)+'Base Numbers'!$G$6","v":0},{"$f":"IF(O28>=1,-5,0)+O584+(1+O306)*O228*2.5/('Base Numbers'!$C$5*'Base Numbers'!$C$6)+'Base Numbers'!$G$6","v":0},{"$f":"IF(P28>=1,-5,0)+P584+(1+P306)*P228*2.5/('Base Numbers'!$C$5*'Base Numbers'!$C$6)+'Base Numbers'!$G$6","v":0},{"$f":"IF(Q28>=1,-5,0)+Q584+(1+Q306)*Q228*2.5/('Base Numbers'!$C$5*'Base Numbers'!$C$6)+'Base Numbers'!$G$6","v":0},{"$f":"IF(R28>=1,-5,0)+R584+(1+R306)*R228*2.5/('Base Numbers'!$C$5*'Base Numbers'!$C$6)+'Base Numbers'!$G$6","v":0},{"$f":"IF(S28>=1,-5,0)+S584+(1+S306)*S228*2.5/('Base Numbers'!$C$5*'Base Numbers'!$C$6)+'Base Numbers'!$G$6","v":0},{"$f":"IF(T28>=1,-5,0)+T584+(1+T306)*T228*2.5/('Base Numbers'!$C$5*'Base Numbers'!$C$6)+'Base Numbers'!$G$6","v":0},{"$f":"IF(U28>=1,-5,0)+U584+(1+U306)*U228*2.5/('Base Numbers'!$C$5*'Base Numbers'!$C$6)+'Base Numbers'!$G$6","v":0},{"$f":"IF(V28>=1,-5,0)+V584+(1+V306)*V228*2.5/('Base Numbers'!$C$5*'Base Numbers'!$C$6)+'Base Numbers'!$G$6","v":0},{"$f":"IF(W28>=1,-5,0)+W584+(1+W306)*W228*2.5/('Base Numbers'!$C$5*'Base Numbers'!$C$6)+'Base Numbers'!$G$6","v":0},{"$f":"IF(X28>=1,-5,0)+X584+(1+X306)*X228*2.5/('Base Numbers'!$C$5*'Base Numbers'!$C$6)+'Base Numbers'!$G$6","v":0}]
[{"$nulls":3},"one die hit chance",{"$f":"(1+IF($B$52,0.05,0))*(1-(E129-1-E31-E35-E585)/20)","v":0.65},0.65,0.6,0.6,0.65,0.6,0.6,0.6,0.6,0.6,0.6,0.55,0.6,0.6,0.55,0.55,0.6,0.55,0.55,0.55]
[{"$nulls":3},"one die hit chance on bonus attacks",{"$f":"(1+IF($B$52,0.05,0))*(1-(E129-1-E31-E35-E586)/20)","v":0.65},0.65,0.6,0.6,0.65,0.6,0.6,0.6,0.6,0.6,0.6,0.55,0.6,0.6,0.55,0.55,0.6,0.55,0.55,0.55]
[{"$nulls":3},"hit chance w adv",{"$f":"1-(1-E587)^E441","v":0.8775000000000001},0.8775000000000001,0.84,0.84,0.8775000000000001,0.84,0.84,0.84,0.84,0.84,0.84,0.7975000000000001,0.84,0.84,0.7975000000000001,0.7975000000000001,0.84,0.7975000000000001,0.7975000000000001,0.7975000000000001]
[{"$nulls":3},"hit chance w adv on bonus attacks",{"$f":"1-(1-E588)^E441","v":0.8775000000000001},0.8775000000000001,0.84,0.84,0.8775000000000001,0.84,0.84,0.84,0.84,0.84,0.84,0.7975000000000001,0.84,0.84,0.7975000000000001,0.7975000000000001,0.84,0.7975000000000001,0.7975000000000001,0.7975000000000001]
[{"$nulls":3},"avg ranged hit chance",{"$f":"E583*E589+(1-E583)*E587","v":0.65},0.65,0.6,0.6,0.65,0.6,0.6,0.6,0.6,0.6,0.6,0.55,0.6,0.6,0.55,0.55,0.6,0.55,0.55,0.55]
[{"$nulls":3},"avg ranged hit chance on bonus attacks",{"$f":"E582*E590+(1-E582)*E588","v":0.65},0.65,0.6,0.6,0.65,0.6,0.6,0.6,0.6,0.6,0.6,0.55,0.6,0.6,0.55,0.55,0.6,0.55,0.55,0.55]
[{"$nulls":3},"base ranged weapon damage (long bow vs. hand xbow vs. heavy xbow)",{"$f":"IF($B$38>=1,3.5,0)+IF($B$39>=1,4.5,0)+IF($B$40>=1,5.5,0)+IF(AND($B$38=0,$B$39=0,$B$40=0),3.5,0)","v":3.5},{"$f":"IF($B$38>=1,3.5,0)+IF($B$39>=1,4.5,0)+IF($B$40>=1,5.5,0)+IF(AND($B$38=0,$B$39=0,$B$40=0),3.5,0)","v":3.5},3.5,3.5,3.5,3.5,3.5,3.5,3.5,3.5,3.5,3.5,3.5,3.5,3.5,3.5,3.5,3.5,3.5,3.5]
[{"$nulls":3},"ranged damage dice",{"$f":"E491+E489+E487+E593+E501+'Base Numbers'!$G$8","v":3.5},{"$f":"F491+F489+F487+F593+F501+'Base Numbers'!$G$8","v":3.5},{"$f":"G491+G489+G487+G593+G501+'Base Numbers'!$G$8","v":3.5},{"$f":"H491+H489+H487+H593+H501+'Base Numbers'!$G$8","v":3.5},{"$f":"I491+I489+I487+I593+I501+'Base Numbers'!$G$8","v":3.5},{"$f":"J491+J489+J487+J593+J501+'Base Numbers'!$G$8","v":3.5},{"$f":"K491+K489+K487+K593+K501+'Base Numbers'!$G$8","v":3.5},{"$f":"L491+L489+L487+L593+L501+'Base Numbers'!$G$8","v":3.5},{"$f":"M491+M489+M487+M593+M501+'Base Numbers'!$G$8","v":3.5},{"$f":"N491+N489+N487+N593+N501+'Base Numbers'!$G$8","v":3.5},{"$f":"O491+O489+O487+O593+O501+'Base Numbers'!$G$8","v":3.5},{"$f":"P491+P489+P487+P593+P501+'Base Numbers'!$G$8","v":3.5},{"$f":"Q491+Q489+Q487+Q593+Q501+'Base Numbers'!$G$8","v":3.5},{"$f":"R491+R489+R487+R593+R501+'Base Numbers'!$G$8","v":3.5},{"$f":"S491+S489+S487+S593+S501+'Base Numbers'!$G$8","v":3.5},{"$f":"T491+T489+T487+T593+T501+'Base Numbers'!$G$8","v":3.5},{"$f":"U491+U489+U487+U593+U501+'Base Numbers'!$G$8","v":3.5},{"$f":"V491+V489+V487+V593+V501+'Base Numbers'!$G$8","v":3.5},{"$f":"W491+W489+W487+W593+W501+'Base Numbers'!$G$8","v":3.5},{"$f":"X491+X489+X487+X593+X501+'Base Numbers'!$G$8","v":3.5}]
[{"$nulls":3},"ranged damage dice on bonus attacks",{"$f":"E492+E490+E488+E483+E593+E502+'Base Numbers'!$G$8","v":3.5},{"$f":"F492+F490+F488+F483+F593+F502+'Base Numbers'!$G$8","v":3.5},{"$f":"G492+G490+G488+G483+G593+G502+'Base Numbers'!$G$8","v":3.5},{"$f":"H492+H490+H488+H483+H593+H502+'Base Numbers'!$G$8","v":3.5},{"$f":"I492+I490+I488+I483+I593+I502+'Base Numbers'!$G$8","v":3.5},{"$f":"J492+J490+J488+J483+J593+J502+'Base Numbers'!$G$8","v":3.5},{"$f":"K492+K490+K488+K483+K593+K502+'Base Numbers'!$G$8","v":3.5},{"$f":"L492+L490+L488+L483+L593+L502+'Base Numbers'!$G$8","v":3.5},{"$f":"M492+M490+M488+M483+M593+M502+'Base Numbers'!$G$8","v":3.5},{"$f":"N492+N490+N488+N483+N593+N502+'Base Numbers'!$G$8","v":3.5},{"$f":"O492+O490+O488+O483+O593+O502+'Base Numbers'!$G$8","v":3.5},{"$f":"P492+P490+P488+P483+P593+P502+'Base Numbers'!$G$8","v":3.5},{"$f":"Q492+Q490+Q488+Q483+Q593+Q502+'Base Numbers'!$G$8","v":3.5},{"$f":"R492+R490+R488+R483+R593+R502+'Base Numbers'!$G$8","v":3.5},{"$f":"S492+S490+S488+S483+S593+S502+'Base Numbers'!$G$8","v":3.5},{"$f":"T492+T490+T488+T483+T593+T502+'Base Numbers'!$G$8","v":3.5},{"$f":"U492+U490+U488+U483+U593+U502+'Base Numbers'!$G$8","v":3.5},{"$f":"V492+V490+V488+V483+V593+V502+'Base Numbers'!$G$8","v":3.5},{"$f":"W492+W490+W488+W483+W593+W502+'Base Numbers'!$G$8","v":3.5},{"$f":"X492+X490+X488+X483+X593+X502+'Base Numbers'!$G$8","v":3.5}]
[{"$nulls":3},"ranged static damage buffs",{"$f":"IF(E28>=1,10,0)+E484+E135+'Base Numbers'!$G$6+IF(AND(E12>=12,E49>=1),E32)","v":3},{"$f":"IF(F28>=1,10,0)+F484+F135+'Base Numbers'!$G$6+IF(AND(F12>=12,F49>=1),F32)","v":3},{"$f":"IF(G28>=1,10,0)+G484+G135+'Base Numbers'!$G$6+IF(AND(G12>=12,G49>=1),G32)","v":3},{"$f":"IF(H28>=1,10,0)+H484+H135+'Base Numbers'!$G$6+IF(AND(H12>=12,H49>=1),H32)","v":3},{"$f":"IF(I28>=1,10,0)+I484+I135+'Base Numbers'!$G$6+IF(AND(I12>=12,I49>=1),I32)","v":3},{"$f":"IF(J28>=1,10,0)+J484+J135+'Base Numbers'!$G$6+IF(AND(J12>=12,J49>=1),J32)","v":3},{"$f":"IF(K28>=1,10,0)+K484+K135+'Base Numbers'!$G$6+IF(AND(K12>=12,K49>=1),K32)","v":3},{"$f":"IF(L28>=1,10,0)+L484+L135+'Base Numbers'!$G$6+IF(AND(L12>=12,L49>=1),L32)","v":3},{"$f":"IF(M28>=1,10,0)+M484+M135+'Base Numbers'!$G$6+IF(AND(M12>=12,M49>=1),M32)","v":3},{"$f":"IF(N28>=1,10,0)+N484+N135+'Base Numbers'!$G$6+IF(AND(N12>=12,N49>=1),N32)","v":3},{"$f":"IF(O28>=1,10,0)+O484+O135+'Base Numbers'!$G$6+IF(AND(O12>=12,O49>=1),O32)","v":3},{"$f":"IF(P28>=1,10,0)+P484+P135+'Base Numbers'!$G$6+IF(AND(P12>=12,P49>=1),P32)","v":3},{"$f":"IF(Q28>=1,10,0)+Q484+Q135+'Base Numbers'!$G$6+IF(AND(Q12>=12,Q49>=1),Q32)","v":3},{"$f":"IF(R28>=1,10,0)+R484+R135+'Base Numbers'!$G$6+IF(AND(R12>=12,R49>=1),R32)","v":3},{"$f":"IF(S28>=1,10,0)+S484+S135+'Base Numbers'!$G$6+IF(AND(S12>=12,S49>=1),S32)","v":3},{"$f":"IF(T28>=1,10,0)+T484+T135+'Base Numbers'!$G$6+IF(AND(T12>=12,T49>=1),T32)","v":3},{"$f":"IF(U28>=1,10,0)+U484+U135+'Base Numbers'!$G$6+IF(AND(U12>=12,U49>=1),U32)","v":3},{"$f":"IF(V28>=1,10,0)+V484+V135+'Base Numbers'!$G$6+IF(AND(V12>=12,V49>=1),V32)","v":3},{"$f":"IF(W28>=1,10,0)+W484+W135+'Base Numbers'!$G$6+IF(AND(W12>=12,W49>=1),W32)","v":3},{"$f":"IF(X28>=1,10,0)+X484+X135+'Base Numbers'!$G$6+IF(AND(X12>=12,X49>=1),X32)","v":3}]
[{"$nulls":3},"ranged static damage buffs on bonus attacks",{"$f":"IF(E28>=1,10,0)+E485+E135+'Base Numbers'!$G$6+IF(AND(E12>=12,E49>=1),E32)","v":3},{"$f":"IF(F28>=1,10,0)+F485+F135+'Base Numbers'!$G$6+IF(AND(F12>=12,F49>=1),F32)","v":3},{"$f":"IF(G28>=1,10,0)+G485+G135+'Base Numbers'!$G$6+IF(AND(G12>=12,G49>=1),G32)","v":3},{"$f":"IF(H28>=1,10,0)+H485+H135+'Base Numbers'!$G$6+IF(AND(H12>=12,H49>=1),H32)","v":3},{"$f":"IF(I28>=1,10,0)+I485+I135+'Base Numbers'!$G$6+IF(AND(I12>=12,I49>=1),I32)","v":3},{"$f":"IF(J28>=1,10,0)+J485+J135+'Base Numbers'!$G$6+IF(AND(J12>=12,J49>=1),J32)","v":3},{"$f":"IF(K28>=1,10,0)+K485+K135+'Base Numbers'!$G$6+IF(AND(K12>=12,K49>=1),K32)","v":3},{"$f":"IF(L28>=1,10,0)+L485+L135+'Base Numbers'!$G$6+IF(AND(L12>=12,L49>=1),L32)","v":3},{"$f":"IF(M28>=1,10,0)+M485+M135+'Base Numbers'!$G$6+IF(AND(M12>=12,M49>=1),M32)","v":3},{"$f":"IF(N28>=1,10,0)+N485+N135+'Base Numbers'!$G$6+IF(AND(N12>=12,N49>=1),N32)","v":3},{"$f":"IF(O28>=1,10,0)+O485+O135+'Base Numbers'!$G$6+IF(AND(O12>=12,O49>=1),O32)","v":3},{"$f":"IF(P28>=1,10,0)+P485+P135+'Base Numbers'!$G$6+IF(AND(P12>=12,P49>=1),P32)","v":3},{"$f":"IF(Q28>=1,10,0)+Q485+Q135+'Base Numbers'!$G$6+IF(AND(Q12>=12,Q49>=1),Q32)","v":3},{"$f":"IF(R28>=1,10,0)+R485+R135+'Base Numbers'!$G$6+IF(AND(R12>=12,R49>=1),R32)","v":3},{"$f":"IF(S28>=1,10,0)+S485+S135+'Base Numbers'!$G$6+IF(AND(S12>=12,S49>=1),S32)","v":3},{"$f":"IF(T28>=1,10,0)+T485+T135+'Base Numbers'!$G$6+IF(AND(T12>=12,T49>=1),T32)","v":3},{"$f":"IF(U28>=1,10,0)+U485+U135+'Base Numbers'!$G$6+IF(AND(U12>=12,U49>=1),U32)","v":3},{"$f":"IF(V28>=1,10,0)+V485+V135+'Base Numbers'!$G$6+IF(AND(V12>=12,V49>=1),V32)","v":3},{"$f":"IF(W28>=1,10,0)+W485+W135+'Base Numbers'!$G$6+IF(AND(W12>=12,W49>=1),W32)","v":3},{"$f":"IF(X28>=1,10,0)+X485+X135+'Base Numbers'!$G$6+IF(AND(X12>=12,X49>=1),X32)","v":3}]
[{"$nulls":3},"avg crit rate with ranged weapons",{"$f":"E465","v":0.05},0.05,0.05,0.05,0.05,0.05,0.05,0.05,0.05,0.05,0.05,0.05,0.05,0.05,0.05,0.05,0.05,0.05,0.05,0.05]
[{"$nulls":3},"avg crit rate with advantage",{"$f":"1-(1-E598)^E441","v":0.09750000000000003},0.09750000000000003,0.09750000000000003,0.09750000000000003,0.09750000000000003,0.09750000000000003,0.09750000000000003,0.09750000000000003,0.09750000000000003,0.09750000000000003,0.09750000000000003,0.09750000000000003,0.09750000000000003,0.09750000000000003,0.09750000000000003,0.09750000000000003,0.09750000000000003,0.09750000000000003,0.09750000000000003,0.09750000000000003]
[{"$nulls":3},"Piercer Feat additional crit die, Ranged (piercing weapons only)",{"$f":"IF(AND($B$27>=1,E6>=$B$27),E593,0)","v":0},0,0,0,0,0,0,0,0,0,0,0,0,0,0,0,0,0,0,0]
[{"$nulls":3},"avg crit bonus damage",{"$f":"(E583*E599+(1-E583)*E598)*(E594+E600)","v":0.17500000000000002},{"$f":"(F583*F599+(1-F583)*F598)*(F594+F600)","v":0.17500000000000002},0.17500000000000002,0.17500000000000002,0.17500000000000002,0.17500000000000002,0.17500000000000002,0.17500000000000002,0.17500000000000002,0.17500000000000002,{"$f":"(O583*O599+(1-O583)*O598)*(O594+O600)","v":0.17500000000000002},0.17500000000000002,0.17500000000000002,0.17500000000000002,0.17500000000000002,0.17500000000000002,0.17500000000000002,0.17500000000000002,0.17500000000000002,0.17500000000000002]
[{"$nulls":3},"avg crit bonus damage on bonus attacks",{"$f":"E578*(E582*E599+(1-E582)*E598)*(E595+E600)","v":0},{"$f":"F578*(F582*F599+(1-F582)*F598)*(F595+F600)","v":0},0,0,0,0,0,0,0,0,{"$f":"O578*(O582*O599+(1-O582)*O598)*(O595+O600)","v":0},0,0,0,0,0,0,0,0,0]
[{"$nulls":3},"total hasted attack damage ",{"$f":"(E606+E601)*E323","v":0},0,0,0,0,0,0,0,0,0,0,0,0,0,0,0,0,0,0,0]
[{"$nulls":3},"avg auto crit main attack damage (main + haste)",{"$f":"E575*E589*(2*E594+E596+E600)","v":8.775},{"$f":"F575*F589*(2*F594+F596+F600)","v":8.775},8.4,8.4,8.775,8.4,8.4,8.4,8.4,8.4,8.4,7.975000000000001,8.4,8.4,7.975000000000001,7.975000000000001,8.4,7.975000000000001,7.975000000000001,7.975000000000001]
[{"$nulls":3},"avg auto crit bonus attack damage",{"$f":"IF(E578>0,1,0)*E590*(2*E595+E597+E600)","v":0},{"$f":"IF(F578>0,1,0)*F590*(2*F595+F597+F600)","v":0},0,0,0,0,0,0,0,0,0,0,0,0,0,0,0,0,0,0]
[{"$nulls":3},"avg main attack single attack damage (incl hit chance)",{"$f":"(1-E583)*E587*(E594+E596)+E583*E589*(E594+E596)","v":4.2250000000000005},{"$f":"(1-F583)*F587*(F594+F596)+F583*F589*(F594+F596)","v":4.2250000000000005},{"$f":"(1-G583)*G587*(G594+G596)+G583*G589*(G594+G596)","v":3.9},3.9,4.2250000000000005,3.9,3.9,3.9,3.9,{"$f":"(1-N583)*N587*(N594+N596)+N583*N589*(N594+N596)","v":3.9},3.9,3.575,3.9,3.9,3.575,3.575,3.9,3.575,3.575,3.575]
[{"$nulls":3},"total main attack damage per round (inc hit chance)",{"$f":"(E606+E601)*E575","v":4.4},{"$f":"(F606+F601)*F575","v":4.4},4.075,4.075,4.4,4.075,4.075,4.075,4.075,{"$f":"(N606+N601)*N575","v":4.075},{"$f":"(O606+O601)*O575","v":4.075},3.75,4.075,4.075,3.75,3.75,4.075,3.75,3.75,3.75]
[{"$nulls":3},"single bonus attack damage (not adjusted for spells, # of attacks)",{"$f":"(1-E582)*E588*(E595+E597)+E582*E590*(E595+E597)","v":4.2250000000000005},{"$f":"(1-F582)*F588*(F595+F597)+F582*F590*(F595+F597)","v":4.2250000000000005},3.9,3.9,4.2250000000000005,3.9,3.9,3.9,3.9,3.9,3.9,3.575,3.9,3.9,3.575,3.575,3.9,3.575,3.575,3.575]
[{"$nulls":3},"single bonus attack bonus crit damage (not adjusted for spells, # of atts)",{"$f":"(E582*E599+(1-E582)*E598)*E595","v":0.17500000000000002},{"$f":"(F582*F599+(1-F582)*F598)*F595","v":0.17500000000000002},0.17500000000000002,0.17500000000000002,0.17500000000000002,0.17500000000000002,0.17500000000000002,0.17500000000000002,0.17500000000000002,0.17500000000000002,0.17500000000000002,0.17500000000000002,0.17500000000000002,0.17500000000000002,0.17500000000000002,0.17500000000000002,0.17500000000000002,0.17500000000000002,0.17500000000000002,0.17500000000000002]
[{"$nulls":3},"avg bonus attack damage (inc hit chance)",{"$f":"((1-E582)*E588*(E595+E597)+E582*E590*(E595+E597))*E578","v":0},0,0,0,0,0,0,0,0,0,0,0,0,0,0,0,0,0,0,0]
[{"$nulls":3},"total bonus attack damage per round (inc hit chance, spells)",{"$f":"(E610+E602)","v":0},{"$f":"(F610+F602)","v":0},0,0,0,0,0,0,0,0,0,0,0,0,0,0,0,0,0,0]
[]
[]
[{"$nulls":3},"ELDRITCH BLAST  (no smites allowed, disadv w/prone)",1,2,3,4,5,6,7,8,9,10,11,12,13,14,15,16,17,18,19,20]
[{"$nulls":3},"has Eldritch Blast ",{"$f":"IF(OR(AND($B$24>=1,E6>=$B$24),E12>=1),1,0)","v":0},0,0,0,0,0,0,0,0,0,0,0,0,0,0,0,0,0,0,0]
[{"$nulls":3},"Eldritch blast dice damage buffs (hex/hunter's mark)",{"$f":"IF(E615,E519+IF(E945,4.5,0)/E620,0)","v":0},0,0,0,0,0,0,0,0,0,0,0,0,0,0,0,0,0,0,0]
[{"$nulls":3},"Eldritch blast static damage buffs (CHA, hexblade curse)",{"$f":"E521+IF(E12>=2,E32,0)","v":0},{"$f":"F521+IF(F12>=2,F32,0)","v":0},0,0,0,0,0,0,0,0,0,0,0,0,0,0,0,0,0,0]
[{"$nulls":3},"Eldritch blast dice damage buffs (hex/hunter's mark) for Bonus attacks",{"$f":"IF(E615,E520+IF(E945,4.5,0)/E620,0)","v":0},0,0,0,0,0,0,0,0,0,0,0,0,0,0,0,0,0,0,0]
[{"$nulls":3},"Eldritch blast static damage buffs (CHA, hexblade curse) for Bonus atts",{"$f":"E522+IF(E12>=2,E32,0)","v":0},{"$f":"F522+IF(F12>=2,F32,0)","v":0},0,0,0,0,0,0,0,0,0,0,0,0,0,0,0,0,0,0]
[{"$nulls":3},"number of Eldritch blast bolts",{"$f":"IF(E615,(1+'Caster Tables'!C$8),0)","v":0},{"$f":"IF(F615,(1+'Caster Tables'!D$8),0)","v":0},{"$f":"IF(G615,(1+'Caster Tables'!E$8),0)","v":0},{"$f":"IF(H615,(1+'Caster Tables'!F$8),0)","v":0},{"$f":"IF(I615,(1+'Caster Tables'!G$8),0)","v":0},{"$f":"IF(J615,(1+'Caster Tables'!H$8),0)","v":0},{"$f":"IF(K615,(1+'Caster Tables'!I$8),0)","v":0},{"$f":"IF(L615,(1+'Caster Tables'!J$8),0)","v":0},{"$f":"IF(M615,(1+'Caster Tables'!K$8),0)","v":0},{"$f":"IF(N615,(1+'Caster Tables'!L$8),0)","v":0},{"$f":"IF(O615,(1+'Caster Tables'!M$8),0)","v":0},{"$f":"IF(P615,(1+'Caster Tables'!N$8),0)","v":0},{"$f":"IF(Q615,(1+'Caster Tables'!O$8),0)","v":0},{"$f":"IF(R615,(1+'Caster Tables'!P$8),0)","v":0},{"$f":"IF(S615,(1+'Caster Tables'!Q$8),0)","v":0},{"$f":"IF(T615,(1+'Caster Tables'!R$8),0)","v":0},{"$f":"IF(U615,(1+'Caster Tables'!S$8),0)","v":0},{"$f":"IF(V615,(1+'Caster Tables'!T$8),0)","v":0},{"$f":"IF(W615,(1+'Caster Tables'!U$8),0)","v":0},{"$f":"IF(X615,(1+'Caster Tables'!V$8),0)","v":0}]
[{"$nulls":3},"avg EB damage (not including hits)",{"$f":"IF(E615,E620*(5.5+E617+E616),0)","v":0},{"$f":"IF(F615,F620*(5.5+F617+F616),0)","v":0},0,0,0,0,0,0,0,0,0,0,0,0,0,0,0,0,0,0]
[{"$nulls":3},"avg EB damage (not including hits) on Bonus attacks",{"$f":"IF(E615,E620*(5.5+E619+E618),0)","v":0},{"$f":"IF(F615,F620*(5.5+F619+F618),0)","v":0},0,0,0,0,0,0,0,0,0,0,0,0,0,0,0,0,0,0,null,"Includes FF adv, only on first attack"]
[{"$nulls":3},"avg advantage with EB ranged",{"$f":"IF(E615,(E451+(E452-E399)*(E620-1))/E620,0)","v":0},0,0,0,0,0,0,0,0,0,0,0,0,0,0,0,0,0,0,0,null,"* ranged adv calcs remove prone adv chance"]
[{"$nulls":3},"avg advantage with EB ranged on Bonus attacks",{"$f":"E453-E399","v":0},0,0,0,0,0,0,0,0,0,0,0,0,0,0,0,0,0,0,0,null,"* ranged adv calcs remove prone adv chance"]
[{"$nulls":3},"avg advantage with EB  melee range",{"$f":"IF(E620>0,IF(E29,(E451+E452*(E620-1))/E620,0),0)","v":0},0,0,0,0,0,0,0,0,0,0,0,0,0,0,0,0,0,0,0]
[{"$nulls":3},"avg advantage with EB  melee range on Bonus attacks",{"$f":"IF(E29,E453,0)","v":0},0,0,0,0,0,0,0,0,0,0,0,0,0,0,0,0,0,0,0]
[{"$nulls":3},"avg disadvantage with EB melee range",{"$f":"IF(E615,IF(E29=0,1-(E451+E452*(E620-1))/E620,0),0)","v":0},0,0,0,0,0,0,0,0,0,0,0,0,0,0,0,0,0,0,0]
[{"$nulls":3},"avg disadvantage with EB melee range on Bonus attacks",{"$f":"IF(E29=0,1-E453,0)","v":1},1,1,1,1,1,1,1,1,1,1,1,1,1,1,1,1,1,1,1]
[{"$nulls":3},"avg damage with EB (ranged)",{"$f":"IF(E615,E621*E623*E370+E621*(1-E623)*E368,0)","v":0},0,0,0,0,0,0,0,0,0,0,0,0,0,0,0,0,0,0,0]
[{"$nulls":3},"avg damage with EB on Bonus attacks (ranged)",{"$f":"IF(E615,E622*E624*E371+E622*(1-E624)*E369,0)","v":0},0,0,0,0,0,0,0,0,0,0,0,0,0,0,0,0,0,0,0,null,"Also EB as main attack DOES remove ability to use weapon-based bonus attacks"]
[{"$nulls":3},"avg crit bonus damage with EB (ranged)",{"$f":"IF(E615,E467*(5.5+E616)*E620*E623+E465*(1-E623)*(5.5+E616)*E620,0)","v":0},0,0,0,0,0,0,0,0,0,0,0,0,0,0,0,0,0,0,0,null,"HOWEVER, warcaster DOES let EB as a reaction, but at DISADV for melee range"]
[{"$nulls":3},"avg crit bonus damage with EB on Bonus attacks (ranged)",{"$f":"IF(E615,E467*(5.5+E618)*E620*E624+E465*(1-E624)*(5.5+E618)*E620,0)","v":0},0,0,0,0,0,0,0,0,0,0,0,0,0,0,0,0,0,0,0,null,"All EB would be at DISADV if there's someone in melee range to trigger an OP Att anyway."]
[{"$nulls":3},"avg melee (Opp att) dmg with EB (per opp att)",{"$f":"IF(E615,IF(E29=0,E627*E621*E372+(1-E627)*E621*E368,E625*E621*E370+(1-E625)*E621*E368),0)","v":0},0,0,0,0,0,0,0,0,0,0,0,0,0,0,0,0,0,0,0,null,"Can only really include these damage numbers for Opp Att if the main"]
[{"$nulls":3},"avg melee (opp att) bonus crit damage with EB",{"$f":"IF(E615,IF(E29=0,E468*(5.5+E616)*E620*E627+E465*(1-E627)*(5.5+E616)*E620,E467*(5.5+E616)*E620*E625+E465*(1-E625)*(5.5+E616)*E620),0)","v":0},0,0,0,0,0,0,0,0,0,0,0,0,0,0,0,0,0,0,0,null,"   damage isn't based on Eld Blast"]
[{"$nulls":3},"avg melee bonus attack damage with EB",{"$f":"IF(E615,IF(E29=0,E628*E622*E372+(1-E628)*E622*E368,E626*E622*E370+(1-E626)*E622*E368),0)","v":0},0,0,0,0,0,0,0,0,0,0,0,0,0,0,0,0,0,0,0,null,"   otherwise main damage would be Eld Blast at Disadv"]
[{"$nulls":3},"avg melee bonus attack crit damage with EB",{"$f":"IF(E615,IF(E29=0,E468*(5.5+E618)*E620*E628+E465*(1-E628)*(5.5+E618)*E620,E467*(5.5+E618)*E620*E626+E465*(1-E626)*(5.5+E618)*E620),0)","v":0},0,0,0,0,0,0,0,0,0,0,0,0,0,0,0,0,0,0,0,null,"UNLESS you have the xbow master feat"]
[{"$nulls":3},"avg autocrit damage (w adv) with EB",{"$f":"(2*(E621-E619*E620)+E619*E620)*E370","v":0},0,0,0,0,0,0,0,0,0,0,0,0,0,0,0,0,0,0,0]
[{"$nulls":3},"total possible Opp Att damage with EB ",{"$f":"IF(AND(E615,E23),E633+E634,0)","v":0},0,0,0,0,0,0,0,0,0,0,0,0,0,0,0,0,0,0,0]
[]
[{"$nulls":3},"AVAILABLE CANTRIP DAMAGE (max over available cantrips)"]
[{"$nulls":3},"has firebolt (d10)  Wiz, Sorc, Artificer",{"$f":"IF(OR(E13>=1,E15>=1,E19>=1,AND($B$25>=1,E6>=$B$25)),1,0)","v":0},0,0,0,0,0,0,0,0,0,0,0,0,0,0,0,0,0,0,0,null," really this works for any ranged cantrip spell"]
[{"$nulls":3},"has produce flame (d8)  Druid",{"$f":"IF(E17>=1,1,0)","v":0},0,0,0,0,0,0,0,0,0,0,0,0,0,0,0,0,0,0,0]
[{"$nulls":3},"avg damage with ranged cantrip (from range)",{"$f":"MAX(E629+E631,E660+E662)","v":0},{"$f":"MAX(F629+F631,F660+F662)","v":0},0,0,0,0,0,0,0,0,0,0,0,0,0,0,0,0,0,0]
[{"$nulls":3},"avg damage with ranged cantrip on Bonus attacks (from range)",{"$f":"MAX(E630+E632,E661+E663)","v":0},0,0,0,0,0,0,0,0,0,0,0,0,0,0,0,0,0,0,0]
[{"$nulls":3},"avg melee (Opp att) dmg with ranged cantrip (per opp att)",{"$f":"MAX(E633+E634,E664+E665)","v":0},0,0,0,0,0,0,0,0,0,0,0,0,0,0,0,0,0,0,0]
[{"$nulls":3},"avg melee bonus attack damage with ranged cantrip (from melee)",{"$f":"MAX(E635+E636,E666+E667)","v":0},0,0,0,0,0,0,0,0,0,0,0,0,0,0,0,0,0,0,0]
[{"$nulls":3},"total possible Opp Att damage with ranged cantrip",{"$f":"MAX(E638,E669)","v":0},0,0,0,0,0,0,0,0,0,0,0,0,0,0,0,0,0,0,0]
[]
[{"$nulls":3},"RANGED ATTACK CANTRIP DAMAGE"]
[{"$nulls":3},"base ranged cantrip damage",{"$f":"MAX(IF(E641,5.5,0), IF(E642,4.5,0))*(1+'Caster Tables'!C8)","v":0},{"$f":"MAX(IF(F641,5.5,0), IF(F642,4.5,0))*(1+'Caster Tables'!D8)","v":0},{"$f":"MAX(IF(G641,5.5,0), IF(G642,4.5,0))*(1+'Caster Tables'!E8)","v":0},{"$f":"MAX(IF(H641,5.5,0), IF(H642,4.5,0))*(1+'Caster Tables'!F8)","v":0},{"$f":"MAX(IF(I641,5.5,0), IF(I642,4.5,0))*(1+'Caster Tables'!G8)","v":0},{"$f":"MAX(IF(J641,5.5,0), IF(J642,4.5,0))*(1+'Caster Tables'!H8)","v":0},{"$f":"MAX(IF(K641,5.5,0), IF(K642,4.5,0))*(1+'Caster Tables'!I8)","v":0},{"$f":"MAX(IF(L641,5.5,0), IF(L642,4.5,0))*(1+'Caster Tables'!J8)","v":0},{"$f":"MAX(IF(M641,5.5,0), IF(M642,4.5,0))*(1+'Caster Tables'!K8)","v":0},{"$f":"MAX(IF(N641,5.5,0), IF(N642,4.5,0))*(1+'Caster Tables'!L8)","v":0},{"$f":"MAX(IF(O641,5.5,0), IF(O642,4.5,0))*(1+'Caster Tables'!M8)","v":0},{"$f":"MAX(IF(P641,5.5,0), IF(P642,4.5,0))*(1+'Caster Tables'!N8)","v":0},{"$f":"MAX(IF(Q641,5.5,0), IF(Q642,4.5,0))*(1+'Caster Tables'!O8)","v":0},{"$f":"MAX(IF(R641,5.5,0), IF(R642,4.5,0))*(1+'Caster Tables'!P8)","v":0},{"$f":"MAX(IF(S641,5.5,0), IF(S642,4.5,0))*(1+'Caster Tables'!Q8)","v":0},{"$f":"MAX(IF(T641,5.5,0), IF(T642,4.5,0))*(1+'Caster Tables'!R8)","v":0},{"$f":"MAX(IF(U641,5.5,0), IF(U642,4.5,0))*(1+'Caster Tables'!S8)","v":0},{"$f":"MAX(IF(V641,5.5,0), IF(V642,4.5,0))*(1+'Caster Tables'!T8)","v":0},{"$f":"MAX(IF(W641,5.5,0), IF(W642,4.5,0))*(1+'Caster Tables'!U8)","v":0},{"$f":"MAX(IF(X641,5.5,0), IF(X642,4.5,0))*(1+'Caster Tables'!V8)","v":0}]
[{"$nulls":3},"dice damage buffs (incl arcane firearm)",{"$f":"E519+IF(E945,4.5,0)","v":0},0,0,0,0,0,0,0,0,0,0,0,0,0,0,0,0,0,0,0]
[{"$nulls":3},"static damage buffs",{"$f":"E521+IF(AND(E15>=10,E44>=1),E33,0)","v":0},{"$f":"F521+IF(AND(F15>=10,F44>=1),F33,0)","v":0},0,0,0,0,0,0,0,0,0,0,0,0,0,0,0,0,0,0]
[{"$nulls":3},"avg firebolt damage (not including hits)",{"$f":"E650+E651+E652","v":0},{"$f":"F650+F651+F652","v":0},0,0,0,0,0,0,0,0,0,0,0,0,0,0,0,0,0,0]
[{"$nulls":3},"avg ranged spell attack cantrip adv",{"$f":"E451","v":0},0,0,0,0,0,0,0,0,0,0,0,0,0,0,0,0,0,0,0]
[{"$nulls":3},"avg ranged spell attack cantrip bonus action adv",{"$f":"E453-E399","v":0},0,0,0,0,0,0,0,0,0,0,0,0,0,0,0,0,0,0,0]
[{"$nulls":3},"avg advantage with ranged cantrip melee range",{"$f":"IF(E29,E451,0)","v":0},0,0,0,0,0,0,0,0,0,0,0,0,0,0,0,0,0,0,0]
[{"$nulls":3},"avg advantage with range cantrip  melee range on Bonus attacks",{"$f":"IF(E29,E453,0)","v":0},0,0,0,0,0,0,0,0,0,0,0,0,0,0,0,0,0,0,0]
[{"$nulls":3},"avg disadvantage with ranged cantrip melee range",{"$f":"IF(E29=0,1-E451,0)","v":1},1,1,1,1,1,1,1,1,1,1,1,1,1,1,1,1,1,1,1]
[{"$nulls":3},"avg disadvantage with ranged cantrip melee range on Bonus attacks",{"$f":"IF(E29=0,1-E453,0)","v":1},1,1,1,1,1,1,1,1,1,1,1,1,1,1,1,1,1,1,1]
[{"$nulls":3},"avg damage with cantrip at ranged",{"$f":"E653*E654*E370+E653*(1-E654)*E368","v":0},0,0,0,0,0,0,0,0,0,0,0,0,0,0,0,0,0,0,0]
[{"$nulls":3},"avg damage with ranged cantrip on Bonus attacks (ranged)",{"$f":"IF(E641>=1,E653*E655*E338+E653*(1-E655)*E336,0)","v":0},0,0,0,0,0,0,0,0,0,0,0,0,0,0,0,0,0,0,0]
[{"$nulls":3},"avg crit bonus damage with ranged cantrip (ranged)",{"$f":"IF(E641>=1,E467*(E650+E651)*E654+E465*(1-E654)*(E650+E651),0)","v":0},0,0,0,0,0,0,0,0,0,0,0,0,0,0,0,0,0,0,0]
[{"$nulls":3},"avg crit bonus damage with ranged cantrip on Bonus attacks (ranged)",{"$f":"IF(E641>=1,E467*(E650+E651)*E655+E465*(1-E655)*(E650+E651),0)","v":0},0,0,0,0,0,0,0,0,0,0,0,0,0,0,0,0,0,0,0]
[{"$nulls":3},"avg melee (Opp att) dmg with ranged cantrip (per opp att)",{"$f":"IF(E641>=1,IF(E29=0,E658*E653*E370+(1-E658)*E653*E368,E656*E653*E370+(1-E656)*E653*E368),0)","v":0},0,0,0,0,0,0,0,0,0,0,0,0,0,0,0,0,0,0,0]
[{"$nulls":3},"avg melee (opp att) bonus crit damage with ranged cantrip",{"$f":"IF(E641>=1,IF(E29=0,E468*(E650+E651)*E658+E465*(1-E658)*(E650+E651),E467*(E650+E651)*E656+E465*(1-E656)*(E650+E651)),0)","v":0},0,0,0,0,0,0,0,0,0,0,0,0,0,0,0,0,0,0,0]
[{"$nulls":3},"avg melee bonus attack damage with ranged cantrip",{"$f":"IF(E641>=1,IF(E29=0,E659*E653*E373+(1-E659)*E653*E369,E657*E653*E371+(1-E657)*E653*E369),0)","v":0},0,0,0,0,0,0,0,0,0,0,0,0,0,0,0,0,0,0,0]
[{"$nulls":3},"avg melee bonus attack crit damage with ranged cantrip",{"$f":"IF(E641>=1,IF(E29=0,E468*(E650+E651)*E659+E465*(1-E659)*(E650+E651),E467*(E650+E651)*E657+E465*(1-E657)*(E650+E651)),0)","v":0},0,0,0,0,0,0,0,0,0,0,0,0,0,0,0,0,0,0,0]
[{"$nulls":3},"avg autocrit damage (w advantage)",{"$f":"(2*(E650+E651)+E652)*E370","v":0},0,0,0,0,0,0,0,0,0,0,0,0,0,0,0,0,0,0,0]
[{"$nulls":3},"total possible Opp Att damage with ranged cantrip ",{"$f":"IF(AND(E641>=1,E23),E664+E665,0)","v":0},0,0,0,0,0,0,0,0,0,0,0,0,0,0,0,0,0,0,0]
[]
[{"$nulls":3},"GUIDING BOLT (spell attack)"]
[{"$nulls":3},"avg guiding bolt slot level",{"$f":"SpellOrder!CL20","v":0},{"$f":"SpellOrder!CM20","v":0},{"$f":"SpellOrder!CN20","v":0},{"$f":"SpellOrder!CO20","v":0},{"$f":"SpellOrder!CP20","v":0},{"$f":"SpellOrder!CQ20","v":0},{"$f":"SpellOrder!CR20","v":0},{"$f":"SpellOrder!CS20","v":0},{"$f":"SpellOrder!CT20","v":0},{"$f":"SpellOrder!CU20","v":0},{"$f":"SpellOrder!CV20","v":0},{"$f":"SpellOrder!CW20","v":0},{"$f":"SpellOrder!CX20","v":0},{"$f":"SpellOrder!CY20","v":0},{"$f":"SpellOrder!CZ20","v":0},{"$f":"SpellOrder!DA20","v":0},{"$f":"SpellOrder!DB20","v":0},{"$f":"SpellOrder!DC20","v":0},{"$f":"SpellOrder!DD20","v":0},{"$f":"SpellOrder!DE20","v":0},null,"* now upcastable"]
[{"$nulls":3},"base guiding bolt dice damage",{"$f":"IF(E672>=1,14+(E672-1)*3.5+E519,0)","v":0},{"$f":"IF(F672>=1,14+(F672-1)*3.5+F487+F501,0)","v":0},0,0,0,0,0,0,0,0,0,0,0,0,0,0,0,0,0,0]
[{"$nulls":3},"guiding bolt static damage bonuses",{"$f":"E521","v":0},{"$f":"F521","v":0},0,0,0,0,0,0,0,0,0,0,0,0,0,0,0,0,0,0]
[{"$nulls":3},"guiding bolt crit damage",{"$f":"E475*E673","v":0},{"$f":"F475*F673","v":0},0,0,0,0,0,0,0,0,0,0,0,0,0,0,0,0,0,0]
[{"$nulls":3},"damage including hit chance, crits",{"$f":"E461*(E673+E674)+E675","v":0},{"$f":"F461*(F673+F674)+F675","v":0},0,0,0,0,0,0,0,0,0,0,0,0,0,0,0,0,0,0]
[{"$nulls":3},"L1 guiding bolt damage including hit chance, crits",{"$f":"E461*(14+E519+E521)+E475*(14+E519)","v":9.799999999999999},{"$f":"F461*(14+F519+F521)+F475*(14+F519)","v":9.799999999999999},9.1,9.1,9.799999999999999,9.1,9.1,9.1,9.1,9.1,9.1,8.4,9.1,9.1,8.4,8.4,9.1,8.4,8.4,8.4]
[{"$nulls":3},"total guiding bolt damage per day",{"$f":"E676*E222+E1172*E677","v":0},0,0,0,0,0,0,0,0,0,0,0,0,0,0,0,0,0,0,0,null,"*includes Druid of Stars free casts"]
[{"$nulls":3},"avg total guiding bolt damage per round",{"$f":"E678/('Base Numbers'!$C$5*'Base Numbers'!$C$6)","v":0},{"$f":"F678/('Base Numbers'!$C$5*'Base Numbers'!$C$6)","v":0},{"$f":"G678/('Base Numbers'!$C$5*'Base Numbers'!$C$6)","v":0},{"$f":"H678/('Base Numbers'!$C$5*'Base Numbers'!$C$6)","v":0},{"$f":"I678/('Base Numbers'!$C$5*'Base Numbers'!$C$6)","v":0},{"$f":"J678/('Base Numbers'!$C$5*'Base Numbers'!$C$6)","v":0},{"$f":"K678/('Base Numbers'!$C$5*'Base Numbers'!$C$6)","v":0},{"$f":"L678/('Base Numbers'!$C$5*'Base Numbers'!$C$6)","v":0},{"$f":"M678/('Base Numbers'!$C$5*'Base Numbers'!$C$6)","v":0},{"$f":"N678/('Base Numbers'!$C$5*'Base Numbers'!$C$6)","v":0},{"$f":"O678/('Base Numbers'!$C$5*'Base Numbers'!$C$6)","v":0},{"$f":"P678/('Base Numbers'!$C$5*'Base Numbers'!$C$6)","v":0},{"$f":"Q678/('Base Numbers'!$C$5*'Base Numbers'!$C$6)","v":0},{"$f":"R678/('Base Numbers'!$C$5*'Base Numbers'!$C$6)","v":0},{"$f":"S678/('Base Numbers'!$C$5*'Base Numbers'!$C$6)","v":0},{"$f":"T678/('Base Numbers'!$C$5*'Base Numbers'!$C$6)","v":0},{"$f":"U678/('Base Numbers'!$C$5*'Base Numbers'!$C$6)","v":0},{"$f":"V678/('Base Numbers'!$C$5*'Base Numbers'!$C$6)","v":0},{"$f":"W678/('Base Numbers'!$C$5*'Base Numbers'!$C$6)","v":0},{"$f":"X678/('Base Numbers'!$C$5*'Base Numbers'!$C$6)","v":0}]
[]
[{"$nulls":3},"MAGIC MISSILE"]
[{"$nulls":3},"avg magic missile slot level",{"$f":"SpellOrder!CL21","v":0},{"$f":"SpellOrder!CM21","v":0},{"$f":"SpellOrder!CN21","v":0},{"$f":"SpellOrder!CO21","v":0},{"$f":"SpellOrder!CP21","v":0},{"$f":"SpellOrder!CQ21","v":0},{"$f":"SpellOrder!CR21","v":0},{"$f":"SpellOrder!CS21","v":0},{"$f":"SpellOrder!CT21","v":0},{"$f":"SpellOrder!CU21","v":0},{"$f":"SpellOrder!CV21","v":0},{"$f":"SpellOrder!CW21","v":0},{"$f":"SpellOrder!CX21","v":0},{"$f":"SpellOrder!CY21","v":0},{"$f":"SpellOrder!CZ21","v":0},{"$f":"SpellOrder!DA21","v":0},{"$f":"SpellOrder!DB21","v":0},{"$f":"SpellOrder!DC21","v":0},{"$f":"SpellOrder!DD21","v":0},{"$f":"SpellOrder!DE21","v":0},null,"* magic missile benefits from hexblade's curse (but not hex)"]
[{"$nulls":3},"avg magic missile damage per cast",{"$f":"(IF(E682>=1,3,0)+IF(E682>1,FLOOR(E682-1,1),0))*(3.5+E484+IF(AND(E15>=10,E44>=1),E33,0))","v":0},0,0,0,0,0,0,0,0,0,0,0,0,0,0,0,0,0,0,0]
[{"$nulls":3},"total magic missile damage per day",{"$f":"E683*E223","v":0},0,0,0,0,0,0,0,0,0,0,0,0,0,0,0,0,0,0,0]
[{"$nulls":3},"avg total magic missile damage per round",{"$f":"E684/('Base Numbers'!$C$5*'Base Numbers'!$C$6)","v":0},{"$f":"F684/('Base Numbers'!$C$5*'Base Numbers'!$C$6)","v":0},{"$f":"G684/('Base Numbers'!$C$5*'Base Numbers'!$C$6)","v":0},{"$f":"H684/('Base Numbers'!$C$5*'Base Numbers'!$C$6)","v":0},{"$f":"I684/('Base Numbers'!$C$5*'Base Numbers'!$C$6)","v":0},{"$f":"J684/('Base Numbers'!$C$5*'Base Numbers'!$C$6)","v":0},{"$f":"K684/('Base Numbers'!$C$5*'Base Numbers'!$C$6)","v":0},{"$f":"L684/('Base Numbers'!$C$5*'Base Numbers'!$C$6)","v":0},{"$f":"M684/('Base Numbers'!$C$5*'Base Numbers'!$C$6)","v":0},{"$f":"N684/('Base Numbers'!$C$5*'Base Numbers'!$C$6)","v":0},{"$f":"O684/('Base Numbers'!$C$5*'Base Numbers'!$C$6)","v":0},{"$f":"P684/('Base Numbers'!$C$5*'Base Numbers'!$C$6)","v":0},{"$f":"Q684/('Base Numbers'!$C$5*'Base Numbers'!$C$6)","v":0},{"$f":"R684/('Base Numbers'!$C$5*'Base Numbers'!$C$6)","v":0},{"$f":"S684/('Base Numbers'!$C$5*'Base Numbers'!$C$6)","v":0},{"$f":"T684/('Base Numbers'!$C$5*'Base Numbers'!$C$6)","v":0},{"$f":"U684/('Base Numbers'!$C$5*'Base Numbers'!$C$6)","v":0},{"$f":"V684/('Base Numbers'!$C$5*'Base Numbers'!$C$6)","v":0},{"$f":"W684/('Base Numbers'!$C$5*'Base Numbers'!$C$6)","v":0},{"$f":"X684/('Base Numbers'!$C$5*'Base Numbers'!$C$6)","v":0}]
[]
[{"$nulls":3},"SPIRITUAL WEAPON (spell attack, no smites allowed)"]
[{"$nulls":3},"spiritual weapon slot (leftover from Spirit Guards, Bigby's, An Objs, Fireball)",{"$f":"SpellOrder!CL11","v":0},{"$f":"SpellOrder!CM11","v":0},{"$f":"SpellOrder!CN11","v":0},{"$f":"SpellOrder!CO11","v":0},{"$f":"SpellOrder!CP11","v":0},{"$f":"SpellOrder!CQ11","v":0},{"$f":"SpellOrder!CR11","v":0},{"$f":"SpellOrder!CS11","v":0},{"$f":"SpellOrder!CT11","v":0},{"$f":"SpellOrder!CU11","v":0},{"$f":"SpellOrder!CV11","v":0},{"$f":"SpellOrder!CW11","v":0},{"$f":"SpellOrder!CX11","v":0},{"$f":"SpellOrder!CY11","v":0},{"$f":"SpellOrder!CZ11","v":0},{"$f":"SpellOrder!DA11","v":0},{"$f":"SpellOrder!DB11","v":0},{"$f":"SpellOrder!DC11","v":0},{"$f":"SpellOrder!DD11","v":0},{"$f":"SpellOrder!DE11","v":0}]
[{"$nulls":3},"spiritual weapon dice damage",{"$f":"IF(E688>0,(E688/2*4.5+E520),0)","v":0},{"$f":"IF(F688>0,(F688/2*4.5+F520),0)","v":0},0,0,0,0,0,0,0,0,0,0,0,0,0,0,0,0,0,0]
[{"$nulls":3},"spiritual weapon static damage",{"$f":"MAX(E32,E33,E34)+E522","v":3},{"$f":"MAX(F32,F33,F34)+F522","v":3},3,3,3,3,3,3,3,3,3,3,3,3,3,3,3,3,3,3]
[{"$nulls":3},"bonus attacks used on spiritual weapon attacks",{"$f":"IF(E688>0,'Base Numbers'!$C$6*E248,0)","v":0},{"$f":"IF(F688>0,'Base Numbers'!$C$6*F248,0)","v":0},{"$f":"IF(G688>0,'Base Numbers'!$C$6*G248,0)","v":0},{"$f":"IF(H688>0,'Base Numbers'!$C$6*H248,0)","v":0},{"$f":"IF(I688>0,'Base Numbers'!$C$6*I248,0)","v":0},{"$f":"IF(J688>0,'Base Numbers'!$C$6*J248,0)","v":0},{"$f":"IF(K688>0,'Base Numbers'!$C$6*K248,0)","v":0},{"$f":"IF(L688>0,'Base Numbers'!$C$6*L248,0)","v":0},{"$f":"IF(M688>0,'Base Numbers'!$C$6*M248,0)","v":0},{"$f":"IF(N688>0,'Base Numbers'!$C$6*N248,0)","v":0},{"$f":"IF(O688>0,'Base Numbers'!$C$6*O248,0)","v":0},{"$f":"IF(P688>0,'Base Numbers'!$C$6*P248,0)","v":0},{"$f":"IF(Q688>0,'Base Numbers'!$C$6*Q248,0)","v":0},{"$f":"IF(R688>0,'Base Numbers'!$C$6*R248,0)","v":0},{"$f":"IF(S688>0,'Base Numbers'!$C$6*S248,0)","v":0},{"$f":"IF(T688>0,'Base Numbers'!$C$6*T248,0)","v":0},{"$f":"IF(U688>0,'Base Numbers'!$C$6*U248,0)","v":0},{"$f":"IF(V688>0,'Base Numbers'!$C$6*V248,0)","v":0},{"$f":"IF(W688>0,'Base Numbers'!$C$6*W248,0)","v":0},{"$f":"IF(X688>0,'Base Numbers'!$C$6*X248,0)","v":0}]
[{"$nulls":3},"avg spiritual weapon attack damage (no crits, incl hit chance)",{"$f":"(E371*E453+(1-E453)*E369)*(E689+E690)","v":1.9500000000000002},{"$f":"(F371*F453+(1-F453)*F369)*(F689+F690)","v":1.9500000000000002},1.7999999999999998,1.7999999999999998,1.9500000000000002,1.7999999999999998,1.7999999999999998,1.7999999999999998,1.7999999999999998,1.7999999999999998,1.7999999999999998,1.6500000000000001,1.7999999999999998,1.7999999999999998,1.6500000000000001,1.6500000000000001,1.7999999999999998,1.6500000000000001,1.6500000000000001,1.6500000000000001]
[{"$nulls":3},"avg spiritual weapon bonus crit damage",{"$f":"E476*E689","v":0},0,0,0,0,0,0,0,0,0,0,0,0,0,0,0,0,0,0,0]
[{"$nulls":3},"total avg spiritual weapon damage",{"$f":"E693+E692","v":1.9500000000000002},{"$f":"F693+F692","v":1.9500000000000002},1.7999999999999998,1.7999999999999998,1.9500000000000002,1.7999999999999998,1.7999999999999998,1.7999999999999998,1.7999999999999998,1.7999999999999998,1.7999999999999998,1.6500000000000001,1.7999999999999998,1.7999999999999998,1.6500000000000001,1.6500000000000001,1.7999999999999998,1.6500000000000001,1.6500000000000001,1.6500000000000001]
[{"$nulls":3},"percent of rounds w/spiritual weapon attack:",{"$f":"MIN(1,E291*E691/('Base Numbers'!$C$5*'Base Numbers'!$C$6))","v":0},{"$f":"MIN(1,F291*F691/('Base Numbers'!$C$5*'Base Numbers'!$C$6))","v":0},{"$f":"MIN(1,G291*G691/('Base Numbers'!$C$5*'Base Numbers'!$C$6))","v":0},{"$f":"MIN(1,H291*H691/('Base Numbers'!$C$5*'Base Numbers'!$C$6))","v":0},{"$f":"MIN(1,I291*I691/('Base Numbers'!$C$5*'Base Numbers'!$C$6))","v":0},{"$f":"MIN(1,J291*J691/('Base Numbers'!$C$5*'Base Numbers'!$C$6))","v":0},{"$f":"MIN(1,K291*K691/('Base Numbers'!$C$5*'Base Numbers'!$C$6))","v":0},{"$f":"MIN(1,L291*L691/('Base Numbers'!$C$5*'Base Numbers'!$C$6))","v":0},{"$f":"MIN(1,M291*M691/('Base Numbers'!$C$5*'Base Numbers'!$C$6))","v":0},{"$f":"MIN(1,N291*N691/('Base Numbers'!$C$5*'Base Numbers'!$C$6))","v":0},{"$f":"MIN(1,O291*O691/('Base Numbers'!$C$5*'Base Numbers'!$C$6))","v":0},{"$f":"MIN(1,P291*P691/('Base Numbers'!$C$5*'Base Numbers'!$C$6))","v":0},{"$f":"MIN(1,Q291*Q691/('Base Numbers'!$C$5*'Base Numbers'!$C$6))","v":0},{"$f":"MIN(1,R291*R691/('Base Numbers'!$C$5*'Base Numbers'!$C$6))","v":0},{"$f":"MIN(1,S291*S691/('Base Numbers'!$C$5*'Base Numbers'!$C$6))","v":0},{"$f":"MIN(1,T291*T691/('Base Numbers'!$C$5*'Base Numbers'!$C$6))","v":0},{"$f":"MIN(1,U291*U691/('Base Numbers'!$C$5*'Base Numbers'!$C$6))","v":0},{"$f":"MIN(1,V291*V691/('Base Numbers'!$C$5*'Base Numbers'!$C$6))","v":0},{"$f":"MIN(1,W291*W691/('Base Numbers'!$C$5*'Base Numbers'!$C$6))","v":0},{"$f":"MIN(1,X291*X691/('Base Numbers'!$C$5*'Base Numbers'!$C$6))","v":0}]
[]
[{"$nulls":3},"SHADOW BLADE (with upscaling)"]
[{"$nulls":3},"shadow blade slot (left over: Sp Gs, Bigby's, Animate Objs, Fireball, Spr Weap)",{"$f":"SpellOrder!CL18","v":0},{"$f":"SpellOrder!CM18","v":0},{"$f":"SpellOrder!CN18","v":0},{"$f":"SpellOrder!CO18","v":0},{"$f":"SpellOrder!CP18","v":0},{"$f":"SpellOrder!CQ18","v":0},{"$f":"SpellOrder!CR18","v":0},{"$f":"SpellOrder!CS18","v":0},{"$f":"SpellOrder!CT18","v":0},{"$f":"SpellOrder!CU18","v":0},{"$f":"SpellOrder!CV18","v":0},{"$f":"SpellOrder!CW18","v":0},{"$f":"SpellOrder!CX18","v":0},{"$f":"SpellOrder!CY18","v":0},{"$f":"SpellOrder!CZ18","v":0},{"$f":"SpellOrder!DA18","v":0},{"$f":"SpellOrder!DB18","v":0},{"$f":"SpellOrder!DC18","v":0},{"$f":"SpellOrder!DD18","v":0},{"$f":"SpellOrder!DE18","v":0}]
[{"$nulls":3},"avg shadow blade damage",{"$f":"(IF(E698>=2,2,0)+IF(E698>=3,1,0)+IF(E698>=5,1,0)+IF(E698>=7,1,0))*4.5","v":0},{"$f":"(IF(F698>=2,2,0)+IF(F698>=3,1,0)+IF(F698>=5,1,0)+IF(F698>=7,1,0))*4.5","v":0},0,0,0,0,0,0,0,0,0,0,0,0,0,0,0,0,0,0]
[{"$nulls":3},"pct of rounds shadow blade active",{"$f":"E313","v":0},0,0,0,0,0,0,0,0,0,0,0,0,0,0,0,0,0,0,0]
[]
[{"$nulls":3},"SPIRIT SHROUD (with upscaling, conc, bonus action)"]
[{"$nulls":3},"spirit shroud slot (leftover from spirit guardians)",{"$f":"SpellOrder!CL7","v":0},{"$f":"SpellOrder!CM7","v":0},{"$f":"SpellOrder!CN7","v":0},{"$f":"SpellOrder!CO7","v":0},{"$f":"SpellOrder!CP7","v":0},{"$f":"SpellOrder!CQ7","v":0},{"$f":"SpellOrder!CR7","v":0},{"$f":"SpellOrder!CS7","v":0},{"$f":"SpellOrder!CT7","v":0},{"$f":"SpellOrder!CU7","v":0},{"$f":"SpellOrder!CV7","v":0},{"$f":"SpellOrder!CW7","v":0},{"$f":"SpellOrder!CX7","v":0},{"$f":"SpellOrder!CY7","v":0},{"$f":"SpellOrder!CZ7","v":0},{"$f":"SpellOrder!DA7","v":0},{"$f":"SpellOrder!DB7","v":0},{"$f":"SpellOrder!DC7","v":0},{"$f":"SpellOrder!DD7","v":0},{"$f":"SpellOrder!DE7","v":0}]
[{"$nulls":3},"spirit shroud damage per attack (when active)",{"$f":"4.5*(IF(E703>=3,1,0)+IF(E703>=5,1,0)+IF(E703>=7,1,0)+IF(E703>=9,1,0))","v":0},{"$f":"4.5*(IF(F703>=3,1,0)+IF(F703>=5,1,0)+IF(F703>=7,1,0)+IF(F703>=9,1,0))","v":0},0,0,0,0,0,0,0,0,0,0,0,0,0,0,0,0,0,0]
[{"$nulls":3},"percent of rounds w/spirit shroud active",{"$f":"MIN(1,((1+E306)*E234)/('Base Numbers'!$C$5*'Base Numbers'!$C$6))","v":0},{"$f":"MIN(1,((1+F306)*F234)/('Base Numbers'!$C$5*'Base Numbers'!$C$6))","v":0},{"$f":"MIN(1,((1+G306)*G234)/('Base Numbers'!$C$5*'Base Numbers'!$C$6))","v":0},{"$f":"MIN(1,((1+H306)*H234)/('Base Numbers'!$C$5*'Base Numbers'!$C$6))","v":0},{"$f":"MIN(1,((1+I306)*I234)/('Base Numbers'!$C$5*'Base Numbers'!$C$6))","v":0},{"$f":"MIN(1,((1+J306)*J234)/('Base Numbers'!$C$5*'Base Numbers'!$C$6))","v":0},{"$f":"MIN(1,((1+K306)*K234)/('Base Numbers'!$C$5*'Base Numbers'!$C$6))","v":0},{"$f":"MIN(1,((1+L306)*L234)/('Base Numbers'!$C$5*'Base Numbers'!$C$6))","v":0},{"$f":"MIN(1,((1+M306)*M234)/('Base Numbers'!$C$5*'Base Numbers'!$C$6))","v":0},{"$f":"MIN(1,((1+N306)*N234)/('Base Numbers'!$C$5*'Base Numbers'!$C$6))","v":0},{"$f":"MIN(1,((1+O306)*O234)/('Base Numbers'!$C$5*'Base Numbers'!$C$6))","v":0},{"$f":"MIN(1,((1+P306)*P234)/('Base Numbers'!$C$5*'Base Numbers'!$C$6))","v":0},{"$f":"MIN(1,((1+Q306)*Q234)/('Base Numbers'!$C$5*'Base Numbers'!$C$6))","v":0},{"$f":"MIN(1,((1+R306)*R234)/('Base Numbers'!$C$5*'Base Numbers'!$C$6))","v":0},{"$f":"MIN(1,((1+S306)*S234)/('Base Numbers'!$C$5*'Base Numbers'!$C$6))","v":0},{"$f":"MIN(1,((1+T306)*T234)/('Base Numbers'!$C$5*'Base Numbers'!$C$6))","v":0},{"$f":"MIN(1,((1+U306)*U234)/('Base Numbers'!$C$5*'Base Numbers'!$C$6))","v":0},{"$f":"MIN(1,((1+V306)*V234)/('Base Numbers'!$C$5*'Base Numbers'!$C$6))","v":0},{"$f":"MIN(1,((1+W306)*W234)/('Base Numbers'!$C$5*'Base Numbers'!$C$6))","v":0},{"$f":"MIN(1,((1+X306)*X234)/('Base Numbers'!$C$5*'Base Numbers'!$C$6))","v":0}]
[{"$nulls":3},"pct of bonus attacks w/spirit shroud active",{"$f":"MIN(1,((E306)*E234)/('Base Numbers'!$C$5*'Base Numbers'!$C$6))","v":0},{"$f":"MIN(1,((F306)*F234)/('Base Numbers'!$C$5*'Base Numbers'!$C$6))","v":0},{"$f":"MIN(1,((G306)*G234)/('Base Numbers'!$C$5*'Base Numbers'!$C$6))","v":0},{"$f":"MIN(1,((H306)*H234)/('Base Numbers'!$C$5*'Base Numbers'!$C$6))","v":0},{"$f":"MIN(1,((I306)*I234)/('Base Numbers'!$C$5*'Base Numbers'!$C$6))","v":0},{"$f":"MIN(1,((J306)*J234)/('Base Numbers'!$C$5*'Base Numbers'!$C$6))","v":0},{"$f":"MIN(1,((K306)*K234)/('Base Numbers'!$C$5*'Base Numbers'!$C$6))","v":0},{"$f":"MIN(1,((L306)*L234)/('Base Numbers'!$C$5*'Base Numbers'!$C$6))","v":0},{"$f":"MIN(1,((M306)*M234)/('Base Numbers'!$C$5*'Base Numbers'!$C$6))","v":0},{"$f":"MIN(1,((N306)*N234)/('Base Numbers'!$C$5*'Base Numbers'!$C$6))","v":0},{"$f":"MIN(1,((O306)*O234)/('Base Numbers'!$C$5*'Base Numbers'!$C$6))","v":0},{"$f":"MIN(1,((P306)*P234)/('Base Numbers'!$C$5*'Base Numbers'!$C$6))","v":0},{"$f":"MIN(1,((Q306)*Q234)/('Base Numbers'!$C$5*'Base Numbers'!$C$6))","v":0},{"$f":"MIN(1,((R306)*R234)/('Base Numbers'!$C$5*'Base Numbers'!$C$6))","v":0},{"$f":"MIN(1,((S306)*S234)/('Base Numbers'!$C$5*'Base Numbers'!$C$6))","v":0},{"$f":"MIN(1,((T306)*T234)/('Base Numbers'!$C$5*'Base Numbers'!$C$6))","v":0},{"$f":"MIN(1,((U306)*U234)/('Base Numbers'!$C$5*'Base Numbers'!$C$6))","v":0},{"$f":"MIN(1,((V306)*V234)/('Base Numbers'!$C$5*'Base Numbers'!$C$6))","v":0},{"$f":"MIN(1,((W306)*W234)/('Base Numbers'!$C$5*'Base Numbers'!$C$6))","v":0},{"$f":"MIN(1,((X306)*X234)/('Base Numbers'!$C$5*'Base Numbers'!$C$6))","v":0}]
[{"$nulls":3},"average spirit shroud damage per attack",{"$f":"E704*E705","v":0},{"$f":"F704*F705","v":0},0,0,0,0,0,0,0,0,0,0,0,0,0,0,0,0,0,0,null,"* this has a 10' max range, so probably doesn't apply to ranged attacks"]
[{"$nulls":3},"average spirit shroud damage per bonus attack",{"$f":"E704*E706","v":0},{"$f":"F704*F706","v":0},0,0,0,0,0,0,0,0,0,0,0,0,0,0,0,0,0,0,null,"   although could reasonably apply to Eld Blast."]
[{"$nulls":25},"   maybe should apply to ranged if xbow master talent."]
[{"$nulls":3},"FLAMING SPHERE (conc, bonus action save vs damage)"]
[{"$nulls":3},"flaming sphere slot (left over: Sp Gs, Bigby's, Animate Objs, Fireball)",{"$f":"SpellOrder!CL19","v":0},{"$f":"SpellOrder!CM19","v":0},{"$f":"SpellOrder!CN19","v":0},{"$f":"SpellOrder!CO19","v":0},{"$f":"SpellOrder!CP19","v":0},{"$f":"SpellOrder!CQ19","v":0},{"$f":"SpellOrder!CR19","v":0},{"$f":"SpellOrder!CS19","v":0},{"$f":"SpellOrder!CT19","v":0},{"$f":"SpellOrder!CU19","v":0},{"$f":"SpellOrder!CV19","v":0},{"$f":"SpellOrder!CW19","v":0},{"$f":"SpellOrder!CX19","v":0},{"$f":"SpellOrder!CY19","v":0},{"$f":"SpellOrder!CZ19","v":0},{"$f":"SpellOrder!DA19","v":0},{"$f":"SpellOrder!DB19","v":0},{"$f":"SpellOrder!DC19","v":0},{"$f":"SpellOrder!DD19","v":0},{"$f":"SpellOrder!DE19","v":0}]
[{"$nulls":3},"avg flaming sphere opp save chance (Dex save)",{"$f":"(13-E35-MAX(E34,E33,E32)+'Caster Tables'!C74)/20","v":0.45},{"$f":"(13-F35-MAX(F34,F33,F32)+'Caster Tables'!D74)/20","v":0.465},{"$f":"(13-G35-MAX(G34,G33,G32)+'Caster Tables'!E74)/20","v":0.475},{"$f":"(13-H35-MAX(H34,H33,H32)+'Caster Tables'!F74)/20","v":0.485},{"$f":"(13-I35-MAX(I34,I33,I32)+'Caster Tables'!G74)/20","v":0.4425},{"$f":"(13-J35-MAX(J34,J33,J32)+'Caster Tables'!H74)/20","v":0.45},{"$f":"(13-K35-MAX(K34,K33,K32)+'Caster Tables'!I74)/20","v":0.45999999999999996},{"$f":"(13-L35-MAX(L34,L33,L32)+'Caster Tables'!J74)/20","v":0.475},{"$f":"(13-M35-MAX(M34,M33,M32)+'Caster Tables'!K74)/20","v":0.4375},{"$f":"(13-N35-MAX(N34,N33,N32)+'Caster Tables'!L74)/20","v":0.45},{"$f":"(13-O35-MAX(O34,O33,O32)+'Caster Tables'!M74)/20","v":0.4625},{"$f":"(13-P35-MAX(P34,P33,P32)+'Caster Tables'!N74)/20","v":0.475},{"$f":"(13-Q35-MAX(Q34,Q33,Q32)+'Caster Tables'!O74)/20","v":0.4375},{"$f":"(13-R35-MAX(R34,R33,R32)+'Caster Tables'!P74)/20","v":0.45},{"$f":"(13-S35-MAX(S34,S33,S32)+'Caster Tables'!Q74)/20","v":0.5},{"$f":"(13-T35-MAX(T34,T33,T32)+'Caster Tables'!R74)/20","v":0.55},{"$f":"(13-U35-MAX(U34,U33,U32)+'Caster Tables'!S74)/20","v":0.525},{"$f":"(13-V35-MAX(V34,V33,V32)+'Caster Tables'!T74)/20","v":0.55},{"$f":"(13-W35-MAX(W34,W33,W32)+'Caster Tables'!U74)/20","v":0.575},{"$f":"(13-X35-MAX(X34,X33,X32)+'Caster Tables'!V74)/20","v":0.6}]
[{"$nulls":3},"avg flaming sphere damage per round (Dex Save)",{"$f":"MAX(0,(7+(E711-2)*3.5)*(1-E712)+(3.5+(E711-2)*3.5)*E712)","v":0},{"$f":"MAX(0,(7+(F711-2)*3.5)*(1-F712)+(3.5+(F711-2)*3.5)*F712)","v":0},0,0,0,0,0,0,0,0,0,0,0,0,0,0,0,0,0,0]
[{"$nulls":3},"bonus attacks used on flaming sphere attacks",{"$f":"IF(E711>=2,IF(E1147,'Base Numbers'!$C$6,(1+E306)),0)","v":0},{"$f":"IF(F711>=2,IF(F1147,'Base Numbers'!$C$6,(1+F306)),0)","v":0},{"$f":"IF(G711>=2,IF(G1147,'Base Numbers'!$C$6,(1+G306)),0)","v":0},{"$f":"IF(H711>=2,IF(H1147,'Base Numbers'!$C$6,(1+H306)),0)","v":0},{"$f":"IF(I711>=2,IF(I1147,'Base Numbers'!$C$6,(1+I306)),0)","v":0},{"$f":"IF(J711>=2,IF(J1147,'Base Numbers'!$C$6,(1+J306)),0)","v":0},{"$f":"IF(K711>=2,IF(K1147,'Base Numbers'!$C$6,(1+K306)),0)","v":0},{"$f":"IF(L711>=2,IF(L1147,'Base Numbers'!$C$6,(1+L306)),0)","v":0},{"$f":"IF(M711>=2,IF(M1147,'Base Numbers'!$C$6,(1+M306)),0)","v":0},{"$f":"IF(N711>=2,IF(N1147,'Base Numbers'!$C$6,(1+N306)),0)","v":0},{"$f":"IF(O711>=2,IF(O1147,'Base Numbers'!$C$6,(1+O306)),0)","v":0},{"$f":"IF(P711>=2,IF(P1147,'Base Numbers'!$C$6,(1+P306)),0)","v":0},{"$f":"IF(Q711>=2,IF(Q1147,'Base Numbers'!$C$6,(1+Q306)),0)","v":0},{"$f":"IF(R711>=2,IF(R1147,'Base Numbers'!$C$6,(1+R306)),0)","v":0},{"$f":"IF(S711>=2,IF(S1147,'Base Numbers'!$C$6,(1+S306)),0)","v":0},{"$f":"IF(T711>=2,IF(T1147,'Base Numbers'!$C$6,(1+T306)),0)","v":0},{"$f":"IF(U711>=2,IF(U1147,'Base Numbers'!$C$6,(1+U306)),0)","v":0},{"$f":"IF(V711>=2,IF(V1147,'Base Numbers'!$C$6,(1+V306)),0)","v":0},{"$f":"IF(W711>=2,IF(W1147,'Base Numbers'!$C$6,(1+W306)),0)","v":0},{"$f":"IF(X711>=2,IF(X1147,'Base Numbers'!$C$6,(1+X306)),0)","v":0},null,"*conjuration"]
[{"$nulls":3},"percent of rounds w/flaming sphere attack:",{"$f":"MIN(1,E291*E714/('Base Numbers'!$C$5*'Base Numbers'!$C$6))","v":0},{"$f":"MIN(1,F291*F714/('Base Numbers'!$C$5*'Base Numbers'!$C$6))","v":0},{"$f":"MIN(1,G291*G714/('Base Numbers'!$C$5*'Base Numbers'!$C$6))","v":0},{"$f":"MIN(1,H291*H714/('Base Numbers'!$C$5*'Base Numbers'!$C$6))","v":0},{"$f":"MIN(1,I291*I714/('Base Numbers'!$C$5*'Base Numbers'!$C$6))","v":0},{"$f":"MIN(1,J291*J714/('Base Numbers'!$C$5*'Base Numbers'!$C$6))","v":0},{"$f":"MIN(1,K291*K714/('Base Numbers'!$C$5*'Base Numbers'!$C$6))","v":0},{"$f":"MIN(1,L291*L714/('Base Numbers'!$C$5*'Base Numbers'!$C$6))","v":0},{"$f":"MIN(1,M291*M714/('Base Numbers'!$C$5*'Base Numbers'!$C$6))","v":0},{"$f":"MIN(1,N291*N714/('Base Numbers'!$C$5*'Base Numbers'!$C$6))","v":0},{"$f":"MIN(1,O291*O714/('Base Numbers'!$C$5*'Base Numbers'!$C$6))","v":0},{"$f":"MIN(1,P291*P714/('Base Numbers'!$C$5*'Base Numbers'!$C$6))","v":0},{"$f":"MIN(1,Q291*Q714/('Base Numbers'!$C$5*'Base Numbers'!$C$6))","v":0},{"$f":"MIN(1,R291*R714/('Base Numbers'!$C$5*'Base Numbers'!$C$6))","v":0},{"$f":"MIN(1,S291*S714/('Base Numbers'!$C$5*'Base Numbers'!$C$6))","v":0},{"$f":"MIN(1,T291*T714/('Base Numbers'!$C$5*'Base Numbers'!$C$6))","v":0},{"$f":"MIN(1,U291*U714/('Base Numbers'!$C$5*'Base Numbers'!$C$6))","v":0},{"$f":"MIN(1,V291*V714/('Base Numbers'!$C$5*'Base Numbers'!$C$6))","v":0},{"$f":"MIN(1,W291*W714/('Base Numbers'!$C$5*'Base Numbers'!$C$6))","v":0},{"$f":"MIN(1,X291*X714/('Base Numbers'!$C$5*'Base Numbers'!$C$6))","v":0}]
[]
[{"$nulls":3},"BIGBY'S HAND (spell attack, bonus action, no smites allowed)"]
[{"$nulls":3},"bigby's hand slot (left over from Spirit Guardians+Spirit Shroud)",{"$f":"SpellOrder!CL8","v":0},{"$f":"SpellOrder!CM8","v":0},{"$f":"SpellOrder!CN8","v":0},{"$f":"SpellOrder!CO8","v":0},{"$f":"SpellOrder!CP8","v":0},{"$f":"SpellOrder!CQ8","v":0},{"$f":"SpellOrder!CR8","v":0},{"$f":"SpellOrder!CS8","v":0},{"$f":"SpellOrder!CT8","v":0},{"$f":"SpellOrder!CU8","v":0},{"$f":"SpellOrder!CV8","v":0},{"$f":"SpellOrder!CW8","v":0},{"$f":"SpellOrder!CX8","v":0},{"$f":"SpellOrder!CY8","v":0},{"$f":"SpellOrder!CZ8","v":0},{"$f":"SpellOrder!DA8","v":0},{"$f":"SpellOrder!DB8","v":0},{"$f":"SpellOrder!DC8","v":0},{"$f":"SpellOrder!DD8","v":0},{"$f":"SpellOrder!DE8","v":0}]
[{"$nulls":3},"bigby's hand dice damage",{"$f":"IF(E718>=5,(4+2*(E718-5))*4.5+IF(E945,4.5,0)+E520,0)","v":0},{"$f":"IF(F718>=5,(4+2*(F718-5))*4.5+IF(F945,4.5,0)+F520,0)","v":0},0,0,0,0,0,0,0,0,0,0,0,0,0,0,0,0,0,0]
[{"$nulls":3},"bigby's hand static damage bonuses",{"$f":"IF(AND(E15>=10,E44>=1),E33,0)+E522","v":0},{"$f":"IF(AND(F15>=10,F44>=1),F33,0)+F522","v":0},0,0,0,0,0,0,0,0,0,0,0,0,0,0,0,0,0,0]
[{"$nulls":3},"bonus attacks used on bigby's hand attacks",{"$f":"IF(E718>=5,(1+E306),0)","v":0},0,0,0,0,0,0,0,0,0,0,0,0,0,0,0,0,0,0,0]
[{"$nulls":3},"avg bigby's hand attack damage (no crits, incl hit chance)",{"$f":"(E338*E453+(1-E453)*E336)*(E719+E720)","v":0},{"$f":"(F338*F453+(1-F453)*F336)*(F719+F720)","v":0},0,0,0,0,0,0,0,0,0,0,0,0,0,0,0,0,0,0,null,"melee spell bonus attack"]
[{"$nulls":3},"avg bigby's hand bonus crit damage",{"$f":"E476*E719","v":0},0,0,0,0,0,0,0,0,0,0,0,0,0,0,0,0,0,0,0,null,"melee spell bonus attack"]
[{"$nulls":3},"total avg bigby's hand damage ",{"$f":"E723+E722","v":0},{"$f":"F723+F722","v":0},0,0,0,0,0,0,0,0,0,0,0,0,0,0,0,0,0,{"$f":"X723+X722","v":0}]
[{"$nulls":3},"percent of rounds w/bigby's hand attack",{"$f":"MIN(1,E291*E721/('Base Numbers'!$C$5*'Base Numbers'!$C$6))","v":0},{"$f":"MIN(1,F291*F721/('Base Numbers'!$C$5*'Base Numbers'!$C$6))","v":0},{"$f":"MIN(1,G291*G721/('Base Numbers'!$C$5*'Base Numbers'!$C$6))","v":0},{"$f":"MIN(1,H291*H721/('Base Numbers'!$C$5*'Base Numbers'!$C$6))","v":0},{"$f":"MIN(1,I291*I721/('Base Numbers'!$C$5*'Base Numbers'!$C$6))","v":0},{"$f":"MIN(1,J291*J721/('Base Numbers'!$C$5*'Base Numbers'!$C$6))","v":0},{"$f":"MIN(1,K291*K721/('Base Numbers'!$C$5*'Base Numbers'!$C$6))","v":0},{"$f":"MIN(1,L291*L721/('Base Numbers'!$C$5*'Base Numbers'!$C$6))","v":0},{"$f":"MIN(1,M291*M721/('Base Numbers'!$C$5*'Base Numbers'!$C$6))","v":0},{"$f":"MIN(1,N291*N721/('Base Numbers'!$C$5*'Base Numbers'!$C$6))","v":0},{"$f":"MIN(1,O291*O721/('Base Numbers'!$C$5*'Base Numbers'!$C$6))","v":0},{"$f":"MIN(1,P291*P721/('Base Numbers'!$C$5*'Base Numbers'!$C$6))","v":0},{"$f":"MIN(1,Q291*Q721/('Base Numbers'!$C$5*'Base Numbers'!$C$6))","v":0},{"$f":"MIN(1,R291*R721/('Base Numbers'!$C$5*'Base Numbers'!$C$6))","v":0},{"$f":"MIN(1,S291*S721/('Base Numbers'!$C$5*'Base Numbers'!$C$6))","v":0},{"$f":"MIN(1,T291*T721/('Base Numbers'!$C$5*'Base Numbers'!$C$6))","v":0},{"$f":"MIN(1,U291*U721/('Base Numbers'!$C$5*'Base Numbers'!$C$6))","v":0},{"$f":"MIN(1,V291*V721/('Base Numbers'!$C$5*'Base Numbers'!$C$6))","v":0},{"$f":"MIN(1,W291*W721/('Base Numbers'!$C$5*'Base Numbers'!$C$6))","v":0},{"$f":"MIN(1,X291*X721/('Base Numbers'!$C$5*'Base Numbers'!$C$6))","v":0}]
[]
[{"$nulls":3},"ANIMATE OBJECTS (concentration, bonus action to attack)"]
[{"$nulls":3},"animate objects slot (left over from Sp Guards+Bs Hand+Sp Shrd)",{"$f":"SpellOrder!CL9","v":0},{"$f":"SpellOrder!CM9","v":0},{"$f":"SpellOrder!CN9","v":0},{"$f":"SpellOrder!CO9","v":0},{"$f":"SpellOrder!CP9","v":0},{"$f":"SpellOrder!CQ9","v":0},{"$f":"SpellOrder!CR9","v":0},{"$f":"SpellOrder!CS9","v":0},{"$f":"SpellOrder!CT9","v":0},{"$f":"SpellOrder!CU9","v":0},{"$f":"SpellOrder!CV9","v":0},{"$f":"SpellOrder!CW9","v":0},{"$f":"SpellOrder!CX9","v":0},{"$f":"SpellOrder!CY9","v":0},{"$f":"SpellOrder!CZ9","v":0},{"$f":"SpellOrder!DA9","v":0},{"$f":"SpellOrder!DB9","v":0},{"$f":"SpellOrder!DC9","v":0},{"$f":"SpellOrder!DD9","v":0},{"$f":"SpellOrder!DE9","v":0}]
[{"$nulls":3},"number of objects animated",{"$f":"IF(E728>=5,10+(E728-5)*2,0)","v":0},{"$f":"IF(F728>=5,10+(F728-5)*2,0)","v":0},0,0,0,0,0,0,0,0,0,0,0,0,0,0,0,0,0,0]
[{"$nulls":3},"animate objects survival rate",1,1,1,1,1,0.9,0.9,0.9,0.9,0.8,0.8,0.8,0.75,0.75,0.7,0.7,0.65,0.65,0.6,0.6]
[{"$nulls":3},"hit rate",{"$f":"1-(E129-1-8)/20","v":0.8},0.8,0.75,0.75,0.75,0.7,0.7,0.7,0.65,0.65,0.65,0.6,0.6,0.6,0.55,0.55,0.55,0.5,0.5,0.5]
[{"$nulls":3},"avg animate objects damage",{"$f":"E731*(2.5+4)*E729*E730*'Caster Tables'!$C$81","v":0},{"$f":"F731*(2.5+4)*F729*F730*'Caster Tables'!$C$81","v":0},{"$f":"G731*(2.5+4)*G729*G730*'Caster Tables'!$C$81","v":0},{"$f":"H731*(2.5+4)*H729*H730*'Caster Tables'!$C$81","v":0},{"$f":"I731*(2.5+4)*I729*I730*'Caster Tables'!$C$81","v":0},{"$f":"J731*(2.5+4)*J729*J730*'Caster Tables'!$C$81","v":0},{"$f":"K731*(2.5+4)*K729*K730*'Caster Tables'!$C$81","v":0},{"$f":"L731*(2.5+4)*L729*L730*'Caster Tables'!$C$81","v":0},{"$f":"M731*(2.5+4)*M729*M730*'Caster Tables'!$C$81","v":0},{"$f":"N731*(2.5+4)*N729*N730*'Caster Tables'!$C$81","v":0},{"$f":"O731*(2.5+4)*O729*O730*'Caster Tables'!$C$81","v":0},{"$f":"P731*(2.5+4)*P729*P730*'Caster Tables'!$C$81","v":0},{"$f":"Q731*(2.5+4)*Q729*Q730*'Caster Tables'!$C$81","v":0},{"$f":"R731*(2.5+4)*R729*R730*'Caster Tables'!$C$81","v":0},{"$f":"S731*(2.5+4)*S729*S730*'Caster Tables'!$C$81","v":0},{"$f":"T731*(2.5+4)*T729*T730*'Caster Tables'!$C$81","v":0},{"$f":"U731*(2.5+4)*U729*U730*'Caster Tables'!$C$81","v":0},{"$f":"V731*(2.5+4)*V729*V730*'Caster Tables'!$C$81","v":0},{"$f":"W731*(2.5+4)*W729*W730*'Caster Tables'!$C$81","v":0},{"$f":"X731*(2.5+4)*X729*X730*'Caster Tables'!$C$81","v":0},null,"discounted for nonmagical attack resistance"]
[{"$nulls":3},"avg animate objects bonus crit damage",{"$f":"2.5*0.05*E729","v":0},{"$f":"2.5*0.05*F729","v":0},0,0,0,0,0,0,0,0,0,0,0,0,0,0,0,0,0,0]
[{"$nulls":3},"bonus attacks used on animated object attacks",{"$f":"IF(E728>=5,(1+E306),0)","v":0},0,0,0,0,0,0,0,0,0,0,0,0,0,0,0,0,0,0,0]
[{"$nulls":3},"total avg animate objects damage ",{"$f":"E733+E732","v":0},{"$f":"F733+F732","v":0},0,0,0,0,0,0,0,0,0,0,0,0,0,0,0,0,0,0]
[{"$nulls":3},"percent of rounds w/animate objects attack:",{"$f":"MIN(1,E291*E734/('Base Numbers'!$C$5*'Base Numbers'!$C$6))","v":0},{"$f":"MIN(1,F291*F734/('Base Numbers'!$C$5*'Base Numbers'!$C$6))","v":0},{"$f":"MIN(1,G291*G734/('Base Numbers'!$C$5*'Base Numbers'!$C$6))","v":0},{"$f":"MIN(1,H291*H734/('Base Numbers'!$C$5*'Base Numbers'!$C$6))","v":0},{"$f":"MIN(1,I291*I734/('Base Numbers'!$C$5*'Base Numbers'!$C$6))","v":0},{"$f":"MIN(1,J291*J734/('Base Numbers'!$C$5*'Base Numbers'!$C$6))","v":0},{"$f":"MIN(1,K291*K734/('Base Numbers'!$C$5*'Base Numbers'!$C$6))","v":0},{"$f":"MIN(1,L291*L734/('Base Numbers'!$C$5*'Base Numbers'!$C$6))","v":0},{"$f":"MIN(1,M291*M734/('Base Numbers'!$C$5*'Base Numbers'!$C$6))","v":0},{"$f":"MIN(1,N291*N734/('Base Numbers'!$C$5*'Base Numbers'!$C$6))","v":0},{"$f":"MIN(1,O291*O734/('Base Numbers'!$C$5*'Base Numbers'!$C$6))","v":0},{"$f":"MIN(1,P291*P734/('Base Numbers'!$C$5*'Base Numbers'!$C$6))","v":0},{"$f":"MIN(1,Q291*Q734/('Base Numbers'!$C$5*'Base Numbers'!$C$6))","v":0},{"$f":"MIN(1,R291*R734/('Base Numbers'!$C$5*'Base Numbers'!$C$6))","v":0},{"$f":"MIN(1,S291*S734/('Base Numbers'!$C$5*'Base Numbers'!$C$6))","v":0},{"$f":"MIN(1,T291*T734/('Base Numbers'!$C$5*'Base Numbers'!$C$6))","v":0},{"$f":"MIN(1,U291*U734/('Base Numbers'!$C$5*'Base Numbers'!$C$6))","v":0},{"$f":"MIN(1,V291*V734/('Base Numbers'!$C$5*'Base Numbers'!$C$6))","v":0},{"$f":"MIN(1,W291*W734/('Base Numbers'!$C$5*'Base Numbers'!$C$6))","v":0},{"$f":"MIN(1,X291*X734/('Base Numbers'!$C$5*'Base Numbers'!$C$6))","v":0}]
[]
[{"$nulls":3},"CROWN OF STARS"]
[{"$nulls":3},"crown of stars dice damage per attack",{"$f":"IF(E237>=1,26+E520,0)","v":0},{"$f":"IF(F237>=1,26+F520,0)","v":0},0,0,0,0,0,0,0,0,0,0,0,0,0,0,0,0,0,0]
[{"$nulls":3},"crown of stars static damage per attack",{"$f":"E522","v":0},{"$f":"F522","v":0},0,0,0,0,0,0,0,0,0,0,0,0,0,0,0,0,0,0]
[{"$nulls":3},"crown of stars crit damage per attack",{"$f":"E476*E739","v":0},{"$f":"F476*F739","v":0},0,0,0,0,0,0,0,0,0,0,0,0,0,0,0,0,0,0]
[{"$nulls":3},"bonus attacks used on crown of stars (assume used on longer fight)",{"$f":"E237*MIN(7,1.25*'Base Numbers'!$C$6)","v":0},{"$f":"F237*MIN(7,1.25*'Base Numbers'!$C$6)","v":0},{"$f":"G237*MIN(7,1.25*'Base Numbers'!$C$6)","v":0},{"$f":"H237*MIN(7,1.25*'Base Numbers'!$C$6)","v":0},{"$f":"I237*MIN(7,1.25*'Base Numbers'!$C$6)","v":0},{"$f":"J237*MIN(7,1.25*'Base Numbers'!$C$6)","v":0},{"$f":"K237*MIN(7,1.25*'Base Numbers'!$C$6)","v":0},{"$f":"L237*MIN(7,1.25*'Base Numbers'!$C$6)","v":0},{"$f":"M237*MIN(7,1.25*'Base Numbers'!$C$6)","v":0},{"$f":"N237*MIN(7,1.25*'Base Numbers'!$C$6)","v":0},{"$f":"O237*MIN(7,1.25*'Base Numbers'!$C$6)","v":0},{"$f":"P237*MIN(7,1.25*'Base Numbers'!$C$6)","v":0},{"$f":"Q237*MIN(7,1.25*'Base Numbers'!$C$6)","v":0},{"$f":"R237*MIN(7,1.25*'Base Numbers'!$C$6)","v":0},{"$f":"S237*MIN(7,1.25*'Base Numbers'!$C$6)","v":0},{"$f":"T237*MIN(7,1.25*'Base Numbers'!$C$6)","v":0},{"$f":"U237*MIN(7,1.25*'Base Numbers'!$C$6)","v":0},{"$f":"V237*MIN(7,1.25*'Base Numbers'!$C$6)","v":0},{"$f":"W237*MIN(7,1.25*'Base Numbers'!$C$6)","v":0},{"$f":"X237*MIN(7,1.25*'Base Numbers'!$C$6)","v":0}]
[{"$nulls":3},"damage including hit chance",{"$f":"E461*(E739+E740)+E741","v":0},{"$f":"F461*(F739+F740)+F741","v":0},0,0,0,0,0,0,0,0,0,0,0,0,0,0,0,0,0,0]
[{"$nulls":3},"percent of rounds w/crown of stars attack:",{"$f":"MIN(1,E291*E742/('Base Numbers'!$C$5*'Base Numbers'!$C$6))","v":0},{"$f":"MIN(1,F291*F742/('Base Numbers'!$C$5*'Base Numbers'!$C$6))","v":0},{"$f":"MIN(1,G291*G742/('Base Numbers'!$C$5*'Base Numbers'!$C$6))","v":0},{"$f":"MIN(1,H291*H742/('Base Numbers'!$C$5*'Base Numbers'!$C$6))","v":0},{"$f":"MIN(1,I291*I742/('Base Numbers'!$C$5*'Base Numbers'!$C$6))","v":0},{"$f":"MIN(1,J291*J742/('Base Numbers'!$C$5*'Base Numbers'!$C$6))","v":0},{"$f":"MIN(1,K291*K742/('Base Numbers'!$C$5*'Base Numbers'!$C$6))","v":0},{"$f":"MIN(1,L291*L742/('Base Numbers'!$C$5*'Base Numbers'!$C$6))","v":0},{"$f":"MIN(1,M291*M742/('Base Numbers'!$C$5*'Base Numbers'!$C$6))","v":0},{"$f":"MIN(1,N291*N742/('Base Numbers'!$C$5*'Base Numbers'!$C$6))","v":0},{"$f":"MIN(1,O291*O742/('Base Numbers'!$C$5*'Base Numbers'!$C$6))","v":0},{"$f":"MIN(1,P291*P742/('Base Numbers'!$C$5*'Base Numbers'!$C$6))","v":0},{"$f":"MIN(1,Q291*Q742/('Base Numbers'!$C$5*'Base Numbers'!$C$6))","v":0},{"$f":"MIN(1,R291*R742/('Base Numbers'!$C$5*'Base Numbers'!$C$6))","v":0},{"$f":"MIN(1,S291*S742/('Base Numbers'!$C$5*'Base Numbers'!$C$6))","v":0},{"$f":"MIN(1,T291*T742/('Base Numbers'!$C$5*'Base Numbers'!$C$6))","v":0},{"$f":"MIN(1,U291*U742/('Base Numbers'!$C$5*'Base Numbers'!$C$6))","v":0},{"$f":"MIN(1,V291*V742/('Base Numbers'!$C$5*'Base Numbers'!$C$6))","v":0},{"$f":"MIN(1,W291*W742/('Base Numbers'!$C$5*'Base Numbers'!$C$6))","v":0},{"$f":"MIN(1,X291*X742/('Base Numbers'!$C$5*'Base Numbers'!$C$6))","v":0}]
[]
[{"$nulls":3},"SPIRIT GUARDIANS"]
[{"$nulls":3},"AOE target multiplier",1,1,1,1,1,1,1,1,1,1,1,1,1,1,1,1,1,1,1,1]
[{"$nulls":3},"avg spirit guardians targets",{"$f":"'Base Numbers'!$G$20*E747","v":2.5},{"$f":"'Base Numbers'!$G$20*F747","v":2.5},{"$f":"'Base Numbers'!$G$20*G747","v":2.5},{"$f":"'Base Numbers'!$G$20*H747","v":2.5},{"$f":"'Base Numbers'!$G$20*I747","v":2.5},{"$f":"'Base Numbers'!$G$20*J747","v":2.5},{"$f":"'Base Numbers'!$G$20*K747","v":2.5},{"$f":"'Base Numbers'!$G$20*L747","v":2.5},{"$f":"'Base Numbers'!$G$20*M747","v":2.5},{"$f":"'Base Numbers'!$G$20*N747","v":2.5},{"$f":"'Base Numbers'!$G$20*O747","v":2.5},{"$f":"'Base Numbers'!$G$20*P747","v":2.5},{"$f":"'Base Numbers'!$G$20*Q747","v":2.5},{"$f":"'Base Numbers'!$G$20*R747","v":2.5},{"$f":"'Base Numbers'!$G$20*S747","v":2.5},{"$f":"'Base Numbers'!$G$20*T747","v":2.5},{"$f":"'Base Numbers'!$G$20*U747","v":2.5},{"$f":"'Base Numbers'!$G$20*V747","v":2.5},{"$f":"'Base Numbers'!$G$20*W747","v":2.5},{"$f":"'Base Numbers'!$G$20*X747","v":2.5}]
[{"$nulls":3},"total  spirit guardians casts",{"$f":"E232","v":0},0,0,0,0,0,0,0,0,0,0,0,0,0,0,0,0,0,0,0]
[{"$nulls":3},"average spirit guardians slot",{"$f":"SpellOrder!CL6","v":0},{"$f":"SpellOrder!CM6","v":0},{"$f":"SpellOrder!CN6","v":0},{"$f":"SpellOrder!CO6","v":0},{"$f":"SpellOrder!CP6","v":0},{"$f":"SpellOrder!CQ6","v":0},{"$f":"SpellOrder!CR6","v":0},{"$f":"SpellOrder!CS6","v":0},{"$f":"SpellOrder!CT6","v":0},{"$f":"SpellOrder!CU6","v":0},{"$f":"SpellOrder!CV6","v":0},{"$f":"SpellOrder!CW6","v":0},{"$f":"SpellOrder!CX6","v":0},{"$f":"SpellOrder!CY6","v":0},{"$f":"SpellOrder!CZ6","v":0},{"$f":"SpellOrder!DA6","v":0},{"$f":"SpellOrder!DB6","v":0},{"$f":"SpellOrder!DC6","v":0},{"$f":"SpellOrder!DD6","v":0},{"$f":"SpellOrder!DE6","v":0}]
[{"$nulls":3},"avg opp save prob (Wis save)",{"$f":"(13-E35-MAX(E34,E33,E32)+'Caster Tables'!C77)/20","v":0.375},{"$f":"(13-F35-MAX(F34,F33,F32)+'Caster Tables'!D77)/20","v":0.4},{"$f":"(13-G35-MAX(G34,G33,G32)+'Caster Tables'!E77)/20","v":0.425},{"$f":"(13-H35-MAX(H34,H33,H32)+'Caster Tables'!F77)/20","v":0.45},{"$f":"(13-I35-MAX(I34,I33,I32)+'Caster Tables'!G77)/20","v":0.425},{"$f":"(13-J35-MAX(J34,J33,J32)+'Caster Tables'!H77)/20","v":0.45},{"$f":"(13-K35-MAX(K34,K33,K32)+'Caster Tables'!I77)/20","v":0.475},{"$f":"(13-L35-MAX(L34,L33,L32)+'Caster Tables'!J77)/20","v":0.5},{"$f":"(13-M35-MAX(M34,M33,M32)+'Caster Tables'!K77)/20","v":0.475},{"$f":"(13-N35-MAX(N34,N33,N32)+'Caster Tables'!L77)/20","v":0.5},{"$f":"(13-O35-MAX(O34,O33,O32)+'Caster Tables'!M77)/20","v":0.525},{"$f":"(13-P35-MAX(P34,P33,P32)+'Caster Tables'!N77)/20","v":0.55},{"$f":"(13-Q35-MAX(Q34,Q33,Q32)+'Caster Tables'!O77)/20","v":0.525},{"$f":"(13-R35-MAX(R34,R33,R32)+'Caster Tables'!P77)/20","v":0.55},{"$f":"(13-S35-MAX(S34,S33,S32)+'Caster Tables'!Q77)/20","v":0.575},{"$f":"(13-T35-MAX(T34,T33,T32)+'Caster Tables'!R77)/20","v":0.6},{"$f":"(13-U35-MAX(U34,U33,U32)+'Caster Tables'!S77)/20","v":0.575},{"$f":"(13-V35-MAX(V34,V33,V32)+'Caster Tables'!T77)/20","v":0.6},{"$f":"(13-W35-MAX(W34,W33,W32)+'Caster Tables'!U77)/20","v":0.625},{"$f":"(13-X35-MAX(X34,X33,X32)+'Caster Tables'!V77)/20","v":0.65}]
[{"$nulls":3},"avg spirit guardians dmg per round active",{"$f":"4.5*E750*E748*(1+(1-E751))/2","v":0},{"$f":"4.5*F750*F748*(1+(1-F751))/2","v":0},0,0,0,0,0,0,0,0,0,0,0,0,0,0,0,0,0,0]
[{"$nulls":3},"avg spirit guardians uptime ",{"$f":"IF(E1147,'Base Numbers'!C6,E749*E302)","v":0},{"$f":"IF(F1147,'Base Numbers'!D6,F749*F302)","v":0},{"$f":"IF(G1147,'Base Numbers'!E6,G749*G302)","v":0},{"$f":"IF(H1147,'Base Numbers'!F6,H749*H302)","v":0},{"$f":"IF(I1147,'Base Numbers'!G6,I749*I302)","v":0},{"$f":"IF(J1147,'Base Numbers'!H6,J749*J302)","v":0},{"$f":"IF(K1147,'Base Numbers'!I6,K749*K302)","v":0},{"$f":"IF(L1147,'Base Numbers'!J6,L749*L302)","v":0},{"$f":"IF(M1147,'Base Numbers'!K6,M749*M302)","v":0},{"$f":"IF(N1147,'Base Numbers'!L6,N749*N302)","v":0},{"$f":"IF(O1147,'Base Numbers'!M6,O749*O302)","v":0},{"$f":"IF(P1147,'Base Numbers'!N6,P749*P302)","v":0},{"$f":"IF(Q1147,'Base Numbers'!O6,Q749*Q302)","v":0},{"$f":"IF(R1147,'Base Numbers'!P6,R749*R302)","v":0},{"$f":"IF(S1147,'Base Numbers'!Q6,S749*S302)","v":0},{"$f":"IF(T1147,'Base Numbers'!R6,T749*T302)","v":0},{"$f":"IF(U1147,'Base Numbers'!S6,U749*U302)","v":0},{"$f":"IF(V1147,'Base Numbers'!T6,V749*V302)","v":0},{"$f":"IF(W1147,'Base Numbers'!U6,W749*W302)","v":0},{"$f":"IF(X1147,'Base Numbers'!V6,X749*X302)","v":0}]
[{"$nulls":3},"avg spirit guardians damage per round",{"$f":"E752*E753/('Base Numbers'!$C$5*'Base Numbers'!$C$6)","v":0},{"$f":"F752*F753/('Base Numbers'!$C$5*'Base Numbers'!$C$6)","v":0},{"$f":"G752*G753/('Base Numbers'!$C$5*'Base Numbers'!$C$6)","v":0},{"$f":"H752*H753/('Base Numbers'!$C$5*'Base Numbers'!$C$6)","v":0},{"$f":"I752*I753/('Base Numbers'!$C$5*'Base Numbers'!$C$6)","v":0},{"$f":"J752*J753/('Base Numbers'!$C$5*'Base Numbers'!$C$6)","v":0},{"$f":"K752*K753/('Base Numbers'!$C$5*'Base Numbers'!$C$6)","v":0},{"$f":"L752*L753/('Base Numbers'!$C$5*'Base Numbers'!$C$6)","v":0},{"$f":"M752*M753/('Base Numbers'!$C$5*'Base Numbers'!$C$6)","v":0},{"$f":"N752*N753/('Base Numbers'!$C$5*'Base Numbers'!$C$6)","v":0},{"$f":"O752*O753/('Base Numbers'!$C$5*'Base Numbers'!$C$6)","v":0},{"$f":"P752*P753/('Base Numbers'!$C$5*'Base Numbers'!$C$6)","v":0},{"$f":"Q752*Q753/('Base Numbers'!$C$5*'Base Numbers'!$C$6)","v":0},{"$f":"R752*R753/('Base Numbers'!$C$5*'Base Numbers'!$C$6)","v":0},{"$f":"S752*S753/('Base Numbers'!$C$5*'Base Numbers'!$C$6)","v":0},{"$f":"T752*T753/('Base Numbers'!$C$5*'Base Numbers'!$C$6)","v":0},{"$f":"U752*U753/('Base Numbers'!$C$5*'Base Numbers'!$C$6)","v":0},{"$f":"V752*V753/('Base Numbers'!$C$5*'Base Numbers'!$C$6)","v":0},{"$f":"W752*W753/('Base Numbers'!$C$5*'Base Numbers'!$C$6)","v":0},{"$f":"X752*X753/('Base Numbers'!$C$5*'Base Numbers'!$C$6)","v":0}]
[]
[{"$nulls":3},"FIREBALL"]
[{"$nulls":3},"fireball slot (left over from Spirit Guardians, Bigby's Hand, Animate Objs)",{"$f":"SpellOrder!CL10","v":0},{"$f":"SpellOrder!CM10","v":0},{"$f":"SpellOrder!CN10","v":0},{"$f":"SpellOrder!CO10","v":0},{"$f":"SpellOrder!CP10","v":0},{"$f":"SpellOrder!CQ10","v":0},{"$f":"SpellOrder!CR10","v":0},{"$f":"SpellOrder!CS10","v":0},{"$f":"SpellOrder!CT10","v":0},{"$f":"SpellOrder!CU10","v":0},{"$f":"SpellOrder!CV10","v":0},{"$f":"SpellOrder!CW10","v":0},{"$f":"SpellOrder!CX10","v":0},{"$f":"SpellOrder!CY10","v":0},{"$f":"SpellOrder!CZ10","v":0},{"$f":"SpellOrder!DA10","v":0},{"$f":"SpellOrder!DB10","v":0},{"$f":"SpellOrder!DC10","v":0},{"$f":"SpellOrder!DD10","v":0},{"$f":"SpellOrder!DE10","v":0}]
[{"$nulls":3},"fireball AOE multiplier",2,2,2,2,2,2,2,2,2,2,2,2,2,2,2,2,2,2,2,2]
[{"$nulls":3},"avg fireball targets",{"$f":"E758*'Base Numbers'!$G$20","v":5},{"$f":"F758*'Base Numbers'!$G$20","v":5},{"$f":"G758*'Base Numbers'!$G$20","v":5},{"$f":"H758*'Base Numbers'!$G$20","v":5},{"$f":"I758*'Base Numbers'!$G$20","v":5},{"$f":"J758*'Base Numbers'!$G$20","v":5},{"$f":"K758*'Base Numbers'!$G$20","v":5},{"$f":"L758*'Base Numbers'!$G$20","v":5},{"$f":"M758*'Base Numbers'!$G$20","v":5},{"$f":"N758*'Base Numbers'!$G$20","v":5},{"$f":"O758*'Base Numbers'!$G$20","v":5},{"$f":"P758*'Base Numbers'!$G$20","v":5},{"$f":"Q758*'Base Numbers'!$G$20","v":5},{"$f":"R758*'Base Numbers'!$G$20","v":5},{"$f":"S758*'Base Numbers'!$G$20","v":5},{"$f":"T758*'Base Numbers'!$G$20","v":5},{"$f":"U758*'Base Numbers'!$G$20","v":5},{"$f":"V758*'Base Numbers'!$G$20","v":5},{"$f":"W758*'Base Numbers'!$G$20","v":5},{"$f":"X758*'Base Numbers'!$G$20","v":5}]
[{"$nulls":3},"avg fireball target save prob (Dex save)",{"$f":"(13-E35-MAX(E34,E33,E32)+'Caster Tables'!C74)/20","v":0.45},{"$f":"(13-F35-MAX(F34,F33,F32)+'Caster Tables'!D74)/20","v":0.465},{"$f":"(13-G35-MAX(G34,G33,G32)+'Caster Tables'!E74)/20","v":0.475},{"$f":"(13-H35-MAX(H34,H33,H32)+'Caster Tables'!F74)/20","v":0.485},{"$f":"(13-I35-MAX(I34,I33,I32)+'Caster Tables'!G74)/20","v":0.4425},{"$f":"(13-J35-MAX(J34,J33,J32)+'Caster Tables'!H74)/20","v":0.45},{"$f":"(13-K35-MAX(K34,K33,K32)+'Caster Tables'!I74)/20","v":0.45999999999999996},{"$f":"(13-L35-MAX(L34,L33,L32)+'Caster Tables'!J74)/20","v":0.475},{"$f":"(13-M35-MAX(M34,M33,M32)+'Caster Tables'!K74)/20","v":0.4375},{"$f":"(13-N35-MAX(N34,N33,N32)+'Caster Tables'!L74)/20","v":0.45},{"$f":"(13-O35-MAX(O34,O33,O32)+'Caster Tables'!M74)/20","v":0.4625},{"$f":"(13-P35-MAX(P34,P33,P32)+'Caster Tables'!N74)/20","v":0.475},{"$f":"(13-Q35-MAX(Q34,Q33,Q32)+'Caster Tables'!O74)/20","v":0.4375},{"$f":"(13-R35-MAX(R34,R33,R32)+'Caster Tables'!P74)/20","v":0.45},{"$f":"(13-S35-MAX(S34,S33,S32)+'Caster Tables'!Q74)/20","v":0.5},{"$f":"(13-T35-MAX(T34,T33,T32)+'Caster Tables'!R74)/20","v":0.55},{"$f":"(13-U35-MAX(U34,U33,U32)+'Caster Tables'!S74)/20","v":0.525},{"$f":"(13-V35-MAX(V34,V33,V32)+'Caster Tables'!T74)/20","v":0.55},{"$f":"(13-W35-MAX(W34,W33,W32)+'Caster Tables'!U74)/20","v":0.575},{"$f":"(13-X35-MAX(X34,X33,X32)+'Caster Tables'!V74)/20","v":0.6}]
[{"$nulls":3},"avg fireball damage per cast",{"$f":"E759*(((MAX(0,E757-3)+8)*3.5+E41*E32+IF(E945,4.5,0))*(E760)*0.5+((MAX(0,E757-3)+8)*3.5+E41*E32+IF(E945,4.5,0))*(1-E760))","v":108.50000000000001},107.44999999999999,106.75,106.05000000000001,109.025,108.50000000000001,107.80000000000001,106.75,109.375,108.50000000000001,107.625,106.75,109.375,108.50000000000001,105,101.49999999999999,103.25,101.49999999999999,99.75000000000001,98]
[{"$nulls":3},"avg fireball damage per round (adj for number of rounds)",{"$f":"E761*E249/('Base Numbers'!$C$5*'Base Numbers'!$C$6)","v":0},{"$f":"F761*F249/('Base Numbers'!$C$5*'Base Numbers'!$C$6)","v":0},{"$f":"G761*G249/('Base Numbers'!$C$5*'Base Numbers'!$C$6)","v":0},{"$f":"H761*H249/('Base Numbers'!$C$5*'Base Numbers'!$C$6)","v":0},{"$f":"I761*I249/('Base Numbers'!$C$5*'Base Numbers'!$C$6)","v":0},{"$f":"J761*J249/('Base Numbers'!$C$5*'Base Numbers'!$C$6)","v":0},{"$f":"K761*K249/('Base Numbers'!$C$5*'Base Numbers'!$C$6)","v":0},{"$f":"L761*L249/('Base Numbers'!$C$5*'Base Numbers'!$C$6)","v":0},{"$f":"M761*M249/('Base Numbers'!$C$5*'Base Numbers'!$C$6)","v":0},{"$f":"N761*N249/('Base Numbers'!$C$5*'Base Numbers'!$C$6)","v":0},{"$f":"O761*O249/('Base Numbers'!$C$5*'Base Numbers'!$C$6)","v":0},{"$f":"P761*P249/('Base Numbers'!$C$5*'Base Numbers'!$C$6)","v":0},{"$f":"Q761*Q249/('Base Numbers'!$C$5*'Base Numbers'!$C$6)","v":0},{"$f":"R761*R249/('Base Numbers'!$C$5*'Base Numbers'!$C$6)","v":0},{"$f":"S761*S249/('Base Numbers'!$C$5*'Base Numbers'!$C$6)","v":0},{"$f":"T761*T249/('Base Numbers'!$C$5*'Base Numbers'!$C$6)","v":0},{"$f":"U761*U249/('Base Numbers'!$C$5*'Base Numbers'!$C$6)","v":0},{"$f":"V761*V249/('Base Numbers'!$C$5*'Base Numbers'!$C$6)","v":0},{"$f":"W761*W249/('Base Numbers'!$C$5*'Base Numbers'!$C$6)","v":0},{"$f":"X761*X249/('Base Numbers'!$C$5*'Base Numbers'!$C$6)","v":0}]
[]
[{"$nulls":3},"STEEL WIND STRIKE"]
[{"$nulls":3},"targets",{"$f":"MIN(5,'Base Numbers'!$G$20+1)","v":3.5},{"$f":"MIN(5,'Base Numbers'!$G$20+1)","v":3.5},{"$f":"MIN(5,'Base Numbers'!$G$20+1)","v":3.5},{"$f":"MIN(5,'Base Numbers'!$G$20+1)","v":3.5},{"$f":"MIN(5,'Base Numbers'!$G$20+1)","v":3.5},{"$f":"MIN(5,'Base Numbers'!$G$20+1)","v":3.5},{"$f":"MIN(5,'Base Numbers'!$G$20+1)","v":3.5},{"$f":"MIN(5,'Base Numbers'!$G$20+1)","v":3.5},{"$f":"MIN(5,'Base Numbers'!$G$20+1)","v":3.5},{"$f":"MIN(5,'Base Numbers'!$G$20+1)","v":3.5},{"$f":"MIN(5,'Base Numbers'!$G$20+1)","v":3.5},{"$f":"MIN(5,'Base Numbers'!$G$20+1)","v":3.5},{"$f":"MIN(5,'Base Numbers'!$G$20+1)","v":3.5},{"$f":"MIN(5,'Base Numbers'!$G$20+1)","v":3.5},{"$f":"MIN(5,'Base Numbers'!$G$20+1)","v":3.5},{"$f":"MIN(5,'Base Numbers'!$G$20+1)","v":3.5},{"$f":"MIN(5,'Base Numbers'!$G$20+1)","v":3.5},{"$f":"MIN(5,'Base Numbers'!$G$20+1)","v":3.5},{"$f":"MIN(5,'Base Numbers'!$G$20+1)","v":3.5},{"$f":"MIN(5,'Base Numbers'!$G$20+1)","v":3.5}]
[{"$nulls":3},"dmg per target",33,33,33,33,33,33,33,33,33,33,33,33,33,33,33,33,33,33,33,33]
[{"$nulls":3},"damage including hit chance",{"$f":"(E765-1)*(E445*E337*E766+(1-E445)*E335*E766)+(E444*E337*E766+(1-E444)*E335*E766)","v":75.075},75.075,69.3,69.3,75.075,69.3,69.3,69.3,69.3,69.3,69.3,63.525000000000006,69.3,69.3,63.525000000000006,63.525000000000006,69.3,63.525000000000006,63.525000000000006,63.525000000000006]
[{"$nulls":3},"bonus crit damage",{"$f":"(E765-1)*(E445*E466*E766+(1-E445)*E465*E766)+(E444*E466*E766+(1-E444)*E465*E766)","v":5.775},5.775,5.775,5.775,5.775,5.775,5.775,5.775,5.775,5.775,5.775,5.775,5.775,5.775,5.775,5.775,5.775,5.775,5.775,5.775]
[{"$nulls":3},"avg damage per round",{"$f":"(E767+E768)*E235/('Base Numbers'!$C$5*'Base Numbers'!$C$6)","v":0},{"$f":"(F767+F768)*F235/('Base Numbers'!$C$5*'Base Numbers'!$C$6)","v":0},{"$f":"(G767+G768)*G235/('Base Numbers'!$C$5*'Base Numbers'!$C$6)","v":0},{"$f":"(H767+H768)*H235/('Base Numbers'!$C$5*'Base Numbers'!$C$6)","v":0},{"$f":"(I767+I768)*I235/('Base Numbers'!$C$5*'Base Numbers'!$C$6)","v":0},{"$f":"(J767+J768)*J235/('Base Numbers'!$C$5*'Base Numbers'!$C$6)","v":0},{"$f":"(K767+K768)*K235/('Base Numbers'!$C$5*'Base Numbers'!$C$6)","v":0},{"$f":"(L767+L768)*L235/('Base Numbers'!$C$5*'Base Numbers'!$C$6)","v":0},{"$f":"(M767+M768)*M235/('Base Numbers'!$C$5*'Base Numbers'!$C$6)","v":0},{"$f":"(N767+N768)*N235/('Base Numbers'!$C$5*'Base Numbers'!$C$6)","v":0},{"$f":"(O767+O768)*O235/('Base Numbers'!$C$5*'Base Numbers'!$C$6)","v":0},{"$f":"(P767+P768)*P235/('Base Numbers'!$C$5*'Base Numbers'!$C$6)","v":0},{"$f":"(Q767+Q768)*Q235/('Base Numbers'!$C$5*'Base Numbers'!$C$6)","v":0},{"$f":"(R767+R768)*R235/('Base Numbers'!$C$5*'Base Numbers'!$C$6)","v":0},{"$f":"(S767+S768)*S235/('Base Numbers'!$C$5*'Base Numbers'!$C$6)","v":0},{"$f":"(T767+T768)*T235/('Base Numbers'!$C$5*'Base Numbers'!$C$6)","v":0},{"$f":"(U767+U768)*U235/('Base Numbers'!$C$5*'Base Numbers'!$C$6)","v":0},{"$f":"(V767+V768)*V235/('Base Numbers'!$C$5*'Base Numbers'!$C$6)","v":0},{"$f":"(W767+W768)*W235/('Base Numbers'!$C$5*'Base Numbers'!$C$6)","v":0},{"$f":"(X767+X768)*X235/('Base Numbers'!$C$5*'Base Numbers'!$C$6)","v":0}]
[]
[{"$nulls":3},"SUMMONS"]
[{"$nulls":3},"summon beast slot",{"$f":"SpellOrder!CL12","v":0},{"$f":"SpellOrder!CM12","v":0},{"$f":"SpellOrder!CN12","v":0},{"$f":"SpellOrder!CO12","v":0},{"$f":"SpellOrder!CP12","v":0},{"$f":"SpellOrder!CQ12","v":0},{"$f":"SpellOrder!CR12","v":0},{"$f":"SpellOrder!CS12","v":0},{"$f":"SpellOrder!CT12","v":0},{"$f":"SpellOrder!CU12","v":0},{"$f":"SpellOrder!CV12","v":0},{"$f":"SpellOrder!CW12","v":0},{"$f":"SpellOrder!CX12","v":0},{"$f":"SpellOrder!CY12","v":0},{"$f":"SpellOrder!CZ12","v":0},{"$f":"SpellOrder!DA12","v":0},{"$f":"SpellOrder!DB12","v":0},{"$f":"SpellOrder!DC12","v":0},{"$f":"SpellOrder!DD12","v":0},{"$f":"SpellOrder!DE12","v":0}]
[{"$nulls":3},"s. beast hp (flying)",{"$f":"IF(E772>=2,20+(E772-2)*5+E1148+E1191,0)","v":0},0,0,0,0,0,0,0,0,0,0,0,0,0,0,0,0,0,0,0]
[{"$nulls":3},"s. beast damage per attack",{"$f":"IF(E772>=2,8.5+E772,0)","v":0},{"$f":"IF(F772>=2,8.5+F772,0)","v":0},0,0,0,0,0,0,0,0,0,0,0,0,0,0,0,0,0,0]
[{"$nulls":3},"s. beast number of attacks",{"$f":"IF(E772>=2,FLOOR(E772/2,1),0)","v":0},{"$f":"IF(F772>=2,FLOOR(F772/2,1),0)","v":0},0,0,0,0,0,0,0,0,0,0,0,0,0,0,0,0,0,0]
[{"$nulls":3},"s. beast one-die hit chance (WIS)",{"$f":"MIN(0.95,1-(E129-1-E34-E35-E366)/20)","v":0.65},0.65,0.6,0.6,0.65,0.6,0.6,0.6,0.6,0.6,0.6,0.55,0.6,0.6,0.55,0.55,0.6,0.55,0.55,0.55]
[{"$nulls":3},"s. beast avg adv pct (flying)",{"$f":"E380+E479+E412+E400","v":0},0,0,0,0,0,0,0,0,0,0,0,0,0,0,0,0,0,0,0]
[{"$nulls":3},"s. beast avg adv pct (melee, pack tactics)",{"$f":"MIN(1,E777+'Base Numbers'!$G$14^2+E400)","v":0.6400000000000001},{"$f":"MIN(1,F777+'Base Numbers'!$G$14^2+F400)","v":0.6400000000000001},{"$f":"MIN(1,G777+'Base Numbers'!$G$14^2+G400)","v":0.6400000000000001},{"$f":"MIN(1,H777+'Base Numbers'!$G$14^2+H400)","v":0.6400000000000001},{"$f":"MIN(1,I777+'Base Numbers'!$G$14^2+I400)","v":0.6400000000000001},{"$f":"MIN(1,J777+'Base Numbers'!$G$14^2+J400)","v":0.6400000000000001},{"$f":"MIN(1,K777+'Base Numbers'!$G$14^2+K400)","v":0.6400000000000001},{"$f":"MIN(1,L777+'Base Numbers'!$G$14^2+L400)","v":0.6400000000000001},{"$f":"MIN(1,M777+'Base Numbers'!$G$14^2+M400)","v":0.6400000000000001},{"$f":"MIN(1,N777+'Base Numbers'!$G$14^2+N400)","v":0.6400000000000001},{"$f":"MIN(1,O777+'Base Numbers'!$G$14^2+O400)","v":0.6400000000000001},{"$f":"MIN(1,P777+'Base Numbers'!$G$14^2+P400)","v":0.6400000000000001},{"$f":"MIN(1,Q777+'Base Numbers'!$G$14^2+Q400)","v":0.6400000000000001},{"$f":"MIN(1,R777+'Base Numbers'!$G$14^2+R400)","v":0.6400000000000001},{"$f":"MIN(1,S777+'Base Numbers'!$G$14^2+S400)","v":0.6400000000000001},{"$f":"MIN(1,T777+'Base Numbers'!$G$14^2+T400)","v":0.6400000000000001},{"$f":"MIN(1,U777+'Base Numbers'!$G$14^2+U400)","v":0.6400000000000001},{"$f":"MIN(1,V777+'Base Numbers'!$G$14^2+V400)","v":0.6400000000000001},{"$f":"MIN(1,W777+'Base Numbers'!$G$14^2+W400)","v":0.6400000000000001},{"$f":"MIN(1,X777+'Base Numbers'!$G$14^2+X400)","v":0.6400000000000001}]
[{"$nulls":3},"s. beast hit chance (flying, melee spell attack)",{"$f":"E777*(1-(1-E776)^2)+(1-E777)*E776","v":0.65},{"$f":"F777*(1-(1-F776)^2)+(1-F777)*F776","v":0.65},0.6,0.6,0.65,0.6,0.6,0.6,0.6,0.6,0.6,0.55,0.6,0.6,0.55,0.55,0.6,0.55,0.55,0.55]
[{"$nulls":3},"s. beast hit chance (melee beast, melee spell attack)",{"$f":"E778*(1-(1-E776)^2)+(1-E778)*E776","v":0.7956000000000001},{"$f":"F778*(1-(1-F776)^2)+(1-F778)*F776","v":0.7956000000000001},0.7536,0.7536,0.7956000000000001,0.7536,0.7536,0.7536,0.7536,0.7536,0.7536,0.7084000000000001,0.7536,0.7536,0.7084000000000001,0.7084000000000001,0.7536,0.7084000000000001,0.7084000000000001,0.7084000000000001]
[{"$nulls":3},"s. beast crit chance (flying beast)",{"$f":"MIN(1,E777*(1-0.95^2)+(1-E777)*0.05+E480)","v":0.05},0.05,0.05,0.05,0.05,0.05,0.05,0.05,0.05,0.05,0.05,0.05,0.05,0.05,0.05,0.05,0.05,0.05,0.05,0.05]
[{"$nulls":3},"s. beast crit chance (melee beast)",{"$f":"MIN(1,E778*(1-0.95^2)+(1-E778)*0.05+E480)","v":0.08040000000000003},0.08040000000000003,0.08040000000000003,0.08040000000000003,0.08040000000000003,0.08040000000000003,0.08040000000000003,0.08040000000000003,0.08040000000000003,0.08040000000000003,0.08040000000000003,0.08040000000000003,0.08040000000000003,0.08040000000000003,0.08040000000000003,0.08040000000000003,0.08040000000000003,0.08040000000000003,0.08040000000000003,0.08040000000000003]
[{"$nulls":3},"s. beast pct opponent's damage received (arbitrary, flyby)",0.2,0.2,0.2,0.2,0.2,0.2,0.2,0.2,0.2,0.2,0.2,0.2,0.2,0.2,0.2,0.2,0.2,0.2,0.2,0.2]
[{"$nulls":3},"s. beast pct opponent's damage received (arbitrary, melee)",0.5,0.5,0.5,0.5,0.5,0.5,0.5,0.5,0.5,0.5,0.5,0.5,0.5,0.5,0.5,0.5,0.5,0.5,0.5,0.5]
[{"$nulls":3},"s. beast uptime (flying)",{"$f":"MIN(IF(E1147,2*'Base Numbers'!$C$6,E307+1),2*'Base Numbers'!$C$6,ROUND(E773/(E783*'Caster Tables'!C79),2))","v":0},{"$f":"MIN(IF(F1147,2*'Base Numbers'!$C$6,F307+1),2*'Base Numbers'!$C$6,ROUND(F773/(F783*'Caster Tables'!D79),2))","v":0},{"$f":"MIN(IF(G1147,2*'Base Numbers'!$C$6,G307+1),2*'Base Numbers'!$C$6,ROUND(G773/(G783*'Caster Tables'!E79),2))","v":0},{"$f":"MIN(IF(H1147,2*'Base Numbers'!$C$6,H307+1),2*'Base Numbers'!$C$6,ROUND(H773/(H783*'Caster Tables'!F79),2))","v":0},{"$f":"MIN(IF(I1147,2*'Base Numbers'!$C$6,I307+1),2*'Base Numbers'!$C$6,ROUND(I773/(I783*'Caster Tables'!G79),2))","v":0},{"$f":"MIN(IF(J1147,2*'Base Numbers'!$C$6,J307+1),2*'Base Numbers'!$C$6,ROUND(J773/(J783*'Caster Tables'!H79),2))","v":0},{"$f":"MIN(IF(K1147,2*'Base Numbers'!$C$6,K307+1),2*'Base Numbers'!$C$6,ROUND(K773/(K783*'Caster Tables'!I79),2))","v":0},{"$f":"MIN(IF(L1147,2*'Base Numbers'!$C$6,L307+1),2*'Base Numbers'!$C$6,ROUND(L773/(L783*'Caster Tables'!J79),2))","v":0},{"$f":"MIN(IF(M1147,2*'Base Numbers'!$C$6,M307+1),2*'Base Numbers'!$C$6,ROUND(M773/(M783*'Caster Tables'!K79),2))","v":0},{"$f":"MIN(IF(N1147,2*'Base Numbers'!$C$6,N307+1),2*'Base Numbers'!$C$6,ROUND(N773/(N783*'Caster Tables'!L79),2))","v":0},{"$f":"MIN(IF(O1147,2*'Base Numbers'!$C$6,O307+1),2*'Base Numbers'!$C$6,ROUND(O773/(O783*'Caster Tables'!M79),2))","v":0},{"$f":"MIN(IF(P1147,2*'Base Numbers'!$C$6,P307+1),2*'Base Numbers'!$C$6,ROUND(P773/(P783*'Caster Tables'!N79),2))","v":0},{"$f":"MIN(IF(Q1147,2*'Base Numbers'!$C$6,Q307+1),2*'Base Numbers'!$C$6,ROUND(Q773/(Q783*'Caster Tables'!O79),2))","v":0},{"$f":"MIN(IF(R1147,2*'Base Numbers'!$C$6,R307+1),2*'Base Numbers'!$C$6,ROUND(R773/(R783*'Caster Tables'!P79),2))","v":0},{"$f":"MIN(IF(S1147,2*'Base Numbers'!$C$6,S307+1),2*'Base Numbers'!$C$6,ROUND(S773/(S783*'Caster Tables'!Q79),2))","v":0},{"$f":"MIN(IF(T1147,2*'Base Numbers'!$C$6,T307+1),2*'Base Numbers'!$C$6,ROUND(T773/(T783*'Caster Tables'!R79),2))","v":0},{"$f":"MIN(IF(U1147,2*'Base Numbers'!$C$6,U307+1),2*'Base Numbers'!$C$6,ROUND(U773/(U783*'Caster Tables'!S79),2))","v":0},{"$f":"MIN(IF(V1147,2*'Base Numbers'!$C$6,V307+1),2*'Base Numbers'!$C$6,ROUND(V773/(V783*'Caster Tables'!T79),2))","v":0},{"$f":"MIN(IF(W1147,2*'Base Numbers'!$C$6,W307+1),2*'Base Numbers'!$C$6,ROUND(W773/(W783*'Caster Tables'!U79),2))","v":0},{"$f":"MIN(IF(X1147,2*'Base Numbers'!$C$6,X307+1),2*'Base Numbers'!$C$6,ROUND(X773/(X783*'Caster Tables'!V79),2))","v":0},null,"max uptime is 2 total fights for 1 hour summons"]
[{"$nulls":3},"s. beast uptime (melee)",{"$f":"MIN(IF(E1147,2*'Base Numbers'!$C$6,E307+1),2*'Base Numbers'!$C$6,ROUND((10+E773)/(E784*'Caster Tables'!C79),2))","v":2.412353515625},{"$f":"MIN(IF(F1147,2*'Base Numbers'!$C$6,F307+1),2*'Base Numbers'!$C$6,ROUND((10+F773)/(F784*'Caster Tables'!D79),2))","v":2.412353515625},{"$f":"MIN(IF(G1147,2*'Base Numbers'!$C$6,G307+1),2*'Base Numbers'!$C$6,ROUND((10+G773)/(G784*'Caster Tables'!E79),2))","v":2.412353515625},{"$f":"MIN(IF(H1147,2*'Base Numbers'!$C$6,H307+1),2*'Base Numbers'!$C$6,ROUND((10+H773)/(H784*'Caster Tables'!F79),2))","v":1.74},{"$f":"MIN(IF(I1147,2*'Base Numbers'!$C$6,I307+1),2*'Base Numbers'!$C$6,ROUND((10+I773)/(I784*'Caster Tables'!G79),2))","v":1.14},{"$f":"MIN(IF(J1147,2*'Base Numbers'!$C$6,J307+1),2*'Base Numbers'!$C$6,ROUND((10+J773)/(J784*'Caster Tables'!H79),2))","v":0.85},{"$f":"MIN(IF(K1147,2*'Base Numbers'!$C$6,K307+1),2*'Base Numbers'!$C$6,ROUND((10+K773)/(K784*'Caster Tables'!I79),2))","v":0.68},{"$f":"MIN(IF(L1147,2*'Base Numbers'!$C$6,L307+1),2*'Base Numbers'!$C$6,ROUND((10+L773)/(L784*'Caster Tables'!J79),2))","v":0.56},{"$f":"MIN(IF(M1147,2*'Base Numbers'!$C$6,M307+1),2*'Base Numbers'!$C$6,ROUND((10+M773)/(M784*'Caster Tables'!K79),2))","v":0.48},{"$f":"MIN(IF(N1147,2*'Base Numbers'!$C$6,N307+1),2*'Base Numbers'!$C$6,ROUND((10+N773)/(N784*'Caster Tables'!L79),2))","v":0.42},{"$f":"MIN(IF(O1147,2*'Base Numbers'!$C$6,O307+1),2*'Base Numbers'!$C$6,ROUND((10+O773)/(O784*'Caster Tables'!M79),2))","v":0.37},{"$f":"MIN(IF(P1147,2*'Base Numbers'!$C$6,P307+1),2*'Base Numbers'!$C$6,ROUND((10+P773)/(P784*'Caster Tables'!N79),2))","v":0.34},{"$f":"MIN(IF(Q1147,2*'Base Numbers'!$C$6,Q307+1),2*'Base Numbers'!$C$6,ROUND((10+Q773)/(Q784*'Caster Tables'!O79),2))","v":0.31},{"$f":"MIN(IF(R1147,2*'Base Numbers'!$C$6,R307+1),2*'Base Numbers'!$C$6,ROUND((10+R773)/(R784*'Caster Tables'!P79),2))","v":0.28},{"$f":"MIN(IF(S1147,2*'Base Numbers'!$C$6,S307+1),2*'Base Numbers'!$C$6,ROUND((10+S773)/(S784*'Caster Tables'!Q79),2))","v":0.26},{"$f":"MIN(IF(T1147,2*'Base Numbers'!$C$6,T307+1),2*'Base Numbers'!$C$6,ROUND((10+T773)/(T784*'Caster Tables'!R79),2))","v":0.24},{"$f":"MIN(IF(U1147,2*'Base Numbers'!$C$6,U307+1),2*'Base Numbers'!$C$6,ROUND((10+U773)/(U784*'Caster Tables'!S79),2))","v":0.22},{"$f":"MIN(IF(V1147,2*'Base Numbers'!$C$6,V307+1),2*'Base Numbers'!$C$6,ROUND((10+V773)/(V784*'Caster Tables'!T79),2))","v":0.21},{"$f":"MIN(IF(W1147,2*'Base Numbers'!$C$6,W307+1),2*'Base Numbers'!$C$6,ROUND((10+W773)/(W784*'Caster Tables'!U79),2))","v":0.2},{"$f":"MIN(IF(X1147,2*'Base Numbers'!$C$6,X307+1),2*'Base Numbers'!$C$6,ROUND((10+X773)/(X784*'Caster Tables'!V79),2))","v":0.19},null,"* includes concentration limit"]
[{"$nulls":3},"s. beast avg damage per round of uptime (flying)",{"$f":"E775*(E779*E774+E781*4.5)*IF(AND(E17>=6,E74>=1),1,'Caster Tables'!C$81)","v":0},{"$f":"F775*(F779*F774+F781*4.5)*IF(AND(F17>=6,F74>=1),1,'Caster Tables'!D$81)","v":0},{"$f":"G775*(G779*G774+G781*4.5)*IF(AND(G17>=6,G74>=1),1,'Caster Tables'!E$81)","v":0},{"$f":"H775*(H779*H774+H781*4.5)*IF(AND(H17>=6,H74>=1),1,'Caster Tables'!F$81)","v":0},{"$f":"I775*(I779*I774+I781*4.5)*IF(AND(I17>=6,I74>=1),1,'Caster Tables'!G$81)","v":0},{"$f":"J775*(J779*J774+J781*4.5)*IF(AND(J17>=6,J74>=1),1,'Caster Tables'!H$81)","v":0},{"$f":"K775*(K779*K774+K781*4.5)*IF(AND(K17>=6,K74>=1),1,'Caster Tables'!I$81)","v":0},{"$f":"L775*(L779*L774+L781*4.5)*IF(AND(L17>=6,L74>=1),1,'Caster Tables'!J$81)","v":0},{"$f":"M775*(M779*M774+M781*4.5)*IF(AND(M17>=6,M74>=1),1,'Caster Tables'!K$81)","v":0},{"$f":"N775*(N779*N774+N781*4.5)*IF(AND(N17>=6,N74>=1),1,'Caster Tables'!L$81)","v":0},{"$f":"O775*(O779*O774+O781*4.5)*IF(AND(O17>=6,O74>=1),1,'Caster Tables'!M$81)","v":0},{"$f":"P775*(P779*P774+P781*4.5)*IF(AND(P17>=6,P74>=1),1,'Caster Tables'!N$81)","v":0},{"$f":"Q775*(Q779*Q774+Q781*4.5)*IF(AND(Q17>=6,Q74>=1),1,'Caster Tables'!O$81)","v":0},{"$f":"R775*(R779*R774+R781*4.5)*IF(AND(R17>=6,R74>=1),1,'Caster Tables'!P$81)","v":0},{"$f":"S775*(S779*S774+S781*4.5)*IF(AND(S17>=6,S74>=1),1,'Caster Tables'!Q$81)","v":0},{"$f":"T775*(T779*T774+T781*4.5)*IF(AND(T17>=6,T74>=1),1,'Caster Tables'!R$81)","v":0},{"$f":"U775*(U779*U774+U781*4.5)*IF(AND(U17>=6,U74>=1),1,'Caster Tables'!S$81)","v":0},{"$f":"V775*(V779*V774+V781*4.5)*IF(AND(V17>=6,V74>=1),1,'Caster Tables'!T$81)","v":0},{"$f":"W775*(W779*W774+W781*4.5)*IF(AND(W17>=6,W74>=1),1,'Caster Tables'!U$81)","v":0},{"$f":"X775*(X779*X774+X781*4.5)*IF(AND(X17>=6,X74>=1),1,'Caster Tables'!V$81)","v":0},null,"* reduced by pct of monsters resistant to nonmagical attacks"]
[{"$nulls":3},"s. beast avg damage per round of uptime (melee)",{"$f":"E775*(E780*E774+E782*4.5)*IF(AND(E17>=6,E74>=1),1,'Caster Tables'!C$81)","v":0},{"$f":"F775*(F780*F774+F782*4.5)*IF(AND(F17>=6,F74>=1),1,'Caster Tables'!D$81)","v":0},{"$f":"G775*(G780*G774+G782*4.5)*IF(AND(G17>=6,G74>=1),1,'Caster Tables'!E$81)","v":0},{"$f":"H775*(H780*H774+H782*4.5)*IF(AND(H17>=6,H74>=1),1,'Caster Tables'!F$81)","v":0},{"$f":"I775*(I780*I774+I782*4.5)*IF(AND(I17>=6,I74>=1),1,'Caster Tables'!G$81)","v":0},{"$f":"J775*(J780*J774+J782*4.5)*IF(AND(J17>=6,J74>=1),1,'Caster Tables'!H$81)","v":0},{"$f":"K775*(K780*K774+K782*4.5)*IF(AND(K17>=6,K74>=1),1,'Caster Tables'!I$81)","v":0},{"$f":"L775*(L780*L774+L782*4.5)*IF(AND(L17>=6,L74>=1),1,'Caster Tables'!J$81)","v":0},{"$f":"M775*(M780*M774+M782*4.5)*IF(AND(M17>=6,M74>=1),1,'Caster Tables'!K$81)","v":0},{"$f":"N775*(N780*N774+N782*4.5)*IF(AND(N17>=6,N74>=1),1,'Caster Tables'!L$81)","v":0},{"$f":"O775*(O780*O774+O782*4.5)*IF(AND(O17>=6,O74>=1),1,'Caster Tables'!M$81)","v":0},{"$f":"P775*(P780*P774+P782*4.5)*IF(AND(P17>=6,P74>=1),1,'Caster Tables'!N$81)","v":0},{"$f":"Q775*(Q780*Q774+Q782*4.5)*IF(AND(Q17>=6,Q74>=1),1,'Caster Tables'!O$81)","v":0},{"$f":"R775*(R780*R774+R782*4.5)*IF(AND(R17>=6,R74>=1),1,'Caster Tables'!P$81)","v":0},{"$f":"S775*(S780*S774+S782*4.5)*IF(AND(S17>=6,S74>=1),1,'Caster Tables'!Q$81)","v":0},{"$f":"T775*(T780*T774+T782*4.5)*IF(AND(T17>=6,T74>=1),1,'Caster Tables'!R$81)","v":0},{"$f":"U775*(U780*U774+U782*4.5)*IF(AND(U17>=6,U74>=1),1,'Caster Tables'!S$81)","v":0},{"$f":"V775*(V780*V774+V782*4.5)*IF(AND(V17>=6,V74>=1),1,'Caster Tables'!T$81)","v":0},{"$f":"W775*(W780*W774+W782*4.5)*IF(AND(W17>=6,W74>=1),1,'Caster Tables'!U$81)","v":0},{"$f":"X775*(X780*X774+X782*4.5)*IF(AND(X17>=6,X74>=1),1,'Caster Tables'!V$81)","v":0}]
[{"$nulls":3},"s. beast avg damage per round (incl uptime, flying)",{"$f":"E787*E785/('Base Numbers'!$C$5*'Base Numbers'!$C$6)","v":0},{"$f":"F787*F785/('Base Numbers'!$C$5*'Base Numbers'!$C$6)","v":0},{"$f":"G787*G785/('Base Numbers'!$C$5*'Base Numbers'!$C$6)","v":0},{"$f":"H787*H785/('Base Numbers'!$C$5*'Base Numbers'!$C$6)","v":0},{"$f":"I787*I785/('Base Numbers'!$C$5*'Base Numbers'!$C$6)","v":0},{"$f":"J787*J785/('Base Numbers'!$C$5*'Base Numbers'!$C$6)","v":0},{"$f":"K787*K785/('Base Numbers'!$C$5*'Base Numbers'!$C$6)","v":0},{"$f":"L787*L785/('Base Numbers'!$C$5*'Base Numbers'!$C$6)","v":0},{"$f":"M787*M785/('Base Numbers'!$C$5*'Base Numbers'!$C$6)","v":0},{"$f":"N787*N785/('Base Numbers'!$C$5*'Base Numbers'!$C$6)","v":0},{"$f":"O787*O785/('Base Numbers'!$C$5*'Base Numbers'!$C$6)","v":0},{"$f":"P787*P785/('Base Numbers'!$C$5*'Base Numbers'!$C$6)","v":0},{"$f":"Q787*Q785/('Base Numbers'!$C$5*'Base Numbers'!$C$6)","v":0},{"$f":"R787*R785/('Base Numbers'!$C$5*'Base Numbers'!$C$6)","v":0},{"$f":"S787*S785/('Base Numbers'!$C$5*'Base Numbers'!$C$6)","v":0},{"$f":"T787*T785/('Base Numbers'!$C$5*'Base Numbers'!$C$6)","v":0},{"$f":"U787*U785/('Base Numbers'!$C$5*'Base Numbers'!$C$6)","v":0},{"$f":"V787*V785/('Base Numbers'!$C$5*'Base Numbers'!$C$6)","v":0},{"$f":"W787*W785/('Base Numbers'!$C$5*'Base Numbers'!$C$6)","v":0},{"$f":"X787*X785/('Base Numbers'!$C$5*'Base Numbers'!$C$6)","v":0}]
[{"$nulls":3},"s. beast avg damage per round (incl uptime, melee)",{"$f":"E788*E786/('Base Numbers'!$C$5*'Base Numbers'!$C$6)","v":0},{"$f":"F788*F786/('Base Numbers'!$C$5*'Base Numbers'!$C$6)","v":0},{"$f":"G788*G786/('Base Numbers'!$C$5*'Base Numbers'!$C$6)","v":0},{"$f":"H788*H786/('Base Numbers'!$C$5*'Base Numbers'!$C$6)","v":0},{"$f":"I788*I786/('Base Numbers'!$C$5*'Base Numbers'!$C$6)","v":0},{"$f":"J788*J786/('Base Numbers'!$C$5*'Base Numbers'!$C$6)","v":0},{"$f":"K788*K786/('Base Numbers'!$C$5*'Base Numbers'!$C$6)","v":0},{"$f":"L788*L786/('Base Numbers'!$C$5*'Base Numbers'!$C$6)","v":0},{"$f":"M788*M786/('Base Numbers'!$C$5*'Base Numbers'!$C$6)","v":0},{"$f":"N788*N786/('Base Numbers'!$C$5*'Base Numbers'!$C$6)","v":0},{"$f":"O788*O786/('Base Numbers'!$C$5*'Base Numbers'!$C$6)","v":0},{"$f":"P788*P786/('Base Numbers'!$C$5*'Base Numbers'!$C$6)","v":0},{"$f":"Q788*Q786/('Base Numbers'!$C$5*'Base Numbers'!$C$6)","v":0},{"$f":"R788*R786/('Base Numbers'!$C$5*'Base Numbers'!$C$6)","v":0},{"$f":"S788*S786/('Base Numbers'!$C$5*'Base Numbers'!$C$6)","v":0},{"$f":"T788*T786/('Base Numbers'!$C$5*'Base Numbers'!$C$6)","v":0},{"$f":"U788*U786/('Base Numbers'!$C$5*'Base Numbers'!$C$6)","v":0},{"$f":"V788*V786/('Base Numbers'!$C$5*'Base Numbers'!$C$6)","v":0},{"$f":"W788*W786/('Base Numbers'!$C$5*'Base Numbers'!$C$6)","v":0},{"$f":"X788*X786/('Base Numbers'!$C$5*'Base Numbers'!$C$6)","v":0}]
[{"$nulls":3},"s. beast best beast dmg per round avg",{"$f":"MAX(E789:E790)","v":0},{"$f":"MAX(F789:F790)","v":0},0,0,0,0,0,0,0,0,0,0,0,0,0,0,0,0,0,0]
[]
[{"$nulls":3},"summon fey slot",{"$f":"SpellOrder!CL13","v":0},{"$f":"SpellOrder!CM13","v":0},{"$f":"SpellOrder!CN13","v":0},{"$f":"SpellOrder!CO13","v":0},{"$f":"SpellOrder!CP13","v":0},{"$f":"SpellOrder!CQ13","v":0},{"$f":"SpellOrder!CR13","v":0},{"$f":"SpellOrder!CS13","v":0},{"$f":"SpellOrder!CT13","v":0},{"$f":"SpellOrder!CU13","v":0},{"$f":"SpellOrder!CV13","v":0},{"$f":"SpellOrder!CW13","v":0},{"$f":"SpellOrder!CX13","v":0},{"$f":"SpellOrder!CY13","v":0},{"$f":"SpellOrder!CZ13","v":0},{"$f":"SpellOrder!DA13","v":0},{"$f":"SpellOrder!DB13","v":0},{"$f":"SpellOrder!DC13","v":0},{"$f":"SpellOrder!DD13","v":0},{"$f":"SpellOrder!DE13","v":0}]
[{"$nulls":3},"s. fey hp",{"$f":"IF(E793>=3,30+(E793-3)*10+E1148+E1191,0)","v":0},0,0,0,0,0,0,0,0,0,0,0,0,0,0,0,0,0,0,0]
[{"$nulls":3},"s. fey damage per attack",{"$f":"IF(E793>=3,10+E793,0)","v":0},{"$f":"IF(F793>=3,10+F793,0)","v":0},0,0,0,0,0,0,0,0,0,0,0,0,0,0,0,0,0,0]
[{"$nulls":3},"s. fey number of attacks",{"$f":"IF(E793>=3,FLOOR(E793/2,1),0)","v":0},{"$f":"IF(F793>=3,FLOOR(F793/2,1),0)","v":0},0,0,0,0,0,0,0,0,0,0,0,0,0,0,0,0,0,0]
[{"$nulls":3},"s. fey avg adv pct (fuming)",{"$f":"MIN(1,E380+E479+E412+E400+IF(E796>0,1/E796,0))","v":0},0,0,0,0,0,0,0,0,0,0,0,0,0,0,0,0,0,0,0]
[{"$nulls":3},"s. fey hit chance (melee spell attack)",{"$f":"E797*(1-(1-E368)^2)+(1-E797)*E368","v":0.65},0.65,0.6,0.6,0.65,0.6,0.6,0.6,0.6,0.6,0.6,0.55,0.6,0.6,0.55,0.55,0.6,0.55,0.55,0.55]
[{"$nulls":3},"s. fey crit chance (fuming)",{"$f":"MIN(1,E797*(1-0.95^2)+(1-E797)*0.05+E480)","v":0.05},0.05,0.05,0.05,0.05,0.05,0.05,0.05,0.05,0.05,0.05,0.05,0.05,0.05,0.05,0.05,0.05,0.05,0.05,0.05]
[{"$nulls":3},"s. fey uptime",{"$f":"MIN(IF(E1147,2*'Base Numbers'!$C$6,E307+1),2*'Base Numbers'!$C$6,ROUND((10+E794)/(E784*'Caster Tables'!C79),2))","v":2.412353515625},{"$f":"MIN(IF(F1147,2*'Base Numbers'!$C$6,F307+1),2*'Base Numbers'!$C$6,ROUND((10+F794)/(F784*'Caster Tables'!D79),2))","v":2.412353515625},{"$f":"MIN(IF(G1147,2*'Base Numbers'!$C$6,G307+1),2*'Base Numbers'!$C$6,ROUND((10+G794)/(G784*'Caster Tables'!E79),2))","v":2.412353515625},{"$f":"MIN(IF(H1147,2*'Base Numbers'!$C$6,H307+1),2*'Base Numbers'!$C$6,ROUND((10+H794)/(H784*'Caster Tables'!F79),2))","v":1.74},{"$f":"MIN(IF(I1147,2*'Base Numbers'!$C$6,I307+1),2*'Base Numbers'!$C$6,ROUND((10+I794)/(I784*'Caster Tables'!G79),2))","v":1.14},{"$f":"MIN(IF(J1147,2*'Base Numbers'!$C$6,J307+1),2*'Base Numbers'!$C$6,ROUND((10+J794)/(J784*'Caster Tables'!H79),2))","v":0.85},{"$f":"MIN(IF(K1147,2*'Base Numbers'!$C$6,K307+1),2*'Base Numbers'!$C$6,ROUND((10+K794)/(K784*'Caster Tables'!I79),2))","v":0.68},{"$f":"MIN(IF(L1147,2*'Base Numbers'!$C$6,L307+1),2*'Base Numbers'!$C$6,ROUND((10+L794)/(L784*'Caster Tables'!J79),2))","v":0.56},{"$f":"MIN(IF(M1147,2*'Base Numbers'!$C$6,M307+1),2*'Base Numbers'!$C$6,ROUND((10+M794)/(M784*'Caster Tables'!K79),2))","v":0.48},{"$f":"MIN(IF(N1147,2*'Base Numbers'!$C$6,N307+1),2*'Base Numbers'!$C$6,ROUND((10+N794)/(N784*'Caster Tables'!L79),2))","v":0.42},{"$f":"MIN(IF(O1147,2*'Base Numbers'!$C$6,O307+1),2*'Base Numbers'!$C$6,ROUND((10+O794)/(O784*'Caster Tables'!M79),2))","v":0.37},{"$f":"MIN(IF(P1147,2*'Base Numbers'!$C$6,P307+1),2*'Base Numbers'!$C$6,ROUND((10+P794)/(P784*'Caster Tables'!N79),2))","v":0.34},{"$f":"MIN(IF(Q1147,2*'Base Numbers'!$C$6,Q307+1),2*'Base Numbers'!$C$6,ROUND((10+Q794)/(Q784*'Caster Tables'!O79),2))","v":0.31},{"$f":"MIN(IF(R1147,2*'Base Numbers'!$C$6,R307+1),2*'Base Numbers'!$C$6,ROUND((10+R794)/(R784*'Caster Tables'!P79),2))","v":0.28},{"$f":"MIN(IF(S1147,2*'Base Numbers'!$C$6,S307+1),2*'Base Numbers'!$C$6,ROUND((10+S794)/(S784*'Caster Tables'!Q79),2))","v":0.26},{"$f":"MIN(IF(T1147,2*'Base Numbers'!$C$6,T307+1),2*'Base Numbers'!$C$6,ROUND((10+T794)/(T784*'Caster Tables'!R79),2))","v":0.24},{"$f":"MIN(IF(U1147,2*'Base Numbers'!$C$6,U307+1),2*'Base Numbers'!$C$6,ROUND((10+U794)/(U784*'Caster Tables'!S79),2))","v":0.22},{"$f":"MIN(IF(V1147,2*'Base Numbers'!$C$6,V307+1),2*'Base Numbers'!$C$6,ROUND((10+V794)/(V784*'Caster Tables'!T79),2))","v":0.21},{"$f":"MIN(IF(W1147,2*'Base Numbers'!$C$6,W307+1),2*'Base Numbers'!$C$6,ROUND((10+W794)/(W784*'Caster Tables'!U79),2))","v":0.2},{"$f":"MIN(IF(X1147,2*'Base Numbers'!$C$6,X307+1),2*'Base Numbers'!$C$6,ROUND((10+X794)/(X784*'Caster Tables'!V79),2))","v":0.19}]
[{"$nulls":3},"s. fey avg damage per round of uptime",{"$f":"E796*(E798*(E795-3.5)+E799*3.5)*IF(AND(E17>=6,E74>=1),1,'Caster Tables'!C$81)+E796*(E798*3.5+E799*3.5)","v":0},{"$f":"F796*(F798*(F795-3.5)+F799*3.5)*IF(AND(F17>=6,F74>=1),1,'Caster Tables'!D$81)+F796*(F798*3.5+F799*3.5)","v":0},{"$f":"G796*(G798*(G795-3.5)+G799*3.5)*IF(AND(G17>=6,G74>=1),1,'Caster Tables'!E$81)+G796*(G798*3.5+G799*3.5)","v":0},{"$f":"H796*(H798*(H795-3.5)+H799*3.5)*IF(AND(H17>=6,H74>=1),1,'Caster Tables'!F$81)+H796*(H798*3.5+H799*3.5)","v":0},{"$f":"I796*(I798*(I795-3.5)+I799*3.5)*IF(AND(I17>=6,I74>=1),1,'Caster Tables'!G$81)+I796*(I798*3.5+I799*3.5)","v":0},{"$f":"J796*(J798*(J795-3.5)+J799*3.5)*IF(AND(J17>=6,J74>=1),1,'Caster Tables'!H$81)+J796*(J798*3.5+J799*3.5)","v":0},{"$f":"K796*(K798*(K795-3.5)+K799*3.5)*IF(AND(K17>=6,K74>=1),1,'Caster Tables'!I$81)+K796*(K798*3.5+K799*3.5)","v":0},{"$f":"L796*(L798*(L795-3.5)+L799*3.5)*IF(AND(L17>=6,L74>=1),1,'Caster Tables'!J$81)+L796*(L798*3.5+L799*3.5)","v":0},{"$f":"M796*(M798*(M795-3.5)+M799*3.5)*IF(AND(M17>=6,M74>=1),1,'Caster Tables'!K$81)+M796*(M798*3.5+M799*3.5)","v":0},{"$f":"N796*(N798*(N795-3.5)+N799*3.5)*IF(AND(N17>=6,N74>=1),1,'Caster Tables'!L$81)+N796*(N798*3.5+N799*3.5)","v":0},{"$f":"O796*(O798*(O795-3.5)+O799*3.5)*IF(AND(O17>=6,O74>=1),1,'Caster Tables'!M$81)+O796*(O798*3.5+O799*3.5)","v":0},{"$f":"P796*(P798*(P795-3.5)+P799*3.5)*IF(AND(P17>=6,P74>=1),1,'Caster Tables'!N$81)+P796*(P798*3.5+P799*3.5)","v":0},{"$f":"Q796*(Q798*(Q795-3.5)+Q799*3.5)*IF(AND(Q17>=6,Q74>=1),1,'Caster Tables'!O$81)+Q796*(Q798*3.5+Q799*3.5)","v":0},{"$f":"R796*(R798*(R795-3.5)+R799*3.5)*IF(AND(R17>=6,R74>=1),1,'Caster Tables'!P$81)+R796*(R798*3.5+R799*3.5)","v":0},{"$f":"S796*(S798*(S795-3.5)+S799*3.5)*IF(AND(S17>=6,S74>=1),1,'Caster Tables'!Q$81)+S796*(S798*3.5+S799*3.5)","v":0},{"$f":"T796*(T798*(T795-3.5)+T799*3.5)*IF(AND(T17>=6,T74>=1),1,'Caster Tables'!R$81)+T796*(T798*3.5+T799*3.5)","v":0},{"$f":"U796*(U798*(U795-3.5)+U799*3.5)*IF(AND(U17>=6,U74>=1),1,'Caster Tables'!S$81)+U796*(U798*3.5+U799*3.5)","v":0},{"$f":"V796*(V798*(V795-3.5)+V799*3.5)*IF(AND(V17>=6,V74>=1),1,'Caster Tables'!T$81)+V796*(V798*3.5+V799*3.5)","v":0},{"$f":"W796*(W798*(W795-3.5)+W799*3.5)*IF(AND(W17>=6,W74>=1),1,'Caster Tables'!U$81)+W796*(W798*3.5+W799*3.5)","v":0},{"$f":"X796*(X798*(X795-3.5)+X799*3.5)*IF(AND(X17>=6,X74>=1),1,'Caster Tables'!V$81)+X796*(X798*3.5+X799*3.5)","v":0},null,"* deals mixed piercing and force; piercing portion is reduced by monsters resistant to nonmagical weapons"]
[{"$nulls":3},"s. fey avg damage per round (incl uptime)",{"$f":"E801*E800/('Base Numbers'!$C$5*'Base Numbers'!$C$6)","v":0},{"$f":"F801*F800/('Base Numbers'!$C$5*'Base Numbers'!$C$6)","v":0},{"$f":"G801*G800/('Base Numbers'!$C$5*'Base Numbers'!$C$6)","v":0},{"$f":"H801*H800/('Base Numbers'!$C$5*'Base Numbers'!$C$6)","v":0},{"$f":"I801*I800/('Base Numbers'!$C$5*'Base Numbers'!$C$6)","v":0},{"$f":"J801*J800/('Base Numbers'!$C$5*'Base Numbers'!$C$6)","v":0},{"$f":"K801*K800/('Base Numbers'!$C$5*'Base Numbers'!$C$6)","v":0},{"$f":"L801*L800/('Base Numbers'!$C$5*'Base Numbers'!$C$6)","v":0},{"$f":"M801*M800/('Base Numbers'!$C$5*'Base Numbers'!$C$6)","v":0},{"$f":"N801*N800/('Base Numbers'!$C$5*'Base Numbers'!$C$6)","v":0},{"$f":"O801*O800/('Base Numbers'!$C$5*'Base Numbers'!$C$6)","v":0},{"$f":"P801*P800/('Base Numbers'!$C$5*'Base Numbers'!$C$6)","v":0},{"$f":"Q801*Q800/('Base Numbers'!$C$5*'Base Numbers'!$C$6)","v":0},{"$f":"R801*R800/('Base Numbers'!$C$5*'Base Numbers'!$C$6)","v":0},{"$f":"S801*S800/('Base Numbers'!$C$5*'Base Numbers'!$C$6)","v":0},{"$f":"T801*T800/('Base Numbers'!$C$5*'Base Numbers'!$C$6)","v":0},{"$f":"U801*U800/('Base Numbers'!$C$5*'Base Numbers'!$C$6)","v":0},{"$f":"V801*V800/('Base Numbers'!$C$5*'Base Numbers'!$C$6)","v":0},{"$f":"W801*W800/('Base Numbers'!$C$5*'Base Numbers'!$C$6)","v":0},{"$f":"X801*X800/('Base Numbers'!$C$5*'Base Numbers'!$C$6)","v":0}]
[]
[{"$nulls":3},"summon undead slot",{"$f":"SpellOrder!CL14","v":0},{"$f":"SpellOrder!CM14","v":0},{"$f":"SpellOrder!CN14","v":0},{"$f":"SpellOrder!CO14","v":0},{"$f":"SpellOrder!CP14","v":0},{"$f":"SpellOrder!CQ14","v":0},{"$f":"SpellOrder!CR14","v":0},{"$f":"SpellOrder!CS14","v":0},{"$f":"SpellOrder!CT14","v":0},{"$f":"SpellOrder!CU14","v":0},{"$f":"SpellOrder!CV14","v":0},{"$f":"SpellOrder!CW14","v":0},{"$f":"SpellOrder!CX14","v":0},{"$f":"SpellOrder!CY14","v":0},{"$f":"SpellOrder!CZ14","v":0},{"$f":"SpellOrder!DA14","v":0},{"$f":"SpellOrder!DB14","v":0},{"$f":"SpellOrder!DC14","v":0},{"$f":"SpellOrder!DD14","v":0},{"$f":"SpellOrder!DE14","v":0}]
[{"$nulls":3},"s. undead hp (skeleton)",{"$f":"IF(E804>=3,20+(E804-3)*10+E1148,0)","v":0},0,0,0,0,0,0,0,0,0,0,0,0,0,0,0,0,0,0,0]
[{"$nulls":3},"s. undead damage per attack (skeleton)",{"$f":"IF(E804>=3,8+E804,0)","v":0},{"$f":"IF(F804>=3,8+F804,0)","v":0},0,0,0,0,0,0,0,0,0,0,0,0,0,0,0,0,0,0]
[{"$nulls":3},"s. undead number of attacks",{"$f":"IF(E804>=3,FLOOR(E804/2,1),0)","v":0},{"$f":"IF(F804>=3,FLOOR(F804/2,1),0)","v":0},0,0,0,0,0,0,0,0,0,0,0,0,0,0,0,0,0,0]
[{"$nulls":3},"s. undead avg adv pct (skeleton)",{"$f":"E412+E400","v":0},0,0,0,0,0,0,0,0,0,0,0,0,0,0,0,0,0,0,0]
[{"$nulls":3},"s. undead hit chance (ranged spell attack)",{"$f":"E808*(1-(1-E368)^2)+(1-E808)*E368","v":0.65},0.65,0.6,0.6,0.65,0.6,0.6,0.6,0.6,0.6,0.6,0.55,0.6,0.6,0.55,0.55,0.6,0.55,0.55,0.55]
[{"$nulls":3},"s. undead crit chance",{"$f":"MIN(1,E808*(1-0.95^2)+(1-E808)*0.05)","v":0.05},{"$f":"MIN(1,F808*(1-0.95^2)+(1-F808)*0.05)","v":0.05},0.05,0.05,0.05,0.05,0.05,0.05,0.05,0.05,0.05,0.05,0.05,0.05,0.05,0.05,0.05,0.05,0.05,0.05]
[{"$nulls":3},"s. undead uptime",{"$f":"MIN(IF(E1147,2*'Base Numbers'!$C$6,E307+1),2*'Base Numbers'!$C$6,ROUND(E805/(E783*'Caster Tables'!C$79),2))","v":0},{"$f":"MIN(IF(F1147,2*'Base Numbers'!$C$6,F307+1),2*'Base Numbers'!$C$6,ROUND(F805/(F783*'Caster Tables'!D$79),2))","v":0},{"$f":"MIN(IF(G1147,2*'Base Numbers'!$C$6,G307+1),2*'Base Numbers'!$C$6,ROUND(G805/(G783*'Caster Tables'!E$79),2))","v":0},{"$f":"MIN(IF(H1147,2*'Base Numbers'!$C$6,H307+1),2*'Base Numbers'!$C$6,ROUND(H805/(H783*'Caster Tables'!F$79),2))","v":0},{"$f":"MIN(IF(I1147,2*'Base Numbers'!$C$6,I307+1),2*'Base Numbers'!$C$6,ROUND(I805/(I783*'Caster Tables'!G$79),2))","v":0},{"$f":"MIN(IF(J1147,2*'Base Numbers'!$C$6,J307+1),2*'Base Numbers'!$C$6,ROUND(J805/(J783*'Caster Tables'!H$79),2))","v":0},{"$f":"MIN(IF(K1147,2*'Base Numbers'!$C$6,K307+1),2*'Base Numbers'!$C$6,ROUND(K805/(K783*'Caster Tables'!I$79),2))","v":0},{"$f":"MIN(IF(L1147,2*'Base Numbers'!$C$6,L307+1),2*'Base Numbers'!$C$6,ROUND(L805/(L783*'Caster Tables'!J$79),2))","v":0},{"$f":"MIN(IF(M1147,2*'Base Numbers'!$C$6,M307+1),2*'Base Numbers'!$C$6,ROUND(M805/(M783*'Caster Tables'!K$79),2))","v":0},{"$f":"MIN(IF(N1147,2*'Base Numbers'!$C$6,N307+1),2*'Base Numbers'!$C$6,ROUND(N805/(N783*'Caster Tables'!L$79),2))","v":0},{"$f":"MIN(IF(O1147,2*'Base Numbers'!$C$6,O307+1),2*'Base Numbers'!$C$6,ROUND(O805/(O783*'Caster Tables'!M$79),2))","v":0},{"$f":"MIN(IF(P1147,2*'Base Numbers'!$C$6,P307+1),2*'Base Numbers'!$C$6,ROUND(P805/(P783*'Caster Tables'!N$79),2))","v":0},{"$f":"MIN(IF(Q1147,2*'Base Numbers'!$C$6,Q307+1),2*'Base Numbers'!$C$6,ROUND(Q805/(Q783*'Caster Tables'!O$79),2))","v":0},{"$f":"MIN(IF(R1147,2*'Base Numbers'!$C$6,R307+1),2*'Base Numbers'!$C$6,ROUND(R805/(R783*'Caster Tables'!P$79),2))","v":0},{"$f":"MIN(IF(S1147,2*'Base Numbers'!$C$6,S307+1),2*'Base Numbers'!$C$6,ROUND(S805/(S783*'Caster Tables'!Q$79),2))","v":0},{"$f":"MIN(IF(T1147,2*'Base Numbers'!$C$6,T307+1),2*'Base Numbers'!$C$6,ROUND(T805/(T783*'Caster Tables'!R$79),2))","v":0},{"$f":"MIN(IF(U1147,2*'Base Numbers'!$C$6,U307+1),2*'Base Numbers'!$C$6,ROUND(U805/(U783*'Caster Tables'!S$79),2))","v":0},{"$f":"MIN(IF(V1147,2*'Base Numbers'!$C$6,V307+1),2*'Base Numbers'!$C$6,ROUND(V805/(V783*'Caster Tables'!T$79),2))","v":0},{"$f":"MIN(IF(W1147,2*'Base Numbers'!$C$6,W307+1),2*'Base Numbers'!$C$6,ROUND(W805/(W783*'Caster Tables'!U$79),2))","v":0},{"$f":"MIN(IF(X1147,2*'Base Numbers'!$C$6,X307+1),2*'Base Numbers'!$C$6,ROUND(X805/(X783*'Caster Tables'!V$79),2))","v":0}]
[{"$nulls":3},"s. undead avg damage per round of uptime",{"$f":"E807*(E809*E806+E810*5)","v":0},{"$f":"F807*(F809*F806+F810*5)","v":0},0,0,0,0,0,0,0,0,0,0,0,0,0,0,0,0,0,0]
[{"$nulls":3},"s. undead avg damage per round (incl uptime)",{"$f":"E812*E811/('Base Numbers'!$C$5*'Base Numbers'!$C$6)","v":0},{"$f":"F812*F811/('Base Numbers'!$C$5*'Base Numbers'!$C$6)","v":0},{"$f":"G812*G811/('Base Numbers'!$C$5*'Base Numbers'!$C$6)","v":0},{"$f":"H812*H811/('Base Numbers'!$C$5*'Base Numbers'!$C$6)","v":0},{"$f":"I812*I811/('Base Numbers'!$C$5*'Base Numbers'!$C$6)","v":0},{"$f":"J812*J811/('Base Numbers'!$C$5*'Base Numbers'!$C$6)","v":0},{"$f":"K812*K811/('Base Numbers'!$C$5*'Base Numbers'!$C$6)","v":0},{"$f":"L812*L811/('Base Numbers'!$C$5*'Base Numbers'!$C$6)","v":0},{"$f":"M812*M811/('Base Numbers'!$C$5*'Base Numbers'!$C$6)","v":0},{"$f":"N812*N811/('Base Numbers'!$C$5*'Base Numbers'!$C$6)","v":0},{"$f":"O812*O811/('Base Numbers'!$C$5*'Base Numbers'!$C$6)","v":0},{"$f":"P812*P811/('Base Numbers'!$C$5*'Base Numbers'!$C$6)","v":0},{"$f":"Q812*Q811/('Base Numbers'!$C$5*'Base Numbers'!$C$6)","v":0},{"$f":"R812*R811/('Base Numbers'!$C$5*'Base Numbers'!$C$6)","v":0},{"$f":"S812*S811/('Base Numbers'!$C$5*'Base Numbers'!$C$6)","v":0},{"$f":"T812*T811/('Base Numbers'!$C$5*'Base Numbers'!$C$6)","v":0},{"$f":"U812*U811/('Base Numbers'!$C$5*'Base Numbers'!$C$6)","v":0},{"$f":"V812*V811/('Base Numbers'!$C$5*'Base Numbers'!$C$6)","v":0},{"$f":"W812*W811/('Base Numbers'!$C$5*'Base Numbers'!$C$6)","v":0},{"$f":"X812*X811/('Base Numbers'!$C$5*'Base Numbers'!$C$6)","v":0}]
[]
[{"$nulls":3},"summon aberration slot",{"$f":"SpellOrder!CL15","v":0},{"$f":"SpellOrder!CM15","v":0},{"$f":"SpellOrder!CN15","v":0},{"$f":"SpellOrder!CO15","v":0},{"$f":"SpellOrder!CP15","v":0},{"$f":"SpellOrder!CQ15","v":0},{"$f":"SpellOrder!CR15","v":0},{"$f":"SpellOrder!CS15","v":0},{"$f":"SpellOrder!CT15","v":0},{"$f":"SpellOrder!CU15","v":0},{"$f":"SpellOrder!CV15","v":0},{"$f":"SpellOrder!CW15","v":0},{"$f":"SpellOrder!CX15","v":0},{"$f":"SpellOrder!CY15","v":0},{"$f":"SpellOrder!CZ15","v":0},{"$f":"SpellOrder!DA15","v":0},{"$f":"SpellOrder!DB15","v":0},{"$f":"SpellOrder!DC15","v":0},{"$f":"SpellOrder!DD15","v":0},{"$f":"SpellOrder!DE15","v":0}]
[{"$nulls":3},"s. aberration hp",{"$f":"IF(E815>=4,40+(E815-4)*10+E1148,0)","v":0},0,0,0,0,0,0,0,0,0,0,0,0,0,0,0,0,0,0,0]
[{"$nulls":3},"s. aberration damage per attack",{"$f":"IF(E815>=4,7.5+E815,0)","v":0},0,0,0,0,0,0,0,0,0,0,0,0,0,0,0,0,0,0,0]
[{"$nulls":3},"s. aberration number of attacks",{"$f":"IF(E815>=4,FLOOR(E815/2,1),0)","v":0},0,0,0,0,0,0,0,0,0,0,0,0,0,0,0,0,0,0,0]
[{"$nulls":3},"s. aberration avg adv pct (beholderkin)",{"$f":"E412+E400","v":0},0,0,0,0,0,0,0,0,0,0,0,0,0,0,0,0,0,0,0]
[{"$nulls":3},"s. aberration hit chance (ranged spell attack)",{"$f":"E819*(1-(1-E368)^2)+(1-E819)*E368","v":0.65},0.65,0.6,0.6,0.65,0.6,0.6,0.6,0.6,0.6,0.6,0.55,0.6,0.6,0.55,0.55,0.6,0.55,0.55,0.55]
[{"$nulls":3},"s. aberration crit chance",{"$f":"MIN(1,E819*(1-0.95^2)+(1-E819)*0.05)","v":0.05},{"$f":"MIN(1,F819*(1-0.95^2)+(1-F819)*0.05)","v":0.05},0.05,0.05,0.05,0.05,0.05,0.05,0.05,0.05,0.05,0.05,0.05,0.05,0.05,0.05,0.05,0.05,0.05,0.05]
[{"$nulls":3},"s. aberration uptime",{"$f":"MIN(IF(E1147,2*'Base Numbers'!$C$6,E307+1),2*'Base Numbers'!$C$6,ROUND(E816/(E783*'Caster Tables'!C$79),2))","v":0},{"$f":"MIN(IF(F1147,2*'Base Numbers'!$C$6,F307+1),2*'Base Numbers'!$C$6,ROUND(F816/(F783*'Caster Tables'!D$79),2))","v":0},{"$f":"MIN(IF(G1147,2*'Base Numbers'!$C$6,G307+1),2*'Base Numbers'!$C$6,ROUND(G816/(G783*'Caster Tables'!E$79),2))","v":0},{"$f":"MIN(IF(H1147,2*'Base Numbers'!$C$6,H307+1),2*'Base Numbers'!$C$6,ROUND(H816/(H783*'Caster Tables'!F$79),2))","v":0},{"$f":"MIN(IF(I1147,2*'Base Numbers'!$C$6,I307+1),2*'Base Numbers'!$C$6,ROUND(I816/(I783*'Caster Tables'!G$79),2))","v":0},{"$f":"MIN(IF(J1147,2*'Base Numbers'!$C$6,J307+1),2*'Base Numbers'!$C$6,ROUND(J816/(J783*'Caster Tables'!H$79),2))","v":0},{"$f":"MIN(IF(K1147,2*'Base Numbers'!$C$6,K307+1),2*'Base Numbers'!$C$6,ROUND(K816/(K783*'Caster Tables'!I$79),2))","v":0},{"$f":"MIN(IF(L1147,2*'Base Numbers'!$C$6,L307+1),2*'Base Numbers'!$C$6,ROUND(L816/(L783*'Caster Tables'!J$79),2))","v":0},{"$f":"MIN(IF(M1147,2*'Base Numbers'!$C$6,M307+1),2*'Base Numbers'!$C$6,ROUND(M816/(M783*'Caster Tables'!K$79),2))","v":0},{"$f":"MIN(IF(N1147,2*'Base Numbers'!$C$6,N307+1),2*'Base Numbers'!$C$6,ROUND(N816/(N783*'Caster Tables'!L$79),2))","v":0},{"$f":"MIN(IF(O1147,2*'Base Numbers'!$C$6,O307+1),2*'Base Numbers'!$C$6,ROUND(O816/(O783*'Caster Tables'!M$79),2))","v":0},{"$f":"MIN(IF(P1147,2*'Base Numbers'!$C$6,P307+1),2*'Base Numbers'!$C$6,ROUND(P816/(P783*'Caster Tables'!N$79),2))","v":0},{"$f":"MIN(IF(Q1147,2*'Base Numbers'!$C$6,Q307+1),2*'Base Numbers'!$C$6,ROUND(Q816/(Q783*'Caster Tables'!O$79),2))","v":0},{"$f":"MIN(IF(R1147,2*'Base Numbers'!$C$6,R307+1),2*'Base Numbers'!$C$6,ROUND(R816/(R783*'Caster Tables'!P$79),2))","v":0},{"$f":"MIN(IF(S1147,2*'Base Numbers'!$C$6,S307+1),2*'Base Numbers'!$C$6,ROUND(S816/(S783*'Caster Tables'!Q$79),2))","v":0},{"$f":"MIN(IF(T1147,2*'Base Numbers'!$C$6,T307+1),2*'Base Numbers'!$C$6,ROUND(T816/(T783*'Caster Tables'!R$79),2))","v":0},{"$f":"MIN(IF(U1147,2*'Base Numbers'!$C$6,U307+1),2*'Base Numbers'!$C$6,ROUND(U816/(U783*'Caster Tables'!S$79),2))","v":0},{"$f":"MIN(IF(V1147,2*'Base Numbers'!$C$6,V307+1),2*'Base Numbers'!$C$6,ROUND(V816/(V783*'Caster Tables'!T$79),2))","v":0},{"$f":"MIN(IF(W1147,2*'Base Numbers'!$C$6,W307+1),2*'Base Numbers'!$C$6,ROUND(W816/(W783*'Caster Tables'!U$79),2))","v":0},{"$f":"MIN(IF(X1147,2*'Base Numbers'!$C$6,X307+1),2*'Base Numbers'!$C$6,ROUND(X816/(X783*'Caster Tables'!V$79),2))","v":0}]
[{"$nulls":3},"s. aberration avg damage per round of uptime",{"$f":"E818*(E820*E817+E821*4.5)","v":0},{"$f":"F818*(F820*F817+F821*4.5)","v":0},0,0,0,0,0,0,0,0,0,0,0,0,0,0,0,0,0,0]
[{"$nulls":3},"s. aberration avg damage per round (incl uptime)",{"$f":"E823*E822/('Base Numbers'!$C$5*'Base Numbers'!$C$6)","v":0},{"$f":"F823*F822/('Base Numbers'!$C$5*'Base Numbers'!$C$6)","v":0},{"$f":"G823*G822/('Base Numbers'!$C$5*'Base Numbers'!$C$6)","v":0},{"$f":"H823*H822/('Base Numbers'!$C$5*'Base Numbers'!$C$6)","v":0},{"$f":"I823*I822/('Base Numbers'!$C$5*'Base Numbers'!$C$6)","v":0},{"$f":"J823*J822/('Base Numbers'!$C$5*'Base Numbers'!$C$6)","v":0},{"$f":"K823*K822/('Base Numbers'!$C$5*'Base Numbers'!$C$6)","v":0},{"$f":"L823*L822/('Base Numbers'!$C$5*'Base Numbers'!$C$6)","v":0},{"$f":"M823*M822/('Base Numbers'!$C$5*'Base Numbers'!$C$6)","v":0},{"$f":"N823*N822/('Base Numbers'!$C$5*'Base Numbers'!$C$6)","v":0},{"$f":"O823*O822/('Base Numbers'!$C$5*'Base Numbers'!$C$6)","v":0},{"$f":"P823*P822/('Base Numbers'!$C$5*'Base Numbers'!$C$6)","v":0},{"$f":"Q823*Q822/('Base Numbers'!$C$5*'Base Numbers'!$C$6)","v":0},{"$f":"R823*R822/('Base Numbers'!$C$5*'Base Numbers'!$C$6)","v":0},{"$f":"S823*S822/('Base Numbers'!$C$5*'Base Numbers'!$C$6)","v":0},{"$f":"T823*T822/('Base Numbers'!$C$5*'Base Numbers'!$C$6)","v":0},{"$f":"U823*U822/('Base Numbers'!$C$5*'Base Numbers'!$C$6)","v":0},{"$f":"V823*V822/('Base Numbers'!$C$5*'Base Numbers'!$C$6)","v":0},{"$f":"W823*W822/('Base Numbers'!$C$5*'Base Numbers'!$C$6)","v":0},{"$f":"X823*X822/('Base Numbers'!$C$5*'Base Numbers'!$C$6)","v":0}]
[]
[{"$nulls":3},"summon construct slot",{"$f":"SpellOrder!CL16","v":0},{"$f":"SpellOrder!CM16","v":0},{"$f":"SpellOrder!CN16","v":0},{"$f":"SpellOrder!CO16","v":0},{"$f":"SpellOrder!CP16","v":0},{"$f":"SpellOrder!CQ16","v":0},{"$f":"SpellOrder!CR16","v":0},{"$f":"SpellOrder!CS16","v":0},{"$f":"SpellOrder!CT16","v":0},{"$f":"SpellOrder!CU16","v":0},{"$f":"SpellOrder!CV16","v":0},{"$f":"SpellOrder!CW16","v":0},{"$f":"SpellOrder!CX16","v":0},{"$f":"SpellOrder!CY16","v":0},{"$f":"SpellOrder!CZ16","v":0},{"$f":"SpellOrder!DA16","v":0},{"$f":"SpellOrder!DB16","v":0},{"$f":"SpellOrder!DC16","v":0},{"$f":"SpellOrder!DD16","v":0},{"$f":"SpellOrder!DE16","v":0}]
[{"$nulls":3},"s. construct hp",{"$f":"IF(E826>=4,40+(E826-4)*15+E1148,0)","v":0},0,0,0,0,0,0,0,0,0,0,0,0,0,0,0,0,0,0,0]
[{"$nulls":3},"s. construct damage per attack",{"$f":"IF(E826>=4,8.5+E826,0)","v":0},{"$f":"IF(F826>=4,8.5+F826,0)","v":0},0,0,0,0,0,0,0,0,0,0,0,{"$f":"IF(R826>=4,8.5+R826,0)","v":0},0,0,0,0,0,0]
[{"$nulls":3},"s. construct number of attacks (incl reactions)",{"$f":"IF(E826>=4,FLOOR(E826/2,1)+'Base Numbers'!$C$15,0)","v":0},{"$f":"IF(F826>=4,FLOOR(F826/2,1)+'Base Numbers'!$C$15,0)","v":0},{"$f":"IF(G826>=4,FLOOR(G826/2,1)+'Base Numbers'!$C$15,0)","v":0},{"$f":"IF(H826>=4,FLOOR(H826/2,1)+'Base Numbers'!$C$15,0)","v":0},{"$f":"IF(I826>=4,FLOOR(I826/2,1)+'Base Numbers'!$C$15,0)","v":0},{"$f":"IF(J826>=4,FLOOR(J826/2,1)+'Base Numbers'!$C$15,0)","v":0},{"$f":"IF(K826>=4,FLOOR(K826/2,1)+'Base Numbers'!$C$15,0)","v":0},{"$f":"IF(L826>=4,FLOOR(L826/2,1)+'Base Numbers'!$C$15,0)","v":0},{"$f":"IF(M826>=4,FLOOR(M826/2,1)+'Base Numbers'!$C$15,0)","v":0},{"$f":"IF(N826>=4,FLOOR(N826/2,1)+'Base Numbers'!$C$15,0)","v":0},{"$f":"IF(O826>=4,FLOOR(O826/2,1)+'Base Numbers'!$C$15,0)","v":0},{"$f":"IF(P826>=4,FLOOR(P826/2,1)+'Base Numbers'!$C$15,0)","v":0},{"$f":"IF(Q826>=4,FLOOR(Q826/2,1)+'Base Numbers'!$C$15,0)","v":0},{"$f":"IF(R826>=4,FLOOR(R826/2,1)+'Base Numbers'!$C$15,0)","v":0},{"$f":"IF(S826>=4,FLOOR(S826/2,1)+'Base Numbers'!$C$15,0)","v":0},{"$f":"IF(T826>=4,FLOOR(T826/2,1)+'Base Numbers'!$C$15,0)","v":0},{"$f":"IF(U826>=4,FLOOR(U826/2,1)+'Base Numbers'!$C$15,0)","v":0},{"$f":"IF(V826>=4,FLOOR(V826/2,1)+'Base Numbers'!$C$15,0)","v":0},{"$f":"IF(W826>=4,FLOOR(W826/2,1)+'Base Numbers'!$C$15,0)","v":0},{"$f":"IF(X826>=4,FLOOR(X826/2,1)+'Base Numbers'!$C$15,0)","v":0}]
[{"$nulls":3},"s. construct avg adv pct ",{"$f":"E380+E479+E412+E400","v":0},0,0,0,0,0,0,0,0,0,0,0,0,0,0,0,0,0,0,0]
[{"$nulls":3},"s. construct hit chance (melee spell attack)",{"$f":"E830*(1-(1-E368)^2)+(1-E830)*E368","v":0.65},0.65,0.6,0.6,0.65,0.6,0.6,0.6,0.6,0.6,0.6,0.55,0.6,0.6,0.55,0.55,0.6,0.55,0.55,0.55]
[{"$nulls":3},"s. construct crit chance",{"$f":"MIN(1,E830*(1-0.95^2)+(1-E830)*0.05+E480)","v":0.05},0.05,0.05,0.05,0.05,0.05,0.05,0.05,0.05,0.05,0.05,0.05,0.05,0.05,0.05,0.05,0.05,0.05,0.05,0.05]
[{"$nulls":3},"s. construct uptime",{"$f":"MIN(IF(E1147,2*'Base Numbers'!$C$6,E307+1),2*'Base Numbers'!$C$6,ROUND(E827/(E784*'Caster Tables'!C$79),2))","v":0},{"$f":"MIN(IF(F1147,2*'Base Numbers'!$C$6,F307+1),2*'Base Numbers'!$C$6,ROUND(F827/(F784*'Caster Tables'!D$79),2))","v":0},{"$f":"MIN(IF(G1147,2*'Base Numbers'!$C$6,G307+1),2*'Base Numbers'!$C$6,ROUND(G827/(G784*'Caster Tables'!E$79),2))","v":0},{"$f":"MIN(IF(H1147,2*'Base Numbers'!$C$6,H307+1),2*'Base Numbers'!$C$6,ROUND(H827/(H784*'Caster Tables'!F$79),2))","v":0},{"$f":"MIN(IF(I1147,2*'Base Numbers'!$C$6,I307+1),2*'Base Numbers'!$C$6,ROUND(I827/(I784*'Caster Tables'!G$79),2))","v":0},{"$f":"MIN(IF(J1147,2*'Base Numbers'!$C$6,J307+1),2*'Base Numbers'!$C$6,ROUND(J827/(J784*'Caster Tables'!H$79),2))","v":0},{"$f":"MIN(IF(K1147,2*'Base Numbers'!$C$6,K307+1),2*'Base Numbers'!$C$6,ROUND(K827/(K784*'Caster Tables'!I$79),2))","v":0},{"$f":"MIN(IF(L1147,2*'Base Numbers'!$C$6,L307+1),2*'Base Numbers'!$C$6,ROUND(L827/(L784*'Caster Tables'!J$79),2))","v":0},{"$f":"MIN(IF(M1147,2*'Base Numbers'!$C$6,M307+1),2*'Base Numbers'!$C$6,ROUND(M827/(M784*'Caster Tables'!K$79),2))","v":0},{"$f":"MIN(IF(N1147,2*'Base Numbers'!$C$6,N307+1),2*'Base Numbers'!$C$6,ROUND(N827/(N784*'Caster Tables'!L$79),2))","v":0},{"$f":"MIN(IF(O1147,2*'Base Numbers'!$C$6,O307+1),2*'Base Numbers'!$C$6,ROUND(O827/(O784*'Caster Tables'!M$79),2))","v":0},{"$f":"MIN(IF(P1147,2*'Base Numbers'!$C$6,P307+1),2*'Base Numbers'!$C$6,ROUND(P827/(P784*'Caster Tables'!N$79),2))","v":0},{"$f":"MIN(IF(Q1147,2*'Base Numbers'!$C$6,Q307+1),2*'Base Numbers'!$C$6,ROUND(Q827/(Q784*'Caster Tables'!O$79),2))","v":0},{"$f":"MIN(IF(R1147,2*'Base Numbers'!$C$6,R307+1),2*'Base Numbers'!$C$6,ROUND(R827/(R784*'Caster Tables'!P$79),2))","v":0},{"$f":"MIN(IF(S1147,2*'Base Numbers'!$C$6,S307+1),2*'Base Numbers'!$C$6,ROUND(S827/(S784*'Caster Tables'!Q$79),2))","v":0},{"$f":"MIN(IF(T1147,2*'Base Numbers'!$C$6,T307+1),2*'Base Numbers'!$C$6,ROUND(T827/(T784*'Caster Tables'!R$79),2))","v":0},{"$f":"MIN(IF(U1147,2*'Base Numbers'!$C$6,U307+1),2*'Base Numbers'!$C$6,ROUND(U827/(U784*'Caster Tables'!S$79),2))","v":0},{"$f":"MIN(IF(V1147,2*'Base Numbers'!$C$6,V307+1),2*'Base Numbers'!$C$6,ROUND(V827/(V784*'Caster Tables'!T$79),2))","v":0},{"$f":"MIN(IF(W1147,2*'Base Numbers'!$C$6,W307+1),2*'Base Numbers'!$C$6,ROUND(W827/(W784*'Caster Tables'!U$79),2))","v":0},{"$f":"MIN(IF(X1147,2*'Base Numbers'!$C$6,X307+1),2*'Base Numbers'!$C$6,ROUND(X827/(X784*'Caster Tables'!V$79),2))","v":0},null,"*reduced by % of creatures resistant to nonmagical weapon dmg"]
[{"$nulls":3},"s. construct avg damage per round of uptime",{"$f":"E829*(E831*E828+E832*4.5)*IF(AND(E17>=6,E74>=1),1,'Caster Tables'!C$81)","v":0},{"$f":"F829*(F831*F828+F832*4.5)*IF(AND(F17>=6,F74>=1),1,'Caster Tables'!D$81)","v":0},{"$f":"G829*(G831*G828+G832*4.5)*IF(AND(G17>=6,G74>=1),1,'Caster Tables'!E$81)","v":0},{"$f":"H829*(H831*H828+H832*4.5)*IF(AND(H17>=6,H74>=1),1,'Caster Tables'!F$81)","v":0},{"$f":"I829*(I831*I828+I832*4.5)*IF(AND(I17>=6,I74>=1),1,'Caster Tables'!G$81)","v":0},{"$f":"J829*(J831*J828+J832*4.5)*IF(AND(J17>=6,J74>=1),1,'Caster Tables'!H$81)","v":0},{"$f":"K829*(K831*K828+K832*4.5)*IF(AND(K17>=6,K74>=1),1,'Caster Tables'!I$81)","v":0},{"$f":"L829*(L831*L828+L832*4.5)*IF(AND(L17>=6,L74>=1),1,'Caster Tables'!J$81)","v":0},{"$f":"M829*(M831*M828+M832*4.5)*IF(AND(M17>=6,M74>=1),1,'Caster Tables'!K$81)","v":0},{"$f":"N829*(N831*N828+N832*4.5)*IF(AND(N17>=6,N74>=1),1,'Caster Tables'!L$81)","v":0},{"$f":"O829*(O831*O828+O832*4.5)*IF(AND(O17>=6,O74>=1),1,'Caster Tables'!M$81)","v":0},{"$f":"P829*(P831*P828+P832*4.5)*IF(AND(P17>=6,P74>=1),1,'Caster Tables'!N$81)","v":0},{"$f":"Q829*(Q831*Q828+Q832*4.5)*IF(AND(Q17>=6,Q74>=1),1,'Caster Tables'!O$81)","v":0},{"$f":"R829*(R831*R828+R832*4.5)*IF(AND(R17>=6,R74>=1),1,'Caster Tables'!P$81)","v":0},{"$f":"S829*(S831*S828+S832*4.5)*IF(AND(S17>=6,S74>=1),1,'Caster Tables'!Q$81)","v":0},{"$f":"T829*(T831*T828+T832*4.5)*IF(AND(T17>=6,T74>=1),1,'Caster Tables'!R$81)","v":0},{"$f":"U829*(U831*U828+U832*4.5)*IF(AND(U17>=6,U74>=1),1,'Caster Tables'!S$81)","v":0},{"$f":"V829*(V831*V828+V832*4.5)*IF(AND(V17>=6,V74>=1),1,'Caster Tables'!T$81)","v":0},{"$f":"W829*(W831*W828+W832*4.5)*IF(AND(W17>=6,W74>=1),1,'Caster Tables'!U$81)","v":0},{"$f":"X829*(X831*X828+X832*4.5)*IF(AND(X17>=6,X74>=1),1,'Caster Tables'!V$81)","v":0}]
[{"$nulls":3},"s. construct avg damage per round (incl uptime)",{"$f":"E834*E833/('Base Numbers'!$C$5*'Base Numbers'!$C$6)","v":0},{"$f":"F834*F833/('Base Numbers'!$C$5*'Base Numbers'!$C$6)","v":0},{"$f":"G834*G833/('Base Numbers'!$C$5*'Base Numbers'!$C$6)","v":0},{"$f":"H834*H833/('Base Numbers'!$C$5*'Base Numbers'!$C$6)","v":0},{"$f":"I834*I833/('Base Numbers'!$C$5*'Base Numbers'!$C$6)","v":0},{"$f":"J834*J833/('Base Numbers'!$C$5*'Base Numbers'!$C$6)","v":0},{"$f":"K834*K833/('Base Numbers'!$C$5*'Base Numbers'!$C$6)","v":0},{"$f":"L834*L833/('Base Numbers'!$C$5*'Base Numbers'!$C$6)","v":0},{"$f":"M834*M833/('Base Numbers'!$C$5*'Base Numbers'!$C$6)","v":0},{"$f":"N834*N833/('Base Numbers'!$C$5*'Base Numbers'!$C$6)","v":0},{"$f":"O834*O833/('Base Numbers'!$C$5*'Base Numbers'!$C$6)","v":0},{"$f":"P834*P833/('Base Numbers'!$C$5*'Base Numbers'!$C$6)","v":0},{"$f":"Q834*Q833/('Base Numbers'!$C$5*'Base Numbers'!$C$6)","v":0},{"$f":"R834*R833/('Base Numbers'!$C$5*'Base Numbers'!$C$6)","v":0},{"$f":"S834*S833/('Base Numbers'!$C$5*'Base Numbers'!$C$6)","v":0},{"$f":"T834*T833/('Base Numbers'!$C$5*'Base Numbers'!$C$6)","v":0},{"$f":"U834*U833/('Base Numbers'!$C$5*'Base Numbers'!$C$6)","v":0},{"$f":"V834*V833/('Base Numbers'!$C$5*'Base Numbers'!$C$6)","v":0},{"$f":"W834*W833/('Base Numbers'!$C$5*'Base Numbers'!$C$6)","v":0},{"$f":"X834*X833/('Base Numbers'!$C$5*'Base Numbers'!$C$6)","v":0}]
[]
[{"$nulls":3},"summon celestial slot",{"$f":"SpellOrder!CL17","v":0},{"$f":"SpellOrder!CM17","v":0},{"$f":"SpellOrder!CN17","v":0},{"$f":"SpellOrder!CO17","v":0},{"$f":"SpellOrder!CP17","v":0},{"$f":"SpellOrder!CQ17","v":0},{"$f":"SpellOrder!CR17","v":0},{"$f":"SpellOrder!CS17","v":0},{"$f":"SpellOrder!CT17","v":0},{"$f":"SpellOrder!CU17","v":0},{"$f":"SpellOrder!CV17","v":0},{"$f":"SpellOrder!CW17","v":0},{"$f":"SpellOrder!CX17","v":0},{"$f":"SpellOrder!CY17","v":0},{"$f":"SpellOrder!CZ17","v":0},{"$f":"SpellOrder!DA17","v":0},{"$f":"SpellOrder!DB17","v":0},{"$f":"SpellOrder!DC17","v":0},{"$f":"SpellOrder!DD17","v":0},{"$f":"SpellOrder!DE17","v":0}]
[{"$nulls":3},"s. celestial hp",{"$f":"IF(E837>=5,40+(E837-5)*10+E1148,0)","v":0},0,0,0,0,0,0,0,0,0,0,0,0,0,0,0,0,0,0,0]
[{"$nulls":3},"s. celestial damage per attack",{"$f":"IF(E837>=4,9+E837,0)","v":0},{"$f":"IF(F837>=4,9+F837,0)","v":0},0,0,0,0,0,0,0,0,0,0,0,0,0,0,0,0,0,0]
[{"$nulls":3},"s. celestial number of attacks",{"$f":"IF(E837>=5,FLOOR(E837/2,1),0)","v":0},{"$f":"IF(F837>=5,FLOOR(F837/2,1),0)","v":0},0,0,0,0,0,0,0,0,0,0,0,0,0,0,0,0,0,0]
[{"$nulls":3},"s. celestial avg adv pct (ranged)",{"$f":"E412+E400","v":0},0,0,0,0,0,0,0,0,0,0,0,0,0,0,0,0,0,0,0]
[{"$nulls":3},"s. celestial hit chance (ranged spell attack)",{"$f":"E841*(1-(1-E368)^2)+(1-E841)*E368","v":0.65},0.65,0.6,0.6,0.65,0.6,0.6,0.6,0.6,0.6,0.6,0.55,0.6,0.6,0.55,0.55,0.6,0.55,0.55,0.55]
[{"$nulls":3},"s. celestial crit chance",{"$f":"MIN(1,E841*(1-0.95^2)+(1-E841)*0.05)","v":0.05},{"$f":"MIN(1,F841*(1-0.95^2)+(1-F841)*0.05)","v":0.05},0.05,0.05,0.05,0.05,0.05,0.05,0.05,0.05,0.05,0.05,0.05,0.05,0.05,0.05,0.05,0.05,0.05,0.05]
[{"$nulls":3},"s. celestial uptime",{"$f":"MIN(IF(E1147,2*'Base Numbers'!$C$6,E307+1),2*'Base Numbers'!$C$6,ROUND(E838/(E783*'Caster Tables'!C$79),2))","v":0},{"$f":"MIN(IF(F1147,2*'Base Numbers'!$C$6,F307+1),2*'Base Numbers'!$C$6,ROUND(F838/(F783*'Caster Tables'!D$79),2))","v":0},{"$f":"MIN(IF(G1147,2*'Base Numbers'!$C$6,G307+1),2*'Base Numbers'!$C$6,ROUND(G838/(G783*'Caster Tables'!E$79),2))","v":0},{"$f":"MIN(IF(H1147,2*'Base Numbers'!$C$6,H307+1),2*'Base Numbers'!$C$6,ROUND(H838/(H783*'Caster Tables'!F$79),2))","v":0},{"$f":"MIN(IF(I1147,2*'Base Numbers'!$C$6,I307+1),2*'Base Numbers'!$C$6,ROUND(I838/(I783*'Caster Tables'!G$79),2))","v":0},{"$f":"MIN(IF(J1147,2*'Base Numbers'!$C$6,J307+1),2*'Base Numbers'!$C$6,ROUND(J838/(J783*'Caster Tables'!H$79),2))","v":0},{"$f":"MIN(IF(K1147,2*'Base Numbers'!$C$6,K307+1),2*'Base Numbers'!$C$6,ROUND(K838/(K783*'Caster Tables'!I$79),2))","v":0},{"$f":"MIN(IF(L1147,2*'Base Numbers'!$C$6,L307+1),2*'Base Numbers'!$C$6,ROUND(L838/(L783*'Caster Tables'!J$79),2))","v":0},{"$f":"MIN(IF(M1147,2*'Base Numbers'!$C$6,M307+1),2*'Base Numbers'!$C$6,ROUND(M838/(M783*'Caster Tables'!K$79),2))","v":0},{"$f":"MIN(IF(N1147,2*'Base Numbers'!$C$6,N307+1),2*'Base Numbers'!$C$6,ROUND(N838/(N783*'Caster Tables'!L$79),2))","v":0},{"$f":"MIN(IF(O1147,2*'Base Numbers'!$C$6,O307+1),2*'Base Numbers'!$C$6,ROUND(O838/(O783*'Caster Tables'!M$79),2))","v":0},{"$f":"MIN(IF(P1147,2*'Base Numbers'!$C$6,P307+1),2*'Base Numbers'!$C$6,ROUND(P838/(P783*'Caster Tables'!N$79),2))","v":0},{"$f":"MIN(IF(Q1147,2*'Base Numbers'!$C$6,Q307+1),2*'Base Numbers'!$C$6,ROUND(Q838/(Q783*'Caster Tables'!O$79),2))","v":0},{"$f":"MIN(IF(R1147,2*'Base Numbers'!$C$6,R307+1),2*'Base Numbers'!$C$6,ROUND(R838/(R783*'Caster Tables'!P$79),2))","v":0},{"$f":"MIN(IF(S1147,2*'Base Numbers'!$C$6,S307+1),2*'Base Numbers'!$C$6,ROUND(S838/(S783*'Caster Tables'!Q$79),2))","v":0},{"$f":"MIN(IF(T1147,2*'Base Numbers'!$C$6,T307+1),2*'Base Numbers'!$C$6,ROUND(T838/(T783*'Caster Tables'!R$79),2))","v":0},{"$f":"MIN(IF(U1147,2*'Base Numbers'!$C$6,U307+1),2*'Base Numbers'!$C$6,ROUND(U838/(U783*'Caster Tables'!S$79),2))","v":0},{"$f":"MIN(IF(V1147,2*'Base Numbers'!$C$6,V307+1),2*'Base Numbers'!$C$6,ROUND(V838/(V783*'Caster Tables'!T$79),2))","v":0},{"$f":"MIN(IF(W1147,2*'Base Numbers'!$C$6,W307+1),2*'Base Numbers'!$C$6,ROUND(W838/(W783*'Caster Tables'!U$79),2))","v":0},{"$f":"MIN(IF(X1147,2*'Base Numbers'!$C$6,X307+1),2*'Base Numbers'!$C$6,ROUND(X838/(X783*'Caster Tables'!V$79),2))","v":0}]
[{"$nulls":3},"s. celestial avg damage per round of uptime",{"$f":"E840*(E842*E839+E843*7)","v":0},{"$f":"F840*(F842*F839+F843*7)*IF(AND(F17>=6,F74>=1),1,'Caster Tables'!D$81)","v":0},{"$f":"G840*(G842*G839+G843*7)*IF(AND(G17>=6,G74>=1),1,'Caster Tables'!E$81)","v":0},{"$f":"H840*(H842*H839+H843*7)*IF(AND(H17>=6,H74>=1),1,'Caster Tables'!F$81)","v":0},{"$f":"I840*(I842*I839+I843*7)*IF(AND(I17>=6,I74>=1),1,'Caster Tables'!G$81)","v":0},{"$f":"J840*(J842*J839+J843*7)*IF(AND(J17>=6,J74>=1),1,'Caster Tables'!H$81)","v":0},{"$f":"K840*(K842*K839+K843*7)*IF(AND(K17>=6,K74>=1),1,'Caster Tables'!I$81)","v":0},{"$f":"L840*(L842*L839+L843*7)*IF(AND(L17>=6,L74>=1),1,'Caster Tables'!J$81)","v":0},{"$f":"M840*(M842*M839+M843*7)*IF(AND(M17>=6,M74>=1),1,'Caster Tables'!K$81)","v":0},{"$f":"N840*(N842*N839+N843*7)*IF(AND(N17>=6,N74>=1),1,'Caster Tables'!L$81)","v":0},{"$f":"O840*(O842*O839+O843*7)*IF(AND(O17>=6,O74>=1),1,'Caster Tables'!M$81)","v":0},{"$f":"P840*(P842*P839+P843*7)*IF(AND(P17>=6,P74>=1),1,'Caster Tables'!N$81)","v":0},{"$f":"Q840*(Q842*Q839+Q843*7)*IF(AND(Q17>=6,Q74>=1),1,'Caster Tables'!O$81)","v":0},{"$f":"R840*(R842*R839+R843*7)*IF(AND(R17>=6,R74>=1),1,'Caster Tables'!P$81)","v":0},{"$f":"S840*(S842*S839+S843*7)*IF(AND(S17>=6,S74>=1),1,'Caster Tables'!Q$81)","v":0},{"$f":"T840*(T842*T839+T843*7)*IF(AND(T17>=6,T74>=1),1,'Caster Tables'!R$81)","v":0},{"$f":"U840*(U842*U839+U843*7)*IF(AND(U17>=6,U74>=1),1,'Caster Tables'!S$81)","v":0},{"$f":"V840*(V842*V839+V843*7)*IF(AND(V17>=6,V74>=1),1,'Caster Tables'!T$81)","v":0},{"$f":"W840*(W842*W839+W843*7)*IF(AND(W17>=6,W74>=1),1,'Caster Tables'!U$81)","v":0},{"$f":"X840*(X842*X839+X843*7)*IF(AND(X17>=6,X74>=1),1,'Caster Tables'!V$81)","v":0}]
[{"$nulls":3},"s. celestial avg damage per round (incl uptime)",{"$f":"E845*E844/('Base Numbers'!$C$5*'Base Numbers'!$C$6)","v":0},{"$f":"F845*F844/('Base Numbers'!$C$5*'Base Numbers'!$C$6)","v":0},{"$f":"G845*G844/('Base Numbers'!$C$5*'Base Numbers'!$C$6)","v":0},{"$f":"H845*H844/('Base Numbers'!$C$5*'Base Numbers'!$C$6)","v":0},{"$f":"I845*I844/('Base Numbers'!$C$5*'Base Numbers'!$C$6)","v":0},{"$f":"J845*J844/('Base Numbers'!$C$5*'Base Numbers'!$C$6)","v":0},{"$f":"K845*K844/('Base Numbers'!$C$5*'Base Numbers'!$C$6)","v":0},{"$f":"L845*L844/('Base Numbers'!$C$5*'Base Numbers'!$C$6)","v":0},{"$f":"M845*M844/('Base Numbers'!$C$5*'Base Numbers'!$C$6)","v":0},{"$f":"N845*N844/('Base Numbers'!$C$5*'Base Numbers'!$C$6)","v":0},{"$f":"O845*O844/('Base Numbers'!$C$5*'Base Numbers'!$C$6)","v":0},{"$f":"P845*P844/('Base Numbers'!$C$5*'Base Numbers'!$C$6)","v":0},{"$f":"Q845*Q844/('Base Numbers'!$C$5*'Base Numbers'!$C$6)","v":0},{"$f":"R845*R844/('Base Numbers'!$C$5*'Base Numbers'!$C$6)","v":0},{"$f":"S845*S844/('Base Numbers'!$C$5*'Base Numbers'!$C$6)","v":0},{"$f":"T845*T844/('Base Numbers'!$C$5*'Base Numbers'!$C$6)","v":0},{"$f":"U845*U844/('Base Numbers'!$C$5*'Base Numbers'!$C$6)","v":0},{"$f":"V845*V844/('Base Numbers'!$C$5*'Base Numbers'!$C$6)","v":0},{"$f":"W845*W844/('Base Numbers'!$C$5*'Base Numbers'!$C$6)","v":0},{"$f":"X845*X844/('Base Numbers'!$C$5*'Base Numbers'!$C$6)","v":0}]
[]
[{"$nulls":3},"animate dead slot",{"$f":"SpellOrder!CL22","v":0},{"$f":"SpellOrder!CM22","v":0},{"$f":"SpellOrder!CN22","v":0},{"$f":"SpellOrder!CO22","v":0},{"$f":"SpellOrder!CP22","v":0},{"$f":"SpellOrder!CQ22","v":0},{"$f":"SpellOrder!CR22","v":0},{"$f":"SpellOrder!CS22","v":0},{"$f":"SpellOrder!CT22","v":0},{"$f":"SpellOrder!CU22","v":0},{"$f":"SpellOrder!CV22","v":0},{"$f":"SpellOrder!CW22","v":0},{"$f":"SpellOrder!CX22","v":0},{"$f":"SpellOrder!CY22","v":0},{"$f":"SpellOrder!CZ22","v":0},{"$f":"SpellOrder!DA22","v":0},{"$f":"SpellOrder!DB22","v":0},{"$f":"SpellOrder!DC22","v":0},{"$f":"SpellOrder!DD22","v":0},{"$f":"SpellOrder!DE22","v":0}]
[{"$nulls":3},"number of skeletons active per day",{"$f":"IF(E848>=3,1+IF(E848>3,FLOOR(E848-3,1),0)*2+IF(AND(E15>=5,E45>=1),1,0),0)*E250","v":0},0,0,0,0,0,0,0,0,0,0,0,0,0,0,0,0,0,0,0]
[{"$nulls":3},"skeleton hp",{"$f":"13+IF(AND(E15>=5,E45>=1),E15,0)","v":13},13,13,13,13,13,13,13,13,13,13,13,13,13,13,13,13,13,13,13]
[{"$nulls":3},"skeleton number of attacks each",1,1,1,1,1,1,1,1,1,1,1,1,1,1,1,1,1,1,1,1]
[{"$nulls":3},"skeleton avg adv pct (ranged)",{"$f":"E380+E479+E412+E400","v":0},0,0,0,0,0,0,0,0,0,0,0,0,0,0,0,0,0,0,0]
[{"$nulls":3},"skeleton one-die hit chance",{"$f":"(21-E129+4+IF(AND(E15>=5,E45>=1),E35,0))/20","v":0.6},0.6,0.55,0.55,0.55,0.5,0.5,0.5,0.45,0.45,0.45,0.4,0.4,0.4,0.35,0.35,0.35,0.3,0.3,0.3]
[{"$nulls":3},"skeleton hit chance",{"$f":"E852*(1-(1-E853)^2)+(1-E852)*E853","v":0.6},{"$f":"F852*(1-(1-F853)^2)+(1-F852)*F853","v":0.6},0.55,0.55,0.55,0.5,0.5,0.5,0.45,0.45,0.45,0.4,0.4,0.4,0.35,0.35,0.35,0.3,0.3,0.3]
[{"$nulls":3},"skeleton crit chance",{"$f":"E841*(1-0.95^2)+(1-E841)*0.05","v":0.05},{"$f":"F841*(1-0.95^2)+(1-F841)*0.05","v":0.05},0.05,0.05,0.05,0.05,0.05,0.05,0.05,0.05,0.05,0.05,0.05,0.05,0.05,0.05,0.05,0.05,0.05,0.05]
[{"$nulls":3},"skeleton uptime (single skeleton)",{"$f":"MIN('Base Numbers'!$C$5*'Base Numbers'!$C$6,ROUND(E850/(0.33*'Caster Tables'!C$79),2))","v":15.76},{"$f":"MIN('Base Numbers'!$C$5*'Base Numbers'!$C$6,ROUND(F850/(0.33*'Caster Tables'!D$79),2))","v":8.75},{"$f":"MIN('Base Numbers'!$C$5*'Base Numbers'!$C$6,ROUND(G850/(0.33*'Caster Tables'!E$79),2))","v":5.63},{"$f":"MIN('Base Numbers'!$C$5*'Base Numbers'!$C$6,ROUND(H850/(0.33*'Caster Tables'!F$79),2))","v":3.43},{"$f":"MIN('Base Numbers'!$C$5*'Base Numbers'!$C$6,ROUND(I850/(0.33*'Caster Tables'!G$79),2))","v":2.25},{"$f":"MIN('Base Numbers'!$C$5*'Base Numbers'!$C$6,ROUND(J850/(0.33*'Caster Tables'!H$79),2))","v":1.68},{"$f":"MIN('Base Numbers'!$C$5*'Base Numbers'!$C$6,ROUND(K850/(0.33*'Caster Tables'!I$79),2))","v":1.34},{"$f":"MIN('Base Numbers'!$C$5*'Base Numbers'!$C$6,ROUND(L850/(0.33*'Caster Tables'!J$79),2))","v":1.11},{"$f":"MIN('Base Numbers'!$C$5*'Base Numbers'!$C$6,ROUND(M850/(0.33*'Caster Tables'!K$79),2))","v":0.95},{"$f":"MIN('Base Numbers'!$C$5*'Base Numbers'!$C$6,ROUND(N850/(0.33*'Caster Tables'!L$79),2))","v":0.83},{"$f":"MIN('Base Numbers'!$C$5*'Base Numbers'!$C$6,ROUND(O850/(0.33*'Caster Tables'!M$79),2))","v":0.74},{"$f":"MIN('Base Numbers'!$C$5*'Base Numbers'!$C$6,ROUND(P850/(0.33*'Caster Tables'!N$79),2))","v":0.66},{"$f":"MIN('Base Numbers'!$C$5*'Base Numbers'!$C$6,ROUND(Q850/(0.33*'Caster Tables'!O$79),2))","v":0.6},{"$f":"MIN('Base Numbers'!$C$5*'Base Numbers'!$C$6,ROUND(R850/(0.33*'Caster Tables'!P$79),2))","v":0.55},{"$f":"MIN('Base Numbers'!$C$5*'Base Numbers'!$C$6,ROUND(S850/(0.33*'Caster Tables'!Q$79),2))","v":0.51},{"$f":"MIN('Base Numbers'!$C$5*'Base Numbers'!$C$6,ROUND(T850/(0.33*'Caster Tables'!R$79),2))","v":0.47},{"$f":"MIN('Base Numbers'!$C$5*'Base Numbers'!$C$6,ROUND(U850/(0.33*'Caster Tables'!S$79),2))","v":0.44},{"$f":"MIN('Base Numbers'!$C$5*'Base Numbers'!$C$6,ROUND(V850/(0.33*'Caster Tables'!T$79),2))","v":0.41},{"$f":"MIN('Base Numbers'!$C$5*'Base Numbers'!$C$6,ROUND(W850/(0.33*'Caster Tables'!U$79),2))","v":0.39},{"$f":"MIN('Base Numbers'!$C$5*'Base Numbers'!$C$6,ROUND(X850/(0.33*'Caster Tables'!V$79),2))","v":0.37}]
[{"$nulls":3},"rounds until all skeletons are dead",{"$f":"E849*E856","v":0},{"$f":"F849*F856","v":0},0,0,0,0,0,0,0,0,0,0,0,0,0,0,0,0,0,0]
[{"$nulls":3},"single skeleton single round damage (incl hit chance, crits)",{"$f":"E851*(E854*5.5+E855*3.5)*'Caster Tables'!C$81","v":3.4749999999999996},{"$f":"F851*(F854*5.5+F855*3.5)*'Caster Tables'!D$81","v":3.4749999999999996},{"$f":"G851*(G854*5.5+G855*3.5)*'Caster Tables'!E$81","v":3.2},{"$f":"H851*(H854*5.5+H855*3.5)*'Caster Tables'!F$81","v":2.8800000000000003},{"$f":"I851*(I854*5.5+I855*3.5)*'Caster Tables'!G$81","v":2.8800000000000003},{"$f":"J851*(J854*5.5+J855*3.5)*'Caster Tables'!H$81","v":2.34},{"$f":"K851*(K854*5.5+K855*3.5)*'Caster Tables'!I$81","v":2.34},{"$f":"L851*(L854*5.5+L855*3.5)*'Caster Tables'!J$81","v":2.1937499999999996},{"$f":"M851*(M854*5.5+M855*3.5)*'Caster Tables'!K$81","v":1.9874999999999998},{"$f":"N851*(N854*5.5+N855*3.5)*'Caster Tables'!L$81","v":1.8549999999999998},{"$f":"O851*(O854*5.5+O855*3.5)*'Caster Tables'!M$81","v":1.8549999999999998},{"$f":"P851*(P854*5.5+P855*3.5)*'Caster Tables'!N$81","v":1.54375},{"$f":"Q851*(Q854*5.5+Q855*3.5)*'Caster Tables'!O$81","v":1.54375},{"$f":"R851*(R854*5.5+R855*3.5)*'Caster Tables'!P$81","v":1.425},{"$f":"S851*(S854*5.5+S855*3.5)*'Caster Tables'!Q$81","v":1.1549999999999998},{"$f":"T851*(T854*5.5+T855*3.5)*'Caster Tables'!R$81","v":1.0499999999999998},{"$f":"U851*(U854*5.5+U855*3.5)*'Caster Tables'!S$81","v":0.8399999999999999},{"$f":"V851*(V854*5.5+V855*3.5)*'Caster Tables'!T$81","v":0.5475},{"$f":"W851*(W854*5.5+W855*3.5)*'Caster Tables'!U$81","v":0.5475},{"$f":"X851*(X854*5.5+X855*3.5)*'Caster Tables'!V$81","v":0.5475},null,"*reduced by % of creatures resistant to nonmagical weapon dmg"]
[{"$nulls":3},"skeleton avg damage per round of uptime",{"$f":"0.5*E858*(1+E849)","v":1.7374999999999998},{"$f":"0.5*F858*(1+F849)","v":1.7374999999999998},1.6,1.4400000000000002,1.4400000000000002,1.17,1.17,1.0968749999999998,0.9937499999999999,0.9274999999999999,0.9274999999999999,0.771875,0.771875,0.7125,0.5774999999999999,0.5249999999999999,0.41999999999999993,0.27375,0.27375,0.27375]
[{"$nulls":3},"skeleton avg damage per round (incl uptime)",{"$f":"E859*E857/('Base Numbers'!$C$5*'Base Numbers'!$C$6)","v":0},{"$f":"F859*F857/('Base Numbers'!$C$5*'Base Numbers'!$C$6)","v":0},{"$f":"G859*G857/('Base Numbers'!$C$5*'Base Numbers'!$C$6)","v":0},{"$f":"H859*H857/('Base Numbers'!$C$5*'Base Numbers'!$C$6)","v":0},{"$f":"I859*I857/('Base Numbers'!$C$5*'Base Numbers'!$C$6)","v":0},{"$f":"J859*J857/('Base Numbers'!$C$5*'Base Numbers'!$C$6)","v":0},{"$f":"K859*K857/('Base Numbers'!$C$5*'Base Numbers'!$C$6)","v":0},{"$f":"L859*L857/('Base Numbers'!$C$5*'Base Numbers'!$C$6)","v":0},{"$f":"M859*M857/('Base Numbers'!$C$5*'Base Numbers'!$C$6)","v":0},{"$f":"N859*N857/('Base Numbers'!$C$5*'Base Numbers'!$C$6)","v":0},{"$f":"O859*O857/('Base Numbers'!$C$5*'Base Numbers'!$C$6)","v":0},{"$f":"P859*P857/('Base Numbers'!$C$5*'Base Numbers'!$C$6)","v":0},{"$f":"Q859*Q857/('Base Numbers'!$C$5*'Base Numbers'!$C$6)","v":0},{"$f":"R859*R857/('Base Numbers'!$C$5*'Base Numbers'!$C$6)","v":0},{"$f":"S859*S857/('Base Numbers'!$C$5*'Base Numbers'!$C$6)","v":0},{"$f":"T859*T857/('Base Numbers'!$C$5*'Base Numbers'!$C$6)","v":0},{"$f":"U859*U857/('Base Numbers'!$C$5*'Base Numbers'!$C$6)","v":0},{"$f":"V859*V857/('Base Numbers'!$C$5*'Base Numbers'!$C$6)","v":0},{"$f":"W859*W857/('Base Numbers'!$C$5*'Base Numbers'!$C$6)","v":0},{"$f":"X859*X857/('Base Numbers'!$C$5*'Base Numbers'!$C$6)","v":0}]
[]
[{"$nulls":3},"tiny servant slot",{"$f":"SpellOrder!CL23","v":0},{"$f":"SpellOrder!CM23","v":0},{"$f":"SpellOrder!CN23","v":0},{"$f":"SpellOrder!CO23","v":0},{"$f":"SpellOrder!CP23","v":0},{"$f":"SpellOrder!CQ23","v":0},{"$f":"SpellOrder!CR23","v":0},{"$f":"SpellOrder!CS23","v":0},{"$f":"SpellOrder!CT23","v":0},{"$f":"SpellOrder!CU23","v":0},{"$f":"SpellOrder!CV23","v":0},{"$f":"SpellOrder!CW23","v":0},{"$f":"SpellOrder!CX23","v":0},{"$f":"SpellOrder!CY23","v":0},{"$f":"SpellOrder!CZ23","v":0},{"$f":"SpellOrder!DA23","v":0},{"$f":"SpellOrder!DB23","v":0},{"$f":"SpellOrder!DC23","v":0},{"$f":"SpellOrder!DD23","v":0},{"$f":"SpellOrder!DE23","v":0},null,"*assumes you can cast these and they last potentially until next long rest"]
[{"$nulls":3},"number of tiny servants active per day",{"$f":"IF(E862>=3,1+IF(E862>3,FLOOR(E862-3,1),0)*2,0)*E251","v":0},0,0,0,0,0,0,0,0,0,0,0,0,0,0,0,0,0,0,0]
[{"$nulls":3},"tiny servant hp",{"$f":"10","v":10},{"$f":"10","v":10},{"$f":"10","v":10},{"$f":"10","v":10},{"$f":"10","v":10},{"$f":"10","v":10},{"$f":"10","v":10},{"$f":"10","v":10},{"$f":"10","v":10},{"$f":"10","v":10},{"$f":"10","v":10},{"$f":"10","v":10},{"$f":"10","v":10},{"$f":"10","v":10},{"$f":"10","v":10},{"$f":"10","v":10},{"$f":"10","v":10},{"$f":"10","v":10},{"$f":"10","v":10},{"$f":"10","v":10}]
[{"$nulls":3},"tiny servant number of attacks each",1,1,1,1,1,1,1,1,1,1,1,1,1,1,1,1,1,1,1,1]
[{"$nulls":3},"tiny servant avg adv pct (melee)",{"$f":"MIN(1,E380+E479+E412+E389+E390+E400)","v":0},0,0,0,0,0,0,0,0,0,0,0,0,0,0,0,0,0,0,0]
[{"$nulls":3},"tiny servant one-die hit chance",{"$f":"(21-E129+5)/20","v":0.65},0.65,0.6,0.6,0.6,0.55,0.55,0.55,0.5,0.5,0.5,0.45,0.45,0.45,0.4,0.4,0.4,0.35,0.35,0.35]
[{"$nulls":3},"tiny servant hit chance",{"$f":"E866*(1-(1-E867)^2)+(1-E866)*E867","v":0.65},{"$f":"F866*(1-(1-F867)^2)+(1-F866)*F867","v":0.65},0.6,0.6,0.6,0.55,0.55,0.55,0.5,0.5,0.5,0.45,0.45,0.45,0.4,0.4,0.4,0.35,0.35,0.35]
[{"$nulls":3},"tiny servant crit chance",{"$f":"E866*(1-0.95^2)+(1-E866)*0.05","v":0.05},{"$f":"F866*(1-0.95^2)+(1-F866)*0.05","v":0.05},0.05,0.05,0.05,0.05,0.05,0.05,0.05,0.05,0.05,0.05,0.05,0.05,0.05,0.05,0.05,0.05,0.05,0.05]
[{"$nulls":3},"tiny servant uptime (single tiny servant)",{"$f":"MIN('Base Numbers'!$C$5*'Base Numbers'!$C$6,ROUND(E864/(0.33*'Caster Tables'!C$79),2))","v":12.12},{"$f":"MIN('Base Numbers'!$C$5*'Base Numbers'!$C$6,ROUND(F864/(0.33*'Caster Tables'!D$79),2))","v":6.73},{"$f":"MIN('Base Numbers'!$C$5*'Base Numbers'!$C$6,ROUND(G864/(0.33*'Caster Tables'!E$79),2))","v":4.33},{"$f":"MIN('Base Numbers'!$C$5*'Base Numbers'!$C$6,ROUND(H864/(0.33*'Caster Tables'!F$79),2))","v":2.64},{"$f":"MIN('Base Numbers'!$C$5*'Base Numbers'!$C$6,ROUND(I864/(0.33*'Caster Tables'!G$79),2))","v":1.73},{"$f":"MIN('Base Numbers'!$C$5*'Base Numbers'!$C$6,ROUND(J864/(0.33*'Caster Tables'!H$79),2))","v":1.29},{"$f":"MIN('Base Numbers'!$C$5*'Base Numbers'!$C$6,ROUND(K864/(0.33*'Caster Tables'!I$79),2))","v":1.03},{"$f":"MIN('Base Numbers'!$C$5*'Base Numbers'!$C$6,ROUND(L864/(0.33*'Caster Tables'!J$79),2))","v":0.85},{"$f":"MIN('Base Numbers'!$C$5*'Base Numbers'!$C$6,ROUND(M864/(0.33*'Caster Tables'!K$79),2))","v":0.73},{"$f":"MIN('Base Numbers'!$C$5*'Base Numbers'!$C$6,ROUND(N864/(0.33*'Caster Tables'!L$79),2))","v":0.64},{"$f":"MIN('Base Numbers'!$C$5*'Base Numbers'!$C$6,ROUND(O864/(0.33*'Caster Tables'!M$79),2))","v":0.57},{"$f":"MIN('Base Numbers'!$C$5*'Base Numbers'!$C$6,ROUND(P864/(0.33*'Caster Tables'!N$79),2))","v":0.51},{"$f":"MIN('Base Numbers'!$C$5*'Base Numbers'!$C$6,ROUND(Q864/(0.33*'Caster Tables'!O$79),2))","v":0.46},{"$f":"MIN('Base Numbers'!$C$5*'Base Numbers'!$C$6,ROUND(R864/(0.33*'Caster Tables'!P$79),2))","v":0.42},{"$f":"MIN('Base Numbers'!$C$5*'Base Numbers'!$C$6,ROUND(S864/(0.33*'Caster Tables'!Q$79),2))","v":0.39},{"$f":"MIN('Base Numbers'!$C$5*'Base Numbers'!$C$6,ROUND(T864/(0.33*'Caster Tables'!R$79),2))","v":0.36},{"$f":"MIN('Base Numbers'!$C$5*'Base Numbers'!$C$6,ROUND(U864/(0.33*'Caster Tables'!S$79),2))","v":0.34},{"$f":"MIN('Base Numbers'!$C$5*'Base Numbers'!$C$6,ROUND(V864/(0.33*'Caster Tables'!T$79),2))","v":0.32},{"$f":"MIN('Base Numbers'!$C$5*'Base Numbers'!$C$6,ROUND(W864/(0.33*'Caster Tables'!U$79),2))","v":0.3},{"$f":"MIN('Base Numbers'!$C$5*'Base Numbers'!$C$6,ROUND(X864/(0.33*'Caster Tables'!V$79),2))","v":0.28}]
[{"$nulls":3},"rounds until all tiny servants are dead",{"$f":"E863*E870","v":0},{"$f":"F863*F870","v":0},0,0,0,0,0,0,0,0,0,0,0,0,0,0,0,0,0,0]
[{"$nulls":3},"tiny servants left at end of day",{"$f":"IF(E871<='Base Numbers'!$C$5*'Base Numbers'!$C$6,0,(1-('Base Numbers'!$C$5*'Base Numbers'!$C$6)/E871)*E863)","v":0},{"$f":"IF(F871<='Base Numbers'!$C$5*'Base Numbers'!$C$6,0,(1-('Base Numbers'!$C$5*'Base Numbers'!$C$6)/F871)*F863)","v":0},{"$f":"IF(G871<='Base Numbers'!$C$5*'Base Numbers'!$C$6,0,(1-('Base Numbers'!$C$5*'Base Numbers'!$C$6)/G871)*G863)","v":0},{"$f":"IF(H871<='Base Numbers'!$C$5*'Base Numbers'!$C$6,0,(1-('Base Numbers'!$C$5*'Base Numbers'!$C$6)/H871)*H863)","v":0},{"$f":"IF(I871<='Base Numbers'!$C$5*'Base Numbers'!$C$6,0,(1-('Base Numbers'!$C$5*'Base Numbers'!$C$6)/I871)*I863)","v":0},{"$f":"IF(J871<='Base Numbers'!$C$5*'Base Numbers'!$C$6,0,(1-('Base Numbers'!$C$5*'Base Numbers'!$C$6)/J871)*J863)","v":0},{"$f":"IF(K871<='Base Numbers'!$C$5*'Base Numbers'!$C$6,0,(1-('Base Numbers'!$C$5*'Base Numbers'!$C$6)/K871)*K863)","v":0},{"$f":"IF(L871<='Base Numbers'!$C$5*'Base Numbers'!$C$6,0,(1-('Base Numbers'!$C$5*'Base Numbers'!$C$6)/L871)*L863)","v":0},{"$f":"IF(M871<='Base Numbers'!$C$5*'Base Numbers'!$C$6,0,(1-('Base Numbers'!$C$5*'Base Numbers'!$C$6)/M871)*M863)","v":0},{"$f":"IF(N871<='Base Numbers'!$C$5*'Base Numbers'!$C$6,0,(1-('Base Numbers'!$C$5*'Base Numbers'!$C$6)/N871)*N863)","v":0},{"$f":"IF(O871<='Base Numbers'!$C$5*'Base Numbers'!$C$6,0,(1-('Base Numbers'!$C$5*'Base Numbers'!$C$6)/O871)*O863)","v":0},{"$f":"IF(P871<='Base Numbers'!$C$5*'Base Numbers'!$C$6,0,(1-('Base Numbers'!$C$5*'Base Numbers'!$C$6)/P871)*P863)","v":0},{"$f":"IF(Q871<='Base Numbers'!$C$5*'Base Numbers'!$C$6,0,(1-('Base Numbers'!$C$5*'Base Numbers'!$C$6)/Q871)*Q863)","v":0},{"$f":"IF(R871<='Base Numbers'!$C$5*'Base Numbers'!$C$6,0,(1-('Base Numbers'!$C$5*'Base Numbers'!$C$6)/R871)*R863)","v":0},{"$f":"IF(S871<='Base Numbers'!$C$5*'Base Numbers'!$C$6,0,(1-('Base Numbers'!$C$5*'Base Numbers'!$C$6)/S871)*S863)","v":0},{"$f":"IF(T871<='Base Numbers'!$C$5*'Base Numbers'!$C$6,0,(1-('Base Numbers'!$C$5*'Base Numbers'!$C$6)/T871)*T863)","v":0},{"$f":"IF(U871<='Base Numbers'!$C$5*'Base Numbers'!$C$6,0,(1-('Base Numbers'!$C$5*'Base Numbers'!$C$6)/U871)*U863)","v":0},{"$f":"IF(V871<='Base Numbers'!$C$5*'Base Numbers'!$C$6,0,(1-('Base Numbers'!$C$5*'Base Numbers'!$C$6)/V871)*V863)","v":0},{"$f":"IF(W871<='Base Numbers'!$C$5*'Base Numbers'!$C$6,0,(1-('Base Numbers'!$C$5*'Base Numbers'!$C$6)/W871)*W863)","v":0},{"$f":"IF(X871<='Base Numbers'!$C$5*'Base Numbers'!$C$6,0,(1-('Base Numbers'!$C$5*'Base Numbers'!$C$6)/X871)*X863)","v":0}]
[{"$nulls":3},"single tiny servant single round damage (incl hit chance, crits)",{"$f":"E865*(E868*5.5+E869*2.5)*'Caster Tables'!C$81","v":3.7},{"$f":"F865*(F868*5.5+F869*2.5)*'Caster Tables'!D$81","v":3.7},{"$f":"G865*(G868*5.5+G869*2.5)*'Caster Tables'!E$81","v":3.425},{"$f":"H865*(H868*5.5+H869*2.5)*'Caster Tables'!F$81","v":3.0825},{"$f":"I865*(I868*5.5+I869*2.5)*'Caster Tables'!G$81","v":3.0825},{"$f":"J865*(J868*5.5+J869*2.5)*'Caster Tables'!H$81","v":2.5200000000000005},{"$f":"K865*(K868*5.5+K869*2.5)*'Caster Tables'!I$81","v":2.5200000000000005},{"$f":"L865*(L868*5.5+L869*2.5)*'Caster Tables'!J$81","v":2.3625000000000003},{"$f":"M865*(M868*5.5+M869*2.5)*'Caster Tables'!K$81","v":2.15625},{"$f":"N865*(N868*5.5+N869*2.5)*'Caster Tables'!L$81","v":2.0124999999999997},{"$f":"O865*(O868*5.5+O869*2.5)*'Caster Tables'!M$81","v":2.0124999999999997},{"$f":"P865*(P868*5.5+P869*2.5)*'Caster Tables'!N$81","v":1.6900000000000002},{"$f":"Q865*(Q868*5.5+Q869*2.5)*'Caster Tables'!O$81","v":1.6900000000000002},{"$f":"R865*(R868*5.5+R869*2.5)*'Caster Tables'!P$81","v":1.56},{"$f":"S865*(S868*5.5+S869*2.5)*'Caster Tables'!Q$81","v":1.2787500000000003},{"$f":"T865*(T868*5.5+T869*2.5)*'Caster Tables'!R$81","v":1.1625},{"$f":"U865*(U868*5.5+U869*2.5)*'Caster Tables'!S$81","v":0.9300000000000002},{"$f":"V865*(V868*5.5+V869*2.5)*'Caster Tables'!T$81","v":0.6149999999999999},{"$f":"W865*(W868*5.5+W869*2.5)*'Caster Tables'!U$81","v":0.6149999999999999},{"$f":"X865*(X868*5.5+X869*2.5)*'Caster Tables'!V$81","v":0.6149999999999999},null,"*reduced by % of creatures resistant to nonmagical weapon dmg"]
[{"$nulls":3},"tiny servant avg damage per round of uptime",{"$f":"E873*((E863+MAX(1,E872))/2)","v":1.85},{"$f":"F873*((F863+MAX(1,F872))/2)","v":1.85},1.7125,1.54125,1.54125,1.2600000000000002,1.2600000000000002,1.1812500000000001,1.078125,1.0062499999999999,1.0062499999999999,0.8450000000000001,0.8450000000000001,0.78,0.6393750000000001,0.58125,0.4650000000000001,0.30749999999999994,0.30749999999999994,0.30749999999999994]
[{"$nulls":3},"tiny servant avg damage per round (incl uptime)",{"$f":"MIN('Base Numbers'!$C$5*'Base Numbers'!$C$6,E871)*E874/('Base Numbers'!$C$5*'Base Numbers'!$C$6)","v":0},{"$f":"MIN('Base Numbers'!$C$5*'Base Numbers'!$C$6,F871)*F874/('Base Numbers'!$C$5*'Base Numbers'!$C$6)","v":0},{"$f":"MIN('Base Numbers'!$C$5*'Base Numbers'!$C$6,G871)*G874/('Base Numbers'!$C$5*'Base Numbers'!$C$6)","v":0},{"$f":"MIN('Base Numbers'!$C$5*'Base Numbers'!$C$6,H871)*H874/('Base Numbers'!$C$5*'Base Numbers'!$C$6)","v":0},{"$f":"MIN('Base Numbers'!$C$5*'Base Numbers'!$C$6,I871)*I874/('Base Numbers'!$C$5*'Base Numbers'!$C$6)","v":0},{"$f":"MIN('Base Numbers'!$C$5*'Base Numbers'!$C$6,J871)*J874/('Base Numbers'!$C$5*'Base Numbers'!$C$6)","v":0},{"$f":"MIN('Base Numbers'!$C$5*'Base Numbers'!$C$6,K871)*K874/('Base Numbers'!$C$5*'Base Numbers'!$C$6)","v":0},{"$f":"MIN('Base Numbers'!$C$5*'Base Numbers'!$C$6,L871)*L874/('Base Numbers'!$C$5*'Base Numbers'!$C$6)","v":0},{"$f":"MIN('Base Numbers'!$C$5*'Base Numbers'!$C$6,M871)*M874/('Base Numbers'!$C$5*'Base Numbers'!$C$6)","v":0},{"$f":"MIN('Base Numbers'!$C$5*'Base Numbers'!$C$6,N871)*N874/('Base Numbers'!$C$5*'Base Numbers'!$C$6)","v":0},{"$f":"MIN('Base Numbers'!$C$5*'Base Numbers'!$C$6,O871)*O874/('Base Numbers'!$C$5*'Base Numbers'!$C$6)","v":0},{"$f":"MIN('Base Numbers'!$C$5*'Base Numbers'!$C$6,P871)*P874/('Base Numbers'!$C$5*'Base Numbers'!$C$6)","v":0},{"$f":"MIN('Base Numbers'!$C$5*'Base Numbers'!$C$6,Q871)*Q874/('Base Numbers'!$C$5*'Base Numbers'!$C$6)","v":0},{"$f":"MIN('Base Numbers'!$C$5*'Base Numbers'!$C$6,R871)*R874/('Base Numbers'!$C$5*'Base Numbers'!$C$6)","v":0},{"$f":"MIN('Base Numbers'!$C$5*'Base Numbers'!$C$6,S871)*S874/('Base Numbers'!$C$5*'Base Numbers'!$C$6)","v":0},{"$f":"MIN('Base Numbers'!$C$5*'Base Numbers'!$C$6,T871)*T874/('Base Numbers'!$C$5*'Base Numbers'!$C$6)","v":0},{"$f":"MIN('Base Numbers'!$C$5*'Base Numbers'!$C$6,U871)*U874/('Base Numbers'!$C$5*'Base Numbers'!$C$6)","v":0},{"$f":"MIN('Base Numbers'!$C$5*'Base Numbers'!$C$6,V871)*V874/('Base Numbers'!$C$5*'Base Numbers'!$C$6)","v":0},{"$f":"MIN('Base Numbers'!$C$5*'Base Numbers'!$C$6,W871)*W874/('Base Numbers'!$C$5*'Base Numbers'!$C$6)","v":0},{"$f":"MIN('Base Numbers'!$C$5*'Base Numbers'!$C$6,X871)*X874/('Base Numbers'!$C$5*'Base Numbers'!$C$6)","v":0}]
[]
[{"$nulls":3},"total summons damage per round",{"$f":"E791+E802+E813+E824+E835+E846+E860+E875","v":0},{"$f":"F791+F802+F813+F824+F835+F846+F860+F875","v":0},0,0,0,0,0,0,0,0,0,0,0,0,0,0,0,0,0,0]
[]
[{"$nulls":3},"FEATS"]
[{"$nulls":3},"Piercer melee bonus damage",{"$f":"IF(AND($B$27>=1,E6>=$B$27,OR(E26=0,$B$33=1)),IF(E314=2.5,'Caster Tables'!$AB$6,0)+IF(E314=3.5,'Caster Tables'!$AB$7,0)+IF(E314=4.5,'Caster Tables'!$AB$8,0)+IF(E314=5.5,'Caster Tables'!$AB$9,0),0)","v":0},{"$f":"IF(AND($B$27>=1,F6>=$B$27,OR(F26=0,$B$33=1)),IF(F314=2.5,'Caster Tables'!$AB$6,0)+IF(F314=3.5,'Caster Tables'!$AB$7,0)+IF(F314=4.5,'Caster Tables'!$AB$8,0)+IF(F314=5.5,'Caster Tables'!$AB$9,0),0)","v":0},{"$f":"IF(AND($B$27>=1,G6>=$B$27,OR(G26=0,$B$33=1)),IF(G314=2.5,'Caster Tables'!$AB$6,0)+IF(G314=3.5,'Caster Tables'!$AB$7,0)+IF(G314=4.5,'Caster Tables'!$AB$8,0)+IF(G314=5.5,'Caster Tables'!$AB$9,0),0)","v":0},{"$f":"IF(AND($B$27>=1,H6>=$B$27,OR(H26=0,$B$33=1)),IF(H314=2.5,'Caster Tables'!$AB$6,0)+IF(H314=3.5,'Caster Tables'!$AB$7,0)+IF(H314=4.5,'Caster Tables'!$AB$8,0)+IF(H314=5.5,'Caster Tables'!$AB$9,0),0)","v":0},{"$f":"IF(AND($B$27>=1,I6>=$B$27,OR(I26=0,$B$33=1)),IF(I314=2.5,'Caster Tables'!$AB$6,0)+IF(I314=3.5,'Caster Tables'!$AB$7,0)+IF(I314=4.5,'Caster Tables'!$AB$8,0)+IF(I314=5.5,'Caster Tables'!$AB$9,0),0)","v":0},{"$f":"IF(AND($B$27>=1,J6>=$B$27,OR(J26=0,$B$33=1)),IF(J314=2.5,'Caster Tables'!$AB$6,0)+IF(J314=3.5,'Caster Tables'!$AB$7,0)+IF(J314=4.5,'Caster Tables'!$AB$8,0)+IF(J314=5.5,'Caster Tables'!$AB$9,0),0)","v":0},{"$f":"IF(AND($B$27>=1,K6>=$B$27,OR(K26=0,$B$33=1)),IF(K314=2.5,'Caster Tables'!$AB$6,0)+IF(K314=3.5,'Caster Tables'!$AB$7,0)+IF(K314=4.5,'Caster Tables'!$AB$8,0)+IF(K314=5.5,'Caster Tables'!$AB$9,0),0)","v":0},{"$f":"IF(AND($B$27>=1,L6>=$B$27,OR(L26=0,$B$33=1)),IF(L314=2.5,'Caster Tables'!$AB$6,0)+IF(L314=3.5,'Caster Tables'!$AB$7,0)+IF(L314=4.5,'Caster Tables'!$AB$8,0)+IF(L314=5.5,'Caster Tables'!$AB$9,0),0)","v":0},{"$f":"IF(AND($B$27>=1,M6>=$B$27,OR(M26=0,$B$33=1)),IF(M314=2.5,'Caster Tables'!$AB$6,0)+IF(M314=3.5,'Caster Tables'!$AB$7,0)+IF(M314=4.5,'Caster Tables'!$AB$8,0)+IF(M314=5.5,'Caster Tables'!$AB$9,0),0)","v":0},{"$f":"IF(AND($B$27>=1,N6>=$B$27,OR(N26=0,$B$33=1)),IF(N314=2.5,'Caster Tables'!$AB$6,0)+IF(N314=3.5,'Caster Tables'!$AB$7,0)+IF(N314=4.5,'Caster Tables'!$AB$8,0)+IF(N314=5.5,'Caster Tables'!$AB$9,0),0)","v":0},{"$f":"IF(AND($B$27>=1,O6>=$B$27,OR(O26=0,$B$33=1)),IF(O314=2.5,'Caster Tables'!$AB$6,0)+IF(O314=3.5,'Caster Tables'!$AB$7,0)+IF(O314=4.5,'Caster Tables'!$AB$8,0)+IF(O314=5.5,'Caster Tables'!$AB$9,0),0)","v":0},{"$f":"IF(AND($B$27>=1,P6>=$B$27,OR(P26=0,$B$33=1)),IF(P314=2.5,'Caster Tables'!$AB$6,0)+IF(P314=3.5,'Caster Tables'!$AB$7,0)+IF(P314=4.5,'Caster Tables'!$AB$8,0)+IF(P314=5.5,'Caster Tables'!$AB$9,0),0)","v":0},{"$f":"IF(AND($B$27>=1,Q6>=$B$27,OR(Q26=0,$B$33=1)),IF(Q314=2.5,'Caster Tables'!$AB$6,0)+IF(Q314=3.5,'Caster Tables'!$AB$7,0)+IF(Q314=4.5,'Caster Tables'!$AB$8,0)+IF(Q314=5.5,'Caster Tables'!$AB$9,0),0)","v":0},{"$f":"IF(AND($B$27>=1,R6>=$B$27,OR(R26=0,$B$33=1)),IF(R314=2.5,'Caster Tables'!$AB$6,0)+IF(R314=3.5,'Caster Tables'!$AB$7,0)+IF(R314=4.5,'Caster Tables'!$AB$8,0)+IF(R314=5.5,'Caster Tables'!$AB$9,0),0)","v":0},{"$f":"IF(AND($B$27>=1,S6>=$B$27,OR(S26=0,$B$33=1)),IF(S314=2.5,'Caster Tables'!$AB$6,0)+IF(S314=3.5,'Caster Tables'!$AB$7,0)+IF(S314=4.5,'Caster Tables'!$AB$8,0)+IF(S314=5.5,'Caster Tables'!$AB$9,0),0)","v":0},{"$f":"IF(AND($B$27>=1,T6>=$B$27,OR(T26=0,$B$33=1)),IF(T314=2.5,'Caster Tables'!$AB$6,0)+IF(T314=3.5,'Caster Tables'!$AB$7,0)+IF(T314=4.5,'Caster Tables'!$AB$8,0)+IF(T314=5.5,'Caster Tables'!$AB$9,0),0)","v":0},{"$f":"IF(AND($B$27>=1,U6>=$B$27,OR(U26=0,$B$33=1)),IF(U314=2.5,'Caster Tables'!$AB$6,0)+IF(U314=3.5,'Caster Tables'!$AB$7,0)+IF(U314=4.5,'Caster Tables'!$AB$8,0)+IF(U314=5.5,'Caster Tables'!$AB$9,0),0)","v":0},{"$f":"IF(AND($B$27>=1,V6>=$B$27,OR(V26=0,$B$33=1)),IF(V314=2.5,'Caster Tables'!$AB$6,0)+IF(V314=3.5,'Caster Tables'!$AB$7,0)+IF(V314=4.5,'Caster Tables'!$AB$8,0)+IF(V314=5.5,'Caster Tables'!$AB$9,0),0)","v":0},{"$f":"IF(AND($B$27>=1,W6>=$B$27,OR(W26=0,$B$33=1)),IF(W314=2.5,'Caster Tables'!$AB$6,0)+IF(W314=3.5,'Caster Tables'!$AB$7,0)+IF(W314=4.5,'Caster Tables'!$AB$8,0)+IF(W314=5.5,'Caster Tables'!$AB$9,0),0)","v":0},{"$f":"IF(AND($B$27>=1,X6>=$B$27,OR(X26=0,$B$33=1)),IF(X314=2.5,'Caster Tables'!$AB$6,0)+IF(X314=3.5,'Caster Tables'!$AB$7,0)+IF(X314=4.5,'Caster Tables'!$AB$8,0)+IF(X314=5.5,'Caster Tables'!$AB$9,0),0)","v":0}]
[{"$nulls":3},"Piercer ranged bonus damage",{"$f":"IF(AND($B$27>=1,E6>=$B$27),IF(E593=3.5,'Caster Tables'!$AB$7,0)+IF(E593=4.5,'Caster Tables'!$AB$8,0)+IF(E593=5.5,'Caster Tables'!$AB$9,0),0)","v":0},{"$f":"IF(AND($B$27>=1,F6>=$B$27),IF(F593=3.5,'Caster Tables'!$AB$7,0)+IF(F593=4.5,'Caster Tables'!$AB$8,0)+IF(F593=5.5,'Caster Tables'!$AB$9,0),0)","v":0},{"$f":"IF(AND($B$27>=1,G6>=$B$27),IF(G593=3.5,'Caster Tables'!$AB$7,0)+IF(G593=4.5,'Caster Tables'!$AB$8,0)+IF(G593=5.5,'Caster Tables'!$AB$9,0),0)","v":0},{"$f":"IF(AND($B$27>=1,H6>=$B$27),IF(H593=3.5,'Caster Tables'!$AB$7,0)+IF(H593=4.5,'Caster Tables'!$AB$8,0)+IF(H593=5.5,'Caster Tables'!$AB$9,0),0)","v":0},{"$f":"IF(AND($B$27>=1,I6>=$B$27),IF(I593=3.5,'Caster Tables'!$AB$7,0)+IF(I593=4.5,'Caster Tables'!$AB$8,0)+IF(I593=5.5,'Caster Tables'!$AB$9,0),0)","v":0},{"$f":"IF(AND($B$27>=1,J6>=$B$27),IF(J593=3.5,'Caster Tables'!$AB$7,0)+IF(J593=4.5,'Caster Tables'!$AB$8,0)+IF(J593=5.5,'Caster Tables'!$AB$9,0),0)","v":0},{"$f":"IF(AND($B$27>=1,K6>=$B$27),IF(K593=3.5,'Caster Tables'!$AB$7,0)+IF(K593=4.5,'Caster Tables'!$AB$8,0)+IF(K593=5.5,'Caster Tables'!$AB$9,0),0)","v":0},{"$f":"IF(AND($B$27>=1,L6>=$B$27),IF(L593=3.5,'Caster Tables'!$AB$7,0)+IF(L593=4.5,'Caster Tables'!$AB$8,0)+IF(L593=5.5,'Caster Tables'!$AB$9,0),0)","v":0},{"$f":"IF(AND($B$27>=1,M6>=$B$27),IF(M593=3.5,'Caster Tables'!$AB$7,0)+IF(M593=4.5,'Caster Tables'!$AB$8,0)+IF(M593=5.5,'Caster Tables'!$AB$9,0),0)","v":0},{"$f":"IF(AND($B$27>=1,N6>=$B$27),IF(N593=3.5,'Caster Tables'!$AB$7,0)+IF(N593=4.5,'Caster Tables'!$AB$8,0)+IF(N593=5.5,'Caster Tables'!$AB$9,0),0)","v":0},{"$f":"IF(AND($B$27>=1,O6>=$B$27),IF(O593=3.5,'Caster Tables'!$AB$7,0)+IF(O593=4.5,'Caster Tables'!$AB$8,0)+IF(O593=5.5,'Caster Tables'!$AB$9,0),0)","v":0},{"$f":"IF(AND($B$27>=1,P6>=$B$27),IF(P593=3.5,'Caster Tables'!$AB$7,0)+IF(P593=4.5,'Caster Tables'!$AB$8,0)+IF(P593=5.5,'Caster Tables'!$AB$9,0),0)","v":0},{"$f":"IF(AND($B$27>=1,Q6>=$B$27),IF(Q593=3.5,'Caster Tables'!$AB$7,0)+IF(Q593=4.5,'Caster Tables'!$AB$8,0)+IF(Q593=5.5,'Caster Tables'!$AB$9,0),0)","v":0},{"$f":"IF(AND($B$27>=1,R6>=$B$27),IF(R593=3.5,'Caster Tables'!$AB$7,0)+IF(R593=4.5,'Caster Tables'!$AB$8,0)+IF(R593=5.5,'Caster Tables'!$AB$9,0),0)","v":0},{"$f":"IF(AND($B$27>=1,S6>=$B$27),IF(S593=3.5,'Caster Tables'!$AB$7,0)+IF(S593=4.5,'Caster Tables'!$AB$8,0)+IF(S593=5.5,'Caster Tables'!$AB$9,0),0)","v":0},{"$f":"IF(AND($B$27>=1,T6>=$B$27),IF(T593=3.5,'Caster Tables'!$AB$7,0)+IF(T593=4.5,'Caster Tables'!$AB$8,0)+IF(T593=5.5,'Caster Tables'!$AB$9,0),0)","v":0},{"$f":"IF(AND($B$27>=1,U6>=$B$27),IF(U593=3.5,'Caster Tables'!$AB$7,0)+IF(U593=4.5,'Caster Tables'!$AB$8,0)+IF(U593=5.5,'Caster Tables'!$AB$9,0),0)","v":0},{"$f":"IF(AND($B$27>=1,V6>=$B$27),IF(V593=3.5,'Caster Tables'!$AB$7,0)+IF(V593=4.5,'Caster Tables'!$AB$8,0)+IF(V593=5.5,'Caster Tables'!$AB$9,0),0)","v":0},{"$f":"IF(AND($B$27>=1,W6>=$B$27),IF(W593=3.5,'Caster Tables'!$AB$7,0)+IF(W593=4.5,'Caster Tables'!$AB$8,0)+IF(W593=5.5,'Caster Tables'!$AB$9,0),0)","v":0},{"$f":"IF(AND($B$27>=1,X6>=$B$27),IF(X593=3.5,'Caster Tables'!$AB$7,0)+IF(X593=4.5,'Caster Tables'!$AB$8,0)+IF(X593=5.5,'Caster Tables'!$AB$9,0),0)","v":0}]
[{"$nulls":3},"Piercer bonus damage per own turn (incl crits)",{"$f":"E1391*(1+E1363)*IF(E1368,E881,E880)","v":0},0,0,0,0,0,0,0,0,0,0,0,0,0,0,0,0,0,0,0]
[{"$nulls":3},"Piercer  bonus damage per opp att",{"$f":"IF(E1371=1,E361,0)*(1+E473)*E880","v":0},0,0,0,0,0,0,0,0,0,0,0,0,0,0,0,0,0,0,0]
[{"$nulls":3},"Crusher number of attacks benefitting from adv",{"$f":"IF(AND($B$28>=1,E6>=$B$28),E1363*(E1376+E1377+E1378-1)/2,0)","v":0},0,0,0,0,0,0,0,0,0,0,0,0,0,0,0,0,0,0,0]
[{"$nulls":3},"total increased adv pct",{"$f":"IF(E1376+E1377+E1378>0,(1-E450)*E884/(E1376+E1377+E1378),0)","v":0},0,0,0,0,0,0,0,0,0,0,0,0,0,0,0,0,0,0,0]
[{"$nulls":3},"total avg adv with Crusher",{"$f":"E885+E450","v":0},0,0,0,0,0,0,0,0,0,0,0,0,0,0,0,0,0,0,0]
[{"$nulls":3},"Total damage with Crusher",{"$f":"((1-E886)*E335+E886*E337)*(E1373+E1374+E1375+E1402)/((1-E450)*E335+E450*E337)","v":4.4},4.4,4.075,4.075,4.4,4.075,4.075,4.075,4.075,4.075,4.075,3.7499999999999996,4.075,4.075,3.7499999999999996,3.7499999999999996,4.075,3.7499999999999996,3.7499999999999996,3.7499999999999996]
[{"$nulls":3},"damage gain per round with Crusher",{"$f":"ROUND(E887-E1373-E1374-E1375-E1402,4)","v":0},0,0,0,0,0,0,0,0,0,0,0,0,0,0,0,0,0,0,0]
[{"$nulls":3},"Total bonus feats damage per round",{"$f":"E888+E882+E883","v":0},{"$f":"F888+F882+F883","v":0},0,0,0,0,0,0,0,0,0,0,0,0,0,0,0,0,0,0]
[]
[{"$nulls":3},"CHANNEL DIVINITY"]
[{"$nulls":3},"Channel Divs from Paladin",{"$f":"IF(E7>=3,1+'Base Numbers'!$C$7,0)","v":0},{"$f":"IF(F7>=3,1+'Base Numbers'!$C$7,0)","v":0},{"$f":"IF(G7>=3,1+'Base Numbers'!$C$7,0)","v":0},{"$f":"IF(H7>=3,1+'Base Numbers'!$C$7,0)","v":0},{"$f":"IF(I7>=3,1+'Base Numbers'!$C$7,0)","v":0},{"$f":"IF(J7>=3,1+'Base Numbers'!$C$7,0)","v":0},{"$f":"IF(K7>=3,1+'Base Numbers'!$C$7,0)","v":0},{"$f":"IF(L7>=3,1+'Base Numbers'!$C$7,0)","v":0},{"$f":"IF(M7>=3,1+'Base Numbers'!$C$7,0)","v":0},{"$f":"IF(N7>=3,1+'Base Numbers'!$C$7,0)","v":0},{"$f":"IF(O7>=3,1+'Base Numbers'!$C$7,0)","v":0},{"$f":"IF(P7>=3,1+'Base Numbers'!$C$7,0)","v":0},{"$f":"IF(Q7>=3,1+'Base Numbers'!$C$7,0)","v":0},{"$f":"IF(R7>=3,1+'Base Numbers'!$C$7,0)","v":0},{"$f":"IF(S7>=3,1+'Base Numbers'!$C$7,0)","v":0},{"$f":"IF(T7>=3,1+'Base Numbers'!$C$7,0)","v":0},{"$f":"IF(U7>=3,1+'Base Numbers'!$C$7,0)","v":0},{"$f":"IF(V7>=3,1+'Base Numbers'!$C$7,0)","v":0},{"$f":"IF(W7>=3,1+'Base Numbers'!$C$7,0)","v":0},{"$f":"IF(X7>=3,1+'Base Numbers'!$C$7,0)","v":0}]
[{"$nulls":3},"Channel Divs from Cleric",{"$f":"(1+'Base Numbers'!$C$7)*IF(E16>=2,IF(E16>=6,IF(E16>=18,3,2),1),0)","v":0},{"$f":"(1+'Base Numbers'!$C$7)*IF(F16>=2,IF(F16>=6,IF(F16>=18,3,2),1),0)","v":0},{"$f":"(1+'Base Numbers'!$C$7)*IF(G16>=2,IF(G16>=6,IF(G16>=18,3,2),1),0)","v":0},{"$f":"(1+'Base Numbers'!$C$7)*IF(H16>=2,IF(H16>=6,IF(H16>=18,3,2),1),0)","v":0},{"$f":"(1+'Base Numbers'!$C$7)*IF(I16>=2,IF(I16>=6,IF(I16>=18,3,2),1),0)","v":0},{"$f":"(1+'Base Numbers'!$C$7)*IF(J16>=2,IF(J16>=6,IF(J16>=18,3,2),1),0)","v":0},{"$f":"(1+'Base Numbers'!$C$7)*IF(K16>=2,IF(K16>=6,IF(K16>=18,3,2),1),0)","v":0},{"$f":"(1+'Base Numbers'!$C$7)*IF(L16>=2,IF(L16>=6,IF(L16>=18,3,2),1),0)","v":0},{"$f":"(1+'Base Numbers'!$C$7)*IF(M16>=2,IF(M16>=6,IF(M16>=18,3,2),1),0)","v":0},{"$f":"(1+'Base Numbers'!$C$7)*IF(N16>=2,IF(N16>=6,IF(N16>=18,3,2),1),0)","v":0},{"$f":"(1+'Base Numbers'!$C$7)*IF(O16>=2,IF(O16>=6,IF(O16>=18,3,2),1),0)","v":0},{"$f":"(1+'Base Numbers'!$C$7)*IF(P16>=2,IF(P16>=6,IF(P16>=18,3,2),1),0)","v":0},{"$f":"(1+'Base Numbers'!$C$7)*IF(Q16>=2,IF(Q16>=6,IF(Q16>=18,3,2),1),0)","v":0},{"$f":"(1+'Base Numbers'!$C$7)*IF(R16>=2,IF(R16>=6,IF(R16>=18,3,2),1),0)","v":0},{"$f":"(1+'Base Numbers'!$C$7)*IF(S16>=2,IF(S16>=6,IF(S16>=18,3,2),1),0)","v":0},{"$f":"(1+'Base Numbers'!$C$7)*IF(T16>=2,IF(T16>=6,IF(T16>=18,3,2),1),0)","v":0},{"$f":"(1+'Base Numbers'!$C$7)*IF(U16>=2,IF(U16>=6,IF(U16>=18,3,2),1),0)","v":0},{"$f":"(1+'Base Numbers'!$C$7)*IF(V16>=2,IF(V16>=6,IF(V16>=18,3,2),1),0)","v":0},{"$f":"(1+'Base Numbers'!$C$7)*IF(W16>=2,IF(W16>=6,IF(W16>=18,3,2),1),0)","v":0},{"$f":"(1+'Base Numbers'!$C$7)*IF(X16>=2,IF(X16>=6,IF(X16>=18,3,2),1),0)","v":0}]
[{"$nulls":3},"Total Channel Divs per day",{"$f":"MAX(E892,E893)","v":0},{"$f":"MAX(F892,F893)","v":0},0,0,0,0,0,0,0,0,0,0,0,0,0,0,0,0,0,0]
[{"$nulls":3},"Channel Divs used on Vow of Emnity",{"$f":"IF(AND(E7>=3,E36>=1),MIN(E894,'Base Numbers'!$C$5),0)","v":0},{"$f":"IF(AND(F7>=3,F36>=1),MIN(F894,'Base Numbers'!$C$5),0)","v":0},{"$f":"IF(AND(G7>=3,G36>=1),MIN(G894,'Base Numbers'!$C$5),0)","v":0},{"$f":"IF(AND(H7>=3,H36>=1),MIN(H894,'Base Numbers'!$C$5),0)","v":0},{"$f":"IF(AND(I7>=3,I36>=1),MIN(I894,'Base Numbers'!$C$5),0)","v":0},{"$f":"IF(AND(J7>=3,J36>=1),MIN(J894,'Base Numbers'!$C$5),0)","v":0},{"$f":"IF(AND(K7>=3,K36>=1),MIN(K894,'Base Numbers'!$C$5),0)","v":0},{"$f":"IF(AND(L7>=3,L36>=1),MIN(L894,'Base Numbers'!$C$5),0)","v":0},{"$f":"IF(AND(M7>=3,M36>=1),MIN(M894,'Base Numbers'!$C$5),0)","v":0},{"$f":"IF(AND(N7>=3,N36>=1),MIN(N894,'Base Numbers'!$C$5),0)","v":0},{"$f":"IF(AND(O7>=3,O36>=1),MIN(O894,'Base Numbers'!$C$5),0)","v":0},{"$f":"IF(AND(P7>=3,P36>=1),MIN(P894,'Base Numbers'!$C$5),0)","v":0},{"$f":"IF(AND(Q7>=3,Q36>=1),MIN(Q894,'Base Numbers'!$C$5),0)","v":0},{"$f":"IF(AND(R7>=3,R36>=1),MIN(R894,'Base Numbers'!$C$5),0)","v":0},{"$f":"IF(AND(S7>=3,S36>=1),MIN(S894,'Base Numbers'!$C$5),0)","v":0},{"$f":"IF(AND(T7>=3,T36>=1),MIN(T894,'Base Numbers'!$C$5),0)","v":0},{"$f":"IF(AND(U7>=3,U36>=1),MIN(U894,'Base Numbers'!$C$5),0)","v":0},{"$f":"IF(AND(V7>=3,V36>=1),MIN(V894,'Base Numbers'!$C$5),0)","v":0},{"$f":"IF(AND(W7>=3,W36>=1),MIN(W894,'Base Numbers'!$C$5),0)","v":0},{"$f":"IF(AND(X7>=3,X36>=1),MIN(X894,'Base Numbers'!$C$5),0)","v":0}]
[{"$nulls":3},"Channel Divs remaining after Vow of Emnity",{"$f":"MAX(0,E894-E895)","v":0},{"$f":"MAX(0,F894-F895)","v":0},0,0,0,0,0,0,0,0,0,0,0,0,0,0,0,0,0,0]
[{"$nulls":3},"Channel Divs used on Conquering Presence",{"$f":"IF(AND(E7>=7,E38>=1),E896,0)","v":0},0,0,0,0,0,0,0,0,0,0,0,0,0,0,0,0,0,0,0]
[{"$nulls":3},"Channel Divs remaining after Conq Presence",{"$f":"MAX(0,E896-E897)","v":0},{"$f":"MAX(0,F896-F897)","v":0},0,0,0,0,0,0,0,0,0,0,0,0,0,0,0,0,0,0]
[]
[{"$nulls":3},"PALADIN ABILITIES"]
[{"$nulls":3},"% feared enemies",{"$f":"(E897+E243*E307/'Base Numbers'!$C$6)*(1-E130)/'Base Numbers'!$C$5*(MIN(1,E478/'Base Numbers'!$C$6))","v":0},{"$f":"(F897+F243*F307/'Base Numbers'!$C$6)*(1-F130)/'Base Numbers'!$C$5*(MIN(1,F478/'Base Numbers'!$C$6))","v":0},{"$f":"(G897+G243*G307/'Base Numbers'!$C$6)*(1-G130)/'Base Numbers'!$C$5*(MIN(1,G478/'Base Numbers'!$C$6))","v":0},{"$f":"(H897+H243*H307/'Base Numbers'!$C$6)*(1-H130)/'Base Numbers'!$C$5*(MIN(1,H478/'Base Numbers'!$C$6))","v":0},{"$f":"(I897+I243*I307/'Base Numbers'!$C$6)*(1-I130)/'Base Numbers'!$C$5*(MIN(1,I478/'Base Numbers'!$C$6))","v":0},{"$f":"(J897+J243*J307/'Base Numbers'!$C$6)*(1-J130)/'Base Numbers'!$C$5*(MIN(1,J478/'Base Numbers'!$C$6))","v":0},{"$f":"(K897+K243*K307/'Base Numbers'!$C$6)*(1-K130)/'Base Numbers'!$C$5*(MIN(1,K478/'Base Numbers'!$C$6))","v":0},{"$f":"(L897+L243*L307/'Base Numbers'!$C$6)*(1-L130)/'Base Numbers'!$C$5*(MIN(1,L478/'Base Numbers'!$C$6))","v":0},{"$f":"(M897+M243*M307/'Base Numbers'!$C$6)*(1-M130)/'Base Numbers'!$C$5*(MIN(1,M478/'Base Numbers'!$C$6))","v":0},{"$f":"(N897+N243*N307/'Base Numbers'!$C$6)*(1-N130)/'Base Numbers'!$C$5*(MIN(1,N478/'Base Numbers'!$C$6))","v":0},{"$f":"(O897+O243*O307/'Base Numbers'!$C$6)*(1-O130)/'Base Numbers'!$C$5*(MIN(1,O478/'Base Numbers'!$C$6))","v":0},{"$f":"(P897+P243*P307/'Base Numbers'!$C$6)*(1-P130)/'Base Numbers'!$C$5*(MIN(1,P478/'Base Numbers'!$C$6))","v":0},{"$f":"(Q897+Q243*Q307/'Base Numbers'!$C$6)*(1-Q130)/'Base Numbers'!$C$5*(MIN(1,Q478/'Base Numbers'!$C$6))","v":0},{"$f":"(R897+R243*R307/'Base Numbers'!$C$6)*(1-R130)/'Base Numbers'!$C$5*(MIN(1,R478/'Base Numbers'!$C$6))","v":0},{"$f":"(S897+S243*S307/'Base Numbers'!$C$6)*(1-S130)/'Base Numbers'!$C$5*(MIN(1,S478/'Base Numbers'!$C$6))","v":0},{"$f":"(T897+T243*T307/'Base Numbers'!$C$6)*(1-T130)/'Base Numbers'!$C$5*(MIN(1,T478/'Base Numbers'!$C$6))","v":0},{"$f":"(U897+U243*U307/'Base Numbers'!$C$6)*(1-U130)/'Base Numbers'!$C$5*(MIN(1,U478/'Base Numbers'!$C$6))","v":0},{"$f":"(V897+V243*V307/'Base Numbers'!$C$6)*(1-V130)/'Base Numbers'!$C$5*(MIN(1,V478/'Base Numbers'!$C$6))","v":0},{"$f":"(W897+W243*W307/'Base Numbers'!$C$6)*(1-W130)/'Base Numbers'!$C$5*(MIN(1,W478/'Base Numbers'!$C$6))","v":0},{"$f":"(X897+X243*X307/'Base Numbers'!$C$6)*(1-X130)/'Base Numbers'!$C$5*(MIN(1,X478/'Base Numbers'!$C$6))","v":0}]
[{"$nulls":3},"aura of conquest damage per round (Conq)",{"$f":"E901*ROUND(E7/2,1)","v":0},0,0,0,0,0,0,0,0,0,0,0,0,0,0,0,0,0,0,0]
[{"$nulls":3},"has Invincible Conquoror (L20)",{"$f":"IF(AND(E7>=20,E38>=1),1,0)","v":0},0,0,0,0,0,0,0,0,0,0,0,0,0,0,0,0,0,0,0]
[]
[{"$nulls":3},"BARD DAMAGE"]
[{"$nulls":3},"bardic inspirations per day",{"$f":"IF(E14>=5,E32*(1+'Base Numbers'!$C$7),IF(E14>=1,E32,0))","v":0},{"$f":"IF(F14>=5,F32*(1+'Base Numbers'!$C$7),IF(F14>=1,F32,0))","v":0},{"$f":"IF(G14>=5,G32*(1+'Base Numbers'!$C$7),IF(G14>=1,G32,0))","v":0},{"$f":"IF(H14>=5,H32*(1+'Base Numbers'!$C$7),IF(H14>=1,H32,0))","v":0},{"$f":"IF(I14>=5,I32*(1+'Base Numbers'!$C$7),IF(I14>=1,I32,0))","v":0},{"$f":"IF(J14>=5,J32*(1+'Base Numbers'!$C$7),IF(J14>=1,J32,0))","v":0},{"$f":"IF(K14>=5,K32*(1+'Base Numbers'!$C$7),IF(K14>=1,K32,0))","v":0},{"$f":"IF(L14>=5,L32*(1+'Base Numbers'!$C$7),IF(L14>=1,L32,0))","v":0},{"$f":"IF(M14>=5,M32*(1+'Base Numbers'!$C$7),IF(M14>=1,M32,0))","v":0},{"$f":"IF(N14>=5,N32*(1+'Base Numbers'!$C$7),IF(N14>=1,N32,0))","v":0},{"$f":"IF(O14>=5,O32*(1+'Base Numbers'!$C$7),IF(O14>=1,O32,0))","v":0},{"$f":"IF(P14>=5,P32*(1+'Base Numbers'!$C$7),IF(P14>=1,P32,0))","v":0},{"$f":"IF(Q14>=5,Q32*(1+'Base Numbers'!$C$7),IF(Q14>=1,Q32,0))","v":0},{"$f":"IF(R14>=5,R32*(1+'Base Numbers'!$C$7),IF(R14>=1,R32,0))","v":0},{"$f":"IF(S14>=5,S32*(1+'Base Numbers'!$C$7),IF(S14>=1,S32,0))","v":0},{"$f":"IF(T14>=5,T32*(1+'Base Numbers'!$C$7),IF(T14>=1,T32,0))","v":0},{"$f":"IF(U14>=5,U32*(1+'Base Numbers'!$C$7),IF(U14>=1,U32,0))","v":0},{"$f":"IF(V14>=5,V32*(1+'Base Numbers'!$C$7),IF(V14>=1,V32,0))","v":0},{"$f":"IF(W14>=5,W32*(1+'Base Numbers'!$C$7),IF(W14>=1,W32,0))","v":0},{"$f":"IF(X14>=5,X32*(1+'Base Numbers'!$C$7),IF(X14>=1,X32,0))","v":0}]
[{"$nulls":3},"bardic dice size",{"$f":"IF(E14>=15,6.5,IF(E14>=10,5.5,IF(E14>=5,4.5,IF(E14>=1,3.5,0))))","v":0},0,0,0,0,0,0,0,0,0,0,0,0,0,0,0,0,0,0,0]
[{"$nulls":3},"total blade flourish damage / day on crits",{"$f":"IF(AND(E14>=3,E60>=1),MIN(E906,E1363)*E907*2,0)","v":0},0,0,0,0,0,0,0,0,0,0,0,0,0,0,0,0,0,0,0]
[{"$nulls":3},"remaining blade flourishes for non-crits",{"$f":"IF(AND(E14>=3,E60>=1),MAX(0,E906-E1363),0)","v":0},0,0,0,0,0,0,0,0,0,0,0,0,0,0,0,0,0,0,0]
[{"$nulls":3},"total blade flourish damage / day on non-crits",{"$f":"E909*E907","v":0},{"$f":"F909*F907","v":0},0,0,0,0,0,0,0,0,0,0,0,0,0,0,0,0,0,0]
[{"$nulls":3},"master's flourish (L14 swords) damage/day on crits",{"$f":"IF(E14>=14,MAX(0,E1363-E906)*2*3.5,0)","v":0},0,0,0,0,0,0,0,0,0,0,0,0,0,0,0,0,0,0,0]
[{"$nulls":3},"master's flourish (L14 Bard) damage/day on non-crits (not incl Opp att)",{"$f":"IF(E14>=14,MAX(0,(E1362-E361)*'Base Numbers'!$C$5*'Base Numbers'!$C$6-E906)*3.5,0)","v":0},{"$f":"IF(F14>=14,MAX(0,(F1362-F361)*'Base Numbers'!$C$5*'Base Numbers'!$C$6-F906)*3.5,0)","v":0},{"$f":"IF(G14>=14,MAX(0,(G1362-G361)*'Base Numbers'!$C$5*'Base Numbers'!$C$6-G906)*3.5,0)","v":0},{"$f":"IF(H14>=14,MAX(0,(H1362-H361)*'Base Numbers'!$C$5*'Base Numbers'!$C$6-H906)*3.5,0)","v":0},{"$f":"IF(I14>=14,MAX(0,(I1362-I361)*'Base Numbers'!$C$5*'Base Numbers'!$C$6-I906)*3.5,0)","v":0},{"$f":"IF(J14>=14,MAX(0,(J1362-J361)*'Base Numbers'!$C$5*'Base Numbers'!$C$6-J906)*3.5,0)","v":0},{"$f":"IF(K14>=14,MAX(0,(K1362-K361)*'Base Numbers'!$C$5*'Base Numbers'!$C$6-K906)*3.5,0)","v":0},{"$f":"IF(L14>=14,MAX(0,(L1362-L361)*'Base Numbers'!$C$5*'Base Numbers'!$C$6-L906)*3.5,0)","v":0},{"$f":"IF(M14>=14,MAX(0,(M1362-M361)*'Base Numbers'!$C$5*'Base Numbers'!$C$6-M906)*3.5,0)","v":0},{"$f":"IF(N14>=14,MAX(0,(N1362-N361)*'Base Numbers'!$C$5*'Base Numbers'!$C$6-N906)*3.5,0)","v":0},{"$f":"IF(O14>=14,MAX(0,(O1362-O361)*'Base Numbers'!$C$5*'Base Numbers'!$C$6-O906)*3.5,0)","v":0},{"$f":"IF(P14>=14,MAX(0,(P1362-P361)*'Base Numbers'!$C$5*'Base Numbers'!$C$6-P906)*3.5,0)","v":0},{"$f":"IF(Q14>=14,MAX(0,(Q1362-Q361)*'Base Numbers'!$C$5*'Base Numbers'!$C$6-Q906)*3.5,0)","v":0},{"$f":"IF(R14>=14,MAX(0,(R1362-R361)*'Base Numbers'!$C$5*'Base Numbers'!$C$6-R906)*3.5,0)","v":0},{"$f":"IF(S14>=14,MAX(0,(S1362-S361)*'Base Numbers'!$C$5*'Base Numbers'!$C$6-S906)*3.5,0)","v":0},{"$f":"IF(T14>=14,MAX(0,(T1362-T361)*'Base Numbers'!$C$5*'Base Numbers'!$C$6-T906)*3.5,0)","v":0},{"$f":"IF(U14>=14,MAX(0,(U1362-U361)*'Base Numbers'!$C$5*'Base Numbers'!$C$6-U906)*3.5,0)","v":0},{"$f":"IF(V14>=14,MAX(0,(V1362-V361)*'Base Numbers'!$C$5*'Base Numbers'!$C$6-V906)*3.5,0)","v":0},{"$f":"IF(W14>=14,MAX(0,(W1362-W361)*'Base Numbers'!$C$5*'Base Numbers'!$C$6-W906)*3.5,0)","v":0},{"$f":"IF(X14>=14,MAX(0,(X1362-X361)*'Base Numbers'!$C$5*'Base Numbers'!$C$6-X906)*3.5,0)","v":0}]
[{"$nulls":3},"total blade flourish damage per day (Bard)",{"$f":"E912+E911+E910+E908","v":0},{"$f":"F912+F911+F910+F908","v":0},0,0,0,0,0,0,0,0,0,0,0,0,0,0,0,0,0,0]
[{"$nulls":3},"whipsers psychic blade dmg per use",{"$f":"IF(E61>=1,IF(E14>=15,28,IF(E14>=10, 16.5,IF(E14>=5,10.5,IF(E14>=3,7,0)))),0)","v":0},0,0,0,0,0,0,0,0,0,0,0,0,0,0,0,0,0,0,0]
[{"$nulls":3},"whipsers psychic blade damage / day on crits",{"$f":"IF(AND(E14>=3,E61>=1),MIN(E906,E1363)*E914*2,0)","v":0},0,0,0,0,0,0,0,0,0,0,0,0,0,0,0,0,0,0,0]
[{"$nulls":3},"remaining psychic blades for non-crits",{"$f":"IF(AND(E14>=3,E61>=1),MAX(0,E906-E1363),0)","v":0},0,0,0,0,0,0,0,0,0,0,0,0,0,0,0,0,0,0,0]
[{"$nulls":3},"total psychic blades damage / day on non-crits",{"$f":"IF(AND(E14>=3,E61>=1),E916*E914,0)","v":0},0,0,0,0,0,0,0,0,0,0,0,0,0,0,0,0,0,0,0]
[{"$nulls":3},"total bonus Bard damage per round",{"$f":"(E917+E915+E912+E911+E910+E908)/('Base Numbers'!$C$5*'Base Numbers'!$C$6)","v":0},{"$f":"(F917+F915+F912+F911+F910+F908)/('Base Numbers'!$C$5*'Base Numbers'!$C$6)","v":0},{"$f":"(G917+G915+G912+G911+G910+G908)/('Base Numbers'!$C$5*'Base Numbers'!$C$6)","v":0},{"$f":"(H917+H915+H912+H911+H910+H908)/('Base Numbers'!$C$5*'Base Numbers'!$C$6)","v":0},{"$f":"(I917+I915+I912+I911+I910+I908)/('Base Numbers'!$C$5*'Base Numbers'!$C$6)","v":0},{"$f":"(J917+J915+J912+J911+J910+J908)/('Base Numbers'!$C$5*'Base Numbers'!$C$6)","v":0},{"$f":"(K917+K915+K912+K911+K910+K908)/('Base Numbers'!$C$5*'Base Numbers'!$C$6)","v":0},{"$f":"(L917+L915+L912+L911+L910+L908)/('Base Numbers'!$C$5*'Base Numbers'!$C$6)","v":0},{"$f":"(M917+M915+M912+M911+M910+M908)/('Base Numbers'!$C$5*'Base Numbers'!$C$6)","v":0},{"$f":"(N917+N915+N912+N911+N910+N908)/('Base Numbers'!$C$5*'Base Numbers'!$C$6)","v":0},{"$f":"(O917+O915+O912+O911+O910+O908)/('Base Numbers'!$C$5*'Base Numbers'!$C$6)","v":0},{"$f":"(P917+P915+P912+P911+P910+P908)/('Base Numbers'!$C$5*'Base Numbers'!$C$6)","v":0},{"$f":"(Q917+Q915+Q912+Q911+Q910+Q908)/('Base Numbers'!$C$5*'Base Numbers'!$C$6)","v":0},{"$f":"(R917+R915+R912+R911+R910+R908)/('Base Numbers'!$C$5*'Base Numbers'!$C$6)","v":0},{"$f":"(S917+S915+S912+S911+S910+S908)/('Base Numbers'!$C$5*'Base Numbers'!$C$6)","v":0},{"$f":"(T917+T915+T912+T911+T910+T908)/('Base Numbers'!$C$5*'Base Numbers'!$C$6)","v":0},{"$f":"(U917+U915+U912+U911+U910+U908)/('Base Numbers'!$C$5*'Base Numbers'!$C$6)","v":0},{"$f":"(V917+V915+V912+V911+V910+V908)/('Base Numbers'!$C$5*'Base Numbers'!$C$6)","v":0},{"$f":"(W917+W915+W912+W911+W910+W908)/('Base Numbers'!$C$5*'Base Numbers'!$C$6)","v":0},{"$f":"(X917+X915+X912+X911+X910+X908)/('Base Numbers'!$C$5*'Base Numbers'!$C$6)","v":0}]
[]
[{"$nulls":3},"ARTIFICER ABILITIES"]
[{"$nulls":3},"spell storing item (SSI) uses per day",{"$f":"IF(E19>=11,2*E33,0)","v":0},0,0,0,0,0,0,0,0,0,0,0,0,0,0,0,0,0,0,0]
[{"$nulls":3},"SSI heat metal rounds per day",{"$f":"MIN('Base Numbers'!$C$5*'Base Numbers'!$C$6,1.5*E921)","v":0},{"$f":"MIN('Base Numbers'!$C$5*'Base Numbers'!$C$6,1.5*F921)","v":0},{"$f":"MIN('Base Numbers'!$C$5*'Base Numbers'!$C$6,1.5*G921)","v":0},{"$f":"MIN('Base Numbers'!$C$5*'Base Numbers'!$C$6,1.5*H921)","v":0},{"$f":"MIN('Base Numbers'!$C$5*'Base Numbers'!$C$6,1.5*I921)","v":0},{"$f":"MIN('Base Numbers'!$C$5*'Base Numbers'!$C$6,1.5*J921)","v":0},{"$f":"MIN('Base Numbers'!$C$5*'Base Numbers'!$C$6,1.5*K921)","v":0},{"$f":"MIN('Base Numbers'!$C$5*'Base Numbers'!$C$6,1.5*L921)","v":0},{"$f":"MIN('Base Numbers'!$C$5*'Base Numbers'!$C$6,1.5*M921)","v":0},{"$f":"MIN('Base Numbers'!$C$5*'Base Numbers'!$C$6,1.5*N921)","v":0},{"$f":"MIN('Base Numbers'!$C$5*'Base Numbers'!$C$6,1.5*O921)","v":0},{"$f":"MIN('Base Numbers'!$C$5*'Base Numbers'!$C$6,1.5*P921)","v":0},{"$f":"MIN('Base Numbers'!$C$5*'Base Numbers'!$C$6,1.5*Q921)","v":0},{"$f":"MIN('Base Numbers'!$C$5*'Base Numbers'!$C$6,1.5*R921)","v":0},{"$f":"MIN('Base Numbers'!$C$5*'Base Numbers'!$C$6,1.5*S921)","v":0},{"$f":"MIN('Base Numbers'!$C$5*'Base Numbers'!$C$6,1.5*T921)","v":0},{"$f":"MIN('Base Numbers'!$C$5*'Base Numbers'!$C$6,1.5*U921)","v":0},{"$f":"MIN('Base Numbers'!$C$5*'Base Numbers'!$C$6,1.5*V921)","v":0},{"$f":"MIN('Base Numbers'!$C$5*'Base Numbers'!$C$6,1.5*W921)","v":0},{"$f":"MIN('Base Numbers'!$C$5*'Base Numbers'!$C$6,1.5*X921)","v":0}]
[{"$nulls":3},"SSI shatter targets per day (artillerist)",{"$f":"IF(E71>=1,1.5*MIN('Base Numbers'!$C$5*'Base Numbers'!$C$6,E921),0)","v":0},{"$f":"IF(F71>=1,1.5*MIN('Base Numbers'!$C$5*'Base Numbers'!$C$6,F921),0)","v":0},{"$f":"IF(G71>=1,1.5*MIN('Base Numbers'!$C$5*'Base Numbers'!$C$6,G921),0)","v":0},{"$f":"IF(H71>=1,1.5*MIN('Base Numbers'!$C$5*'Base Numbers'!$C$6,H921),0)","v":0},{"$f":"IF(I71>=1,1.5*MIN('Base Numbers'!$C$5*'Base Numbers'!$C$6,I921),0)","v":0},{"$f":"IF(J71>=1,1.5*MIN('Base Numbers'!$C$5*'Base Numbers'!$C$6,J921),0)","v":0},{"$f":"IF(K71>=1,1.5*MIN('Base Numbers'!$C$5*'Base Numbers'!$C$6,K921),0)","v":0},{"$f":"IF(L71>=1,1.5*MIN('Base Numbers'!$C$5*'Base Numbers'!$C$6,L921),0)","v":0},{"$f":"IF(M71>=1,1.5*MIN('Base Numbers'!$C$5*'Base Numbers'!$C$6,M921),0)","v":0},{"$f":"IF(N71>=1,1.5*MIN('Base Numbers'!$C$5*'Base Numbers'!$C$6,N921),0)","v":0},{"$f":"IF(O71>=1,1.5*MIN('Base Numbers'!$C$5*'Base Numbers'!$C$6,O921),0)","v":0},{"$f":"IF(P71>=1,1.5*MIN('Base Numbers'!$C$5*'Base Numbers'!$C$6,P921),0)","v":0},{"$f":"IF(Q71>=1,1.5*MIN('Base Numbers'!$C$5*'Base Numbers'!$C$6,Q921),0)","v":0},{"$f":"IF(R71>=1,1.5*MIN('Base Numbers'!$C$5*'Base Numbers'!$C$6,R921),0)","v":0},{"$f":"IF(S71>=1,1.5*MIN('Base Numbers'!$C$5*'Base Numbers'!$C$6,S921),0)","v":0},{"$f":"IF(T71>=1,1.5*MIN('Base Numbers'!$C$5*'Base Numbers'!$C$6,T921),0)","v":0},{"$f":"IF(U71>=1,1.5*MIN('Base Numbers'!$C$5*'Base Numbers'!$C$6,U921),0)","v":0},{"$f":"IF(V71>=1,1.5*MIN('Base Numbers'!$C$5*'Base Numbers'!$C$6,V921),0)","v":0},{"$f":"IF(W71>=1,1.5*MIN('Base Numbers'!$C$5*'Base Numbers'!$C$6,W921),0)","v":0},{"$f":"IF(X71>=1,1.5*MIN('Base Numbers'!$C$5*'Base Numbers'!$C$6,X921),0)","v":0}]
[{"$nulls":3},"average heat metal damage per round",{"$f":"7","v":7},{"$f":"7","v":7},{"$f":"7","v":7},{"$f":"7","v":7},{"$f":"7","v":7},{"$f":"7","v":7},{"$f":"7","v":7},{"$f":"7","v":7},{"$f":"7","v":7},{"$f":"7","v":7},{"$f":"7","v":7},{"$f":"7","v":7},{"$f":"7","v":7},{"$f":"7","v":7},{"$f":"7","v":7},{"$f":"7","v":7},{"$f":"7","v":7},{"$f":"7","v":7},{"$f":"7","v":7},{"$f":"7","v":7}]
[{"$nulls":3},"average shatter damage per target (artillerist)",{"$f":"13.5*(13-'Caster Tables'!C75+E33+E35)/20+(1-(13-'Caster Tables'!C75+E33+E35)/20)*6.75","v":12.4875},{"$f":"13.5*(13-'Caster Tables'!D75+F33+F35)/20+(1-(13-'Caster Tables'!D75+F33+F35)/20)*6.75","v":12.31875},{"$f":"13.5*(13-'Caster Tables'!E75+G33+G35)/20+(1-(13-'Caster Tables'!E75+G33+G35)/20)*6.75","v":12.15},{"$f":"13.5*(13-'Caster Tables'!F75+H33+H35)/20+(1-(13-'Caster Tables'!F75+H33+H35)/20)*6.75","v":11.98125},{"$f":"13.5*(13-'Caster Tables'!G75+I33+I35)/20+(1-(13-'Caster Tables'!G75+I33+I35)/20)*6.75","v":12.15},{"$f":"13.5*(13-'Caster Tables'!H75+J33+J35)/20+(1-(13-'Caster Tables'!H75+J33+J35)/20)*6.75","v":11.98125},{"$f":"13.5*(13-'Caster Tables'!I75+K33+K35)/20+(1-(13-'Caster Tables'!I75+K33+K35)/20)*6.75","v":11.8125},{"$f":"13.5*(13-'Caster Tables'!J75+L33+L35)/20+(1-(13-'Caster Tables'!J75+L33+L35)/20)*6.75","v":11.64375},{"$f":"13.5*(13-'Caster Tables'!K75+M33+M35)/20+(1-(13-'Caster Tables'!K75+M33+M35)/20)*6.75","v":11.8125},{"$f":"13.5*(13-'Caster Tables'!L75+N33+N35)/20+(1-(13-'Caster Tables'!L75+N33+N35)/20)*6.75","v":11.64375},{"$f":"13.5*(13-'Caster Tables'!M75+O33+O35)/20+(1-(13-'Caster Tables'!M75+O33+O35)/20)*6.75","v":11.475},{"$f":"13.5*(13-'Caster Tables'!N75+P33+P35)/20+(1-(13-'Caster Tables'!N75+P33+P35)/20)*6.75","v":11.30625},{"$f":"13.5*(13-'Caster Tables'!O75+Q33+Q35)/20+(1-(13-'Caster Tables'!O75+Q33+Q35)/20)*6.75","v":11.475},{"$f":"13.5*(13-'Caster Tables'!P75+R33+R35)/20+(1-(13-'Caster Tables'!P75+R33+R35)/20)*6.75","v":11.1375},{"$f":"13.5*(13-'Caster Tables'!Q75+S33+S35)/20+(1-(13-'Caster Tables'!Q75+S33+S35)/20)*6.75","v":10.8},{"$f":"13.5*(13-'Caster Tables'!R75+T33+T35)/20+(1-(13-'Caster Tables'!R75+T33+T35)/20)*6.75","v":10.462499999999999},{"$f":"13.5*(13-'Caster Tables'!S75+U33+U35)/20+(1-(13-'Caster Tables'!S75+U33+U35)/20)*6.75","v":10.462499999999999},{"$f":"13.5*(13-'Caster Tables'!T75+V33+V35)/20+(1-(13-'Caster Tables'!T75+V33+V35)/20)*6.75","v":10.125},{"$f":"13.5*(13-'Caster Tables'!U75+W33+W35)/20+(1-(13-'Caster Tables'!U75+W33+W35)/20)*6.75","v":9.787500000000001},{"$f":"13.5*(13-'Caster Tables'!V75+X33+X35)/20+(1-(13-'Caster Tables'!V75+X33+X35)/20)*6.75","v":9.787500000000001}]
[{"$nulls":3},"total SSI damage per day",{"$f":"MAX(E925*E923,E924*E922)","v":0},{"$f":"MAX(F925*F923,F924*F922)","v":0},0,0,0,0,0,0,0,0,0,0,0,0,0,0,0,0,0,0]
[{"$nulls":3},"avg SSI damage per round",{"$f":"E926/('Base Numbers'!$C$5*'Base Numbers'!$C$6)","v":0},{"$f":"F926/('Base Numbers'!$C$5*'Base Numbers'!$C$6)","v":0},{"$f":"G926/('Base Numbers'!$C$5*'Base Numbers'!$C$6)","v":0},{"$f":"H926/('Base Numbers'!$C$5*'Base Numbers'!$C$6)","v":0},{"$f":"I926/('Base Numbers'!$C$5*'Base Numbers'!$C$6)","v":0},{"$f":"J926/('Base Numbers'!$C$5*'Base Numbers'!$C$6)","v":0},{"$f":"K926/('Base Numbers'!$C$5*'Base Numbers'!$C$6)","v":0},{"$f":"L926/('Base Numbers'!$C$5*'Base Numbers'!$C$6)","v":0},{"$f":"M926/('Base Numbers'!$C$5*'Base Numbers'!$C$6)","v":0},{"$f":"N926/('Base Numbers'!$C$5*'Base Numbers'!$C$6)","v":0},{"$f":"O926/('Base Numbers'!$C$5*'Base Numbers'!$C$6)","v":0},{"$f":"P926/('Base Numbers'!$C$5*'Base Numbers'!$C$6)","v":0},{"$f":"Q926/('Base Numbers'!$C$5*'Base Numbers'!$C$6)","v":0},{"$f":"R926/('Base Numbers'!$C$5*'Base Numbers'!$C$6)","v":0},{"$f":"S926/('Base Numbers'!$C$5*'Base Numbers'!$C$6)","v":0},{"$f":"T926/('Base Numbers'!$C$5*'Base Numbers'!$C$6)","v":0},{"$f":"U926/('Base Numbers'!$C$5*'Base Numbers'!$C$6)","v":0},{"$f":"V926/('Base Numbers'!$C$5*'Base Numbers'!$C$6)","v":0},{"$f":"W926/('Base Numbers'!$C$5*'Base Numbers'!$C$6)","v":0},{"$f":"X926/('Base Numbers'!$C$5*'Base Numbers'!$C$6)","v":0}]
[{"$nulls":3},"battlesmith steel defender bonus attack damage",{"$f":"IF(AND(E19>=3, E70),4.5+E35,0)","v":0},0,0,0,0,0,0,0,0,0,0,0,0,0,0,0,0,0,0,0,null,"use a bonus action to atack with defender using spell hit"]
[{"$nulls":3},"unused bonus action pct",{"$f":"1-E1380-IF(E325>0,E1377/E325,0)","v":1},1,1,1,1,1,1,1,1,1,1,1,1,1,1,1,1,1,1,1,null,"based on damage scenarios"]
[{"$nulls":3},"steel defender bonus attack dmg per round",{"$f":"E462*E929*E928+E476*IF(E928>0,4.5,0)","v":0},0,0,0,0,0,0,0,0,0,0,0,0,0,0,0,0,0,0,0]
[{"$nulls":3},"arcane jolt damage per use",{"$f":"IF(AND(E19>=15, E70),14,IF(AND(E19>=9, E70),7,0))","v":0},0,0,0,0,0,0,0,0,0,0,0,0,0,0,0,0,0,0,0]
[{"$nulls":3},"arcane jolt uses per day",{"$f":"IF(AND(E19>=9, E70),E33,0)","v":0},0,0,0,0,0,0,0,0,0,0,0,0,0,0,0,0,0,0,0]
[{"$nulls":3},"battlesmith avg crits per round (attacks + steel defender attacks)",{"$f":"E1363+E929*E476","v":0.1},0.1,0.1,0.1,0.1,0.1,0.1,0.1,0.1,0.1,0.1,0.1,0.1,0.1,0.1,0.1,0.1,0.1,0.1,0.1]
[{"$nulls":3},"battlesmith crits per day",{"$f":"E933*'Base Numbers'!$C$5*'Base Numbers'!$C$6","v":1.6},{"$f":"F933*'Base Numbers'!$C$5*'Base Numbers'!$C$6","v":1.6},{"$f":"G933*'Base Numbers'!$C$5*'Base Numbers'!$C$6","v":1.6},{"$f":"H933*'Base Numbers'!$C$5*'Base Numbers'!$C$6","v":1.6},{"$f":"I933*'Base Numbers'!$C$5*'Base Numbers'!$C$6","v":1.6},{"$f":"J933*'Base Numbers'!$C$5*'Base Numbers'!$C$6","v":1.6},{"$f":"K933*'Base Numbers'!$C$5*'Base Numbers'!$C$6","v":1.6},{"$f":"L933*'Base Numbers'!$C$5*'Base Numbers'!$C$6","v":1.6},{"$f":"M933*'Base Numbers'!$C$5*'Base Numbers'!$C$6","v":1.6},{"$f":"N933*'Base Numbers'!$C$5*'Base Numbers'!$C$6","v":1.6},{"$f":"O933*'Base Numbers'!$C$5*'Base Numbers'!$C$6","v":1.6},{"$f":"P933*'Base Numbers'!$C$5*'Base Numbers'!$C$6","v":1.6},{"$f":"Q933*'Base Numbers'!$C$5*'Base Numbers'!$C$6","v":1.6},{"$f":"R933*'Base Numbers'!$C$5*'Base Numbers'!$C$6","v":1.6},{"$f":"S933*'Base Numbers'!$C$5*'Base Numbers'!$C$6","v":1.6},{"$f":"T933*'Base Numbers'!$C$5*'Base Numbers'!$C$6","v":1.6},{"$f":"U933*'Base Numbers'!$C$5*'Base Numbers'!$C$6","v":1.6},{"$f":"V933*'Base Numbers'!$C$5*'Base Numbers'!$C$6","v":1.6},{"$f":"W933*'Base Numbers'!$C$5*'Base Numbers'!$C$6","v":1.6},{"$f":"X933*'Base Numbers'!$C$5*'Base Numbers'!$C$6","v":1.6}]
[{"$nulls":3},"arcane jolt damage per day",{"$f":"MIN(E932,E934)*E931*2+MAX(0,E932-E934)*E931","v":0},{"$f":"MIN(F932,F934)*F931*2+MAX(0,F932-F934)*F931","v":0},0,0,0,0,0,0,0,0,0,0,0,0,0,0,0,0,0,0]
[{"$nulls":3},"improved defender damage per round available",{"$f":"IF(AND(E19>=15, E70),2.5+E33,0)","v":0},0,0,0,0,0,0,0,0,0,0,0,0,0,0,0,0,0,0,0]
[{"$nulls":3},"improved defender availability",{"$f":"IF(AND(E19>=15, E70),'Base Numbers'!$C$14,0)","v":0},{"$f":"IF(AND(F19>=15, F70),'Base Numbers'!$C$14,0)","v":0},{"$f":"IF(AND(G19>=15, G70),'Base Numbers'!$C$14,0)","v":0},{"$f":"IF(AND(H19>=15, H70),'Base Numbers'!$C$14,0)","v":0},{"$f":"IF(AND(I19>=15, I70),'Base Numbers'!$C$14,0)","v":0},{"$f":"IF(AND(J19>=15, J70),'Base Numbers'!$C$14,0)","v":0},{"$f":"IF(AND(K19>=15, K70),'Base Numbers'!$C$14,0)","v":0},{"$f":"IF(AND(L19>=15, L70),'Base Numbers'!$C$14,0)","v":0},{"$f":"IF(AND(M19>=15, M70),'Base Numbers'!$C$14,0)","v":0},{"$f":"IF(AND(N19>=15, N70),'Base Numbers'!$C$14,0)","v":0},{"$f":"IF(AND(O19>=15, O70),'Base Numbers'!$C$14,0)","v":0},{"$f":"IF(AND(P19>=15, P70),'Base Numbers'!$C$14,0)","v":0},{"$f":"IF(AND(Q19>=15, Q70),'Base Numbers'!$C$14,0)","v":0},{"$f":"IF(AND(R19>=15, R70),'Base Numbers'!$C$14,0)","v":0},{"$f":"IF(AND(S19>=15, S70),'Base Numbers'!$C$14,0)","v":0},{"$f":"IF(AND(T19>=15, T70),'Base Numbers'!$C$14,0)","v":0},{"$f":"IF(AND(U19>=15, U70),'Base Numbers'!$C$14,0)","v":0},{"$f":"IF(AND(V19>=15, V70),'Base Numbers'!$C$14,0)","v":0},{"$f":"IF(AND(W19>=15, W70),'Base Numbers'!$C$14,0)","v":0},{"$f":"IF(AND(X19>=15, X70),'Base Numbers'!$C$14,0)","v":0}]
[{"$nulls":3},"avg improved defender damage per round",{"$f":"E936*E937","v":0},{"$f":"F936*F937","v":0},0,0,0,0,0,0,0,0,0,0,0,0,0,0,0,0,0,0]
[{"$nulls":3},"total extra battlesmith damage per round",{"$f":"E938+E930+E935/('Base Numbers'!$C$5*'Base Numbers'!$C$6)","v":0},{"$f":"F938+F930+F935/('Base Numbers'!$C$5*'Base Numbers'!$C$6)","v":0},{"$f":"G938+G930+G935/('Base Numbers'!$C$5*'Base Numbers'!$C$6)","v":0},{"$f":"H938+H930+H935/('Base Numbers'!$C$5*'Base Numbers'!$C$6)","v":0},{"$f":"I938+I930+I935/('Base Numbers'!$C$5*'Base Numbers'!$C$6)","v":0},{"$f":"J938+J930+J935/('Base Numbers'!$C$5*'Base Numbers'!$C$6)","v":0},{"$f":"K938+K930+K935/('Base Numbers'!$C$5*'Base Numbers'!$C$6)","v":0},{"$f":"L938+L930+L935/('Base Numbers'!$C$5*'Base Numbers'!$C$6)","v":0},{"$f":"M938+M930+M935/('Base Numbers'!$C$5*'Base Numbers'!$C$6)","v":0},{"$f":"N938+N930+N935/('Base Numbers'!$C$5*'Base Numbers'!$C$6)","v":0},{"$f":"O938+O930+O935/('Base Numbers'!$C$5*'Base Numbers'!$C$6)","v":0},{"$f":"P938+P930+P935/('Base Numbers'!$C$5*'Base Numbers'!$C$6)","v":0},{"$f":"Q938+Q930+Q935/('Base Numbers'!$C$5*'Base Numbers'!$C$6)","v":0},{"$f":"R938+R930+R935/('Base Numbers'!$C$5*'Base Numbers'!$C$6)","v":0},{"$f":"S938+S930+S935/('Base Numbers'!$C$5*'Base Numbers'!$C$6)","v":0},{"$f":"T938+T930+T935/('Base Numbers'!$C$5*'Base Numbers'!$C$6)","v":0},{"$f":"U938+U930+U935/('Base Numbers'!$C$5*'Base Numbers'!$C$6)","v":0},{"$f":"V938+V930+V935/('Base Numbers'!$C$5*'Base Numbers'!$C$6)","v":0},{"$f":"W938+W930+W935/('Base Numbers'!$C$5*'Base Numbers'!$C$6)","v":0},{"$f":"X938+X930+X935/('Base Numbers'!$C$5*'Base Numbers'!$C$6)","v":0}]
[{"$nulls":3},"eldritch cannon flamethrower avg targets",{"$f":"IF(AND(E19>=3,E71),1.5,0)","v":0},0,0,0,0,0,0,0,0,0,0,0,0,0,0,0,0,0,0,0]
[{"$nulls":3},"eldritch cannon flamethrower base damage",{"$f":"IF(AND(E19>=15,E71),2,1)*(IF(AND(E19>=9,E71),4.5,0)+IF(AND(E19>=3,E71),9,0))","v":0},0,0,0,0,0,0,0,0,0,0,0,0,0,0,0,0,0,0,0]
[{"$nulls":3},"opp avg save prob vs. eldritch cannon flamethrower (dex save)",{"$f":"13/20 - E33/20 - E35/20+'Caster Tables'!C74/20","v":0.45},{"$f":"13/20 - F33/20 - F35/20+'Caster Tables'!D74/20","v":0.465},{"$f":"13/20 - G33/20 - G35/20+'Caster Tables'!E74/20","v":0.47500000000000003},{"$f":"13/20 - H33/20 - H35/20+'Caster Tables'!F74/20","v":0.485},{"$f":"13/20 - I33/20 - I35/20+'Caster Tables'!G74/20","v":0.4425},{"$f":"13/20 - J33/20 - J35/20+'Caster Tables'!H74/20","v":0.44999999999999996},{"$f":"13/20 - K33/20 - K35/20+'Caster Tables'!I74/20","v":0.45999999999999996},{"$f":"13/20 - L33/20 - L35/20+'Caster Tables'!J74/20","v":0.475},{"$f":"13/20 - M33/20 - M35/20+'Caster Tables'!K74/20","v":0.4375},{"$f":"13/20 - N33/20 - N35/20+'Caster Tables'!L74/20","v":0.44999999999999996},{"$f":"13/20 - O33/20 - O35/20+'Caster Tables'!M74/20","v":0.4625},{"$f":"13/20 - P33/20 - P35/20+'Caster Tables'!N74/20","v":0.475},{"$f":"13/20 - Q33/20 - Q35/20+'Caster Tables'!O74/20","v":0.4375},{"$f":"13/20 - R33/20 - R35/20+'Caster Tables'!P74/20","v":0.45},{"$f":"13/20 - S33/20 - S35/20+'Caster Tables'!Q74/20","v":0.5},{"$f":"13/20 - T33/20 - T35/20+'Caster Tables'!R74/20","v":0.55},{"$f":"13/20 - U33/20 - U35/20+'Caster Tables'!S74/20","v":0.525},{"$f":"13/20 - V33/20 - V35/20+'Caster Tables'!T74/20","v":0.55},{"$f":"13/20 - W33/20 - W35/20+'Caster Tables'!U74/20","v":0.575},{"$f":"13/20 - X33/20 - X35/20+'Caster Tables'!V74/20","v":0.6000000000000001}]
[{"$nulls":3},"eldritch cannon flamethrower avg damage per use",{"$f":"(1-E942)*E940*E941","v":0},{"$f":"(1-F942)*F940*F941","v":0},0,0,0,0,0,0,0,0,0,0,0,0,0,0,0,0,0,0]
[{"$nulls":3},"avg eldritch cannon flamethrower dmg per round",{"$f":"E929*E943","v":0},{"$f":"F929*F943","v":0},0,0,0,0,0,0,0,0,0,0,0,0,0,0,0,0,0,0]
[{"$nulls":3},"has arcane firearm",{"$f":"IF(AND(E19>=5,E71),1,0)","v":0},0,0,0,0,0,0,0,0,0,0,0,0,0,0,0,0,0,0,0,null,"added to all \"artificer\" spells, incl eld blast"]
[{"$nulls":3},"total extra artificer damage per round",{"$f":"E944+E939+E927","v":0},{"$f":"F944+F939+F927","v":0},0,0,0,0,0,0,0,0,0,0,0,0,0,0,0,0,0,0]
[]
[{"$nulls":3},"CLERIC ABILITIES"]
[{"$nulls":3},"Channel Divinity Uses per day (after Paladin uses)",{"$f":"E898","v":0},{"$f":"F898","v":0},0,0,0,0,0,0,0,0,0,0,0,0,0,0,0,0,0,0,null,"this combines with paladin channel divs, which take priority"]
[{"$nulls":3},"Once per Round bonus damage on hit",{"$f":"IF(AND(E16>=1,OR(E81>=1,E82>=1,E83>=1)), IF(E16>=8, IF(E16>=14,9,4.5),0),0)","v":0},0,0,0,0,0,0,0,0,0,0,0,0,0,0,0,0,0,0,0]
[{"$nulls":3},"bonus melee damage per round ",{"$f":"E950*E1391","v":0},0,0,0,0,0,0,0,0,0,0,0,0,0,0,0,0,0,0,0]
[{"$nulls":3},"bonus melee crit damage per round",{"$f":"E1363*E950","v":0},0,0,0,0,0,0,0,0,0,0,0,0,0,0,0,0,0,0,0]
[{"$nulls":3},"tempest cleric bonus BB damage per use on crits",{"$f":"IF(AND(E16>=2,E83>=1),IF(E1364,E1363,0),0)*3*E543","v":0},0,0,0,0,0,0,0,0,0,0,0,0,0,0,0,0,0,0,0]
[{"$nulls":3},"tempest cleric remaining BB uses for non crits",{"$f":"IF(AND(E16>=2,E83>=1),MAX(0,E949-E1363),0)","v":0},0,0,0,0,0,0,0,0,0,0,0,0,0,0,0,0,0,0,0]
[{"$nulls":3},"tempest cleric bonus BB damage on non-crits",{"$f":"IF(AND(E16>=2,E83>=1),IF(E1364,E954,0),0)*E543","v":0},0,0,0,0,0,0,0,0,0,0,0,0,0,0,0,0,0,0,0]
[{"$nulls":3},"total wrath of the storm opportunities",{"$f":"IF(AND(E16>=1,E83>=1),IF(E1368=0,MIN(E34,0.8*(1-E361)*'Base Numbers'!$C$5*'Base Numbers'!$C$6),0),0)","v":0},{"$f":"IF(AND(F16>=1,F83>=1),IF(F1368=0,MIN(F34,0.8*(1-F361)*'Base Numbers'!$C$5*'Base Numbers'!$C$6),0),0)","v":0},{"$f":"IF(AND(G16>=1,G83>=1),IF(G1368=0,MIN(G34,0.8*(1-G361)*'Base Numbers'!$C$5*'Base Numbers'!$C$6),0),0)","v":0},{"$f":"IF(AND(H16>=1,H83>=1),IF(H1368=0,MIN(H34,0.8*(1-H361)*'Base Numbers'!$C$5*'Base Numbers'!$C$6),0),0)","v":0},{"$f":"IF(AND(I16>=1,I83>=1),IF(I1368=0,MIN(I34,0.8*(1-I361)*'Base Numbers'!$C$5*'Base Numbers'!$C$6),0),0)","v":0},{"$f":"IF(AND(J16>=1,J83>=1),IF(J1368=0,MIN(J34,0.8*(1-J361)*'Base Numbers'!$C$5*'Base Numbers'!$C$6),0),0)","v":0},{"$f":"IF(AND(K16>=1,K83>=1),IF(K1368=0,MIN(K34,0.8*(1-K361)*'Base Numbers'!$C$5*'Base Numbers'!$C$6),0),0)","v":0},{"$f":"IF(AND(L16>=1,L83>=1),IF(L1368=0,MIN(L34,0.8*(1-L361)*'Base Numbers'!$C$5*'Base Numbers'!$C$6),0),0)","v":0},{"$f":"IF(AND(M16>=1,M83>=1),IF(M1368=0,MIN(M34,0.8*(1-M361)*'Base Numbers'!$C$5*'Base Numbers'!$C$6),0),0)","v":0},{"$f":"IF(AND(N16>=1,N83>=1),IF(N1368=0,MIN(N34,0.8*(1-N361)*'Base Numbers'!$C$5*'Base Numbers'!$C$6),0),0)","v":0},{"$f":"IF(AND(O16>=1,O83>=1),IF(O1368=0,MIN(O34,0.8*(1-O361)*'Base Numbers'!$C$5*'Base Numbers'!$C$6),0),0)","v":0},{"$f":"IF(AND(P16>=1,P83>=1),IF(P1368=0,MIN(P34,0.8*(1-P361)*'Base Numbers'!$C$5*'Base Numbers'!$C$6),0),0)","v":0},{"$f":"IF(AND(Q16>=1,Q83>=1),IF(Q1368=0,MIN(Q34,0.8*(1-Q361)*'Base Numbers'!$C$5*'Base Numbers'!$C$6),0),0)","v":0},{"$f":"IF(AND(R16>=1,R83>=1),IF(R1368=0,MIN(R34,0.8*(1-R361)*'Base Numbers'!$C$5*'Base Numbers'!$C$6),0),0)","v":0},{"$f":"IF(AND(S16>=1,S83>=1),IF(S1368=0,MIN(S34,0.8*(1-S361)*'Base Numbers'!$C$5*'Base Numbers'!$C$6),0),0)","v":0},{"$f":"IF(AND(T16>=1,T83>=1),IF(T1368=0,MIN(T34,0.8*(1-T361)*'Base Numbers'!$C$5*'Base Numbers'!$C$6),0),0)","v":0},{"$f":"IF(AND(U16>=1,U83>=1),IF(U1368=0,MIN(U34,0.8*(1-U361)*'Base Numbers'!$C$5*'Base Numbers'!$C$6),0),0)","v":0},{"$f":"IF(AND(V16>=1,V83>=1),IF(V1368=0,MIN(V34,0.8*(1-V361)*'Base Numbers'!$C$5*'Base Numbers'!$C$6),0),0)","v":0},{"$f":"IF(AND(W16>=1,W83>=1),IF(W1368=0,MIN(W34,0.8*(1-W361)*'Base Numbers'!$C$5*'Base Numbers'!$C$6),0),0)","v":0},{"$f":"IF(AND(X16>=1,X83>=1),IF(X1368=0,MIN(X34,0.8*(1-X361)*'Base Numbers'!$C$5*'Base Numbers'!$C$6),0),0)","v":0}]
[{"$nulls":3},"total tempest wrath of the storm damage per day",{"$f":"IF(AND(E16>=1,E83>=1),(13-E34-E35+'Caster Tables'!C74)/20*0.5*9+(1-(13-E34-E35+'Caster Tables'!C74)/20)*9,0)","v":0},{"$f":"IF(AND(F16>=1,F83>=1),(13-F34-F35+'Caster Tables'!D74)/20*0.5*9+(1-(13-F34-F35+'Caster Tables'!D74)/20)*9,0)","v":0},{"$f":"IF(AND(G16>=1,G83>=1),(13-G34-G35+'Caster Tables'!E74)/20*0.5*9+(1-(13-G34-G35+'Caster Tables'!E74)/20)*9,0)","v":0},{"$f":"IF(AND(H16>=1,H83>=1),(13-H34-H35+'Caster Tables'!F74)/20*0.5*9+(1-(13-H34-H35+'Caster Tables'!F74)/20)*9,0)","v":0},{"$f":"IF(AND(I16>=1,I83>=1),(13-I34-I35+'Caster Tables'!G74)/20*0.5*9+(1-(13-I34-I35+'Caster Tables'!G74)/20)*9,0)","v":0},{"$f":"IF(AND(J16>=1,J83>=1),(13-J34-J35+'Caster Tables'!H74)/20*0.5*9+(1-(13-J34-J35+'Caster Tables'!H74)/20)*9,0)","v":0},{"$f":"IF(AND(K16>=1,K83>=1),(13-K34-K35+'Caster Tables'!I74)/20*0.5*9+(1-(13-K34-K35+'Caster Tables'!I74)/20)*9,0)","v":0},{"$f":"IF(AND(L16>=1,L83>=1),(13-L34-L35+'Caster Tables'!J74)/20*0.5*9+(1-(13-L34-L35+'Caster Tables'!J74)/20)*9,0)","v":0},{"$f":"IF(AND(M16>=1,M83>=1),(13-M34-M35+'Caster Tables'!K74)/20*0.5*9+(1-(13-M34-M35+'Caster Tables'!K74)/20)*9,0)","v":0},{"$f":"IF(AND(N16>=1,N83>=1),(13-N34-N35+'Caster Tables'!L74)/20*0.5*9+(1-(13-N34-N35+'Caster Tables'!L74)/20)*9,0)","v":0},{"$f":"IF(AND(O16>=1,O83>=1),(13-O34-O35+'Caster Tables'!M74)/20*0.5*9+(1-(13-O34-O35+'Caster Tables'!M74)/20)*9,0)","v":0},{"$f":"IF(AND(P16>=1,P83>=1),(13-P34-P35+'Caster Tables'!N74)/20*0.5*9+(1-(13-P34-P35+'Caster Tables'!N74)/20)*9,0)","v":0},{"$f":"IF(AND(Q16>=1,Q83>=1),(13-Q34-Q35+'Caster Tables'!O74)/20*0.5*9+(1-(13-Q34-Q35+'Caster Tables'!O74)/20)*9,0)","v":0},{"$f":"IF(AND(R16>=1,R83>=1),(13-R34-R35+'Caster Tables'!P74)/20*0.5*9+(1-(13-R34-R35+'Caster Tables'!P74)/20)*9,0)","v":0},{"$f":"IF(AND(S16>=1,S83>=1),(13-S34-S35+'Caster Tables'!Q74)/20*0.5*9+(1-(13-S34-S35+'Caster Tables'!Q74)/20)*9,0)","v":0},{"$f":"IF(AND(T16>=1,T83>=1),(13-T34-T35+'Caster Tables'!R74)/20*0.5*9+(1-(13-T34-T35+'Caster Tables'!R74)/20)*9,0)","v":0},{"$f":"IF(AND(U16>=1,U83>=1),(13-U34-U35+'Caster Tables'!S74)/20*0.5*9+(1-(13-U34-U35+'Caster Tables'!S74)/20)*9,0)","v":0},{"$f":"IF(AND(V16>=1,V83>=1),(13-V34-V35+'Caster Tables'!T74)/20*0.5*9+(1-(13-V34-V35+'Caster Tables'!T74)/20)*9,0)","v":0},{"$f":"IF(AND(W16>=1,W83>=1),(13-W34-W35+'Caster Tables'!U74)/20*0.5*9+(1-(13-W34-W35+'Caster Tables'!U74)/20)*9,0)","v":0},{"$f":"IF(AND(X16>=1,X83>=1),(13-X34-X35+'Caster Tables'!V74)/20*0.5*9+(1-(13-X34-X35+'Caster Tables'!V74)/20)*9,0)","v":0}]
[{"$nulls":3},"death cleric alternative cantrip prob of 2 targets",{"$f":"IF(AND(E16>=1,E82>=1),0.33,0)","v":0},0,0,0,0,0,0,0,0,0,0,0,0,0,0,0,0,0,0,0]
[{"$nulls":3},"death cleric alternative toll the dead damage single target",{"$f":"IF(AND(E16>=1,E82>=1),(1-(13-E34-E35+'Caster Tables'!C77)/20)*('Caster Tables'!C8+1)*6,0)","v":0},{"$f":"IF(AND(F16>=1,F82>=1),(1-(13-F34-F35+'Caster Tables'!D77)/20)*('Caster Tables'!D8+1)*6,0)","v":0},{"$f":"IF(AND(G16>=1,G82>=1),(1-(13-G34-G35+'Caster Tables'!E77)/20)*('Caster Tables'!E8+1)*6,0)","v":0},{"$f":"IF(AND(H16>=1,H82>=1),(1-(13-H34-H35+'Caster Tables'!F77)/20)*('Caster Tables'!F8+1)*6,0)","v":0},{"$f":"IF(AND(I16>=1,I82>=1),(1-(13-I34-I35+'Caster Tables'!G77)/20)*('Caster Tables'!G8+1)*6,0)","v":0},{"$f":"IF(AND(J16>=1,J82>=1),(1-(13-J34-J35+'Caster Tables'!H77)/20)*('Caster Tables'!H8+1)*6,0)","v":0},{"$f":"IF(AND(K16>=1,K82>=1),(1-(13-K34-K35+'Caster Tables'!I77)/20)*('Caster Tables'!I8+1)*6,0)","v":0},{"$f":"IF(AND(L16>=1,L82>=1),(1-(13-L34-L35+'Caster Tables'!J77)/20)*('Caster Tables'!J8+1)*6,0)","v":0},{"$f":"IF(AND(M16>=1,M82>=1),(1-(13-M34-M35+'Caster Tables'!K77)/20)*('Caster Tables'!K8+1)*6,0)","v":0},{"$f":"IF(AND(N16>=1,N82>=1),(1-(13-N34-N35+'Caster Tables'!L77)/20)*('Caster Tables'!L8+1)*6,0)","v":0},{"$f":"IF(AND(O16>=1,O82>=1),(1-(13-O34-O35+'Caster Tables'!M77)/20)*('Caster Tables'!M8+1)*6,0)","v":0},{"$f":"IF(AND(P16>=1,P82>=1),(1-(13-P34-P35+'Caster Tables'!N77)/20)*('Caster Tables'!N8+1)*6,0)","v":0},{"$f":"IF(AND(Q16>=1,Q82>=1),(1-(13-Q34-Q35+'Caster Tables'!O77)/20)*('Caster Tables'!O8+1)*6,0)","v":0},{"$f":"IF(AND(R16>=1,R82>=1),(1-(13-R34-R35+'Caster Tables'!P77)/20)*('Caster Tables'!P8+1)*6,0)","v":0},{"$f":"IF(AND(S16>=1,S82>=1),(1-(13-S34-S35+'Caster Tables'!Q77)/20)*('Caster Tables'!Q8+1)*6,0)","v":0},{"$f":"IF(AND(T16>=1,T82>=1),(1-(13-T34-T35+'Caster Tables'!R77)/20)*('Caster Tables'!R8+1)*6,0)","v":0},{"$f":"IF(AND(U16>=1,U82>=1),(1-(13-U34-U35+'Caster Tables'!S77)/20)*('Caster Tables'!S8+1)*6,0)","v":0},{"$f":"IF(AND(V16>=1,V82>=1),(1-(13-V34-V35+'Caster Tables'!T77)/20)*('Caster Tables'!T8+1)*6,0)","v":0},{"$f":"IF(AND(W16>=1,W82>=1),(1-(13-W34-W35+'Caster Tables'!U77)/20)*('Caster Tables'!U8+1)*6,0)","v":0},{"$f":"IF(AND(X16>=1,X82>=1),(1-(13-X34-X35+'Caster Tables'!V77)/20)*('Caster Tables'!V8+1)*6,0)","v":0}]
[{"$nulls":3},"death cleric comparison main damage scenario (main + bonus)",{"$f":"E1373+E1374","v":4.4},{"$f":"F1373+F1374","v":4.4},4.075,4.075,4.4,4.075,4.075,4.075,4.075,4.075,4.075,3.75,4.075,4.075,3.75,3.75,4.075,3.75,3.75,3.75]
[{"$nulls":3},"death cleric gain on double necro toll the dead:",{"$f":"MAX(0,2*E959-E960)","v":0},{"$f":"MAX(0,2*F959-F960)","v":0},0,0,0,0,0,0,0,0,0,0,0,0,0,0,0,0,0,0]
[{"$nulls":3},"death cleric gain on single necro toll the dead:",{"$f":"MAX(0,E959-E960)","v":0},{"$f":"MAX(0,F959-F960)","v":0},0,0,0,0,0,0,0,0,0,0,0,0,0,0,0,0,0,0]
[{"$nulls":3},"death cleric toll the dead damage gain",{"$f":"E958*E961+(1-E958)*E962","v":0},{"$f":"F958*F961+(1-F958)*F962","v":0},0,0,0,0,0,0,0,0,0,0,0,0,0,0,0,0,0,0]
[{"$nulls":3},"peace cleric emboldening bond uses",{"$f":"IF(AND(E16>=1,E84>=1),E35,0)","v":0},0,0,0,0,0,0,0,0,0,0,0,0,0,0,0,0,0,0,0]
[{"$nulls":3},"peace cleric emboldening bond avg hit gain per turn",{"$f":"MIN(1,E964/'Base Numbers'!$C$5)*2.5","v":0},{"$f":"MIN(1,F964/'Base Numbers'!$C$5)*2.5","v":0},{"$f":"MIN(1,G964/'Base Numbers'!$C$5)*2.5","v":0},{"$f":"MIN(1,H964/'Base Numbers'!$C$5)*2.5","v":0},{"$f":"MIN(1,I964/'Base Numbers'!$C$5)*2.5","v":0},{"$f":"MIN(1,J964/'Base Numbers'!$C$5)*2.5","v":0},{"$f":"MIN(1,K964/'Base Numbers'!$C$5)*2.5","v":0},{"$f":"MIN(1,L964/'Base Numbers'!$C$5)*2.5","v":0},{"$f":"MIN(1,M964/'Base Numbers'!$C$5)*2.5","v":0},{"$f":"MIN(1,N964/'Base Numbers'!$C$5)*2.5","v":0},{"$f":"MIN(1,O964/'Base Numbers'!$C$5)*2.5","v":0},{"$f":"MIN(1,P964/'Base Numbers'!$C$5)*2.5","v":0},{"$f":"MIN(1,Q964/'Base Numbers'!$C$5)*2.5","v":0},{"$f":"MIN(1,R964/'Base Numbers'!$C$5)*2.5","v":0},{"$f":"MIN(1,S964/'Base Numbers'!$C$5)*2.5","v":0},{"$f":"MIN(1,T964/'Base Numbers'!$C$5)*2.5","v":0},{"$f":"MIN(1,U964/'Base Numbers'!$C$5)*2.5","v":0},{"$f":"MIN(1,V964/'Base Numbers'!$C$5)*2.5","v":0},{"$f":"MIN(1,W964/'Base Numbers'!$C$5)*2.5","v":0},{"$f":"MIN(1,X964/'Base Numbers'!$C$5)*2.5","v":0}]
[{"$nulls":3},"war cleric channel div extra hits",{"$f":"IF(AND(E16>=2,E81>=1),E949*(E509+E511),0)","v":0},0,0,0,0,0,0,0,0,0,0,0,0,0,0,0,0,0,0,0]
[{"$nulls":3},"total bonus cleric damage per round",{"$f":"E951+E952+E963+(E953+E955+E957+E966)/('Base Numbers'!$C$5*'Base Numbers'!$C$6)","v":0},{"$f":"F951+F952+F963+(F953+F955+F957+F966)/('Base Numbers'!$C$5*'Base Numbers'!$C$6)","v":0},{"$f":"G951+G952+G963+(G953+G955+G957+G966)/('Base Numbers'!$C$5*'Base Numbers'!$C$6)","v":0},{"$f":"H951+H952+H963+(H953+H955+H957+H966)/('Base Numbers'!$C$5*'Base Numbers'!$C$6)","v":0},{"$f":"I951+I952+I963+(I953+I955+I957+I966)/('Base Numbers'!$C$5*'Base Numbers'!$C$6)","v":0},{"$f":"J951+J952+J963+(J953+J955+J957+J966)/('Base Numbers'!$C$5*'Base Numbers'!$C$6)","v":0},{"$f":"K951+K952+K963+(K953+K955+K957+K966)/('Base Numbers'!$C$5*'Base Numbers'!$C$6)","v":0},{"$f":"L951+L952+L963+(L953+L955+L957+L966)/('Base Numbers'!$C$5*'Base Numbers'!$C$6)","v":0},{"$f":"M951+M952+M963+(M953+M955+M957+M966)/('Base Numbers'!$C$5*'Base Numbers'!$C$6)","v":0},{"$f":"N951+N952+N963+(N953+N955+N957+N966)/('Base Numbers'!$C$5*'Base Numbers'!$C$6)","v":0},{"$f":"O951+O952+O963+(O953+O955+O957+O966)/('Base Numbers'!$C$5*'Base Numbers'!$C$6)","v":0},{"$f":"P951+P952+P963+(P953+P955+P957+P966)/('Base Numbers'!$C$5*'Base Numbers'!$C$6)","v":0},{"$f":"Q951+Q952+Q963+(Q953+Q955+Q957+Q966)/('Base Numbers'!$C$5*'Base Numbers'!$C$6)","v":0},{"$f":"R951+R952+R963+(R953+R955+R957+R966)/('Base Numbers'!$C$5*'Base Numbers'!$C$6)","v":0},{"$f":"S951+S952+S963+(S953+S955+S957+S966)/('Base Numbers'!$C$5*'Base Numbers'!$C$6)","v":0},{"$f":"T951+T952+T963+(T953+T955+T957+T966)/('Base Numbers'!$C$5*'Base Numbers'!$C$6)","v":0},{"$f":"U951+U952+U963+(U953+U955+U957+U966)/('Base Numbers'!$C$5*'Base Numbers'!$C$6)","v":0},{"$f":"V951+V952+V963+(V953+V955+V957+V966)/('Base Numbers'!$C$5*'Base Numbers'!$C$6)","v":0},{"$f":"W951+W952+W963+(W953+W955+W957+W966)/('Base Numbers'!$C$5*'Base Numbers'!$C$6)","v":0},{"$f":"X951+X952+X963+(X953+X955+X957+X966)/('Base Numbers'!$C$5*'Base Numbers'!$C$6)","v":0}]
[]
[{"$nulls":3},"MONK ABILITIES"]
[{"$nulls":3},"Ki points per day",{"$f":"IF(E18>=2,E18,0)*(1+'Base Numbers'!$C$7)","v":0},{"$f":"IF(F18>=2,F18,0)*(1+'Base Numbers'!$C$7)","v":0},{"$f":"IF(G18>=2,G18,0)*(1+'Base Numbers'!$C$7)","v":0},{"$f":"IF(H18>=2,H18,0)*(1+'Base Numbers'!$C$7)","v":0},{"$f":"IF(I18>=2,I18,0)*(1+'Base Numbers'!$C$7)","v":0},{"$f":"IF(J18>=2,J18,0)*(1+'Base Numbers'!$C$7)","v":0},{"$f":"IF(K18>=2,K18,0)*(1+'Base Numbers'!$C$7)","v":0},{"$f":"IF(L18>=2,L18,0)*(1+'Base Numbers'!$C$7)","v":0},{"$f":"IF(M18>=2,M18,0)*(1+'Base Numbers'!$C$7)","v":0},{"$f":"IF(N18>=2,N18,0)*(1+'Base Numbers'!$C$7)","v":0},{"$f":"IF(O18>=2,O18,0)*(1+'Base Numbers'!$C$7)","v":0},{"$f":"IF(P18>=2,P18,0)*(1+'Base Numbers'!$C$7)","v":0},{"$f":"IF(Q18>=2,Q18,0)*(1+'Base Numbers'!$C$7)","v":0},{"$f":"IF(R18>=2,R18,0)*(1+'Base Numbers'!$C$7)","v":0},{"$f":"IF(S18>=2,S18,0)*(1+'Base Numbers'!$C$7)","v":0},{"$f":"IF(T18>=2,T18,0)*(1+'Base Numbers'!$C$7)","v":0},{"$f":"IF(U18>=2,U18,0)*(1+'Base Numbers'!$C$7)","v":0},{"$f":"IF(V18>=2,V18,0)*(1+'Base Numbers'!$C$7)","v":0},{"$f":"IF(W18>=2,W18,0)*(1+'Base Numbers'!$C$7)","v":0},{"$f":"IF(X18>=2,X18,0)*(1+'Base Numbers'!$C$7)","v":0}]
[{"$nulls":3},"martial arts damage",{"$f":"IF(E18>=1,2.5,0)+IF(E18>=5,1,0)+IF(E18>=11,1,0)+IF(E18>=17,1,0)","v":0},0,0,0,0,0,0,0,0,0,0,0,0,0,0,0,0,0,0,0]
[{"$nulls":3},"unarmed damage",{"$f":"MAX(E971,IF(AND($B$63>=1,E6>=$B$63),4.5,0))","v":0},0,0,0,0,0,0,0,0,0,0,0,0,0,0,0,0,0,0,0]
[{"$nulls":3},"avg bonus attacks (Flurry of Blows)",{"$f":"MAX(IF(E18>=1,1,0),MIN(2,IF(E18>=2,1+E970/('Base Numbers'!$C$5*'Base Numbers'!$C$6),0)))","v":0},{"$f":"MAX(IF(F18>=1,1,0),MIN(2,IF(F18>=2,1+F970/('Base Numbers'!$C$5*'Base Numbers'!$C$6),0)))","v":0},{"$f":"MAX(IF(G18>=1,1,0),MIN(2,IF(G18>=2,1+G970/('Base Numbers'!$C$5*'Base Numbers'!$C$6),0)))","v":0},{"$f":"MAX(IF(H18>=1,1,0),MIN(2,IF(H18>=2,1+H970/('Base Numbers'!$C$5*'Base Numbers'!$C$6),0)))","v":0},{"$f":"MAX(IF(I18>=1,1,0),MIN(2,IF(I18>=2,1+I970/('Base Numbers'!$C$5*'Base Numbers'!$C$6),0)))","v":0},{"$f":"MAX(IF(J18>=1,1,0),MIN(2,IF(J18>=2,1+J970/('Base Numbers'!$C$5*'Base Numbers'!$C$6),0)))","v":0},{"$f":"MAX(IF(K18>=1,1,0),MIN(2,IF(K18>=2,1+K970/('Base Numbers'!$C$5*'Base Numbers'!$C$6),0)))","v":0},{"$f":"MAX(IF(L18>=1,1,0),MIN(2,IF(L18>=2,1+L970/('Base Numbers'!$C$5*'Base Numbers'!$C$6),0)))","v":0},{"$f":"MAX(IF(M18>=1,1,0),MIN(2,IF(M18>=2,1+M970/('Base Numbers'!$C$5*'Base Numbers'!$C$6),0)))","v":0},{"$f":"MAX(IF(N18>=1,1,0),MIN(2,IF(N18>=2,1+N970/('Base Numbers'!$C$5*'Base Numbers'!$C$6),0)))","v":0},{"$f":"MAX(IF(O18>=1,1,0),MIN(2,IF(O18>=2,1+O970/('Base Numbers'!$C$5*'Base Numbers'!$C$6),0)))","v":0},{"$f":"MAX(IF(P18>=1,1,0),MIN(2,IF(P18>=2,1+P970/('Base Numbers'!$C$5*'Base Numbers'!$C$6),0)))","v":0},{"$f":"MAX(IF(Q18>=1,1,0),MIN(2,IF(Q18>=2,1+Q970/('Base Numbers'!$C$5*'Base Numbers'!$C$6),0)))","v":0},{"$f":"MAX(IF(R18>=1,1,0),MIN(2,IF(R18>=2,1+R970/('Base Numbers'!$C$5*'Base Numbers'!$C$6),0)))","v":0},{"$f":"MAX(IF(S18>=1,1,0),MIN(2,IF(S18>=2,1+S970/('Base Numbers'!$C$5*'Base Numbers'!$C$6),0)))","v":0},{"$f":"MAX(IF(T18>=1,1,0),MIN(2,IF(T18>=2,1+T970/('Base Numbers'!$C$5*'Base Numbers'!$C$6),0)))","v":0},{"$f":"MAX(IF(U18>=1,1,0),MIN(2,IF(U18>=2,1+U970/('Base Numbers'!$C$5*'Base Numbers'!$C$6),0)))","v":0},{"$f":"MAX(IF(V18>=1,1,0),MIN(2,IF(V18>=2,1+V970/('Base Numbers'!$C$5*'Base Numbers'!$C$6),0)))","v":0},{"$f":"MAX(IF(W18>=1,1,0),MIN(2,IF(W18>=2,1+W970/('Base Numbers'!$C$5*'Base Numbers'!$C$6),0)))","v":0},{"$f":"MAX(IF(X18>=1,1,0),MIN(2,IF(X18>=2,1+X970/('Base Numbers'!$C$5*'Base Numbers'!$C$6),0)))","v":0}]
[{"$nulls":3},"Ki used on flurry of blows (adj for spells)",{"$f":" MIN(E970,('Base Numbers'!$C$5*'Base Numbers'!$C$6)-MAX(E286/('Base Numbers'!$C$5*'Base Numbers'!$C$6),E288+E292)*('Base Numbers'!$C$5*'Base Numbers'!$C$6))","v":0},{"$f":" MIN(F970,('Base Numbers'!$C$5*'Base Numbers'!$C$6)-MAX(F286/('Base Numbers'!$C$5*'Base Numbers'!$C$6),F288+F292)*('Base Numbers'!$C$5*'Base Numbers'!$C$6))","v":0},{"$f":" MIN(G970,('Base Numbers'!$C$5*'Base Numbers'!$C$6)-MAX(G286/('Base Numbers'!$C$5*'Base Numbers'!$C$6),G288+G292)*('Base Numbers'!$C$5*'Base Numbers'!$C$6))","v":0},{"$f":" MIN(H970,('Base Numbers'!$C$5*'Base Numbers'!$C$6)-MAX(H286/('Base Numbers'!$C$5*'Base Numbers'!$C$6),H288+H292)*('Base Numbers'!$C$5*'Base Numbers'!$C$6))","v":0},{"$f":" MIN(I970,('Base Numbers'!$C$5*'Base Numbers'!$C$6)-MAX(I286/('Base Numbers'!$C$5*'Base Numbers'!$C$6),I288+I292)*('Base Numbers'!$C$5*'Base Numbers'!$C$6))","v":0},{"$f":" MIN(J970,('Base Numbers'!$C$5*'Base Numbers'!$C$6)-MAX(J286/('Base Numbers'!$C$5*'Base Numbers'!$C$6),J288+J292)*('Base Numbers'!$C$5*'Base Numbers'!$C$6))","v":0},{"$f":" MIN(K970,('Base Numbers'!$C$5*'Base Numbers'!$C$6)-MAX(K286/('Base Numbers'!$C$5*'Base Numbers'!$C$6),K288+K292)*('Base Numbers'!$C$5*'Base Numbers'!$C$6))","v":0},{"$f":" MIN(L970,('Base Numbers'!$C$5*'Base Numbers'!$C$6)-MAX(L286/('Base Numbers'!$C$5*'Base Numbers'!$C$6),L288+L292)*('Base Numbers'!$C$5*'Base Numbers'!$C$6))","v":0},{"$f":" MIN(M970,('Base Numbers'!$C$5*'Base Numbers'!$C$6)-MAX(M286/('Base Numbers'!$C$5*'Base Numbers'!$C$6),M288+M292)*('Base Numbers'!$C$5*'Base Numbers'!$C$6))","v":0},{"$f":" MIN(N970,('Base Numbers'!$C$5*'Base Numbers'!$C$6)-MAX(N286/('Base Numbers'!$C$5*'Base Numbers'!$C$6),N288+N292)*('Base Numbers'!$C$5*'Base Numbers'!$C$6))","v":0},{"$f":" MIN(O970,('Base Numbers'!$C$5*'Base Numbers'!$C$6)-MAX(O286/('Base Numbers'!$C$5*'Base Numbers'!$C$6),O288+O292)*('Base Numbers'!$C$5*'Base Numbers'!$C$6))","v":0},{"$f":" MIN(P970,('Base Numbers'!$C$5*'Base Numbers'!$C$6)-MAX(P286/('Base Numbers'!$C$5*'Base Numbers'!$C$6),P288+P292)*('Base Numbers'!$C$5*'Base Numbers'!$C$6))","v":0},{"$f":" MIN(Q970,('Base Numbers'!$C$5*'Base Numbers'!$C$6)-MAX(Q286/('Base Numbers'!$C$5*'Base Numbers'!$C$6),Q288+Q292)*('Base Numbers'!$C$5*'Base Numbers'!$C$6))","v":0},{"$f":" MIN(R970,('Base Numbers'!$C$5*'Base Numbers'!$C$6)-MAX(R286/('Base Numbers'!$C$5*'Base Numbers'!$C$6),R288+R292)*('Base Numbers'!$C$5*'Base Numbers'!$C$6))","v":0},{"$f":" MIN(S970,('Base Numbers'!$C$5*'Base Numbers'!$C$6)-MAX(S286/('Base Numbers'!$C$5*'Base Numbers'!$C$6),S288+S292)*('Base Numbers'!$C$5*'Base Numbers'!$C$6))","v":0},{"$f":" MIN(T970,('Base Numbers'!$C$5*'Base Numbers'!$C$6)-MAX(T286/('Base Numbers'!$C$5*'Base Numbers'!$C$6),T288+T292)*('Base Numbers'!$C$5*'Base Numbers'!$C$6))","v":0},{"$f":" MIN(U970,('Base Numbers'!$C$5*'Base Numbers'!$C$6)-MAX(U286/('Base Numbers'!$C$5*'Base Numbers'!$C$6),U288+U292)*('Base Numbers'!$C$5*'Base Numbers'!$C$6))","v":0},{"$f":" MIN(V970,('Base Numbers'!$C$5*'Base Numbers'!$C$6)-MAX(V286/('Base Numbers'!$C$5*'Base Numbers'!$C$6),V288+V292)*('Base Numbers'!$C$5*'Base Numbers'!$C$6))","v":0},{"$f":" MIN(W970,('Base Numbers'!$C$5*'Base Numbers'!$C$6)-MAX(W286/('Base Numbers'!$C$5*'Base Numbers'!$C$6),W288+W292)*('Base Numbers'!$C$5*'Base Numbers'!$C$6))","v":0},{"$f":" MIN(X970,('Base Numbers'!$C$5*'Base Numbers'!$C$6)-MAX(X286/('Base Numbers'!$C$5*'Base Numbers'!$C$6),X288+X292)*('Base Numbers'!$C$5*'Base Numbers'!$C$6))","v":0}]
[{"$nulls":3},"remaining Ki after Flurry",{"$f":"E970-E974","v":0},{"$f":"F970-F974","v":0},0,0,0,0,0,0,0,0,0,0,0,0,0,0,0,0,0,0]
[{"$nulls":3},"kensei deft strike damage per day",{"$f":"IF(AND(E18>=6,E75>=1),E971*MIN(E975,E1391*'Base Numbers'!$C$5*'Base Numbers'!$C$6),0)","v":0},{"$f":"IF(AND(F18>=6,F75>=1),F971*MIN(F975,F1391*'Base Numbers'!$C$5*'Base Numbers'!$C$6),0)","v":0},{"$f":"IF(AND(G18>=6,G75>=1),G971*MIN(G975,G1391*'Base Numbers'!$C$5*'Base Numbers'!$C$6),0)","v":0},{"$f":"IF(AND(H18>=6,H75>=1),H971*MIN(H975,H1391*'Base Numbers'!$C$5*'Base Numbers'!$C$6),0)","v":0},{"$f":"IF(AND(I18>=6,I75>=1),I971*MIN(I975,I1391*'Base Numbers'!$C$5*'Base Numbers'!$C$6),0)","v":0},{"$f":"IF(AND(J18>=6,J75>=1),J971*MIN(J975,J1391*'Base Numbers'!$C$5*'Base Numbers'!$C$6),0)","v":0},{"$f":"IF(AND(K18>=6,K75>=1),K971*MIN(K975,K1391*'Base Numbers'!$C$5*'Base Numbers'!$C$6),0)","v":0},{"$f":"IF(AND(L18>=6,L75>=1),L971*MIN(L975,L1391*'Base Numbers'!$C$5*'Base Numbers'!$C$6),0)","v":0},{"$f":"IF(AND(M18>=6,M75>=1),M971*MIN(M975,M1391*'Base Numbers'!$C$5*'Base Numbers'!$C$6),0)","v":0},{"$f":"IF(AND(N18>=6,N75>=1),N971*MIN(N975,N1391*'Base Numbers'!$C$5*'Base Numbers'!$C$6),0)","v":0},{"$f":"IF(AND(O18>=6,O75>=1),O971*MIN(O975,O1391*'Base Numbers'!$C$5*'Base Numbers'!$C$6),0)","v":0},{"$f":"IF(AND(P18>=6,P75>=1),P971*MIN(P975,P1391*'Base Numbers'!$C$5*'Base Numbers'!$C$6),0)","v":0},{"$f":"IF(AND(Q18>=6,Q75>=1),Q971*MIN(Q975,Q1391*'Base Numbers'!$C$5*'Base Numbers'!$C$6),0)","v":0},{"$f":"IF(AND(R18>=6,R75>=1),R971*MIN(R975,R1391*'Base Numbers'!$C$5*'Base Numbers'!$C$6),0)","v":0},{"$f":"IF(AND(S18>=6,S75>=1),S971*MIN(S975,S1391*'Base Numbers'!$C$5*'Base Numbers'!$C$6),0)","v":0},{"$f":"IF(AND(T18>=6,T75>=1),T971*MIN(T975,T1391*'Base Numbers'!$C$5*'Base Numbers'!$C$6),0)","v":0},{"$f":"IF(AND(U18>=6,U75>=1),U971*MIN(U975,U1391*'Base Numbers'!$C$5*'Base Numbers'!$C$6),0)","v":0},{"$f":"IF(AND(V18>=6,V75>=1),V971*MIN(V975,V1391*'Base Numbers'!$C$5*'Base Numbers'!$C$6),0)","v":0},{"$f":"IF(AND(W18>=6,W75>=1),W971*MIN(W975,W1391*'Base Numbers'!$C$5*'Base Numbers'!$C$6),0)","v":0},{"$f":"IF(AND(X18>=6,X75>=1),X971*MIN(X975,X1391*'Base Numbers'!$C$5*'Base Numbers'!$C$6),0)","v":0},null,"limit by number of rounds with at least one hit"]
[{"$nulls":3},"Ki used on kensei deft strike",{"$f":"IF(AND(E18>=6,E75>=1),MIN(E975,E1391*'Base Numbers'!$C$5*'Base Numbers'!$C$6),0)","v":0},{"$f":"IF(AND(F18>=6,F75>=1),MIN(F975,F1391*'Base Numbers'!$C$5*'Base Numbers'!$C$6),0)","v":0},{"$f":"IF(AND(G18>=6,G75>=1),MIN(G975,G1391*'Base Numbers'!$C$5*'Base Numbers'!$C$6),0)","v":0},{"$f":"IF(AND(H18>=6,H75>=1),MIN(H975,H1391*'Base Numbers'!$C$5*'Base Numbers'!$C$6),0)","v":0},{"$f":"IF(AND(I18>=6,I75>=1),MIN(I975,I1391*'Base Numbers'!$C$5*'Base Numbers'!$C$6),0)","v":0},{"$f":"IF(AND(J18>=6,J75>=1),MIN(J975,J1391*'Base Numbers'!$C$5*'Base Numbers'!$C$6),0)","v":0},{"$f":"IF(AND(K18>=6,K75>=1),MIN(K975,K1391*'Base Numbers'!$C$5*'Base Numbers'!$C$6),0)","v":0},{"$f":"IF(AND(L18>=6,L75>=1),MIN(L975,L1391*'Base Numbers'!$C$5*'Base Numbers'!$C$6),0)","v":0},{"$f":"IF(AND(M18>=6,M75>=1),MIN(M975,M1391*'Base Numbers'!$C$5*'Base Numbers'!$C$6),0)","v":0},{"$f":"IF(AND(N18>=6,N75>=1),MIN(N975,N1391*'Base Numbers'!$C$5*'Base Numbers'!$C$6),0)","v":0},{"$f":"IF(AND(O18>=6,O75>=1),MIN(O975,O1391*'Base Numbers'!$C$5*'Base Numbers'!$C$6),0)","v":0},{"$f":"IF(AND(P18>=6,P75>=1),MIN(P975,P1391*'Base Numbers'!$C$5*'Base Numbers'!$C$6),0)","v":0},{"$f":"IF(AND(Q18>=6,Q75>=1),MIN(Q975,Q1391*'Base Numbers'!$C$5*'Base Numbers'!$C$6),0)","v":0},{"$f":"IF(AND(R18>=6,R75>=1),MIN(R975,R1391*'Base Numbers'!$C$5*'Base Numbers'!$C$6),0)","v":0},{"$f":"IF(AND(S18>=6,S75>=1),MIN(S975,S1391*'Base Numbers'!$C$5*'Base Numbers'!$C$6),0)","v":0},{"$f":"IF(AND(T18>=6,T75>=1),MIN(T975,T1391*'Base Numbers'!$C$5*'Base Numbers'!$C$6),0)","v":0},{"$f":"IF(AND(U18>=6,U75>=1),MIN(U975,U1391*'Base Numbers'!$C$5*'Base Numbers'!$C$6),0)","v":0},{"$f":"IF(AND(V18>=6,V75>=1),MIN(V975,V1391*'Base Numbers'!$C$5*'Base Numbers'!$C$6),0)","v":0},{"$f":"IF(AND(W18>=6,W75>=1),MIN(W975,W1391*'Base Numbers'!$C$5*'Base Numbers'!$C$6),0)","v":0},{"$f":"IF(AND(X18>=6,X75>=1),MIN(X975,X1391*'Base Numbers'!$C$5*'Base Numbers'!$C$6),0)","v":0}]
[{"$nulls":3},"remaining Ki after deft strike",{"$f":"E975-E977","v":0},{"$f":"F975-F977","v":0},0,0,0,0,0,0,0,0,0,0,0,0,0,0,0,0,0,0]
[{"$nulls":3},"way of mercy hands of harm damage per use",{"$f":"IF(AND(E18>=3,E76>=1),E971+E34,0)","v":0},0,0,0,0,0,0,0,0,0,0,0,0,0,0,0,0,0,0,0]
[{"$nulls":3},"Ki used on hands of harm",{"$f":"IF(AND(E18<11,E18>=3,E76>=1),MIN(E978,E1391*('Base Numbers'!$C$5*'Base Numbers'!$C$6)),0)","v":0},{"$f":"IF(AND(F18<11,F18>=3,F76>=1),MIN(F978,F1391*('Base Numbers'!$C$5*'Base Numbers'!$C$6)),0)","v":0},{"$f":"IF(AND(G18<11,G18>=3,G76>=1),MIN(G978,G1391*('Base Numbers'!$C$5*'Base Numbers'!$C$6)),0)","v":0},{"$f":"IF(AND(H18<11,H18>=3,H76>=1),MIN(H978,H1391*('Base Numbers'!$C$5*'Base Numbers'!$C$6)),0)","v":0},{"$f":"IF(AND(I18<11,I18>=3,I76>=1),MIN(I978,I1391*('Base Numbers'!$C$5*'Base Numbers'!$C$6)),0)","v":0},{"$f":"IF(AND(J18<11,J18>=3,J76>=1),MIN(J978,J1391*('Base Numbers'!$C$5*'Base Numbers'!$C$6)),0)","v":0},{"$f":"IF(AND(K18<11,K18>=3,K76>=1),MIN(K978,K1391*('Base Numbers'!$C$5*'Base Numbers'!$C$6)),0)","v":0},{"$f":"IF(AND(L18<11,L18>=3,L76>=1),MIN(L978,L1391*('Base Numbers'!$C$5*'Base Numbers'!$C$6)),0)","v":0},{"$f":"IF(AND(M18<11,M18>=3,M76>=1),MIN(M978,M1391*('Base Numbers'!$C$5*'Base Numbers'!$C$6)),0)","v":0},{"$f":"IF(AND(N18<11,N18>=3,N76>=1),MIN(N978,N1391*('Base Numbers'!$C$5*'Base Numbers'!$C$6)),0)","v":0},{"$f":"IF(AND(O18<11,O18>=3,O76>=1),MIN(O978,O1391*('Base Numbers'!$C$5*'Base Numbers'!$C$6)),0)","v":0},{"$f":"IF(AND(P18<11,P18>=3,P76>=1),MIN(P978,P1391*('Base Numbers'!$C$5*'Base Numbers'!$C$6)),0)","v":0},{"$f":"IF(AND(Q18<11,Q18>=3,Q76>=1),MIN(Q978,Q1391*('Base Numbers'!$C$5*'Base Numbers'!$C$6)),0)","v":0},{"$f":"IF(AND(R18<11,R18>=3,R76>=1),MIN(R978,R1391*('Base Numbers'!$C$5*'Base Numbers'!$C$6)),0)","v":0},{"$f":"IF(AND(S18<11,S18>=3,S76>=1),MIN(S978,S1391*('Base Numbers'!$C$5*'Base Numbers'!$C$6)),0)","v":0},{"$f":"IF(AND(T18<11,T18>=3,T76>=1),MIN(T978,T1391*('Base Numbers'!$C$5*'Base Numbers'!$C$6)),0)","v":0},{"$f":"IF(AND(U18<11,U18>=3,U76>=1),MIN(U978,U1391*('Base Numbers'!$C$5*'Base Numbers'!$C$6)),0)","v":0},{"$f":"IF(AND(V18<11,V18>=3,V76>=1),MIN(V978,V1391*('Base Numbers'!$C$5*'Base Numbers'!$C$6)),0)","v":0},{"$f":"IF(AND(W18<11,W18>=3,W76>=1),MIN(W978,W1391*('Base Numbers'!$C$5*'Base Numbers'!$C$6)),0)","v":0},{"$f":"IF(AND(X18<11,X18>=3,X76>=1),MIN(X978,X1391*('Base Numbers'!$C$5*'Base Numbers'!$C$6)),0)","v":0}]
[{"$nulls":3},"hands of harm damage per day",{"$f":"IF(AND(E18<11,E18>=3,E76>=1),MIN(E978,E1391*('Base Numbers'!$C$5*'Base Numbers'!$C$6))*E979,IF(AND(E18>=11,E76>=1),MIN(E974,E1391*('Base Numbers'!$C$5*'Base Numbers'!$C$6))*E979,0))","v":0},{"$f":"IF(AND(F18<11,F18>=3,F76>=1),MIN(F978,F1391*('Base Numbers'!$C$5*'Base Numbers'!$C$6))*F979,IF(AND(F18>=11,F76>=1),MIN(F974,F1391*('Base Numbers'!$C$5*'Base Numbers'!$C$6))*F979,0))","v":0},{"$f":"IF(AND(G18<11,G18>=3,G76>=1),MIN(G978,G1391*('Base Numbers'!$C$5*'Base Numbers'!$C$6))*G979,IF(AND(G18>=11,G76>=1),MIN(G974,G1391*('Base Numbers'!$C$5*'Base Numbers'!$C$6))*G979,0))","v":0},{"$f":"IF(AND(H18<11,H18>=3,H76>=1),MIN(H978,H1391*('Base Numbers'!$C$5*'Base Numbers'!$C$6))*H979,IF(AND(H18>=11,H76>=1),MIN(H974,H1391*('Base Numbers'!$C$5*'Base Numbers'!$C$6))*H979,0))","v":0},{"$f":"IF(AND(I18<11,I18>=3,I76>=1),MIN(I978,I1391*('Base Numbers'!$C$5*'Base Numbers'!$C$6))*I979,IF(AND(I18>=11,I76>=1),MIN(I974,I1391*('Base Numbers'!$C$5*'Base Numbers'!$C$6))*I979,0))","v":0},{"$f":"IF(AND(J18<11,J18>=3,J76>=1),MIN(J978,J1391*('Base Numbers'!$C$5*'Base Numbers'!$C$6))*J979,IF(AND(J18>=11,J76>=1),MIN(J974,J1391*('Base Numbers'!$C$5*'Base Numbers'!$C$6))*J979,0))","v":0},{"$f":"IF(AND(K18<11,K18>=3,K76>=1),MIN(K978,K1391*('Base Numbers'!$C$5*'Base Numbers'!$C$6))*K979,IF(AND(K18>=11,K76>=1),MIN(K974,K1391*('Base Numbers'!$C$5*'Base Numbers'!$C$6))*K979,0))","v":0},{"$f":"IF(AND(L18<11,L18>=3,L76>=1),MIN(L978,L1391*('Base Numbers'!$C$5*'Base Numbers'!$C$6))*L979,IF(AND(L18>=11,L76>=1),MIN(L974,L1391*('Base Numbers'!$C$5*'Base Numbers'!$C$6))*L979,0))","v":0},{"$f":"IF(AND(M18<11,M18>=3,M76>=1),MIN(M978,M1391*('Base Numbers'!$C$5*'Base Numbers'!$C$6))*M979,IF(AND(M18>=11,M76>=1),MIN(M974,M1391*('Base Numbers'!$C$5*'Base Numbers'!$C$6))*M979,0))","v":0},{"$f":"IF(AND(N18<11,N18>=3,N76>=1),MIN(N978,N1391*('Base Numbers'!$C$5*'Base Numbers'!$C$6))*N979,IF(AND(N18>=11,N76>=1),MIN(N974,N1391*('Base Numbers'!$C$5*'Base Numbers'!$C$6))*N979,0))","v":0},{"$f":"IF(AND(O18<11,O18>=3,O76>=1),MIN(O978,O1391*('Base Numbers'!$C$5*'Base Numbers'!$C$6))*O979,IF(AND(O18>=11,O76>=1),MIN(O974,O1391*('Base Numbers'!$C$5*'Base Numbers'!$C$6))*O979,0))","v":0},{"$f":"IF(AND(P18<11,P18>=3,P76>=1),MIN(P978,P1391*('Base Numbers'!$C$5*'Base Numbers'!$C$6))*P979,IF(AND(P18>=11,P76>=1),MIN(P974,P1391*('Base Numbers'!$C$5*'Base Numbers'!$C$6))*P979,0))","v":0},{"$f":"IF(AND(Q18<11,Q18>=3,Q76>=1),MIN(Q978,Q1391*('Base Numbers'!$C$5*'Base Numbers'!$C$6))*Q979,IF(AND(Q18>=11,Q76>=1),MIN(Q974,Q1391*('Base Numbers'!$C$5*'Base Numbers'!$C$6))*Q979,0))","v":0},{"$f":"IF(AND(R18<11,R18>=3,R76>=1),MIN(R978,R1391*('Base Numbers'!$C$5*'Base Numbers'!$C$6))*R979,IF(AND(R18>=11,R76>=1),MIN(R974,R1391*('Base Numbers'!$C$5*'Base Numbers'!$C$6))*R979,0))","v":0},{"$f":"IF(AND(S18<11,S18>=3,S76>=1),MIN(S978,S1391*('Base Numbers'!$C$5*'Base Numbers'!$C$6))*S979,IF(AND(S18>=11,S76>=1),MIN(S974,S1391*('Base Numbers'!$C$5*'Base Numbers'!$C$6))*S979,0))","v":0},{"$f":"IF(AND(T18<11,T18>=3,T76>=1),MIN(T978,T1391*('Base Numbers'!$C$5*'Base Numbers'!$C$6))*T979,IF(AND(T18>=11,T76>=1),MIN(T974,T1391*('Base Numbers'!$C$5*'Base Numbers'!$C$6))*T979,0))","v":0},{"$f":"IF(AND(U18<11,U18>=3,U76>=1),MIN(U978,U1391*('Base Numbers'!$C$5*'Base Numbers'!$C$6))*U979,IF(AND(U18>=11,U76>=1),MIN(U974,U1391*('Base Numbers'!$C$5*'Base Numbers'!$C$6))*U979,0))","v":0},{"$f":"IF(AND(V18<11,V18>=3,V76>=1),MIN(V978,V1391*('Base Numbers'!$C$5*'Base Numbers'!$C$6))*V979,IF(AND(V18>=11,V76>=1),MIN(V974,V1391*('Base Numbers'!$C$5*'Base Numbers'!$C$6))*V979,0))","v":0},{"$f":"IF(AND(W18<11,W18>=3,W76>=1),MIN(W978,W1391*('Base Numbers'!$C$5*'Base Numbers'!$C$6))*W979,IF(AND(W18>=11,W76>=1),MIN(W974,W1391*('Base Numbers'!$C$5*'Base Numbers'!$C$6))*W979,0))","v":0},{"$f":"IF(AND(X18<11,X18>=3,X76>=1),MIN(X978,X1391*('Base Numbers'!$C$5*'Base Numbers'!$C$6))*X979,IF(AND(X18>=11,X76>=1),MIN(X974,X1391*('Base Numbers'!$C$5*'Base Numbers'!$C$6))*X979,0))","v":0}]
[{"$nulls":3},"remaining Ki after deft strike & hands of harm",{"$f":"E978-E980","v":0},{"$f":"F978-F980","v":0},0,0,0,0,0,0,0,0,0,0,0,0,0,0,0,0,0,0]
[{"$nulls":3},"avg focused aim damage per Ki point (10% of a hit)",{"$f":"IF(E18>=5,0.1*(E509+E512),0)","v":0},0,0,0,0,0,0,0,0,0,0,0,0,0,0,0,0,0,0,0]
[{"$nulls":3},"total focused aim damage per day",{"$f":"E983*E982","v":0},{"$f":"F983*F982","v":0},0,0,0,0,0,0,0,0,0,0,0,0,0,0,0,0,0,0]
[{"$nulls":3},"kensei unerring accuracy damage per round (L17)",{"$f":"IF(AND(E18>=17,E75>=1),E1397,0)*(E528+E529)","v":0},0,0,0,0,0,0,0,0,0,0,0,0,0,0,0,0,0,0,0]
[{"$nulls":3},"total bonus monk damage",{"$f":"E985+(E984+E976+E981)/('Base Numbers'!$C$5*'Base Numbers'!$C$6)","v":0},{"$f":"F985+(F984+F976+F981)/('Base Numbers'!$C$5*'Base Numbers'!$C$6)","v":0},{"$f":"G985+(G984+G976+G981)/('Base Numbers'!$C$5*'Base Numbers'!$C$6)","v":0},{"$f":"H985+(H984+H976+H981)/('Base Numbers'!$C$5*'Base Numbers'!$C$6)","v":0},{"$f":"I985+(I984+I976+I981)/('Base Numbers'!$C$5*'Base Numbers'!$C$6)","v":0},{"$f":"J985+(J984+J976+J981)/('Base Numbers'!$C$5*'Base Numbers'!$C$6)","v":0},{"$f":"K985+(K984+K976+K981)/('Base Numbers'!$C$5*'Base Numbers'!$C$6)","v":0},{"$f":"L985+(L984+L976+L981)/('Base Numbers'!$C$5*'Base Numbers'!$C$6)","v":0},{"$f":"M985+(M984+M976+M981)/('Base Numbers'!$C$5*'Base Numbers'!$C$6)","v":0},{"$f":"N985+(N984+N976+N981)/('Base Numbers'!$C$5*'Base Numbers'!$C$6)","v":0},{"$f":"O985+(O984+O976+O981)/('Base Numbers'!$C$5*'Base Numbers'!$C$6)","v":0},{"$f":"P985+(P984+P976+P981)/('Base Numbers'!$C$5*'Base Numbers'!$C$6)","v":0},{"$f":"Q985+(Q984+Q976+Q981)/('Base Numbers'!$C$5*'Base Numbers'!$C$6)","v":0},{"$f":"R985+(R984+R976+R981)/('Base Numbers'!$C$5*'Base Numbers'!$C$6)","v":0},{"$f":"S985+(S984+S976+S981)/('Base Numbers'!$C$5*'Base Numbers'!$C$6)","v":0},{"$f":"T985+(T984+T976+T981)/('Base Numbers'!$C$5*'Base Numbers'!$C$6)","v":0},{"$f":"U985+(U984+U976+U981)/('Base Numbers'!$C$5*'Base Numbers'!$C$6)","v":0},{"$f":"V985+(V984+V976+V981)/('Base Numbers'!$C$5*'Base Numbers'!$C$6)","v":0},{"$f":"W985+(W984+W976+W981)/('Base Numbers'!$C$5*'Base Numbers'!$C$6)","v":0},{"$f":"X985+(X984+X976+X981)/('Base Numbers'!$C$5*'Base Numbers'!$C$6)","v":0}]
[]
[{"$nulls":3},"BARBARIAN DAMAGE"]
[{"$nulls":3},"rages per day (bonus action)",{"$f":"IF(E8>=17,6,IF(E8>=12,5,IF(E8>=6,4,IF(E8>=3,3,IF(E8>=1,2,0)))))","v":0},0,0,0,0,0,0,0,0,0,0,0,0,0,0,0,0,0,0,0]
[{"$nulls":3},"average rage length ",{"$f":"IF(E8>=15,1,0.85)","v":0.85},0.85,0.85,0.85,0.85,0.85,0.85,0.85,0.85,0.85,0.85,0.85,0.85,0.85,0.85,0.85,0.85,0.85,0.85,0.85]
[{"$nulls":3},"pct of rounds spent spellcasting or concentrating",{"$f":"MAX(E277,E309)/('Base Numbers'!$C$5*'Base Numbers'!$C$6)","v":0},{"$f":"MAX(F277,F309)/('Base Numbers'!$C$5*'Base Numbers'!$C$6)","v":0},{"$f":"MAX(G277,G309)/('Base Numbers'!$C$5*'Base Numbers'!$C$6)","v":0},{"$f":"MAX(H277,H309)/('Base Numbers'!$C$5*'Base Numbers'!$C$6)","v":0},{"$f":"MAX(I277,I309)/('Base Numbers'!$C$5*'Base Numbers'!$C$6)","v":0},{"$f":"MAX(J277,J309)/('Base Numbers'!$C$5*'Base Numbers'!$C$6)","v":0},{"$f":"MAX(K277,K309)/('Base Numbers'!$C$5*'Base Numbers'!$C$6)","v":0},{"$f":"MAX(L277,L309)/('Base Numbers'!$C$5*'Base Numbers'!$C$6)","v":0},{"$f":"MAX(M277,M309)/('Base Numbers'!$C$5*'Base Numbers'!$C$6)","v":0},{"$f":"MAX(N277,N309)/('Base Numbers'!$C$5*'Base Numbers'!$C$6)","v":0},{"$f":"MAX(O277,O309)/('Base Numbers'!$C$5*'Base Numbers'!$C$6)","v":0},{"$f":"MAX(P277,P309)/('Base Numbers'!$C$5*'Base Numbers'!$C$6)","v":0},{"$f":"MAX(Q277,Q309)/('Base Numbers'!$C$5*'Base Numbers'!$C$6)","v":0},{"$f":"MAX(R277,R309)/('Base Numbers'!$C$5*'Base Numbers'!$C$6)","v":0},{"$f":"MAX(S277,S309)/('Base Numbers'!$C$5*'Base Numbers'!$C$6)","v":0},{"$f":"MAX(T277,T309)/('Base Numbers'!$C$5*'Base Numbers'!$C$6)","v":0},{"$f":"MAX(U277,U309)/('Base Numbers'!$C$5*'Base Numbers'!$C$6)","v":0},{"$f":"MAX(V277,V309)/('Base Numbers'!$C$5*'Base Numbers'!$C$6)","v":0},{"$f":"MAX(W277,W309)/('Base Numbers'!$C$5*'Base Numbers'!$C$6)","v":0},{"$f":"MAX(X277,X309)/('Base Numbers'!$C$5*'Base Numbers'!$C$6)","v":0}]
[{"$nulls":3},"pct of rounds spent raging",{"$f":"MAX(0,MIN(1-E991,E990*E989/'Base Numbers'!$C$5))","v":0},{"$f":"MAX(0,MIN(1-F991,F990*F989/'Base Numbers'!$C$5))","v":0},{"$f":"MAX(0,MIN(1-G991,G990*G989/'Base Numbers'!$C$5))","v":0},{"$f":"MAX(0,MIN(1-H991,H990*H989/'Base Numbers'!$C$5))","v":0},{"$f":"MAX(0,MIN(1-I991,I990*I989/'Base Numbers'!$C$5))","v":0},{"$f":"MAX(0,MIN(1-J991,J990*J989/'Base Numbers'!$C$5))","v":0},{"$f":"MAX(0,MIN(1-K991,K990*K989/'Base Numbers'!$C$5))","v":0},{"$f":"MAX(0,MIN(1-L991,L990*L989/'Base Numbers'!$C$5))","v":0},{"$f":"MAX(0,MIN(1-M991,M990*M989/'Base Numbers'!$C$5))","v":0},{"$f":"MAX(0,MIN(1-N991,N990*N989/'Base Numbers'!$C$5))","v":0},{"$f":"MAX(0,MIN(1-O991,O990*O989/'Base Numbers'!$C$5))","v":0},{"$f":"MAX(0,MIN(1-P991,P990*P989/'Base Numbers'!$C$5))","v":0},{"$f":"MAX(0,MIN(1-Q991,Q990*Q989/'Base Numbers'!$C$5))","v":0},{"$f":"MAX(0,MIN(1-R991,R990*R989/'Base Numbers'!$C$5))","v":0},{"$f":"MAX(0,MIN(1-S991,S990*S989/'Base Numbers'!$C$5))","v":0},{"$f":"MAX(0,MIN(1-T991,T990*T989/'Base Numbers'!$C$5))","v":0},{"$f":"MAX(0,MIN(1-U991,U990*U989/'Base Numbers'!$C$5))","v":0},{"$f":"MAX(0,MIN(1-V991,V990*V989/'Base Numbers'!$C$5))","v":0},{"$f":"MAX(0,MIN(1-W991,W990*W989/'Base Numbers'!$C$5))","v":0},{"$f":"MAX(0,MIN(1-X991,X990*X989/'Base Numbers'!$C$5))","v":0}]
[{"$nulls":3},"average static rage damage bonus (can't apply to BB or GFB)",{"$f":"IF(AND(E134,E137=0),1,0)*IF(E8>=16, 4, IF(E8>=9,3,IF(E8>=1,2,0)))*E992","v":0},0,0,0,0,0,0,0,0,0,0,0,0,0,0,0,0,0,0,0,null,"* melee only, STR attacks only"]
[{"$nulls":3},"brutal criticals",{"$f":"IF(E8>=17,3,IF(E8>=13,2,IF(E8>=9,1,0)))","v":0},0,0,0,0,0,0,0,0,0,0,0,0,0,0,0,0,0,0,0]
[{"$nulls":3},"divine fury (Zealot) bonus damage per round",{"$f":"IF(AND(E8>=3,E63>=1),3.5+ROUNDDOWN(E8/2,0),0)","v":0},0,0,0,0,0,0,0,0,0,0,0,0,0,0,0,0,0,0,0]
[{"$nulls":3},"avg divine fury (Zealot) bonus damage per round (incl hit chance)",{"$f":"E995*E1391","v":0},0,0,0,0,0,0,0,0,0,0,0,0,0,0,0,0,0,0,0]
[{"$nulls":3},"total divine fury (Zealot) bonus crit damage per round",{"$f":"IF(AND(E8>=3,E63>=1),3.5*E474,0)","v":0},0,0,0,0,0,0,0,0,0,0,0,0,0,0,0,0,0,0,0]
[{"$nulls":3},"vengeful ancestors frequency",{"$f":"IF(AND(E8>=14,E64>=1),1-E361,0)","v":0},0,0,0,0,0,0,0,0,0,0,0,0,0,0,0,0,0,0,0]
[{"$nulls":3},"vengeful ancestors damage (Ancestral Guardian, L14)",{"$f":"IF(AND(E8>=14,E64>=1),14,0)","v":0},0,0,0,0,0,0,0,0,0,0,0,0,0,0,0,0,0,0,0]
[{"$nulls":3},"avg veng ancestors damage per round",{"$f":"E998*E999*E992","v":0},0,0,0,0,0,0,0,0,0,0,0,0,0,0,0,0,0,0,0]
[{"$nulls":3},"beast barb claw avg weapon damage",{"$f":"IF(AND(E8>=3,E65>=1),3.5,0)","v":0},0,0,0,0,0,0,0,0,0,0,0,0,0,0,0,0,0,0,0]
[{"$nulls":3},"beast barb claw static damage bonuses",{"$f":"E484+E30+E493+'Base Numbers'!$G$6+E498+E993","v":3},{"$f":"F484+F30+F493+'Base Numbers'!$G$6+F498+F993","v":3},{"$f":"G484+G30+G493+'Base Numbers'!$G$6+G498+G993","v":3},{"$f":"H484+H30+H493+'Base Numbers'!$G$6+H498+H993","v":3},{"$f":"I484+I30+I493+'Base Numbers'!$G$6+I498+I993","v":3},{"$f":"J484+J30+J493+'Base Numbers'!$G$6+J498+J993","v":3},{"$f":"K484+K30+K493+'Base Numbers'!$G$6+K498+K993","v":3},{"$f":"L484+L30+L493+'Base Numbers'!$G$6+L498+L993","v":3},{"$f":"M484+M30+M493+'Base Numbers'!$G$6+M498+M993","v":3},{"$f":"N484+N30+N493+'Base Numbers'!$G$6+N498+N993","v":3},{"$f":"O484+O30+O493+'Base Numbers'!$G$6+O498+O993","v":3},{"$f":"P484+P30+P493+'Base Numbers'!$G$6+P498+P993","v":3},{"$f":"Q484+Q30+Q493+'Base Numbers'!$G$6+Q498+Q993","v":3},{"$f":"R484+R30+R493+'Base Numbers'!$G$6+R498+R993","v":3},{"$f":"S484+S30+S493+'Base Numbers'!$G$6+S498+S993","v":3},{"$f":"T484+T30+T493+'Base Numbers'!$G$6+T498+T993","v":3},{"$f":"U484+U30+U493+'Base Numbers'!$G$6+U498+U993","v":3},{"$f":"V484+V30+V493+'Base Numbers'!$G$6+V498+V993","v":3},{"$f":"W484+W30+W493+'Base Numbers'!$G$6+W498+W993","v":3},{"$f":"X484+X30+X493+'Base Numbers'!$G$6+X498+X993","v":3}]
[{"$nulls":3},"beast barb claw dice damage bonuses",{"$f":"E483","v":0},0,0,0,0,0,0,0,0,0,0,0,0,0,0,0,0,0,0,0]
[{"$nulls":3},"beast barb claw hit chance",{"$f":"E456","v":0.65},0.65,0.6,0.6,0.65,0.6,0.6,0.6,0.6,0.6,0.6,0.55,0.6,0.6,0.55,0.55,0.6,0.55,0.55,0.55]
[{"$nulls":3},"beast barb claw crit chance",{"$f":"E470","v":0.05},0.05,0.05,0.05,0.05,0.05,0.05,0.05,0.05,0.05,0.05,0.05,0.05,0.05,0.05,0.05,0.05,0.05,0.05,0.05]
[{"$nulls":3},"beast barb damage (2 attacks)",{"$f":"2*(E1004*(E1001+E1002+E1003)+E1005*(E1001+E1003+E516))","v":3.9000000000000004},3.9000000000000004,3.5999999999999996,3.5999999999999996,3.9000000000000004,3.5999999999999996,3.5999999999999996,3.5999999999999996,3.5999999999999996,3.5999999999999996,3.5999999999999996,3.3000000000000003,3.5999999999999996,3.5999999999999996,3.3000000000000003,3.3000000000000003,3.5999999999999996,3.3000000000000003,3.3000000000000003,3.3000000000000003]
[{"$nulls":3},"number of main attacks replaced by beast claws",1,1,1,1,1,1,1,1,1,1,1,1,1,1,1,1,1,1,1,1,null,"GWM bonus attacks should still work, just with reduced likelihood"]
[{"$nulls":3},"pct of bonus attacks remaining with beast barb claw attacks ",{"$f":"IF(AND(E18>=1,E322-E1007>=1),1,IF(E312,1,0)+IF(E24,(E322-1)/E322*E326,0))","v":0},0,0,0,0,0,0,0,0,0,0,0,0,0,0,0,0,0,0,0,null,"* a dual weilding beast with extra attack can make a bonus offhand weapon attack"]
[{"$nulls":3},"total potential weapon damage replaced by beast claws",{"$f":"IF(E1376>0,E1007*(E1373/E1376),0)+(1-E1008)*E1374","v":4.4},4.4,4.075,4.075,4.4,4.075,4.075,4.075,4.075,4.075,4.075,3.75,4.075,4.075,3.75,3.75,4.075,3.75,3.75,3.75,null,"   at the cost of their object interaction by stowing and drawing the offhand weapon"]
[{"$nulls":3},"net beast claw damage difference",{"$f":"IF(AND(E8>=3,E65>=1),E1006-E1009,0)","v":0},0,0,0,0,0,0,0,0,0,0,0,0,0,0,0,0,0,0,0,null,"   on alternate turns."]
[{"$nulls":3},"beast barb Infectious Fury uses",{"$f":"IF(AND(E8>=10,E65>=1),E35,0)","v":0},0,0,0,0,0,0,0,0,0,0,0,0,0,0,0,0,0,0,0,null,"monk interaction here; bonus actions from monk rely on attacking with a weapon"]
[{"$nulls":3},"beast barb avg Infectious Fury dmg per use (WIS save)",{"$f":"13*(1-(20-8-E30-E35+1+'Caster Tables'!C$77)/20)","v":8.125},{"$f":"13*(1-(20-8-F30-F35+1+'Caster Tables'!D$77)/20)","v":7.8},{"$f":"13*(1-(20-8-G30-G35+1+'Caster Tables'!E$77)/20)","v":7.475},{"$f":"13*(1-(20-8-H30-H35+1+'Caster Tables'!F$77)/20)","v":7.15},{"$f":"13*(1-(20-8-I30-I35+1+'Caster Tables'!G$77)/20)","v":7.475},{"$f":"13*(1-(20-8-J30-J35+1+'Caster Tables'!H$77)/20)","v":7.15},{"$f":"13*(1-(20-8-K30-K35+1+'Caster Tables'!I$77)/20)","v":6.825},{"$f":"13*(1-(20-8-L30-L35+1+'Caster Tables'!J$77)/20)","v":6.5},{"$f":"13*(1-(20-8-M30-M35+1+'Caster Tables'!K$77)/20)","v":6.825},{"$f":"13*(1-(20-8-N30-N35+1+'Caster Tables'!L$77)/20)","v":6.5},{"$f":"13*(1-(20-8-O30-O35+1+'Caster Tables'!M$77)/20)","v":6.175},{"$f":"13*(1-(20-8-P30-P35+1+'Caster Tables'!N$77)/20)","v":5.85},{"$f":"13*(1-(20-8-Q30-Q35+1+'Caster Tables'!O$77)/20)","v":6.175},{"$f":"13*(1-(20-8-R30-R35+1+'Caster Tables'!P$77)/20)","v":5.85},{"$f":"13*(1-(20-8-S30-S35+1+'Caster Tables'!Q$77)/20)","v":5.525},{"$f":"13*(1-(20-8-T30-T35+1+'Caster Tables'!R$77)/20)","v":5.2},{"$f":"13*(1-(20-8-U30-U35+1+'Caster Tables'!S$77)/20)","v":5.525},{"$f":"13*(1-(20-8-V30-V35+1+'Caster Tables'!T$77)/20)","v":5.2},{"$f":"13*(1-(20-8-W30-W35+1+'Caster Tables'!U$77)/20)","v":4.875},{"$f":"13*(1-(20-8-X30-X35+1+'Caster Tables'!V$77)/20)","v":4.55}]
[{"$nulls":3},"beast barb avg Infectious Fury dmg per day",{"$f":"E1011*E1012/('Base Numbers'!$C$5*'Base Numbers'!$C$6)","v":0},{"$f":"F1011*F1012/('Base Numbers'!$C$5*'Base Numbers'!$C$6)","v":0},{"$f":"G1011*G1012/('Base Numbers'!$C$5*'Base Numbers'!$C$6)","v":0},{"$f":"H1011*H1012/('Base Numbers'!$C$5*'Base Numbers'!$C$6)","v":0},{"$f":"I1011*I1012/('Base Numbers'!$C$5*'Base Numbers'!$C$6)","v":0},{"$f":"J1011*J1012/('Base Numbers'!$C$5*'Base Numbers'!$C$6)","v":0},{"$f":"K1011*K1012/('Base Numbers'!$C$5*'Base Numbers'!$C$6)","v":0},{"$f":"L1011*L1012/('Base Numbers'!$C$5*'Base Numbers'!$C$6)","v":0},{"$f":"M1011*M1012/('Base Numbers'!$C$5*'Base Numbers'!$C$6)","v":0},{"$f":"N1011*N1012/('Base Numbers'!$C$5*'Base Numbers'!$C$6)","v":0},{"$f":"O1011*O1012/('Base Numbers'!$C$5*'Base Numbers'!$C$6)","v":0},{"$f":"P1011*P1012/('Base Numbers'!$C$5*'Base Numbers'!$C$6)","v":0},{"$f":"Q1011*Q1012/('Base Numbers'!$C$5*'Base Numbers'!$C$6)","v":0},{"$f":"R1011*R1012/('Base Numbers'!$C$5*'Base Numbers'!$C$6)","v":0},{"$f":"S1011*S1012/('Base Numbers'!$C$5*'Base Numbers'!$C$6)","v":0},{"$f":"T1011*T1012/('Base Numbers'!$C$5*'Base Numbers'!$C$6)","v":0},{"$f":"U1011*U1012/('Base Numbers'!$C$5*'Base Numbers'!$C$6)","v":0},{"$f":"V1011*V1012/('Base Numbers'!$C$5*'Base Numbers'!$C$6)","v":0},{"$f":"W1011*W1012/('Base Numbers'!$C$5*'Base Numbers'!$C$6)","v":0},{"$f":"X1011*X1012/('Base Numbers'!$C$5*'Base Numbers'!$C$6)","v":0}]
[{"$nulls":3},"total additional barbarian damage",{"$f":"E996+E997+E1000+E1010*E992+E1013","v":0},0,0,0,0,0,0,0,0,0,{"$f":"O996+O997+O1000+O1010*O992+O1013","v":0},0,0,0,0,0,0,0,0,0]
[]
[{"$nulls":3},"ROGUE DAMAGE"]
[{"$nulls":3},"sneak attack damage (requires ranged or finesse weapon)",{"$f":"IF(OR(E24>=1,E26>=1,$B$35>=1,$B$36>=1,$B$37>=1),0,CEILING(E11/2,1)*3.5)","v":0},0,0,0,0,0,0,0,0,0,0,0,0,0,0,0,0,0,0,0,null,"does work with gfb and bb"]
[{"$nulls":3},"base sneak attack availability",{"$f":"MAX(E444,'Base Numbers'!$G$14, IF(AND(E11>=3,E69),1,0))","v":0.8},{"$f":"MAX(F444,'Base Numbers'!$G$14)","v":0.8},{"$f":"MAX(G444,'Base Numbers'!$G$14)","v":0.8},{"$f":"MAX(H444,'Base Numbers'!$G$14)","v":0.8},{"$f":"MAX(I444,'Base Numbers'!$G$14)","v":0.8},{"$f":"MAX(J444,'Base Numbers'!$G$14)","v":0.8},{"$f":"MAX(K444,'Base Numbers'!$G$14)","v":0.8},{"$f":"MAX(L444,'Base Numbers'!$G$14)","v":0.8},{"$f":"MAX(M444,'Base Numbers'!$G$14)","v":0.8},{"$f":"MAX(N444,'Base Numbers'!$G$14)","v":0.8},{"$f":"MAX(O444,'Base Numbers'!$G$14)","v":0.8},{"$f":"MAX(P444,'Base Numbers'!$G$14)","v":0.8},{"$f":"MAX(Q444,'Base Numbers'!$G$14)","v":0.8},{"$f":"MAX(R444,'Base Numbers'!$G$14)","v":0.8},{"$f":"MAX(S444,'Base Numbers'!$G$14)","v":0.8},{"$f":"MAX(T444,'Base Numbers'!$G$14)","v":0.8},{"$f":"MAX(U444,'Base Numbers'!$G$14)","v":0.8},{"$f":"MAX(V444,'Base Numbers'!$G$14)","v":0.8},{"$f":"MAX(W444,'Base Numbers'!$G$14)","v":0.8},{"$f":"MAX(X444,'Base Numbers'!$G$14)","v":0.8}]
[{"$nulls":3},"total sneak attack availability",{"$f":"MIN(1,MAX(E403+E1018,E444))","v":0.8},0.8,0.8,0.8,0.8,0.8,0.8,0.8,0.8,0.8,0.8,0.8,0.8,0.8,0.8,0.8,0.8,0.8,0.8,0.8]
[{"$nulls":3},"number of qualifying attacks per round (everything but opp)",{"$f":"IF(E137=0,E1362-E361,E576+E578)","v":0.75},0.75,0.75,0.75,0.75,0.75,0.75,0.75,0.75,0.75,0.75,0.75,0.75,0.75,0.75,0.75,0.75,0.75,0.75,0.75]
[{"$nulls":3},"prob at least 1 qualifying hit per round",{"$f":"E1391","v":0.65},{"$f":"F1391","v":0.65},0.6,0.6,0.65,0.6,0.6,0.6,0.6,0.6,0.6,0.55,0.6,0.6,0.55,0.55,0.6,0.55,0.55,0.55]
[{"$nulls":3},"own turn avg sneak damage",{"$f":"E1019*E1021*E1017","v":0},{"$f":"F1019*F1021*F1017","v":0},0,0,0,0,0,0,0,0,0,0,0,0,0,0,0,{"$f":"V1019*V1021*V1017","v":0},0,0]
[{"$nulls":3},"bonus sneak crit damage",{"$f":"IF(E137=0,E469,(E598*(1-E583)+E583*E599))*E1017*E1391","v":0},0,0,0,0,0,0,0,0,0,0,0,0,0,0,0,0,0,0,0]
[{"$nulls":3},"prob opp attack hit (includes riposte)",{"$f":"E458*E1378","v":0.1625},0.1625,0.15,0.15,0.1625,0.15,0.15,0.15,0.15,0.15,0.15,0.1375,0.15,0.15,0.1375,0.1375,0.15,0.1375,0.1375,0.1375]
[{"$nulls":3},"prob sneak attack available on opp attack",{"$f":"MAX(E448,0.33*'Base Numbers'!$G$14, IF(AND(E11>=3,E69),0.75*'Base Numbers'!$G$14,0))","v":0.264},{"$f":"MAX(F448,0.33*'Base Numbers'!$G$14, IF(AND(F11>=3,F69),0.75*'Base Numbers'!$G$14,0))","v":0.264},{"$f":"MAX(G448,0.33*'Base Numbers'!$G$14, IF(AND(G11>=3,G69),0.75*'Base Numbers'!$G$14,0))","v":0.264},{"$f":"MAX(H448,0.33*'Base Numbers'!$G$14, IF(AND(H11>=3,H69),0.75*'Base Numbers'!$G$14,0))","v":0.264},{"$f":"MAX(I448,0.33*'Base Numbers'!$G$14, IF(AND(I11>=3,I69),0.75*'Base Numbers'!$G$14,0))","v":0.264},{"$f":"MAX(J448,0.33*'Base Numbers'!$G$14, IF(AND(J11>=3,J69),0.75*'Base Numbers'!$G$14,0))","v":0.264},{"$f":"MAX(K448,0.33*'Base Numbers'!$G$14, IF(AND(K11>=3,K69),0.75*'Base Numbers'!$G$14,0))","v":0.264},{"$f":"MAX(L448,0.33*'Base Numbers'!$G$14, IF(AND(L11>=3,L69),0.75*'Base Numbers'!$G$14,0))","v":0.264},{"$f":"MAX(M448,0.33*'Base Numbers'!$G$14, IF(AND(M11>=3,M69),0.75*'Base Numbers'!$G$14,0))","v":0.264},{"$f":"MAX(N448,0.33*'Base Numbers'!$G$14, IF(AND(N11>=3,N69),0.75*'Base Numbers'!$G$14,0))","v":0.264},{"$f":"MAX(O448,0.33*'Base Numbers'!$G$14, IF(AND(O11>=3,O69),0.75*'Base Numbers'!$G$14,0))","v":0.264},{"$f":"MAX(P448,0.33*'Base Numbers'!$G$14, IF(AND(P11>=3,P69),0.75*'Base Numbers'!$G$14,0))","v":0.264},{"$f":"MAX(Q448,0.33*'Base Numbers'!$G$14, IF(AND(Q11>=3,Q69),0.75*'Base Numbers'!$G$14,0))","v":0.264},{"$f":"MAX(R448,0.33*'Base Numbers'!$G$14, IF(AND(R11>=3,R69),0.75*'Base Numbers'!$G$14,0))","v":0.264},{"$f":"MAX(S448,0.33*'Base Numbers'!$G$14, IF(AND(S11>=3,S69),0.75*'Base Numbers'!$G$14,0))","v":0.264},{"$f":"MAX(T448,0.33*'Base Numbers'!$G$14, IF(AND(T11>=3,T69),0.75*'Base Numbers'!$G$14,0))","v":0.264},{"$f":"MAX(U448,0.33*'Base Numbers'!$G$14, IF(AND(U11>=3,U69),0.75*'Base Numbers'!$G$14,0))","v":0.264},{"$f":"MAX(V448,0.33*'Base Numbers'!$G$14, IF(AND(V11>=3,V69),0.75*'Base Numbers'!$G$14,0))","v":0.264},{"$f":"MAX(W448,0.33*'Base Numbers'!$G$14, IF(AND(W11>=3,W69),0.75*'Base Numbers'!$G$14,0))","v":0.264},{"$f":"MAX(X448,0.33*'Base Numbers'!$G$14, IF(AND(X11>=3,X69),0.75*'Base Numbers'!$G$14,0))","v":0.264}]
[{"$nulls":3},"bonus opp attack sneak damage",{"$f":"E1025*E1024*E1017","v":0},0,0,0,0,0,0,0,0,0,0,0,0,0,0,0,0,0,0,0]
[{"$nulls":3},"bonus opp att sneak crit damage",{"$f":"IF(E137=0,E1017*E473*E1025*E1024,0)","v":0},0,0,0,0,0,0,0,0,0,0,0,0,0,0,0,0,0,0,0]
[{"$nulls":3},"pct rounds w/o concentration avail for held action",{"$f":"1-E309/('Base Numbers'!$C$5*'Base Numbers'!$C$6)","v":1},{"$f":"1-F309/('Base Numbers'!$C$5*'Base Numbers'!$C$6)","v":1},{"$f":"1-G309/('Base Numbers'!$C$5*'Base Numbers'!$C$6)","v":1},{"$f":"1-H309/('Base Numbers'!$C$5*'Base Numbers'!$C$6)","v":1},{"$f":"1-I309/('Base Numbers'!$C$5*'Base Numbers'!$C$6)","v":1},{"$f":"1-J309/('Base Numbers'!$C$5*'Base Numbers'!$C$6)","v":1},{"$f":"1-K309/('Base Numbers'!$C$5*'Base Numbers'!$C$6)","v":1},{"$f":"1-L309/('Base Numbers'!$C$5*'Base Numbers'!$C$6)","v":1},{"$f":"1-M309/('Base Numbers'!$C$5*'Base Numbers'!$C$6)","v":1},{"$f":"1-N309/('Base Numbers'!$C$5*'Base Numbers'!$C$6)","v":1},{"$f":"1-O309/('Base Numbers'!$C$5*'Base Numbers'!$C$6)","v":1},{"$f":"1-P309/('Base Numbers'!$C$5*'Base Numbers'!$C$6)","v":1},{"$f":"1-Q309/('Base Numbers'!$C$5*'Base Numbers'!$C$6)","v":1},{"$f":"1-R309/('Base Numbers'!$C$5*'Base Numbers'!$C$6)","v":1},{"$f":"1-S309/('Base Numbers'!$C$5*'Base Numbers'!$C$6)","v":1},{"$f":"1-T309/('Base Numbers'!$C$5*'Base Numbers'!$C$6)","v":1},{"$f":"1-U309/('Base Numbers'!$C$5*'Base Numbers'!$C$6)","v":1},{"$f":"1-V309/('Base Numbers'!$C$5*'Base Numbers'!$C$6)","v":1},{"$f":"1-W309/('Base Numbers'!$C$5*'Base Numbers'!$C$6)","v":1},{"$f":"1-X309/('Base Numbers'!$C$5*'Base Numbers'!$C$6)","v":1}]
[{"$nulls":3},"haste action held action sneak attacks",{"$f":"E323","v":0},0,0,0,0,0,0,0,0,0,0,0,0,0,0,0,0,0,0,0,null,"* note haste does allow held action sneak attacks, except that haste is CONC, so doesn't work"]
[{"$nulls":3},"quicken BB sneak - hold action sneak max pct",{"$f":"IF(E1365,MIN(E1028,E565),0)","v":0},0,0,0,0,0,0,0,0,0,0,0,0,0,0,0,0,0,0,0,null,"* Quicken BB alows a bonus action SNEAK with a main action hold to SNEAK on another turn"]
[{"$nulls":3},"quicken BB recomputed chance of hit",{"$f":"E454*E1030+(1-E1030)*E1021","v":0.65},0.65,0.6,0.6,0.65,0.6,0.6,0.6,0.6,0.6,0.6,0.55,0.6,0.6,0.55,0.55,0.6,0.55,0.55,0.55]
[{"$nulls":3},"quicken BB main turn Sneak damage loss for reduced hit chance",{"$f":"MAX(0,E1017*E1019*(E1021-E1031))","v":0},0,0,0,0,0,0,0,0,0,0,0,0,0,0,0,0,0,0,0]
[{"$nulls":3},"modified reaction attack percent ",{"$f":"(1-E1030)*E361","v":0.25},0.25,0.25,0.25,0.25,0.25,0.25,0.25,0.25,0.25,0.25,0.25,0.25,0.25,0.25,0.25,0.25,0.25,0.25,0.25,null,"* This strategy takes a reaction so limits Opp Atts and is limited by Conc-free rounds"]
[{"$nulls":3},"held action sneak damage  (avg per round)",{"$f":"MIN(E1030,E1019)*E1017*E458","v":0},0,0,0,0,0,0,0,0,0,0,0,0,0,0,0,0,0,0,0,null,"* assumes this action is only attempted when you would qualify for sneak attack"]
[{"$nulls":3},"held action sneak damage gain (avg per round)",{"$f":"IF(E1368,0,E1034-IF(E361=0,0,E1375*(E361-E1033)/E361)-E1037-E1032)","v":0},0,0,0,0,0,0,0,0,0,0,0,0,0,0,0,0,0,0,0]
[{"$nulls":3},"total own-turn sneak damage",{"$f":"E1023+E1022","v":0},0,0,0,0,0,0,0,0,0,0,0,0,0,0,0,0,0,0,0]
[{"$nulls":3},"total opp attack sneak damage",{"$f":"E1027+E1026","v":0},0,0,0,0,0,0,0,0,0,0,0,0,0,0,0,0,0,0,0]
[{"$nulls":3},"phantom sneak attack damage bonus (avg per round)",{"$f":"IF(AND(E11>=3,E68>=1),IF(E11<=8,0.5,IF(E11<=16,1,2))*E1036*MIN(1,E35/('Base Numbers'!$C$5*'Base Numbers'!$C$6)),0)","v":0},{"$f":"IF(AND(F11>=3,F68>=1),IF(F11<=8,0.5,IF(F11<=16,1,2))*F1036*MIN(1,F35/('Base Numbers'!$C$5*'Base Numbers'!$C$6)),0)","v":0},{"$f":"IF(AND(G11>=3,G68>=1),IF(G11<=8,0.5,IF(G11<=16,1,2))*G1036*MIN(1,G35/('Base Numbers'!$C$5*'Base Numbers'!$C$6)),0)","v":0},{"$f":"IF(AND(H11>=3,H68>=1),IF(H11<=8,0.5,IF(H11<=16,1,2))*H1036*MIN(1,H35/('Base Numbers'!$C$5*'Base Numbers'!$C$6)),0)","v":0},{"$f":"IF(AND(I11>=3,I68>=1),IF(I11<=8,0.5,IF(I11<=16,1,2))*I1036*MIN(1,I35/('Base Numbers'!$C$5*'Base Numbers'!$C$6)),0)","v":0},{"$f":"IF(AND(J11>=3,J68>=1),IF(J11<=8,0.5,IF(J11<=16,1,2))*J1036*MIN(1,J35/('Base Numbers'!$C$5*'Base Numbers'!$C$6)),0)","v":0},{"$f":"IF(AND(K11>=3,K68>=1),IF(K11<=8,0.5,IF(K11<=16,1,2))*K1036*MIN(1,K35/('Base Numbers'!$C$5*'Base Numbers'!$C$6)),0)","v":0},{"$f":"IF(AND(L11>=3,L68>=1),IF(L11<=8,0.5,IF(L11<=16,1,2))*L1036*MIN(1,L35/('Base Numbers'!$C$5*'Base Numbers'!$C$6)),0)","v":0},{"$f":"IF(AND(M11>=3,M68>=1),IF(M11<=8,0.5,IF(M11<=16,1,2))*M1036*MIN(1,M35/('Base Numbers'!$C$5*'Base Numbers'!$C$6)),0)","v":0},{"$f":"IF(AND(N11>=3,N68>=1),IF(N11<=8,0.5,IF(N11<=16,1,2))*N1036*MIN(1,N35/('Base Numbers'!$C$5*'Base Numbers'!$C$6)),0)","v":0},{"$f":"IF(AND(O11>=3,O68>=1),IF(O11<=8,0.5,IF(O11<=16,1,2))*O1036*MIN(1,O35/('Base Numbers'!$C$5*'Base Numbers'!$C$6)),0)","v":0},{"$f":"IF(AND(P11>=3,P68>=1),IF(P11<=8,0.5,IF(P11<=16,1,2))*P1036*MIN(1,P35/('Base Numbers'!$C$5*'Base Numbers'!$C$6)),0)","v":0},{"$f":"IF(AND(Q11>=3,Q68>=1),IF(Q11<=8,0.5,IF(Q11<=16,1,2))*Q1036*MIN(1,Q35/('Base Numbers'!$C$5*'Base Numbers'!$C$6)),0)","v":0},{"$f":"IF(AND(R11>=3,R68>=1),IF(R11<=8,0.5,IF(R11<=16,1,2))*R1036*MIN(1,R35/('Base Numbers'!$C$5*'Base Numbers'!$C$6)),0)","v":0},{"$f":"IF(AND(S11>=3,S68>=1),IF(S11<=8,0.5,IF(S11<=16,1,2))*S1036*MIN(1,S35/('Base Numbers'!$C$5*'Base Numbers'!$C$6)),0)","v":0},{"$f":"IF(AND(T11>=3,T68>=1),IF(T11<=8,0.5,IF(T11<=16,1,2))*T1036*MIN(1,T35/('Base Numbers'!$C$5*'Base Numbers'!$C$6)),0)","v":0},{"$f":"IF(AND(U11>=3,U68>=1),IF(U11<=8,0.5,IF(U11<=16,1,2))*U1036*MIN(1,U35/('Base Numbers'!$C$5*'Base Numbers'!$C$6)),0)","v":0},{"$f":"IF(AND(V11>=3,V68>=1),IF(V11<=8,0.5,IF(V11<=16,1,2))*V1036*MIN(1,V35/('Base Numbers'!$C$5*'Base Numbers'!$C$6)),0)","v":0},{"$f":"IF(AND(W11>=3,W68>=1),IF(W11<=8,0.5,IF(W11<=16,1,2))*W1036*MIN(1,W35/('Base Numbers'!$C$5*'Base Numbers'!$C$6)),0)","v":0},{"$f":"IF(AND(X11>=3,X68>=1),IF(X11<=8,0.5,IF(X11<=16,1,2))*X1036*MIN(1,X35/('Base Numbers'!$C$5*'Base Numbers'!$C$6)),0)","v":0}]
[{"$nulls":3},"prob at least 1 hit during assassination round (assassin)",{"$f":"IF(AND(E11>=3,E66>=1),IF(E137=0,(1-(1-E337)^(E1020)),(1-(1-E589)^E576*(1-E590)^E578)),0)","v":0},0,0,0,0,0,0,0,0,0,0,0,0,0,0,0,0,0,0,0,null,"* assume no wasted time casting spells during assassinations"]
[{"$nulls":3},"increased adv pct on assassination round",{"$f":"1-IF(E137=0,E449,E583)","v":1},1,1,1,1,1,1,1,1,1,1,1,1,1,1,1,1,1,1,1]
[{"$nulls":3},"max assassination dmg (melee, range, BB, cantrip) main + haste only",{"$f":"MAX(E668,E637,E604*(E575+E1057)/E575,E534*(E322+E1057)/E322,E556)","v":8.775},8.775,8.4,8.4,8.775,8.4,8.4,8.4,8.4,8.4,8.4,7.975000000000001,8.4,8.4,7.975000000000001,7.975000000000001,8.4,7.975000000000001,7.975000000000001,7.975000000000001,null,"doesn't really include haste appropriately"]
[{"$nulls":3},"once per turn bonus dice damage (for assassination crits)",{"$f":"(E1017+E950+E1059+E907+E931+IF(E976>0,E971,0)+E979+E1077+E1119+E1108+E1072)*(1-E1363)","v":0},0,0,0,0,0,0,0,0,0,0,0,0,0,0,0,0,0,0,0,null,"* most of these only apply to a weapon hit"]
[{"$nulls":3},"once per turn bonus dice damage for spell attacks",{"$f":"(E931+E1077+E1072)*(1-E1363)","v":0},0,0,0,0,0,0,0,0,0,0,0,0,0,0,0,0,0,0,0,null,"* based on spell crits per round"]
[{"$nulls":3},"max assassination dmg (melee, range, BB, cantrip) total",{"$f":"MAX(IF(E560,2,1)*E668,IF(E560,2,1)*E637,E604*(E575+E1057)/E575+E605,E534*(E322+E1057)/E322+E535,E556+IF(E560,E557,E535))","v":8.775},8.775,8.4,8.4,8.775,8.4,8.4,8.4,8.4,8.4,8.4,7.975000000000001,8.4,8.4,7.975000000000001,7.975000000000001,8.4,7.975000000000001,7.975000000000001,7.975000000000001]
[{"$nulls":3},"avg damage per round (max damage scenario)",{"$f":"E1373+E1374","v":4.4},{"$f":"F1373+F1374","v":4.4},4.075,4.075,4.4,4.075,4.075,4.075,4.075,4.075,4.075,3.75,4.075,4.075,3.75,3.75,4.075,3.75,3.75,3.75]
[{"$nulls":3},"total assassinations per day",{"$f":"IF(AND(E11>=3,E66>=1),'Base Numbers'!$G$15*'Base Numbers'!$C$5,0)","v":0},{"$f":"IF(AND(F11>=3,F66>=1),'Base Numbers'!$G$15*'Base Numbers'!$C$5,0)","v":0},{"$f":"IF(AND(G11>=3,G66>=1),'Base Numbers'!$G$15*'Base Numbers'!$C$5,0)","v":0},{"$f":"IF(AND(H11>=3,H66>=1),'Base Numbers'!$G$15*'Base Numbers'!$C$5,0)","v":0},{"$f":"IF(AND(I11>=3,I66>=1),'Base Numbers'!$G$15*'Base Numbers'!$C$5,0)","v":0},{"$f":"IF(AND(J11>=3,J66>=1),'Base Numbers'!$G$15*'Base Numbers'!$C$5,0)","v":0},{"$f":"IF(AND(K11>=3,K66>=1),'Base Numbers'!$G$15*'Base Numbers'!$C$5,0)","v":0},{"$f":"IF(AND(L11>=3,L66>=1),'Base Numbers'!$G$15*'Base Numbers'!$C$5,0)","v":0},{"$f":"IF(AND(M11>=3,M66>=1),'Base Numbers'!$G$15*'Base Numbers'!$C$5,0)","v":0},{"$f":"IF(AND(N11>=3,N66>=1),'Base Numbers'!$G$15*'Base Numbers'!$C$5,0)","v":0},{"$f":"IF(AND(O11>=3,O66>=1),'Base Numbers'!$G$15*'Base Numbers'!$C$5,0)","v":0},{"$f":"IF(AND(P11>=3,P66>=1),'Base Numbers'!$G$15*'Base Numbers'!$C$5,0)","v":0},{"$f":"IF(AND(Q11>=3,Q66>=1),'Base Numbers'!$G$15*'Base Numbers'!$C$5,0)","v":0},{"$f":"IF(AND(R11>=3,R66>=1),'Base Numbers'!$G$15*'Base Numbers'!$C$5,0)","v":0},{"$f":"IF(AND(S11>=3,S66>=1),'Base Numbers'!$G$15*'Base Numbers'!$C$5,0)","v":0},{"$f":"IF(AND(T11>=3,T66>=1),'Base Numbers'!$G$15*'Base Numbers'!$C$5,0)","v":0},{"$f":"IF(AND(U11>=3,U66>=1),'Base Numbers'!$G$15*'Base Numbers'!$C$5,0)","v":0},{"$f":"IF(AND(V11>=3,V66>=1),'Base Numbers'!$G$15*'Base Numbers'!$C$5,0)","v":0},{"$f":"IF(AND(W11>=3,W66>=1),'Base Numbers'!$G$15*'Base Numbers'!$C$5,0)","v":0},{"$f":"IF(AND(X11>=3,X66>=1),'Base Numbers'!$G$15*'Base Numbers'!$C$5,0)","v":0},null,"  barbarian"]
[{"$nulls":3},"additional assassination crits per day",{"$f":"MAX(0,E1020*E1046-E1363)","v":0},0,0,0,0,0,0,0,0,0,0,0,0,0,0,0,0,0,0,0,null,"  cleric divine damage"]
[{"$nulls":3},"total smite dice used on assassinations per day",{"$f":"MIN(E1358,E274*E1046*E1039*E1047)","v":0},0,0,0,0,0,0,0,0,0,0,0,0,0,0,0,0,0,0,0,null,"  ranger ambush"]
[{"$nulls":3},"avg additional smite assassination damage per day",{"$f":"4.5*E1048","v":0},{"$f":"4.5*F1048","v":0},0,0,0,0,0,0,0,0,0,0,0,0,0,0,0,0,0,0,null,"  battlemaster dice"]
[{"$nulls":3},"avg additional action surge assassination damage ",{"$f":"MIN(E1046,E1103)*(E1041+E1051-E1373)","v":0},0,0,0,0,0,0,0,0,0,0,0,0,0,0,0,0,0,0,0,null,"orc racial"]
[{"$nulls":3},"average death strike damage during assassination (assassin L17,Con save)",{"$f":"IF(AND(E11>=17,E66>=1),(E1044+E1042)*(13-E31-E35+'Caster Tables'!C75)/20,0)","v":0},{"$f":"IF(AND(F11>=17,F66>=1),(F1044+F1042)*(13-F31-F35+'Caster Tables'!D75)/20,0)","v":0},{"$f":"IF(AND(G11>=17,G66>=1),(G1044+G1042)*(13-G31-G35+'Caster Tables'!E75)/20,0)","v":0},{"$f":"IF(AND(H11>=17,H66>=1),(H1044+H1042)*(13-H31-H35+'Caster Tables'!F75)/20,0)","v":0},{"$f":"IF(AND(I11>=17,I66>=1),(I1044+I1042)*(13-I31-I35+'Caster Tables'!G75)/20,0)","v":0},{"$f":"IF(AND(J11>=17,J66>=1),(J1044+J1042)*(13-J31-J35+'Caster Tables'!H75)/20,0)","v":0},{"$f":"IF(AND(K11>=17,K66>=1),(K1044+K1042)*(13-K31-K35+'Caster Tables'!I75)/20,0)","v":0},{"$f":"IF(AND(L11>=17,L66>=1),(L1044+L1042)*(13-L31-L35+'Caster Tables'!J75)/20,0)","v":0},{"$f":"IF(AND(M11>=17,M66>=1),(M1044+M1042)*(13-M31-M35+'Caster Tables'!K75)/20,0)","v":0},{"$f":"IF(AND(N11>=17,N66>=1),(N1044+N1042)*(13-N31-N35+'Caster Tables'!L75)/20,0)","v":0},{"$f":"IF(AND(O11>=17,O66>=1),(O1044+O1042)*(13-O31-O35+'Caster Tables'!M75)/20,0)","v":0},{"$f":"IF(AND(P11>=17,P66>=1),(P1044+P1042)*(13-P31-P35+'Caster Tables'!N75)/20,0)","v":0},{"$f":"IF(AND(Q11>=17,Q66>=1),(Q1044+Q1042)*(13-Q31-Q35+'Caster Tables'!O75)/20,0)","v":0},{"$f":"IF(AND(R11>=17,R66>=1),(R1044+R1042)*(13-R31-R35+'Caster Tables'!P75)/20,0)","v":0},{"$f":"IF(AND(S11>=17,S66>=1),(S1044+S1042)*(13-S31-S35+'Caster Tables'!Q75)/20,0)","v":0},{"$f":"IF(AND(T11>=17,T66>=1),(T1044+T1042)*(13-T31-T35+'Caster Tables'!R75)/20,0)","v":0},{"$f":"IF(AND(U11>=17,U66>=1),(U1044+U1042)*(13-U31-U35+'Caster Tables'!S75)/20,0)","v":0},{"$f":"IF(AND(V11>=17,V66>=1),(V1044+V1042)*(13-V31-V35+'Caster Tables'!T75)/20,0)","v":0},{"$f":"IF(AND(W11>=17,W66>=1),(W1044+W1042)*(13-W31-W35+'Caster Tables'!U75)/20,0)","v":0},{"$f":"IF(AND(X11>=17,X66>=1),(X1044+X1042)*(13-X31-X35+'Caster Tables'!V75)/20,0)","v":0},null,"foe slayer ?"]
[{"$nulls":3},"average death strike damage per round (assassin L17, Con save)",{"$f":"E1051/('Base Numbers'!$C$5*'Base Numbers'!$C$6)","v":0},{"$f":"F1051/('Base Numbers'!$C$5*'Base Numbers'!$C$6)","v":0},{"$f":"G1051/('Base Numbers'!$C$5*'Base Numbers'!$C$6)","v":0},{"$f":"H1051/('Base Numbers'!$C$5*'Base Numbers'!$C$6)","v":0},{"$f":"I1051/('Base Numbers'!$C$5*'Base Numbers'!$C$6)","v":0},{"$f":"J1051/('Base Numbers'!$C$5*'Base Numbers'!$C$6)","v":0},{"$f":"K1051/('Base Numbers'!$C$5*'Base Numbers'!$C$6)","v":0},{"$f":"L1051/('Base Numbers'!$C$5*'Base Numbers'!$C$6)","v":0},{"$f":"M1051/('Base Numbers'!$C$5*'Base Numbers'!$C$6)","v":0},{"$f":"N1051/('Base Numbers'!$C$5*'Base Numbers'!$C$6)","v":0},{"$f":"O1051/('Base Numbers'!$C$5*'Base Numbers'!$C$6)","v":0},{"$f":"P1051/('Base Numbers'!$C$5*'Base Numbers'!$C$6)","v":0},{"$f":"Q1051/('Base Numbers'!$C$5*'Base Numbers'!$C$6)","v":0},{"$f":"R1051/('Base Numbers'!$C$5*'Base Numbers'!$C$6)","v":0},{"$f":"S1051/('Base Numbers'!$C$5*'Base Numbers'!$C$6)","v":0},{"$f":"T1051/('Base Numbers'!$C$5*'Base Numbers'!$C$6)","v":0},{"$f":"U1051/('Base Numbers'!$C$5*'Base Numbers'!$C$6)","v":0},{"$f":"V1051/('Base Numbers'!$C$5*'Base Numbers'!$C$6)","v":0},{"$f":"W1051/('Base Numbers'!$C$5*'Base Numbers'!$C$6)","v":0},{"$f":"X1051/('Base Numbers'!$C$5*'Base Numbers'!$C$6)","v":0},null,"battlesmith jolt"]
[{"$nulls":3},"average total assassination damage per round",{"$f":"IF(AND(E11>=3,E66>=1),(E1044-E1045+E1042*(1-E1363)+E1049+E1050+E1052)/('Base Numbers'!$C$5*'Base Numbers'!$C$6),0)","v":0},{"$f":"IF(AND(F11>=3,F66>=1),(F1044-F1045+F1042*(1-F1363)+F1049+F1050+F1052)/('Base Numbers'!$C$5*'Base Numbers'!$C$6),0)","v":0},{"$f":"IF(AND(G11>=3,G66>=1),(G1044-G1045+G1042*(1-G1363)+G1049+G1050+G1052)/('Base Numbers'!$C$5*'Base Numbers'!$C$6),0)","v":0},{"$f":"IF(AND(H11>=3,H66>=1),(H1044-H1045+H1042*(1-H1363)+H1049+H1050+H1052)/('Base Numbers'!$C$5*'Base Numbers'!$C$6),0)","v":0},{"$f":"IF(AND(I11>=3,I66>=1),(I1044-I1045+I1042*(1-I1363)+I1049+I1050+I1052)/('Base Numbers'!$C$5*'Base Numbers'!$C$6),0)","v":0},{"$f":"IF(AND(J11>=3,J66>=1),(J1044-J1045+J1042*(1-J1363)+J1049+J1050+J1052)/('Base Numbers'!$C$5*'Base Numbers'!$C$6),0)","v":0},{"$f":"IF(AND(K11>=3,K66>=1),(K1044-K1045+K1042*(1-K1363)+K1049+K1050+K1052)/('Base Numbers'!$C$5*'Base Numbers'!$C$6),0)","v":0},{"$f":"IF(AND(L11>=3,L66>=1),(L1044-L1045+L1042*(1-L1363)+L1049+L1050+L1052)/('Base Numbers'!$C$5*'Base Numbers'!$C$6),0)","v":0},{"$f":"IF(AND(M11>=3,M66>=1),(M1044-M1045+M1042*(1-M1363)+M1049+M1050+M1052)/('Base Numbers'!$C$5*'Base Numbers'!$C$6),0)","v":0},{"$f":"IF(AND(N11>=3,N66>=1),(N1044-N1045+N1042*(1-N1363)+N1049+N1050+N1052)/('Base Numbers'!$C$5*'Base Numbers'!$C$6),0)","v":0},{"$f":"IF(AND(O11>=3,O66>=1),(O1044-O1045+O1042*(1-O1363)+O1049+O1050+O1052)/('Base Numbers'!$C$5*'Base Numbers'!$C$6),0)","v":0},{"$f":"IF(AND(P11>=3,P66>=1),(P1044-P1045+P1042*(1-P1363)+P1049+P1050+P1052)/('Base Numbers'!$C$5*'Base Numbers'!$C$6),0)","v":0},{"$f":"IF(AND(Q11>=3,Q66>=1),(Q1044-Q1045+Q1042*(1-Q1363)+Q1049+Q1050+Q1052)/('Base Numbers'!$C$5*'Base Numbers'!$C$6),0)","v":0},{"$f":"IF(AND(R11>=3,R66>=1),(R1044-R1045+R1042*(1-R1363)+R1049+R1050+R1052)/('Base Numbers'!$C$5*'Base Numbers'!$C$6),0)","v":0},{"$f":"IF(AND(S11>=3,S66>=1),(S1044-S1045+S1042*(1-S1363)+S1049+S1050+S1052)/('Base Numbers'!$C$5*'Base Numbers'!$C$6),0)","v":0},{"$f":"IF(AND(T11>=3,T66>=1),(T1044-T1045+T1042*(1-T1363)+T1049+T1050+T1052)/('Base Numbers'!$C$5*'Base Numbers'!$C$6),0)","v":0},{"$f":"IF(AND(U11>=3,U66>=1),(U1044-U1045+U1042*(1-U1363)+U1049+U1050+U1052)/('Base Numbers'!$C$5*'Base Numbers'!$C$6),0)","v":0},{"$f":"IF(AND(V11>=3,V66>=1),(V1044-V1045+V1042*(1-V1363)+V1049+V1050+V1052)/('Base Numbers'!$C$5*'Base Numbers'!$C$6),0)","v":0},{"$f":"IF(AND(W11>=3,W66>=1),(W1044-W1045+W1042*(1-W1363)+W1049+W1050+W1052)/('Base Numbers'!$C$5*'Base Numbers'!$C$6),0)","v":0},{"$f":"IF(AND(X11>=3,X66>=1),(X1044-X1045+X1042*(1-X1363)+X1049+X1050+X1052)/('Base Numbers'!$C$5*'Base Numbers'!$C$6),0)","v":0}]
[{"$nulls":3},"Total Rogue Additional Damage",{"$f":"E1036+E1037+E1053+E1038+MAX(0,E1035)","v":0},{"$f":"F1036+F1037+F1053+F1038+MAX(0,F1035)","v":0},0,0,0,0,0,0,0,0,0,0,0,0,0,0,0,0,0,0]
[]
[{"$nulls":3},"RANGER DAMAGE (Tasha's Cauldron of Everything)"]
[{"$nulls":3},"Extra attacks in first round (gloomstalker)",{"$f":"IF(AND(E77>=1,E9>=3),1,0)","v":0},0,0,0,0,0,0,0,0,0,0,0,0,0,0,0,0,0,0,0]
[{"$nulls":3},"gloomstalker invisibility advantage bonus",{"$f":"IF(AND(E77>=1,E9>=3),0.15,0)","v":0},0,0,0,0,0,0,0,0,0,0,0,0,0,0,0,0,0,0,0]
[{"$nulls":3},"Gloomstalker Dread ambush bonus damage per first combat round (if hits)",{"$f":"IF(AND(E77>=1,E9>=3),4.5,0)","v":0},0,0,0,0,0,0,0,0,0,0,0,0,0,0,0,0,0,0,0]
[{"$nulls":3},"avg Gloomstalker dread ambush damage per round",{"$f":"E1059*((1-E446)*E335+E446*E337)/'Base Numbers'!$C$6","v":0},{"$f":"F1059*((1-F446)*F335+F446*F337)/'Base Numbers'!$C$6","v":0},{"$f":"G1059*((1-G446)*G335+G446*G337)/'Base Numbers'!$C$6","v":0},{"$f":"H1059*((1-H446)*H335+H446*H337)/'Base Numbers'!$C$6","v":0},{"$f":"I1059*((1-I446)*I335+I446*I337)/'Base Numbers'!$C$6","v":0},{"$f":"J1059*((1-J446)*J335+J446*J337)/'Base Numbers'!$C$6","v":0},{"$f":"K1059*((1-K446)*K335+K446*K337)/'Base Numbers'!$C$6","v":0},{"$f":"L1059*((1-L446)*L335+L446*L337)/'Base Numbers'!$C$6","v":0},{"$f":"M1059*((1-M446)*M335+M446*M337)/'Base Numbers'!$C$6","v":0},{"$f":"N1059*((1-N446)*N335+N446*N337)/'Base Numbers'!$C$6","v":0},{"$f":"O1059*((1-O446)*O335+O446*O337)/'Base Numbers'!$C$6","v":0},{"$f":"P1059*((1-P446)*P335+P446*P337)/'Base Numbers'!$C$6","v":0},{"$f":"Q1059*((1-Q446)*Q335+Q446*Q337)/'Base Numbers'!$C$6","v":0},{"$f":"R1059*((1-R446)*R335+R446*R337)/'Base Numbers'!$C$6","v":0},{"$f":"S1059*((1-S446)*S335+S446*S337)/'Base Numbers'!$C$6","v":0},{"$f":"T1059*((1-T446)*T335+T446*T337)/'Base Numbers'!$C$6","v":0},{"$f":"U1059*((1-U446)*U335+U446*U337)/'Base Numbers'!$C$6","v":0},{"$f":"V1059*((1-V446)*V335+V446*V337)/'Base Numbers'!$C$6","v":0},{"$f":"W1059*((1-W446)*W335+W446*W337)/'Base Numbers'!$C$6","v":0},{"$f":"X1059*((1-X446)*X335+X446*X337)/'Base Numbers'!$C$6","v":0}]
[{"$nulls":3},"avg gloomstalker dread ambush crit damage per round",{"$f":"E1059*(E469)","v":0},0,0,0,0,0,0,0,0,0,0,0,0,0,0,0,0,0,0,0]
[{"$nulls":3},"extra attack melee damage on first round",{"$f":"E1057*IF(E137=0,E528+E529,0)","v":0},0,0,0,0,0,0,0,0,0,0,0,0,0,0,0,0,0,0,0]
[{"$nulls":3},"extra attack ranged damage on first round",{"$f":"IF(E137>=1,E1057*(E580*E589*(E594+E596)+(1-E580)*E587*(E594+E596)),0)","v":0},0,0,0,0,0,0,0,0,0,0,0,0,0,0,0,0,0,0,0]
[{"$nulls":3},"extra attack crit ranged damage on first round",{"$f":"IF(E137>=1,E583*E599*E1059+(1-E583)*E598*E1059,0)","v":0},0,0,0,0,0,0,0,0,0,0,0,0,0,0,0,0,0,0,0]
[{"$nulls":3},"total possible attack action damage with extra first-round attack",{"$f":"IF(E137=0,E1062+E530+E531,E1063+E1064+E607)*(1-E287)","v":1.9500000000000002},1.9500000000000002,1.7999999999999998,1.7999999999999998,1.9500000000000002,1.7999999999999998,1.7999999999999998,1.7999999999999998,1.7999999999999998,1.7999999999999998,1.7999999999999998,1.6500000000000001,1.7999999999999998,1.7999999999999998,1.6500000000000001,1.6500000000000001,1.7999999999999998,1.6500000000000001,1.6500000000000001,1.6500000000000001,null,"* adjusted for spells"]
[{"$nulls":3},"total damage gain with extra attack in attack action (vs. damage scenario)",{"$f":"MAX(0,E1065-E1373)","v":0},0,0,0,0,0,0,0,0,0,0,0,0,0,0,0,0,0,0,0]
[{"$nulls":3},"prob at least one miss per own turn (not opp att)  (damage scenario)",{"$f":"E1397","v":0.35},{"$f":"F1397","v":0.35},0.4,0.4,0.35,0.4,0.4,0.4,0.4,0.4,0.4,0.44999999999999996,0.4,0.4,0.44999999999999996,0.44999999999999996,0.4,0.44999999999999996,0.44999999999999996,0.44999999999999996,null,"(this is using damage scenario)"]
[{"$nulls":3},"(gloom)stalker's flurry L11 (miss gives additional att roll) melee damage",{"$f":"E1067*E335*(E509+E512)","v":0.6824999999999999},0.6824999999999999,0.72,0.72,0.6824999999999999,0.72,0.72,0.72,0.72,0.72,0.72,0.7424999999999999,0.72,0.72,0.7424999999999999,0.7424999999999999,0.72,0.7424999999999999,0.7424999999999999,0.7424999999999999]
[{"$nulls":3},"(gloom)stalker's flurry L11 (miss gives additional att roll) ranged damage",{"$f":"E1067*E587*(E594+E596)","v":1.4787499999999998},1.4787499999999998,1.56,1.56,1.4787499999999998,1.56,1.56,1.56,1.56,1.56,1.56,1.60875,1.56,1.56,1.60875,1.60875,1.56,1.60875,1.60875,1.60875]
[{"$nulls":3},"total stalker's flurry dmg per round",{"$f":"IF(AND(E77>=1,E9>=11),IF(E137=0,E1068,E1069),0)","v":0},0,0,0,0,0,0,0,0,0,0,0,0,0,0,0,0,0,0,0]
[{"$nulls":3},"chance of at least one hit (damage scenario)",{"$f":"E1391","v":0.65},{"$f":"F1391","v":0.65},0.6,0.6,0.65,0.6,0.6,0.6,0.6,0.6,0.6,0.55,0.6,0.6,0.55,0.55,0.6,0.55,0.55,0.55,null,"Possible this should be separated into Ambush Rounds vs. other"]
[{"$nulls":3},"base favored foe damage (conc)",{"$f":"IF(E9>=1,2.5,0)+IF(E9>=6,1,0)+IF(E9>=14,1,0)","v":0},0,0,0,0,0,0,0,0,0,0,0,0,0,0,0,0,0,0,0,null," *requires concentration!!"]
[{"$nulls":3},"avg favored foe damage per combat",{"$f":"E1072*E214*E306/('Base Numbers'!$C$5*'Base Numbers'!$C$6)","v":0},{"$f":"F1072*F214*F306/('Base Numbers'!$C$5*'Base Numbers'!$C$6)","v":0},{"$f":"G1072*G214*G306/('Base Numbers'!$C$5*'Base Numbers'!$C$6)","v":0},{"$f":"H1072*H214*H306/('Base Numbers'!$C$5*'Base Numbers'!$C$6)","v":0},{"$f":"I1072*I214*I306/('Base Numbers'!$C$5*'Base Numbers'!$C$6)","v":0},{"$f":"J1072*J214*J306/('Base Numbers'!$C$5*'Base Numbers'!$C$6)","v":0},{"$f":"K1072*K214*K306/('Base Numbers'!$C$5*'Base Numbers'!$C$6)","v":0},{"$f":"L1072*L214*L306/('Base Numbers'!$C$5*'Base Numbers'!$C$6)","v":0},{"$f":"M1072*M214*M306/('Base Numbers'!$C$5*'Base Numbers'!$C$6)","v":0},{"$f":"N1072*N214*N306/('Base Numbers'!$C$5*'Base Numbers'!$C$6)","v":0},{"$f":"O1072*O214*O306/('Base Numbers'!$C$5*'Base Numbers'!$C$6)","v":0},{"$f":"P1072*P214*P306/('Base Numbers'!$C$5*'Base Numbers'!$C$6)","v":0},{"$f":"Q1072*Q214*Q306/('Base Numbers'!$C$5*'Base Numbers'!$C$6)","v":0},{"$f":"R1072*R214*R306/('Base Numbers'!$C$5*'Base Numbers'!$C$6)","v":0},{"$f":"S1072*S214*S306/('Base Numbers'!$C$5*'Base Numbers'!$C$6)","v":0},{"$f":"T1072*T214*T306/('Base Numbers'!$C$5*'Base Numbers'!$C$6)","v":0},{"$f":"U1072*U214*U306/('Base Numbers'!$C$5*'Base Numbers'!$C$6)","v":0},{"$f":"V1072*V214*V306/('Base Numbers'!$C$5*'Base Numbers'!$C$6)","v":0},{"$f":"W1072*W214*W306/('Base Numbers'!$C$5*'Base Numbers'!$C$6)","v":0},{"$f":"X1072*X214*X306/('Base Numbers'!$C$5*'Base Numbers'!$C$6)","v":0}]
[{"$nulls":3},"avg bonus favored foe dmg per round",{"$f":"E1071*E1073","v":0},{"$f":"F1071*F1073","v":0},0,0,0,0,0,0,0,0,0,0,0,0,0,0,0,0,0,0,null,"only applies to the first hit"]
[{"$nulls":3},"avg bonus favored foe crit damage per round",{"$f":"IF(E137>0,(1-E581)*E598+E581*E599,E474)* E1362*E1073*E1391","v":0},0,0,0,0,0,0,0,0,0,0,0,0,0,0,0,0,0,0,0]
[{"$nulls":3},"base swarmkeeper damage per round",{"$f":"IF(AND(E78>=1,E9>=3),3.5,0)+IF(AND(E78>=1,E9>=11),1,0)","v":0},0,0,0,0,0,0,0,0,0,0,0,0,0,0,0,0,0,0,0]
[{"$nulls":3},"avg swarmkeeper crit damage per round",{"$f":"E1076*E1071*E471","v":0},0,0,0,0,0,0,0,0,0,0,0,0,0,0,0,0,0,0,0]
[{"$nulls":3},"avg bonus swarmkeeper damage per round",{"$f":"E1391*E1076","v":0},0,0,0,0,0,0,0,0,0,0,0,0,0,0,0,0,0,0,0]
[{"$nulls":3},"beastmaster beast of the sky hp",{"$f":"4+4*E9","v":4},4,4,4,4,4,4,4,4,4,4,4,4,4,4,4,4,4,4,4]
[{"$nulls":3},"beastmaster beast of the sky one-die hit chance",{"$f":"MIN(0.95,1-(E129-1-E34-E35-E366)/20)","v":0.65},0.65,0.6,0.6,0.65,0.6,0.6,0.6,0.6,0.6,0.6,0.55,0.6,0.6,0.55,0.55,0.6,0.55,0.55,0.55]
[{"$nulls":3},"beastmaster beast of the sky adv pct",{"$f":"E380+E479+E412","v":0},0,0,0,0,0,0,0,0,0,0,0,0,0,0,0,0,0,0,0]
[{"$nulls":3},"beastmaster beast of the sky attacks",{"$f":"IF(AND(E9>=11,E79>=1),2,IF(AND(E79>=1,E9>=3),1,0))","v":0},0,0,0,0,0,0,0,0,0,0,0,0,0,0,0,0,0,0,0]
[{"$nulls":3},"beastmaster beast of the sky damage per attack",{"$f":"2.5+3+E35","v":7.5},7.5,7.5,7.5,8.5,8.5,8.5,8.5,9.5,9.5,9.5,9.5,10.5,10.5,10.5,10.5,11.5,11.5,11.5,11.5]
[{"$nulls":3},"beastmaster beast of the sky crit chance",{"$f":"MIN(1,E1081*(1-0.95^2)+(1-E1081)*0.05+E480)","v":0.05},0.05,0.05,0.05,0.05,0.05,0.05,0.05,0.05,0.05,0.05,0.05,0.05,0.05,0.05,0.05,0.05,0.05,0.05,0.05]
[{"$nulls":3},"beastmaster beast of the sky uptime",{"$f":"IF(AND(E9>=3,E79>=1),IF(ROUND(E1079/(E783*'Caster Tables'!C79),2)>='Base Numbers'!$C$6,'Base Numbers'!$C$5*'Base Numbers'!$C$6,ROUND(E1079/(E783*'Caster Tables'!C79)*'Base Numbers'!$C$5,2)),0)","v":0},{"$f":"IF(AND(F9>=3,F79>=1),IF(ROUND(F1079/(F783*'Caster Tables'!D79),2)>='Base Numbers'!$C$6,'Base Numbers'!$C$5*'Base Numbers'!$C$6,ROUND(F1079/(F783*'Caster Tables'!D79)*'Base Numbers'!$C$5,2)),0)","v":0},{"$f":"IF(AND(G9>=3,G79>=1),IF(ROUND(G1079/(G783*'Caster Tables'!E79),2)>='Base Numbers'!$C$6,'Base Numbers'!$C$5*'Base Numbers'!$C$6,ROUND(G1079/(G783*'Caster Tables'!E79)*'Base Numbers'!$C$5,2)),0)","v":0},{"$f":"IF(AND(H9>=3,H79>=1),IF(ROUND(H1079/(H783*'Caster Tables'!F79),2)>='Base Numbers'!$C$6,'Base Numbers'!$C$5*'Base Numbers'!$C$6,ROUND(H1079/(H783*'Caster Tables'!F79)*'Base Numbers'!$C$5,2)),0)","v":0},{"$f":"IF(AND(I9>=3,I79>=1),IF(ROUND(I1079/(I783*'Caster Tables'!G79),2)>='Base Numbers'!$C$6,'Base Numbers'!$C$5*'Base Numbers'!$C$6,ROUND(I1079/(I783*'Caster Tables'!G79)*'Base Numbers'!$C$5,2)),0)","v":0},{"$f":"IF(AND(J9>=3,J79>=1),IF(ROUND(J1079/(J783*'Caster Tables'!H79),2)>='Base Numbers'!$C$6,'Base Numbers'!$C$5*'Base Numbers'!$C$6,ROUND(J1079/(J783*'Caster Tables'!H79)*'Base Numbers'!$C$5,2)),0)","v":0},{"$f":"IF(AND(K9>=3,K79>=1),IF(ROUND(K1079/(K783*'Caster Tables'!I79),2)>='Base Numbers'!$C$6,'Base Numbers'!$C$5*'Base Numbers'!$C$6,ROUND(K1079/(K783*'Caster Tables'!I79)*'Base Numbers'!$C$5,2)),0)","v":0},{"$f":"IF(AND(L9>=3,L79>=1),IF(ROUND(L1079/(L783*'Caster Tables'!J79),2)>='Base Numbers'!$C$6,'Base Numbers'!$C$5*'Base Numbers'!$C$6,ROUND(L1079/(L783*'Caster Tables'!J79)*'Base Numbers'!$C$5,2)),0)","v":0},{"$f":"IF(AND(M9>=3,M79>=1),IF(ROUND(M1079/(M783*'Caster Tables'!K79),2)>='Base Numbers'!$C$6,'Base Numbers'!$C$5*'Base Numbers'!$C$6,ROUND(M1079/(M783*'Caster Tables'!K79)*'Base Numbers'!$C$5,2)),0)","v":0},{"$f":"IF(AND(N9>=3,N79>=1),IF(ROUND(N1079/(N783*'Caster Tables'!L79),2)>='Base Numbers'!$C$6,'Base Numbers'!$C$5*'Base Numbers'!$C$6,ROUND(N1079/(N783*'Caster Tables'!L79)*'Base Numbers'!$C$5,2)),0)","v":0},{"$f":"IF(AND(O9>=3,O79>=1),IF(ROUND(O1079/(O783*'Caster Tables'!M79),2)>='Base Numbers'!$C$6,'Base Numbers'!$C$5*'Base Numbers'!$C$6,ROUND(O1079/(O783*'Caster Tables'!M79)*'Base Numbers'!$C$5,2)),0)","v":0},{"$f":"IF(AND(P9>=3,P79>=1),IF(ROUND(P1079/(P783*'Caster Tables'!N79),2)>='Base Numbers'!$C$6,'Base Numbers'!$C$5*'Base Numbers'!$C$6,ROUND(P1079/(P783*'Caster Tables'!N79)*'Base Numbers'!$C$5,2)),0)","v":0},{"$f":"IF(AND(Q9>=3,Q79>=1),IF(ROUND(Q1079/(Q783*'Caster Tables'!O79),2)>='Base Numbers'!$C$6,'Base Numbers'!$C$5*'Base Numbers'!$C$6,ROUND(Q1079/(Q783*'Caster Tables'!O79)*'Base Numbers'!$C$5,2)),0)","v":0},{"$f":"IF(AND(R9>=3,R79>=1),IF(ROUND(R1079/(R783*'Caster Tables'!P79),2)>='Base Numbers'!$C$6,'Base Numbers'!$C$5*'Base Numbers'!$C$6,ROUND(R1079/(R783*'Caster Tables'!P79)*'Base Numbers'!$C$5,2)),0)","v":0},{"$f":"IF(AND(S9>=3,S79>=1),IF(ROUND(S1079/(S783*'Caster Tables'!Q79),2)>='Base Numbers'!$C$6,'Base Numbers'!$C$5*'Base Numbers'!$C$6,ROUND(S1079/(S783*'Caster Tables'!Q79)*'Base Numbers'!$C$5,2)),0)","v":0},{"$f":"IF(AND(T9>=3,T79>=1),IF(ROUND(T1079/(T783*'Caster Tables'!R79),2)>='Base Numbers'!$C$6,'Base Numbers'!$C$5*'Base Numbers'!$C$6,ROUND(T1079/(T783*'Caster Tables'!R79)*'Base Numbers'!$C$5,2)),0)","v":0},{"$f":"IF(AND(U9>=3,U79>=1),IF(ROUND(U1079/(U783*'Caster Tables'!S79),2)>='Base Numbers'!$C$6,'Base Numbers'!$C$5*'Base Numbers'!$C$6,ROUND(U1079/(U783*'Caster Tables'!S79)*'Base Numbers'!$C$5,2)),0)","v":0},{"$f":"IF(AND(V9>=3,V79>=1),IF(ROUND(V1079/(V783*'Caster Tables'!T79),2)>='Base Numbers'!$C$6,'Base Numbers'!$C$5*'Base Numbers'!$C$6,ROUND(V1079/(V783*'Caster Tables'!T79)*'Base Numbers'!$C$5,2)),0)","v":0},{"$f":"IF(AND(W9>=3,W79>=1),IF(ROUND(W1079/(W783*'Caster Tables'!U79),2)>='Base Numbers'!$C$6,'Base Numbers'!$C$5*'Base Numbers'!$C$6,ROUND(W1079/(W783*'Caster Tables'!U79)*'Base Numbers'!$C$5,2)),0)","v":0},{"$f":"IF(AND(X9>=3,X79>=1),IF(ROUND(X1079/(X783*'Caster Tables'!V79),2)>='Base Numbers'!$C$6,'Base Numbers'!$C$5*'Base Numbers'!$C$6,ROUND(X1079/(X783*'Caster Tables'!V79)*'Base Numbers'!$C$5,2)),0)","v":0},null,"assume beast is resummoned after combats"]
[{"$nulls":3},"beastmaster: pct rounds spent directing beast of the sky",{"$f":"MIN(1,E291*E1085/('Base Numbers'!$C$5*'Base Numbers'!$C$6))","v":0},{"$f":"MIN(1,F291*F1085/('Base Numbers'!$C$5*'Base Numbers'!$C$6))","v":0},{"$f":"MIN(1,G291*G1085/('Base Numbers'!$C$5*'Base Numbers'!$C$6))","v":0},{"$f":"MIN(1,H291*H1085/('Base Numbers'!$C$5*'Base Numbers'!$C$6))","v":0},{"$f":"MIN(1,I291*I1085/('Base Numbers'!$C$5*'Base Numbers'!$C$6))","v":0},{"$f":"MIN(1,J291*J1085/('Base Numbers'!$C$5*'Base Numbers'!$C$6))","v":0},{"$f":"MIN(1,K291*K1085/('Base Numbers'!$C$5*'Base Numbers'!$C$6))","v":0},{"$f":"MIN(1,L291*L1085/('Base Numbers'!$C$5*'Base Numbers'!$C$6))","v":0},{"$f":"MIN(1,M291*M1085/('Base Numbers'!$C$5*'Base Numbers'!$C$6))","v":0},{"$f":"MIN(1,N291*N1085/('Base Numbers'!$C$5*'Base Numbers'!$C$6))","v":0},{"$f":"MIN(1,O291*O1085/('Base Numbers'!$C$5*'Base Numbers'!$C$6))","v":0},{"$f":"MIN(1,P291*P1085/('Base Numbers'!$C$5*'Base Numbers'!$C$6))","v":0},{"$f":"MIN(1,Q291*Q1085/('Base Numbers'!$C$5*'Base Numbers'!$C$6))","v":0},{"$f":"MIN(1,R291*R1085/('Base Numbers'!$C$5*'Base Numbers'!$C$6))","v":0},{"$f":"MIN(1,S291*S1085/('Base Numbers'!$C$5*'Base Numbers'!$C$6))","v":0},{"$f":"MIN(1,T291*T1085/('Base Numbers'!$C$5*'Base Numbers'!$C$6))","v":0},{"$f":"MIN(1,U291*U1085/('Base Numbers'!$C$5*'Base Numbers'!$C$6))","v":0},{"$f":"MIN(1,V291*V1085/('Base Numbers'!$C$5*'Base Numbers'!$C$6))","v":0},{"$f":"MIN(1,W291*W1085/('Base Numbers'!$C$5*'Base Numbers'!$C$6))","v":0},{"$f":"MIN(1,X291*X1085/('Base Numbers'!$C$5*'Base Numbers'!$C$6))","v":0}]
[{"$nulls":3},"beastmaster spellslots to resummon",{"$f":"IF(AND(E9>=3,E79>=1),ROUND('Base Numbers'!$C$5*'Base Numbers'!$C$6/ROUND(E1079/(E783*'Caster Tables'!C79),2),0),0)","v":0},{"$f":"IF(AND(F9>=3,F79>=1),ROUND('Base Numbers'!$C$5*'Base Numbers'!$C$6/ROUND(F1079/(F783*'Caster Tables'!D79),2),0),0)","v":0},{"$f":"IF(AND(G9>=3,G79>=1),ROUND('Base Numbers'!$C$5*'Base Numbers'!$C$6/ROUND(G1079/(G783*'Caster Tables'!E79),2),0),0)","v":0},{"$f":"IF(AND(H9>=3,H79>=1),ROUND('Base Numbers'!$C$5*'Base Numbers'!$C$6/ROUND(H1079/(H783*'Caster Tables'!F79),2),0),0)","v":0},{"$f":"IF(AND(I9>=3,I79>=1),ROUND('Base Numbers'!$C$5*'Base Numbers'!$C$6/ROUND(I1079/(I783*'Caster Tables'!G79),2),0),0)","v":0},{"$f":"IF(AND(J9>=3,J79>=1),ROUND('Base Numbers'!$C$5*'Base Numbers'!$C$6/ROUND(J1079/(J783*'Caster Tables'!H79),2),0),0)","v":0},{"$f":"IF(AND(K9>=3,K79>=1),ROUND('Base Numbers'!$C$5*'Base Numbers'!$C$6/ROUND(K1079/(K783*'Caster Tables'!I79),2),0),0)","v":0},{"$f":"IF(AND(L9>=3,L79>=1),ROUND('Base Numbers'!$C$5*'Base Numbers'!$C$6/ROUND(L1079/(L783*'Caster Tables'!J79),2),0),0)","v":0},{"$f":"IF(AND(M9>=3,M79>=1),ROUND('Base Numbers'!$C$5*'Base Numbers'!$C$6/ROUND(M1079/(M783*'Caster Tables'!K79),2),0),0)","v":0},{"$f":"IF(AND(N9>=3,N79>=1),ROUND('Base Numbers'!$C$5*'Base Numbers'!$C$6/ROUND(N1079/(N783*'Caster Tables'!L79),2),0),0)","v":0},{"$f":"IF(AND(O9>=3,O79>=1),ROUND('Base Numbers'!$C$5*'Base Numbers'!$C$6/ROUND(O1079/(O783*'Caster Tables'!M79),2),0),0)","v":0},{"$f":"IF(AND(P9>=3,P79>=1),ROUND('Base Numbers'!$C$5*'Base Numbers'!$C$6/ROUND(P1079/(P783*'Caster Tables'!N79),2),0),0)","v":0},{"$f":"IF(AND(Q9>=3,Q79>=1),ROUND('Base Numbers'!$C$5*'Base Numbers'!$C$6/ROUND(Q1079/(Q783*'Caster Tables'!O79),2),0),0)","v":0},{"$f":"IF(AND(R9>=3,R79>=1),ROUND('Base Numbers'!$C$5*'Base Numbers'!$C$6/ROUND(R1079/(R783*'Caster Tables'!P79),2),0),0)","v":0},{"$f":"IF(AND(S9>=3,S79>=1),ROUND('Base Numbers'!$C$5*'Base Numbers'!$C$6/ROUND(S1079/(S783*'Caster Tables'!Q79),2),0),0)","v":0},{"$f":"IF(AND(T9>=3,T79>=1),ROUND('Base Numbers'!$C$5*'Base Numbers'!$C$6/ROUND(T1079/(T783*'Caster Tables'!R79),2),0),0)","v":0},{"$f":"IF(AND(U9>=3,U79>=1),ROUND('Base Numbers'!$C$5*'Base Numbers'!$C$6/ROUND(U1079/(U783*'Caster Tables'!S79),2),0),0)","v":0},{"$f":"IF(AND(V9>=3,V79>=1),ROUND('Base Numbers'!$C$5*'Base Numbers'!$C$6/ROUND(V1079/(V783*'Caster Tables'!T79),2),0),0)","v":0},{"$f":"IF(AND(W9>=3,W79>=1),ROUND('Base Numbers'!$C$5*'Base Numbers'!$C$6/ROUND(W1079/(W783*'Caster Tables'!U79),2),0),0)","v":0},{"$f":"IF(AND(X9>=3,X79>=1),ROUND('Base Numbers'!$C$5*'Base Numbers'!$C$6/ROUND(X1079/(X783*'Caster Tables'!V79),2),0),0)","v":0}]
[{"$nulls":3},"beastmaster beast of the sky damage per round of uptime (bonus action)",{"$f":"E1082*(E1081*(1-(1-E1080)^2)*E1083+(1-E1081)*E1080*E1083+E1084*2.5)","v":0},{"$f":"F1082*(F1081*(1-(1-F1080)^2)*F1083+(1-F1081)*F1080*F1083+F1084*2.5)","v":0},0,0,0,0,0,0,0,0,0,0,0,0,0,0,0,0,0,0,null,"requires bonus action to direct"]
[{"$nulls":3},"avg beastmaster beast damage per round",{"$f":"E1086*E1088","v":0},{"$f":"F1086*F1088","v":0},0,0,0,0,0,0,0,0,0,0,0,0,0,0,0,0,0,0]
[{"$nulls":3},"hunter colossus slayer trigger pct",0.85,0.85,0.85,0.85,0.85,0.85,0.85,0.85,0.85,0.85,0.85,0.85,0.85,0.85,0.85,0.85,0.85,0.85,0.85,0.85]
[{"$nulls":3},"avg hunter colossus slayer dmg own turn",{"$f":"IF(AND(E9>=3,E80>=1),E1391*4.5*E1090,0)","v":0},0,0,0,0,0,0,0,0,0,0,0,0,0,0,0,0,0,0,0]
[{"$nulls":3},"avg hunter colossus slayer crit dmg own turn",{"$f":"IF(AND(E9>=3,E80>=1),4.5*IF(E1368,(E583*E599+(1-E583)*E598)*4.5,E474),0)","v":0},0,0,0,0,0,0,0,0,0,0,0,0,0,0,0,0,0,0,0]
[{"$nulls":3},"avg hunter colossus slayer opp att dmg",{"$f":"IF(AND(E9>=3,E80>=1,E361>0),E361*E458*4.5+E473*4.5,0)","v":0},0,0,0,0,0,0,0,0,0,0,0,0,0,0,0,0,0,0,0]
[{"$nulls":3},"avg hunter multiattack opportunities per day",{"$f":"IF(AND(E9>=11,E80>=1),2*'Base Numbers'!$G$21,0)","v":0},{"$f":"IF(AND(F9>=11,F80>=1),2*'Base Numbers'!$G$21,0)","v":0},{"$f":"IF(AND(G9>=11,G80>=1),2*'Base Numbers'!$G$21,0)","v":0},{"$f":"IF(AND(H9>=11,H80>=1),2*'Base Numbers'!$G$21,0)","v":0},{"$f":"IF(AND(I9>=11,I80>=1),2*'Base Numbers'!$G$21,0)","v":0},{"$f":"IF(AND(J9>=11,J80>=1),2*'Base Numbers'!$G$21,0)","v":0},{"$f":"IF(AND(K9>=11,K80>=1),2*'Base Numbers'!$G$21,0)","v":0},{"$f":"IF(AND(L9>=11,L80>=1),2*'Base Numbers'!$G$21,0)","v":0},{"$f":"IF(AND(M9>=11,M80>=1),2*'Base Numbers'!$G$21,0)","v":0},{"$f":"IF(AND(N9>=11,N80>=1),2*'Base Numbers'!$G$21,0)","v":0},{"$f":"IF(AND(O9>=11,O80>=1),2*'Base Numbers'!$G$21,0)","v":0},{"$f":"IF(AND(P9>=11,P80>=1),2*'Base Numbers'!$G$21,0)","v":0},{"$f":"IF(AND(Q9>=11,Q80>=1),2*'Base Numbers'!$G$21,0)","v":0},{"$f":"IF(AND(R9>=11,R80>=1),2*'Base Numbers'!$G$21,0)","v":0},{"$f":"IF(AND(S9>=11,S80>=1),2*'Base Numbers'!$G$21,0)","v":0},{"$f":"IF(AND(T9>=11,T80>=1),2*'Base Numbers'!$G$21,0)","v":0},{"$f":"IF(AND(U9>=11,U80>=1),2*'Base Numbers'!$G$21,0)","v":0},{"$f":"IF(AND(V9>=11,V80>=1),2*'Base Numbers'!$G$21,0)","v":0},{"$f":"IF(AND(W9>=11,W80>=1),2*'Base Numbers'!$G$21,0)","v":0},{"$f":"IF(AND(X9>=11,X80>=1),2*'Base Numbers'!$G$21,0)","v":0}]
[{"$nulls":3},"avg hunter multiattack targets",{"$f":"3","v":3},{"$f":"3","v":3},{"$f":"3","v":3},{"$f":"3","v":3},{"$f":"3","v":3},{"$f":"3","v":3},{"$f":"3","v":3},{"$f":"3","v":3},{"$f":"3","v":3},{"$f":"3","v":3},{"$f":"3","v":3},{"$f":"3","v":3},{"$f":"3","v":3},{"$f":"3","v":3},{"$f":"3","v":3},{"$f":"3","v":3},{"$f":"3","v":3},{"$f":"3","v":3},{"$f":"3","v":3},{"$f":"3","v":3}]
[{"$nulls":3},"avg hunter multiattack damage per instance",{"$f":"IF(E1368,E1095*(E606+E601),E1095*(E528+E529))","v":13.200000000000001},13.200000000000001,12.225000000000001,12.225000000000001,13.200000000000001,12.225000000000001,12.225000000000001,12.225000000000001,12.225000000000001,12.225000000000001,12.225000000000001,11.25,12.225000000000001,12.225000000000001,11.25,11.25,12.225000000000001,11.25,11.25,11.25]
[{"$nulls":3},"avg hunter multiattack damage gain per round",{"$f":"E1094*(E1096-E1373-E1374)/('Base Numbers'!$C$5*'Base Numbers'!$C$6)","v":0},{"$f":"F1094*(F1096-F1373-F1374)/('Base Numbers'!$C$5*'Base Numbers'!$C$6)","v":0},{"$f":"G1094*(G1096-G1373-G1374)/('Base Numbers'!$C$5*'Base Numbers'!$C$6)","v":0},{"$f":"H1094*(H1096-H1373-H1374)/('Base Numbers'!$C$5*'Base Numbers'!$C$6)","v":0},{"$f":"I1094*(I1096-I1373-I1374)/('Base Numbers'!$C$5*'Base Numbers'!$C$6)","v":0},{"$f":"J1094*(J1096-J1373-J1374)/('Base Numbers'!$C$5*'Base Numbers'!$C$6)","v":0},{"$f":"K1094*(K1096-K1373-K1374)/('Base Numbers'!$C$5*'Base Numbers'!$C$6)","v":0},{"$f":"L1094*(L1096-L1373-L1374)/('Base Numbers'!$C$5*'Base Numbers'!$C$6)","v":0},{"$f":"M1094*(M1096-M1373-M1374)/('Base Numbers'!$C$5*'Base Numbers'!$C$6)","v":0},{"$f":"N1094*(N1096-N1373-N1374)/('Base Numbers'!$C$5*'Base Numbers'!$C$6)","v":0},{"$f":"O1094*(O1096-O1373-O1374)/('Base Numbers'!$C$5*'Base Numbers'!$C$6)","v":0},{"$f":"P1094*(P1096-P1373-P1374)/('Base Numbers'!$C$5*'Base Numbers'!$C$6)","v":0},{"$f":"Q1094*(Q1096-Q1373-Q1374)/('Base Numbers'!$C$5*'Base Numbers'!$C$6)","v":0},{"$f":"R1094*(R1096-R1373-R1374)/('Base Numbers'!$C$5*'Base Numbers'!$C$6)","v":0},{"$f":"S1094*(S1096-S1373-S1374)/('Base Numbers'!$C$5*'Base Numbers'!$C$6)","v":0},{"$f":"T1094*(T1096-T1373-T1374)/('Base Numbers'!$C$5*'Base Numbers'!$C$6)","v":0},{"$f":"U1094*(U1096-U1373-U1374)/('Base Numbers'!$C$5*'Base Numbers'!$C$6)","v":0},{"$f":"V1094*(V1096-V1373-V1374)/('Base Numbers'!$C$5*'Base Numbers'!$C$6)","v":0},{"$f":"W1094*(W1096-W1373-W1374)/('Base Numbers'!$C$5*'Base Numbers'!$C$6)","v":0},{"$f":"X1094*(X1096-X1373-X1374)/('Base Numbers'!$C$5*'Base Numbers'!$C$6)","v":0}]
[{"$nulls":3},"total hunter bonus damage per round",{"$f":"E1097+E1091+E1092+E1093","v":0},{"$f":"F1097+F1091+F1092+F1093","v":0},0,0,0,0,0,0,0,0,0,0,0,0,0,0,0,0,0,0]
[{"$nulls":3},"additional Foe Slayer daamge per round (L20)",{"$f":"IF(E9>=20,E34*0.05*IF(E1368,(E594+E596),E509+E511),0)","v":0},0,0,0,0,0,0,0,0,0,0,0,0,0,0,0,0,0,0,0]
[{"$nulls":3},"total bonus Ranger damage avg per round",{"$f":"IF(E9>=1,(E1066)/'Base Numbers'!$C$6,0)+E1070+E1074+E1075+E1060+E1061+E1077+E1078+E1089+E1098+E1099","v":0},{"$f":"IF(F9>=1,(F1066)/'Base Numbers'!$C$6,0)+F1070+F1074+F1075+F1060+F1061+F1077+F1078+F1089+F1098+F1099","v":0},{"$f":"IF(G9>=1,(G1066)/'Base Numbers'!$C$6,0)+G1070+G1074+G1075+G1060+G1061+G1077+G1078+G1089+G1098+G1099","v":0},{"$f":"IF(H9>=1,(H1066)/'Base Numbers'!$C$6,0)+H1070+H1074+H1075+H1060+H1061+H1077+H1078+H1089+H1098+H1099","v":0},{"$f":"IF(I9>=1,(I1066)/'Base Numbers'!$C$6,0)+I1070+I1074+I1075+I1060+I1061+I1077+I1078+I1089+I1098+I1099","v":0},{"$f":"IF(J9>=1,(J1066)/'Base Numbers'!$C$6,0)+J1070+J1074+J1075+J1060+J1061+J1077+J1078+J1089+J1098+J1099","v":0},{"$f":"IF(K9>=1,(K1066)/'Base Numbers'!$C$6,0)+K1070+K1074+K1075+K1060+K1061+K1077+K1078+K1089+K1098+K1099","v":0},{"$f":"IF(L9>=1,(L1066)/'Base Numbers'!$C$6,0)+L1070+L1074+L1075+L1060+L1061+L1077+L1078+L1089+L1098+L1099","v":0},{"$f":"IF(M9>=1,(M1066)/'Base Numbers'!$C$6,0)+M1070+M1074+M1075+M1060+M1061+M1077+M1078+M1089+M1098+M1099","v":0},{"$f":"IF(N9>=1,(N1066)/'Base Numbers'!$C$6,0)+N1070+N1074+N1075+N1060+N1061+N1077+N1078+N1089+N1098+N1099","v":0},{"$f":"IF(O9>=1,(O1066)/'Base Numbers'!$C$6,0)+O1070+O1074+O1075+O1060+O1061+O1077+O1078+O1089+O1098+O1099","v":0},{"$f":"IF(P9>=1,(P1066)/'Base Numbers'!$C$6,0)+P1070+P1074+P1075+P1060+P1061+P1077+P1078+P1089+P1098+P1099","v":0},{"$f":"IF(Q9>=1,(Q1066)/'Base Numbers'!$C$6,0)+Q1070+Q1074+Q1075+Q1060+Q1061+Q1077+Q1078+Q1089+Q1098+Q1099","v":0},{"$f":"IF(R9>=1,(R1066)/'Base Numbers'!$C$6,0)+R1070+R1074+R1075+R1060+R1061+R1077+R1078+R1089+R1098+R1099","v":0},{"$f":"IF(S9>=1,(S1066)/'Base Numbers'!$C$6,0)+S1070+S1074+S1075+S1060+S1061+S1077+S1078+S1089+S1098+S1099","v":0},{"$f":"IF(T9>=1,(T1066)/'Base Numbers'!$C$6,0)+T1070+T1074+T1075+T1060+T1061+T1077+T1078+T1089+T1098+T1099","v":0},{"$f":"IF(U9>=1,(U1066)/'Base Numbers'!$C$6,0)+U1070+U1074+U1075+U1060+U1061+U1077+U1078+U1089+U1098+U1099","v":0},{"$f":"IF(V9>=1,(V1066)/'Base Numbers'!$C$6,0)+V1070+V1074+V1075+V1060+V1061+V1077+V1078+V1089+V1098+V1099","v":0},{"$f":"IF(W9>=1,(W1066)/'Base Numbers'!$C$6,0)+W1070+W1074+W1075+W1060+W1061+W1077+W1078+W1089+W1098+W1099","v":0},{"$f":"IF(X9>=1,(X1066)/'Base Numbers'!$C$6,0)+X1070+X1074+X1075+X1060+X1061+X1077+X1078+X1089+X1098+X1099","v":0}]
[]
[{"$nulls":3},"FIGHTER DAMAGE"]
[{"$nulls":3},"action surges per day",{"$f":"IF(E10>=17,2,IF(E10>=2,1,0))*(1+'Base Numbers'!$C$7)","v":0},{"$f":"IF(F10>=17,2,IF(F10>=2,1,0))*(1+'Base Numbers'!$C$7)","v":0},{"$f":"IF(G10>=17,2,IF(G10>=2,1,0))*(1+'Base Numbers'!$C$7)","v":0},{"$f":"IF(H10>=17,2,IF(H10>=2,1,0))*(1+'Base Numbers'!$C$7)","v":0},{"$f":"IF(I10>=17,2,IF(I10>=2,1,0))*(1+'Base Numbers'!$C$7)","v":0},{"$f":"IF(J10>=17,2,IF(J10>=2,1,0))*(1+'Base Numbers'!$C$7)","v":0},{"$f":"IF(K10>=17,2,IF(K10>=2,1,0))*(1+'Base Numbers'!$C$7)","v":0},{"$f":"IF(L10>=17,2,IF(L10>=2,1,0))*(1+'Base Numbers'!$C$7)","v":0},{"$f":"IF(M10>=17,2,IF(M10>=2,1,0))*(1+'Base Numbers'!$C$7)","v":0},{"$f":"IF(N10>=17,2,IF(N10>=2,1,0))*(1+'Base Numbers'!$C$7)","v":0},{"$f":"IF(O10>=17,2,IF(O10>=2,1,0))*(1+'Base Numbers'!$C$7)","v":0},{"$f":"IF(P10>=17,2,IF(P10>=2,1,0))*(1+'Base Numbers'!$C$7)","v":0},{"$f":"IF(Q10>=17,2,IF(Q10>=2,1,0))*(1+'Base Numbers'!$C$7)","v":0},{"$f":"IF(R10>=17,2,IF(R10>=2,1,0))*(1+'Base Numbers'!$C$7)","v":0},{"$f":"IF(S10>=17,2,IF(S10>=2,1,0))*(1+'Base Numbers'!$C$7)","v":0},{"$f":"IF(T10>=17,2,IF(T10>=2,1,0))*(1+'Base Numbers'!$C$7)","v":0},{"$f":"IF(U10>=17,2,IF(U10>=2,1,0))*(1+'Base Numbers'!$C$7)","v":0},{"$f":"IF(V10>=17,2,IF(V10>=2,1,0))*(1+'Base Numbers'!$C$7)","v":0},{"$f":"IF(W10>=17,2,IF(W10>=2,1,0))*(1+'Base Numbers'!$C$7)","v":0},{"$f":"IF(X10>=17,2,IF(X10>=2,1,0))*(1+'Base Numbers'!$C$7)","v":0}]
[{"$nulls":3},"eldritch knight L7: weapon bonus attack with BB cantrip main action",{"$f":"(E536+E537)*('Base Numbers'!$C$5*'Base Numbers'!$C$6-E286-E292)/('Base Numbers'!$C$5*'Base Numbers'!$C$6)/E322+E554*(1-E287)","v":1.9500000000000002},{"$f":"(F536+F537)*('Base Numbers'!$C$5*'Base Numbers'!$C$6-F286-F292)/('Base Numbers'!$C$5*'Base Numbers'!$C$6)/F322+F554*(1-F287)","v":1.9500000000000002},{"$f":"(G536+G537)*('Base Numbers'!$C$5*'Base Numbers'!$C$6-G286-G292)/('Base Numbers'!$C$5*'Base Numbers'!$C$6)/G322+G554*(1-G287)","v":1.7999999999999998},{"$f":"(H536+H537)*('Base Numbers'!$C$5*'Base Numbers'!$C$6-H286-H292)/('Base Numbers'!$C$5*'Base Numbers'!$C$6)/H322+H554*(1-H287)","v":1.7999999999999998},{"$f":"(I536+I537)*('Base Numbers'!$C$5*'Base Numbers'!$C$6-I286-I292)/('Base Numbers'!$C$5*'Base Numbers'!$C$6)/I322+I554*(1-I287)","v":1.9500000000000002},{"$f":"(J536+J537)*('Base Numbers'!$C$5*'Base Numbers'!$C$6-J286-J292)/('Base Numbers'!$C$5*'Base Numbers'!$C$6)/J322+J554*(1-J287)","v":1.7999999999999998},{"$f":"(K536+K537)*('Base Numbers'!$C$5*'Base Numbers'!$C$6-K286-K292)/('Base Numbers'!$C$5*'Base Numbers'!$C$6)/K322+K554*(1-K287)","v":1.7999999999999998},{"$f":"(L536+L537)*('Base Numbers'!$C$5*'Base Numbers'!$C$6-L286-L292)/('Base Numbers'!$C$5*'Base Numbers'!$C$6)/L322+L554*(1-L287)","v":1.7999999999999998},{"$f":"(M536+M537)*('Base Numbers'!$C$5*'Base Numbers'!$C$6-M286-M292)/('Base Numbers'!$C$5*'Base Numbers'!$C$6)/M322+M554*(1-M287)","v":1.7999999999999998},{"$f":"(N536+N537)*('Base Numbers'!$C$5*'Base Numbers'!$C$6-N286-N292)/('Base Numbers'!$C$5*'Base Numbers'!$C$6)/N322+N554*(1-N287)","v":1.7999999999999998},{"$f":"(O536+O537)*('Base Numbers'!$C$5*'Base Numbers'!$C$6-O286-O292)/('Base Numbers'!$C$5*'Base Numbers'!$C$6)/O322+O554*(1-O287)","v":1.7999999999999998},{"$f":"(P536+P537)*('Base Numbers'!$C$5*'Base Numbers'!$C$6-P286-P292)/('Base Numbers'!$C$5*'Base Numbers'!$C$6)/P322+P554*(1-P287)","v":1.6500000000000001},{"$f":"(Q536+Q537)*('Base Numbers'!$C$5*'Base Numbers'!$C$6-Q286-Q292)/('Base Numbers'!$C$5*'Base Numbers'!$C$6)/Q322+Q554*(1-Q287)","v":1.7999999999999998},{"$f":"(R536+R537)*('Base Numbers'!$C$5*'Base Numbers'!$C$6-R286-R292)/('Base Numbers'!$C$5*'Base Numbers'!$C$6)/R322+R554*(1-R287)","v":1.7999999999999998},{"$f":"(S536+S537)*('Base Numbers'!$C$5*'Base Numbers'!$C$6-S286-S292)/('Base Numbers'!$C$5*'Base Numbers'!$C$6)/S322+S554*(1-S287)","v":1.6500000000000001},{"$f":"(T536+T537)*('Base Numbers'!$C$5*'Base Numbers'!$C$6-T286-T292)/('Base Numbers'!$C$5*'Base Numbers'!$C$6)/T322+T554*(1-T287)","v":1.6500000000000001},{"$f":"(U536+U537)*('Base Numbers'!$C$5*'Base Numbers'!$C$6-U286-U292)/('Base Numbers'!$C$5*'Base Numbers'!$C$6)/U322+U554*(1-U287)","v":1.7999999999999998},{"$f":"(V536+V537)*('Base Numbers'!$C$5*'Base Numbers'!$C$6-V286-V292)/('Base Numbers'!$C$5*'Base Numbers'!$C$6)/V322+V554*(1-V287)","v":1.6500000000000001},{"$f":"(W536+W537)*('Base Numbers'!$C$5*'Base Numbers'!$C$6-W286-W292)/('Base Numbers'!$C$5*'Base Numbers'!$C$6)/W322+W554*(1-W287)","v":1.6500000000000001},{"$f":"(X536+X537)*('Base Numbers'!$C$5*'Base Numbers'!$C$6-X286-X292)/('Base Numbers'!$C$5*'Base Numbers'!$C$6)/X322+X554*(1-X287)","v":1.6500000000000001}]
[{"$nulls":3},"eldritch knight: max damage scenario regular damage (main + bonus)",{"$f":"E1373+E1374","v":4.4},{"$f":"F1373+F1374","v":4.4},4.075,4.075,4.4,4.075,4.075,4.075,4.075,4.075,4.075,3.75,4.075,4.075,3.75,3.75,4.075,3.75,3.75,3.75]
[{"$nulls":3},"total bonus L7 Eldritch Knight damage",{"$f":"IF(AND(E10>=7,E54>=1),MAX(0,E1104-E1105),0)","v":0},0,0,0,0,0,0,0,0,0,0,0,0,0,0,0,0,0,0,0]
[{"$nulls":3},"battlemsaster dice per day",{"$f":"(IF(AND($B$60>=1,E6>=$B$60),1,0)+IF(E52>=1,IF(E10>=15,6,IF(E10>=7,5,IF(E10>=3,4,0))),0))*(1+'Base Numbers'!$C$7)+IF(AND(E52>=1,E10>=15),'Base Numbers'!$C$5-(1+'Base Numbers'!$C$7),0)","v":0},{"$f":"(IF(AND($B$60>=1,F6>=$B$60),1,0)+IF(F52>=1,IF(F10>=15,6,IF(F10>=7,5,IF(F10>=3,4,0))),0))*(1+'Base Numbers'!$C$7)+IF(AND(F52>=1,F10>=15),'Base Numbers'!$C$5-(1+'Base Numbers'!$C$7),0)","v":0},{"$f":"(IF(AND($B$60>=1,G6>=$B$60),1,0)+IF(G52>=1,IF(G10>=15,6,IF(G10>=7,5,IF(G10>=3,4,0))),0))*(1+'Base Numbers'!$C$7)+IF(AND(G52>=1,G10>=15),'Base Numbers'!$C$5-(1+'Base Numbers'!$C$7),0)","v":0},{"$f":"(IF(AND($B$60>=1,H6>=$B$60),1,0)+IF(H52>=1,IF(H10>=15,6,IF(H10>=7,5,IF(H10>=3,4,0))),0))*(1+'Base Numbers'!$C$7)+IF(AND(H52>=1,H10>=15),'Base Numbers'!$C$5-(1+'Base Numbers'!$C$7),0)","v":0},{"$f":"(IF(AND($B$60>=1,I6>=$B$60),1,0)+IF(I52>=1,IF(I10>=15,6,IF(I10>=7,5,IF(I10>=3,4,0))),0))*(1+'Base Numbers'!$C$7)+IF(AND(I52>=1,I10>=15),'Base Numbers'!$C$5-(1+'Base Numbers'!$C$7),0)","v":0},{"$f":"(IF(AND($B$60>=1,J6>=$B$60),1,0)+IF(J52>=1,IF(J10>=15,6,IF(J10>=7,5,IF(J10>=3,4,0))),0))*(1+'Base Numbers'!$C$7)+IF(AND(J52>=1,J10>=15),'Base Numbers'!$C$5-(1+'Base Numbers'!$C$7),0)","v":0},{"$f":"(IF(AND($B$60>=1,K6>=$B$60),1,0)+IF(K52>=1,IF(K10>=15,6,IF(K10>=7,5,IF(K10>=3,4,0))),0))*(1+'Base Numbers'!$C$7)+IF(AND(K52>=1,K10>=15),'Base Numbers'!$C$5-(1+'Base Numbers'!$C$7),0)","v":0},{"$f":"(IF(AND($B$60>=1,L6>=$B$60),1,0)+IF(L52>=1,IF(L10>=15,6,IF(L10>=7,5,IF(L10>=3,4,0))),0))*(1+'Base Numbers'!$C$7)+IF(AND(L52>=1,L10>=15),'Base Numbers'!$C$5-(1+'Base Numbers'!$C$7),0)","v":0},{"$f":"(IF(AND($B$60>=1,M6>=$B$60),1,0)+IF(M52>=1,IF(M10>=15,6,IF(M10>=7,5,IF(M10>=3,4,0))),0))*(1+'Base Numbers'!$C$7)+IF(AND(M52>=1,M10>=15),'Base Numbers'!$C$5-(1+'Base Numbers'!$C$7),0)","v":0},{"$f":"(IF(AND($B$60>=1,N6>=$B$60),1,0)+IF(N52>=1,IF(N10>=15,6,IF(N10>=7,5,IF(N10>=3,4,0))),0))*(1+'Base Numbers'!$C$7)+IF(AND(N52>=1,N10>=15),'Base Numbers'!$C$5-(1+'Base Numbers'!$C$7),0)","v":0},{"$f":"(IF(AND($B$60>=1,O6>=$B$60),1,0)+IF(O52>=1,IF(O10>=15,6,IF(O10>=7,5,IF(O10>=3,4,0))),0))*(1+'Base Numbers'!$C$7)+IF(AND(O52>=1,O10>=15),'Base Numbers'!$C$5-(1+'Base Numbers'!$C$7),0)","v":0},{"$f":"(IF(AND($B$60>=1,P6>=$B$60),1,0)+IF(P52>=1,IF(P10>=15,6,IF(P10>=7,5,IF(P10>=3,4,0))),0))*(1+'Base Numbers'!$C$7)+IF(AND(P52>=1,P10>=15),'Base Numbers'!$C$5-(1+'Base Numbers'!$C$7),0)","v":0},{"$f":"(IF(AND($B$60>=1,Q6>=$B$60),1,0)+IF(Q52>=1,IF(Q10>=15,6,IF(Q10>=7,5,IF(Q10>=3,4,0))),0))*(1+'Base Numbers'!$C$7)+IF(AND(Q52>=1,Q10>=15),'Base Numbers'!$C$5-(1+'Base Numbers'!$C$7),0)","v":0},{"$f":"(IF(AND($B$60>=1,R6>=$B$60),1,0)+IF(R52>=1,IF(R10>=15,6,IF(R10>=7,5,IF(R10>=3,4,0))),0))*(1+'Base Numbers'!$C$7)+IF(AND(R52>=1,R10>=15),'Base Numbers'!$C$5-(1+'Base Numbers'!$C$7),0)","v":0},{"$f":"(IF(AND($B$60>=1,S6>=$B$60),1,0)+IF(S52>=1,IF(S10>=15,6,IF(S10>=7,5,IF(S10>=3,4,0))),0))*(1+'Base Numbers'!$C$7)+IF(AND(S52>=1,S10>=15),'Base Numbers'!$C$5-(1+'Base Numbers'!$C$7),0)","v":0},{"$f":"(IF(AND($B$60>=1,T6>=$B$60),1,0)+IF(T52>=1,IF(T10>=15,6,IF(T10>=7,5,IF(T10>=3,4,0))),0))*(1+'Base Numbers'!$C$7)+IF(AND(T52>=1,T10>=15),'Base Numbers'!$C$5-(1+'Base Numbers'!$C$7),0)","v":0},{"$f":"(IF(AND($B$60>=1,U6>=$B$60),1,0)+IF(U52>=1,IF(U10>=15,6,IF(U10>=7,5,IF(U10>=3,4,0))),0))*(1+'Base Numbers'!$C$7)+IF(AND(U52>=1,U10>=15),'Base Numbers'!$C$5-(1+'Base Numbers'!$C$7),0)","v":0},{"$f":"(IF(AND($B$60>=1,V6>=$B$60),1,0)+IF(V52>=1,IF(V10>=15,6,IF(V10>=7,5,IF(V10>=3,4,0))),0))*(1+'Base Numbers'!$C$7)+IF(AND(V52>=1,V10>=15),'Base Numbers'!$C$5-(1+'Base Numbers'!$C$7),0)","v":0},{"$f":"(IF(AND($B$60>=1,W6>=$B$60),1,0)+IF(W52>=1,IF(W10>=15,6,IF(W10>=7,5,IF(W10>=3,4,0))),0))*(1+'Base Numbers'!$C$7)+IF(AND(W52>=1,W10>=15),'Base Numbers'!$C$5-(1+'Base Numbers'!$C$7),0)","v":0},{"$f":"(IF(AND($B$60>=1,X6>=$B$60),1,0)+IF(X52>=1,IF(X10>=15,6,IF(X10>=7,5,IF(X10>=3,4,0))),0))*(1+'Base Numbers'!$C$7)+IF(AND(X52>=1,X10>=15),'Base Numbers'!$C$5-(1+'Base Numbers'!$C$7),0)","v":0}]
[{"$nulls":3},"battlemaster dice size",{"$f":"IF(E52>=1,IF(E10>=18,6.5,IF(E10>=10,5.5,IF(E10>=3,4.5,0))),IF(E1107>0,3.5,0))","v":0},0,0,0,0,0,0,0,0,0,0,0,0,0,0,0,0,0,0,0]
[{"$nulls":3},"precision attack",{"$f":"IF(E1111>=1,0,1)","v":0},{"$f":"IF(F1111>=1,0,1)","v":0},0,{"$f":"IF(H1111>=1,0,1)","v":0},0,0,0,{"$f":"IF(L1111>=1,0,1)","v":0},0,0,0,0,0,0,0,0,1,0,0,0]
[{"$nulls":3},"trip attack (basically always inferior)",0,0,0,0,0,0,0,0,0,0,0,0,0,0,0,0,0,0,0,0]
[{"$nulls":3},"reposte attack",{"$f":"IF(AND(E27=0,E137=0),1,0)","v":1},1,1,1,1,1,1,1,1,1,1,1,1,1,1,1,0,{"$f":"IF(AND(V27=0,V137=0),1,0)","v":1},{"$f":"IF(AND(W27=0,W137=0),1,0)","v":1},{"$f":"IF(AND(X27=0,X137=0),1,0)","v":1}]
[{"$nulls":3},"trip attack success prob (str save)",{"$f":"MAX(0,0.65+(E35+MAX(E30,E31)-'Caster Tables'!C73)/20)*(1+'Caster Tables'!C9)/2","v":0.89},{"$f":"MAX(0,0.65+(F35+MAX(F30,F31)-'Caster Tables'!D73)/20)*(1+'Caster Tables'!D9)/2","v":0.843375},{"$f":"MAX(0,0.65+(G35+MAX(G30,G31)-'Caster Tables'!E73)/20)*(1+'Caster Tables'!E9)/2","v":0.7919999999999999},{"$f":"MAX(0,0.65+(H35+MAX(H30,H31)-'Caster Tables'!F73)/20)*(1+'Caster Tables'!F9)/2","v":0.7505},{"$f":"MAX(0,0.65+(I35+MAX(I30,I31)-'Caster Tables'!G73)/20)*(1+'Caster Tables'!G9)/2","v":0.7631249999999999},{"$f":"MAX(0,0.65+(J35+MAX(J30,J31)-'Caster Tables'!H73)/20)*(1+'Caster Tables'!H9)/2","v":0.7200000000000001},{"$f":"MAX(0,0.65+(K35+MAX(K30,K31)-'Caster Tables'!I73)/20)*(1+'Caster Tables'!I9)/2","v":0.7000000000000001},{"$f":"MAX(0,0.65+(L35+MAX(L30,L31)-'Caster Tables'!J73)/20)*(1+'Caster Tables'!J9)/2","v":0.66725},{"$f":"MAX(0,0.65+(M35+MAX(M30,M31)-'Caster Tables'!K73)/20)*(1+'Caster Tables'!K9)/2","v":0.6765},{"$f":"MAX(0,0.65+(N35+MAX(N30,N31)-'Caster Tables'!L73)/20)*(1+'Caster Tables'!L9)/2","v":0.6400000000000001},{"$f":"MAX(0,0.65+(O35+MAX(O30,O31)-'Caster Tables'!M73)/20)*(1+'Caster Tables'!M9)/2","v":0.608375},{"$f":"MAX(0,0.65+(P35+MAX(P30,P31)-'Caster Tables'!N73)/20)*(1+'Caster Tables'!N9)/2","v":0.5775},{"$f":"MAX(0,0.65+(Q35+MAX(Q30,Q31)-'Caster Tables'!O73)/20)*(1+'Caster Tables'!O9)/2","v":0.5599999999999999},{"$f":"MAX(0,0.65+(R35+MAX(R30,R31)-'Caster Tables'!P73)/20)*(1+'Caster Tables'!P9)/2","v":0.5332500000000001},{"$f":"MAX(0,0.65+(S35+MAX(S30,S31)-'Caster Tables'!Q73)/20)*(1+'Caster Tables'!Q9)/2","v":0.507},{"$f":"MAX(0,0.65+(T35+MAX(T30,T31)-'Caster Tables'!R73)/20)*(1+'Caster Tables'!R9)/2","v":0.5005000000000001},{"$f":"MAX(0,0.65+(U35+MAX(U30,U31)-'Caster Tables'!S73)/20)*(1+'Caster Tables'!S9)/2","v":0.5062500000000001},{"$f":"MAX(0,0.65+(V35+MAX(V30,V31)-'Caster Tables'!T73)/20)*(1+'Caster Tables'!T9)/2","v":0.5},{"$f":"MAX(0,0.65+(W35+MAX(W30,W31)-'Caster Tables'!U73)/20)*(1+'Caster Tables'!U9)/2","v":0.44999999999999996},{"$f":"MAX(0,0.65+(X35+MAX(X30,X31)-'Caster Tables'!V73)/20)*(1+'Caster Tables'!V9)/2","v":0.42000000000000004}]
[{"$nulls":3},"max possible opp attacks from reposte",{"$f":"IF(E1111>=1,0.65*E1107/('Base Numbers'!$C$5*'Base Numbers'!$C$6),0)","v":0},{"$f":"IF(F1111>=1,0.65*F1107/('Base Numbers'!$C$5*'Base Numbers'!$C$6),0)","v":0},{"$f":"IF(G1111>=1,0.65*G1107/('Base Numbers'!$C$5*'Base Numbers'!$C$6),0)","v":0},{"$f":"IF(H1111>=1,0.65*H1107/('Base Numbers'!$C$5*'Base Numbers'!$C$6),0)","v":0},{"$f":"IF(I1111>=1,0.65*I1107/('Base Numbers'!$C$5*'Base Numbers'!$C$6),0)","v":0},{"$f":"IF(J1111>=1,0.65*J1107/('Base Numbers'!$C$5*'Base Numbers'!$C$6),0)","v":0},{"$f":"IF(K1111>=1,0.65*K1107/('Base Numbers'!$C$5*'Base Numbers'!$C$6),0)","v":0},{"$f":"IF(L1111>=1,0.65*L1107/('Base Numbers'!$C$5*'Base Numbers'!$C$6),0)","v":0},{"$f":"IF(M1111>=1,0.65*M1107/('Base Numbers'!$C$5*'Base Numbers'!$C$6),0)","v":0},{"$f":"IF(N1111>=1,0.65*N1107/('Base Numbers'!$C$5*'Base Numbers'!$C$6),0)","v":0},{"$f":"IF(O1111>=1,0.65*O1107/('Base Numbers'!$C$5*'Base Numbers'!$C$6),0)","v":0},{"$f":"IF(P1111>=1,0.65*P1107/('Base Numbers'!$C$5*'Base Numbers'!$C$6),0)","v":0},{"$f":"IF(Q1111>=1,0.65*Q1107/('Base Numbers'!$C$5*'Base Numbers'!$C$6),0)","v":0},{"$f":"IF(R1111>=1,0.65*R1107/('Base Numbers'!$C$5*'Base Numbers'!$C$6),0)","v":0},{"$f":"IF(S1111>=1,0.65*S1107/('Base Numbers'!$C$5*'Base Numbers'!$C$6),0)","v":0},{"$f":"IF(T1111>=1,0.65*T1107/('Base Numbers'!$C$5*'Base Numbers'!$C$6),0)","v":0},{"$f":"IF(U1111>=1,0.65*U1107/('Base Numbers'!$C$5*'Base Numbers'!$C$6),0)","v":0},{"$f":"IF(V1111>=1,0.65*V1107/('Base Numbers'!$C$5*'Base Numbers'!$C$6),0)","v":0},{"$f":"IF(W1111>=1,0.65*W1107/('Base Numbers'!$C$5*'Base Numbers'!$C$6),0)","v":0},{"$f":"IF(X1111>=1,0.65*X1107/('Base Numbers'!$C$5*'Base Numbers'!$C$6),0)","v":0}]
[{"$nulls":3},"precision attack conversion prob",0.7,0.7,0.7,0.7,0.7,0.7,0.7,0.7,0.7,0.7,0.7,0.7,0.7,0.7,0.7,0.7,0.7,0.7,0.7,0.7]
[{"$nulls":3},"additional precision attack damage per day ",{"$f":"E1114*E1107*(E509+E511)","v":0},0,0,0,0,0,0,0,0,0,0,0,0,0,0,0,0,0,0,0]
[{"$nulls":3},"total battlemaster dice damage per day",{"$f":"IF(E1109=0,1.25*E1107*E1108,E1115)","v":0},{"$f":"IF(F1109=0,1.25*F1107*F1108,F1115)","v":0},{"$f":"IF(G1109=0,1.25*G1107*G1108,G1115)","v":0},{"$f":"IF(H1109=0,1.25*H1107*H1108,H1115)","v":0},{"$f":"IF(I1109=0,1.25*I1107*I1108,I1115)","v":0},0,0,0,0,0,0,0,0,0,0,0,0,0,0,0]
[{"$nulls":3},"avg battlemaster dice damage per round",{"$f":"E1116/('Base Numbers'!$C$5*'Base Numbers'!$C$6)","v":0},{"$f":"F1116/('Base Numbers'!$C$5*'Base Numbers'!$C$6)","v":0},{"$f":"G1116/('Base Numbers'!$C$5*'Base Numbers'!$C$6)","v":0},{"$f":"H1116/('Base Numbers'!$C$5*'Base Numbers'!$C$6)","v":0},{"$f":"I1116/('Base Numbers'!$C$5*'Base Numbers'!$C$6)","v":0},{"$f":"J1116/('Base Numbers'!$C$5*'Base Numbers'!$C$6)","v":0},{"$f":"K1116/('Base Numbers'!$C$5*'Base Numbers'!$C$6)","v":0},{"$f":"L1116/('Base Numbers'!$C$5*'Base Numbers'!$C$6)","v":0},{"$f":"M1116/('Base Numbers'!$C$5*'Base Numbers'!$C$6)","v":0},{"$f":"N1116/('Base Numbers'!$C$5*'Base Numbers'!$C$6)","v":0},{"$f":"O1116/('Base Numbers'!$C$5*'Base Numbers'!$C$6)","v":0},{"$f":"P1116/('Base Numbers'!$C$5*'Base Numbers'!$C$6)","v":0},{"$f":"Q1116/('Base Numbers'!$C$5*'Base Numbers'!$C$6)","v":0},{"$f":"R1116/('Base Numbers'!$C$5*'Base Numbers'!$C$6)","v":0},{"$f":"S1116/('Base Numbers'!$C$5*'Base Numbers'!$C$6)","v":0},{"$f":"T1116/('Base Numbers'!$C$5*'Base Numbers'!$C$6)","v":0},{"$f":"U1116/('Base Numbers'!$C$5*'Base Numbers'!$C$6)","v":0},{"$f":"V1116/('Base Numbers'!$C$5*'Base Numbers'!$C$6)","v":0},{"$f":"W1116/('Base Numbers'!$C$5*'Base Numbers'!$C$6)","v":0},{"$f":"X1116/('Base Numbers'!$C$5*'Base Numbers'!$C$6)","v":0}]
[{"$nulls":3},"psi-warrior dice per day",{"$f":"IF(AND(E10>=3,E58),2*E35+1+'Base Numbers'!$C$7,0)","v":0},{"$f":"IF(AND(F10>=3,F58),2*F35+1+'Base Numbers'!$C$7,0)","v":0},{"$f":"IF(AND(G10>=3,G58),2*G35+1+'Base Numbers'!$C$7,0)","v":0},{"$f":"IF(AND(H10>=3,H58),2*H35+1+'Base Numbers'!$C$7,0)","v":0},{"$f":"IF(AND(I10>=3,I58),2*I35+1+'Base Numbers'!$C$7,0)","v":0},{"$f":"IF(AND(J10>=3,J58),2*J35+1+'Base Numbers'!$C$7,0)","v":0},{"$f":"IF(AND(K10>=3,K58),2*K35+1+'Base Numbers'!$C$7,0)","v":0},{"$f":"IF(AND(L10>=3,L58),2*L35+1+'Base Numbers'!$C$7,0)","v":0},{"$f":"IF(AND(M10>=3,M58),2*M35+1+'Base Numbers'!$C$7,0)","v":0},{"$f":"IF(AND(N10>=3,N58),2*N35+1+'Base Numbers'!$C$7,0)","v":0},{"$f":"IF(AND(O10>=3,O58),2*O35+1+'Base Numbers'!$C$7,0)","v":0},{"$f":"IF(AND(P10>=3,P58),2*P35+1+'Base Numbers'!$C$7,0)","v":0},{"$f":"IF(AND(Q10>=3,Q58),2*Q35+1+'Base Numbers'!$C$7,0)","v":0},{"$f":"IF(AND(R10>=3,R58),2*R35+1+'Base Numbers'!$C$7,0)","v":0},{"$f":"IF(AND(S10>=3,S58),2*S35+1+'Base Numbers'!$C$7,0)","v":0},{"$f":"IF(AND(T10>=3,T58),2*T35+1+'Base Numbers'!$C$7,0)","v":0},{"$f":"IF(AND(U10>=3,U58),2*U35+1+'Base Numbers'!$C$7,0)","v":0},{"$f":"IF(AND(V10>=3,V58),2*V35+1+'Base Numbers'!$C$7,0)","v":0},{"$f":"IF(AND(W10>=3,W58),2*W35+1+'Base Numbers'!$C$7,0)","v":0},{"$f":"IF(AND(X10>=3,X58),2*X35+1+'Base Numbers'!$C$7,0)","v":0}]
[{"$nulls":3},"psi-warrior avg dice roll",{"$f":"IF(E10>=3,3.5,0)+IF(E10>=5,1,0)+IF(E10>=11,1,0)+IF(E10>=17,1,0)","v":0},0,0,0,0,0,0,0,0,0,0,0,0,0,0,0,0,0,0,0]
[{"$nulls":3},"psionic strike prone success prob",{"$f":"MAX(0,IF(AND(E10>=7,E58>=1),(1-E130+(E33-E32)/20),0),0)*(1+'Caster Tables'!C9)/2","v":0},{"$f":"MAX(0,IF(AND(F10>=7,F58>=1),(1-F130+(F33-F32)/20),0),0)*(1+'Caster Tables'!D9)/2","v":0},{"$f":"MAX(0,IF(AND(G10>=7,G58>=1),(1-G130+(G33-G32)/20),0),0)*(1+'Caster Tables'!E9)/2","v":0},{"$f":"MAX(0,IF(AND(H10>=7,H58>=1),(1-H130+(H33-H32)/20),0),0)*(1+'Caster Tables'!F9)/2","v":0},{"$f":"MAX(0,IF(AND(I10>=7,I58>=1),(1-I130+(I33-I32)/20),0),0)*(1+'Caster Tables'!G9)/2","v":0},{"$f":"MAX(0,IF(AND(J10>=7,J58>=1),(1-J130+(J33-J32)/20),0),0)*(1+'Caster Tables'!H9)/2","v":0},{"$f":"MAX(0,IF(AND(K10>=7,K58>=1),(1-K130+(K33-K32)/20),0),0)*(1+'Caster Tables'!I9)/2","v":0},{"$f":"MAX(0,IF(AND(L10>=7,L58>=1),(1-L130+(L33-L32)/20),0),0)*(1+'Caster Tables'!J9)/2","v":0},{"$f":"MAX(0,IF(AND(M10>=7,M58>=1),(1-M130+(M33-M32)/20),0),0)*(1+'Caster Tables'!K9)/2","v":0},{"$f":"MAX(0,IF(AND(N10>=7,N58>=1),(1-N130+(N33-N32)/20),0),0)*(1+'Caster Tables'!L9)/2","v":0},{"$f":"MAX(0,IF(AND(O10>=7,O58>=1),(1-O130+(O33-O32)/20),0),0)*(1+'Caster Tables'!M9)/2","v":0},{"$f":"MAX(0,IF(AND(P10>=7,P58>=1),(1-P130+(P33-P32)/20),0),0)*(1+'Caster Tables'!N9)/2","v":0},{"$f":"MAX(0,IF(AND(Q10>=7,Q58>=1),(1-Q130+(Q33-Q32)/20),0),0)*(1+'Caster Tables'!O9)/2","v":0},{"$f":"MAX(0,IF(AND(R10>=7,R58>=1),(1-R130+(R33-R32)/20),0),0)*(1+'Caster Tables'!P9)/2","v":0},{"$f":"MAX(0,IF(AND(S10>=7,S58>=1),(1-S130+(S33-S32)/20),0),0)*(1+'Caster Tables'!Q9)/2","v":0},{"$f":"MAX(0,IF(AND(T10>=7,T58>=1),(1-T130+(T33-T32)/20),0),0)*(1+'Caster Tables'!R9)/2","v":0},{"$f":"MAX(0,IF(AND(U10>=7,U58>=1),(1-U130+(U33-U32)/20),0),0)*(1+'Caster Tables'!S9)/2","v":0},{"$f":"MAX(0,IF(AND(V10>=7,V58>=1),(1-V130+(V33-V32)/20),0),0)*(1+'Caster Tables'!T9)/2","v":0},{"$f":"MAX(0,IF(AND(W10>=7,W58>=1),(1-W130+(W33-W32)/20),0),0)*(1+'Caster Tables'!U9)/2","v":0},{"$f":"MAX(0,IF(AND(X10>=7,X58>=1),(1-X130+(X33-X32)/20),0),0)*(1+'Caster Tables'!V9)/2","v":0}]
[{"$nulls":3},"avg psionic strike dmg per day (incl Int mod)",{"$f":"E1119*(MIN(E1363,E1118))*2+E1119*MAX(0,E1118-E1363)+E1118*E33","v":0},0,0,0,0,0,0,0,0,0,0,0,0,0,0,0,0,0,0,0,null,"assumes use on as many crits as possible"]
[{"$nulls":3},"avg psionic strike dmg per round",{"$f":"E1121/('Base Numbers'!$C$5*'Base Numbers'!$C$6)","v":0},{"$f":"F1121/('Base Numbers'!$C$5*'Base Numbers'!$C$6)","v":0},{"$f":"G1121/('Base Numbers'!$C$5*'Base Numbers'!$C$6)","v":0},{"$f":"H1121/('Base Numbers'!$C$5*'Base Numbers'!$C$6)","v":0},{"$f":"I1121/('Base Numbers'!$C$5*'Base Numbers'!$C$6)","v":0},{"$f":"J1121/('Base Numbers'!$C$5*'Base Numbers'!$C$6)","v":0},{"$f":"K1121/('Base Numbers'!$C$5*'Base Numbers'!$C$6)","v":0},{"$f":"L1121/('Base Numbers'!$C$5*'Base Numbers'!$C$6)","v":0},{"$f":"M1121/('Base Numbers'!$C$5*'Base Numbers'!$C$6)","v":0},{"$f":"N1121/('Base Numbers'!$C$5*'Base Numbers'!$C$6)","v":0},{"$f":"O1121/('Base Numbers'!$C$5*'Base Numbers'!$C$6)","v":0},{"$f":"P1121/('Base Numbers'!$C$5*'Base Numbers'!$C$6)","v":0},{"$f":"Q1121/('Base Numbers'!$C$5*'Base Numbers'!$C$6)","v":0},{"$f":"R1121/('Base Numbers'!$C$5*'Base Numbers'!$C$6)","v":0},{"$f":"S1121/('Base Numbers'!$C$5*'Base Numbers'!$C$6)","v":0},{"$f":"T1121/('Base Numbers'!$C$5*'Base Numbers'!$C$6)","v":0},{"$f":"U1121/('Base Numbers'!$C$5*'Base Numbers'!$C$6)","v":0},{"$f":"V1121/('Base Numbers'!$C$5*'Base Numbers'!$C$6)","v":0},{"$f":"W1121/('Base Numbers'!$C$5*'Base Numbers'!$C$6)","v":0},{"$f":"X1121/('Base Numbers'!$C$5*'Base Numbers'!$C$6)","v":0}]
[{"$nulls":3},"total bonus echo knight attacks",{"$f":"IF(AND(E10>=3,E55),E30,0)","v":0},0,0,0,0,0,0,0,0,0,0,0,0,0,0,0,0,0,0,0]
[{"$nulls":3},"avg echo knight damage per round (echo knight also incr opp atts)",{"$f":"E1123*IF(E137,E606+E601,E528+E529)/('Base Numbers'!$C$6*'Base Numbers'!$C$5)","v":0},{"$f":"F1123*IF(F137,F606+F601,F528+F529)/('Base Numbers'!$C$6*'Base Numbers'!$C$5)","v":0},{"$f":"G1123*IF(G137,G606+G601,G528+G529)/('Base Numbers'!$C$6*'Base Numbers'!$C$5)","v":0},{"$f":"H1123*IF(H137,H606+H601,H528+H529)/('Base Numbers'!$C$6*'Base Numbers'!$C$5)","v":0},{"$f":"I1123*IF(I137,I606+I601,I528+I529)/('Base Numbers'!$C$6*'Base Numbers'!$C$5)","v":0},{"$f":"J1123*IF(J137,J606+J601,J528+J529)/('Base Numbers'!$C$6*'Base Numbers'!$C$5)","v":0},{"$f":"K1123*IF(K137,K606+K601,K528+K529)/('Base Numbers'!$C$6*'Base Numbers'!$C$5)","v":0},{"$f":"L1123*IF(L137,L606+L601,L528+L529)/('Base Numbers'!$C$6*'Base Numbers'!$C$5)","v":0},{"$f":"M1123*IF(M137,M606+M601,M528+M529)/('Base Numbers'!$C$6*'Base Numbers'!$C$5)","v":0},{"$f":"N1123*IF(N137,N606+N601,N528+N529)/('Base Numbers'!$C$6*'Base Numbers'!$C$5)","v":0},{"$f":"O1123*IF(O137,O606+O601,O528+O529)/('Base Numbers'!$C$6*'Base Numbers'!$C$5)","v":0},{"$f":"P1123*IF(P137,P606+P601,P528+P529)/('Base Numbers'!$C$6*'Base Numbers'!$C$5)","v":0},{"$f":"Q1123*IF(Q137,Q606+Q601,Q528+Q529)/('Base Numbers'!$C$6*'Base Numbers'!$C$5)","v":0},{"$f":"R1123*IF(R137,R606+R601,R528+R529)/('Base Numbers'!$C$6*'Base Numbers'!$C$5)","v":0},{"$f":"S1123*IF(S137,S606+S601,S528+S529)/('Base Numbers'!$C$6*'Base Numbers'!$C$5)","v":0},{"$f":"T1123*IF(T137,T606+T601,T528+T529)/('Base Numbers'!$C$6*'Base Numbers'!$C$5)","v":0},{"$f":"U1123*IF(U137,U606+U601,U528+U529)/('Base Numbers'!$C$6*'Base Numbers'!$C$5)","v":0},{"$f":"V1123*IF(V137,V606+V601,V528+V529)/('Base Numbers'!$C$6*'Base Numbers'!$C$5)","v":0},{"$f":"W1123*IF(W137,W606+W601,W528+W529)/('Base Numbers'!$C$6*'Base Numbers'!$C$5)","v":0},{"$f":"X1123*IF(X137,X606+X601,X528+X529)/('Base Numbers'!$C$6*'Base Numbers'!$C$5)","v":0}]
[{"$nulls":3},"total bonus cavalier opportunity attacks",{"$f":"IF(AND(E10>=3,E57),E30,0)","v":0},0,0,0,0,0,0,0,0,0,0,0,0,0,0,0,0,0,0,0]
[{"$nulls":3},"additional cavalier vigilant defender opp atts (L17)",{"$f":"IF(AND(E10>=17,E57),0.75,0)","v":0},0,0,0,0,0,0,0,0,0,0,0,0,0,0,0,0,0,0,0]
[{"$nulls":3},"avg additional cavalier vigiliant defender damage",{"$f":"(E538+E539)*E1126","v":0},0,0,0,0,0,0,0,0,0,0,0,0,0,0,0,0,0,0,0]
[{"$nulls":3},"avg cavalier damage per round",{"$f":"E1127+E1125*IF(E137,0,E528+E529+E10/2)/('Base Numbers'!$C$6*'Base Numbers'!$C$5)","v":0},{"$f":"F1127+F1125*IF(F137,0,F528+F529+F10/2)/('Base Numbers'!$C$6*'Base Numbers'!$C$5)","v":0},{"$f":"G1127+G1125*IF(G137,0,G528+G529+G10/2)/('Base Numbers'!$C$6*'Base Numbers'!$C$5)","v":0},{"$f":"H1127+H1125*IF(H137,0,H528+H529+H10/2)/('Base Numbers'!$C$6*'Base Numbers'!$C$5)","v":0},{"$f":"I1127+I1125*IF(I137,0,I528+I529+I10/2)/('Base Numbers'!$C$6*'Base Numbers'!$C$5)","v":0},{"$f":"J1127+J1125*IF(J137,0,J528+J529+J10/2)/('Base Numbers'!$C$6*'Base Numbers'!$C$5)","v":0},{"$f":"K1127+K1125*IF(K137,0,K528+K529+K10/2)/('Base Numbers'!$C$6*'Base Numbers'!$C$5)","v":0},{"$f":"L1127+L1125*IF(L137,0,L528+L529+L10/2)/('Base Numbers'!$C$6*'Base Numbers'!$C$5)","v":0},{"$f":"M1127+M1125*IF(M137,0,M528+M529+M10/2)/('Base Numbers'!$C$6*'Base Numbers'!$C$5)","v":0},{"$f":"N1127+N1125*IF(N137,0,N528+N529+N10/2)/('Base Numbers'!$C$6*'Base Numbers'!$C$5)","v":0},{"$f":"O1127+O1125*IF(O137,0,O528+O529+O10/2)/('Base Numbers'!$C$6*'Base Numbers'!$C$5)","v":0},{"$f":"P1127+P1125*IF(P137,0,P528+P529+P10/2)/('Base Numbers'!$C$6*'Base Numbers'!$C$5)","v":0},{"$f":"Q1127+Q1125*IF(Q137,0,Q528+Q529+Q10/2)/('Base Numbers'!$C$6*'Base Numbers'!$C$5)","v":0},{"$f":"R1127+R1125*IF(R137,0,R528+R529+R10/2)/('Base Numbers'!$C$6*'Base Numbers'!$C$5)","v":0},{"$f":"S1127+S1125*IF(S137,0,S528+S529+S10/2)/('Base Numbers'!$C$6*'Base Numbers'!$C$5)","v":0},{"$f":"T1127+T1125*IF(T137,0,T528+T529+T10/2)/('Base Numbers'!$C$6*'Base Numbers'!$C$5)","v":0},{"$f":"U1127+U1125*IF(U137,0,U528+U529+U10/2)/('Base Numbers'!$C$6*'Base Numbers'!$C$5)","v":0},{"$f":"V1127+V1125*IF(V137,0,V528+V529+V10/2)/('Base Numbers'!$C$6*'Base Numbers'!$C$5)","v":0},{"$f":"W1127+W1125*IF(W137,0,W528+W529+W10/2)/('Base Numbers'!$C$6*'Base Numbers'!$C$5)","v":0},{"$f":"X1127+X1125*IF(X137,0,X528+X529+X10/2)/('Base Numbers'!$C$6*'Base Numbers'!$C$5)","v":0}]
[{"$nulls":3},"samurai fighting spirit uses",{"$f":"IF(AND(E10>=3,E56),3,0)+IF(AND(E10>=10,E56),'Base Numbers'!$C$5-1,0)","v":0},{"$f":"IF(AND(F10>=3,F56),3,0)+IF(AND(F10>=10,F56),'Base Numbers'!$C$5-1,0)","v":0},{"$f":"IF(AND(G10>=3,G56),3,0)+IF(AND(G10>=10,G56),'Base Numbers'!$C$5-1,0)","v":0},{"$f":"IF(AND(H10>=3,H56),3,0)+IF(AND(H10>=10,H56),'Base Numbers'!$C$5-1,0)","v":0},{"$f":"IF(AND(I10>=3,I56),3,0)+IF(AND(I10>=10,I56),'Base Numbers'!$C$5-1,0)","v":0},{"$f":"IF(AND(J10>=3,J56),3,0)+IF(AND(J10>=10,J56),'Base Numbers'!$C$5-1,0)","v":0},{"$f":"IF(AND(K10>=3,K56),3,0)+IF(AND(K10>=10,K56),'Base Numbers'!$C$5-1,0)","v":0},{"$f":"IF(AND(L10>=3,L56),3,0)+IF(AND(L10>=10,L56),'Base Numbers'!$C$5-1,0)","v":0},{"$f":"IF(AND(M10>=3,M56),3,0)+IF(AND(M10>=10,M56),'Base Numbers'!$C$5-1,0)","v":0},{"$f":"IF(AND(N10>=3,N56),3,0)+IF(AND(N10>=10,N56),'Base Numbers'!$C$5-1,0)","v":0},{"$f":"IF(AND(O10>=3,O56),3,0)+IF(AND(O10>=10,O56),'Base Numbers'!$C$5-1,0)","v":0},{"$f":"IF(AND(P10>=3,P56),3,0)+IF(AND(P10>=10,P56),'Base Numbers'!$C$5-1,0)","v":0},{"$f":"IF(AND(Q10>=3,Q56),3,0)+IF(AND(Q10>=10,Q56),'Base Numbers'!$C$5-1,0)","v":0},{"$f":"IF(AND(R10>=3,R56),3,0)+IF(AND(R10>=10,R56),'Base Numbers'!$C$5-1,0)","v":0},{"$f":"IF(AND(S10>=3,S56),3,0)+IF(AND(S10>=10,S56),'Base Numbers'!$C$5-1,0)","v":0},{"$f":"IF(AND(T10>=3,T56),3,0)+IF(AND(T10>=10,T56),'Base Numbers'!$C$5-1,0)","v":0},{"$f":"IF(AND(U10>=3,U56),3,0)+IF(AND(U10>=10,U56),'Base Numbers'!$C$5-1,0)","v":0},{"$f":"IF(AND(V10>=3,V56),3,0)+IF(AND(V10>=10,V56),'Base Numbers'!$C$5-1,0)","v":0},{"$f":"IF(AND(W10>=3,W56),3,0)+IF(AND(W10>=10,W56),'Base Numbers'!$C$5-1,0)","v":0},{"$f":"IF(AND(X10>=3,X56),3,0)+IF(AND(X10>=10,X56),'Base Numbers'!$C$5-1,0)","v":0}]
[{"$nulls":3},"avg samurai number of attacks with advantage",{"$f":"IF(AND(E10>=3,E56),IF(E137,E581,E446)*'Base Numbers'!$C$6*'Base Numbers'!$C$5,0)","v":0},{"$f":"IF(AND(F10>=3,F56),IF(F137,F581,F446)*'Base Numbers'!$C$6*'Base Numbers'!$C$5,0)","v":0},{"$f":"IF(AND(G10>=3,G56),IF(G137,G581,G446)*'Base Numbers'!$C$6*'Base Numbers'!$C$5,0)","v":0},{"$f":"IF(AND(H10>=3,H56),IF(H137,H581,H446)*'Base Numbers'!$C$6*'Base Numbers'!$C$5,0)","v":0},{"$f":"IF(AND(I10>=3,I56),IF(I137,I581,I446)*'Base Numbers'!$C$6*'Base Numbers'!$C$5,0)","v":0},{"$f":"IF(AND(J10>=3,J56),IF(J137,J581,J446)*'Base Numbers'!$C$6*'Base Numbers'!$C$5,0)","v":0},{"$f":"IF(AND(K10>=3,K56),IF(K137,K581,K446)*'Base Numbers'!$C$6*'Base Numbers'!$C$5,0)","v":0},{"$f":"IF(AND(L10>=3,L56),IF(L137,L581,L446)*'Base Numbers'!$C$6*'Base Numbers'!$C$5,0)","v":0},{"$f":"IF(AND(M10>=3,M56),IF(M137,M581,M446)*'Base Numbers'!$C$6*'Base Numbers'!$C$5,0)","v":0},{"$f":"IF(AND(N10>=3,N56),IF(N137,N581,N446)*'Base Numbers'!$C$6*'Base Numbers'!$C$5,0)","v":0},{"$f":"IF(AND(O10>=3,O56),IF(O137,O581,O446)*'Base Numbers'!$C$6*'Base Numbers'!$C$5,0)","v":0},{"$f":"IF(AND(P10>=3,P56),IF(P137,P581,P446)*'Base Numbers'!$C$6*'Base Numbers'!$C$5,0)","v":0},{"$f":"IF(AND(Q10>=3,Q56),IF(Q137,Q581,Q446)*'Base Numbers'!$C$6*'Base Numbers'!$C$5,0)","v":0},{"$f":"IF(AND(R10>=3,R56),IF(R137,R581,R446)*'Base Numbers'!$C$6*'Base Numbers'!$C$5,0)","v":0},{"$f":"IF(AND(S10>=3,S56),IF(S137,S581,S446)*'Base Numbers'!$C$6*'Base Numbers'!$C$5,0)","v":0},{"$f":"IF(AND(T10>=3,T56),IF(T137,T581,T446)*'Base Numbers'!$C$6*'Base Numbers'!$C$5,0)","v":0},{"$f":"IF(AND(U10>=3,U56),IF(U137,U581,U446)*'Base Numbers'!$C$6*'Base Numbers'!$C$5,0)","v":0},{"$f":"IF(AND(V10>=3,V56),IF(V137,V581,V446)*'Base Numbers'!$C$6*'Base Numbers'!$C$5,0)","v":0},{"$f":"IF(AND(W10>=3,W56),IF(W137,W581,W446)*'Base Numbers'!$C$6*'Base Numbers'!$C$5,0)","v":0},{"$f":"IF(AND(X10>=3,X56),IF(X137,X581,X446)*'Base Numbers'!$C$6*'Base Numbers'!$C$5,0)","v":0}]
[{"$nulls":3},"total additional attack samurai damage",{"$f":"E1130*IF(E137,(E606+E601)*(1-(E589-E587)),(E528+E529)*(1-E337-E335))","v":0},0,0,0,0,0,0,0,0,0,0,0,0,0,0,0,0,0,0,0]
[{"$nulls":3},"avg samurai additional damage per round",{"$f":"E1131/('Base Numbers'!$C$5*'Base Numbers'!$C$6)","v":0},{"$f":"F1131/('Base Numbers'!$C$5*'Base Numbers'!$C$6)","v":0},{"$f":"G1131/('Base Numbers'!$C$5*'Base Numbers'!$C$6)","v":0},{"$f":"H1131/('Base Numbers'!$C$5*'Base Numbers'!$C$6)","v":0},{"$f":"I1131/('Base Numbers'!$C$5*'Base Numbers'!$C$6)","v":0},{"$f":"J1131/('Base Numbers'!$C$5*'Base Numbers'!$C$6)","v":0},{"$f":"K1131/('Base Numbers'!$C$5*'Base Numbers'!$C$6)","v":0},{"$f":"L1131/('Base Numbers'!$C$5*'Base Numbers'!$C$6)","v":0},{"$f":"M1131/('Base Numbers'!$C$5*'Base Numbers'!$C$6)","v":0},{"$f":"N1131/('Base Numbers'!$C$5*'Base Numbers'!$C$6)","v":0},{"$f":"O1131/('Base Numbers'!$C$5*'Base Numbers'!$C$6)","v":0},{"$f":"P1131/('Base Numbers'!$C$5*'Base Numbers'!$C$6)","v":0},{"$f":"Q1131/('Base Numbers'!$C$5*'Base Numbers'!$C$6)","v":0},{"$f":"R1131/('Base Numbers'!$C$5*'Base Numbers'!$C$6)","v":0},{"$f":"S1131/('Base Numbers'!$C$5*'Base Numbers'!$C$6)","v":0},{"$f":"T1131/('Base Numbers'!$C$5*'Base Numbers'!$C$6)","v":0},{"$f":"U1131/('Base Numbers'!$C$5*'Base Numbers'!$C$6)","v":0},{"$f":"V1131/('Base Numbers'!$C$5*'Base Numbers'!$C$6)","v":0},{"$f":"W1131/('Base Numbers'!$C$5*'Base Numbers'!$C$6)","v":0},{"$f":"X1131/('Base Numbers'!$C$5*'Base Numbers'!$C$6)","v":0}]
[{"$nulls":3},"avg rune knight Giant's Might damage per hit",{"$f":"IF(AND(E10>=3,E59>=1),3.5+IF(E10>=10,1,0)+IF(E10>=18,1,0),0)","v":0},0,0,0,0,0,0,0,0,0,0,0,0,0,0,0,0,0,0,0]
[{"$nulls":3},"avg rune knight's fire rune save prob",{"$f":"1-(8+E35+3-1-'Caster Tables'!C$73)/20","v":0.4099999999999999},{"$f":"1-(8+F35+3-1-'Caster Tables'!D$73)/20","v":0.43499999999999994},{"$f":"1-(8+G35+3-1-'Caster Tables'!E$73)/20","v":0.475},{"$f":"1-(8+H35+3-1-'Caster Tables'!F$73)/20","v":0.51},{"$f":"1-(8+I35+3-1-'Caster Tables'!G$73)/20","v":0.475},{"$f":"1-(8+J35+3-1-'Caster Tables'!H$73)/20","v":0.5},{"$f":"1-(8+K35+3-1-'Caster Tables'!I$73)/20","v":0.5},{"$f":"1-(8+L35+3-1-'Caster Tables'!J$73)/20","v":0.515},{"$f":"1-(8+M35+3-1-'Caster Tables'!K$73)/20","v":0.48},{"$f":"1-(8+N35+3-1-'Caster Tables'!L$73)/20","v":0.5},{"$f":"1-(8+O35+3-1-'Caster Tables'!M$73)/20","v":0.515},{"$f":"1-(8+P35+3-1-'Caster Tables'!N$73)/20","v":0.53},{"$f":"1-(8+Q35+3-1-'Caster Tables'!O$73)/20","v":0.5},{"$f":"1-(8+R35+3-1-'Caster Tables'!P$73)/20","v":0.51},{"$f":"1-(8+S35+3-1-'Caster Tables'!Q$73)/20","v":0.52},{"$f":"1-(8+T35+3-1-'Caster Tables'!R$73)/20","v":0.53},{"$f":"1-(8+U35+3-1-'Caster Tables'!S$73)/20","v":0.49},{"$f":"1-(8+V35+3-1-'Caster Tables'!T$73)/20","v":0.5},{"$f":"1-(8+W35+3-1-'Caster Tables'!U$73)/20","v":0.55},{"$f":"1-(8+X35+3-1-'Caster Tables'!V$73)/20","v":0.6}]
[{"$nulls":3},"avg rune knight's fire run duration",{"$f":"IF(AND(E10>=3,E59>=1),E1134+(1-E1134)*E1134*2+(1-E1134)^2*E1134*3,0)","v":0},0,0,0,0,0,0,0,0,0,0,0,0,0,0,0,0,0,0,0]
[{"$nulls":3},"avg rune knight's fire rune damage per day",{"$f":"7*E1135*(1+'Base Numbers'!$C$7)*IF(AND(E10>=15,E59>=1),2,1)","v":0},{"$f":"7*F1135*(1+'Base Numbers'!$C$7)*IF(AND(F10>=15,F59>=1),2,1)","v":0},{"$f":"7*G1135*(1+'Base Numbers'!$C$7)*IF(AND(G10>=15,G59>=1),2,1)","v":0},{"$f":"7*H1135*(1+'Base Numbers'!$C$7)*IF(AND(H10>=15,H59>=1),2,1)","v":0},{"$f":"7*I1135*(1+'Base Numbers'!$C$7)*IF(AND(I10>=15,I59>=1),2,1)","v":0},{"$f":"7*J1135*(1+'Base Numbers'!$C$7)*IF(AND(J10>=15,J59>=1),2,1)","v":0},{"$f":"7*K1135*(1+'Base Numbers'!$C$7)*IF(AND(K10>=15,K59>=1),2,1)","v":0},{"$f":"7*L1135*(1+'Base Numbers'!$C$7)*IF(AND(L10>=15,L59>=1),2,1)","v":0},{"$f":"7*M1135*(1+'Base Numbers'!$C$7)*IF(AND(M10>=15,M59>=1),2,1)","v":0},{"$f":"7*N1135*(1+'Base Numbers'!$C$7)*IF(AND(N10>=15,N59>=1),2,1)","v":0},{"$f":"7*O1135*(1+'Base Numbers'!$C$7)*IF(AND(O10>=15,O59>=1),2,1)","v":0},{"$f":"7*P1135*(1+'Base Numbers'!$C$7)*IF(AND(P10>=15,P59>=1),2,1)","v":0},{"$f":"7*Q1135*(1+'Base Numbers'!$C$7)*IF(AND(Q10>=15,Q59>=1),2,1)","v":0},{"$f":"7*R1135*(1+'Base Numbers'!$C$7)*IF(AND(R10>=15,R59>=1),2,1)","v":0},{"$f":"7*S1135*(1+'Base Numbers'!$C$7)*IF(AND(S10>=15,S59>=1),2,1)","v":0},{"$f":"7*T1135*(1+'Base Numbers'!$C$7)*IF(AND(T10>=15,T59>=1),2,1)","v":0},{"$f":"7*U1135*(1+'Base Numbers'!$C$7)*IF(AND(U10>=15,U59>=1),2,1)","v":0},{"$f":"7*V1135*(1+'Base Numbers'!$C$7)*IF(AND(V10>=15,V59>=1),2,1)","v":0},{"$f":"7*W1135*(1+'Base Numbers'!$C$7)*IF(AND(W10>=15,W59>=1),2,1)","v":0},{"$f":"7*X1135*(1+'Base Numbers'!$C$7)*IF(AND(X10>=15,X59>=1),2,1)","v":0}]
[{"$nulls":3},"avg rune knight's damage per round",{"$f":"E1133*E1390+E471*E1133+E1136/('Base Numbers'!$C$5*'Base Numbers'!$C$6)","v":0},{"$f":"F1133*F1390+F471*F1133+F1136/('Base Numbers'!$C$5*'Base Numbers'!$C$6)","v":0},{"$f":"G1133*G1390+G471*G1133+G1136/('Base Numbers'!$C$5*'Base Numbers'!$C$6)","v":0},{"$f":"H1133*H1390+H471*H1133+H1136/('Base Numbers'!$C$5*'Base Numbers'!$C$6)","v":0},{"$f":"I1133*I1390+I471*I1133+I1136/('Base Numbers'!$C$5*'Base Numbers'!$C$6)","v":0},{"$f":"J1133*J1390+J471*J1133+J1136/('Base Numbers'!$C$5*'Base Numbers'!$C$6)","v":0},{"$f":"K1133*K1390+K471*K1133+K1136/('Base Numbers'!$C$5*'Base Numbers'!$C$6)","v":0},{"$f":"L1133*L1390+L471*L1133+L1136/('Base Numbers'!$C$5*'Base Numbers'!$C$6)","v":0},{"$f":"M1133*M1390+M471*M1133+M1136/('Base Numbers'!$C$5*'Base Numbers'!$C$6)","v":0},{"$f":"N1133*N1390+N471*N1133+N1136/('Base Numbers'!$C$5*'Base Numbers'!$C$6)","v":0},{"$f":"O1133*O1390+O471*O1133+O1136/('Base Numbers'!$C$5*'Base Numbers'!$C$6)","v":0},{"$f":"P1133*P1390+P471*P1133+P1136/('Base Numbers'!$C$5*'Base Numbers'!$C$6)","v":0},{"$f":"Q1133*Q1390+Q471*Q1133+Q1136/('Base Numbers'!$C$5*'Base Numbers'!$C$6)","v":0},{"$f":"R1133*R1390+R471*R1133+R1136/('Base Numbers'!$C$5*'Base Numbers'!$C$6)","v":0},{"$f":"S1133*S1390+S471*S1133+S1136/('Base Numbers'!$C$5*'Base Numbers'!$C$6)","v":0},{"$f":"T1133*T1390+T471*T1133+T1136/('Base Numbers'!$C$5*'Base Numbers'!$C$6)","v":0},{"$f":"U1133*U1390+U471*U1133+U1136/('Base Numbers'!$C$5*'Base Numbers'!$C$6)","v":0},{"$f":"V1133*V1390+V471*V1133+V1136/('Base Numbers'!$C$5*'Base Numbers'!$C$6)","v":0},{"$f":"W1133*W1390+W471*W1133+W1136/('Base Numbers'!$C$5*'Base Numbers'!$C$6)","v":0},{"$f":"X1133*X1390+X471*X1133+X1136/('Base Numbers'!$C$5*'Base Numbers'!$C$6)","v":0}]
[{"$nulls":3},"total bonus fighter damage per round",{"$f":"E1122+E1117+E1106+E1124+E1132+E1128+E1137","v":0},0,0,0,0,0,0,0,0,0,0,0,0,0,0,0,0,0,0,0]
[]
[{"$nulls":3},"WIZARD ABILITIES"]
[{"$nulls":3},"Simulacrum available? (Wiz L13, Sorc L17, Bard L14, Genie Warlock L17)",{"$f":"IF(AND('Base Numbers'!$C$20=0,OR(E15>=13,OR(E13>=17,OR(AND(E12>=17,E48>=1),E14>=14)))),1,0)","v":0},{"$f":"IF(AND('Base Numbers'!$C$20=0,OR(F15>=13,OR(F13>=17,OR(AND(F12>=17,F48>=1),F14>=14)))),1,0)","v":0},{"$f":"IF(AND('Base Numbers'!$C$20=0,OR(G15>=13,OR(G13>=17,OR(AND(G12>=17,G48>=1),G14>=14)))),1,0)","v":0},{"$f":"IF(AND('Base Numbers'!$C$20=0,OR(H15>=13,OR(H13>=17,OR(AND(H12>=17,H48>=1),H14>=14)))),1,0)","v":0},{"$f":"IF(AND('Base Numbers'!$C$20=0,OR(I15>=13,OR(I13>=17,OR(AND(I12>=17,I48>=1),I14>=14)))),1,0)","v":0},{"$f":"IF(AND('Base Numbers'!$C$20=0,OR(J15>=13,OR(J13>=17,OR(AND(J12>=17,J48>=1),J14>=14)))),1,0)","v":0},{"$f":"IF(AND('Base Numbers'!$C$20=0,OR(K15>=13,OR(K13>=17,OR(AND(K12>=17,K48>=1),K14>=14)))),1,0)","v":0},{"$f":"IF(AND('Base Numbers'!$C$20=0,OR(L15>=13,OR(L13>=17,OR(AND(L12>=17,L48>=1),L14>=14)))),1,0)","v":0},{"$f":"IF(AND('Base Numbers'!$C$20=0,OR(M15>=13,OR(M13>=17,OR(AND(M12>=17,M48>=1),M14>=14)))),1,0)","v":0},{"$f":"IF(AND('Base Numbers'!$C$20=0,OR(N15>=13,OR(N13>=17,OR(AND(N12>=17,N48>=1),N14>=14)))),1,0)","v":0},{"$f":"IF(AND('Base Numbers'!$C$20=0,OR(O15>=13,OR(O13>=17,OR(AND(O12>=17,O48>=1),O14>=14)))),1,0)","v":0},{"$f":"IF(AND('Base Numbers'!$C$20=0,OR(P15>=13,OR(P13>=17,OR(AND(P12>=17,P48>=1),P14>=14)))),1,0)","v":0},{"$f":"IF(AND('Base Numbers'!$C$20=0,OR(Q15>=13,OR(Q13>=17,OR(AND(Q12>=17,Q48>=1),Q14>=14)))),1,0)","v":0},{"$f":"IF(AND('Base Numbers'!$C$20=0,OR(R15>=13,OR(R13>=17,OR(AND(R12>=17,R48>=1),R14>=14)))),1,0)","v":0},{"$f":"IF(AND('Base Numbers'!$C$20=0,OR(S15>=13,OR(S13>=17,OR(AND(S12>=17,S48>=1),S14>=14)))),1,0)","v":0},{"$f":"IF(AND('Base Numbers'!$C$20=0,OR(T15>=13,OR(T13>=17,OR(AND(T12>=17,T48>=1),T14>=14)))),1,0)","v":0},{"$f":"IF(AND('Base Numbers'!$C$20=0,OR(U15>=13,OR(U13>=17,OR(AND(U12>=17,U48>=1),U14>=14)))),1,0)","v":0},{"$f":"IF(AND('Base Numbers'!$C$20=0,OR(V15>=13,OR(V13>=17,OR(AND(V12>=17,V48>=1),V14>=14)))),1,0)","v":0},{"$f":"IF(AND('Base Numbers'!$C$20=0,OR(W15>=13,OR(W13>=17,OR(AND(W12>=17,W48>=1),W14>=14)))),1,0)","v":0},{"$f":"IF(AND('Base Numbers'!$C$20=0,OR(X15>=13,OR(X13>=17,OR(AND(X12>=17,X48>=1),X14>=14)))),1,0)","v":0},null,"*Sorcs get access to Simulacrum at L17 with Wish"]
[{"$nulls":3},"percentage of fights with simulacrum",0,0,0,0,0,0,0,0,0,0,0,0,0.2,0.3,0.4,0.5,0.6,0.7,0.8,0.8]
[{"$nulls":3},"simulacrum effectiveness damage discount",{"$f":"0.9-0.05*E12*('Base Numbers'!$C$7)/('Base Numbers'!$C$7+1)","v":0.9},{"$f":"0.9-0.05*F12*('Base Numbers'!$C$7)/('Base Numbers'!$C$7+1)","v":0.9},{"$f":"0.9-0.05*G12*('Base Numbers'!$C$7)/('Base Numbers'!$C$7+1)","v":0.9},{"$f":"0.9-0.05*H12*('Base Numbers'!$C$7)/('Base Numbers'!$C$7+1)","v":0.9},{"$f":"0.9-0.05*I12*('Base Numbers'!$C$7)/('Base Numbers'!$C$7+1)","v":0.9},{"$f":"0.9-0.05*J12*('Base Numbers'!$C$7)/('Base Numbers'!$C$7+1)","v":0.9},{"$f":"0.9-0.05*K12*('Base Numbers'!$C$7)/('Base Numbers'!$C$7+1)","v":0.9},{"$f":"0.9-0.05*L12*('Base Numbers'!$C$7)/('Base Numbers'!$C$7+1)","v":0.9},{"$f":"0.9-0.05*M12*('Base Numbers'!$C$7)/('Base Numbers'!$C$7+1)","v":0.9},{"$f":"0.9-0.05*N12*('Base Numbers'!$C$7)/('Base Numbers'!$C$7+1)","v":0.9},{"$f":"0.9-0.05*O12*('Base Numbers'!$C$7)/('Base Numbers'!$C$7+1)","v":0.9},{"$f":"0.9-0.05*P12*('Base Numbers'!$C$7)/('Base Numbers'!$C$7+1)","v":0.9},{"$f":"0.9-0.05*Q12*('Base Numbers'!$C$7)/('Base Numbers'!$C$7+1)","v":0.9},{"$f":"0.9-0.05*R12*('Base Numbers'!$C$7)/('Base Numbers'!$C$7+1)","v":0.9},{"$f":"0.9-0.05*S12*('Base Numbers'!$C$7)/('Base Numbers'!$C$7+1)","v":0.9},{"$f":"0.9-0.05*T12*('Base Numbers'!$C$7)/('Base Numbers'!$C$7+1)","v":0.9},{"$f":"0.9-0.05*U12*('Base Numbers'!$C$7)/('Base Numbers'!$C$7+1)","v":0.9},{"$f":"0.9-0.05*V12*('Base Numbers'!$C$7)/('Base Numbers'!$C$7+1)","v":0.9},{"$f":"0.9-0.05*W12*('Base Numbers'!$C$7)/('Base Numbers'!$C$7+1)","v":0.9},{"$f":"0.9-0.05*X12*('Base Numbers'!$C$7)/('Base Numbers'!$C$7+1)","v":0.9},null,"Depends on warlock level."]
[{"$nulls":3},"avg bonus simulacrum damage",{"$f":"E1141*E1142*E1143*(SUM(E1401:E1415)+SUM(E1417:E1419))","v":0},0,0,0,0,0,0,0,0,0,0,0,0,0,0,0,0,0,0,0]
[{"$nulls":3},"avg additional tenser's transformation attacks per round if only 1 attack",{"$f":"E306*E244/('Base Numbers'!$C$5*'Base Numbers'!$C$6)","v":0},{"$f":"F306*F244/('Base Numbers'!$C$5*'Base Numbers'!$C$6)","v":0},{"$f":"G306*G244/('Base Numbers'!$C$5*'Base Numbers'!$C$6)","v":0},{"$f":"H306*H244/('Base Numbers'!$C$5*'Base Numbers'!$C$6)","v":0},{"$f":"I306*I244/('Base Numbers'!$C$5*'Base Numbers'!$C$6)","v":0},{"$f":"J306*J244/('Base Numbers'!$C$5*'Base Numbers'!$C$6)","v":0},{"$f":"K306*K244/('Base Numbers'!$C$5*'Base Numbers'!$C$6)","v":0},{"$f":"L306*L244/('Base Numbers'!$C$5*'Base Numbers'!$C$6)","v":0},{"$f":"M306*M244/('Base Numbers'!$C$5*'Base Numbers'!$C$6)","v":0},{"$f":"N306*N244/('Base Numbers'!$C$5*'Base Numbers'!$C$6)","v":0},{"$f":"O306*O244/('Base Numbers'!$C$5*'Base Numbers'!$C$6)","v":0},{"$f":"P306*P244/('Base Numbers'!$C$5*'Base Numbers'!$C$6)","v":0},{"$f":"Q306*Q244/('Base Numbers'!$C$5*'Base Numbers'!$C$6)","v":0},{"$f":"R306*R244/('Base Numbers'!$C$5*'Base Numbers'!$C$6)","v":0},{"$f":"S306*S244/('Base Numbers'!$C$5*'Base Numbers'!$C$6)","v":0},{"$f":"T306*T244/('Base Numbers'!$C$5*'Base Numbers'!$C$6)","v":0},{"$f":"U306*U244/('Base Numbers'!$C$5*'Base Numbers'!$C$6)","v":0},{"$f":"V306*V244/('Base Numbers'!$C$5*'Base Numbers'!$C$6)","v":0},{"$f":"W306*W244/('Base Numbers'!$C$5*'Base Numbers'!$C$6)","v":0},{"$f":"X306*X244/('Base Numbers'!$C$5*'Base Numbers'!$C$6)","v":0}]
[{"$nulls":3},"avg additional tenser's transformation damage per attack",{"$f":"13*E306*E244/('Base Numbers'!$C$5*'Base Numbers'!$C$6)","v":0},{"$f":"13*F306*F244/('Base Numbers'!$C$5*'Base Numbers'!$C$6)","v":0},{"$f":"13*G306*G244/('Base Numbers'!$C$5*'Base Numbers'!$C$6)","v":0},{"$f":"13*H306*H244/('Base Numbers'!$C$5*'Base Numbers'!$C$6)","v":0},{"$f":"13*I306*I244/('Base Numbers'!$C$5*'Base Numbers'!$C$6)","v":0},{"$f":"13*J306*J244/('Base Numbers'!$C$5*'Base Numbers'!$C$6)","v":0},{"$f":"13*K306*K244/('Base Numbers'!$C$5*'Base Numbers'!$C$6)","v":0},{"$f":"13*L306*L244/('Base Numbers'!$C$5*'Base Numbers'!$C$6)","v":0},{"$f":"13*M306*M244/('Base Numbers'!$C$5*'Base Numbers'!$C$6)","v":0},{"$f":"13*N306*N244/('Base Numbers'!$C$5*'Base Numbers'!$C$6)","v":0},{"$f":"13*O306*O244/('Base Numbers'!$C$5*'Base Numbers'!$C$6)","v":0},{"$f":"13*P306*P244/('Base Numbers'!$C$5*'Base Numbers'!$C$6)","v":0},{"$f":"13*Q306*Q244/('Base Numbers'!$C$5*'Base Numbers'!$C$6)","v":0},{"$f":"13*R306*R244/('Base Numbers'!$C$5*'Base Numbers'!$C$6)","v":0},{"$f":"13*S306*S244/('Base Numbers'!$C$5*'Base Numbers'!$C$6)","v":0},{"$f":"13*T306*T244/('Base Numbers'!$C$5*'Base Numbers'!$C$6)","v":0},{"$f":"13*U306*U244/('Base Numbers'!$C$5*'Base Numbers'!$C$6)","v":0},{"$f":"13*V306*V244/('Base Numbers'!$C$5*'Base Numbers'!$C$6)","v":0},{"$f":"13*W306*W244/('Base Numbers'!$C$5*'Base Numbers'!$C$6)","v":0},{"$f":"13*X306*X244/('Base Numbers'!$C$5*'Base Numbers'!$C$6)","v":0}]
[{"$nulls":3},"conjurer unbreakable summons concentration (L10)",{"$f":"IF(AND(E15>=10,E43>=1),1,0)","v":0},0,0,0,0,0,0,0,0,0,0,0,0,0,0,0,0,0,0,0]
[{"$nulls":3},"conjurer durable summons bonus HP (L14)",{"$f":"IF(AND(E15>=14,E43>=1),30,0)","v":0},0,0,0,0,0,0,0,0,0,0,0,0,0,0,0,0,0,0,0]
[{"$nulls":3},"pct of fights with bladesinger active (damage at L14)",{"$f":"IF(OR($B$37,$B$36, $B$35),0,IF(AND(E15>=2,E42),MIN(1,E35/'Base Numbers'!$C$5),0))","v":0},{"$f":"IF(OR($B$37,$B$36, $B$35),0,IF(AND(F15>=2,F42),MIN(1,F35/'Base Numbers'!$C$5),0))","v":0},{"$f":"IF(OR($B$37,$B$36, $B$35),0,IF(AND(G15>=2,G42),MIN(1,G35/'Base Numbers'!$C$5),0))","v":0},{"$f":"IF(OR($B$37,$B$36, $B$35),0,IF(AND(H15>=2,H42),MIN(1,H35/'Base Numbers'!$C$5),0))","v":0},{"$f":"IF(OR($B$37,$B$36, $B$35),0,IF(AND(I15>=2,I42),MIN(1,I35/'Base Numbers'!$C$5),0))","v":0},{"$f":"IF(OR($B$37,$B$36, $B$35),0,IF(AND(J15>=2,J42),MIN(1,J35/'Base Numbers'!$C$5),0))","v":0},{"$f":"IF(OR($B$37,$B$36, $B$35),0,IF(AND(K15>=2,K42),MIN(1,K35/'Base Numbers'!$C$5),0))","v":0},{"$f":"IF(OR($B$37,$B$36, $B$35),0,IF(AND(L15>=2,L42),MIN(1,L35/'Base Numbers'!$C$5),0))","v":0},{"$f":"IF(OR($B$37,$B$36, $B$35),0,IF(AND(M15>=2,M42),MIN(1,M35/'Base Numbers'!$C$5),0))","v":0},{"$f":"IF(OR($B$37,$B$36, $B$35),0,IF(AND(N15>=2,N42),MIN(1,N35/'Base Numbers'!$C$5),0))","v":0},{"$f":"IF(OR($B$37,$B$36, $B$35),0,IF(AND(O15>=2,O42),MIN(1,O35/'Base Numbers'!$C$5),0))","v":0},{"$f":"IF(OR($B$37,$B$36, $B$35),0,IF(AND(P15>=2,P42),MIN(1,P35/'Base Numbers'!$C$5),0))","v":0},{"$f":"IF(OR($B$37,$B$36, $B$35),0,IF(AND(Q15>=2,Q42),MIN(1,Q35/'Base Numbers'!$C$5),0))","v":0},{"$f":"IF(OR($B$37,$B$36, $B$35),0,IF(AND(R15>=2,R42),MIN(1,R35/'Base Numbers'!$C$5),0))","v":0},{"$f":"IF(OR($B$37,$B$36, $B$35),0,IF(AND(S15>=2,S42),MIN(1,S35/'Base Numbers'!$C$5),0))","v":0},{"$f":"IF(OR($B$37,$B$36, $B$35),0,IF(AND(T15>=2,T42),MIN(1,T35/'Base Numbers'!$C$5),0))","v":0},{"$f":"IF(OR($B$37,$B$36, $B$35),0,IF(AND(U15>=2,U42),MIN(1,U35/'Base Numbers'!$C$5),0))","v":0},{"$f":"IF(OR($B$37,$B$36, $B$35),0,IF(AND(V15>=2,V42),MIN(1,V35/'Base Numbers'!$C$5),0))","v":0},{"$f":"IF(OR($B$37,$B$36, $B$35),0,IF(AND(W15>=2,W42),MIN(1,W35/'Base Numbers'!$C$5),0))","v":0},{"$f":"IF(OR($B$37,$B$36, $B$35),0,IF(AND(X15>=2,X42),MIN(1,X35/'Base Numbers'!$C$5),0))","v":0},null,"*bladesinger incompatible with 2 hander attacks"]
[{"$nulls":3},"bladesinger cantrip (BB) with attack action  (included in main attack dmg)",{"$f":"IF(AND(E15>=6,E42),1,0)","v":0},0,0,0,0,0,0,0,0,0,0,0,0,0,0,0,0,0,0,0,null,"This allows Bonus Action offhand-weapon attacks with a BB main action"]
[{"$nulls":3},"evoker overchanneled fireball bonus damage (assume max 2 per day)",{"$f":"MIN(2,'Base Numbers'!$G$21)*IF(AND(E15>=14,E44>=1),'Base Numbers'!$G$20*8*3.5,0)","v":0},{"$f":"MIN(2,'Base Numbers'!$G$21)*IF(AND(F15>=14,F44>=1),'Base Numbers'!$G$20*8*3.5,0)","v":0},{"$f":"MIN(2,'Base Numbers'!$G$21)*IF(AND(G15>=14,G44>=1),'Base Numbers'!$G$20*8*3.5,0)","v":0},{"$f":"MIN(2,'Base Numbers'!$G$21)*IF(AND(H15>=14,H44>=1),'Base Numbers'!$G$20*8*3.5,0)","v":0},{"$f":"MIN(2,'Base Numbers'!$G$21)*IF(AND(I15>=14,I44>=1),'Base Numbers'!$G$20*8*3.5,0)","v":0},{"$f":"MIN(2,'Base Numbers'!$G$21)*IF(AND(J15>=14,J44>=1),'Base Numbers'!$G$20*8*3.5,0)","v":0},{"$f":"MIN(2,'Base Numbers'!$G$21)*IF(AND(K15>=14,K44>=1),'Base Numbers'!$G$20*8*3.5,0)","v":0},{"$f":"MIN(2,'Base Numbers'!$G$21)*IF(AND(L15>=14,L44>=1),'Base Numbers'!$G$20*8*3.5,0)","v":0},{"$f":"MIN(2,'Base Numbers'!$G$21)*IF(AND(M15>=14,M44>=1),'Base Numbers'!$G$20*8*3.5,0)","v":0},{"$f":"MIN(2,'Base Numbers'!$G$21)*IF(AND(N15>=14,N44>=1),'Base Numbers'!$G$20*8*3.5,0)","v":0},{"$f":"MIN(2,'Base Numbers'!$G$21)*IF(AND(O15>=14,O44>=1),'Base Numbers'!$G$20*8*3.5,0)","v":0},{"$f":"MIN(2,'Base Numbers'!$G$21)*IF(AND(P15>=14,P44>=1),'Base Numbers'!$G$20*8*3.5,0)","v":0},{"$f":"MIN(2,'Base Numbers'!$G$21)*IF(AND(Q15>=14,Q44>=1),'Base Numbers'!$G$20*8*3.5,0)","v":0},{"$f":"MIN(2,'Base Numbers'!$G$21)*IF(AND(R15>=14,R44>=1),'Base Numbers'!$G$20*8*3.5,0)","v":0},{"$f":"MIN(2,'Base Numbers'!$G$21)*IF(AND(S15>=14,S44>=1),'Base Numbers'!$G$20*8*3.5,0)","v":0},{"$f":"MIN(2,'Base Numbers'!$G$21)*IF(AND(T15>=14,T44>=1),'Base Numbers'!$G$20*8*3.5,0)","v":0},{"$f":"MIN(2,'Base Numbers'!$G$21)*IF(AND(U15>=14,U44>=1),'Base Numbers'!$G$20*8*3.5,0)","v":0},{"$f":"MIN(2,'Base Numbers'!$G$21)*IF(AND(V15>=14,V44>=1),'Base Numbers'!$G$20*8*3.5,0)","v":0},{"$f":"MIN(2,'Base Numbers'!$G$21)*IF(AND(W15>=14,W44>=1),'Base Numbers'!$G$20*8*3.5,0)","v":0},{"$f":"MIN(2,'Base Numbers'!$G$21)*IF(AND(X15>=14,X44>=1),'Base Numbers'!$G$20*8*3.5,0)","v":0},null,null,"by hiding the BB in the main weapon attack damage scenario"]
[{"$nulls":3},"avg additional evoker damage per round",{"$f":"E1151/('Base Numbers'!$C$5*'Base Numbers'!$C$6)","v":0},{"$f":"F1151/('Base Numbers'!$C$5*'Base Numbers'!$C$6)","v":0},{"$f":"G1151/('Base Numbers'!$C$5*'Base Numbers'!$C$6)","v":0},{"$f":"H1151/('Base Numbers'!$C$5*'Base Numbers'!$C$6)","v":0},{"$f":"I1151/('Base Numbers'!$C$5*'Base Numbers'!$C$6)","v":0},{"$f":"J1151/('Base Numbers'!$C$5*'Base Numbers'!$C$6)","v":0},{"$f":"K1151/('Base Numbers'!$C$5*'Base Numbers'!$C$6)","v":0},{"$f":"L1151/('Base Numbers'!$C$5*'Base Numbers'!$C$6)","v":0},{"$f":"M1151/('Base Numbers'!$C$5*'Base Numbers'!$C$6)","v":0},{"$f":"N1151/('Base Numbers'!$C$5*'Base Numbers'!$C$6)","v":0},{"$f":"O1151/('Base Numbers'!$C$5*'Base Numbers'!$C$6)","v":0},{"$f":"P1151/('Base Numbers'!$C$5*'Base Numbers'!$C$6)","v":0},{"$f":"Q1151/('Base Numbers'!$C$5*'Base Numbers'!$C$6)","v":0},{"$f":"R1151/('Base Numbers'!$C$5*'Base Numbers'!$C$6)","v":0},{"$f":"S1151/('Base Numbers'!$C$5*'Base Numbers'!$C$6)","v":0},{"$f":"T1151/('Base Numbers'!$C$5*'Base Numbers'!$C$6)","v":0},{"$f":"U1151/('Base Numbers'!$C$5*'Base Numbers'!$C$6)","v":0},{"$f":"V1151/('Base Numbers'!$C$5*'Base Numbers'!$C$6)","v":0},{"$f":"W1151/('Base Numbers'!$C$5*'Base Numbers'!$C$6)","v":0},{"$f":"X1151/('Base Numbers'!$C$5*'Base Numbers'!$C$6)","v":0}]
[]
[{"$nulls":3},"WARLOCK DAMAGE"]
[{"$nulls":3},"hexblade curses per day",{"$f":"IF(AND(E46>0,E12>0),1+'Base Numbers'!$C$7,0)","v":0},{"$f":"IF(AND(F46>0,F12>0),1+'Base Numbers'!$C$7,0)","v":0},{"$f":"IF(AND(G46>0,G12>0),1+'Base Numbers'!$C$7,0)","v":0},{"$f":"IF(AND(H46>0,H12>0),1+'Base Numbers'!$C$7,0)","v":0},{"$f":"IF(AND(I46>0,I12>0),1+'Base Numbers'!$C$7,0)","v":0},{"$f":"IF(AND(J46>0,J12>0),1+'Base Numbers'!$C$7,0)","v":0},{"$f":"IF(AND(K46>0,K12>0),1+'Base Numbers'!$C$7,0)","v":0},{"$f":"IF(AND(L46>0,L12>0),1+'Base Numbers'!$C$7,0)","v":0},{"$f":"IF(AND(M46>0,M12>0),1+'Base Numbers'!$C$7,0)","v":0},{"$f":"IF(AND(N46>0,N12>0),1+'Base Numbers'!$C$7,0)","v":0},{"$f":"IF(AND(O46>0,O12>0),1+'Base Numbers'!$C$7,0)","v":0},{"$f":"IF(AND(P46>0,P12>0),1+'Base Numbers'!$C$7,0)","v":0},{"$f":"IF(AND(Q46>0,Q12>0),1+'Base Numbers'!$C$7,0)","v":0},{"$f":"IF(AND(R46>0,R12>0),1+'Base Numbers'!$C$7,0)","v":0},{"$f":"IF(AND(S46>0,S12>0),1+'Base Numbers'!$C$7,0)","v":0},{"$f":"IF(AND(T46>0,T12>0),1+'Base Numbers'!$C$7,0)","v":0},{"$f":"IF(AND(U46>0,U12>0),1+'Base Numbers'!$C$7,0)","v":0},{"$f":"IF(AND(V46>0,V12>0),1+'Base Numbers'!$C$7,0)","v":0},{"$f":"IF(AND(W46>0,W12>0),1+'Base Numbers'!$C$7,0)","v":0},{"$f":"IF(AND(X46>0,X12>0),1+'Base Numbers'!$C$7,0)","v":0}]
[{"$nulls":3},"eldritch smite levels per warlock smite",{"$f":"IF(AND(E12>=5,E49>=1),1+CELL(\"contents\",INDIRECT(ADDRESS(12+E12,12,1,1,\"Caster Tables\"))),0)","v":0},{"$f":"IF(AND(F12>=5,F49>=1),1+CELL(\"contents\",INDIRECT(ADDRESS(12+F12,12,1,1,\"Caster Tables\"))),0)","v":0},{"$f":"IF(AND(G12>=5,G49>=1),1+CELL(\"contents\",INDIRECT(ADDRESS(12+G12,12,1,1,\"Caster Tables\"))),0)","v":0},{"$f":"IF(AND(H12>=5,H49>=1),1+CELL(\"contents\",INDIRECT(ADDRESS(12+H12,12,1,1,\"Caster Tables\"))),0)","v":0},{"$f":"IF(AND(I12>=5,I49>=1),1+CELL(\"contents\",INDIRECT(ADDRESS(12+I12,12,1,1,\"Caster Tables\"))),0)","v":0},{"$f":"IF(AND(J12>=5,J49>=1),1+CELL(\"contents\",INDIRECT(ADDRESS(12+J12,12,1,1,\"Caster Tables\"))),0)","v":0},{"$f":"IF(AND(K12>=5,K49>=1),1+CELL(\"contents\",INDIRECT(ADDRESS(12+K12,12,1,1,\"Caster Tables\"))),0)","v":0},{"$f":"IF(AND(L12>=5,L49>=1),1+CELL(\"contents\",INDIRECT(ADDRESS(12+L12,12,1,1,\"Caster Tables\"))),0)","v":0},{"$f":"IF(AND(M12>=5,M49>=1),1+CELL(\"contents\",INDIRECT(ADDRESS(12+M12,12,1,1,\"Caster Tables\"))),0)","v":0},{"$f":"IF(AND(N12>=5,N49>=1),1+CELL(\"contents\",INDIRECT(ADDRESS(12+N12,12,1,1,\"Caster Tables\"))),0)","v":0},{"$f":"IF(AND(O12>=5,O49>=1),1+CELL(\"contents\",INDIRECT(ADDRESS(12+O12,12,1,1,\"Caster Tables\"))),0)","v":0},{"$f":"IF(AND(P12>=5,P49>=1),1+CELL(\"contents\",INDIRECT(ADDRESS(12+P12,12,1,1,\"Caster Tables\"))),0)","v":0},{"$f":"IF(AND(Q12>=5,Q49>=1),1+CELL(\"contents\",INDIRECT(ADDRESS(12+Q12,12,1,1,\"Caster Tables\"))),0)","v":0},{"$f":"IF(AND(R12>=5,R49>=1),1+CELL(\"contents\",INDIRECT(ADDRESS(12+R12,12,1,1,\"Caster Tables\"))),0)","v":0},{"$f":"IF(AND(S12>=5,S49>=1),1+CELL(\"contents\",INDIRECT(ADDRESS(12+S12,12,1,1,\"Caster Tables\"))),0)","v":0},{"$f":"IF(AND(T12>=5,T49>=1),1+CELL(\"contents\",INDIRECT(ADDRESS(12+T12,12,1,1,\"Caster Tables\"))),0)","v":0},{"$f":"IF(AND(U12>=5,U49>=1),1+CELL(\"contents\",INDIRECT(ADDRESS(12+U12,12,1,1,\"Caster Tables\"))),0)","v":0},{"$f":"IF(AND(V12>=5,V49>=1),1+CELL(\"contents\",INDIRECT(ADDRESS(12+V12,12,1,1,\"Caster Tables\"))),0)","v":0},{"$f":"IF(AND(W12>=5,W49>=1),1+CELL(\"contents\",INDIRECT(ADDRESS(12+W12,12,1,1,\"Caster Tables\"))),0)","v":0},{"$f":"IF(AND(X12>=5,X49>=1),1+CELL(\"contents\",INDIRECT(ADDRESS(12+X12,12,1,1,\"Caster Tables\"))),0)","v":0},null,"requires pact of the blade and L5"]
[{"$nulls":3},"number of eldlritch smites per day (Warlock L5, knocks prone)",{"$f":"IF(E1156>0,MIN(E282,E281/E1156,E266),0)","v":0},0,0,0,0,0,0,0,0,0,0,0,0,0,0,0,0,0,0,0,null,"min of : (1) number of warlock slots, (2) remianing spell levels/smite dice per level, (3) total remaining slots."]
[{"$nulls":3},"number of spell slot levels for eldritch smites",{"$f":"MIN(E1156*E1157,E281,E264)","v":0},0,0,0,0,0,0,0,0,0,0,0,0,0,0,0,0,0,0,0]
[{"$nulls":3},"number of spell slot levels remaining after eldritch smites",{"$f":"MAX(0,E281-E1158)","v":0},0,0,0,0,0,0,0,0,0,0,0,0,0,0,0,0,0,0,0]
[{"$nulls":3},"number of Eld Smites performed in max Damage Scenario",{"$f":"E1361","v":0},{"$f":"F1361","v":0},0,0,0,0,0,0,0,0,0,0,0,0,0,0,0,0,0,0]
[{"$nulls":3},"number of additional rounds with prone target",{"$f":"MAX(0,MIN('Caster Tables'!C9*'Base Numbers'!$C$6*'Base Numbers'!$C$5,E1160))","v":0},{"$f":"MAX(0,MIN('Caster Tables'!D9*'Base Numbers'!$C$6*'Base Numbers'!$C$5,F1160))","v":0},{"$f":"MAX(0,MIN('Caster Tables'!E9*'Base Numbers'!$C$6*'Base Numbers'!$C$5,G1160))","v":0},{"$f":"MAX(0,MIN('Caster Tables'!F9*'Base Numbers'!$C$6*'Base Numbers'!$C$5,H1160))","v":0},{"$f":"MAX(0,MIN('Caster Tables'!G9*'Base Numbers'!$C$6*'Base Numbers'!$C$5,I1160))","v":0},{"$f":"MAX(0,MIN('Caster Tables'!H9*'Base Numbers'!$C$6*'Base Numbers'!$C$5,J1160))","v":0},{"$f":"MAX(0,MIN('Caster Tables'!I9*'Base Numbers'!$C$6*'Base Numbers'!$C$5,K1160))","v":0},{"$f":"MAX(0,MIN('Caster Tables'!J9*'Base Numbers'!$C$6*'Base Numbers'!$C$5,L1160))","v":0},{"$f":"MAX(0,MIN('Caster Tables'!K9*'Base Numbers'!$C$6*'Base Numbers'!$C$5,M1160))","v":0},{"$f":"MAX(0,MIN('Caster Tables'!L9*'Base Numbers'!$C$6*'Base Numbers'!$C$5,N1160))","v":0},{"$f":"MAX(0,MIN('Caster Tables'!M9*'Base Numbers'!$C$6*'Base Numbers'!$C$5,O1160))","v":0},{"$f":"MAX(0,MIN('Caster Tables'!N9*'Base Numbers'!$C$6*'Base Numbers'!$C$5,P1160))","v":0},{"$f":"MAX(0,MIN('Caster Tables'!O9*'Base Numbers'!$C$6*'Base Numbers'!$C$5,Q1160))","v":0},{"$f":"MAX(0,MIN('Caster Tables'!P9*'Base Numbers'!$C$6*'Base Numbers'!$C$5,R1160))","v":0},{"$f":"MAX(0,MIN('Caster Tables'!Q9*'Base Numbers'!$C$6*'Base Numbers'!$C$5,S1160))","v":0},{"$f":"MAX(0,MIN('Caster Tables'!R9*'Base Numbers'!$C$6*'Base Numbers'!$C$5,T1160))","v":0},{"$f":"MAX(0,MIN('Caster Tables'!S9*'Base Numbers'!$C$6*'Base Numbers'!$C$5,U1160))","v":0},{"$f":"MAX(0,MIN('Caster Tables'!T9*'Base Numbers'!$C$6*'Base Numbers'!$C$5,V1160))","v":0},{"$f":"MAX(0,MIN('Caster Tables'!U9*'Base Numbers'!$C$6*'Base Numbers'!$C$5,W1160))","v":0},{"$f":"MAX(0,MIN('Caster Tables'!V9*'Base Numbers'!$C$6*'Base Numbers'!$C$5,X1160))","v":0}]
[{"$nulls":3},"proportion of attacks benefiting from prone",{"$f":"IF(AND(E1160>0,E1368=0,E1376+E323+E1377>0),(E1376+E323+E1377-1*(1-E287))/(E1376+E323+E1377),0)","v":0},0,0,0,0,0,0,0,0,0,0,0,0,0,0,0,0,0,0,0,null,"* subtract avg attacks in rounds when you are attacking"]
[{"$nulls":3},"total adv average (increased by warlock prone smites)",{"$f":"E1161/('Base Numbers'!$C$5*'Base Numbers'!$C$6)*E1162+E449","v":0},{"$f":"F1161/('Base Numbers'!$C$5*'Base Numbers'!$C$6)*F1162+F449","v":0},{"$f":"G1161/('Base Numbers'!$C$5*'Base Numbers'!$C$6)*G1162+G449","v":0},{"$f":"H1161/('Base Numbers'!$C$5*'Base Numbers'!$C$6)*H1162+H449","v":0},{"$f":"I1161/('Base Numbers'!$C$5*'Base Numbers'!$C$6)*I1162+I449","v":0},{"$f":"J1161/('Base Numbers'!$C$5*'Base Numbers'!$C$6)*J1162+J449","v":0},{"$f":"K1161/('Base Numbers'!$C$5*'Base Numbers'!$C$6)*K1162+K449","v":0},{"$f":"L1161/('Base Numbers'!$C$5*'Base Numbers'!$C$6)*L1162+L449","v":0},{"$f":"M1161/('Base Numbers'!$C$5*'Base Numbers'!$C$6)*M1162+M449","v":0},{"$f":"N1161/('Base Numbers'!$C$5*'Base Numbers'!$C$6)*N1162+N449","v":0},{"$f":"O1161/('Base Numbers'!$C$5*'Base Numbers'!$C$6)*O1162+O449","v":0},{"$f":"P1161/('Base Numbers'!$C$5*'Base Numbers'!$C$6)*P1162+P449","v":0},{"$f":"Q1161/('Base Numbers'!$C$5*'Base Numbers'!$C$6)*Q1162+Q449","v":0},{"$f":"R1161/('Base Numbers'!$C$5*'Base Numbers'!$C$6)*R1162+R449","v":0},{"$f":"S1161/('Base Numbers'!$C$5*'Base Numbers'!$C$6)*S1162+S449","v":0},{"$f":"T1161/('Base Numbers'!$C$5*'Base Numbers'!$C$6)*T1162+T449","v":0},{"$f":"U1161/('Base Numbers'!$C$5*'Base Numbers'!$C$6)*U1162+U449","v":0},{"$f":"V1161/('Base Numbers'!$C$5*'Base Numbers'!$C$6)*V1162+V449","v":0},{"$f":"W1161/('Base Numbers'!$C$5*'Base Numbers'!$C$6)*W1162+W449","v":0},{"$f":"X1161/('Base Numbers'!$C$5*'Base Numbers'!$C$6)*X1162+X449","v":0},null,null,"This equation describes how a change in adv pct increases damage:"]
[{"$nulls":3},"new total damage (main + bonus + haste) with increased adv",{"$f":"((1-E1163)*E335+E1163*E337)*(E1373+E1374+E1402)/((1-E449)*E335+E449*E337)","v":4.4},4.4,4.075,4.075,4.4,4.075,4.075,4.075,4.075,4.075,4.075,3.7499999999999996,4.075,4.075,3.7499999999999996,3.7499999999999996,4.075,3.7499999999999996,3.7499999999999996,3.7499999999999996,null,null,"T2 = ((1-a2)h+a2h')*T1/((1-a1)h+a1h')"]
[{"$nulls":3},"damage gain from inc advantage",{"$f":"ROUND(E1164-E1373-E1374-E1402,4)","v":0},0,0,0,0,0,0,0,0,0,0,0,0,0,0,0,0,0,0,0,{"$nulls":3},"T2 = new total damage"]
[{"$nulls":3},"Genie Patron damage bonus once/round",{"$f":"IF(AND(E12>=1,E48>=1),E35,0)","v":0},0,0,0,0,0,0,0,0,0,0,0,0,0,0,0,0,0,0,0,{"$nulls":3},"a2 = new adv pct"]
[{"$nulls":3},"pct of rounds with at least one hit (incl spell hits)",{"$f":"E1390","v":0.65},{"$f":"F1390","v":0.65},0.6,0.6,0.65,0.6,0.6,0.6,0.6,0.6,0.6,0.55,0.6,0.6,0.55,0.55,0.6,0.55,0.55,0.55,{"$nulls":3},"h = hit chance without adv"]
[{"$nulls":3},"total bonus warlock damage per round",{"$f":"E1166*E1167+E1165","v":0},{"$f":"F1166*F1167+F1165","v":0},{"$f":"G1166*G1167+G1165","v":0},0,0,0,0,0,0,0,0,0,0,0,0,0,0,0,0,0,{"$nulls":3},"h' = hit chance with adv"]
[{"$nulls":27},"T1 = old total damage"]
[{"$nulls":3},"DRUID DAMAGE",{"$nulls":23},"a1 = old adv pct"]
[{"$nulls":3},"wild shapes per day",{"$f":"IF(E17>=2,2,0)*(1+'Base Numbers'!$C$7)","v":0},{"$f":"IF(F17>=2,2,0)*(1+'Base Numbers'!$C$7)","v":0},{"$f":"IF(G17>=2,2,0)*(1+'Base Numbers'!$C$7)","v":0},{"$f":"IF(H17>=2,2,0)*(1+'Base Numbers'!$C$7)","v":0},{"$f":"IF(I17>=2,2,0)*(1+'Base Numbers'!$C$7)","v":0},{"$f":"IF(J17>=2,2,0)*(1+'Base Numbers'!$C$7)","v":0},{"$f":"IF(K17>=2,2,0)*(1+'Base Numbers'!$C$7)","v":0},{"$f":"IF(L17>=2,2,0)*(1+'Base Numbers'!$C$7)","v":0},{"$f":"IF(M17>=2,2,0)*(1+'Base Numbers'!$C$7)","v":0},{"$f":"IF(N17>=2,2,0)*(1+'Base Numbers'!$C$7)","v":0},{"$f":"IF(O17>=2,2,0)*(1+'Base Numbers'!$C$7)","v":0},{"$f":"IF(P17>=2,2,0)*(1+'Base Numbers'!$C$7)","v":0},{"$f":"IF(Q17>=2,2,0)*(1+'Base Numbers'!$C$7)","v":0},{"$f":"IF(R17>=2,2,0)*(1+'Base Numbers'!$C$7)","v":0},{"$f":"IF(S17>=2,2,0)*(1+'Base Numbers'!$C$7)","v":0},{"$f":"IF(T17>=2,2,0)*(1+'Base Numbers'!$C$7)","v":0},{"$f":"IF(U17>=2,2,0)*(1+'Base Numbers'!$C$7)","v":0},{"$f":"IF(V17>=2,2,0)*(1+'Base Numbers'!$C$7)","v":0},{"$f":"IF(W17>=2,2,0)*(1+'Base Numbers'!$C$7)","v":0},{"$f":"IF(X17>=2,2,0)*(1+'Base Numbers'!$C$7)","v":0}]
[{"$nulls":3},"Circle of Stars additional Guiding Bolt casts per day",{"$f":"IF(AND(E17>=2,E72),E35,0)","v":0},0,0,0,0,0,0,0,0,0,0,0,0,0,0,0,0,0,0,0]
[{"$nulls":3},"Circle of Stars Archer form uses per day",{"$f":"IF(AND(E17>=2,E72),E1171,0)","v":0},0,0,0,0,0,0,0,0,0,0,0,0,0,0,0,0,0,0,0]
[{"$nulls":3},"Circle of Stars Archer form dice damage per bonus action",{"$f":"IF(AND(E17>=2,E72),(IF(E17>=10,9,4.5)+E520),0)","v":0},{"$f":"IF(AND(F17>=2,F72),(IF(F17>=10,9,4.5)+F520),0)","v":0},0,0,0,0,0,0,0,0,0,0,0,0,0,0,0,0,0,0]
[{"$nulls":3},"Circle of Stars Archer form static damage per bonus action",{"$f":"E34+E522","v":3},{"$f":"F34+F522","v":3},3,3,3,3,3,3,3,3,3,3,3,3,3,3,3,3,3,3]
[{"$nulls":3},"Circle of Stars Archer crit damage",{"$f":"E476*E1174","v":0},{"$f":"F476*F1174","v":0},0,0,0,0,0,0,0,0,0,0,0,0,0,0,0,0,0,0]
[{"$nulls":3},"Circle of Stars Archer damage incl hit chance, per use",{"$f":"E462*(E1174+E1175)+E1176","v":1.9500000000000002},{"$f":"F462*(F1174+F1175)+F1176","v":1.9500000000000002},1.7999999999999998,1.7999999999999998,1.9500000000000002,1.7999999999999998,1.7999999999999998,1.7999999999999998,1.7999999999999998,1.7999999999999998,1.7999999999999998,1.6500000000000001,1.7999999999999998,1.7999999999999998,1.6500000000000001,1.6500000000000001,1.7999999999999998,1.6500000000000001,1.6500000000000001,1.6500000000000001]
[{"$nulls":3},"max bonus rounds used",{"$f":"MIN(E1173,'Base Numbers'!$C$5)*'Base Numbers'!$C$6","v":0},{"$f":"MIN(F1173,'Base Numbers'!$C$5)*'Base Numbers'!$C$6","v":0},{"$f":"MIN(G1173,'Base Numbers'!$C$5)*'Base Numbers'!$C$6","v":0},{"$f":"MIN(H1173,'Base Numbers'!$C$5)*'Base Numbers'!$C$6","v":0},{"$f":"MIN(I1173,'Base Numbers'!$C$5)*'Base Numbers'!$C$6","v":0},{"$f":"MIN(J1173,'Base Numbers'!$C$5)*'Base Numbers'!$C$6","v":0},{"$f":"MIN(K1173,'Base Numbers'!$C$5)*'Base Numbers'!$C$6","v":0},{"$f":"MIN(L1173,'Base Numbers'!$C$5)*'Base Numbers'!$C$6","v":0},{"$f":"MIN(M1173,'Base Numbers'!$C$5)*'Base Numbers'!$C$6","v":0},{"$f":"MIN(N1173,'Base Numbers'!$C$5)*'Base Numbers'!$C$6","v":0},{"$f":"MIN(O1173,'Base Numbers'!$C$5)*'Base Numbers'!$C$6","v":0},{"$f":"MIN(P1173,'Base Numbers'!$C$5)*'Base Numbers'!$C$6","v":0},{"$f":"MIN(Q1173,'Base Numbers'!$C$5)*'Base Numbers'!$C$6","v":0},{"$f":"MIN(R1173,'Base Numbers'!$C$5)*'Base Numbers'!$C$6","v":0},{"$f":"MIN(S1173,'Base Numbers'!$C$5)*'Base Numbers'!$C$6","v":0},{"$f":"MIN(T1173,'Base Numbers'!$C$5)*'Base Numbers'!$C$6","v":0},{"$f":"MIN(U1173,'Base Numbers'!$C$5)*'Base Numbers'!$C$6","v":0},{"$f":"MIN(V1173,'Base Numbers'!$C$5)*'Base Numbers'!$C$6","v":0},{"$f":"MIN(W1173,'Base Numbers'!$C$5)*'Base Numbers'!$C$6","v":0},{"$f":"MIN(X1173,'Base Numbers'!$C$5)*'Base Numbers'!$C$6","v":0}]
[{"$nulls":3},"pct  bonus rounds with Circle of Stars Archer",{"$f":"MIN(1,E291*E1178/('Base Numbers'!$C$5*'Base Numbers'!$C$6))","v":0},{"$f":"MIN(1,F291*F1178/('Base Numbers'!$C$5*'Base Numbers'!$C$6))","v":0},{"$f":"MIN(1,G291*G1178/('Base Numbers'!$C$5*'Base Numbers'!$C$6))","v":0},{"$f":"MIN(1,H291*H1178/('Base Numbers'!$C$5*'Base Numbers'!$C$6))","v":0},{"$f":"MIN(1,I291*I1178/('Base Numbers'!$C$5*'Base Numbers'!$C$6))","v":0},{"$f":"MIN(1,J291*J1178/('Base Numbers'!$C$5*'Base Numbers'!$C$6))","v":0},{"$f":"MIN(1,K291*K1178/('Base Numbers'!$C$5*'Base Numbers'!$C$6))","v":0},{"$f":"MIN(1,L291*L1178/('Base Numbers'!$C$5*'Base Numbers'!$C$6))","v":0},{"$f":"MIN(1,M291*M1178/('Base Numbers'!$C$5*'Base Numbers'!$C$6))","v":0},{"$f":"MIN(1,N291*N1178/('Base Numbers'!$C$5*'Base Numbers'!$C$6))","v":0},{"$f":"MIN(1,O291*O1178/('Base Numbers'!$C$5*'Base Numbers'!$C$6))","v":0},{"$f":"MIN(1,P291*P1178/('Base Numbers'!$C$5*'Base Numbers'!$C$6))","v":0},{"$f":"MIN(1,Q291*Q1178/('Base Numbers'!$C$5*'Base Numbers'!$C$6))","v":0},{"$f":"MIN(1,R291*R1178/('Base Numbers'!$C$5*'Base Numbers'!$C$6))","v":0},{"$f":"MIN(1,S291*S1178/('Base Numbers'!$C$5*'Base Numbers'!$C$6))","v":0},{"$f":"MIN(1,T291*T1178/('Base Numbers'!$C$5*'Base Numbers'!$C$6))","v":0},{"$f":"MIN(1,U291*U1178/('Base Numbers'!$C$5*'Base Numbers'!$C$6))","v":0},{"$f":"MIN(1,V291*V1178/('Base Numbers'!$C$5*'Base Numbers'!$C$6))","v":0},{"$f":"MIN(1,W291*W1178/('Base Numbers'!$C$5*'Base Numbers'!$C$6))","v":0},{"$f":"MIN(1,X291*X1178/('Base Numbers'!$C$5*'Base Numbers'!$C$6))","v":0}]
[{"$nulls":3},"Circle of Spores avg damage buff (an action) melee weapon only",{"$f":"IF(AND(E17>=2,E73),3.5,0)*E1171/('Base Numbers'!$C$5)","v":0},{"$f":"IF(AND(F17>=2,F73),3.5,0)*F1171/('Base Numbers'!$C$5)","v":0},{"$f":"IF(AND(G17>=2,G73),3.5,0)*G1171/('Base Numbers'!$C$5)","v":0},{"$f":"IF(AND(H17>=2,H73),3.5,0)*H1171/('Base Numbers'!$C$5)","v":0},{"$f":"IF(AND(I17>=2,I73),3.5,0)*I1171/('Base Numbers'!$C$5)","v":0},{"$f":"IF(AND(J17>=2,J73),3.5,0)*J1171/('Base Numbers'!$C$5)","v":0},{"$f":"IF(AND(K17>=2,K73),3.5,0)*K1171/('Base Numbers'!$C$5)","v":0},{"$f":"IF(AND(L17>=2,L73),3.5,0)*L1171/('Base Numbers'!$C$5)","v":0},{"$f":"IF(AND(M17>=2,M73),3.5,0)*M1171/('Base Numbers'!$C$5)","v":0},{"$f":"IF(AND(N17>=2,N73),3.5,0)*N1171/('Base Numbers'!$C$5)","v":0},{"$f":"IF(AND(O17>=2,O73),3.5,0)*O1171/('Base Numbers'!$C$5)","v":0},{"$f":"IF(AND(P17>=2,P73),3.5,0)*P1171/('Base Numbers'!$C$5)","v":0},{"$f":"IF(AND(Q17>=2,Q73),3.5,0)*Q1171/('Base Numbers'!$C$5)","v":0},{"$f":"IF(AND(R17>=2,R73),3.5,0)*R1171/('Base Numbers'!$C$5)","v":0},{"$f":"IF(AND(S17>=2,S73),3.5,0)*S1171/('Base Numbers'!$C$5)","v":0},{"$f":"IF(AND(T17>=2,T73),3.5,0)*T1171/('Base Numbers'!$C$5)","v":0},{"$f":"IF(AND(U17>=2,U73),3.5,0)*U1171/('Base Numbers'!$C$5)","v":0},{"$f":"IF(AND(V17>=2,V73),3.5,0)*V1171/('Base Numbers'!$C$5)","v":0},{"$f":"IF(AND(W17>=2,W73),3.5,0)*W1171/('Base Numbers'!$C$5)","v":0},{"$f":"IF(AND(X17>=2,X73),3.5,0)*X1171/('Base Numbers'!$C$5)","v":0}]
[{"$nulls":3},"Halo of Spores base reaction damage",{"$f":"IF(AND(E17>=2,E73),3.5,0)+IF(AND(E17>=6,E73),1,0)+IF(AND(E17>=10,E73),1,0)+IF(AND(E17>=14,E73),1,0)","v":0},0,0,0,0,0,0,0,0,0,0,0,0,0,0,0,0,0,0,0]
[{"$nulls":3},"halo of spores opponent save pct (Con save)",{"$f":"(13-E35-E34+'Caster Tables'!C75)/20","v":0.45},{"$f":"(13-F35-F34+'Caster Tables'!D75)/20","v":0.475},{"$f":"(13-G35-G34+'Caster Tables'!E75)/20","v":0.5},{"$f":"(13-H35-H34+'Caster Tables'!F75)/20","v":0.525},{"$f":"(13-I35-I34+'Caster Tables'!G75)/20","v":0.5},{"$f":"(13-J35-J34+'Caster Tables'!H75)/20","v":0.525},{"$f":"(13-K35-K34+'Caster Tables'!I75)/20","v":0.55},{"$f":"(13-L35-L34+'Caster Tables'!J75)/20","v":0.575},{"$f":"(13-M35-M34+'Caster Tables'!K75)/20","v":0.55},{"$f":"(13-N35-N34+'Caster Tables'!L75)/20","v":0.575},{"$f":"(13-O35-O34+'Caster Tables'!M75)/20","v":0.6},{"$f":"(13-P35-P34+'Caster Tables'!N75)/20","v":0.625},{"$f":"(13-Q35-Q34+'Caster Tables'!O75)/20","v":0.6},{"$f":"(13-R35-R34+'Caster Tables'!P75)/20","v":0.65},{"$f":"(13-S35-S34+'Caster Tables'!Q75)/20","v":0.7},{"$f":"(13-T35-T34+'Caster Tables'!R75)/20","v":0.75},{"$f":"(13-U35-U34+'Caster Tables'!S75)/20","v":0.75},{"$f":"(13-V35-V34+'Caster Tables'!T75)/20","v":0.8},{"$f":"(13-W35-W34+'Caster Tables'!U75)/20","v":0.85},{"$f":"(13-X35-X34+'Caster Tables'!V75)/20","v":0.85}]
[{"$nulls":3},"spores temp hp",{"$f":"IF(AND(E17>=2,E73),4*E17,0)","v":0},0,0,0,0,0,0,0,0,0,0,0,0,0,0,0,0,0,0,0]
[{"$nulls":3},"spores uptime in rounds per activation",{"$f":"MIN('Base Numbers'!$C$6,ROUND(E1183/(0.5*'Caster Tables'!C79),2))","v":0},{"$f":"MIN('Base Numbers'!$C$6,ROUND(F1183/(0.5*'Caster Tables'!D79),2))","v":0},{"$f":"MIN('Base Numbers'!$C$6,ROUND(G1183/(0.5*'Caster Tables'!E79),2))","v":0},{"$f":"MIN('Base Numbers'!$C$6,ROUND(H1183/(0.5*'Caster Tables'!F79),2))","v":0},{"$f":"MIN('Base Numbers'!$C$6,ROUND(I1183/(0.5*'Caster Tables'!G79),2))","v":0},{"$f":"MIN('Base Numbers'!$C$6,ROUND(J1183/(0.5*'Caster Tables'!H79),2))","v":0},{"$f":"MIN('Base Numbers'!$C$6,ROUND(K1183/(0.5*'Caster Tables'!I79),2))","v":0},{"$f":"MIN('Base Numbers'!$C$6,ROUND(L1183/(0.5*'Caster Tables'!J79),2))","v":0},{"$f":"MIN('Base Numbers'!$C$6,ROUND(M1183/(0.5*'Caster Tables'!K79),2))","v":0},{"$f":"MIN('Base Numbers'!$C$6,ROUND(N1183/(0.5*'Caster Tables'!L79),2))","v":0},{"$f":"MIN('Base Numbers'!$C$6,ROUND(O1183/(0.5*'Caster Tables'!M79),2))","v":0},{"$f":"MIN('Base Numbers'!$C$6,ROUND(P1183/(0.5*'Caster Tables'!N79),2))","v":0},{"$f":"MIN('Base Numbers'!$C$6,ROUND(Q1183/(0.5*'Caster Tables'!O79),2))","v":0},{"$f":"MIN('Base Numbers'!$C$6,ROUND(R1183/(0.5*'Caster Tables'!P79),2))","v":0},{"$f":"MIN('Base Numbers'!$C$6,ROUND(S1183/(0.5*'Caster Tables'!Q79),2))","v":0},{"$f":"MIN('Base Numbers'!$C$6,ROUND(T1183/(0.5*'Caster Tables'!R79),2))","v":0},{"$f":"MIN('Base Numbers'!$C$6,ROUND(U1183/(0.5*'Caster Tables'!S79),2))","v":0},{"$f":"MIN('Base Numbers'!$C$6,ROUND(V1183/(0.5*'Caster Tables'!T79),2))","v":0},{"$f":"MIN('Base Numbers'!$C$6,ROUND(W1183/(0.5*'Caster Tables'!U79),2))","v":0},{"$f":"MIN('Base Numbers'!$C$6,ROUND(X1183/(0.5*'Caster Tables'!V79),2))","v":0}]
[{"$nulls":3},"spores avg damage per attack incl uptime",{"$f":"E1180*E1184/'Base Numbers'!$C$6","v":0},{"$f":"F1180*F1184/'Base Numbers'!$C$6","v":0},{"$f":"G1180*G1184/'Base Numbers'!$C$6","v":0},{"$f":"H1180*H1184/'Base Numbers'!$C$6","v":0},{"$f":"I1180*I1184/'Base Numbers'!$C$6","v":0},{"$f":"J1180*J1184/'Base Numbers'!$C$6","v":0},{"$f":"K1180*K1184/'Base Numbers'!$C$6","v":0},{"$f":"L1180*L1184/'Base Numbers'!$C$6","v":0},{"$f":"M1180*M1184/'Base Numbers'!$C$6","v":0},{"$f":"N1180*N1184/'Base Numbers'!$C$6","v":0},{"$f":"O1180*O1184/'Base Numbers'!$C$6","v":0},{"$f":"P1180*P1184/'Base Numbers'!$C$6","v":0},{"$f":"Q1180*Q1184/'Base Numbers'!$C$6","v":0},{"$f":"R1180*R1184/'Base Numbers'!$C$6","v":0},{"$f":"S1180*S1184/'Base Numbers'!$C$6","v":0},{"$f":"T1180*T1184/'Base Numbers'!$C$6","v":0},{"$f":"U1180*U1184/'Base Numbers'!$C$6","v":0},{"$f":"V1180*V1184/'Base Numbers'!$C$6","v":0},{"$f":"W1180*W1184/'Base Numbers'!$C$6","v":0},{"$f":"X1180*X1184/'Base Numbers'!$C$6","v":0}]
[{"$nulls":3},"spores avg damage per bonus attack incl uptime",{"$f":"E1180*(E1184+1)/'Base Numbers'!$C$6","v":0},{"$f":"F1180*(F1184+1)/'Base Numbers'!$C$6","v":0},{"$f":"G1180*(G1184+1)/'Base Numbers'!$C$6","v":0},{"$f":"H1180*(H1184+1)/'Base Numbers'!$C$6","v":0},{"$f":"I1180*(I1184+1)/'Base Numbers'!$C$6","v":0},{"$f":"J1180*(J1184+1)/'Base Numbers'!$C$6","v":0},{"$f":"K1180*(K1184+1)/'Base Numbers'!$C$6","v":0},{"$f":"L1180*(L1184+1)/'Base Numbers'!$C$6","v":0},{"$f":"M1180*(M1184+1)/'Base Numbers'!$C$6","v":0},{"$f":"N1180*(N1184+1)/'Base Numbers'!$C$6","v":0},{"$f":"O1180*(O1184+1)/'Base Numbers'!$C$6","v":0},{"$f":"P1180*(P1184+1)/'Base Numbers'!$C$6","v":0},{"$f":"Q1180*(Q1184+1)/'Base Numbers'!$C$6","v":0},{"$f":"R1180*(R1184+1)/'Base Numbers'!$C$6","v":0},{"$f":"S1180*(S1184+1)/'Base Numbers'!$C$6","v":0},{"$f":"T1180*(T1184+1)/'Base Numbers'!$C$6","v":0},{"$f":"U1180*(U1184+1)/'Base Numbers'!$C$6","v":0},{"$f":"V1180*(V1184+1)/'Base Numbers'!$C$6","v":0},{"$f":"W1180*(W1184+1)/'Base Numbers'!$C$6","v":0},{"$f":"X1180*(X1184+1)/'Base Numbers'!$C$6","v":0}]
[{"$nulls":3},"halo of spores damage incl spores uptime",{"$f":"E1181*(1+(E1184+1)/'Base Numbers'!$C$6*E1171/'Base Numbers'!$C$5)","v":0},{"$f":"F1181*(1+(F1184+1)/'Base Numbers'!$C$6*F1171/'Base Numbers'!$C$5)","v":0},{"$f":"G1181*(1+(G1184+1)/'Base Numbers'!$C$6*G1171/'Base Numbers'!$C$5)","v":0},{"$f":"H1181*(1+(H1184+1)/'Base Numbers'!$C$6*H1171/'Base Numbers'!$C$5)","v":0},{"$f":"I1181*(1+(I1184+1)/'Base Numbers'!$C$6*I1171/'Base Numbers'!$C$5)","v":0},{"$f":"J1181*(1+(J1184+1)/'Base Numbers'!$C$6*J1171/'Base Numbers'!$C$5)","v":0},{"$f":"K1181*(1+(K1184+1)/'Base Numbers'!$C$6*K1171/'Base Numbers'!$C$5)","v":0},{"$f":"L1181*(1+(L1184+1)/'Base Numbers'!$C$6*L1171/'Base Numbers'!$C$5)","v":0},{"$f":"M1181*(1+(M1184+1)/'Base Numbers'!$C$6*M1171/'Base Numbers'!$C$5)","v":0},{"$f":"N1181*(1+(N1184+1)/'Base Numbers'!$C$6*N1171/'Base Numbers'!$C$5)","v":0},{"$f":"O1181*(1+(O1184+1)/'Base Numbers'!$C$6*O1171/'Base Numbers'!$C$5)","v":0},{"$f":"P1181*(1+(P1184+1)/'Base Numbers'!$C$6*P1171/'Base Numbers'!$C$5)","v":0},{"$f":"Q1181*(1+(Q1184+1)/'Base Numbers'!$C$6*Q1171/'Base Numbers'!$C$5)","v":0},{"$f":"R1181*(1+(R1184+1)/'Base Numbers'!$C$6*R1171/'Base Numbers'!$C$5)","v":0},{"$f":"S1181*(1+(S1184+1)/'Base Numbers'!$C$6*S1171/'Base Numbers'!$C$5)","v":0},{"$f":"T1181*(1+(T1184+1)/'Base Numbers'!$C$6*T1171/'Base Numbers'!$C$5)","v":0},{"$f":"U1181*(1+(U1184+1)/'Base Numbers'!$C$6*U1171/'Base Numbers'!$C$5)","v":0},{"$f":"V1181*(1+(V1184+1)/'Base Numbers'!$C$6*V1171/'Base Numbers'!$C$5)","v":0},{"$f":"W1181*(1+(W1184+1)/'Base Numbers'!$C$6*W1171/'Base Numbers'!$C$5)","v":0},{"$f":"X1181*(1+(X1184+1)/'Base Numbers'!$C$6*X1171/'Base Numbers'!$C$5)","v":0}]
[{"$nulls":3},"pct reactions available for halo of spores",{"$f":"MAX(0,1-E361)","v":0.75},0.75,0.75,0.75,0.75,0.75,0.75,0.75,0.75,0.75,0.75,0.75,0.75,0.75,0.75,0.75,0.75,0.75,0.75,0.75]
[{"$nulls":3},"avg halo of spores damage per turn",{"$f":"E1188*E1187*E1182","v":0},{"$f":"F1188*F1187*F1182","v":0},0,0,0,0,0,0,0,0,0,0,0,0,0,0,0,0,0,0]
[{"$nulls":3},"total summon beast/fey spells per day",{"$f":"E253+E252","v":0},0,0,0,0,0,0,0,0,0,0,0,0,0,0,0,0,0,0,0]
[{"$nulls":3},"Guardian Spirit (shepherd L10) additional HP for summons",{"$f":"IF(AND(E17>=10,E74>=1),IF(E1190>0,MIN((1+'Base Numbers'!$C$7),(1+'Base Numbers'!$C$7)/E1190)*E17*0.5*'Base Numbers'!$C$6,0),0)","v":0},{"$f":"IF(AND(F17>=10,F74>=1),IF(F1190>0,MIN((1+'Base Numbers'!$C$7),(1+'Base Numbers'!$C$7)/F1190)*F17*0.5*'Base Numbers'!$C$6,0),0)","v":0},{"$f":"IF(AND(G17>=10,G74>=1),IF(G1190>0,MIN((1+'Base Numbers'!$C$7),(1+'Base Numbers'!$C$7)/G1190)*G17*0.5*'Base Numbers'!$C$6,0),0)","v":0},{"$f":"IF(AND(H17>=10,H74>=1),IF(H1190>0,MIN((1+'Base Numbers'!$C$7),(1+'Base Numbers'!$C$7)/H1190)*H17*0.5*'Base Numbers'!$C$6,0),0)","v":0},{"$f":"IF(AND(I17>=10,I74>=1),IF(I1190>0,MIN((1+'Base Numbers'!$C$7),(1+'Base Numbers'!$C$7)/I1190)*I17*0.5*'Base Numbers'!$C$6,0),0)","v":0},{"$f":"IF(AND(J17>=10,J74>=1),IF(J1190>0,MIN((1+'Base Numbers'!$C$7),(1+'Base Numbers'!$C$7)/J1190)*J17*0.5*'Base Numbers'!$C$6,0),0)","v":0},{"$f":"IF(AND(K17>=10,K74>=1),IF(K1190>0,MIN((1+'Base Numbers'!$C$7),(1+'Base Numbers'!$C$7)/K1190)*K17*0.5*'Base Numbers'!$C$6,0),0)","v":0},{"$f":"IF(AND(L17>=10,L74>=1),IF(L1190>0,MIN((1+'Base Numbers'!$C$7),(1+'Base Numbers'!$C$7)/L1190)*L17*0.5*'Base Numbers'!$C$6,0),0)","v":0},{"$f":"IF(AND(M17>=10,M74>=1),IF(M1190>0,MIN((1+'Base Numbers'!$C$7),(1+'Base Numbers'!$C$7)/M1190)*M17*0.5*'Base Numbers'!$C$6,0),0)","v":0},{"$f":"IF(AND(N17>=10,N74>=1),IF(N1190>0,MIN((1+'Base Numbers'!$C$7),(1+'Base Numbers'!$C$7)/N1190)*N17*0.5*'Base Numbers'!$C$6,0),0)","v":0},{"$f":"IF(AND(O17>=10,O74>=1),IF(O1190>0,MIN((1+'Base Numbers'!$C$7),(1+'Base Numbers'!$C$7)/O1190)*O17*0.5*'Base Numbers'!$C$6,0),0)","v":0},{"$f":"IF(AND(P17>=10,P74>=1),IF(P1190>0,MIN((1+'Base Numbers'!$C$7),(1+'Base Numbers'!$C$7)/P1190)*P17*0.5*'Base Numbers'!$C$6,0),0)","v":0},{"$f":"IF(AND(Q17>=10,Q74>=1),IF(Q1190>0,MIN((1+'Base Numbers'!$C$7),(1+'Base Numbers'!$C$7)/Q1190)*Q17*0.5*'Base Numbers'!$C$6,0),0)","v":0},{"$f":"IF(AND(R17>=10,R74>=1),IF(R1190>0,MIN((1+'Base Numbers'!$C$7),(1+'Base Numbers'!$C$7)/R1190)*R17*0.5*'Base Numbers'!$C$6,0),0)","v":0},{"$f":"IF(AND(S17>=10,S74>=1),IF(S1190>0,MIN((1+'Base Numbers'!$C$7),(1+'Base Numbers'!$C$7)/S1190)*S17*0.5*'Base Numbers'!$C$6,0),0)","v":0},{"$f":"IF(AND(T17>=10,T74>=1),IF(T1190>0,MIN((1+'Base Numbers'!$C$7),(1+'Base Numbers'!$C$7)/T1190)*T17*0.5*'Base Numbers'!$C$6,0),0)","v":0},{"$f":"IF(AND(U17>=10,U74>=1),IF(U1190>0,MIN((1+'Base Numbers'!$C$7),(1+'Base Numbers'!$C$7)/U1190)*U17*0.5*'Base Numbers'!$C$6,0),0)","v":0},{"$f":"IF(AND(V17>=10,V74>=1),IF(V1190>0,MIN((1+'Base Numbers'!$C$7),(1+'Base Numbers'!$C$7)/V1190)*V17*0.5*'Base Numbers'!$C$6,0),0)","v":0},{"$f":"IF(AND(W17>=10,W74>=1),IF(W1190>0,MIN((1+'Base Numbers'!$C$7),(1+'Base Numbers'!$C$7)/W1190)*W17*0.5*'Base Numbers'!$C$6,0),0)","v":0},{"$f":"IF(AND(X17>=10,X74>=1),IF(X1190>0,MIN((1+'Base Numbers'!$C$7),(1+'Base Numbers'!$C$7)/X1190)*X17*0.5*'Base Numbers'!$C$6,0),0)","v":0},null,"* assumes this only used in conjunction with summon beast/fey spells"]
[{"$nulls":3},"total bonus druid damage per turn",{"$f":"E1189+E1177*E1179","v":0},{"$f":"F1189+F1177*F1179","v":0},0,0,0,0,0,0,0,0,0,0,0,0,0,0,0,0,0,0]
[]
[{"$nulls":3},"SORCERER DAMAGE"]
[{"$nulls":3},"Remaining Sorc points after Quicken, Smites",{"$f":"MAX(0,E1359)","v":0},{"$f":"MAX(0,F1359)","v":0},0,0,0,0,0,0,0,0,0,0,0,0,0,0,0,0,0,0]
[{"$nulls":3},"avg Empowered Spell damage per Sorc point",{"$f":"IF(E13>=3,(3.5-1.5)*E32,0)","v":0},0,0,0,0,0,0,0,0,0,0,0,0,0,0,0,0,0,0,0]
[{"$nulls":3},"total Empowered Spell damage per day",{"$f":"E1196*E1195/('Base Numbers'!$C$5*'Base Numbers'!$C$6)","v":0},{"$f":"F1196*F1195/('Base Numbers'!$C$5*'Base Numbers'!$C$6)","v":0},{"$f":"G1196*G1195/('Base Numbers'!$C$5*'Base Numbers'!$C$6)","v":0},{"$f":"H1196*H1195/('Base Numbers'!$C$5*'Base Numbers'!$C$6)","v":0},{"$f":"I1196*I1195/('Base Numbers'!$C$5*'Base Numbers'!$C$6)","v":0},{"$f":"J1196*J1195/('Base Numbers'!$C$5*'Base Numbers'!$C$6)","v":0},{"$f":"K1196*K1195/('Base Numbers'!$C$5*'Base Numbers'!$C$6)","v":0},{"$f":"L1196*L1195/('Base Numbers'!$C$5*'Base Numbers'!$C$6)","v":0},{"$f":"M1196*M1195/('Base Numbers'!$C$5*'Base Numbers'!$C$6)","v":0},{"$f":"N1196*N1195/('Base Numbers'!$C$5*'Base Numbers'!$C$6)","v":0},{"$f":"O1196*O1195/('Base Numbers'!$C$5*'Base Numbers'!$C$6)","v":0},{"$f":"P1196*P1195/('Base Numbers'!$C$5*'Base Numbers'!$C$6)","v":0},{"$f":"Q1196*Q1195/('Base Numbers'!$C$5*'Base Numbers'!$C$6)","v":0},{"$f":"R1196*R1195/('Base Numbers'!$C$5*'Base Numbers'!$C$6)","v":0},{"$f":"S1196*S1195/('Base Numbers'!$C$5*'Base Numbers'!$C$6)","v":0},{"$f":"T1196*T1195/('Base Numbers'!$C$5*'Base Numbers'!$C$6)","v":0},{"$f":"U1196*U1195/('Base Numbers'!$C$5*'Base Numbers'!$C$6)","v":0},{"$f":"V1196*V1195/('Base Numbers'!$C$5*'Base Numbers'!$C$6)","v":0},{"$f":"W1196*W1195/('Base Numbers'!$C$5*'Base Numbers'!$C$6)","v":0},{"$f":"X1196*X1195/('Base Numbers'!$C$5*'Base Numbers'!$C$6)","v":0}]
[{"$nulls":3},"total bonus Sorcerer damage",{"$f":"E1197","v":0},{"$f":"F1197","v":0},0,0,0,0,0,0,0,0,0,0,0,0,0,0,0,0,0,0]
[]
[]
[{"$nulls":3},"Damage Scenarios",1,2,3,4,5,6,7,8,9,10,11,12,13,14,15,16,17,18,19,20]
[]
[{"$nulls":3},"Main Attack Scenarios"]
[{"$nulls":3},"(M1) main attack attack action (adj for spells)",{"$f":"IF(E137>0,0,(E530+E531)*(1-E287))","v":1.9500000000000002},1.9500000000000002,1.7999999999999998,1.7999999999999998,1.9500000000000002,1.7999999999999998,1.7999999999999998,1.7999999999999998,1.7999999999999998,1.7999999999999998,1.7999999999999998,1.6500000000000001,1.7999999999999998,1.7999999999999998,1.6500000000000001,1.6500000000000001,1.7999999999999998,1.6500000000000001,1.6500000000000001,1.6500000000000001,null,"* turned off if ranged is forced"]
[{"$nulls":3},"(M2) main attack BB",{"$f":"IF(E137>0,0,E554*(1-E287))","v":0},0,0,0,0,0,0,0,0,0,0,0,0,0,0,0,0,0,0,0]
[{"$nulls":3},"(M3) main attack melee EB",{"$f":"IF(OR(E139>=1,E137>0),0,(E645)*(1-E287))","v":0},0,0,0,0,0,0,0,0,0,0,0,0,0,0,0,0,0,0,0]
[{"$nulls":3},"(M4) main attack ranged EB",{"$f":"IF(OR(E138>=1,E139>=1),0,(E643)*(1-E287))","v":0},0,0,0,0,0,0,0,0,0,0,0,0,0,0,0,0,0,0,0]
[{"$nulls":3},"(M5) main attack ranged bow",{"$f":"IF(E138>=1,0,E607*(1-E287))","v":4.4},4.4,4.075,4.075,4.4,4.075,4.075,4.075,4.075,4.075,4.075,3.75,4.075,4.075,3.75,3.75,4.075,3.75,3.75,3.75]
[]
[{"$nulls":3},"M1 avg main attack action crits per round",{"$f":"E1216*MIN(1,E446*E466+(1-E446)*E465+E480)","v":0.05},0.05,0.05,0.05,0.05,0.05,0.05,0.05,0.05,0.05,0.05,0.05,0.05,0.05,0.05,0.05,0.05,0.05,0.05,0.05,null,"* others don't actually include haste crits"]
[{"$nulls":3},"M2 avg main attack action crits per round",{"$f":"E1217*E469","v":0.05},0.05,0.05,0.05,0.05,0.05,0.05,0.05,0.05,0.05,0.05,0.05,0.05,0.05,0.05,0.05,0.05,0.05,0.05,0.05]
[{"$nulls":3},"M3 has no smite-qualifying attacks",0,0,0,0,0,0,0,0,0,0,0,0,0,0,0,0,0,0,0,0]
[{"$nulls":3},"M4 has no smite-qualifying attacks",0,0,0,0,0,0,0,0,0,0,0,0,0,0,0,0,0,0,0,0]
[{"$nulls":3},"M5 avg ranged warlock smite-qualifying crits per round (incl haste)",{"$f":"(E581*E599+(1-E581)*E598)*E576","v":0.05},0.05,0.05,0.05,0.05,0.05,0.05,0.05,0.05,0.05,0.05,0.05,0.05,0.05,0.05,0.05,0.05,0.05,0.05,0.05,null,"* ranged adv is computed with haste included, so main+haste crits are shown"]
[]
[{"$nulls":3},"M1 avg attacks per round (adj for spells)",{"$f":"IF(E137>0,0,E322*(1-E287))","v":1},1,1,1,1,1,1,1,1,1,1,1,1,1,1,1,1,1,1,1]
[{"$nulls":3},"M2 avg attacks per round",{"$f":"IF(E137>0,0,(1-E287))","v":1},1,1,1,1,1,1,1,1,1,1,1,1,1,1,1,1,1,1,1]
[{"$nulls":3},"M3 avg spell attacks per round (EB)",{"$f":"E1212","v":0},{"$f":"F1212","v":0},0,0,0,0,0,0,0,0,0,0,0,0,0,0,0,0,0,0]
[{"$nulls":3},"M4 avg spell attacks per round (EB)",{"$f":"IF(OR(E138>=1,E139>=1),0,IF(E615,E620,IF(E641,1,0))*(1-E287))","v":0},0,0,0,0,0,0,0,0,0,0,0,0,0,0,0,0,0,0,0]
[{"$nulls":3},"M5 avg attacks per round (ranged bow, adjust for spells, haste)",{"$f":"E575*(1-E287)","v":1},1,1,1,1,1,1,1,1,1,1,1,1,1,1,1,1,1,1,1]
[]
[{"$nulls":3},"Opportunity Attack Scenarios:"]
[{"$nulls":3},"(O1) opp att damage option: melee attack / BB when possible",{"$f":"MAX(E361*(E538+E539),E1224)","v":0.48750000000000004},0.48750000000000004,0.44999999999999996,0.44999999999999996,0.48750000000000004,0.44999999999999996,0.44999999999999996,0.44999999999999996,0.44999999999999996,0.44999999999999996,0.44999999999999996,0.41250000000000003,0.44999999999999996,0.44999999999999996,0.41250000000000003,0.41250000000000003,0.44999999999999996,0.41250000000000003,0.41250000000000003,0.41250000000000003]
[{"$nulls":3},"(O2) opp att: BB when possible, melee fallback",{"$f":"E555*E362+(E361-E362)*(E538+E539)","v":0},0,0,0,0,0,0,0,0,0,0,0,0,0,0,0,0,0,0,0]
[{"$nulls":3},"(O3) opp att: melee-range EB when possible, melee fallback",{"$f":"E647*E362+(E361-E362)*(E538+E539)","v":0},0,0,0,0,0,0,0,0,0,0,0,0,0,0,0,0,0,0,0]
[]
[{"$nulls":3},"O1/O2 crit rate:",{"$f":"E361*E473","v":0.0125},0.0125,0.0125,0.0125,0.0125,0.0125,0.0125,0.0125,0.0125,0.0125,0.0125,0.0125,0.0125,0.0125,0.0125,0.0125,0.0125,0.0125,0.0125,0.0125]
[{"$nulls":3},"O3 crit rate:",{"$f":"(E361-E362)*E473","v":0},0,0,0,0,0,0,0,0,0,0,0,0,0,0,0,0,0,0,0]
[]
[{"$nulls":3},"(O1), (O2) smite-qualified attacks ",{"$f":"E361","v":0.25},0.25,0.25,0.25,0.25,0.25,0.25,0.25,0.25,0.25,0.25,0.25,0.25,0.25,0.25,0.25,0.25,0.25,0.25,0.25]
[{"$nulls":3},"(O3) smite-qualified attacks",{"$f":"(E361-E362)","v":0},0,0,0,0,0,0,0,0,0,0,0,0,0,0,0,0,0,0,0]
[]
[{"$nulls":3},"Bonus Attack Scenarios:"]
[{"$nulls":3},"(B1) weapon-based bonus attack (no Quicken BB or EB)",{"$f":"(E536+E537)*MIN(MAX(0,1-E292-E343),MAX(E326,E324))*E325","v":0},0,0,0,0,0,0,0,0,0,0,0,0,0,0,0,0,0,0,0,null,"* BB is turned off if Ranged is forced"]
[{"$nulls":3},"(B2) weapon-based bonus attack when possible, otherwise Q BB",{"$f":"MAX(0,MIN(1-E324-E326-E292-E288,E565))*E571+MIN(1-E288-E292,E325+E326)*(E536+E537)*E325","v":0},0,0,0,0,0,0,0,0,0,0,0,0,0,0,0,0,0,0,0]
[{"$nulls":3},"(B3) weapon-based bonus attack when possible, otherwise Q EB",{"$f":"MAX(0,MIN(1-E324-E326-E292-E288,E565))*(E646)+MIN(1-E288-E292,E324+E326)*(E536+E537)*E325","v":0},0,0,0,0,0,0,0,0,0,0,0,0,0,0,0,0,0,0,0]
[{"$nulls":3},"(B4) bonus attack Q BB when possible, otherwise weapon attack",{"$f":"E565*E571+MAX(0,MIN(E324+E326,1-E292-E288-E565))*(E536+E537)*E325","v":0},0,0,0,0,0,0,0,0,0,0,0,0,0,0,0,0,0,0,0]
[{"$nulls":3},"(B5) bonus attack Q EB when possible, otherwise weapon attack",{"$f":"E565*(E646)+MAX(0,MIN(E324+E326,1-E292-E288-E565))*(E536+E537)*E325","v":0},0,0,0,0,0,0,0,0,0,0,0,0,0,0,0,0,0,0,0]
[{"$nulls":3},"(B6) bonus attack Q BB and GWM bonus melee attacks (with main action BB)",{"$f":"E565*E571+MAX(0,MIN(E326,1-E292-E288-E565))*(E536+E537)","v":0},0,0,0,0,0,0,0,0,0,0,0,0,0,0,0,0,0,0,0]
[{"$nulls":3},"(B7) bonus attack Q EB and GWM bonus melee attacks (with main action BB)",{"$f":"E565*(E646)+MAX(0,MIN(E326,1-E292-E288-E565))*(E536+E537)","v":0},0,0,0,0,0,0,0,0,0,0,0,0,0,0,0,0,0,0,0]
[{"$nulls":3},"(B8) bonus attack QQ EB melee range (only, with main action EB)",{"$f":"IF(E139>=1,0,E565*(E646))","v":0},0,0,0,0,0,0,0,0,0,0,0,0,0,0,0,0,0,0,0]
[{"$nulls":3},"(B9) bonus attack QQ EB ranged (only, with main action EB)",{"$f":"IF(E139>=1,0,E565*(E644))","v":0},0,0,0,0,0,0,0,0,0,0,0,0,0,0,0,0,0,0,0]
[{"$nulls":3},"(B10) bonus attack QQ EB ranged, or Ranged bonus attack",{"$f":"IF(E138>=1,0,E565*(E644)+MAX(E578-E565,0)*(E608+E609))","v":0},0,0,0,0,0,0,0,0,0,0,0,0,0,0,0,0,0,0,0]
[{"$nulls":3},"(B11) ranged bonus attack (no Quicken BB or EB)",{"$f":"IF(E138>=1,0,E578*(E608+E609))","v":0},0,0,0,0,0,0,0,0,0,0,0,0,0,0,0,0,0,0,0]
[{"$nulls":3},"(B12) bonus attack GWM bons att w Q BB fallback  (with main action BB)",{"$f":"E571*MAX(0,MIN(E565,1-E292-E288-E326))+E326*(E536+E537)","v":0},0,0,0,0,0,0,0,0,0,0,0,0,0,0,0,0,0,0,0]
[{"$nulls":3},"(B13) bonus attack GWM bons att w Q EB fallback  (with main action BB)",{"$f":"(E646)*MAX(0,MIN(E565,1-E292-E288-E326))+E326*(E536+E537)","v":0},0,0,0,0,0,0,0,0,0,0,0,0,0,0,0,0,0,0,0]
[]
[{"$nulls":3},"B1 crits per weapon-based bonus attack",{"$f":"E1262*E$472","v":0},0,0,0,0,0,0,0,0,0,0,0,0,0,0,0,0,0,0,0]
[{"$nulls":3},"B2 crits per weapon based, with Q BB fallback",{"$f":"E1263*E$472","v":0},0,0,0,0,0,0,0,0,0,0,0,0,0,0,0,0,0,0,0]
[{"$nulls":3},"B3 crits per weapon based, with Q EB fallback",{"$f":"E1264*E$472","v":0},0,0,0,0,0,0,0,0,0,0,0,0,0,0,0,0,0,0,0]
[{"$nulls":3},"B4 crits per Q BB, with weapon fallback",{"$f":"E1265*E$472","v":0},0,0,0,0,0,0,0,0,0,0,0,0,0,0,0,0,0,0,0]
[{"$nulls":3},"B5 crits per Q EB, with weapon fallback",{"$f":"E1266*E$472","v":0},0,0,0,0,0,0,0,0,0,0,0,0,0,0,0,0,0,0,0]
[{"$nulls":3},"B6 & B12 crits per Q BB with GWM attacks (main action BB)",{"$f":"E1267*E$472","v":0},0,0,0,0,0,0,0,0,0,0,0,0,0,0,0,0,0,0,0]
[{"$nulls":3},"B7 & B13 crits per Q EB with GWM attacks (main action BB)",{"$f":"E1268*E$472","v":0},0,0,0,0,0,0,0,0,0,0,0,0,0,0,0,0,0,0,0]
[{"$nulls":3},"B8 & B9 have no smite-qualifying crits",{"$f":"E1269*E$472","v":0},0,0,0,0,0,0,0,0,0,0,0,0,0,0,0,0,0,0,0]
[{"$nulls":3},"B8 & B9 have no smite-qualifying crits",{"$f":"E1270*E$472","v":0},{"$f":"F1270*F$472","v":0},0,0,0,0,0,0,0,0,0,0,0,0,0,0,0,0,0,0]
[{"$nulls":3},"B10 ranged weapon warlock-smite qualifying crits",{"$f":"E1271*E$472","v":0},0,0,0,0,0,0,0,0,0,0,0,0,0,0,0,0,0,0,0]
[{"$nulls":3},"B11 ranged weapon warlock-smite qualifying crits",0,0,0,0,0,0,0,0,0,0,0,0,0,0,0,0,0,0,0,0]
[{"$nulls":3},"B6 & B12 crits per Q BB with GWM attacks (main action BB)",{"$f":"E1267*E$472","v":0},0,0,0,0,0,0,0,0,0,0,0,0,0,0,0,0,0,0,0]
[{"$nulls":3},"B7 & B13 crits per Q EB with GWM attacks (main action BB)",{"$f":"E1268*E$472","v":0},0,0,0,0,0,0,0,0,0,0,0,0,0,0,0,0,0,0,0]
[]
[{"$nulls":3},"B1 attacks per weapon-based bonus attack",{"$f":"MIN(MAX(0,1-E292-E343),MAX(E326,E324))*E325","v":0},0,0,0,0,0,0,0,0,0,0,0,0,0,0,0,0,0,0,0]
[{"$nulls":3},"B2 attacks per weapon based, with Q BB fallback",{"$f":"MIN(MAX(0,1-E292-E343),MAX(E326,E324))*E325","v":0},0,0,0,0,0,0,0,0,0,0,0,0,0,0,0,0,0,0,0]
[{"$nulls":3},"B3 attacks per weapon based, with Q EB fallback",{"$f":"MAX(0,MIN(1-E288-E292,E324+E326))*E325","v":0},0,0,0,0,0,0,0,0,0,0,0,0,0,0,0,0,0,0,0]
[{"$nulls":3},"B4 attacks per Q BB, with weapon fallback",{"$f":"MAX(0,MIN(1,E565+E326+E324,1-E292-E343))*E325","v":0},0,0,0,0,0,0,0,0,0,0,0,0,0,0,0,0,0,0,0]
[{"$nulls":3},"B5 attacks per Q EB, with weapon fallback",{"$f":"MAX(0,MIN(1,E326+E324,1-E292-E343-E565))*E325","v":0},0,0,0,0,0,0,0,0,0,0,0,0,0,0,0,0,0,0,0]
[{"$nulls":3},"B6 & B12 attacks per Q BB with GWM attacks (main action BB)",{"$f":"MAX(0,MIN(1,E565+E326,1-E292-E343))","v":0},0,0,0,0,0,0,0,0,0,0,0,0,0,0,0,0,0,0,0]
[{"$nulls":3},"B7 & B13 attacks per Q EB with GWM attacks (main action BB)",{"$f":"MAX(0,MIN(1,E326,1-E292-E343-E565))","v":0},0,0,0,0,0,0,0,0,0,0,0,0,0,0,0,0,0,0,0]
[{"$nulls":3},"B8 & B9 have no smite-qualifying attacks",0,0,0,0,0,0,0,0,0,0,0,0,0,0,0,0,0,0,0,0]
[{"$nulls":3},"B8 & B9 have no smite-qualifying attacks",0,0,0,0,0,0,0,0,0,0,0,0,0,0,0,0,0,0,0,0]
[{"$nulls":3},"B10 ranged weapon bonus attacks",{"$f":"MAX(E578-E565,0)","v":0},0,0,0,0,0,0,0,0,0,0,0,0,0,0,0,0,0,0,0]
[{"$nulls":3},"B11 ranged weapon bonus attacks",{"$f":"E578","v":0},0,0,0,0,0,0,0,0,0,0,0,0,0,0,0,0,0,0,0]
[{"$nulls":3},"B6 & B12 attacks per Q BB with GWM attacks (main action BB)",{"$f":"MAX(0,MIN(1,E565+E326,1-E292-E343))","v":0},0,0,0,0,0,0,0,0,0,0,0,0,0,0,0,0,0,0,0]
[{"$nulls":3},"B7 & B13 attacks per Q EB with GWM attacks (main action BB)",{"$f":"MAX(0,MIN(1,E326,1-E292-E343-E565))","v":0},0,0,0,0,0,0,0,0,0,0,0,0,0,0,0,0,0,0,0]
[]
[{"$nulls":3},"B1 & B11 total used sorc points plus spell slots",0,0,0,0,0,0,0,0,0,0,0,0,0,0,0,0,0,0,0,0]
[{"$nulls":3},"B2 & B3 total used sorc points plus spell slots (melee,  Q BB fallback)",{"$f":"MIN(MAX(0,1-E324-E326-E292-E288),E565)*2*'Base Numbers'!$C$6*'Base Numbers'!$C$5","v":0},{"$f":"MIN(MAX(0,1-F324-F326-F292-F288),F565)*2*'Base Numbers'!$C$6*'Base Numbers'!$C$5","v":0},{"$f":"MIN(MAX(0,1-G324-G326-G292-G288),G565)*2*'Base Numbers'!$C$6*'Base Numbers'!$C$5","v":0},{"$f":"MIN(MAX(0,1-H324-H326-H292-H288),H565)*2*'Base Numbers'!$C$6*'Base Numbers'!$C$5","v":0},{"$f":"MIN(MAX(0,1-I324-I326-I292-I288),I565)*2*'Base Numbers'!$C$6*'Base Numbers'!$C$5","v":0},{"$f":"MIN(MAX(0,1-J324-J326-J292-J288),J565)*2*'Base Numbers'!$C$6*'Base Numbers'!$C$5","v":0},{"$f":"MIN(MAX(0,1-K324-K326-K292-K288),K565)*2*'Base Numbers'!$C$6*'Base Numbers'!$C$5","v":0},{"$f":"MIN(MAX(0,1-L324-L326-L292-L288),L565)*2*'Base Numbers'!$C$6*'Base Numbers'!$C$5","v":0},{"$f":"MIN(MAX(0,1-M324-M326-M292-M288),M565)*2*'Base Numbers'!$C$6*'Base Numbers'!$C$5","v":0},{"$f":"MIN(MAX(0,1-N324-N326-N292-N288),N565)*2*'Base Numbers'!$C$6*'Base Numbers'!$C$5","v":0},{"$f":"MIN(MAX(0,1-O324-O326-O292-O288),O565)*2*'Base Numbers'!$C$6*'Base Numbers'!$C$5","v":0},{"$f":"MIN(MAX(0,1-P324-P326-P292-P288),P565)*2*'Base Numbers'!$C$6*'Base Numbers'!$C$5","v":0},{"$f":"MIN(MAX(0,1-Q324-Q326-Q292-Q288),Q565)*2*'Base Numbers'!$C$6*'Base Numbers'!$C$5","v":0},{"$f":"MIN(MAX(0,1-R324-R326-R292-R288),R565)*2*'Base Numbers'!$C$6*'Base Numbers'!$C$5","v":0},{"$f":"MIN(MAX(0,1-S324-S326-S292-S288),S565)*2*'Base Numbers'!$C$6*'Base Numbers'!$C$5","v":0},{"$f":"MIN(MAX(0,1-T324-T326-T292-T288),T565)*2*'Base Numbers'!$C$6*'Base Numbers'!$C$5","v":0},{"$f":"MIN(MAX(0,1-U324-U326-U292-U288),U565)*2*'Base Numbers'!$C$6*'Base Numbers'!$C$5","v":0},{"$f":"MIN(MAX(0,1-V324-V326-V292-V288),V565)*2*'Base Numbers'!$C$6*'Base Numbers'!$C$5","v":0},{"$f":"MIN(MAX(0,1-W324-W326-W292-W288),W565)*2*'Base Numbers'!$C$6*'Base Numbers'!$C$5","v":0},{"$f":"MIN(MAX(0,1-X324-X326-X292-X288),X565)*2*'Base Numbers'!$C$6*'Base Numbers'!$C$5","v":0}]
[{"$nulls":3},"B4-B10 total used sorc points plus spell slots  (Q BB, melee fallback)",{"$f":"E565*2*'Base Numbers'!$C$6*'Base Numbers'!$C$5","v":0},{"$f":"F565*2*'Base Numbers'!$C$6*'Base Numbers'!$C$5","v":0},{"$f":"G565*2*'Base Numbers'!$C$6*'Base Numbers'!$C$5","v":0},{"$f":"H565*2*'Base Numbers'!$C$6*'Base Numbers'!$C$5","v":0},{"$f":"I565*2*'Base Numbers'!$C$6*'Base Numbers'!$C$5","v":0},{"$f":"J565*2*'Base Numbers'!$C$6*'Base Numbers'!$C$5","v":0},{"$f":"K565*2*'Base Numbers'!$C$6*'Base Numbers'!$C$5","v":0},{"$f":"L565*2*'Base Numbers'!$C$6*'Base Numbers'!$C$5","v":0},{"$f":"M565*2*'Base Numbers'!$C$6*'Base Numbers'!$C$5","v":0},{"$f":"N565*2*'Base Numbers'!$C$6*'Base Numbers'!$C$5","v":0},{"$f":"O565*2*'Base Numbers'!$C$6*'Base Numbers'!$C$5","v":0},{"$f":"P565*2*'Base Numbers'!$C$6*'Base Numbers'!$C$5","v":0},{"$f":"Q565*2*'Base Numbers'!$C$6*'Base Numbers'!$C$5","v":0},{"$f":"R565*2*'Base Numbers'!$C$6*'Base Numbers'!$C$5","v":0},{"$f":"S565*2*'Base Numbers'!$C$6*'Base Numbers'!$C$5","v":0},{"$f":"T565*2*'Base Numbers'!$C$6*'Base Numbers'!$C$5","v":0},{"$f":"U565*2*'Base Numbers'!$C$6*'Base Numbers'!$C$5","v":0},{"$f":"V565*2*'Base Numbers'!$C$6*'Base Numbers'!$C$5","v":0},{"$f":"W565*2*'Base Numbers'!$C$6*'Base Numbers'!$C$5","v":0},{"$f":"X565*2*'Base Numbers'!$C$6*'Base Numbers'!$C$5","v":0}]
[{"$nulls":3},"B12 & B13 total used sorc points plus spell slots (GWM, Q BB fallback)",{"$f":"MIN(E565,MAX(0,1-E292-E288-E326))*2*'Base Numbers'!$C$6*'Base Numbers'!$C$5","v":0},{"$f":"MIN(F565,MAX(0,1-F292-F288-F326))*2*'Base Numbers'!$C$6*'Base Numbers'!$C$5","v":0},{"$f":"MIN(G565,MAX(0,1-G292-G288-G326))*2*'Base Numbers'!$C$6*'Base Numbers'!$C$5","v":0},{"$f":"MIN(H565,MAX(0,1-H292-H288-H326))*2*'Base Numbers'!$C$6*'Base Numbers'!$C$5","v":0},{"$f":"MIN(I565,MAX(0,1-I292-I288-I326))*2*'Base Numbers'!$C$6*'Base Numbers'!$C$5","v":0},{"$f":"MIN(J565,MAX(0,1-J292-J288-J326))*2*'Base Numbers'!$C$6*'Base Numbers'!$C$5","v":0},{"$f":"MIN(K565,MAX(0,1-K292-K288-K326))*2*'Base Numbers'!$C$6*'Base Numbers'!$C$5","v":0},{"$f":"MIN(L565,MAX(0,1-L292-L288-L326))*2*'Base Numbers'!$C$6*'Base Numbers'!$C$5","v":0},{"$f":"MIN(M565,MAX(0,1-M292-M288-M326))*2*'Base Numbers'!$C$6*'Base Numbers'!$C$5","v":0},{"$f":"MIN(N565,MAX(0,1-N292-N288-N326))*2*'Base Numbers'!$C$6*'Base Numbers'!$C$5","v":0},{"$f":"MIN(O565,MAX(0,1-O292-O288-O326))*2*'Base Numbers'!$C$6*'Base Numbers'!$C$5","v":0},{"$f":"MIN(P565,MAX(0,1-P292-P288-P326))*2*'Base Numbers'!$C$6*'Base Numbers'!$C$5","v":0},{"$f":"MIN(Q565,MAX(0,1-Q292-Q288-Q326))*2*'Base Numbers'!$C$6*'Base Numbers'!$C$5","v":0},{"$f":"MIN(R565,MAX(0,1-R292-R288-R326))*2*'Base Numbers'!$C$6*'Base Numbers'!$C$5","v":0},{"$f":"MIN(S565,MAX(0,1-S292-S288-S326))*2*'Base Numbers'!$C$6*'Base Numbers'!$C$5","v":0},{"$f":"MIN(T565,MAX(0,1-T292-T288-T326))*2*'Base Numbers'!$C$6*'Base Numbers'!$C$5","v":0},{"$f":"MIN(U565,MAX(0,1-U292-U288-U326))*2*'Base Numbers'!$C$6*'Base Numbers'!$C$5","v":0},{"$f":"MIN(V565,MAX(0,1-V292-V288-V326))*2*'Base Numbers'!$C$6*'Base Numbers'!$C$5","v":0},{"$f":"MIN(W565,MAX(0,1-W292-W288-W326))*2*'Base Numbers'!$C$6*'Base Numbers'!$C$5","v":0},{"$f":"MIN(X565,MAX(0,1-X292-X288-X326))*2*'Base Numbers'!$C$6*'Base Numbers'!$C$5","v":0}]
[]
[{"$nulls":3},"Damage Scenarios"]
[{"$nulls":3},"Smite-qualified attacks per round incl haste"]
[{"$nulls":3},"M1, B1, O1/O2",{"$f":"E1216+E323+E1262+E361","v":1.25},1.25,1.25,1.25,1.25,1.25,1.25,1.25,1.25,1.25,1.25,1.25,1.25,1.25,1.25,1.25,1.25,1.25,1.25,1.25]
[{"$nulls":3},"M1, B1, O3",{"$f":"E1216+E323+E1262+E1231","v":1},1,1,1,1,1,1,1,1,1,1,1,1,1,1,1,1,1,1,1]
[{"$nulls":3},"M1, B2, O1/O2",{"$f":"E1216+E323+E1263+E361","v":1.25},1.25,1.25,1.25,1.25,1.25,1.25,1.25,1.25,1.25,1.25,1.25,1.25,1.25,1.25,1.25,1.25,1.25,1.25,1.25]
[{"$nulls":3},"M1, B2, O3",{"$f":"E1216+E323+E1263+E1231","v":1},1,1,1,1,1,1,1,1,1,1,1,1,1,1,1,1,1,1,1]
[{"$nulls":3},"M1, B3, O1/O2",{"$f":"E1216+E323+E1264+E361","v":1.25},1.25,1.25,1.25,1.25,1.25,1.25,1.25,1.25,1.25,1.25,1.25,1.25,1.25,1.25,1.25,1.25,1.25,1.25,1.25]
[{"$nulls":3},"M1, B3, O3",{"$f":"E1216+E323+E1264+E1231","v":1},1,1,1,1,1,1,1,1,1,1,1,1,1,1,1,1,1,1,1]
[{"$nulls":3},"M1, B4, O1/O2",{"$f":"E1216+E323+E1265+E361","v":1.25},1.25,1.25,1.25,1.25,1.25,1.25,1.25,1.25,1.25,1.25,1.25,1.25,1.25,1.25,1.25,1.25,1.25,1.25,1.25]
[{"$nulls":3},"M1, B4, O3",{"$f":"E1216+E323+E1265+E1231","v":1},1,1,1,1,1,1,1,1,1,1,1,1,1,1,1,1,1,1,1]
[{"$nulls":3},"M1, B5, O1/O2",{"$f":"E1216+E323+E1266+E361","v":1.25},1.25,1.25,1.25,1.25,1.25,1.25,1.25,1.25,1.25,1.25,1.25,1.25,1.25,1.25,1.25,1.25,1.25,1.25,1.25]
[{"$nulls":3},"M1, B5, O3",{"$f":"E1216+E323+E1266+E1231","v":1},1,1,1,1,1,1,1,1,1,1,1,1,1,1,1,1,1,1,1]
[{"$nulls":3},"M2, B6, O1/O2",{"$f":"E1217+E323+E1267+E361","v":1.25},1.25,1.25,1.25,1.25,1.25,1.25,1.25,1.25,1.25,1.25,1.25,1.25,1.25,1.25,1.25,1.25,1.25,1.25,1.25]
[{"$nulls":3},"M2, B6, O3",{"$f":"E1217+E323+E1267+E1231","v":1},1,1,1,1,1,1,1,1,1,1,1,1,1,1,1,1,1,1,1]
[{"$nulls":3},"M2, B7, O1/O2",{"$f":"E1217+E323+E1268+E361","v":1.25},1.25,1.25,1.25,1.25,1.25,1.25,1.25,1.25,1.25,1.25,1.25,1.25,1.25,1.25,1.25,1.25,1.25,1.25,1.25]
[{"$nulls":3},"M2, B7, O3",{"$f":"E1217+E323+E1268+E1231","v":1},1,1,1,1,1,1,1,1,1,1,1,1,1,1,1,1,1,1,1]
[{"$nulls":3},"M2, B12, O1/O2",{"$f":"E1217+E323+E1267+E361","v":1.25},1.25,1.25,1.25,1.25,1.25,1.25,1.25,1.25,1.25,1.25,1.25,1.25,1.25,1.25,1.25,1.25,1.25,1.25,1.25]
[{"$nulls":3},"M2, B12, O3",{"$f":"E1217+E323+E1267+E1231","v":1},1,1,1,1,1,1,1,1,1,1,1,1,1,1,1,1,1,1,1]
[{"$nulls":3},"M2, B13, O1/O2",{"$f":"E1217+E323+E1268+E361","v":1.25},1.25,1.25,1.25,1.25,1.25,1.25,1.25,1.25,1.25,1.25,1.25,1.25,1.25,1.25,1.25,1.25,1.25,1.25,1.25]
[{"$nulls":3},"M2, B13, O3",{"$f":"E1217+E323+E1268+E1231","v":1},1,1,1,1,1,1,1,1,1,1,1,1,1,1,1,1,1,1,1]
[{"$nulls":3},"M3, B8, O1/O2",{"$f":"E323+E1269+E361","v":0.25},0.25,0.25,0.25,0.25,0.25,0.25,0.25,0.25,0.25,0.25,0.25,0.25,0.25,0.25,0.25,0.25,0.25,0.25,0.25]
[{"$nulls":3},"M3, B8, O3",{"$f":"E1231+E323","v":0},0,0,0,0,0,0,0,0,0,0,0,0,0,0,0,0,0,0,0]
[{"$nulls":3},"M4, B9",{"$f":"E323","v":0},0,0,0,0,0,0,0,0,0,0,0,0,0,0,0,0,0,0,0]
[{"$nulls":3},"M5, B10",{"$f":"E1220+E1271+E323","v":1},1,1,1,1,1,1,1,1,1,1,1,1,1,1,1,1,1,1,1]
[{"$nulls":3},"M5, B11",{"$f":"E1220+E1272+E323","v":1},1,1,1,1,1,1,1,1,1,1,1,1,1,1,1,1,1,1,1]
[]
[{"$nulls":3},"Crit rate per round: (incl haste)"]
[{"$nulls":3},"M1, B1, O1/O2",{"$f":"E1210+E1248+E1227+E470*E323","v":0.0625},0.0625,0.0625,0.0625,0.0625,0.0625,0.0625,0.0625,0.0625,0.0625,0.0625,0.0625,0.0625,0.0625,0.0625,0.0625,0.0625,0.0625,0.0625,0.0625]
[{"$nulls":3},"M1, B1, O3",{"$f":"E1210+E1248+E1228+E470*E323","v":0.05},0.05,0.05,0.05,0.05,0.05,0.05,0.05,0.05,0.05,0.05,0.05,0.05,0.05,0.05,0.05,0.05,0.05,0.05,0.05]
[{"$nulls":3},"M1, B2, O1/O2",{"$f":"E1210+E1249+E1227+E470*E323","v":0.0625},0.0625,0.0625,0.0625,0.0625,0.0625,0.0625,0.0625,0.0625,0.0625,0.0625,0.0625,0.0625,0.0625,0.0625,0.0625,0.0625,0.0625,0.0625,0.0625]
[{"$nulls":3},"M1, B2, O3",{"$f":"E1210+E1249+E470*E323","v":0.05},0.05,0.05,0.05,0.05,0.05,0.05,0.05,0.05,0.05,0.05,0.05,0.05,0.05,0.05,0.05,0.05,0.05,0.05,0.05]
[{"$nulls":3},"M1, B3, O1/O2",{"$f":"E1210+E1250+E1227+E470*E323","v":0.0625},0.0625,0.0625,0.0625,0.0625,0.0625,0.0625,0.0625,0.0625,0.0625,0.0625,0.0625,0.0625,0.0625,0.0625,0.0625,0.0625,0.0625,0.0625,0.0625]
[{"$nulls":3},"M1, B3, O3",{"$f":"E1210+E1250+E1228+E470*E323","v":0.05},0.05,0.05,0.05,0.05,0.05,0.05,0.05,0.05,0.05,0.05,0.05,0.05,0.05,0.05,0.05,0.05,0.05,0.05,0.05]
[{"$nulls":3},"M1, B4, O1/O2",{"$f":"E1210+E1251+E1227+E470*E323","v":0.0625},0.0625,0.0625,0.0625,0.0625,0.0625,0.0625,0.0625,0.0625,0.0625,0.0625,0.0625,0.0625,0.0625,0.0625,0.0625,0.0625,0.0625,0.0625,0.0625]
[{"$nulls":3},"M1, B4, O3",{"$f":"E1210+E1251+E1228+E470*E323","v":0.05},0.05,0.05,0.05,0.05,0.05,0.05,0.05,0.05,0.05,0.05,0.05,0.05,0.05,0.05,0.05,0.05,0.05,0.05,0.05]
[{"$nulls":3},"M1, B5, O1/O2",{"$f":"E1210+E1252+E1227+E470*E323","v":0.0625},0.0625,0.0625,0.0625,0.0625,0.0625,0.0625,0.0625,0.0625,0.0625,0.0625,0.0625,0.0625,0.0625,0.0625,0.0625,0.0625,0.0625,0.0625,0.0625]
[{"$nulls":3},"M1, B5, O3",{"$f":"E1210+E1252+E1228+E470*E323","v":0.05},0.05,0.05,0.05,0.05,0.05,0.05,0.05,0.05,0.05,0.05,0.05,0.05,0.05,0.05,0.05,0.05,0.05,0.05,0.05]
[{"$nulls":3},"M2, B6, O1/O2",{"$f":"E1211+E1253+E1227+E470*E323","v":0.0625},0.0625,0.0625,0.0625,0.0625,0.0625,0.0625,0.0625,0.0625,0.0625,0.0625,0.0625,0.0625,0.0625,0.0625,0.0625,0.0625,0.0625,0.0625,0.0625]
[{"$nulls":3},"M2, B6, O3",{"$f":"E1211+E1253+E1228+E470*E323","v":0.05},0.05,0.05,0.05,0.05,0.05,0.05,0.05,0.05,0.05,0.05,0.05,0.05,0.05,0.05,0.05,0.05,0.05,0.05,0.05]
[{"$nulls":3},"M2, B7, O1/O2",{"$f":"E1211+E1254+E1227+E470*E323","v":0.0625},0.0625,0.0625,0.0625,0.0625,0.0625,0.0625,0.0625,0.0625,0.0625,0.0625,0.0625,0.0625,0.0625,0.0625,0.0625,0.0625,0.0625,0.0625,0.0625]
[{"$nulls":3},"M2, B7, O3",{"$f":"E1211+E1254+E1228+E470*E323","v":0.05},0.05,0.05,0.05,0.05,0.05,0.05,0.05,0.05,0.05,0.05,0.05,0.05,0.05,0.05,0.05,0.05,0.05,0.05,0.05]
[{"$nulls":3},"M2, B12, O1/O2",{"$f":"E1211+E1253+E1227+E470*E323","v":0.0625},0.0625,0.0625,0.0625,0.0625,0.0625,0.0625,0.0625,0.0625,0.0625,0.0625,0.0625,0.0625,0.0625,0.0625,0.0625,0.0625,0.0625,0.0625,0.0625]
[{"$nulls":3},"M2, B12, O3",{"$f":"E1211+E1253+E1228+E470*E323","v":0.05},0.05,0.05,0.05,0.05,0.05,0.05,0.05,0.05,0.05,0.05,0.05,0.05,0.05,0.05,0.05,0.05,0.05,0.05,0.05]
[{"$nulls":3},"M2, B13, O1/O2",{"$f":"E1211+E1254+E1227+E470*E323","v":0.0625},0.0625,0.0625,0.0625,0.0625,0.0625,0.0625,0.0625,0.0625,0.0625,0.0625,0.0625,0.0625,0.0625,0.0625,0.0625,0.0625,0.0625,0.0625,0.0625]
[{"$nulls":3},"M2, B13, O3",{"$f":"E1211+E1254+E1228+E470*E323","v":0.05},0.05,0.05,0.05,0.05,0.05,0.05,0.05,0.05,0.05,0.05,0.05,0.05,0.05,0.05,0.05,0.05,0.05,0.05,0.05]
[{"$nulls":3},"M3, B8, O1/O2",{"$f":"E1227+E470*E323","v":0.0125},0.0125,0.0125,0.0125,0.0125,0.0125,0.0125,0.0125,0.0125,0.0125,0.0125,0.0125,0.0125,0.0125,0.0125,0.0125,0.0125,0.0125,0.0125,0.0125]
[{"$nulls":3},"M3, B8, O3",{"$f":"E1212+E1255+E1228+E470*E323","v":0},0,0,0,0,0,0,0,0,0,0,0,0,0,0,0,0,0,0,0]
[{"$nulls":3},"M4, B9",{"$f":"E1256+E1213+E470*E323","v":0},0,0,0,0,0,0,0,0,0,0,0,0,0,0,0,0,0,0,0]
[{"$nulls":3},"M5, B10",{"$f":"E1214+E1257+E470*E323","v":0.05},0.05,0.05,0.05,0.05,0.05,0.05,0.05,0.05,0.05,0.05,0.05,0.05,0.05,0.05,0.05,0.05,0.05,0.05,0.05]
[{"$nulls":3},"M5, B11",{"$f":"E1214+E1258+E470*E323","v":0.05},0.05,0.05,0.05,0.05,0.05,0.05,0.05,0.05,0.05,0.05,0.05,0.05,0.05,0.05,0.05,0.05,0.05,0.05,0.05]
[]
[{"$nulls":3},"damage per round: (main, bonus, opp, smites, only)"]
[{"$nulls":3},"M1, B1, O1/O2",{"$f":"E1204+E1234+MAX(E1223,E1224)+Smites!E26/('Base Numbers'!$C$5*'Base Numbers'!$C$6)","v":2.4375},{"$f":"F1204+F1234+MAX(F1223,F1224)+Smites!F26/('Base Numbers'!$C$5*'Base Numbers'!$C$6)","v":2.4375},{"$f":"G1204+G1234+MAX(G1223,G1224)+Smites!G26/('Base Numbers'!$C$5*'Base Numbers'!$C$6)","v":2.25},{"$f":"H1204+H1234+MAX(H1223,H1224)+Smites!H26/('Base Numbers'!$C$5*'Base Numbers'!$C$6)","v":2.25},{"$f":"I1204+I1234+MAX(I1223,I1224)+Smites!I26/('Base Numbers'!$C$5*'Base Numbers'!$C$6)","v":2.4375},{"$f":"J1204+J1234+MAX(J1223,J1224)+Smites!J26/('Base Numbers'!$C$5*'Base Numbers'!$C$6)","v":2.25},{"$f":"K1204+K1234+MAX(K1223,K1224)+Smites!K26/('Base Numbers'!$C$5*'Base Numbers'!$C$6)","v":2.25},{"$f":"L1204+L1234+MAX(L1223,L1224)+Smites!L26/('Base Numbers'!$C$5*'Base Numbers'!$C$6)","v":2.25},{"$f":"M1204+M1234+MAX(M1223,M1224)+Smites!M26/('Base Numbers'!$C$5*'Base Numbers'!$C$6)","v":2.25},{"$f":"N1204+N1234+MAX(N1223,N1224)+Smites!N26/('Base Numbers'!$C$5*'Base Numbers'!$C$6)","v":2.25},{"$f":"O1204+O1234+MAX(O1223,O1224)+Smites!O26/('Base Numbers'!$C$5*'Base Numbers'!$C$6)","v":2.25},{"$f":"P1204+P1234+MAX(P1223,P1224)+Smites!P26/('Base Numbers'!$C$5*'Base Numbers'!$C$6)","v":2.0625},{"$f":"Q1204+Q1234+MAX(Q1223,Q1224)+Smites!Q26/('Base Numbers'!$C$5*'Base Numbers'!$C$6)","v":2.25},{"$f":"R1204+R1234+MAX(R1223,R1224)+Smites!R26/('Base Numbers'!$C$5*'Base Numbers'!$C$6)","v":2.25},{"$f":"S1204+S1234+MAX(S1223,S1224)+Smites!S26/('Base Numbers'!$C$5*'Base Numbers'!$C$6)","v":2.0625},{"$f":"T1204+T1234+MAX(T1223,T1224)+Smites!T26/('Base Numbers'!$C$5*'Base Numbers'!$C$6)","v":2.0625},{"$f":"U1204+U1234+MAX(U1223,U1224)+Smites!U26/('Base Numbers'!$C$5*'Base Numbers'!$C$6)","v":2.25},{"$f":"V1204+V1234+MAX(V1223,V1224)+Smites!V26/('Base Numbers'!$C$5*'Base Numbers'!$C$6)","v":2.0625},{"$f":"W1204+W1234+MAX(W1223,W1224)+Smites!W26/('Base Numbers'!$C$5*'Base Numbers'!$C$6)","v":2.0625},{"$f":"X1204+X1234+MAX(X1223,X1224)+Smites!X26/('Base Numbers'!$C$5*'Base Numbers'!$C$6)","v":2.0625}]
[{"$nulls":3},"M1, B1, O3",{"$f":"E1204+E1234+E1225+Smites!E45/('Base Numbers'!$C$5*'Base Numbers'!$C$6)","v":1.9500000000000002},{"$f":"F1204+F1234+F1225+Smites!F45/('Base Numbers'!$C$5*'Base Numbers'!$C$6)","v":1.9500000000000002},{"$f":"G1204+G1234+G1225+Smites!G45/('Base Numbers'!$C$5*'Base Numbers'!$C$6)","v":1.7999999999999998},{"$f":"H1204+H1234+H1225+Smites!H45/('Base Numbers'!$C$5*'Base Numbers'!$C$6)","v":1.7999999999999998},{"$f":"I1204+I1234+I1225+Smites!I45/('Base Numbers'!$C$5*'Base Numbers'!$C$6)","v":1.9500000000000002},{"$f":"J1204+J1234+J1225+Smites!J45/('Base Numbers'!$C$5*'Base Numbers'!$C$6)","v":1.7999999999999998},{"$f":"K1204+K1234+K1225+Smites!K45/('Base Numbers'!$C$5*'Base Numbers'!$C$6)","v":1.7999999999999998},{"$f":"L1204+L1234+L1225+Smites!L45/('Base Numbers'!$C$5*'Base Numbers'!$C$6)","v":1.7999999999999998},{"$f":"M1204+M1234+M1225+Smites!M45/('Base Numbers'!$C$5*'Base Numbers'!$C$6)","v":1.7999999999999998},{"$f":"N1204+N1234+N1225+Smites!N45/('Base Numbers'!$C$5*'Base Numbers'!$C$6)","v":1.7999999999999998},{"$f":"O1204+O1234+O1225+Smites!O45/('Base Numbers'!$C$5*'Base Numbers'!$C$6)","v":1.7999999999999998},{"$f":"P1204+P1234+P1225+Smites!P45/('Base Numbers'!$C$5*'Base Numbers'!$C$6)","v":1.6500000000000001},{"$f":"Q1204+Q1234+Q1225+Smites!Q45/('Base Numbers'!$C$5*'Base Numbers'!$C$6)","v":1.7999999999999998},{"$f":"R1204+R1234+R1225+Smites!R45/('Base Numbers'!$C$5*'Base Numbers'!$C$6)","v":1.7999999999999998},{"$f":"S1204+S1234+S1225+Smites!S45/('Base Numbers'!$C$5*'Base Numbers'!$C$6)","v":1.6500000000000001},{"$f":"T1204+T1234+T1225+Smites!T45/('Base Numbers'!$C$5*'Base Numbers'!$C$6)","v":1.6500000000000001},{"$f":"U1204+U1234+U1225+Smites!U45/('Base Numbers'!$C$5*'Base Numbers'!$C$6)","v":1.7999999999999998},{"$f":"V1204+V1234+V1225+Smites!V45/('Base Numbers'!$C$5*'Base Numbers'!$C$6)","v":1.6500000000000001},{"$f":"W1204+W1234+W1225+Smites!W45/('Base Numbers'!$C$5*'Base Numbers'!$C$6)","v":1.6500000000000001},{"$f":"X1204+X1234+X1225+Smites!X45/('Base Numbers'!$C$5*'Base Numbers'!$C$6)","v":1.6500000000000001}]
[{"$nulls":3},"M1, B2, O1/O2",{"$f":"E1204+E1235+MAX(E1223,E1224)+Smites!E64/('Base Numbers'!$C$5*'Base Numbers'!$C$6)","v":2.4375},{"$f":"F1204+F1235+MAX(F1223,F1224)+Smites!F64/('Base Numbers'!$C$5*'Base Numbers'!$C$6)","v":2.4375},{"$f":"G1204+G1235+MAX(G1223,G1224)+Smites!G64/('Base Numbers'!$C$5*'Base Numbers'!$C$6)","v":2.25},{"$f":"H1204+H1235+MAX(H1223,H1224)+Smites!H64/('Base Numbers'!$C$5*'Base Numbers'!$C$6)","v":2.25},{"$f":"I1204+I1235+MAX(I1223,I1224)+Smites!I64/('Base Numbers'!$C$5*'Base Numbers'!$C$6)","v":2.4375},{"$f":"J1204+J1235+MAX(J1223,J1224)+Smites!J64/('Base Numbers'!$C$5*'Base Numbers'!$C$6)","v":2.25},{"$f":"K1204+K1235+MAX(K1223,K1224)+Smites!K64/('Base Numbers'!$C$5*'Base Numbers'!$C$6)","v":2.25},{"$f":"L1204+L1235+MAX(L1223,L1224)+Smites!L64/('Base Numbers'!$C$5*'Base Numbers'!$C$6)","v":2.25},{"$f":"M1204+M1235+MAX(M1223,M1224)+Smites!M64/('Base Numbers'!$C$5*'Base Numbers'!$C$6)","v":2.25},{"$f":"N1204+N1235+MAX(N1223,N1224)+Smites!N64/('Base Numbers'!$C$5*'Base Numbers'!$C$6)","v":2.25},{"$f":"O1204+O1235+MAX(O1223,O1224)+Smites!O64/('Base Numbers'!$C$5*'Base Numbers'!$C$6)","v":2.25},{"$f":"P1204+P1235+MAX(P1223,P1224)+Smites!P64/('Base Numbers'!$C$5*'Base Numbers'!$C$6)","v":2.0625},{"$f":"Q1204+Q1235+MAX(Q1223,Q1224)+Smites!Q64/('Base Numbers'!$C$5*'Base Numbers'!$C$6)","v":2.25},{"$f":"R1204+R1235+MAX(R1223,R1224)+Smites!R64/('Base Numbers'!$C$5*'Base Numbers'!$C$6)","v":2.25},{"$f":"S1204+S1235+MAX(S1223,S1224)+Smites!S64/('Base Numbers'!$C$5*'Base Numbers'!$C$6)","v":2.0625},{"$f":"T1204+T1235+MAX(T1223,T1224)+Smites!T64/('Base Numbers'!$C$5*'Base Numbers'!$C$6)","v":2.0625},{"$f":"U1204+U1235+MAX(U1223,U1224)+Smites!U64/('Base Numbers'!$C$5*'Base Numbers'!$C$6)","v":2.25},{"$f":"V1204+V1235+MAX(V1223,V1224)+Smites!V64/('Base Numbers'!$C$5*'Base Numbers'!$C$6)","v":2.0625},{"$f":"W1204+W1235+MAX(W1223,W1224)+Smites!W64/('Base Numbers'!$C$5*'Base Numbers'!$C$6)","v":2.0625},{"$f":"X1204+X1235+MAX(X1223,X1224)+Smites!X64/('Base Numbers'!$C$5*'Base Numbers'!$C$6)","v":2.0625}]
[{"$nulls":3},"M1, B2, O3",{"$f":"E1204+E1235+E1225+Smites!E83/('Base Numbers'!$C$5*'Base Numbers'!$C$6)","v":1.9500000000000002},{"$f":"F1204+F1235+F1225+Smites!F83/('Base Numbers'!$C$5*'Base Numbers'!$C$6)","v":1.9500000000000002},{"$f":"G1204+G1235+G1225+Smites!G83/('Base Numbers'!$C$5*'Base Numbers'!$C$6)","v":1.7999999999999998},{"$f":"H1204+H1235+H1225+Smites!H83/('Base Numbers'!$C$5*'Base Numbers'!$C$6)","v":1.7999999999999998},{"$f":"I1204+I1235+I1225+Smites!I83/('Base Numbers'!$C$5*'Base Numbers'!$C$6)","v":1.9500000000000002},{"$f":"J1204+J1235+J1225+Smites!J83/('Base Numbers'!$C$5*'Base Numbers'!$C$6)","v":1.7999999999999998},{"$f":"K1204+K1235+K1225+Smites!K83/('Base Numbers'!$C$5*'Base Numbers'!$C$6)","v":1.7999999999999998},{"$f":"L1204+L1235+L1225+Smites!L83/('Base Numbers'!$C$5*'Base Numbers'!$C$6)","v":1.7999999999999998},{"$f":"M1204+M1235+M1225+Smites!M83/('Base Numbers'!$C$5*'Base Numbers'!$C$6)","v":1.7999999999999998},{"$f":"N1204+N1235+N1225+Smites!N83/('Base Numbers'!$C$5*'Base Numbers'!$C$6)","v":1.7999999999999998},{"$f":"O1204+O1235+O1225+Smites!O83/('Base Numbers'!$C$5*'Base Numbers'!$C$6)","v":1.7999999999999998},{"$f":"P1204+P1235+P1225+Smites!P83/('Base Numbers'!$C$5*'Base Numbers'!$C$6)","v":1.6500000000000001},{"$f":"Q1204+Q1235+Q1225+Smites!Q83/('Base Numbers'!$C$5*'Base Numbers'!$C$6)","v":1.7999999999999998},{"$f":"R1204+R1235+R1225+Smites!R83/('Base Numbers'!$C$5*'Base Numbers'!$C$6)","v":1.7999999999999998},{"$f":"S1204+S1235+S1225+Smites!S83/('Base Numbers'!$C$5*'Base Numbers'!$C$6)","v":1.6500000000000001},{"$f":"T1204+T1235+T1225+Smites!T83/('Base Numbers'!$C$5*'Base Numbers'!$C$6)","v":1.6500000000000001},{"$f":"U1204+U1235+U1225+Smites!U83/('Base Numbers'!$C$5*'Base Numbers'!$C$6)","v":1.7999999999999998},{"$f":"V1204+V1235+V1225+Smites!V83/('Base Numbers'!$C$5*'Base Numbers'!$C$6)","v":1.6500000000000001},{"$f":"W1204+W1235+W1225+Smites!W83/('Base Numbers'!$C$5*'Base Numbers'!$C$6)","v":1.6500000000000001},{"$f":"X1204+X1235+X1225+Smites!X83/('Base Numbers'!$C$5*'Base Numbers'!$C$6)","v":1.6500000000000001}]
[{"$nulls":3},"M1, B3, O1/O2",{"$f":"E1204+E1236+MAX(E1223,E1224)+Smites!E102/('Base Numbers'!$C$5*'Base Numbers'!$C$6)","v":2.4375},{"$f":"F1204+F1236+MAX(F1223,F1224)+Smites!F102/('Base Numbers'!$C$5*'Base Numbers'!$C$6)","v":2.4375},{"$f":"G1204+G1236+MAX(G1223,G1224)+Smites!G102/('Base Numbers'!$C$5*'Base Numbers'!$C$6)","v":2.25},{"$f":"H1204+H1236+MAX(H1223,H1224)+Smites!H102/('Base Numbers'!$C$5*'Base Numbers'!$C$6)","v":2.25},{"$f":"I1204+I1236+MAX(I1223,I1224)+Smites!I102/('Base Numbers'!$C$5*'Base Numbers'!$C$6)","v":2.4375},{"$f":"J1204+J1236+MAX(J1223,J1224)+Smites!J102/('Base Numbers'!$C$5*'Base Numbers'!$C$6)","v":2.25},{"$f":"K1204+K1236+MAX(K1223,K1224)+Smites!K102/('Base Numbers'!$C$5*'Base Numbers'!$C$6)","v":2.25},{"$f":"L1204+L1236+MAX(L1223,L1224)+Smites!L102/('Base Numbers'!$C$5*'Base Numbers'!$C$6)","v":2.25},{"$f":"M1204+M1236+MAX(M1223,M1224)+Smites!M102/('Base Numbers'!$C$5*'Base Numbers'!$C$6)","v":2.25},{"$f":"N1204+N1236+MAX(N1223,N1224)+Smites!N102/('Base Numbers'!$C$5*'Base Numbers'!$C$6)","v":2.25},{"$f":"O1204+O1236+MAX(O1223,O1224)+Smites!O102/('Base Numbers'!$C$5*'Base Numbers'!$C$6)","v":2.25},{"$f":"P1204+P1236+MAX(P1223,P1224)+Smites!P102/('Base Numbers'!$C$5*'Base Numbers'!$C$6)","v":2.0625},{"$f":"Q1204+Q1236+MAX(Q1223,Q1224)+Smites!Q102/('Base Numbers'!$C$5*'Base Numbers'!$C$6)","v":2.25},{"$f":"R1204+R1236+MAX(R1223,R1224)+Smites!R102/('Base Numbers'!$C$5*'Base Numbers'!$C$6)","v":2.25},{"$f":"S1204+S1236+MAX(S1223,S1224)+Smites!S102/('Base Numbers'!$C$5*'Base Numbers'!$C$6)","v":2.0625},{"$f":"T1204+T1236+MAX(T1223,T1224)+Smites!T102/('Base Numbers'!$C$5*'Base Numbers'!$C$6)","v":2.0625},{"$f":"U1204+U1236+MAX(U1223,U1224)+Smites!U102/('Base Numbers'!$C$5*'Base Numbers'!$C$6)","v":2.25},{"$f":"V1204+V1236+MAX(V1223,V1224)+Smites!V102/('Base Numbers'!$C$5*'Base Numbers'!$C$6)","v":2.0625},{"$f":"W1204+W1236+MAX(W1223,W1224)+Smites!W102/('Base Numbers'!$C$5*'Base Numbers'!$C$6)","v":2.0625},{"$f":"X1204+X1236+MAX(X1223,X1224)+Smites!X102/('Base Numbers'!$C$5*'Base Numbers'!$C$6)","v":2.0625}]
[{"$nulls":3},"M1, B3, O3",{"$f":"E1204+E1236+E1225+Smites!E121/('Base Numbers'!$C$5*'Base Numbers'!$C$6)","v":1.9500000000000002},{"$f":"F1204+F1236+F1225+Smites!F121/('Base Numbers'!$C$5*'Base Numbers'!$C$6)","v":1.9500000000000002},{"$f":"G1204+G1236+G1225+Smites!G121/('Base Numbers'!$C$5*'Base Numbers'!$C$6)","v":1.7999999999999998},{"$f":"H1204+H1236+H1225+Smites!H121/('Base Numbers'!$C$5*'Base Numbers'!$C$6)","v":1.7999999999999998},{"$f":"I1204+I1236+I1225+Smites!I121/('Base Numbers'!$C$5*'Base Numbers'!$C$6)","v":1.9500000000000002},{"$f":"J1204+J1236+J1225+Smites!J121/('Base Numbers'!$C$5*'Base Numbers'!$C$6)","v":1.7999999999999998},{"$f":"K1204+K1236+K1225+Smites!K121/('Base Numbers'!$C$5*'Base Numbers'!$C$6)","v":1.7999999999999998},{"$f":"L1204+L1236+L1225+Smites!L121/('Base Numbers'!$C$5*'Base Numbers'!$C$6)","v":1.7999999999999998},{"$f":"M1204+M1236+M1225+Smites!M121/('Base Numbers'!$C$5*'Base Numbers'!$C$6)","v":1.7999999999999998},{"$f":"N1204+N1236+N1225+Smites!N121/('Base Numbers'!$C$5*'Base Numbers'!$C$6)","v":1.7999999999999998},{"$f":"O1204+O1236+O1225+Smites!O121/('Base Numbers'!$C$5*'Base Numbers'!$C$6)","v":1.7999999999999998},{"$f":"P1204+P1236+P1225+Smites!P121/('Base Numbers'!$C$5*'Base Numbers'!$C$6)","v":1.6500000000000001},{"$f":"Q1204+Q1236+Q1225+Smites!Q121/('Base Numbers'!$C$5*'Base Numbers'!$C$6)","v":1.7999999999999998},{"$f":"R1204+R1236+R1225+Smites!R121/('Base Numbers'!$C$5*'Base Numbers'!$C$6)","v":1.7999999999999998},{"$f":"S1204+S1236+S1225+Smites!S121/('Base Numbers'!$C$5*'Base Numbers'!$C$6)","v":1.6500000000000001},{"$f":"T1204+T1236+T1225+Smites!T121/('Base Numbers'!$C$5*'Base Numbers'!$C$6)","v":1.6500000000000001},{"$f":"U1204+U1236+U1225+Smites!U121/('Base Numbers'!$C$5*'Base Numbers'!$C$6)","v":1.7999999999999998},{"$f":"V1204+V1236+V1225+Smites!V121/('Base Numbers'!$C$5*'Base Numbers'!$C$6)","v":1.6500000000000001},{"$f":"W1204+W1236+W1225+Smites!W121/('Base Numbers'!$C$5*'Base Numbers'!$C$6)","v":1.6500000000000001},{"$f":"X1204+X1236+X1225+Smites!X121/('Base Numbers'!$C$5*'Base Numbers'!$C$6)","v":1.6500000000000001}]
[{"$nulls":3},"M1, B4, O1/O2",{"$f":"E1204+E1237+MAX(E1223,E1224)+Smites!E140/('Base Numbers'!$C$5*'Base Numbers'!$C$6)","v":2.4375},{"$f":"F1204+F1237+MAX(F1223,F1224)+Smites!F140/('Base Numbers'!$C$5*'Base Numbers'!$C$6)","v":2.4375},{"$f":"G1204+G1237+MAX(G1223,G1224)+Smites!G140/('Base Numbers'!$C$5*'Base Numbers'!$C$6)","v":2.25},{"$f":"H1204+H1237+MAX(H1223,H1224)+Smites!H140/('Base Numbers'!$C$5*'Base Numbers'!$C$6)","v":2.25},{"$f":"I1204+I1237+MAX(I1223,I1224)+Smites!I140/('Base Numbers'!$C$5*'Base Numbers'!$C$6)","v":2.4375},{"$f":"J1204+J1237+MAX(J1223,J1224)+Smites!J140/('Base Numbers'!$C$5*'Base Numbers'!$C$6)","v":2.25},{"$f":"K1204+K1237+MAX(K1223,K1224)+Smites!K140/('Base Numbers'!$C$5*'Base Numbers'!$C$6)","v":2.25},{"$f":"L1204+L1237+MAX(L1223,L1224)+Smites!L140/('Base Numbers'!$C$5*'Base Numbers'!$C$6)","v":2.25},{"$f":"M1204+M1237+MAX(M1223,M1224)+Smites!M140/('Base Numbers'!$C$5*'Base Numbers'!$C$6)","v":2.25},{"$f":"N1204+N1237+MAX(N1223,N1224)+Smites!N140/('Base Numbers'!$C$5*'Base Numbers'!$C$6)","v":2.25},{"$f":"O1204+O1237+MAX(O1223,O1224)+Smites!O140/('Base Numbers'!$C$5*'Base Numbers'!$C$6)","v":2.25},{"$f":"P1204+P1237+MAX(P1223,P1224)+Smites!P140/('Base Numbers'!$C$5*'Base Numbers'!$C$6)","v":2.0625},{"$f":"Q1204+Q1237+MAX(Q1223,Q1224)+Smites!Q140/('Base Numbers'!$C$5*'Base Numbers'!$C$6)","v":2.25},{"$f":"R1204+R1237+MAX(R1223,R1224)+Smites!R140/('Base Numbers'!$C$5*'Base Numbers'!$C$6)","v":2.25},{"$f":"S1204+S1237+MAX(S1223,S1224)+Smites!S140/('Base Numbers'!$C$5*'Base Numbers'!$C$6)","v":2.0625},{"$f":"T1204+T1237+MAX(T1223,T1224)+Smites!T140/('Base Numbers'!$C$5*'Base Numbers'!$C$6)","v":2.0625},{"$f":"U1204+U1237+MAX(U1223,U1224)+Smites!U140/('Base Numbers'!$C$5*'Base Numbers'!$C$6)","v":2.25},{"$f":"V1204+V1237+MAX(V1223,V1224)+Smites!V140/('Base Numbers'!$C$5*'Base Numbers'!$C$6)","v":2.0625},{"$f":"W1204+W1237+MAX(W1223,W1224)+Smites!W140/('Base Numbers'!$C$5*'Base Numbers'!$C$6)","v":2.0625},{"$f":"X1204+X1237+MAX(X1223,X1224)+Smites!X140/('Base Numbers'!$C$5*'Base Numbers'!$C$6)","v":2.0625}]
[{"$nulls":3},"M1, B4, O3",{"$f":"E1204+E1237+E1225+Smites!E159/('Base Numbers'!$C$5*'Base Numbers'!$C$6)","v":1.9500000000000002},{"$f":"F1204+F1237+F1225+Smites!F159/('Base Numbers'!$C$5*'Base Numbers'!$C$6)","v":1.9500000000000002},{"$f":"G1204+G1237+G1225+Smites!G159/('Base Numbers'!$C$5*'Base Numbers'!$C$6)","v":1.7999999999999998},{"$f":"H1204+H1237+H1225+Smites!H159/('Base Numbers'!$C$5*'Base Numbers'!$C$6)","v":1.7999999999999998},{"$f":"I1204+I1237+I1225+Smites!I159/('Base Numbers'!$C$5*'Base Numbers'!$C$6)","v":1.9500000000000002},{"$f":"J1204+J1237+J1225+Smites!J159/('Base Numbers'!$C$5*'Base Numbers'!$C$6)","v":1.7999999999999998},{"$f":"K1204+K1237+K1225+Smites!K159/('Base Numbers'!$C$5*'Base Numbers'!$C$6)","v":1.7999999999999998},{"$f":"L1204+L1237+L1225+Smites!L159/('Base Numbers'!$C$5*'Base Numbers'!$C$6)","v":1.7999999999999998},{"$f":"M1204+M1237+M1225+Smites!M159/('Base Numbers'!$C$5*'Base Numbers'!$C$6)","v":1.7999999999999998},{"$f":"N1204+N1237+N1225+Smites!N159/('Base Numbers'!$C$5*'Base Numbers'!$C$6)","v":1.7999999999999998},{"$f":"O1204+O1237+O1225+Smites!O159/('Base Numbers'!$C$5*'Base Numbers'!$C$6)","v":1.7999999999999998},{"$f":"P1204+P1237+P1225+Smites!P159/('Base Numbers'!$C$5*'Base Numbers'!$C$6)","v":1.6500000000000001},{"$f":"Q1204+Q1237+Q1225+Smites!Q159/('Base Numbers'!$C$5*'Base Numbers'!$C$6)","v":1.7999999999999998},{"$f":"R1204+R1237+R1225+Smites!R159/('Base Numbers'!$C$5*'Base Numbers'!$C$6)","v":1.7999999999999998},{"$f":"S1204+S1237+S1225+Smites!S159/('Base Numbers'!$C$5*'Base Numbers'!$C$6)","v":1.6500000000000001},{"$f":"T1204+T1237+T1225+Smites!T159/('Base Numbers'!$C$5*'Base Numbers'!$C$6)","v":1.6500000000000001},{"$f":"U1204+U1237+U1225+Smites!U159/('Base Numbers'!$C$5*'Base Numbers'!$C$6)","v":1.7999999999999998},{"$f":"V1204+V1237+V1225+Smites!V159/('Base Numbers'!$C$5*'Base Numbers'!$C$6)","v":1.6500000000000001},{"$f":"W1204+W1237+W1225+Smites!W159/('Base Numbers'!$C$5*'Base Numbers'!$C$6)","v":1.6500000000000001},{"$f":"X1204+X1237+X1225+Smites!X159/('Base Numbers'!$C$5*'Base Numbers'!$C$6)","v":1.6500000000000001}]
[{"$nulls":3},"M1, B5, O1/O2",{"$f":"E1204+E1238+MAX(E1223,E1224)+Smites!E178/('Base Numbers'!$C$5*'Base Numbers'!$C$6)","v":2.4375},{"$f":"F1204+F1238+MAX(F1223,F1224)+Smites!F178/('Base Numbers'!$C$5*'Base Numbers'!$C$6)","v":2.4375},{"$f":"G1204+G1238+MAX(G1223,G1224)+Smites!G178/('Base Numbers'!$C$5*'Base Numbers'!$C$6)","v":2.25},{"$f":"H1204+H1238+MAX(H1223,H1224)+Smites!H178/('Base Numbers'!$C$5*'Base Numbers'!$C$6)","v":2.25},{"$f":"I1204+I1238+MAX(I1223,I1224)+Smites!I178/('Base Numbers'!$C$5*'Base Numbers'!$C$6)","v":2.4375},{"$f":"J1204+J1238+MAX(J1223,J1224)+Smites!J178/('Base Numbers'!$C$5*'Base Numbers'!$C$6)","v":2.25},{"$f":"K1204+K1238+MAX(K1223,K1224)+Smites!K178/('Base Numbers'!$C$5*'Base Numbers'!$C$6)","v":2.25},{"$f":"L1204+L1238+MAX(L1223,L1224)+Smites!L178/('Base Numbers'!$C$5*'Base Numbers'!$C$6)","v":2.25},{"$f":"M1204+M1238+MAX(M1223,M1224)+Smites!M178/('Base Numbers'!$C$5*'Base Numbers'!$C$6)","v":2.25},{"$f":"N1204+N1238+MAX(N1223,N1224)+Smites!N178/('Base Numbers'!$C$5*'Base Numbers'!$C$6)","v":2.25},{"$f":"O1204+O1238+MAX(O1223,O1224)+Smites!O178/('Base Numbers'!$C$5*'Base Numbers'!$C$6)","v":2.25},{"$f":"P1204+P1238+MAX(P1223,P1224)+Smites!P178/('Base Numbers'!$C$5*'Base Numbers'!$C$6)","v":2.0625},{"$f":"Q1204+Q1238+MAX(Q1223,Q1224)+Smites!Q178/('Base Numbers'!$C$5*'Base Numbers'!$C$6)","v":2.25},{"$f":"R1204+R1238+MAX(R1223,R1224)+Smites!R178/('Base Numbers'!$C$5*'Base Numbers'!$C$6)","v":2.25},{"$f":"S1204+S1238+MAX(S1223,S1224)+Smites!S178/('Base Numbers'!$C$5*'Base Numbers'!$C$6)","v":2.0625},{"$f":"T1204+T1238+MAX(T1223,T1224)+Smites!T178/('Base Numbers'!$C$5*'Base Numbers'!$C$6)","v":2.0625},{"$f":"U1204+U1238+MAX(U1223,U1224)+Smites!U178/('Base Numbers'!$C$5*'Base Numbers'!$C$6)","v":2.25},{"$f":"V1204+V1238+MAX(V1223,V1224)+Smites!V178/('Base Numbers'!$C$5*'Base Numbers'!$C$6)","v":2.0625},{"$f":"W1204+W1238+MAX(W1223,W1224)+Smites!W178/('Base Numbers'!$C$5*'Base Numbers'!$C$6)","v":2.0625},{"$f":"X1204+X1238+MAX(X1223,X1224)+Smites!X178/('Base Numbers'!$C$5*'Base Numbers'!$C$6)","v":2.0625}]
[{"$nulls":3},"M1, B5, O3",{"$f":"E1204+E1238+E1225+Smites!E197/('Base Numbers'!$C$5*'Base Numbers'!$C$6)","v":1.9500000000000002},{"$f":"F1204+F1238+F1225+Smites!F197/('Base Numbers'!$C$5*'Base Numbers'!$C$6)","v":1.9500000000000002},{"$f":"G1204+G1238+G1225+Smites!G197/('Base Numbers'!$C$5*'Base Numbers'!$C$6)","v":1.7999999999999998},{"$f":"H1204+H1238+H1225+Smites!H197/('Base Numbers'!$C$5*'Base Numbers'!$C$6)","v":1.7999999999999998},{"$f":"I1204+I1238+I1225+Smites!I197/('Base Numbers'!$C$5*'Base Numbers'!$C$6)","v":1.9500000000000002},{"$f":"J1204+J1238+J1225+Smites!J197/('Base Numbers'!$C$5*'Base Numbers'!$C$6)","v":1.7999999999999998},{"$f":"K1204+K1238+K1225+Smites!K197/('Base Numbers'!$C$5*'Base Numbers'!$C$6)","v":1.7999999999999998},{"$f":"L1204+L1238+L1225+Smites!L197/('Base Numbers'!$C$5*'Base Numbers'!$C$6)","v":1.7999999999999998},{"$f":"M1204+M1238+M1225+Smites!M197/('Base Numbers'!$C$5*'Base Numbers'!$C$6)","v":1.7999999999999998},{"$f":"N1204+N1238+N1225+Smites!N197/('Base Numbers'!$C$5*'Base Numbers'!$C$6)","v":1.7999999999999998},{"$f":"O1204+O1238+O1225+Smites!O197/('Base Numbers'!$C$5*'Base Numbers'!$C$6)","v":1.7999999999999998},{"$f":"P1204+P1238+P1225+Smites!P197/('Base Numbers'!$C$5*'Base Numbers'!$C$6)","v":1.6500000000000001},{"$f":"Q1204+Q1238+Q1225+Smites!Q197/('Base Numbers'!$C$5*'Base Numbers'!$C$6)","v":1.7999999999999998},{"$f":"R1204+R1238+R1225+Smites!R197/('Base Numbers'!$C$5*'Base Numbers'!$C$6)","v":1.7999999999999998},{"$f":"S1204+S1238+S1225+Smites!S197/('Base Numbers'!$C$5*'Base Numbers'!$C$6)","v":1.6500000000000001},{"$f":"T1204+T1238+T1225+Smites!T197/('Base Numbers'!$C$5*'Base Numbers'!$C$6)","v":1.6500000000000001},{"$f":"U1204+U1238+U1225+Smites!U197/('Base Numbers'!$C$5*'Base Numbers'!$C$6)","v":1.7999999999999998},{"$f":"V1204+V1238+V1225+Smites!V197/('Base Numbers'!$C$5*'Base Numbers'!$C$6)","v":1.6500000000000001},{"$f":"W1204+W1238+W1225+Smites!W197/('Base Numbers'!$C$5*'Base Numbers'!$C$6)","v":1.6500000000000001},{"$f":"X1204+X1238+X1225+Smites!X197/('Base Numbers'!$C$5*'Base Numbers'!$C$6)","v":1.6500000000000001}]
[{"$nulls":3},"M2, B6, O1/O2",{"$f":"E1205+E1239+MAX(E1223,E1224)+Smites!E216/('Base Numbers'!$C$5*'Base Numbers'!$C$6)","v":0.48750000000000004},{"$f":"F1205+F1239+MAX(F1223,F1224)+Smites!F216/('Base Numbers'!$C$5*'Base Numbers'!$C$6)","v":0.48750000000000004},{"$f":"G1205+G1239+MAX(G1223,G1224)+Smites!G216/('Base Numbers'!$C$5*'Base Numbers'!$C$6)","v":0.44999999999999996},{"$f":"H1205+H1239+MAX(H1223,H1224)+Smites!H216/('Base Numbers'!$C$5*'Base Numbers'!$C$6)","v":0.44999999999999996},{"$f":"I1205+I1239+MAX(I1223,I1224)+Smites!I216/('Base Numbers'!$C$5*'Base Numbers'!$C$6)","v":0.48750000000000004},{"$f":"J1205+J1239+MAX(J1223,J1224)+Smites!J216/('Base Numbers'!$C$5*'Base Numbers'!$C$6)","v":0.44999999999999996},{"$f":"K1205+K1239+MAX(K1223,K1224)+Smites!K216/('Base Numbers'!$C$5*'Base Numbers'!$C$6)","v":0.44999999999999996},{"$f":"L1205+L1239+MAX(L1223,L1224)+Smites!L216/('Base Numbers'!$C$5*'Base Numbers'!$C$6)","v":0.44999999999999996},{"$f":"M1205+M1239+MAX(M1223,M1224)+Smites!M216/('Base Numbers'!$C$5*'Base Numbers'!$C$6)","v":0.44999999999999996},{"$f":"N1205+N1239+MAX(N1223,N1224)+Smites!N216/('Base Numbers'!$C$5*'Base Numbers'!$C$6)","v":0.44999999999999996},{"$f":"O1205+O1239+MAX(O1223,O1224)+Smites!O216/('Base Numbers'!$C$5*'Base Numbers'!$C$6)","v":0.44999999999999996},{"$f":"P1205+P1239+MAX(P1223,P1224)+Smites!P216/('Base Numbers'!$C$5*'Base Numbers'!$C$6)","v":0.41250000000000003},{"$f":"Q1205+Q1239+MAX(Q1223,Q1224)+Smites!Q216/('Base Numbers'!$C$5*'Base Numbers'!$C$6)","v":0.44999999999999996},{"$f":"R1205+R1239+MAX(R1223,R1224)+Smites!R216/('Base Numbers'!$C$5*'Base Numbers'!$C$6)","v":0.44999999999999996},{"$f":"S1205+S1239+MAX(S1223,S1224)+Smites!S216/('Base Numbers'!$C$5*'Base Numbers'!$C$6)","v":0.41250000000000003},{"$f":"T1205+T1239+MAX(T1223,T1224)+Smites!T216/('Base Numbers'!$C$5*'Base Numbers'!$C$6)","v":0.41250000000000003},{"$f":"U1205+U1239+MAX(U1223,U1224)+Smites!U216/('Base Numbers'!$C$5*'Base Numbers'!$C$6)","v":0.44999999999999996},{"$f":"V1205+V1239+MAX(V1223,V1224)+Smites!V216/('Base Numbers'!$C$5*'Base Numbers'!$C$6)","v":0.41250000000000003},{"$f":"W1205+W1239+MAX(W1223,W1224)+Smites!W216/('Base Numbers'!$C$5*'Base Numbers'!$C$6)","v":0.41250000000000003},{"$f":"X1205+X1239+MAX(X1223,X1224)+Smites!X216/('Base Numbers'!$C$5*'Base Numbers'!$C$6)","v":0.41250000000000003}]
[{"$nulls":3},"M2, B6, O3",{"$f":"E1205+E1239+E1225+Smites!E235/('Base Numbers'!$C$5*'Base Numbers'!$C$6)","v":0},{"$f":"F1205+F1239+F1225+Smites!F235/('Base Numbers'!$C$5*'Base Numbers'!$C$6)","v":0},{"$f":"G1205+G1239+G1225+Smites!G235/('Base Numbers'!$C$5*'Base Numbers'!$C$6)","v":0},{"$f":"H1205+H1239+H1225+Smites!H235/('Base Numbers'!$C$5*'Base Numbers'!$C$6)","v":0},{"$f":"I1205+I1239+I1225+Smites!I235/('Base Numbers'!$C$5*'Base Numbers'!$C$6)","v":0},{"$f":"J1205+J1239+J1225+Smites!J235/('Base Numbers'!$C$5*'Base Numbers'!$C$6)","v":0},{"$f":"K1205+K1239+K1225+Smites!K235/('Base Numbers'!$C$5*'Base Numbers'!$C$6)","v":0},{"$f":"L1205+L1239+L1225+Smites!L235/('Base Numbers'!$C$5*'Base Numbers'!$C$6)","v":0},{"$f":"M1205+M1239+M1225+Smites!M235/('Base Numbers'!$C$5*'Base Numbers'!$C$6)","v":0},{"$f":"N1205+N1239+N1225+Smites!N235/('Base Numbers'!$C$5*'Base Numbers'!$C$6)","v":0},{"$f":"O1205+O1239+O1225+Smites!O235/('Base Numbers'!$C$5*'Base Numbers'!$C$6)","v":0},{"$f":"P1205+P1239+P1225+Smites!P235/('Base Numbers'!$C$5*'Base Numbers'!$C$6)","v":0},{"$f":"Q1205+Q1239+Q1225+Smites!Q235/('Base Numbers'!$C$5*'Base Numbers'!$C$6)","v":0},{"$f":"R1205+R1239+R1225+Smites!R235/('Base Numbers'!$C$5*'Base Numbers'!$C$6)","v":0},{"$f":"S1205+S1239+S1225+Smites!S235/('Base Numbers'!$C$5*'Base Numbers'!$C$6)","v":0},{"$f":"T1205+T1239+T1225+Smites!T235/('Base Numbers'!$C$5*'Base Numbers'!$C$6)","v":0},{"$f":"U1205+U1239+U1225+Smites!U235/('Base Numbers'!$C$5*'Base Numbers'!$C$6)","v":0},{"$f":"V1205+V1239+V1225+Smites!V235/('Base Numbers'!$C$5*'Base Numbers'!$C$6)","v":0},{"$f":"W1205+W1239+W1225+Smites!W235/('Base Numbers'!$C$5*'Base Numbers'!$C$6)","v":0},{"$f":"X1205+X1239+X1225+Smites!X235/('Base Numbers'!$C$5*'Base Numbers'!$C$6)","v":0}]
[{"$nulls":3},"M2, B7, O1/O2",{"$f":"E1205+E1240+MAX(E1223,E1224)+Smites!E254/('Base Numbers'!$C$5*'Base Numbers'!$C$6)","v":0.48750000000000004},{"$f":"F1205+F1240+MAX(F1223,F1224)+Smites!F254/('Base Numbers'!$C$5*'Base Numbers'!$C$6)","v":0.48750000000000004},{"$f":"G1205+G1240+MAX(G1223,G1224)+Smites!G254/('Base Numbers'!$C$5*'Base Numbers'!$C$6)","v":0.44999999999999996},{"$f":"H1205+H1240+MAX(H1223,H1224)+Smites!H254/('Base Numbers'!$C$5*'Base Numbers'!$C$6)","v":0.44999999999999996},{"$f":"I1205+I1240+MAX(I1223,I1224)+Smites!I254/('Base Numbers'!$C$5*'Base Numbers'!$C$6)","v":0.48750000000000004},{"$f":"J1205+J1240+MAX(J1223,J1224)+Smites!J254/('Base Numbers'!$C$5*'Base Numbers'!$C$6)","v":0.44999999999999996},{"$f":"K1205+K1240+MAX(K1223,K1224)+Smites!K254/('Base Numbers'!$C$5*'Base Numbers'!$C$6)","v":0.44999999999999996},{"$f":"L1205+L1240+MAX(L1223,L1224)+Smites!L254/('Base Numbers'!$C$5*'Base Numbers'!$C$6)","v":0.44999999999999996},{"$f":"M1205+M1240+MAX(M1223,M1224)+Smites!M254/('Base Numbers'!$C$5*'Base Numbers'!$C$6)","v":0.44999999999999996},{"$f":"N1205+N1240+MAX(N1223,N1224)+Smites!N254/('Base Numbers'!$C$5*'Base Numbers'!$C$6)","v":0.44999999999999996},{"$f":"O1205+O1240+MAX(O1223,O1224)+Smites!O254/('Base Numbers'!$C$5*'Base Numbers'!$C$6)","v":0.44999999999999996},{"$f":"P1205+P1240+MAX(P1223,P1224)+Smites!P254/('Base Numbers'!$C$5*'Base Numbers'!$C$6)","v":0.41250000000000003},{"$f":"Q1205+Q1240+MAX(Q1223,Q1224)+Smites!Q254/('Base Numbers'!$C$5*'Base Numbers'!$C$6)","v":0.44999999999999996},{"$f":"R1205+R1240+MAX(R1223,R1224)+Smites!R254/('Base Numbers'!$C$5*'Base Numbers'!$C$6)","v":0.44999999999999996},{"$f":"S1205+S1240+MAX(S1223,S1224)+Smites!S254/('Base Numbers'!$C$5*'Base Numbers'!$C$6)","v":0.41250000000000003},{"$f":"T1205+T1240+MAX(T1223,T1224)+Smites!T254/('Base Numbers'!$C$5*'Base Numbers'!$C$6)","v":0.41250000000000003},{"$f":"U1205+U1240+MAX(U1223,U1224)+Smites!U254/('Base Numbers'!$C$5*'Base Numbers'!$C$6)","v":0.44999999999999996},{"$f":"V1205+V1240+MAX(V1223,V1224)+Smites!V254/('Base Numbers'!$C$5*'Base Numbers'!$C$6)","v":0.41250000000000003},{"$f":"W1205+W1240+MAX(W1223,W1224)+Smites!W254/('Base Numbers'!$C$5*'Base Numbers'!$C$6)","v":0.41250000000000003},{"$f":"X1205+X1240+MAX(X1223,X1224)+Smites!X254/('Base Numbers'!$C$5*'Base Numbers'!$C$6)","v":0.41250000000000003}]
[{"$nulls":3},"M2, B7, O3",{"$f":"E1205+E1240+E1225+Smites!E273/('Base Numbers'!$C$5*'Base Numbers'!$C$6)","v":0},{"$f":"F1205+F1240+F1225+Smites!F273/('Base Numbers'!$C$5*'Base Numbers'!$C$6)","v":0},{"$f":"G1205+G1240+G1225+Smites!G273/('Base Numbers'!$C$5*'Base Numbers'!$C$6)","v":0},{"$f":"H1205+H1240+H1225+Smites!H273/('Base Numbers'!$C$5*'Base Numbers'!$C$6)","v":0},{"$f":"I1205+I1240+I1225+Smites!I273/('Base Numbers'!$C$5*'Base Numbers'!$C$6)","v":0},{"$f":"J1205+J1240+J1225+Smites!J273/('Base Numbers'!$C$5*'Base Numbers'!$C$6)","v":0},{"$f":"K1205+K1240+K1225+Smites!K273/('Base Numbers'!$C$5*'Base Numbers'!$C$6)","v":0},{"$f":"L1205+L1240+L1225+Smites!L273/('Base Numbers'!$C$5*'Base Numbers'!$C$6)","v":0},{"$f":"M1205+M1240+M1225+Smites!M273/('Base Numbers'!$C$5*'Base Numbers'!$C$6)","v":0},{"$f":"N1205+N1240+N1225+Smites!N273/('Base Numbers'!$C$5*'Base Numbers'!$C$6)","v":0},{"$f":"O1205+O1240+O1225+Smites!O273/('Base Numbers'!$C$5*'Base Numbers'!$C$6)","v":0},{"$f":"P1205+P1240+P1225+Smites!P273/('Base Numbers'!$C$5*'Base Numbers'!$C$6)","v":0},{"$f":"Q1205+Q1240+Q1225+Smites!Q273/('Base Numbers'!$C$5*'Base Numbers'!$C$6)","v":0},{"$f":"R1205+R1240+R1225+Smites!R273/('Base Numbers'!$C$5*'Base Numbers'!$C$6)","v":0},{"$f":"S1205+S1240+S1225+Smites!S273/('Base Numbers'!$C$5*'Base Numbers'!$C$6)","v":0},{"$f":"T1205+T1240+T1225+Smites!T273/('Base Numbers'!$C$5*'Base Numbers'!$C$6)","v":0},{"$f":"U1205+U1240+U1225+Smites!U273/('Base Numbers'!$C$5*'Base Numbers'!$C$6)","v":0},{"$f":"V1205+V1240+V1225+Smites!V273/('Base Numbers'!$C$5*'Base Numbers'!$C$6)","v":0},{"$f":"W1205+W1240+W1225+Smites!W273/('Base Numbers'!$C$5*'Base Numbers'!$C$6)","v":0},{"$f":"X1205+X1240+X1225+Smites!X273/('Base Numbers'!$C$5*'Base Numbers'!$C$6)","v":0}]
[{"$nulls":3},"M2, B12, O1/O2",{"$f":"E1205+E1245+MAX(E1223,E1224)+Smites!E292/('Base Numbers'!$C$5*'Base Numbers'!$C$6)","v":0.48750000000000004},{"$f":"F1205+F1245+MAX(F1223,F1224)+Smites!F292/('Base Numbers'!$C$5*'Base Numbers'!$C$6)","v":0.48750000000000004},{"$f":"G1205+G1245+MAX(G1223,G1224)+Smites!G292/('Base Numbers'!$C$5*'Base Numbers'!$C$6)","v":0.44999999999999996},{"$f":"H1205+H1245+MAX(H1223,H1224)+Smites!H292/('Base Numbers'!$C$5*'Base Numbers'!$C$6)","v":0.44999999999999996},{"$f":"I1205+I1245+MAX(I1223,I1224)+Smites!I292/('Base Numbers'!$C$5*'Base Numbers'!$C$6)","v":0.48750000000000004},{"$f":"J1205+J1245+MAX(J1223,J1224)+Smites!J292/('Base Numbers'!$C$5*'Base Numbers'!$C$6)","v":0.44999999999999996},{"$f":"K1205+K1245+MAX(K1223,K1224)+Smites!K292/('Base Numbers'!$C$5*'Base Numbers'!$C$6)","v":0.44999999999999996},{"$f":"L1205+L1245+MAX(L1223,L1224)+Smites!L292/('Base Numbers'!$C$5*'Base Numbers'!$C$6)","v":0.44999999999999996},{"$f":"M1205+M1245+MAX(M1223,M1224)+Smites!M292/('Base Numbers'!$C$5*'Base Numbers'!$C$6)","v":0.44999999999999996},{"$f":"N1205+N1245+MAX(N1223,N1224)+Smites!N292/('Base Numbers'!$C$5*'Base Numbers'!$C$6)","v":0.44999999999999996},{"$f":"O1205+O1245+MAX(O1223,O1224)+Smites!O292/('Base Numbers'!$C$5*'Base Numbers'!$C$6)","v":0.44999999999999996},{"$f":"P1205+P1245+MAX(P1223,P1224)+Smites!P292/('Base Numbers'!$C$5*'Base Numbers'!$C$6)","v":0.41250000000000003},{"$f":"Q1205+Q1245+MAX(Q1223,Q1224)+Smites!Q292/('Base Numbers'!$C$5*'Base Numbers'!$C$6)","v":0.44999999999999996},{"$f":"R1205+R1245+MAX(R1223,R1224)+Smites!R292/('Base Numbers'!$C$5*'Base Numbers'!$C$6)","v":0.44999999999999996},{"$f":"S1205+S1245+MAX(S1223,S1224)+Smites!S292/('Base Numbers'!$C$5*'Base Numbers'!$C$6)","v":0.41250000000000003},{"$f":"T1205+T1245+MAX(T1223,T1224)+Smites!T292/('Base Numbers'!$C$5*'Base Numbers'!$C$6)","v":0.41250000000000003},{"$f":"U1205+U1245+MAX(U1223,U1224)+Smites!U292/('Base Numbers'!$C$5*'Base Numbers'!$C$6)","v":0.44999999999999996},{"$f":"V1205+V1245+MAX(V1223,V1224)+Smites!V292/('Base Numbers'!$C$5*'Base Numbers'!$C$6)","v":0.41250000000000003},{"$f":"W1205+W1245+MAX(W1223,W1224)+Smites!W292/('Base Numbers'!$C$5*'Base Numbers'!$C$6)","v":0.41250000000000003},{"$f":"X1205+X1245+MAX(X1223,X1224)+Smites!X292/('Base Numbers'!$C$5*'Base Numbers'!$C$6)","v":0.41250000000000003}]
[{"$nulls":3},"M2, B12, O3",{"$f":"E1205+E1245+E1225+Smites!E311/('Base Numbers'!$C$5*'Base Numbers'!$C$6)","v":0},{"$f":"F1205+F1245+F1225+Smites!F311/('Base Numbers'!$C$5*'Base Numbers'!$C$6)","v":0},{"$f":"G1205+G1245+G1225+Smites!G311/('Base Numbers'!$C$5*'Base Numbers'!$C$6)","v":0},{"$f":"H1205+H1245+H1225+Smites!H311/('Base Numbers'!$C$5*'Base Numbers'!$C$6)","v":0},{"$f":"I1205+I1245+I1225+Smites!I311/('Base Numbers'!$C$5*'Base Numbers'!$C$6)","v":0},{"$f":"J1205+J1245+J1225+Smites!J311/('Base Numbers'!$C$5*'Base Numbers'!$C$6)","v":0},{"$f":"K1205+K1245+K1225+Smites!K311/('Base Numbers'!$C$5*'Base Numbers'!$C$6)","v":0},{"$f":"L1205+L1245+L1225+Smites!L311/('Base Numbers'!$C$5*'Base Numbers'!$C$6)","v":0},{"$f":"M1205+M1245+M1225+Smites!M311/('Base Numbers'!$C$5*'Base Numbers'!$C$6)","v":0},{"$f":"N1205+N1245+N1225+Smites!N311/('Base Numbers'!$C$5*'Base Numbers'!$C$6)","v":0},{"$f":"O1205+O1245+O1225+Smites!O311/('Base Numbers'!$C$5*'Base Numbers'!$C$6)","v":0},{"$f":"P1205+P1245+P1225+Smites!P311/('Base Numbers'!$C$5*'Base Numbers'!$C$6)","v":0},{"$f":"Q1205+Q1245+Q1225+Smites!Q311/('Base Numbers'!$C$5*'Base Numbers'!$C$6)","v":0},{"$f":"R1205+R1245+R1225+Smites!R311/('Base Numbers'!$C$5*'Base Numbers'!$C$6)","v":0},{"$f":"S1205+S1245+S1225+Smites!S311/('Base Numbers'!$C$5*'Base Numbers'!$C$6)","v":0},{"$f":"T1205+T1245+T1225+Smites!T311/('Base Numbers'!$C$5*'Base Numbers'!$C$6)","v":0},{"$f":"U1205+U1245+U1225+Smites!U311/('Base Numbers'!$C$5*'Base Numbers'!$C$6)","v":0},{"$f":"V1205+V1245+V1225+Smites!V311/('Base Numbers'!$C$5*'Base Numbers'!$C$6)","v":0},{"$f":"W1205+W1245+W1225+Smites!W311/('Base Numbers'!$C$5*'Base Numbers'!$C$6)","v":0},{"$f":"X1205+X1245+X1225+Smites!X311/('Base Numbers'!$C$5*'Base Numbers'!$C$6)","v":0}]
[{"$nulls":3},"M2, B13, O1/O2",{"$f":"E1205+E1246+MAX(E1223,E1224)+Smites!E330/('Base Numbers'!$C$5*'Base Numbers'!$C$6)","v":0.48750000000000004},{"$f":"F1205+F1246+MAX(F1223,F1224)+Smites!F330/('Base Numbers'!$C$5*'Base Numbers'!$C$6)","v":0.48750000000000004},{"$f":"G1205+G1246+MAX(G1223,G1224)+Smites!G330/('Base Numbers'!$C$5*'Base Numbers'!$C$6)","v":0.44999999999999996},{"$f":"H1205+H1246+MAX(H1223,H1224)+Smites!H330/('Base Numbers'!$C$5*'Base Numbers'!$C$6)","v":0.44999999999999996},{"$f":"I1205+I1246+MAX(I1223,I1224)+Smites!I330/('Base Numbers'!$C$5*'Base Numbers'!$C$6)","v":0.48750000000000004},{"$f":"J1205+J1246+MAX(J1223,J1224)+Smites!J330/('Base Numbers'!$C$5*'Base Numbers'!$C$6)","v":0.44999999999999996},{"$f":"K1205+K1246+MAX(K1223,K1224)+Smites!K330/('Base Numbers'!$C$5*'Base Numbers'!$C$6)","v":0.44999999999999996},{"$f":"L1205+L1246+MAX(L1223,L1224)+Smites!L330/('Base Numbers'!$C$5*'Base Numbers'!$C$6)","v":0.44999999999999996},{"$f":"M1205+M1246+MAX(M1223,M1224)+Smites!M330/('Base Numbers'!$C$5*'Base Numbers'!$C$6)","v":0.44999999999999996},{"$f":"N1205+N1246+MAX(N1223,N1224)+Smites!N330/('Base Numbers'!$C$5*'Base Numbers'!$C$6)","v":0.44999999999999996},{"$f":"O1205+O1246+MAX(O1223,O1224)+Smites!O330/('Base Numbers'!$C$5*'Base Numbers'!$C$6)","v":0.44999999999999996},{"$f":"P1205+P1246+MAX(P1223,P1224)+Smites!P330/('Base Numbers'!$C$5*'Base Numbers'!$C$6)","v":0.41250000000000003},{"$f":"Q1205+Q1246+MAX(Q1223,Q1224)+Smites!Q330/('Base Numbers'!$C$5*'Base Numbers'!$C$6)","v":0.44999999999999996},{"$f":"R1205+R1246+MAX(R1223,R1224)+Smites!R330/('Base Numbers'!$C$5*'Base Numbers'!$C$6)","v":0.44999999999999996},{"$f":"S1205+S1246+MAX(S1223,S1224)+Smites!S330/('Base Numbers'!$C$5*'Base Numbers'!$C$6)","v":0.41250000000000003},{"$f":"T1205+T1246+MAX(T1223,T1224)+Smites!T330/('Base Numbers'!$C$5*'Base Numbers'!$C$6)","v":0.41250000000000003},{"$f":"U1205+U1246+MAX(U1223,U1224)+Smites!U330/('Base Numbers'!$C$5*'Base Numbers'!$C$6)","v":0.44999999999999996},{"$f":"V1205+V1246+MAX(V1223,V1224)+Smites!V330/('Base Numbers'!$C$5*'Base Numbers'!$C$6)","v":0.41250000000000003},{"$f":"W1205+W1246+MAX(W1223,W1224)+Smites!W330/('Base Numbers'!$C$5*'Base Numbers'!$C$6)","v":0.41250000000000003},{"$f":"X1205+X1246+MAX(X1223,X1224)+Smites!X330/('Base Numbers'!$C$5*'Base Numbers'!$C$6)","v":0.41250000000000003}]
[{"$nulls":3},"M2, B13, O3",{"$f":"E1205+E1246+E1225+Smites!E349/('Base Numbers'!$C$5*'Base Numbers'!$C$6)","v":0},{"$f":"F1205+F1246+F1225+Smites!F349/('Base Numbers'!$C$5*'Base Numbers'!$C$6)","v":0},{"$f":"G1205+G1246+G1225+Smites!G349/('Base Numbers'!$C$5*'Base Numbers'!$C$6)","v":0},{"$f":"H1205+H1246+H1225+Smites!H349/('Base Numbers'!$C$5*'Base Numbers'!$C$6)","v":0},{"$f":"I1205+I1246+I1225+Smites!I349/('Base Numbers'!$C$5*'Base Numbers'!$C$6)","v":0},{"$f":"J1205+J1246+J1225+Smites!J349/('Base Numbers'!$C$5*'Base Numbers'!$C$6)","v":0},{"$f":"K1205+K1246+K1225+Smites!K349/('Base Numbers'!$C$5*'Base Numbers'!$C$6)","v":0},{"$f":"L1205+L1246+L1225+Smites!L349/('Base Numbers'!$C$5*'Base Numbers'!$C$6)","v":0},{"$f":"M1205+M1246+M1225+Smites!M349/('Base Numbers'!$C$5*'Base Numbers'!$C$6)","v":0},{"$f":"N1205+N1246+N1225+Smites!N349/('Base Numbers'!$C$5*'Base Numbers'!$C$6)","v":0},{"$f":"O1205+O1246+O1225+Smites!O349/('Base Numbers'!$C$5*'Base Numbers'!$C$6)","v":0},{"$f":"P1205+P1246+P1225+Smites!P349/('Base Numbers'!$C$5*'Base Numbers'!$C$6)","v":0},{"$f":"Q1205+Q1246+Q1225+Smites!Q349/('Base Numbers'!$C$5*'Base Numbers'!$C$6)","v":0},{"$f":"R1205+R1246+R1225+Smites!R349/('Base Numbers'!$C$5*'Base Numbers'!$C$6)","v":0},{"$f":"S1205+S1246+S1225+Smites!S349/('Base Numbers'!$C$5*'Base Numbers'!$C$6)","v":0},{"$f":"T1205+T1246+T1225+Smites!T349/('Base Numbers'!$C$5*'Base Numbers'!$C$6)","v":0},{"$f":"U1205+U1246+U1225+Smites!U349/('Base Numbers'!$C$5*'Base Numbers'!$C$6)","v":0},{"$f":"V1205+V1246+V1225+Smites!V349/('Base Numbers'!$C$5*'Base Numbers'!$C$6)","v":0},{"$f":"W1205+W1246+W1225+Smites!W349/('Base Numbers'!$C$5*'Base Numbers'!$C$6)","v":0},{"$f":"X1205+X1246+X1225+Smites!X349/('Base Numbers'!$C$5*'Base Numbers'!$C$6)","v":0}]
[{"$nulls":3},"M3, B8, O1/O2",{"$f":"E1206+E1241+MAX(E1223,E1224)+Smites!E368/('Base Numbers'!$C$5*'Base Numbers'!$C$6)","v":0.48750000000000004},{"$f":"F1206+F1241+MAX(F1223,F1224)+Smites!F368/('Base Numbers'!$C$5*'Base Numbers'!$C$6)","v":0.48750000000000004},{"$f":"G1206+G1241+MAX(G1223,G1224)+Smites!G368/('Base Numbers'!$C$5*'Base Numbers'!$C$6)","v":0.44999999999999996},{"$f":"H1206+H1241+MAX(H1223,H1224)+Smites!H368/('Base Numbers'!$C$5*'Base Numbers'!$C$6)","v":0.44999999999999996},{"$f":"I1206+I1241+MAX(I1223,I1224)+Smites!I368/('Base Numbers'!$C$5*'Base Numbers'!$C$6)","v":0.48750000000000004},{"$f":"J1206+J1241+MAX(J1223,J1224)+Smites!J368/('Base Numbers'!$C$5*'Base Numbers'!$C$6)","v":0.44999999999999996},{"$f":"K1206+K1241+MAX(K1223,K1224)+Smites!K368/('Base Numbers'!$C$5*'Base Numbers'!$C$6)","v":0.44999999999999996},{"$f":"L1206+L1241+MAX(L1223,L1224)+Smites!L368/('Base Numbers'!$C$5*'Base Numbers'!$C$6)","v":0.44999999999999996},{"$f":"M1206+M1241+MAX(M1223,M1224)+Smites!M368/('Base Numbers'!$C$5*'Base Numbers'!$C$6)","v":0.44999999999999996},{"$f":"N1206+N1241+MAX(N1223,N1224)+Smites!N368/('Base Numbers'!$C$5*'Base Numbers'!$C$6)","v":0.44999999999999996},{"$f":"O1206+O1241+MAX(O1223,O1224)+Smites!O368/('Base Numbers'!$C$5*'Base Numbers'!$C$6)","v":0.44999999999999996},{"$f":"P1206+P1241+MAX(P1223,P1224)+Smites!P368/('Base Numbers'!$C$5*'Base Numbers'!$C$6)","v":0.41250000000000003},{"$f":"Q1206+Q1241+MAX(Q1223,Q1224)+Smites!Q368/('Base Numbers'!$C$5*'Base Numbers'!$C$6)","v":0.44999999999999996},{"$f":"R1206+R1241+MAX(R1223,R1224)+Smites!R368/('Base Numbers'!$C$5*'Base Numbers'!$C$6)","v":0.44999999999999996},{"$f":"S1206+S1241+MAX(S1223,S1224)+Smites!S368/('Base Numbers'!$C$5*'Base Numbers'!$C$6)","v":0.41250000000000003},{"$f":"T1206+T1241+MAX(T1223,T1224)+Smites!T368/('Base Numbers'!$C$5*'Base Numbers'!$C$6)","v":0.41250000000000003},{"$f":"U1206+U1241+MAX(U1223,U1224)+Smites!U368/('Base Numbers'!$C$5*'Base Numbers'!$C$6)","v":0.44999999999999996},{"$f":"V1206+V1241+MAX(V1223,V1224)+Smites!V368/('Base Numbers'!$C$5*'Base Numbers'!$C$6)","v":0.41250000000000003},{"$f":"W1206+W1241+MAX(W1223,W1224)+Smites!W368/('Base Numbers'!$C$5*'Base Numbers'!$C$6)","v":0.41250000000000003},{"$f":"X1206+X1241+MAX(X1223,X1224)+Smites!X368/('Base Numbers'!$C$5*'Base Numbers'!$C$6)","v":0.41250000000000003}]
[{"$nulls":3},"M3, B8, O3",{"$f":"E1206+E1241+E1225+Smites!E387/('Base Numbers'!$C$5*'Base Numbers'!$C$6)","v":0},{"$f":"F1206+F1241+F1225+Smites!F387/('Base Numbers'!$C$5*'Base Numbers'!$C$6)","v":0},{"$f":"G1206+G1241+G1225+Smites!G387/('Base Numbers'!$C$5*'Base Numbers'!$C$6)","v":0},{"$f":"H1206+H1241+H1225+Smites!H387/('Base Numbers'!$C$5*'Base Numbers'!$C$6)","v":0},{"$f":"I1206+I1241+I1225+Smites!I387/('Base Numbers'!$C$5*'Base Numbers'!$C$6)","v":0},{"$f":"J1206+J1241+J1225+Smites!J387/('Base Numbers'!$C$5*'Base Numbers'!$C$6)","v":0},{"$f":"K1206+K1241+K1225+Smites!K387/('Base Numbers'!$C$5*'Base Numbers'!$C$6)","v":0},{"$f":"L1206+L1241+L1225+Smites!L387/('Base Numbers'!$C$5*'Base Numbers'!$C$6)","v":0},{"$f":"M1206+M1241+M1225+Smites!M387/('Base Numbers'!$C$5*'Base Numbers'!$C$6)","v":0},{"$f":"N1206+N1241+N1225+Smites!N387/('Base Numbers'!$C$5*'Base Numbers'!$C$6)","v":0},{"$f":"O1206+O1241+O1225+Smites!O387/('Base Numbers'!$C$5*'Base Numbers'!$C$6)","v":0},{"$f":"P1206+P1241+P1225+Smites!P387/('Base Numbers'!$C$5*'Base Numbers'!$C$6)","v":0},{"$f":"Q1206+Q1241+Q1225+Smites!Q387/('Base Numbers'!$C$5*'Base Numbers'!$C$6)","v":0},{"$f":"R1206+R1241+R1225+Smites!R387/('Base Numbers'!$C$5*'Base Numbers'!$C$6)","v":0},{"$f":"S1206+S1241+S1225+Smites!S387/('Base Numbers'!$C$5*'Base Numbers'!$C$6)","v":0},{"$f":"T1206+T1241+T1225+Smites!T387/('Base Numbers'!$C$5*'Base Numbers'!$C$6)","v":0},{"$f":"U1206+U1241+U1225+Smites!U387/('Base Numbers'!$C$5*'Base Numbers'!$C$6)","v":0},{"$f":"V1206+V1241+V1225+Smites!V387/('Base Numbers'!$C$5*'Base Numbers'!$C$6)","v":0},{"$f":"W1206+W1241+W1225+Smites!W387/('Base Numbers'!$C$5*'Base Numbers'!$C$6)","v":0},{"$f":"X1206+X1241+X1225+Smites!X387/('Base Numbers'!$C$5*'Base Numbers'!$C$6)","v":0}]
[{"$nulls":3},"M4, B9",{"$f":"E1207+E1242","v":0},0,0,0,0,0,0,0,0,0,0,0,0,0,0,0,0,0,0,0]
[{"$nulls":3},"M5, B10",{"$f":"E1208+E1243+Smites!E425/('Base Numbers'!$C$5*'Base Numbers'!$C$6)","v":4.4},{"$f":"F1208+F1243+Smites!F425/('Base Numbers'!$C$5*'Base Numbers'!$C$6)","v":4.4},{"$f":"G1208+G1243+Smites!G425/('Base Numbers'!$C$5*'Base Numbers'!$C$6)","v":4.075},{"$f":"H1208+H1243+Smites!H425/('Base Numbers'!$C$5*'Base Numbers'!$C$6)","v":4.075},{"$f":"I1208+I1243+Smites!I425/('Base Numbers'!$C$5*'Base Numbers'!$C$6)","v":4.4},{"$f":"J1208+J1243+Smites!J425/('Base Numbers'!$C$5*'Base Numbers'!$C$6)","v":4.075},{"$f":"K1208+K1243+Smites!K425/('Base Numbers'!$C$5*'Base Numbers'!$C$6)","v":4.075},{"$f":"L1208+L1243+Smites!L425/('Base Numbers'!$C$5*'Base Numbers'!$C$6)","v":4.075},{"$f":"M1208+M1243+Smites!M425/('Base Numbers'!$C$5*'Base Numbers'!$C$6)","v":4.075},{"$f":"N1208+N1243+Smites!N425/('Base Numbers'!$C$5*'Base Numbers'!$C$6)","v":4.075},{"$f":"O1208+O1243+Smites!O425/('Base Numbers'!$C$5*'Base Numbers'!$C$6)","v":4.075},{"$f":"P1208+P1243+Smites!P425/('Base Numbers'!$C$5*'Base Numbers'!$C$6)","v":3.75},{"$f":"Q1208+Q1243+Smites!Q425/('Base Numbers'!$C$5*'Base Numbers'!$C$6)","v":4.075},{"$f":"R1208+R1243+Smites!R425/('Base Numbers'!$C$5*'Base Numbers'!$C$6)","v":4.075},{"$f":"S1208+S1243+Smites!S425/('Base Numbers'!$C$5*'Base Numbers'!$C$6)","v":3.75},{"$f":"T1208+T1243+Smites!T425/('Base Numbers'!$C$5*'Base Numbers'!$C$6)","v":3.75},{"$f":"U1208+U1243+Smites!U425/('Base Numbers'!$C$5*'Base Numbers'!$C$6)","v":4.075},{"$f":"V1208+V1243+Smites!V425/('Base Numbers'!$C$5*'Base Numbers'!$C$6)","v":3.75},{"$f":"W1208+W1243+Smites!W425/('Base Numbers'!$C$5*'Base Numbers'!$C$6)","v":3.75},{"$f":"X1208+X1243+Smites!X425/('Base Numbers'!$C$5*'Base Numbers'!$C$6)","v":3.75}]
[{"$nulls":3},"M5, B11",{"$f":"E1208+E1244+Smites!E444/('Base Numbers'!$C$5*'Base Numbers'!$C$6)","v":4.4},{"$f":"F1208+F1244+Smites!F444/('Base Numbers'!$C$5*'Base Numbers'!$C$6)","v":4.4},{"$f":"G1208+G1244+Smites!G444/('Base Numbers'!$C$5*'Base Numbers'!$C$6)","v":4.075},{"$f":"H1208+H1244+Smites!H444/('Base Numbers'!$C$5*'Base Numbers'!$C$6)","v":4.075},{"$f":"I1208+I1244+Smites!I444/('Base Numbers'!$C$5*'Base Numbers'!$C$6)","v":4.4},{"$f":"J1208+J1244+Smites!J444/('Base Numbers'!$C$5*'Base Numbers'!$C$6)","v":4.075},{"$f":"K1208+K1244+Smites!K444/('Base Numbers'!$C$5*'Base Numbers'!$C$6)","v":4.075},{"$f":"L1208+L1244+Smites!L444/('Base Numbers'!$C$5*'Base Numbers'!$C$6)","v":4.075},{"$f":"M1208+M1244+Smites!M444/('Base Numbers'!$C$5*'Base Numbers'!$C$6)","v":4.075},{"$f":"N1208+N1244+Smites!N444/('Base Numbers'!$C$5*'Base Numbers'!$C$6)","v":4.075},{"$f":"O1208+O1244+Smites!O444/('Base Numbers'!$C$5*'Base Numbers'!$C$6)","v":4.075},{"$f":"P1208+P1244+Smites!P444/('Base Numbers'!$C$5*'Base Numbers'!$C$6)","v":3.75},{"$f":"Q1208+Q1244+Smites!Q444/('Base Numbers'!$C$5*'Base Numbers'!$C$6)","v":4.075},{"$f":"R1208+R1244+Smites!R444/('Base Numbers'!$C$5*'Base Numbers'!$C$6)","v":4.075},{"$f":"S1208+S1244+Smites!S444/('Base Numbers'!$C$5*'Base Numbers'!$C$6)","v":3.75},{"$f":"T1208+T1244+Smites!T444/('Base Numbers'!$C$5*'Base Numbers'!$C$6)","v":3.75},{"$f":"U1208+U1244+Smites!U444/('Base Numbers'!$C$5*'Base Numbers'!$C$6)","v":4.075},{"$f":"V1208+V1244+Smites!V444/('Base Numbers'!$C$5*'Base Numbers'!$C$6)","v":3.75},{"$f":"W1208+W1244+Smites!W444/('Base Numbers'!$C$5*'Base Numbers'!$C$6)","v":3.75},{"$f":"X1208+X1244+Smites!X444/('Base Numbers'!$C$5*'Base Numbers'!$C$6)","v":3.75}]
[]
[{"$nulls":3},"Maximum Damage Scenario results",1,2,3,4,5,6,7,8,9,10,11,12,13,14,15,16,17,18,19,20]
[{"$nulls":3},"smite dice available for smites using max Damage Scenario",{"$f":"CELL(\"contents\",INDIRECT(ADDRESS((MATCH(MAX(E1333:E1355),E1333:E1355,0)-1)*19+13,4+E6,1,1,\"Smites\")))","v":0},{"$f":"CELL(\"contents\",INDIRECT(ADDRESS((MATCH(MAX(F1333:F1355),F1333:F1355,0)-1)*19+13,4+F6,1,1,\"Smites\")))","v":0},{"$f":"CELL(\"contents\",INDIRECT(ADDRESS((MATCH(MAX(G1333:G1355),G1333:G1355,0)-1)*19+13,4+G6,1,1,\"Smites\")))","v":0},{"$f":"CELL(\"contents\",INDIRECT(ADDRESS((MATCH(MAX(H1333:H1355),H1333:H1355,0)-1)*19+13,4+H6,1,1,\"Smites\")))","v":0},{"$f":"CELL(\"contents\",INDIRECT(ADDRESS((MATCH(MAX(I1333:I1355),I1333:I1355,0)-1)*19+13,4+I6,1,1,\"Smites\")))","v":0},{"$f":"CELL(\"contents\",INDIRECT(ADDRESS((MATCH(MAX(J1333:J1355),J1333:J1355,0)-1)*19+13,4+J6,1,1,\"Smites\")))","v":0},{"$f":"CELL(\"contents\",INDIRECT(ADDRESS((MATCH(MAX(K1333:K1355),K1333:K1355,0)-1)*19+13,4+K6,1,1,\"Smites\")))","v":0},{"$f":"CELL(\"contents\",INDIRECT(ADDRESS((MATCH(MAX(L1333:L1355),L1333:L1355,0)-1)*19+13,4+L6,1,1,\"Smites\")))","v":0},{"$f":"CELL(\"contents\",INDIRECT(ADDRESS((MATCH(MAX(M1333:M1355),M1333:M1355,0)-1)*19+13,4+M6,1,1,\"Smites\")))","v":0},{"$f":"CELL(\"contents\",INDIRECT(ADDRESS((MATCH(MAX(N1333:N1355),N1333:N1355,0)-1)*19+13,4+N6,1,1,\"Smites\")))","v":0},{"$f":"CELL(\"contents\",INDIRECT(ADDRESS((MATCH(MAX(O1333:O1355),O1333:O1355,0)-1)*19+13,4+O6,1,1,\"Smites\")))","v":0},{"$f":"CELL(\"contents\",INDIRECT(ADDRESS((MATCH(MAX(P1333:P1355),P1333:P1355,0)-1)*19+13,4+P6,1,1,\"Smites\")))","v":0},{"$f":"CELL(\"contents\",INDIRECT(ADDRESS((MATCH(MAX(Q1333:Q1355),Q1333:Q1355,0)-1)*19+13,4+Q6,1,1,\"Smites\")))","v":0},{"$f":"CELL(\"contents\",INDIRECT(ADDRESS((MATCH(MAX(R1333:R1355),R1333:R1355,0)-1)*19+13,4+R6,1,1,\"Smites\")))","v":0},{"$f":"CELL(\"contents\",INDIRECT(ADDRESS((MATCH(MAX(S1333:S1355),S1333:S1355,0)-1)*19+13,4+S6,1,1,\"Smites\")))","v":0},{"$f":"CELL(\"contents\",INDIRECT(ADDRESS((MATCH(MAX(T1333:T1355),T1333:T1355,0)-1)*19+13,4+T6,1,1,\"Smites\")))","v":0},{"$f":"CELL(\"contents\",INDIRECT(ADDRESS((MATCH(MAX(U1333:U1355),U1333:U1355,0)-1)*19+13,4+U6,1,1,\"Smites\")))","v":0},{"$f":"CELL(\"contents\",INDIRECT(ADDRESS((MATCH(MAX(V1333:V1355),V1333:V1355,0)-1)*19+13,4+V6,1,1,\"Smites\")))","v":0},{"$f":"CELL(\"contents\",INDIRECT(ADDRESS((MATCH(MAX(W1333:W1355),W1333:W1355,0)-1)*19+13,4+W6,1,1,\"Smites\")))","v":0},{"$f":"CELL(\"contents\",INDIRECT(ADDRESS((MATCH(MAX(X1333:X1355),X1333:X1355,0)-1)*19+13,4+X6,1,1,\"Smites\")))","v":0}]
[{"$nulls":3},"spell levels + sorc points leftover after all smites",{"$f":"MAX(0,CELL(\"contents\",INDIRECT(ADDRESS((MATCH(MAX(E1333:E1355),E1333:E1355,0)-1)*19+24,4+E6,1,1,\"Smites\"))))","v":0},{"$f":"MAX(0,CELL(\"contents\",INDIRECT(ADDRESS((MATCH(MAX(F1333:F1355),F1333:F1355,0)-1)*19+24,4+F6,1,1,\"Smites\"))))","v":0},{"$f":"MAX(0,CELL(\"contents\",INDIRECT(ADDRESS((MATCH(MAX(G1333:G1355),G1333:G1355,0)-1)*19+24,4+G6,1,1,\"Smites\"))))","v":0},{"$f":"MAX(0,CELL(\"contents\",INDIRECT(ADDRESS((MATCH(MAX(H1333:H1355),H1333:H1355,0)-1)*19+24,4+H6,1,1,\"Smites\"))))","v":0},{"$f":"MAX(0,CELL(\"contents\",INDIRECT(ADDRESS((MATCH(MAX(I1333:I1355),I1333:I1355,0)-1)*19+24,4+I6,1,1,\"Smites\"))))","v":0},{"$f":"MAX(0,CELL(\"contents\",INDIRECT(ADDRESS((MATCH(MAX(J1333:J1355),J1333:J1355,0)-1)*19+24,4+J6,1,1,\"Smites\"))))","v":0},{"$f":"MAX(0,CELL(\"contents\",INDIRECT(ADDRESS((MATCH(MAX(K1333:K1355),K1333:K1355,0)-1)*19+24,4+K6,1,1,\"Smites\"))))","v":0},{"$f":"MAX(0,CELL(\"contents\",INDIRECT(ADDRESS((MATCH(MAX(L1333:L1355),L1333:L1355,0)-1)*19+24,4+L6,1,1,\"Smites\"))))","v":0},{"$f":"MAX(0,CELL(\"contents\",INDIRECT(ADDRESS((MATCH(MAX(M1333:M1355),M1333:M1355,0)-1)*19+24,4+M6,1,1,\"Smites\"))))","v":0},{"$f":"MAX(0,CELL(\"contents\",INDIRECT(ADDRESS((MATCH(MAX(N1333:N1355),N1333:N1355,0)-1)*19+24,4+N6,1,1,\"Smites\"))))","v":0},{"$f":"MAX(0,CELL(\"contents\",INDIRECT(ADDRESS((MATCH(MAX(O1333:O1355),O1333:O1355,0)-1)*19+24,4+O6,1,1,\"Smites\"))))","v":0},{"$f":"MAX(0,CELL(\"contents\",INDIRECT(ADDRESS((MATCH(MAX(P1333:P1355),P1333:P1355,0)-1)*19+24,4+P6,1,1,\"Smites\"))))","v":0},{"$f":"MAX(0,CELL(\"contents\",INDIRECT(ADDRESS((MATCH(MAX(Q1333:Q1355),Q1333:Q1355,0)-1)*19+24,4+Q6,1,1,\"Smites\"))))","v":0},{"$f":"MAX(0,CELL(\"contents\",INDIRECT(ADDRESS((MATCH(MAX(R1333:R1355),R1333:R1355,0)-1)*19+24,4+R6,1,1,\"Smites\"))))","v":0},{"$f":"MAX(0,CELL(\"contents\",INDIRECT(ADDRESS((MATCH(MAX(S1333:S1355),S1333:S1355,0)-1)*19+24,4+S6,1,1,\"Smites\"))))","v":0},{"$f":"MAX(0,CELL(\"contents\",INDIRECT(ADDRESS((MATCH(MAX(T1333:T1355),T1333:T1355,0)-1)*19+24,4+T6,1,1,\"Smites\"))))","v":0},{"$f":"MAX(0,CELL(\"contents\",INDIRECT(ADDRESS((MATCH(MAX(U1333:U1355),U1333:U1355,0)-1)*19+24,4+U6,1,1,\"Smites\"))))","v":0},{"$f":"MAX(0,CELL(\"contents\",INDIRECT(ADDRESS((MATCH(MAX(V1333:V1355),V1333:V1355,0)-1)*19+24,4+V6,1,1,\"Smites\"))))","v":0},{"$f":"MAX(0,CELL(\"contents\",INDIRECT(ADDRESS((MATCH(MAX(W1333:W1355),W1333:W1355,0)-1)*19+24,4+W6,1,1,\"Smites\"))))","v":0},{"$f":"MAX(0,CELL(\"contents\",INDIRECT(ADDRESS((MATCH(MAX(X1333:X1355),X1333:X1355,0)-1)*19+24,4+X6,1,1,\"Smites\"))))","v":0}]
[{"$nulls":3},"total smites performed using max Damage Scenario",{"$f":"CELL(\"contents\",INDIRECT(ADDRESS((MATCH(MAX(E1333:E1355),E1333:E1355,0)-1)*19+25,4+E6,1,1,\"Smites\")))","v":0},{"$f":"CELL(\"contents\",INDIRECT(ADDRESS((MATCH(MAX(F1333:F1355),F1333:F1355,0)-1)*19+25,4+F6,1,1,\"Smites\")))","v":0},{"$f":"CELL(\"contents\",INDIRECT(ADDRESS((MATCH(MAX(G1333:G1355),G1333:G1355,0)-1)*19+25,4+G6,1,1,\"Smites\")))","v":0},{"$f":"CELL(\"contents\",INDIRECT(ADDRESS((MATCH(MAX(H1333:H1355),H1333:H1355,0)-1)*19+25,4+H6,1,1,\"Smites\")))","v":0},{"$f":"CELL(\"contents\",INDIRECT(ADDRESS((MATCH(MAX(I1333:I1355),I1333:I1355,0)-1)*19+25,4+I6,1,1,\"Smites\")))","v":0},{"$f":"CELL(\"contents\",INDIRECT(ADDRESS((MATCH(MAX(J1333:J1355),J1333:J1355,0)-1)*19+25,4+J6,1,1,\"Smites\")))","v":0},{"$f":"CELL(\"contents\",INDIRECT(ADDRESS((MATCH(MAX(K1333:K1355),K1333:K1355,0)-1)*19+25,4+K6,1,1,\"Smites\")))","v":0},{"$f":"CELL(\"contents\",INDIRECT(ADDRESS((MATCH(MAX(L1333:L1355),L1333:L1355,0)-1)*19+25,4+L6,1,1,\"Smites\")))","v":0},{"$f":"CELL(\"contents\",INDIRECT(ADDRESS((MATCH(MAX(M1333:M1355),M1333:M1355,0)-1)*19+25,4+M6,1,1,\"Smites\")))","v":0},{"$f":"CELL(\"contents\",INDIRECT(ADDRESS((MATCH(MAX(N1333:N1355),N1333:N1355,0)-1)*19+25,4+N6,1,1,\"Smites\")))","v":0},{"$f":"CELL(\"contents\",INDIRECT(ADDRESS((MATCH(MAX(O1333:O1355),O1333:O1355,0)-1)*19+25,4+O6,1,1,\"Smites\")))","v":0},{"$f":"CELL(\"contents\",INDIRECT(ADDRESS((MATCH(MAX(P1333:P1355),P1333:P1355,0)-1)*19+25,4+P6,1,1,\"Smites\")))","v":0},{"$f":"CELL(\"contents\",INDIRECT(ADDRESS((MATCH(MAX(Q1333:Q1355),Q1333:Q1355,0)-1)*19+25,4+Q6,1,1,\"Smites\")))","v":0},{"$f":"CELL(\"contents\",INDIRECT(ADDRESS((MATCH(MAX(R1333:R1355),R1333:R1355,0)-1)*19+25,4+R6,1,1,\"Smites\")))","v":0},{"$f":"CELL(\"contents\",INDIRECT(ADDRESS((MATCH(MAX(S1333:S1355),S1333:S1355,0)-1)*19+25,4+S6,1,1,\"Smites\")))","v":0},{"$f":"CELL(\"contents\",INDIRECT(ADDRESS((MATCH(MAX(T1333:T1355),T1333:T1355,0)-1)*19+25,4+T6,1,1,\"Smites\")))","v":0},{"$f":"CELL(\"contents\",INDIRECT(ADDRESS((MATCH(MAX(U1333:U1355),U1333:U1355,0)-1)*19+25,4+U6,1,1,\"Smites\")))","v":0},{"$f":"CELL(\"contents\",INDIRECT(ADDRESS((MATCH(MAX(V1333:V1355),V1333:V1355,0)-1)*19+25,4+V6,1,1,\"Smites\")))","v":0},{"$f":"CELL(\"contents\",INDIRECT(ADDRESS((MATCH(MAX(W1333:W1355),W1333:W1355,0)-1)*19+25,4+W6,1,1,\"Smites\")))","v":0},{"$f":"CELL(\"contents\",INDIRECT(ADDRESS((MATCH(MAX(X1333:X1355),X1333:X1355,0)-1)*19+25,4+X6,1,1,\"Smites\")))","v":0}]
[{"$nulls":3},"total warlock smites performed in max Damage Scenario",{"$f":"MIN(E1360,CELL(\"contents\",INDIRECT(ADDRESS((MATCH(MAX(E1333:E1355),E1333:E1355,0)-1)*19+12,4+E6,1,1,\"Smites\")))/(E265+1))","v":0},{"$f":"MIN(F1360,CELL(\"contents\",INDIRECT(ADDRESS((MATCH(MAX(F1333:F1355),F1333:F1355,0)-1)*19+12,4+F6,1,1,\"Smites\")))/(F265+1))","v":0},{"$f":"MIN(G1360,CELL(\"contents\",INDIRECT(ADDRESS((MATCH(MAX(G1333:G1355),G1333:G1355,0)-1)*19+12,4+G6,1,1,\"Smites\")))/(G265+1))","v":0},{"$f":"MIN(H1360,CELL(\"contents\",INDIRECT(ADDRESS((MATCH(MAX(H1333:H1355),H1333:H1355,0)-1)*19+12,4+H6,1,1,\"Smites\")))/(H265+1))","v":0},{"$f":"MIN(I1360,CELL(\"contents\",INDIRECT(ADDRESS((MATCH(MAX(I1333:I1355),I1333:I1355,0)-1)*19+12,4+I6,1,1,\"Smites\")))/(I265+1))","v":0},{"$f":"MIN(J1360,CELL(\"contents\",INDIRECT(ADDRESS((MATCH(MAX(J1333:J1355),J1333:J1355,0)-1)*19+12,4+J6,1,1,\"Smites\")))/(J265+1))","v":0},{"$f":"MIN(K1360,CELL(\"contents\",INDIRECT(ADDRESS((MATCH(MAX(K1333:K1355),K1333:K1355,0)-1)*19+12,4+K6,1,1,\"Smites\")))/(K265+1))","v":0},{"$f":"MIN(L1360,CELL(\"contents\",INDIRECT(ADDRESS((MATCH(MAX(L1333:L1355),L1333:L1355,0)-1)*19+12,4+L6,1,1,\"Smites\")))/(L265+1))","v":0},{"$f":"MIN(M1360,CELL(\"contents\",INDIRECT(ADDRESS((MATCH(MAX(M1333:M1355),M1333:M1355,0)-1)*19+12,4+M6,1,1,\"Smites\")))/(M265+1))","v":0},{"$f":"MIN(N1360,CELL(\"contents\",INDIRECT(ADDRESS((MATCH(MAX(N1333:N1355),N1333:N1355,0)-1)*19+12,4+N6,1,1,\"Smites\")))/(N265+1))","v":0},{"$f":"MIN(O1360,CELL(\"contents\",INDIRECT(ADDRESS((MATCH(MAX(O1333:O1355),O1333:O1355,0)-1)*19+12,4+O6,1,1,\"Smites\")))/(O265+1))","v":0},{"$f":"MIN(P1360,CELL(\"contents\",INDIRECT(ADDRESS((MATCH(MAX(P1333:P1355),P1333:P1355,0)-1)*19+12,4+P6,1,1,\"Smites\")))/(P265+1))","v":0},{"$f":"MIN(Q1360,CELL(\"contents\",INDIRECT(ADDRESS((MATCH(MAX(Q1333:Q1355),Q1333:Q1355,0)-1)*19+12,4+Q6,1,1,\"Smites\")))/(Q265+1))","v":0},{"$f":"MIN(R1360,CELL(\"contents\",INDIRECT(ADDRESS((MATCH(MAX(R1333:R1355),R1333:R1355,0)-1)*19+12,4+R6,1,1,\"Smites\")))/(R265+1))","v":0},{"$f":"MIN(S1360,CELL(\"contents\",INDIRECT(ADDRESS((MATCH(MAX(S1333:S1355),S1333:S1355,0)-1)*19+12,4+S6,1,1,\"Smites\")))/(S265+1))","v":0},{"$f":"MIN(T1360,CELL(\"contents\",INDIRECT(ADDRESS((MATCH(MAX(T1333:T1355),T1333:T1355,0)-1)*19+12,4+T6,1,1,\"Smites\")))/(T265+1))","v":0},{"$f":"MIN(U1360,CELL(\"contents\",INDIRECT(ADDRESS((MATCH(MAX(U1333:U1355),U1333:U1355,0)-1)*19+12,4+U6,1,1,\"Smites\")))/(U265+1))","v":0},{"$f":"MIN(V1360,CELL(\"contents\",INDIRECT(ADDRESS((MATCH(MAX(V1333:V1355),V1333:V1355,0)-1)*19+12,4+V6,1,1,\"Smites\")))/(V265+1))","v":0},{"$f":"MIN(W1360,CELL(\"contents\",INDIRECT(ADDRESS((MATCH(MAX(W1333:W1355),W1333:W1355,0)-1)*19+12,4+W6,1,1,\"Smites\")))/(W265+1))","v":0},{"$f":"MIN(X1360,CELL(\"contents\",INDIRECT(ADDRESS((MATCH(MAX(X1333:X1355),X1333:X1355,0)-1)*19+12,4+X6,1,1,\"Smites\")))/(X265+1))","v":0}]
[{"$nulls":3},"total smiteable atacks per turn using max Damage Scenario",{"$f":"CELL(\"contents\",INDIRECT(ADDRESS(MATCH(MAX(E1333:E1355),E1333:E1355,0)+MATCH(\"Smite-qualified attacks per round incl haste\",$D1:$D1522,0),4+E6,1,1)))","v":1},{"$f":"CELL(\"contents\",INDIRECT(ADDRESS(MATCH(MAX(F1333:F1355),F1333:F1355,0)+MATCH(\"Smite-qualified attacks per round incl haste\",$D1:$D1522,0),4+F6,1,1)))","v":1},{"$f":"CELL(\"contents\",INDIRECT(ADDRESS(MATCH(MAX(G1333:G1355),G1333:G1355,0)+MATCH(\"Smite-qualified attacks per round incl haste\",$D1:$D1522,0),4+G6,1,1)))","v":1},{"$f":"CELL(\"contents\",INDIRECT(ADDRESS(MATCH(MAX(H1333:H1355),H1333:H1355,0)+MATCH(\"Smite-qualified attacks per round incl haste\",$D1:$D1522,0),4+H6,1,1)))","v":1},{"$f":"CELL(\"contents\",INDIRECT(ADDRESS(MATCH(MAX(I1333:I1355),I1333:I1355,0)+MATCH(\"Smite-qualified attacks per round incl haste\",$D1:$D1522,0),4+I6,1,1)))","v":1},{"$f":"CELL(\"contents\",INDIRECT(ADDRESS(MATCH(MAX(J1333:J1355),J1333:J1355,0)+MATCH(\"Smite-qualified attacks per round incl haste\",$D1:$D1522,0),4+J6,1,1)))","v":1},{"$f":"CELL(\"contents\",INDIRECT(ADDRESS(MATCH(MAX(K1333:K1355),K1333:K1355,0)+MATCH(\"Smite-qualified attacks per round incl haste\",$D1:$D1522,0),4+K6,1,1)))","v":1},{"$f":"CELL(\"contents\",INDIRECT(ADDRESS(MATCH(MAX(L1333:L1355),L1333:L1355,0)+MATCH(\"Smite-qualified attacks per round incl haste\",$D1:$D1522,0),4+L6,1,1)))","v":1},{"$f":"CELL(\"contents\",INDIRECT(ADDRESS(MATCH(MAX(M1333:M1355),M1333:M1355,0)+MATCH(\"Smite-qualified attacks per round incl haste\",$D1:$D1522,0),4+M6,1,1)))","v":1},{"$f":"CELL(\"contents\",INDIRECT(ADDRESS(MATCH(MAX(N1333:N1355),N1333:N1355,0)+MATCH(\"Smite-qualified attacks per round incl haste\",$D1:$D1522,0),4+N6,1,1)))","v":1},{"$f":"CELL(\"contents\",INDIRECT(ADDRESS(MATCH(MAX(O1333:O1355),O1333:O1355,0)+MATCH(\"Smite-qualified attacks per round incl haste\",$D1:$D1522,0),4+O6,1,1)))","v":1},{"$f":"CELL(\"contents\",INDIRECT(ADDRESS(MATCH(MAX(P1333:P1355),P1333:P1355,0)+MATCH(\"Smite-qualified attacks per round incl haste\",$D1:$D1522,0),4+P6,1,1)))","v":1},{"$f":"CELL(\"contents\",INDIRECT(ADDRESS(MATCH(MAX(Q1333:Q1355),Q1333:Q1355,0)+MATCH(\"Smite-qualified attacks per round incl haste\",$D1:$D1522,0),4+Q6,1,1)))","v":1},{"$f":"CELL(\"contents\",INDIRECT(ADDRESS(MATCH(MAX(R1333:R1355),R1333:R1355,0)+MATCH(\"Smite-qualified attacks per round incl haste\",$D1:$D1522,0),4+R6,1,1)))","v":1},{"$f":"CELL(\"contents\",INDIRECT(ADDRESS(MATCH(MAX(S1333:S1355),S1333:S1355,0)+MATCH(\"Smite-qualified attacks per round incl haste\",$D1:$D1522,0),4+S6,1,1)))","v":1},{"$f":"CELL(\"contents\",INDIRECT(ADDRESS(MATCH(MAX(T1333:T1355),T1333:T1355,0)+MATCH(\"Smite-qualified attacks per round incl haste\",$D1:$D1522,0),4+T6,1,1)))","v":1},{"$f":"CELL(\"contents\",INDIRECT(ADDRESS(MATCH(MAX(U1333:U1355),U1333:U1355,0)+MATCH(\"Smite-qualified attacks per round incl haste\",$D1:$D1522,0),4+U6,1,1)))","v":1},{"$f":"CELL(\"contents\",INDIRECT(ADDRESS(MATCH(MAX(V1333:V1355),V1333:V1355,0)+MATCH(\"Smite-qualified attacks per round incl haste\",$D1:$D1522,0),4+V6,1,1)))","v":1},{"$f":"CELL(\"contents\",INDIRECT(ADDRESS(MATCH(MAX(W1333:W1355),W1333:W1355,0)+MATCH(\"Smite-qualified attacks per round incl haste\",$D1:$D1522,0),4+W6,1,1)))","v":1},{"$f":"CELL(\"contents\",INDIRECT(ADDRESS(MATCH(MAX(X1333:X1355),X1333:X1355,0)+MATCH(\"Smite-qualified attacks per round incl haste\",$D1:$D1522,0),4+X6,1,1)))","v":1}]
[{"$nulls":3},"total crits per round using max Damage Scenario",{"$f":"CELL(\"contents\",INDIRECT(ADDRESS(MATCH(MAX(E1333:E1355),E1333:E1355,0)+MATCH(\"Crit rate per round: (incl haste)\",$D1:$D1522,0),4+E6,1,1)))","v":0.05},{"$f":"CELL(\"contents\",INDIRECT(ADDRESS(MATCH(MAX(F1333:F1355),F1333:F1355,0)+MATCH(\"Crit rate per round: (incl haste)\",$D1:$D1522,0),4+F6,1,1)))","v":0.05},{"$f":"CELL(\"contents\",INDIRECT(ADDRESS(MATCH(MAX(G1333:G1355),G1333:G1355,0)+MATCH(\"Crit rate per round: (incl haste)\",$D1:$D1522,0),4+G6,1,1)))","v":0.05},{"$f":"CELL(\"contents\",INDIRECT(ADDRESS(MATCH(MAX(H1333:H1355),H1333:H1355,0)+MATCH(\"Crit rate per round: (incl haste)\",$D1:$D1522,0),4+H6,1,1)))","v":0.05},{"$f":"CELL(\"contents\",INDIRECT(ADDRESS(MATCH(MAX(I1333:I1355),I1333:I1355,0)+MATCH(\"Crit rate per round: (incl haste)\",$D1:$D1522,0),4+I6,1,1)))","v":0.05},{"$f":"CELL(\"contents\",INDIRECT(ADDRESS(MATCH(MAX(J1333:J1355),J1333:J1355,0)+MATCH(\"Crit rate per round: (incl haste)\",$D1:$D1522,0),4+J6,1,1)))","v":0.05},{"$f":"CELL(\"contents\",INDIRECT(ADDRESS(MATCH(MAX(K1333:K1355),K1333:K1355,0)+MATCH(\"Crit rate per round: (incl haste)\",$D1:$D1522,0),4+K6,1,1)))","v":0.05},{"$f":"CELL(\"contents\",INDIRECT(ADDRESS(MATCH(MAX(L1333:L1355),L1333:L1355,0)+MATCH(\"Crit rate per round: (incl haste)\",$D1:$D1522,0),4+L6,1,1)))","v":0.05},{"$f":"CELL(\"contents\",INDIRECT(ADDRESS(MATCH(MAX(M1333:M1355),M1333:M1355,0)+MATCH(\"Crit rate per round: (incl haste)\",$D1:$D1522,0),4+M6,1,1)))","v":0.05},{"$f":"CELL(\"contents\",INDIRECT(ADDRESS(MATCH(MAX(N1333:N1355),N1333:N1355,0)+MATCH(\"Crit rate per round: (incl haste)\",$D1:$D1522,0),4+N6,1,1)))","v":0.05},{"$f":"CELL(\"contents\",INDIRECT(ADDRESS(MATCH(MAX(O1333:O1355),O1333:O1355,0)+MATCH(\"Crit rate per round: (incl haste)\",$D1:$D1522,0),4+O6,1,1)))","v":0.05},{"$f":"CELL(\"contents\",INDIRECT(ADDRESS(MATCH(MAX(P1333:P1355),P1333:P1355,0)+MATCH(\"Crit rate per round: (incl haste)\",$D1:$D1522,0),4+P6,1,1)))","v":0.05},{"$f":"CELL(\"contents\",INDIRECT(ADDRESS(MATCH(MAX(Q1333:Q1355),Q1333:Q1355,0)+MATCH(\"Crit rate per round: (incl haste)\",$D1:$D1522,0),4+Q6,1,1)))","v":0.05},{"$f":"CELL(\"contents\",INDIRECT(ADDRESS(MATCH(MAX(R1333:R1355),R1333:R1355,0)+MATCH(\"Crit rate per round: (incl haste)\",$D1:$D1522,0),4+R6,1,1)))","v":0.05},{"$f":"CELL(\"contents\",INDIRECT(ADDRESS(MATCH(MAX(S1333:S1355),S1333:S1355,0)+MATCH(\"Crit rate per round: (incl haste)\",$D1:$D1522,0),4+S6,1,1)))","v":0.05},{"$f":"CELL(\"contents\",INDIRECT(ADDRESS(MATCH(MAX(T1333:T1355),T1333:T1355,0)+MATCH(\"Crit rate per round: (incl haste)\",$D1:$D1522,0),4+T6,1,1)))","v":0.05},{"$f":"CELL(\"contents\",INDIRECT(ADDRESS(MATCH(MAX(U1333:U1355),U1333:U1355,0)+MATCH(\"Crit rate per round: (incl haste)\",$D1:$D1522,0),4+U6,1,1)))","v":0.05},{"$f":"CELL(\"contents\",INDIRECT(ADDRESS(MATCH(MAX(V1333:V1355),V1333:V1355,0)+MATCH(\"Crit rate per round: (incl haste)\",$D1:$D1522,0),4+V6,1,1)))","v":0.05},{"$f":"CELL(\"contents\",INDIRECT(ADDRESS(MATCH(MAX(W1333:W1355),W1333:W1355,0)+MATCH(\"Crit rate per round: (incl haste)\",$D1:$D1522,0),4+W6,1,1)))","v":0.05},{"$f":"CELL(\"contents\",INDIRECT(ADDRESS(MATCH(MAX(X1333:X1355),X1333:X1355,0)+MATCH(\"Crit rate per round: (incl haste)\",$D1:$D1522,0),4+X6,1,1)))","v":0.05}]
[{"$nulls":3},"Use BB over main attack?",{"$f":"CELL(\"contents\",INDIRECT(ADDRESS(MATCH(MAX(E1333:E1355),E1333:E1355,0)+6,5,1,1,\"Damage Scenarios\")))","v":0},{"$f":"CELL(\"contents\",INDIRECT(ADDRESS(MATCH(MAX(F1333:F1355),F1333:F1355,0)+6,5,1,1,\"Damage Scenarios\")))","v":0},{"$f":"CELL(\"contents\",INDIRECT(ADDRESS(MATCH(MAX(G1333:G1355),G1333:G1355,0)+6,5,1,1,\"Damage Scenarios\")))","v":0},{"$f":"CELL(\"contents\",INDIRECT(ADDRESS(MATCH(MAX(H1333:H1355),H1333:H1355,0)+6,5,1,1,\"Damage Scenarios\")))","v":0},{"$f":"CELL(\"contents\",INDIRECT(ADDRESS(MATCH(MAX(I1333:I1355),I1333:I1355,0)+6,5,1,1,\"Damage Scenarios\")))","v":0},{"$f":"CELL(\"contents\",INDIRECT(ADDRESS(MATCH(MAX(J1333:J1355),J1333:J1355,0)+6,5,1,1,\"Damage Scenarios\")))","v":0},{"$f":"CELL(\"contents\",INDIRECT(ADDRESS(MATCH(MAX(K1333:K1355),K1333:K1355,0)+6,5,1,1,\"Damage Scenarios\")))","v":0},{"$f":"CELL(\"contents\",INDIRECT(ADDRESS(MATCH(MAX(L1333:L1355),L1333:L1355,0)+6,5,1,1,\"Damage Scenarios\")))","v":0},{"$f":"CELL(\"contents\",INDIRECT(ADDRESS(MATCH(MAX(M1333:M1355),M1333:M1355,0)+6,5,1,1,\"Damage Scenarios\")))","v":0},{"$f":"CELL(\"contents\",INDIRECT(ADDRESS(MATCH(MAX(N1333:N1355),N1333:N1355,0)+6,5,1,1,\"Damage Scenarios\")))","v":0},{"$f":"CELL(\"contents\",INDIRECT(ADDRESS(MATCH(MAX(O1333:O1355),O1333:O1355,0)+6,5,1,1,\"Damage Scenarios\")))","v":0},{"$f":"CELL(\"contents\",INDIRECT(ADDRESS(MATCH(MAX(P1333:P1355),P1333:P1355,0)+6,5,1,1,\"Damage Scenarios\")))","v":0},{"$f":"CELL(\"contents\",INDIRECT(ADDRESS(MATCH(MAX(Q1333:Q1355),Q1333:Q1355,0)+6,5,1,1,\"Damage Scenarios\")))","v":0},{"$f":"CELL(\"contents\",INDIRECT(ADDRESS(MATCH(MAX(R1333:R1355),R1333:R1355,0)+6,5,1,1,\"Damage Scenarios\")))","v":0},{"$f":"CELL(\"contents\",INDIRECT(ADDRESS(MATCH(MAX(S1333:S1355),S1333:S1355,0)+6,5,1,1,\"Damage Scenarios\")))","v":0},{"$f":"CELL(\"contents\",INDIRECT(ADDRESS(MATCH(MAX(T1333:T1355),T1333:T1355,0)+6,5,1,1,\"Damage Scenarios\")))","v":0},{"$f":"CELL(\"contents\",INDIRECT(ADDRESS(MATCH(MAX(U1333:U1355),U1333:U1355,0)+6,5,1,1,\"Damage Scenarios\")))","v":0},{"$f":"CELL(\"contents\",INDIRECT(ADDRESS(MATCH(MAX(V1333:V1355),V1333:V1355,0)+6,5,1,1,\"Damage Scenarios\")))","v":0},{"$f":"CELL(\"contents\",INDIRECT(ADDRESS(MATCH(MAX(W1333:W1355),W1333:W1355,0)+6,5,1,1,\"Damage Scenarios\")))","v":0},{"$f":"CELL(\"contents\",INDIRECT(ADDRESS(MATCH(MAX(X1333:X1355),X1333:X1355,0)+6,5,1,1,\"Damage Scenarios\")))","v":0}]
[{"$nulls":3},"Use QBB?",{"$f":"CELL(\"contents\",INDIRECT(ADDRESS(MATCH(MAX(E1333:E1355),E1333:E1355,0)+6,7,1,1,\"Damage Scenarios\")))","v":0},{"$f":"CELL(\"contents\",INDIRECT(ADDRESS(MATCH(MAX(F1333:F1355),F1333:F1355,0)+6,7,1,1,\"Damage Scenarios\")))","v":0},{"$f":"CELL(\"contents\",INDIRECT(ADDRESS(MATCH(MAX(G1333:G1355),G1333:G1355,0)+6,7,1,1,\"Damage Scenarios\")))","v":0},{"$f":"CELL(\"contents\",INDIRECT(ADDRESS(MATCH(MAX(H1333:H1355),H1333:H1355,0)+6,7,1,1,\"Damage Scenarios\")))","v":0},{"$f":"CELL(\"contents\",INDIRECT(ADDRESS(MATCH(MAX(I1333:I1355),I1333:I1355,0)+6,7,1,1,\"Damage Scenarios\")))","v":0},{"$f":"CELL(\"contents\",INDIRECT(ADDRESS(MATCH(MAX(J1333:J1355),J1333:J1355,0)+6,7,1,1,\"Damage Scenarios\")))","v":0},{"$f":"CELL(\"contents\",INDIRECT(ADDRESS(MATCH(MAX(K1333:K1355),K1333:K1355,0)+6,7,1,1,\"Damage Scenarios\")))","v":0},{"$f":"CELL(\"contents\",INDIRECT(ADDRESS(MATCH(MAX(L1333:L1355),L1333:L1355,0)+6,7,1,1,\"Damage Scenarios\")))","v":0},{"$f":"CELL(\"contents\",INDIRECT(ADDRESS(MATCH(MAX(M1333:M1355),M1333:M1355,0)+6,7,1,1,\"Damage Scenarios\")))","v":0},{"$f":"CELL(\"contents\",INDIRECT(ADDRESS(MATCH(MAX(N1333:N1355),N1333:N1355,0)+6,7,1,1,\"Damage Scenarios\")))","v":0},{"$f":"CELL(\"contents\",INDIRECT(ADDRESS(MATCH(MAX(O1333:O1355),O1333:O1355,0)+6,7,1,1,\"Damage Scenarios\")))","v":0},{"$f":"CELL(\"contents\",INDIRECT(ADDRESS(MATCH(MAX(P1333:P1355),P1333:P1355,0)+6,7,1,1,\"Damage Scenarios\")))","v":0},{"$f":"CELL(\"contents\",INDIRECT(ADDRESS(MATCH(MAX(Q1333:Q1355),Q1333:Q1355,0)+6,7,1,1,\"Damage Scenarios\")))","v":0},{"$f":"CELL(\"contents\",INDIRECT(ADDRESS(MATCH(MAX(R1333:R1355),R1333:R1355,0)+6,7,1,1,\"Damage Scenarios\")))","v":0},{"$f":"CELL(\"contents\",INDIRECT(ADDRESS(MATCH(MAX(S1333:S1355),S1333:S1355,0)+6,7,1,1,\"Damage Scenarios\")))","v":0},{"$f":"CELL(\"contents\",INDIRECT(ADDRESS(MATCH(MAX(T1333:T1355),T1333:T1355,0)+6,7,1,1,\"Damage Scenarios\")))","v":0},{"$f":"CELL(\"contents\",INDIRECT(ADDRESS(MATCH(MAX(U1333:U1355),U1333:U1355,0)+6,7,1,1,\"Damage Scenarios\")))","v":0},{"$f":"CELL(\"contents\",INDIRECT(ADDRESS(MATCH(MAX(V1333:V1355),V1333:V1355,0)+6,7,1,1,\"Damage Scenarios\")))","v":0},{"$f":"CELL(\"contents\",INDIRECT(ADDRESS(MATCH(MAX(W1333:W1355),W1333:W1355,0)+6,7,1,1,\"Damage Scenarios\")))","v":0},{"$f":"CELL(\"contents\",INDIRECT(ADDRESS(MATCH(MAX(X1333:X1355),X1333:X1355,0)+6,7,1,1,\"Damage Scenarios\")))","v":0}]
[{"$nulls":3},"Use QEB/Quicken Cantrip?",{"$f":"IF(E560,CELL(\"contents\",INDIRECT(ADDRESS(MATCH(MAX(E1333:E1355),E1333:E1355,0)+6,8,1,1,\"Damage Scenarios\"))),0)","v":0},{"$f":"IF(F560,CELL(\"contents\",INDIRECT(ADDRESS(MATCH(MAX(F1333:F1355),F1333:F1355,0)+6,8,1,1,\"Damage Scenarios\"))),0)","v":0},{"$f":"IF(G560,CELL(\"contents\",INDIRECT(ADDRESS(MATCH(MAX(G1333:G1355),G1333:G1355,0)+6,8,1,1,\"Damage Scenarios\"))),0)","v":0},{"$f":"IF(H560,CELL(\"contents\",INDIRECT(ADDRESS(MATCH(MAX(H1333:H1355),H1333:H1355,0)+6,8,1,1,\"Damage Scenarios\"))),0)","v":0},{"$f":"IF(I560,CELL(\"contents\",INDIRECT(ADDRESS(MATCH(MAX(I1333:I1355),I1333:I1355,0)+6,8,1,1,\"Damage Scenarios\"))),0)","v":0},{"$f":"IF(J560,CELL(\"contents\",INDIRECT(ADDRESS(MATCH(MAX(J1333:J1355),J1333:J1355,0)+6,8,1,1,\"Damage Scenarios\"))),0)","v":0},{"$f":"IF(K560,CELL(\"contents\",INDIRECT(ADDRESS(MATCH(MAX(K1333:K1355),K1333:K1355,0)+6,8,1,1,\"Damage Scenarios\"))),0)","v":0},{"$f":"IF(L560,CELL(\"contents\",INDIRECT(ADDRESS(MATCH(MAX(L1333:L1355),L1333:L1355,0)+6,8,1,1,\"Damage Scenarios\"))),0)","v":0},{"$f":"IF(M560,CELL(\"contents\",INDIRECT(ADDRESS(MATCH(MAX(M1333:M1355),M1333:M1355,0)+6,8,1,1,\"Damage Scenarios\"))),0)","v":0},{"$f":"IF(N560,CELL(\"contents\",INDIRECT(ADDRESS(MATCH(MAX(N1333:N1355),N1333:N1355,0)+6,8,1,1,\"Damage Scenarios\"))),0)","v":0},{"$f":"IF(O560,CELL(\"contents\",INDIRECT(ADDRESS(MATCH(MAX(O1333:O1355),O1333:O1355,0)+6,8,1,1,\"Damage Scenarios\"))),0)","v":0},{"$f":"IF(P560,CELL(\"contents\",INDIRECT(ADDRESS(MATCH(MAX(P1333:P1355),P1333:P1355,0)+6,8,1,1,\"Damage Scenarios\"))),0)","v":0},{"$f":"IF(Q560,CELL(\"contents\",INDIRECT(ADDRESS(MATCH(MAX(Q1333:Q1355),Q1333:Q1355,0)+6,8,1,1,\"Damage Scenarios\"))),0)","v":0},{"$f":"IF(R560,CELL(\"contents\",INDIRECT(ADDRESS(MATCH(MAX(R1333:R1355),R1333:R1355,0)+6,8,1,1,\"Damage Scenarios\"))),0)","v":0},{"$f":"IF(S560,CELL(\"contents\",INDIRECT(ADDRESS(MATCH(MAX(S1333:S1355),S1333:S1355,0)+6,8,1,1,\"Damage Scenarios\"))),0)","v":0},{"$f":"IF(T560,CELL(\"contents\",INDIRECT(ADDRESS(MATCH(MAX(T1333:T1355),T1333:T1355,0)+6,8,1,1,\"Damage Scenarios\"))),0)","v":0},{"$f":"IF(U560,CELL(\"contents\",INDIRECT(ADDRESS(MATCH(MAX(U1333:U1355),U1333:U1355,0)+6,8,1,1,\"Damage Scenarios\"))),0)","v":0},{"$f":"IF(V560,CELL(\"contents\",INDIRECT(ADDRESS(MATCH(MAX(V1333:V1355),V1333:V1355,0)+6,8,1,1,\"Damage Scenarios\"))),0)","v":0},{"$f":"IF(W560,CELL(\"contents\",INDIRECT(ADDRESS(MATCH(MAX(W1333:W1355),W1333:W1355,0)+6,8,1,1,\"Damage Scenarios\"))),0)","v":0},{"$f":"IF(X560,CELL(\"contents\",INDIRECT(ADDRESS(MATCH(MAX(X1333:X1355),X1333:X1355,0)+6,8,1,1,\"Damage Scenarios\"))),0)","v":0}]
[{"$nulls":3},"Use EB over main attack?",{"$f":"CELL(\"contents\",INDIRECT(ADDRESS(MATCH(MAX(E1333:E1355),E1333:E1355,0)+6,6,1,1,\"Damage Scenarios\")))","v":0},{"$f":"CELL(\"contents\",INDIRECT(ADDRESS(MATCH(MAX(F1333:F1355),F1333:F1355,0)+6,6,1,1,\"Damage Scenarios\")))","v":0},{"$f":"CELL(\"contents\",INDIRECT(ADDRESS(MATCH(MAX(G1333:G1355),G1333:G1355,0)+6,6,1,1,\"Damage Scenarios\")))","v":0},{"$f":"CELL(\"contents\",INDIRECT(ADDRESS(MATCH(MAX(H1333:H1355),H1333:H1355,0)+6,6,1,1,\"Damage Scenarios\")))","v":0},{"$f":"CELL(\"contents\",INDIRECT(ADDRESS(MATCH(MAX(I1333:I1355),I1333:I1355,0)+6,6,1,1,\"Damage Scenarios\")))","v":0},{"$f":"CELL(\"contents\",INDIRECT(ADDRESS(MATCH(MAX(J1333:J1355),J1333:J1355,0)+6,6,1,1,\"Damage Scenarios\")))","v":0},{"$f":"CELL(\"contents\",INDIRECT(ADDRESS(MATCH(MAX(K1333:K1355),K1333:K1355,0)+6,6,1,1,\"Damage Scenarios\")))","v":0},{"$f":"CELL(\"contents\",INDIRECT(ADDRESS(MATCH(MAX(L1333:L1355),L1333:L1355,0)+6,6,1,1,\"Damage Scenarios\")))","v":0},{"$f":"CELL(\"contents\",INDIRECT(ADDRESS(MATCH(MAX(M1333:M1355),M1333:M1355,0)+6,6,1,1,\"Damage Scenarios\")))","v":0},{"$f":"CELL(\"contents\",INDIRECT(ADDRESS(MATCH(MAX(N1333:N1355),N1333:N1355,0)+6,6,1,1,\"Damage Scenarios\")))","v":0},{"$f":"CELL(\"contents\",INDIRECT(ADDRESS(MATCH(MAX(O1333:O1355),O1333:O1355,0)+6,6,1,1,\"Damage Scenarios\")))","v":0},{"$f":"CELL(\"contents\",INDIRECT(ADDRESS(MATCH(MAX(P1333:P1355),P1333:P1355,0)+6,6,1,1,\"Damage Scenarios\")))","v":0},{"$f":"CELL(\"contents\",INDIRECT(ADDRESS(MATCH(MAX(Q1333:Q1355),Q1333:Q1355,0)+6,6,1,1,\"Damage Scenarios\")))","v":0},{"$f":"CELL(\"contents\",INDIRECT(ADDRESS(MATCH(MAX(R1333:R1355),R1333:R1355,0)+6,6,1,1,\"Damage Scenarios\")))","v":0},{"$f":"CELL(\"contents\",INDIRECT(ADDRESS(MATCH(MAX(S1333:S1355),S1333:S1355,0)+6,6,1,1,\"Damage Scenarios\")))","v":0},{"$f":"CELL(\"contents\",INDIRECT(ADDRESS(MATCH(MAX(T1333:T1355),T1333:T1355,0)+6,6,1,1,\"Damage Scenarios\")))","v":0},{"$f":"CELL(\"contents\",INDIRECT(ADDRESS(MATCH(MAX(U1333:U1355),U1333:U1355,0)+6,6,1,1,\"Damage Scenarios\")))","v":0},{"$f":"CELL(\"contents\",INDIRECT(ADDRESS(MATCH(MAX(V1333:V1355),V1333:V1355,0)+6,6,1,1,\"Damage Scenarios\")))","v":0},{"$f":"CELL(\"contents\",INDIRECT(ADDRESS(MATCH(MAX(W1333:W1355),W1333:W1355,0)+6,6,1,1,\"Damage Scenarios\")))","v":0},{"$f":"CELL(\"contents\",INDIRECT(ADDRESS(MATCH(MAX(X1333:X1355),X1333:X1355,0)+6,6,1,1,\"Damage Scenarios\")))","v":0}]
[{"$nulls":3},"Fight from Range?",{"$f":"CELL(\"contents\",INDIRECT(ADDRESS(MATCH(MAX(E1333:E1355),E1333:E1355,0)+6,9,1,1,\"Damage Scenarios\")))","v":1},{"$f":"CELL(\"contents\",INDIRECT(ADDRESS(MATCH(MAX(F1333:F1355),F1333:F1355,0)+6,9,1,1,\"Damage Scenarios\")))","v":1},{"$f":"CELL(\"contents\",INDIRECT(ADDRESS(MATCH(MAX(G1333:G1355),G1333:G1355,0)+6,9,1,1,\"Damage Scenarios\")))","v":1},{"$f":"CELL(\"contents\",INDIRECT(ADDRESS(MATCH(MAX(H1333:H1355),H1333:H1355,0)+6,9,1,1,\"Damage Scenarios\")))","v":1},{"$f":"CELL(\"contents\",INDIRECT(ADDRESS(MATCH(MAX(I1333:I1355),I1333:I1355,0)+6,9,1,1,\"Damage Scenarios\")))","v":1},{"$f":"CELL(\"contents\",INDIRECT(ADDRESS(MATCH(MAX(J1333:J1355),J1333:J1355,0)+6,9,1,1,\"Damage Scenarios\")))","v":1},{"$f":"CELL(\"contents\",INDIRECT(ADDRESS(MATCH(MAX(K1333:K1355),K1333:K1355,0)+6,9,1,1,\"Damage Scenarios\")))","v":1},{"$f":"CELL(\"contents\",INDIRECT(ADDRESS(MATCH(MAX(L1333:L1355),L1333:L1355,0)+6,9,1,1,\"Damage Scenarios\")))","v":1},{"$f":"CELL(\"contents\",INDIRECT(ADDRESS(MATCH(MAX(M1333:M1355),M1333:M1355,0)+6,9,1,1,\"Damage Scenarios\")))","v":1},{"$f":"CELL(\"contents\",INDIRECT(ADDRESS(MATCH(MAX(N1333:N1355),N1333:N1355,0)+6,9,1,1,\"Damage Scenarios\")))","v":1},{"$f":"CELL(\"contents\",INDIRECT(ADDRESS(MATCH(MAX(O1333:O1355),O1333:O1355,0)+6,9,1,1,\"Damage Scenarios\")))","v":1},{"$f":"CELL(\"contents\",INDIRECT(ADDRESS(MATCH(MAX(P1333:P1355),P1333:P1355,0)+6,9,1,1,\"Damage Scenarios\")))","v":1},{"$f":"CELL(\"contents\",INDIRECT(ADDRESS(MATCH(MAX(Q1333:Q1355),Q1333:Q1355,0)+6,9,1,1,\"Damage Scenarios\")))","v":1},{"$f":"CELL(\"contents\",INDIRECT(ADDRESS(MATCH(MAX(R1333:R1355),R1333:R1355,0)+6,9,1,1,\"Damage Scenarios\")))","v":1},{"$f":"CELL(\"contents\",INDIRECT(ADDRESS(MATCH(MAX(S1333:S1355),S1333:S1355,0)+6,9,1,1,\"Damage Scenarios\")))","v":1},{"$f":"CELL(\"contents\",INDIRECT(ADDRESS(MATCH(MAX(T1333:T1355),T1333:T1355,0)+6,9,1,1,\"Damage Scenarios\")))","v":1},{"$f":"CELL(\"contents\",INDIRECT(ADDRESS(MATCH(MAX(U1333:U1355),U1333:U1355,0)+6,9,1,1,\"Damage Scenarios\")))","v":1},{"$f":"CELL(\"contents\",INDIRECT(ADDRESS(MATCH(MAX(V1333:V1355),V1333:V1355,0)+6,9,1,1,\"Damage Scenarios\")))","v":1},{"$f":"CELL(\"contents\",INDIRECT(ADDRESS(MATCH(MAX(W1333:W1355),W1333:W1355,0)+6,9,1,1,\"Damage Scenarios\")))","v":1},{"$f":"CELL(\"contents\",INDIRECT(ADDRESS(MATCH(MAX(X1333:X1355),X1333:X1355,0)+6,9,1,1,\"Damage Scenarios\")))","v":1}]
[{"$nulls":3},"Main attack scenario (M#)",{"$f":"CELL(\"contents\",INDIRECT(ADDRESS(MATCH(MAX(E1333:E1355),E1333:E1355,0)+6,10,1,1,\"Damage Scenarios\")))","v":5},{"$f":"CELL(\"contents\",INDIRECT(ADDRESS(MATCH(MAX(F1333:F1355),F1333:F1355,0)+6,10,1,1,\"Damage Scenarios\")))","v":5},{"$f":"CELL(\"contents\",INDIRECT(ADDRESS(MATCH(MAX(G1333:G1355),G1333:G1355,0)+6,10,1,1,\"Damage Scenarios\")))","v":5},{"$f":"CELL(\"contents\",INDIRECT(ADDRESS(MATCH(MAX(H1333:H1355),H1333:H1355,0)+6,10,1,1,\"Damage Scenarios\")))","v":5},{"$f":"CELL(\"contents\",INDIRECT(ADDRESS(MATCH(MAX(I1333:I1355),I1333:I1355,0)+6,10,1,1,\"Damage Scenarios\")))","v":5},{"$f":"CELL(\"contents\",INDIRECT(ADDRESS(MATCH(MAX(J1333:J1355),J1333:J1355,0)+6,10,1,1,\"Damage Scenarios\")))","v":5},{"$f":"CELL(\"contents\",INDIRECT(ADDRESS(MATCH(MAX(K1333:K1355),K1333:K1355,0)+6,10,1,1,\"Damage Scenarios\")))","v":5},{"$f":"CELL(\"contents\",INDIRECT(ADDRESS(MATCH(MAX(L1333:L1355),L1333:L1355,0)+6,10,1,1,\"Damage Scenarios\")))","v":5},{"$f":"CELL(\"contents\",INDIRECT(ADDRESS(MATCH(MAX(M1333:M1355),M1333:M1355,0)+6,10,1,1,\"Damage Scenarios\")))","v":5},{"$f":"CELL(\"contents\",INDIRECT(ADDRESS(MATCH(MAX(N1333:N1355),N1333:N1355,0)+6,10,1,1,\"Damage Scenarios\")))","v":5},{"$f":"CELL(\"contents\",INDIRECT(ADDRESS(MATCH(MAX(O1333:O1355),O1333:O1355,0)+6,10,1,1,\"Damage Scenarios\")))","v":5},{"$f":"CELL(\"contents\",INDIRECT(ADDRESS(MATCH(MAX(P1333:P1355),P1333:P1355,0)+6,10,1,1,\"Damage Scenarios\")))","v":5},{"$f":"CELL(\"contents\",INDIRECT(ADDRESS(MATCH(MAX(Q1333:Q1355),Q1333:Q1355,0)+6,10,1,1,\"Damage Scenarios\")))","v":5},{"$f":"CELL(\"contents\",INDIRECT(ADDRESS(MATCH(MAX(R1333:R1355),R1333:R1355,0)+6,10,1,1,\"Damage Scenarios\")))","v":5},{"$f":"CELL(\"contents\",INDIRECT(ADDRESS(MATCH(MAX(S1333:S1355),S1333:S1355,0)+6,10,1,1,\"Damage Scenarios\")))","v":5},{"$f":"CELL(\"contents\",INDIRECT(ADDRESS(MATCH(MAX(T1333:T1355),T1333:T1355,0)+6,10,1,1,\"Damage Scenarios\")))","v":5},{"$f":"CELL(\"contents\",INDIRECT(ADDRESS(MATCH(MAX(U1333:U1355),U1333:U1355,0)+6,10,1,1,\"Damage Scenarios\")))","v":5},{"$f":"CELL(\"contents\",INDIRECT(ADDRESS(MATCH(MAX(V1333:V1355),V1333:V1355,0)+6,10,1,1,\"Damage Scenarios\")))","v":5},{"$f":"CELL(\"contents\",INDIRECT(ADDRESS(MATCH(MAX(W1333:W1355),W1333:W1355,0)+6,10,1,1,\"Damage Scenarios\")))","v":5},{"$f":"CELL(\"contents\",INDIRECT(ADDRESS(MATCH(MAX(X1333:X1355),X1333:X1355,0)+6,10,1,1,\"Damage Scenarios\")))","v":5}]
[{"$nulls":3},"Bonus attack scenario (B#)",{"$f":"CELL(\"contents\",INDIRECT(ADDRESS(MATCH(MAX(E1333:E1355),E1333:E1355,0)+6,11,1,1,\"Damage Scenarios\")))","v":10},{"$f":"CELL(\"contents\",INDIRECT(ADDRESS(MATCH(MAX(F1333:F1355),F1333:F1355,0)+6,11,1,1,\"Damage Scenarios\")))","v":10},{"$f":"CELL(\"contents\",INDIRECT(ADDRESS(MATCH(MAX(G1333:G1355),G1333:G1355,0)+6,11,1,1,\"Damage Scenarios\")))","v":10},{"$f":"CELL(\"contents\",INDIRECT(ADDRESS(MATCH(MAX(H1333:H1355),H1333:H1355,0)+6,11,1,1,\"Damage Scenarios\")))","v":10},{"$f":"CELL(\"contents\",INDIRECT(ADDRESS(MATCH(MAX(I1333:I1355),I1333:I1355,0)+6,11,1,1,\"Damage Scenarios\")))","v":10},{"$f":"CELL(\"contents\",INDIRECT(ADDRESS(MATCH(MAX(J1333:J1355),J1333:J1355,0)+6,11,1,1,\"Damage Scenarios\")))","v":10},{"$f":"CELL(\"contents\",INDIRECT(ADDRESS(MATCH(MAX(K1333:K1355),K1333:K1355,0)+6,11,1,1,\"Damage Scenarios\")))","v":10},{"$f":"CELL(\"contents\",INDIRECT(ADDRESS(MATCH(MAX(L1333:L1355),L1333:L1355,0)+6,11,1,1,\"Damage Scenarios\")))","v":10},{"$f":"CELL(\"contents\",INDIRECT(ADDRESS(MATCH(MAX(M1333:M1355),M1333:M1355,0)+6,11,1,1,\"Damage Scenarios\")))","v":10},{"$f":"CELL(\"contents\",INDIRECT(ADDRESS(MATCH(MAX(N1333:N1355),N1333:N1355,0)+6,11,1,1,\"Damage Scenarios\")))","v":10},{"$f":"CELL(\"contents\",INDIRECT(ADDRESS(MATCH(MAX(O1333:O1355),O1333:O1355,0)+6,11,1,1,\"Damage Scenarios\")))","v":10},{"$f":"CELL(\"contents\",INDIRECT(ADDRESS(MATCH(MAX(P1333:P1355),P1333:P1355,0)+6,11,1,1,\"Damage Scenarios\")))","v":10},{"$f":"CELL(\"contents\",INDIRECT(ADDRESS(MATCH(MAX(Q1333:Q1355),Q1333:Q1355,0)+6,11,1,1,\"Damage Scenarios\")))","v":10},{"$f":"CELL(\"contents\",INDIRECT(ADDRESS(MATCH(MAX(R1333:R1355),R1333:R1355,0)+6,11,1,1,\"Damage Scenarios\")))","v":10},{"$f":"CELL(\"contents\",INDIRECT(ADDRESS(MATCH(MAX(S1333:S1355),S1333:S1355,0)+6,11,1,1,\"Damage Scenarios\")))","v":10},{"$f":"CELL(\"contents\",INDIRECT(ADDRESS(MATCH(MAX(T1333:T1355),T1333:T1355,0)+6,11,1,1,\"Damage Scenarios\")))","v":10},{"$f":"CELL(\"contents\",INDIRECT(ADDRESS(MATCH(MAX(U1333:U1355),U1333:U1355,0)+6,11,1,1,\"Damage Scenarios\")))","v":10},{"$f":"CELL(\"contents\",INDIRECT(ADDRESS(MATCH(MAX(V1333:V1355),V1333:V1355,0)+6,11,1,1,\"Damage Scenarios\")))","v":10},{"$f":"CELL(\"contents\",INDIRECT(ADDRESS(MATCH(MAX(W1333:W1355),W1333:W1355,0)+6,11,1,1,\"Damage Scenarios\")))","v":10},{"$f":"CELL(\"contents\",INDIRECT(ADDRESS(MATCH(MAX(X1333:X1355),X1333:X1355,0)+6,11,1,1,\"Damage Scenarios\")))","v":10}]
[{"$nulls":3},"Opp attack scenario (O#)",{"$f":"CELL(\"contents\",INDIRECT(ADDRESS(MATCH(MAX(E1333:E1355),E1333:E1355,0)+6,12,1,1,\"Damage Scenarios\")))","v":0},{"$f":"CELL(\"contents\",INDIRECT(ADDRESS(MATCH(MAX(F1333:F1355),F1333:F1355,0)+6,12,1,1,\"Damage Scenarios\")))","v":0},{"$f":"CELL(\"contents\",INDIRECT(ADDRESS(MATCH(MAX(G1333:G1355),G1333:G1355,0)+6,12,1,1,\"Damage Scenarios\")))","v":0},{"$f":"CELL(\"contents\",INDIRECT(ADDRESS(MATCH(MAX(H1333:H1355),H1333:H1355,0)+6,12,1,1,\"Damage Scenarios\")))","v":0},{"$f":"CELL(\"contents\",INDIRECT(ADDRESS(MATCH(MAX(I1333:I1355),I1333:I1355,0)+6,12,1,1,\"Damage Scenarios\")))","v":0},{"$f":"CELL(\"contents\",INDIRECT(ADDRESS(MATCH(MAX(J1333:J1355),J1333:J1355,0)+6,12,1,1,\"Damage Scenarios\")))","v":0},{"$f":"CELL(\"contents\",INDIRECT(ADDRESS(MATCH(MAX(K1333:K1355),K1333:K1355,0)+6,12,1,1,\"Damage Scenarios\")))","v":0},{"$f":"CELL(\"contents\",INDIRECT(ADDRESS(MATCH(MAX(L1333:L1355),L1333:L1355,0)+6,12,1,1,\"Damage Scenarios\")))","v":0},{"$f":"CELL(\"contents\",INDIRECT(ADDRESS(MATCH(MAX(M1333:M1355),M1333:M1355,0)+6,12,1,1,\"Damage Scenarios\")))","v":0},{"$f":"CELL(\"contents\",INDIRECT(ADDRESS(MATCH(MAX(N1333:N1355),N1333:N1355,0)+6,12,1,1,\"Damage Scenarios\")))","v":0},{"$f":"CELL(\"contents\",INDIRECT(ADDRESS(MATCH(MAX(O1333:O1355),O1333:O1355,0)+6,12,1,1,\"Damage Scenarios\")))","v":0},{"$f":"CELL(\"contents\",INDIRECT(ADDRESS(MATCH(MAX(P1333:P1355),P1333:P1355,0)+6,12,1,1,\"Damage Scenarios\")))","v":0},{"$f":"CELL(\"contents\",INDIRECT(ADDRESS(MATCH(MAX(Q1333:Q1355),Q1333:Q1355,0)+6,12,1,1,\"Damage Scenarios\")))","v":0},{"$f":"CELL(\"contents\",INDIRECT(ADDRESS(MATCH(MAX(R1333:R1355),R1333:R1355,0)+6,12,1,1,\"Damage Scenarios\")))","v":0},{"$f":"CELL(\"contents\",INDIRECT(ADDRESS(MATCH(MAX(S1333:S1355),S1333:S1355,0)+6,12,1,1,\"Damage Scenarios\")))","v":0},{"$f":"CELL(\"contents\",INDIRECT(ADDRESS(MATCH(MAX(T1333:T1355),T1333:T1355,0)+6,12,1,1,\"Damage Scenarios\")))","v":0},{"$f":"CELL(\"contents\",INDIRECT(ADDRESS(MATCH(MAX(U1333:U1355),U1333:U1355,0)+6,12,1,1,\"Damage Scenarios\")))","v":0},{"$f":"CELL(\"contents\",INDIRECT(ADDRESS(MATCH(MAX(V1333:V1355),V1333:V1355,0)+6,12,1,1,\"Damage Scenarios\")))","v":0},{"$f":"CELL(\"contents\",INDIRECT(ADDRESS(MATCH(MAX(W1333:W1355),W1333:W1355,0)+6,12,1,1,\"Damage Scenarios\")))","v":0},{"$f":"CELL(\"contents\",INDIRECT(ADDRESS(MATCH(MAX(X1333:X1355),X1333:X1355,0)+6,12,1,1,\"Damage Scenarios\")))","v":0}]
[{"$nulls":4}," "]
[{"$nulls":3},"main attack damage only",{"$f":"CELL(\"contents\",INDIRECT(ADDRESS(E1369+MATCH(\"Main Attack Scenarios\",$D1:$D1522,0),4+E6,1,1)))","v":4.4},{"$f":"CELL(\"contents\",INDIRECT(ADDRESS(F1369+MATCH(\"Main Attack Scenarios\",$D1:$D1522,0),4+F6,1,1)))","v":4.4},{"$f":"CELL(\"contents\",INDIRECT(ADDRESS(G1369+MATCH(\"Main Attack Scenarios\",$D1:$D1522,0),4+G6,1,1)))","v":4.075},{"$f":"CELL(\"contents\",INDIRECT(ADDRESS(H1369+MATCH(\"Main Attack Scenarios\",$D1:$D1522,0),4+H6,1,1)))","v":4.075},{"$f":"CELL(\"contents\",INDIRECT(ADDRESS(I1369+MATCH(\"Main Attack Scenarios\",$D1:$D1522,0),4+I6,1,1)))","v":4.4},{"$f":"CELL(\"contents\",INDIRECT(ADDRESS(J1369+MATCH(\"Main Attack Scenarios\",$D1:$D1522,0),4+J6,1,1)))","v":4.075},{"$f":"CELL(\"contents\",INDIRECT(ADDRESS(K1369+MATCH(\"Main Attack Scenarios\",$D1:$D1522,0),4+K6,1,1)))","v":4.075},{"$f":"CELL(\"contents\",INDIRECT(ADDRESS(L1369+MATCH(\"Main Attack Scenarios\",$D1:$D1522,0),4+L6,1,1)))","v":4.075},{"$f":"CELL(\"contents\",INDIRECT(ADDRESS(M1369+MATCH(\"Main Attack Scenarios\",$D1:$D1522,0),4+M6,1,1)))","v":4.075},{"$f":"CELL(\"contents\",INDIRECT(ADDRESS(N1369+MATCH(\"Main Attack Scenarios\",$D1:$D1522,0),4+N6,1,1)))","v":4.075},{"$f":"CELL(\"contents\",INDIRECT(ADDRESS(O1369+MATCH(\"Main Attack Scenarios\",$D1:$D1522,0),4+O6,1,1)))","v":4.075},{"$f":"CELL(\"contents\",INDIRECT(ADDRESS(P1369+MATCH(\"Main Attack Scenarios\",$D1:$D1522,0),4+P6,1,1)))","v":3.75},{"$f":"CELL(\"contents\",INDIRECT(ADDRESS(Q1369+MATCH(\"Main Attack Scenarios\",$D1:$D1522,0),4+Q6,1,1)))","v":4.075},{"$f":"CELL(\"contents\",INDIRECT(ADDRESS(R1369+MATCH(\"Main Attack Scenarios\",$D1:$D1522,0),4+R6,1,1)))","v":4.075},{"$f":"CELL(\"contents\",INDIRECT(ADDRESS(S1369+MATCH(\"Main Attack Scenarios\",$D1:$D1522,0),4+S6,1,1)))","v":3.75},{"$f":"CELL(\"contents\",INDIRECT(ADDRESS(T1369+MATCH(\"Main Attack Scenarios\",$D1:$D1522,0),4+T6,1,1)))","v":3.75},{"$f":"CELL(\"contents\",INDIRECT(ADDRESS(U1369+MATCH(\"Main Attack Scenarios\",$D1:$D1522,0),4+U6,1,1)))","v":4.075},{"$f":"CELL(\"contents\",INDIRECT(ADDRESS(V1369+MATCH(\"Main Attack Scenarios\",$D1:$D1522,0),4+V6,1,1)))","v":3.75},{"$f":"CELL(\"contents\",INDIRECT(ADDRESS(W1369+MATCH(\"Main Attack Scenarios\",$D1:$D1522,0),4+W6,1,1)))","v":3.75},{"$f":"CELL(\"contents\",INDIRECT(ADDRESS(X1369+MATCH(\"Main Attack Scenarios\",$D1:$D1522,0),4+X6,1,1)))","v":3.75}]
[{"$nulls":3},"bonus attack damage only",{"$f":"CELL(\"contents\",INDIRECT(ADDRESS(E1370+MATCH(\"Bonus Attack Scenarios:\",$D1:$D1522,0),4+E6,1,1)))","v":0},{"$f":"CELL(\"contents\",INDIRECT(ADDRESS(F1370+MATCH(\"Bonus Attack Scenarios:\",$D1:$D1522,0),4+F6,1,1)))","v":0},{"$f":"CELL(\"contents\",INDIRECT(ADDRESS(G1370+MATCH(\"Bonus Attack Scenarios:\",$D1:$D1522,0),4+G6,1,1)))","v":0},{"$f":"CELL(\"contents\",INDIRECT(ADDRESS(H1370+MATCH(\"Bonus Attack Scenarios:\",$D1:$D1522,0),4+H6,1,1)))","v":0},{"$f":"CELL(\"contents\",INDIRECT(ADDRESS(I1370+MATCH(\"Bonus Attack Scenarios:\",$D1:$D1522,0),4+I6,1,1)))","v":0},{"$f":"CELL(\"contents\",INDIRECT(ADDRESS(J1370+MATCH(\"Bonus Attack Scenarios:\",$D1:$D1522,0),4+J6,1,1)))","v":0},{"$f":"CELL(\"contents\",INDIRECT(ADDRESS(K1370+MATCH(\"Bonus Attack Scenarios:\",$D1:$D1522,0),4+K6,1,1)))","v":0},{"$f":"CELL(\"contents\",INDIRECT(ADDRESS(L1370+MATCH(\"Bonus Attack Scenarios:\",$D1:$D1522,0),4+L6,1,1)))","v":0},{"$f":"CELL(\"contents\",INDIRECT(ADDRESS(M1370+MATCH(\"Bonus Attack Scenarios:\",$D1:$D1522,0),4+M6,1,1)))","v":0},{"$f":"CELL(\"contents\",INDIRECT(ADDRESS(N1370+MATCH(\"Bonus Attack Scenarios:\",$D1:$D1522,0),4+N6,1,1)))","v":0},{"$f":"CELL(\"contents\",INDIRECT(ADDRESS(O1370+MATCH(\"Bonus Attack Scenarios:\",$D1:$D1522,0),4+O6,1,1)))","v":0},{"$f":"CELL(\"contents\",INDIRECT(ADDRESS(P1370+MATCH(\"Bonus Attack Scenarios:\",$D1:$D1522,0),4+P6,1,1)))","v":0},{"$f":"CELL(\"contents\",INDIRECT(ADDRESS(Q1370+MATCH(\"Bonus Attack Scenarios:\",$D1:$D1522,0),4+Q6,1,1)))","v":0},{"$f":"CELL(\"contents\",INDIRECT(ADDRESS(R1370+MATCH(\"Bonus Attack Scenarios:\",$D1:$D1522,0),4+R6,1,1)))","v":0},{"$f":"CELL(\"contents\",INDIRECT(ADDRESS(S1370+MATCH(\"Bonus Attack Scenarios:\",$D1:$D1522,0),4+S6,1,1)))","v":0},{"$f":"CELL(\"contents\",INDIRECT(ADDRESS(T1370+MATCH(\"Bonus Attack Scenarios:\",$D1:$D1522,0),4+T6,1,1)))","v":0},{"$f":"CELL(\"contents\",INDIRECT(ADDRESS(U1370+MATCH(\"Bonus Attack Scenarios:\",$D1:$D1522,0),4+U6,1,1)))","v":0},{"$f":"CELL(\"contents\",INDIRECT(ADDRESS(V1370+MATCH(\"Bonus Attack Scenarios:\",$D1:$D1522,0),4+V6,1,1)))","v":0},{"$f":"CELL(\"contents\",INDIRECT(ADDRESS(W1370+MATCH(\"Bonus Attack Scenarios:\",$D1:$D1522,0),4+W6,1,1)))","v":0},{"$f":"CELL(\"contents\",INDIRECT(ADDRESS(X1370+MATCH(\"Bonus Attack Scenarios:\",$D1:$D1522,0),4+X6,1,1)))","v":0}]
[{"$nulls":3},"opp attack damage only",{"$f":"CELL(\"contents\",INDIRECT(ADDRESS(E1371+MATCH(\"Opportunity Attack Scenarios:\",$D1:$D1522,0),4+E6,1,1)))","v":0},{"$f":"CELL(\"contents\",INDIRECT(ADDRESS(F1371+MATCH(\"Opportunity Attack Scenarios:\",$D1:$D1522,0),4+F6,1,1)))","v":0},{"$f":"CELL(\"contents\",INDIRECT(ADDRESS(G1371+MATCH(\"Opportunity Attack Scenarios:\",$D1:$D1522,0),4+G6,1,1)))","v":0},{"$f":"CELL(\"contents\",INDIRECT(ADDRESS(H1371+MATCH(\"Opportunity Attack Scenarios:\",$D1:$D1522,0),4+H6,1,1)))","v":0},{"$f":"CELL(\"contents\",INDIRECT(ADDRESS(I1371+MATCH(\"Opportunity Attack Scenarios:\",$D1:$D1522,0),4+I6,1,1)))","v":0},{"$f":"CELL(\"contents\",INDIRECT(ADDRESS(J1371+MATCH(\"Opportunity Attack Scenarios:\",$D1:$D1522,0),4+J6,1,1)))","v":0},{"$f":"CELL(\"contents\",INDIRECT(ADDRESS(K1371+MATCH(\"Opportunity Attack Scenarios:\",$D1:$D1522,0),4+K6,1,1)))","v":0},{"$f":"CELL(\"contents\",INDIRECT(ADDRESS(L1371+MATCH(\"Opportunity Attack Scenarios:\",$D1:$D1522,0),4+L6,1,1)))","v":0},{"$f":"CELL(\"contents\",INDIRECT(ADDRESS(M1371+MATCH(\"Opportunity Attack Scenarios:\",$D1:$D1522,0),4+M6,1,1)))","v":0},{"$f":"CELL(\"contents\",INDIRECT(ADDRESS(N1371+MATCH(\"Opportunity Attack Scenarios:\",$D1:$D1522,0),4+N6,1,1)))","v":0},{"$f":"CELL(\"contents\",INDIRECT(ADDRESS(O1371+MATCH(\"Opportunity Attack Scenarios:\",$D1:$D1522,0),4+O6,1,1)))","v":0},{"$f":"CELL(\"contents\",INDIRECT(ADDRESS(P1371+MATCH(\"Opportunity Attack Scenarios:\",$D1:$D1522,0),4+P6,1,1)))","v":0},{"$f":"CELL(\"contents\",INDIRECT(ADDRESS(Q1371+MATCH(\"Opportunity Attack Scenarios:\",$D1:$D1522,0),4+Q6,1,1)))","v":0},{"$f":"CELL(\"contents\",INDIRECT(ADDRESS(R1371+MATCH(\"Opportunity Attack Scenarios:\",$D1:$D1522,0),4+R6,1,1)))","v":0},{"$f":"CELL(\"contents\",INDIRECT(ADDRESS(S1371+MATCH(\"Opportunity Attack Scenarios:\",$D1:$D1522,0),4+S6,1,1)))","v":0},{"$f":"CELL(\"contents\",INDIRECT(ADDRESS(T1371+MATCH(\"Opportunity Attack Scenarios:\",$D1:$D1522,0),4+T6,1,1)))","v":0},{"$f":"CELL(\"contents\",INDIRECT(ADDRESS(U1371+MATCH(\"Opportunity Attack Scenarios:\",$D1:$D1522,0),4+U6,1,1)))","v":0},{"$f":"CELL(\"contents\",INDIRECT(ADDRESS(V1371+MATCH(\"Opportunity Attack Scenarios:\",$D1:$D1522,0),4+V6,1,1)))","v":0},{"$f":"CELL(\"contents\",INDIRECT(ADDRESS(W1371+MATCH(\"Opportunity Attack Scenarios:\",$D1:$D1522,0),4+W6,1,1)))","v":0},{"$f":"CELL(\"contents\",INDIRECT(ADDRESS(X1371+MATCH(\"Opportunity Attack Scenarios:\",$D1:$D1522,0),4+X6,1,1)))","v":0}]
[{"$nulls":3},"number of main attacks (adj for spells)",{"$f":"CELL(\"contents\",INDIRECT(ADDRESS(E1369+12+MATCH(\"Main Attack Scenarios\",$D1:$D1522,0),4+E6,1,1)))","v":1},{"$f":"CELL(\"contents\",INDIRECT(ADDRESS(F1369+12+MATCH(\"Main Attack Scenarios\",$D1:$D1522,0),4+F6,1,1)))","v":1},{"$f":"CELL(\"contents\",INDIRECT(ADDRESS(G1369+12+MATCH(\"Main Attack Scenarios\",$D1:$D1522,0),4+G6,1,1)))","v":1},{"$f":"CELL(\"contents\",INDIRECT(ADDRESS(H1369+12+MATCH(\"Main Attack Scenarios\",$D1:$D1522,0),4+H6,1,1)))","v":1},{"$f":"CELL(\"contents\",INDIRECT(ADDRESS(I1369+12+MATCH(\"Main Attack Scenarios\",$D1:$D1522,0),4+I6,1,1)))","v":1},{"$f":"CELL(\"contents\",INDIRECT(ADDRESS(J1369+12+MATCH(\"Main Attack Scenarios\",$D1:$D1522,0),4+J6,1,1)))","v":1},{"$f":"CELL(\"contents\",INDIRECT(ADDRESS(K1369+12+MATCH(\"Main Attack Scenarios\",$D1:$D1522,0),4+K6,1,1)))","v":1},{"$f":"CELL(\"contents\",INDIRECT(ADDRESS(L1369+12+MATCH(\"Main Attack Scenarios\",$D1:$D1522,0),4+L6,1,1)))","v":1},{"$f":"CELL(\"contents\",INDIRECT(ADDRESS(M1369+12+MATCH(\"Main Attack Scenarios\",$D1:$D1522,0),4+M6,1,1)))","v":1},{"$f":"CELL(\"contents\",INDIRECT(ADDRESS(N1369+12+MATCH(\"Main Attack Scenarios\",$D1:$D1522,0),4+N6,1,1)))","v":1},{"$f":"CELL(\"contents\",INDIRECT(ADDRESS(O1369+12+MATCH(\"Main Attack Scenarios\",$D1:$D1522,0),4+O6,1,1)))","v":1},{"$f":"CELL(\"contents\",INDIRECT(ADDRESS(P1369+12+MATCH(\"Main Attack Scenarios\",$D1:$D1522,0),4+P6,1,1)))","v":1},{"$f":"CELL(\"contents\",INDIRECT(ADDRESS(Q1369+12+MATCH(\"Main Attack Scenarios\",$D1:$D1522,0),4+Q6,1,1)))","v":1},{"$f":"CELL(\"contents\",INDIRECT(ADDRESS(R1369+12+MATCH(\"Main Attack Scenarios\",$D1:$D1522,0),4+R6,1,1)))","v":1},{"$f":"CELL(\"contents\",INDIRECT(ADDRESS(S1369+12+MATCH(\"Main Attack Scenarios\",$D1:$D1522,0),4+S6,1,1)))","v":1},{"$f":"CELL(\"contents\",INDIRECT(ADDRESS(T1369+12+MATCH(\"Main Attack Scenarios\",$D1:$D1522,0),4+T6,1,1)))","v":1},{"$f":"CELL(\"contents\",INDIRECT(ADDRESS(U1369+12+MATCH(\"Main Attack Scenarios\",$D1:$D1522,0),4+U6,1,1)))","v":1},{"$f":"CELL(\"contents\",INDIRECT(ADDRESS(V1369+12+MATCH(\"Main Attack Scenarios\",$D1:$D1522,0),4+V6,1,1)))","v":1},{"$f":"CELL(\"contents\",INDIRECT(ADDRESS(W1369+12+MATCH(\"Main Attack Scenarios\",$D1:$D1522,0),4+W6,1,1)))","v":1},{"$f":"CELL(\"contents\",INDIRECT(ADDRESS(X1369+12+MATCH(\"Main Attack Scenarios\",$D1:$D1522,0),4+X6,1,1)))","v":1}]
[{"$nulls":3},"number of bonus attacks (adj for spells)",{"$f":"CELL(\"contents\",INDIRECT(ADDRESS(E1370+28+MATCH(\"Bonus Attack Scenarios:\",$D1:$D1522,0),4+E6,1,1)))","v":0},{"$f":"CELL(\"contents\",INDIRECT(ADDRESS(F1370+28+MATCH(\"Bonus Attack Scenarios:\",$D1:$D1522,0),4+F6,1,1)))","v":0},{"$f":"CELL(\"contents\",INDIRECT(ADDRESS(G1370+28+MATCH(\"Bonus Attack Scenarios:\",$D1:$D1522,0),4+G6,1,1)))","v":0},{"$f":"CELL(\"contents\",INDIRECT(ADDRESS(H1370+28+MATCH(\"Bonus Attack Scenarios:\",$D1:$D1522,0),4+H6,1,1)))","v":0},{"$f":"CELL(\"contents\",INDIRECT(ADDRESS(I1370+28+MATCH(\"Bonus Attack Scenarios:\",$D1:$D1522,0),4+I6,1,1)))","v":0},{"$f":"CELL(\"contents\",INDIRECT(ADDRESS(J1370+28+MATCH(\"Bonus Attack Scenarios:\",$D1:$D1522,0),4+J6,1,1)))","v":0},{"$f":"CELL(\"contents\",INDIRECT(ADDRESS(K1370+28+MATCH(\"Bonus Attack Scenarios:\",$D1:$D1522,0),4+K6,1,1)))","v":0},{"$f":"CELL(\"contents\",INDIRECT(ADDRESS(L1370+28+MATCH(\"Bonus Attack Scenarios:\",$D1:$D1522,0),4+L6,1,1)))","v":0},{"$f":"CELL(\"contents\",INDIRECT(ADDRESS(M1370+28+MATCH(\"Bonus Attack Scenarios:\",$D1:$D1522,0),4+M6,1,1)))","v":0},{"$f":"CELL(\"contents\",INDIRECT(ADDRESS(N1370+28+MATCH(\"Bonus Attack Scenarios:\",$D1:$D1522,0),4+N6,1,1)))","v":0},{"$f":"CELL(\"contents\",INDIRECT(ADDRESS(O1370+28+MATCH(\"Bonus Attack Scenarios:\",$D1:$D1522,0),4+O6,1,1)))","v":0},{"$f":"CELL(\"contents\",INDIRECT(ADDRESS(P1370+28+MATCH(\"Bonus Attack Scenarios:\",$D1:$D1522,0),4+P6,1,1)))","v":0},{"$f":"CELL(\"contents\",INDIRECT(ADDRESS(Q1370+28+MATCH(\"Bonus Attack Scenarios:\",$D1:$D1522,0),4+Q6,1,1)))","v":0},{"$f":"CELL(\"contents\",INDIRECT(ADDRESS(R1370+28+MATCH(\"Bonus Attack Scenarios:\",$D1:$D1522,0),4+R6,1,1)))","v":0},{"$f":"CELL(\"contents\",INDIRECT(ADDRESS(S1370+28+MATCH(\"Bonus Attack Scenarios:\",$D1:$D1522,0),4+S6,1,1)))","v":0},{"$f":"CELL(\"contents\",INDIRECT(ADDRESS(T1370+28+MATCH(\"Bonus Attack Scenarios:\",$D1:$D1522,0),4+T6,1,1)))","v":0},{"$f":"CELL(\"contents\",INDIRECT(ADDRESS(U1370+28+MATCH(\"Bonus Attack Scenarios:\",$D1:$D1522,0),4+U6,1,1)))","v":0},{"$f":"CELL(\"contents\",INDIRECT(ADDRESS(V1370+28+MATCH(\"Bonus Attack Scenarios:\",$D1:$D1522,0),4+V6,1,1)))","v":0},{"$f":"CELL(\"contents\",INDIRECT(ADDRESS(W1370+28+MATCH(\"Bonus Attack Scenarios:\",$D1:$D1522,0),4+W6,1,1)))","v":0},{"$f":"CELL(\"contents\",INDIRECT(ADDRESS(X1370+28+MATCH(\"Bonus Attack Scenarios:\",$D1:$D1522,0),4+X6,1,1)))","v":0}]
[{"$nulls":3},"number of opp attacks (unaffected by spells)",{"$f":"CELL(\"contents\",INDIRECT(ADDRESS(IF(E1371<3,1,2)+7+MATCH(\"Opportunity Attack Scenarios:\",$D1:$D1522,0),4+E6,1,1)))","v":0.25},{"$f":"CELL(\"contents\",INDIRECT(ADDRESS(IF(F1371<3,1,2)+7+MATCH(\"Opportunity Attack Scenarios:\",$D1:$D1522,0),4+F6,1,1)))","v":0.25},{"$f":"CELL(\"contents\",INDIRECT(ADDRESS(IF(G1371<3,1,2)+7+MATCH(\"Opportunity Attack Scenarios:\",$D1:$D1522,0),4+G6,1,1)))","v":0.25},{"$f":"CELL(\"contents\",INDIRECT(ADDRESS(IF(H1371<3,1,2)+7+MATCH(\"Opportunity Attack Scenarios:\",$D1:$D1522,0),4+H6,1,1)))","v":0.25},{"$f":"CELL(\"contents\",INDIRECT(ADDRESS(IF(I1371<3,1,2)+7+MATCH(\"Opportunity Attack Scenarios:\",$D1:$D1522,0),4+I6,1,1)))","v":0.25},{"$f":"CELL(\"contents\",INDIRECT(ADDRESS(IF(J1371<3,1,2)+7+MATCH(\"Opportunity Attack Scenarios:\",$D1:$D1522,0),4+J6,1,1)))","v":0.25},{"$f":"CELL(\"contents\",INDIRECT(ADDRESS(IF(K1371<3,1,2)+7+MATCH(\"Opportunity Attack Scenarios:\",$D1:$D1522,0),4+K6,1,1)))","v":0.25},{"$f":"CELL(\"contents\",INDIRECT(ADDRESS(IF(L1371<3,1,2)+7+MATCH(\"Opportunity Attack Scenarios:\",$D1:$D1522,0),4+L6,1,1)))","v":0.25},{"$f":"CELL(\"contents\",INDIRECT(ADDRESS(IF(M1371<3,1,2)+7+MATCH(\"Opportunity Attack Scenarios:\",$D1:$D1522,0),4+M6,1,1)))","v":0.25},{"$f":"CELL(\"contents\",INDIRECT(ADDRESS(IF(N1371<3,1,2)+7+MATCH(\"Opportunity Attack Scenarios:\",$D1:$D1522,0),4+N6,1,1)))","v":0.25},{"$f":"CELL(\"contents\",INDIRECT(ADDRESS(IF(O1371<3,1,2)+7+MATCH(\"Opportunity Attack Scenarios:\",$D1:$D1522,0),4+O6,1,1)))","v":0.25},{"$f":"CELL(\"contents\",INDIRECT(ADDRESS(IF(P1371<3,1,2)+7+MATCH(\"Opportunity Attack Scenarios:\",$D1:$D1522,0),4+P6,1,1)))","v":0.25},{"$f":"CELL(\"contents\",INDIRECT(ADDRESS(IF(Q1371<3,1,2)+7+MATCH(\"Opportunity Attack Scenarios:\",$D1:$D1522,0),4+Q6,1,1)))","v":0.25},{"$f":"CELL(\"contents\",INDIRECT(ADDRESS(IF(R1371<3,1,2)+7+MATCH(\"Opportunity Attack Scenarios:\",$D1:$D1522,0),4+R6,1,1)))","v":0.25},{"$f":"CELL(\"contents\",INDIRECT(ADDRESS(IF(S1371<3,1,2)+7+MATCH(\"Opportunity Attack Scenarios:\",$D1:$D1522,0),4+S6,1,1)))","v":0.25},{"$f":"CELL(\"contents\",INDIRECT(ADDRESS(IF(T1371<3,1,2)+7+MATCH(\"Opportunity Attack Scenarios:\",$D1:$D1522,0),4+T6,1,1)))","v":0.25},{"$f":"CELL(\"contents\",INDIRECT(ADDRESS(IF(U1371<3,1,2)+7+MATCH(\"Opportunity Attack Scenarios:\",$D1:$D1522,0),4+U6,1,1)))","v":0.25},{"$f":"CELL(\"contents\",INDIRECT(ADDRESS(IF(V1371<3,1,2)+7+MATCH(\"Opportunity Attack Scenarios:\",$D1:$D1522,0),4+V6,1,1)))","v":0.25},{"$f":"CELL(\"contents\",INDIRECT(ADDRESS(IF(W1371<3,1,2)+7+MATCH(\"Opportunity Attack Scenarios:\",$D1:$D1522,0),4+W6,1,1)))","v":0.25},{"$f":"CELL(\"contents\",INDIRECT(ADDRESS(IF(X1371<3,1,2)+7+MATCH(\"Opportunity Attack Scenarios:\",$D1:$D1522,0),4+X6,1,1)))","v":0.25}]
[{"$nulls":3},"main action spell pct (repeated)",{"$f":"E287","v":0},0,0,0,0,0,0,0,0,0,0,0,0,0,0,0,0,0,0,0]
[{"$nulls":3},"bonus action spell pct (incl directed actions)",{"$f":"E288+E292","v":0},0,0,0,0,0,0,0,0,0,0,0,0,0,0,0,0,0,0,0]
[{"$nulls":3},"total main attacks (un-adjusted)",{"$f":"IF(E1379<1,E1376/(1-E1379),0)","v":1},{"$f":"IF(F1379<1,F1376/(1-F1379),0)","v":1},1,1,1,1,1,1,1,1,1,1,1,1,1,1,1,1,1,1]
[{"$nulls":3},"total bonus attacks (un-adjusted)",{"$f":"IF(E1380=1,0,E1377/(1-E1380))","v":0},{"$f":"IF(F1380=1,0,F1377/(1-F1380))","v":0},0,0,0,0,0,0,0,0,0,0,0,0,0,0,0,0,0,0]
[{"$nulls":3},"approx spell crits per turn (adj for spells)",{"$f":"IF(E1369=4,IF(E615,E620,IF(E641,1,0)),0)*E475*(1-E287)+IF(E1366=1,IF(E615,E620,IF(E641,1,0)),0)*E476*(1-E288-E292)*E565","v":0},0,0,0,0,0,0,0,0,0,0,0,0,0,0,0,0,0,0,0]
[{"$nulls":3},"pct of rounds with at least one main or haste hit",{"$f":"(1-E1379)*(1-(1-E456)^(E1381+E323))","v":0.65},0.65,0.6,0.6,0.65,0.6,0.6,0.6,0.6,0.6,0.6,0.55,0.6,0.6,0.55,0.55,0.6,0.55,0.55,0.55]
[{"$nulls":3},"pct of rounds with at least one bonus attack hit",{"$f":"(1-E1380)*(1-(1-E457)^E1382)","v":0},0,0,0,0,0,0,0,0,0,0,0,0,0,0,0,0,0,0,0]
[{"$nulls":3},"r1 region: rounds with both bonus and main attacks",{"$f":"MIN(1-E1379,1-E1380)","v":1},{"$f":"MIN(1-F1379,1-F1380)","v":1},1,1,1,1,1,1,1,1,1,1,1,1,1,1,1,1,1,1,null,"need to split this computation into regions of distinct"]
[{"$nulls":3},"r2 region: rounds with either bonus or main attacks",{"$f":"ABS(E1379-E1380)","v":0},{"$f":"ABS(F1379-F1380)","v":0},0,0,0,0,{"$f":"ABS(K1379-K1380)","v":0},0,0,0,0,0,0,0,0,0,0,0,0,0,null,"possibility: both main + bonus, one or the other, or neither."]
[{"$nulls":3},"r1 region hit rate for at least 1 attack (incl haste)",{"$f":"E1386*(1-(1-E456)^(E1381+E1382+E323))","v":0.65},0.65,0.6,0.6,0.65,0.6,0.6,0.6,0.6,0.6,0.6,0.55,0.6,0.6,0.55,0.55,0.6,0.55,0.55,0.55,null,"(includes haste)"]
[{"$nulls":3},"r2 region hit rate for at least 1 attack (incl haste)",{"$f":"E1387*(1-(1-E456)^(IF(E1380>E1379,E1381,E1382)+E323))","v":0},0,0,0,0,0,0,0,0,0,0,0,0,0,0,0,0,0,0,0]
[{"$nulls":3},"pct of rounds with at least one own-turn hit (incl spell attacks)",{"$f":"E1388+E1389","v":0.65},{"$f":"F1388+F1389","v":0.65},0.6,0.6,0.65,0.6,0.6,0.6,0.6,0.6,0.6,0.55,0.6,0.6,0.55,0.55,0.6,0.55,0.55,0.55]
[{"$nulls":3},"pct of rounds with at least one own-turn hit",{"$f":"IF(E1369=4,0,E1388+E1389)","v":0.65},{"$f":"IF(F1369=4,0,F1388+F1389)","v":0.65},0.6,0.6,0.65,0.6,0.6,0.6,0.6,0.6,0.6,0.55,0.6,0.6,0.55,0.55,0.6,0.55,0.55,0.55]
[{"$nulls":3},"pct of rounds with at least one main or haste miss",{"$f":"(1-E1379)*(1-E456^(E1381+E323))","v":0.35},0.35,0.4,0.4,0.35,0.4,0.4,0.4,0.4,0.4,0.4,0.44999999999999996,0.4,0.4,0.44999999999999996,0.44999999999999996,0.4,0.44999999999999996,0.44999999999999996,0.44999999999999996]
[{"$nulls":3},"pct of rounds with at least one bonus attack miss",{"$f":"(1-E1380)*(1-E457^E1382)","v":0},0,0,0,0,0,0,0,0,0,0,0,0,0,0,0,0,0,0,0]
[{"$nulls":3},"r1 region miss rate for at least 1 attack (incl haste)",{"$f":"E1386*(1-E456^(E1381+E1382+E323))","v":0.35},0.35,0.4,0.4,0.35,0.4,0.4,0.4,0.4,0.4,0.4,0.44999999999999996,0.4,0.4,0.44999999999999996,0.44999999999999996,0.4,0.44999999999999996,0.44999999999999996,0.44999999999999996]
[{"$nulls":3},"r2 region miss rate for at least 1 attack (incl haste)",{"$f":"E1387*(1-E456^(IF(E1380>E1379,E1381,E1382)+E323))","v":0},0,0,0,0,0,0,0,0,0,0,0,0,0,0,0,0,0,0,0]
[{"$nulls":3},"pct of rounds with at least one own-turn miss (incl spell attacks)",{"$f":"E1394+E1395","v":0.35},{"$f":"F1394+F1395","v":0.35},0.4,0.4,0.35,0.4,0.4,0.4,0.4,0.4,0.4,0.44999999999999996,0.4,0.4,0.44999999999999996,0.44999999999999996,0.4,0.44999999999999996,0.44999999999999996,0.44999999999999996]
[{"$nulls":3},"pct of rounds with at least one own-turn miss",{"$f":"IF(E1369=4,0,E1394+E1395)","v":0.35},{"$f":"IF(F1369=4,0,F1394+F1395)","v":0.35},0.4,0.4,0.35,0.4,0.4,0.4,0.4,0.4,0.4,0.44999999999999996,0.4,0.4,0.44999999999999996,0.44999999999999996,0.4,0.44999999999999996,0.44999999999999996,0.44999999999999996]
[]
[]
[{"$nulls":3},"DAMAGE PER ROUND",1,2,3,4,5,6,7,8,9,10,11,12,13,14,15,16,17,18,19,20]
[{"$nulls":3},"Damage Scenario Max Damage",{"$f":"MAX(E1333:E1355)","v":4.4},4.4,4.075,4.075,4.4,4.075,4.075,4.075,4.075,4.075,4.075,3.75,4.075,4.075,3.75,3.75,4.075,3.75,3.75,3.75]
[{"$nulls":3},"avg hasted action dmg (ranged vs. melee)",{"$f":"IF(E137>=1,E603,E532+E533)","v":0},0,0,0,0,0,0,0,0,0,0,0,0,0,0,0,0,0,0,0]
[{"$nulls":3},"bonus action spell damage",{"$f":"E695*E694+E725*E724+E735*E736+E713*E715+E744*E743","v":0},0,0,0,0,0,0,0,0,0,0,0,0,0,0,0,0,0,0,0]
[{"$nulls":3},"avg AOE damage per round",{"$f":"E754+E902+E762+E769+E679+E685","v":0},0,0,0,0,0,0,0,0,0,0,0,0,0,0,0,0,0,0,0]
[{"$nulls":3},"avg summons damage per round",{"$f":"E877","v":0},0,0,0,0,0,0,0,0,0,0,0,0,0,0,0,0,0,0,0]
[{"$nulls":3},"avg bonus Artifcer damage",{"$f":"E946","v":0},0,0,0,0,0,0,0,0,0,0,0,0,0,0,0,0,0,0,0]
[{"$nulls":3},"avg bonus Cleric damage",{"$f":"E967","v":0},0,0,0,0,0,0,0,0,0,0,0,0,0,0,0,0,0,0,0]
[{"$nulls":3},"avg bonus Druid damage",{"$f":"E1192","v":0},{"$f":"F1192","v":0},0,0,0,0,0,0,0,0,0,0,0,0,0,0,0,0,0,0]
[{"$nulls":3},"avg bonus Bard damage",{"$f":"E918","v":0},0,0,0,0,0,0,0,0,0,0,0,0,0,0,0,0,0,0,0]
[{"$nulls":3},"avg bonus Monk damage",{"$f":"E986","v":0},0,0,0,0,0,0,0,0,0,0,0,0,0,0,0,0,0,0,0]
[{"$nulls":3},"avg bonus Action Surge damage (not reduced by spells)",{"$f":"E1103*MAX(E1204:E1208)/('Base Numbers'!$C$5*'Base Numbers'!$C$6)","v":0},{"$f":"F1103*MAX(F1204:F1208)/('Base Numbers'!$C$5*'Base Numbers'!$C$6)","v":0},{"$f":"G1103*MAX(G1204:G1208)/('Base Numbers'!$C$5*'Base Numbers'!$C$6)","v":0},{"$f":"H1103*MAX(H1204:H1208)/('Base Numbers'!$C$5*'Base Numbers'!$C$6)","v":0},{"$f":"I1103*MAX(I1204:I1208)/('Base Numbers'!$C$5*'Base Numbers'!$C$6)","v":0},{"$f":"J1103*MAX(J1204:J1208)/('Base Numbers'!$C$5*'Base Numbers'!$C$6)","v":0},{"$f":"K1103*MAX(K1204:K1208)/('Base Numbers'!$C$5*'Base Numbers'!$C$6)","v":0},{"$f":"L1103*MAX(L1204:L1208)/('Base Numbers'!$C$5*'Base Numbers'!$C$6)","v":0},{"$f":"M1103*MAX(M1204:M1208)/('Base Numbers'!$C$5*'Base Numbers'!$C$6)","v":0},{"$f":"N1103*MAX(N1204:N1208)/('Base Numbers'!$C$5*'Base Numbers'!$C$6)","v":0},{"$f":"O1103*MAX(O1204:O1208)/('Base Numbers'!$C$5*'Base Numbers'!$C$6)","v":0},{"$f":"P1103*MAX(P1204:P1208)/('Base Numbers'!$C$5*'Base Numbers'!$C$6)","v":0},{"$f":"Q1103*MAX(Q1204:Q1208)/('Base Numbers'!$C$5*'Base Numbers'!$C$6)","v":0},{"$f":"R1103*MAX(R1204:R1208)/('Base Numbers'!$C$5*'Base Numbers'!$C$6)","v":0},{"$f":"S1103*MAX(S1204:S1208)/('Base Numbers'!$C$5*'Base Numbers'!$C$6)","v":0},{"$f":"T1103*MAX(T1204:T1208)/('Base Numbers'!$C$5*'Base Numbers'!$C$6)","v":0},{"$f":"U1103*MAX(U1204:U1208)/('Base Numbers'!$C$5*'Base Numbers'!$C$6)","v":0},{"$f":"V1103*MAX(V1204:V1208)/('Base Numbers'!$C$5*'Base Numbers'!$C$6)","v":0},{"$f":"W1103*MAX(W1204:W1208)/('Base Numbers'!$C$5*'Base Numbers'!$C$6)","v":0},{"$f":"X1103*MAX(X1204:X1208)/('Base Numbers'!$C$5*'Base Numbers'!$C$6)","v":0}]
[{"$nulls":3},"avg bonus Barbarian damage",{"$f":"E1014","v":0},0,0,0,0,0,0,0,0,0,0,0,0,0,0,0,0,0,0,0]
[{"$nulls":3},"avg bonus Rogue damage",{"$f":"E1054","v":0},0,0,0,0,0,0,0,0,0,0,0,0,0,0,0,0,0,0,0]
[{"$nulls":3},"avg bonus Ranger damage",{"$f":"E1100","v":0},0,0,0,0,0,0,0,0,0,0,0,0,0,0,0,0,0,0,0]
[{"$nulls":3},"avg bonus Fighter damage",{"$f":"E1138","v":0},0,0,0,0,0,0,0,0,0,0,0,0,0,0,0,0,0,0,0]
[{"$nulls":3},"avg bonus Wizard damage",{"$f":"E1144+E1152","v":0},0,0,0,0,0,0,0,0,0,0,0,0,0,0,0,0,0,0,0]
[{"$nulls":3},"avg bonus Warlock damage",{"$f":"E1168","v":0},0,0,0,0,0,0,0,0,0,0,0,0,0,0,0,0,0,0,0]
[{"$nulls":3},"avg bonus Sorcerer damage",{"$f":"E1198","v":0},0,0,0,0,0,0,0,0,0,0,0,0,0,0,0,0,0,0,0]
[{"$nulls":3},"avg bonus Feat damage ",{"$f":"E889","v":0},0,0,0,0,0,0,0,0,0,0,0,0,0,0,0,0,0,0,0]
[]
[{"$nulls":3},"avg dmg per round :",{"$f":"SUM(E1401:E1419)","v":{"v":4.4,"d":"4.40"}},{"$f":"SUM(F1401:F1419)","v":{"v":4.4,"d":"4.40"}},{"v":4.075,"d":"4.08"},{"v":4.075,"d":"4.08"},{"v":4.4,"d":"4.40"},{"v":4.075,"d":"4.08"},{"v":4.075,"d":"4.08"},{"v":4.075,"d":"4.08"},{"v":4.075,"d":"4.08"},{"v":4.075,"d":"4.08"},{"v":4.075,"d":"4.08"},3.75,{"v":4.075,"d":"4.08"},{"v":4.075,"d":"4.08"},3.75,3.75,{"v":4.075,"d":"4.08"},3.75,3.75,3.75]

{"sheet":"Base Numbers","index":2,"n_rows":21,"n_cols":26,"rows_kept":21,"merged":[[9,5,11,5],[15,5,16,5],[15,6,16,6]]}
[{"$nulls":5},"LEVEL",1,2,3,4,5,6,7,8,9,10,11,12,13,14,15,16,17,18,19,20]
[{"$nulls":5},"TOTAL DPR OUTPUT",{"$f":"Sorcadins!E1421","v":{"v":4.4,"d":"4.40"}},{"$f":"Sorcadins!F1421","v":{"v":4.4,"d":"4.40"}},{"$f":"Sorcadins!G1421","v":{"v":4.075,"d":"4.08"}},{"$f":"Sorcadins!H1421","v":{"v":4.075,"d":"4.08"}},{"$f":"Sorcadins!I1421","v":{"v":4.4,"d":"4.40"}},{"$f":"Sorcadins!J1421","v":{"v":4.075,"d":"4.08"}},{"$f":"Sorcadins!K1421","v":{"v":4.075,"d":"4.08"}},{"$f":"Sorcadins!L1421","v":{"v":4.075,"d":"4.08"}},{"$f":"Sorcadins!M1421","v":{"v":4.075,"d":"4.08"}},{"$f":"Sorcadins!N1421","v":{"v":4.075,"d":"4.08"}},{"$f":"Sorcadins!O1421","v":{"v":4.075,"d":"4.08"}},{"$f":"Sorcadins!P1421","v":3.75},{"$f":"Sorcadins!Q1421","v":{"v":4.075,"d":"4.08"}},{"$f":"Sorcadins!R1421","v":{"v":4.075,"d":"4.08"}},{"$f":"Sorcadins!S1421","v":3.75},{"$f":"Sorcadins!T1421","v":3.75},{"$f":"Sorcadins!U1421","v":{"v":4.075,"d":"4.08"}},{"$f":"Sorcadins!V1421","v":3.75},{"$f":"Sorcadins!W1421","v":3.75},{"$f":"Sorcadins!X1421","v":3.75}]
[]
[null,"CAMPAIGN AVERAGES",{"$nulls":3},"MODIFIERS:"]
[null,"fights per day",4,null,null,"Enemy Armor Class modifier: ",0]
[null,"rounds per fight",4,null,null,"Magic Weapon mod:",0]
[null,"short rests",1,null,null,"Caster DC mod:",0]
[null,"pct fights with a buff round",0.3,null,null,"Magic Weapon additional Damage Dice",0]
[]
[{"$nulls":5},"Booming Blade + GFB secondary damage percent"]
[null,"Opportunity attacks per round",{"$nulls":4},0.35]
[null,"base",0.25]
[null,"polearm master",0.2]
[null,"sentinel",0.4,null,null,"prob of qualifying for sneak damage",0.8]
[null,"soul of vengeance / retaliation",0.65,null,null,"percent fights with surprise",0.33]
[{"$nulls":5},"DM allows Booming Blade with Shadow Blade",0]
[]
[]
[null,"Find Familiar adv pct",0.9,null,null,"Area Of Effect effects"]
[null,"Disable Simulacrum damage",0,null,null,"Avg number of targets to AOE",2.5]
[null,"Disable spell class/level-based selection checking",0,null,null,"Avg number of AOE opportunities per day",2]

{"sheet":"Caster Tables","index":3,"n_rows":81,"n_cols":28,"rows_kept":81,"merged":[[9,2,9,3],[9,6,9,7],[9,8,9,9],[9,12,9,13],[9,14,9,15]]}
[]
[]
[null,"Progresion:"]
[null,"Level",1,2,3,4,5,6,7,8,9,10,11,12,13,14,15,16,17,18,19,20,null,null,"Piercer Feat damage gains"]
[null,"chance of killing blow per attack (GWM)",0.1,0.1,0.1,0.09,0.09,0.08,0.08,0.07,0.07,0.06,0.06,0.05,0.05,0.05,0.05,0.05,0.05,0.05,0.05,0.05,null,null,"weapon die","base avg","piercer avg","gain"]
[null,"avg save bonus",-1,-1,0,0,0,0,1,1,2,2,2,3,3,4,4,5,5,6,6,7,null,null,"d4",2.5,3,{"$f":"AA6-Z6","v":0.5}]
[null,"AC",13,13,14,14,14,15,15,15,16,16,16,17,17,17,18,18,18,19,19,19,null,null,"d6",3.5,4.25,{"$f":"AA7-Z7","v":0.75}]
[null,"Cantrip Power",0,0,0,0,1,1,1,1,1,1,2,2,2,2,2,2,3,3,3,3,null,null,"d8",4.5,5.5,{"$f":"AA8-Z8","v":1}]
[null,"fights with pronable target",1,0.95,0.92,0.9,0.85,0.8,0.75,0.7,0.65,0.6,0.55,0.5,0.4,0.35,0.3,0.3,0.25,0.25,0.2,0.2,null,null,"d10",5.5,6.75,{"$f":"AA9-Z9","v":1.25}]
[null,null,"Multiclass Casters",{"$nulls":3},"Half Casters (Paladin, Ranger)",null,"Warlocks (per day; adj for short rests)",{"$nulls":3},"One-Third Casters (Eldritch Knight, Arcane Trickster)",null,"Warlocks (per short rest)"]
[null,"Caster Level","Total Spell Levels","total smite (d8s)","ratio:","max slot","Total Spell Levels","total smite (d8s)","Total Spell Levels","total smite (d8s)","ratio","max slot","Total Spell Levels","total smite (d8s)","Total Spell Levels","total smite (d8s)"]
[null,0,0,0,0,0,0,0,{"$f":"O12*(1+'Base Numbers'!$C$7)","v":0},{"$f":"P12*(1+'Base Numbers'!$C$7)","v":0},0,0,0,0,{"$f":"0*(1+'Base Numbers'!$C$7)","v":0},0]
[null,1,2,4,{"$f":"D13/C13","v":2},1,0,0,{"$f":"O13*(1+'Base Numbers'!$C$7)","v":2},{"$f":"P13*(1+'Base Numbers'!$C$7)","v":4},{"$f":"J13/I13","v":2},1,0,0,1,2]
[null,{"$f":"B13+1","v":2},3,6,{"$f":"D14/C14","v":2},1,2,4,{"$f":"O14*(1+'Base Numbers'!$C$7)","v":4},{"$f":"P14*(1+'Base Numbers'!$C$7)","v":8},{"$f":"J14/I14","v":2},1,0,0,2,4]
[null,3,8,14,1.75,2,3,6,{"$f":"O15*(1+'Base Numbers'!$C$7)","v":8},{"$f":"P15*(1+'Base Numbers'!$C$7)","v":12},1.5,2,2,4,4,6]
[null,4,10,17,1.7,2,3,6,{"$f":"O16*(1+'Base Numbers'!$C$7)","v":8},{"$f":"P16*(1+'Base Numbers'!$C$7)","v":12},1.5,2,3,6,4,6]
[null,5,16,25,1.5625,3,8,14,{"$f":"O17*(1+'Base Numbers'!$C$7)","v":12},{"$f":"P17*(1+'Base Numbers'!$C$7)","v":16},1.3333333333333333,3,3,6,6,8]
[null,6,19,29,1.5263157894736843,3,8,14,{"$f":"O18*(1+'Base Numbers'!$C$7)","v":12},{"$f":"P18*(1+'Base Numbers'!$C$7)","v":16},1.3333333333333333,3,3,6,6,8]
[null,7,23,34,1.4782608695652173,4,10,17,{"$f":"O19*(1+'Base Numbers'!$C$7)","v":16},{"$f":"P19*(1+'Base Numbers'!$C$7)","v":20},1.25,4,8,14,8,10]
[null,8,27,39,1.4444444444444444,4,10,17,{"$f":"O20*(1+'Base Numbers'!$C$7)","v":16},{"$f":"P20*(1+'Base Numbers'!$C$7)","v":20},1.25,4,8,14,8,10]
[null,9,36,50,1.3888888888888888,5,16,25,{"$f":"O21*(1+'Base Numbers'!$C$7)","v":20},{"$f":"P21*(1+'Base Numbers'!$C$7)","v":24},1.2,5,8,14,10,12]
[null,10,41,56,1.3658536585365855,5,16,25,{"$f":"O22*(1+'Base Numbers'!$C$7)","v":20},{"$f":"P22*(1+'Base Numbers'!$C$7)","v":24},1.2,5,10,17,10,12]
[null,11,47,63,1.3404255319148937,6,19,29,{"$f":"O23*(1+'Base Numbers'!$C$7)","v":30},{"$f":"P23*(1+'Base Numbers'!$C$7)","v":36},1.2,5,10,17,15,18]
[null,12,47,63,1.3404255319148937,6,19,29,{"$f":"O24*(1+'Base Numbers'!$C$7)","v":30},{"$f":"P24*(1+'Base Numbers'!$C$7)","v":36},1.2,5,10,17,15,18]
[null,13,54,71,1.3148148148148149,7,23,34,{"$f":"O25*(1+'Base Numbers'!$C$7)","v":30},{"$f":"P25*(1+'Base Numbers'!$C$7)","v":36},1.2,5,16,25,15,18]
[null,14,54,71,1.3148148148148149,7,23,34,{"$f":"O26*(1+'Base Numbers'!$C$7)","v":30},{"$f":"P26*(1+'Base Numbers'!$C$7)","v":36},1.2,5,16,25,15,18]
[null,15,62,80,1.2903225806451613,8,27,39,{"$f":"O27*(1+'Base Numbers'!$C$7)","v":30},{"$f":"P27*(1+'Base Numbers'!$C$7)","v":36},1.2,5,16,25,15,18]
[null,16,62,80,1.2903225806451613,8,27,39,{"$f":"O28*(1+'Base Numbers'!$C$7)","v":30},{"$f":"P28*(1+'Base Numbers'!$C$7)","v":36},1.2,5,19,29,15,18]
[null,17,71,90,1.267605633802817,9,36,50,{"$f":"O29*(1+'Base Numbers'!$C$7)","v":40},{"$f":"P29*(1+'Base Numbers'!$C$7)","v":48},1.2,5,19,29,20,24]
[null,18,76,96,1.263157894736842,9,36,50,{"$f":"O30*(1+'Base Numbers'!$C$7)","v":40},{"$f":"P30*(1+'Base Numbers'!$C$7)","v":48},1.2,5,19,29,20,24]
[null,19,82,103,1.2560975609756098,9,41,56,{"$f":"O31*(1+'Base Numbers'!$C$7)","v":40},{"$f":"P31*(1+'Base Numbers'!$C$7)","v":48},1.2,5,23,34,20,24]
[null,20,89,111,1.247191011235955,9,41,56,{"$f":"O32*(2+'Base Numbers'!$C$7)","v":60},{"$f":"P32*(2+'Base Numbers'!$C$7)","v":72},1.2,5,23,34,20,24]
[]
[]
[null,"notes"]
[null,"Count spell slots as smites +1"]
[null,"Count spell slots above 6th level as 5th level for smites"]
[null,"L20 warlock ability returns all spell slots 1/day"]
[]
[]
[{"$nulls":5},"average slot level for number of max-level slots requested:"]
[null,"Multiclass Caster Level","Total Spell Levels","max slot",0,1,2,3,4,5,6,7,8,9,10,11,12,13,14,15,16,17,18,19,20]
[null,0,0,0,0,0,0,0,0,0,0,0,0,0,0,0,0,0,0,0,0,0,0,0,0]
[null,1,2,1,0,{"$f":"MIN($D$44,$C$44/F42)","v":1},{"$f":"MIN($D$44,$C$44/G42)","v":1},0.6666666666666666,0.5,0.4,0.3333333333333333,0.2857142857142857,0.25,0.2222222222222222,{"$f":"MIN($D$44,$C$44/O42)","v":0.2},{"$f":"MIN($D$44,$C$44/P42)","v":0.18181818181818182},0.16666666666666666,0.15384615384615385,0.14285714285714285,0.13333333333333333,0.125,0.11764705882352941,0.1111111111111111,0.10526315789473684,0.1]
[null,{"$f":"B44+1","v":2},3,1,0,{"$f":"MIN($D45,$C45/F42)","v":1},{"$f":"MIN($D45,$C45/G42)","v":1},1,0.75,0.6,0.5,0.42857142857142855,0.375,0.3333333333333333,0.3,{"$f":"MIN($D45,$C45/P42)","v":0.2727272727272727},0.25,0.23076923076923078,0.21428571428571427,0.2,0.1875,0.17647058823529413,0.16666666666666666,0.15789473684210525,0.15]
[null,3,8,2,0,2,2,{"$f":"5/H42","v":1.6666666666666667},{"$f":"6/I42","v":1.5},{"$f":"7/J42","v":1.4},{"$f":"8/K42","v":1.3333333333333333},{"$f":"8/L42","v":1.1428571428571428},{"$f":"8/M42","v":1},{"$f":"8/N42","v":0.8888888888888888},{"$f":"8/O42","v":0.8},{"$f":"8/P42","v":0.7272727272727273},0.6666666666666666,0.6153846153846154,0.5714285714285714,0.5333333333333333,0.5,0.47058823529411764,0.4444444444444444,0.42105263157894735,0.4]
[null,4,10,2,0,2,2,2,{"$f":"7/I42","v":1.75},{"$f":"8/J42","v":1.6},{"$f":"9/K42","v":1.5},{"$f":"10/L42","v":1.4285714285714286},{"$f":"10/M42","v":1.25},{"$f":"10/N42","v":1.1111111111111112},{"$f":"10/O42","v":1},{"$f":"10/P42","v":0.9090909090909091},0.8333333333333334,0.7692307692307693,0.7142857142857143,0.6666666666666666,0.625,0.5882352941176471,0.5555555555555556,0.5263157894736842,0.5]
[null,5,16,3,0,3,3,{"$f":"8/3","v":2.6666666666666665},{"$f":"10/4","v":2.5},{"$f":"12/5","v":2.4},{"$f":"13/6","v":2.1666666666666665},{"$f":"14/7","v":2},{"$f":"15/8","v":1.875},{"$f":"16/9","v":1.7777777777777777},{"$f":"16/O42","v":1.6},{"$f":"16/P42","v":1.4545454545454546},1.3333333333333333,1.2307692307692308,1.1428571428571428,1.0666666666666667,1,0.9411764705882353,0.8888888888888888,0.8421052631578947,0.8]
[null,6,19,3,0,3,3,3,{"$f":"11/4","v":2.75},{"$f":"13/5","v":2.6},{"$f":"15/6","v":2.5},{"$f":"16/7","v":2.2857142857142856},{"$f":"18/8","v":2.25},{"$f":"19/9","v":2.111111111111111},{"$f":"19/O42","v":1.9},{"$f":"19/P42","v":1.7272727272727273},1.5833333333333333,1.4615384615384615,1.3571428571428572,1.2666666666666666,1.1875,1.1176470588235294,1.0555555555555556,1,0.95]
[null,7,23,4,0,4,{"$f":"7/2","v":3.5},{"$f":"10/3","v":3.3333333333333335},{"$f":"13/4","v":3.25},{"$f":"15/5","v":3},{"$f":"17/6","v":2.8333333333333335},{"$f":"19/7","v":2.7142857142857144},{"$f":"20/8","v":2.5},{"$f":"21/9","v":2.3333333333333335},{"$f":"22/10","v":2.2},{"$f":"22/P42","v":2},{"$f":"22/Q42","v":1.8333333333333333},1.6923076923076923,1.5714285714285714,1.4666666666666666,1.375,1.2941176470588236,1.2222222222222223,1.1578947368421053,1.1]
[null,8,27,4,0,4,4,{"$f":"11/3","v":3.6666666666666665},{"$f":"14/4","v":3.5},{"$f":"17/5","v":3.4},{"$f":"19/6","v":3.1666666666666665},{"$f":"21/7","v":3},{"$f":"23/8","v":2.875},{"$f":"24/9","v":2.6666666666666665},{"$f":"25/10","v":2.5},{"$f":"26/11","v":2.3636363636363638},{"$f":"27/Q42","v":2.25},{"$f":"27/R42","v":2.076923076923077},1.9285714285714286,1.8,1.6875,1.588235294117647,1.5,1.4210526315789473,1.35]
[null,9,36,5,0,5,{"$f":"9/2","v":4.5},{"$f":"13/3","v":4.333333333333333},{"$f":"17/4","v":4.25},{"$f":"20/5","v":4},{"$f":"23/6","v":3.8333333333333335},{"$f":"26/7","v":3.7142857142857144},{"$f":"28/8","v":3.5},{"$f":"30/9","v":3.3333333333333335},{"$f":"32/10","v":3.2},{"$f":"33/11","v":3},{"$f":"34/12","v":2.8333333333333335},{"$f":"35/13","v":2.6923076923076925},{"$f":"36/S42","v":2.5714285714285716},{"$f":"36/T42","v":2.4},2.25,2.1176470588235294,2,1.894736842105263,1.8]
[null,10,41,5,0,5,5,{"$f":"14/3","v":4.666666666666667},{"$f":"18/4","v":4.5},{"$f":"22/5","v":4.4},{"$f":"25/6","v":4.166666666666667},{"$f":"28/7","v":4},{"$f":"31/8","v":3.875},{"$f":"33/9","v":3.6666666666666665},{"$f":"35/10","v":3.5},{"$f":"37/11","v":3.3636363636363638},{"$f":"38/12","v":3.1666666666666665},{"$f":"39/13","v":3},{"$f":"40/14","v":2.857142857142857},{"$f":"41/T42","v":2.7333333333333334},2.5625,2.411764705882353,2.2777777777777777,2.1578947368421053,2.05]
[null,11,47,6,0,6,{"$f":"11/2","v":5.5},{"$f":"16/3","v":5.333333333333333},{"$f":"20/4","v":5},{"$f":"24/5","v":4.8},{"$f":"28/6","v":4.666666666666667},{"$f":"31/7","v":4.428571428571429},{"$f":"34/8","v":4.25},{"$f":"37/9","v":4.111111111111111},{"$f":"39/10","v":3.9},{"$f":"41/11","v":3.727272727272727},{"$f":"43/12","v":3.5833333333333335},{"$f":"44/13","v":3.3846153846153846},{"$f":"45/14","v":3.2142857142857144},{"$f":"46/15","v":3.066666666666667},{"$f":"47/U42","v":2.9375},{"$f":"47/V42","v":2.764705882352941},{"$f":"47/W42","v":2.611111111111111},{"$f":"47/X42","v":2.473684210526316},{"$f":"47/Y42","v":2.35}]
[null,12,47,6,0,6,{"$f":"11/2","v":5.5},{"$f":"16/3","v":5.333333333333333},{"$f":"20/4","v":5},{"$f":"24/5","v":4.8},{"$f":"28/6","v":4.666666666666667},{"$f":"31/7","v":4.428571428571429},{"$f":"34/8","v":4.25},{"$f":"37/9","v":4.111111111111111},{"$f":"39/10","v":3.9},3.727272727272727,3.5833333333333335,3.3846153846153846,3.2142857142857144,3.066666666666667,2.9375,2.764705882352941,2.611111111111111,2.473684210526316,2.35]
[null,13,54,7,0,7,{"$f":"13/2","v":6.5},{"$f":"18/3","v":6},{"$f":"23/4","v":5.75},{"$f":"27/5","v":5.4},{"$f":"31/6","v":5.166666666666667},{"$f":"35/7","v":5},{"$f":"38/8","v":4.75},{"$f":"41/9","v":4.555555555555555},{"$f":"44/10","v":4.4},{"$f":"46/11","v":4.181818181818182},{"$f":"48/12","v":4},{"$f":"50/13","v":3.8461538461538463},{"$f":"51/14","v":3.642857142857143},{"$f":"52/15","v":3.466666666666667},{"$f":"53/16","v":3.3125},{"$f":"54/V42","v":3.176470588235294},{"$f":"54/W42","v":3},{"$f":"54/X42","v":2.8421052631578947},{"$f":"54/Y42","v":2.7}]
[null,14,54,7,0,7,{"$f":"13/2","v":6.5},{"$f":"18/3","v":6},{"$f":"23/4","v":5.75},{"$f":"27/5","v":5.4},{"$f":"31/6","v":5.166666666666667},{"$f":"35/7","v":5},{"$f":"38/8","v":4.75},{"$f":"41/9","v":4.555555555555555},4.4,4.181818181818182,4,3.8461538461538463,3.642857142857143,3.466666666666667,3.3125,3.176470588235294,3,2.8421052631578947,2.7]
[null,15,62,8,0,8,{"$f":"15/2","v":7.5},{"$f":"21/3","v":7},{"$f":"26/4","v":6.5},{"$f":"31/5","v":6.2},{"$f":"35/6","v":5.833333333333333},{"$f":"39/7","v":5.571428571428571},{"$f":"43/8","v":5.375},{"$f":"46/9","v":5.111111111111111},{"$f":"49/10","v":4.9},{"$f":"52/11","v":4.7272727272727275},{"$f":"54/12","v":4.5},{"$f":"56/13","v":4.3076923076923075},{"$f":"58/14","v":4.142857142857143},{"$f":"59/15","v":3.933333333333333},{"$f":"60/16","v":3.75},{"$f":"61/17","v":3.588235294117647},{"$f":"62/W42","v":3.4444444444444446},{"$f":"62/X42","v":3.263157894736842},{"$f":"62/Y42","v":3.1}]
[null,16,62,8,0,8,{"$f":"15/2","v":7.5},{"$f":"21/3","v":7},{"$f":"26/4","v":6.5},{"$f":"31/5","v":6.2},{"$f":"35/6","v":5.833333333333333},{"$f":"39/7","v":5.571428571428571},{"$f":"43/8","v":5.375},{"$f":"46/9","v":5.111111111111111},{"$f":"49/10","v":4.9},4.7272727272727275,4.5,4.3076923076923075,4.142857142857143,{"$f":"59/15","v":3.933333333333333},3.75,3.588235294117647,3.4444444444444446,3.263157894736842,3.1]
[null,17,71,9,0,9,{"$f":"17/2","v":8.5},{"$f":"24/3","v":8},{"$f":"30/4","v":7.5},{"$f":"35/5","v":7},{"$f":"40/6","v":6.666666666666667},{"$f":"44/7","v":6.285714285714286},{"$f":"48/8","v":6},{"$f":"52/9","v":5.777777777777778},{"$f":"55/10","v":5.5},{"$f":"58/11","v":5.2727272727272725},{"$f":"61/12","v":5.083333333333333},{"$f":"63/13","v":4.846153846153846},{"$f":"65/14","v":4.642857142857143},{"$f":"67/15","v":4.466666666666667},{"$f":"68/16","v":4.25},{"$f":"69/17","v":4.0588235294117645},{"$f":"70/18","v":3.888888888888889},{"$f":"71/19","v":3.736842105263158},{"$f":"71/20","v":3.55}]
[null,18,76,9,0,9,{"$f":"17/2","v":8.5},{"$f":"24/3","v":8},{"$f":"30/4","v":7.5},{"$f":"35/5","v":7},{"$f":"40/6","v":6.666666666666667},{"$f":"45/7","v":6.428571428571429},{"$f":"49/8","v":6.125},{"$f":"53/9","v":5.888888888888889},{"$f":"57/10","v":5.7},{"$f":"60/11","v":5.454545454545454},{"$f":"63/12","v":5.25},{"$f":"66/13","v":5.076923076923077},{"$f":"68/14","v":4.857142857142857},{"$f":"70/15","v":4.666666666666667},{"$f":"72/16","v":4.5},{"$f":"73/17","v":4.294117647058823},{"$f":"74/18","v":4.111111111111111},{"$f":"75/19","v":3.9473684210526314},{"$f":"76/20","v":3.8}]
[null,19,82,9,0,9,{"$f":"17/2","v":8.5},{"$f":"24/3","v":8},{"$f":"30/4","v":7.5},{"$f":"36/5","v":7.2},{"$f":"41/6","v":6.833333333333333},{"$f":"46/7","v":6.571428571428571},{"$f":"51/8","v":6.375},{"$f":"55/9","v":6.111111111111111},{"$f":"59/10","v":5.9},{"$f":"63/11","v":5.7272727272727275},{"$f":"66/12","v":5.5},{"$f":"69/13","v":5.3076923076923075},{"$f":"72/14","v":5.142857142857143},{"$f":"74/15","v":4.933333333333334},{"$f":"76/16","v":4.75},{"$f":"78/17","v":4.588235294117647},{"$f":"79/18","v":4.388888888888889},{"$f":"80/19","v":4.2105263157894735},{"$f":"81/20","v":4.05}]
[null,20,89,9,0,9,{"$f":"17/2","v":8.5},{"$f":"24/3","v":8},{"$f":"31/4","v":7.75},{"$f":"37/5","v":7.4},{"$f":"43/6","v":7.166666666666667},{"$f":"48/7","v":6.857142857142857},{"$f":"53/8","v":6.625},{"$f":"58/9","v":6.444444444444445},{"$f":"62/10","v":6.2},{"$f":"66/11","v":6},{"$f":"70/12","v":5.833333333333333},{"$f":"73/13","v":5.615384615384615},{"$f":"76/14","v":5.428571428571429},{"$f":"79/15","v":5.266666666666667},{"$f":"81/16","v":5.0625},{"$f":"83/17","v":4.882352941176471},{"$f":"85/18","v":4.722222222222222},{"$f":"86/19","v":4.526315789473684},{"$f":"87/20","v":4.35}]
[]
[]
[]
[]
[]
[null,"Progresion:"]
[null,"Level",1,2,3,4,5,6,7,8,9,10,11,12,13,14,15,16,17,18,19,20]
[null,"pct of fights without creatures with blindsight, truesight",1,1,1,1,1,0.9,0.9,0.8,0.8,0.7,0.6,0.5,0.4,0.35,0.3,0.2,0.15,0.1,0.1,0.1]
[null,"Monster Saves "]
[null,"avg monster str save",0.2,0.7,1.5,2.2,2.5,3,3,3.3,3.6,4,4.3,4.6,5,5.2,5.4,5.6,5.8,6,7,8]
[null,"avg monster dex save",1,1.3,1.5,1.7,1.85,2,2.2,2.5,2.75,3,3.25,3.5,3.75,4,5,6,6.5,7,7.5,8]
[null,"avg monster con save",1,1.5,2,2.5,3,3.5,4,4.5,5,5.5,6,6.5,7,8,9,10,11,12,13,13]
[null,"avg monster int save",-2,-1.3,-1,-0.5,-0.25,0,0.5,1,1.5,2,2.5,3,3,3.25,3.5,4,4,5,6,7]
[null,"avg monster wis save",-0.5,0,0.5,1,{"v":1.5,"d":"1.50"},2,2.5,3,3.5,4,4.5,5,5.5,6,6.5,7,7.5,8,8.5,9]
[null,"avg monster cha save",-2,-1,0,0.25,0.5,0.75,1,2,2.5,3,3.5,4,4.5,5,6,6.5,7,8,9,9]
[null,"Avg Monster DPR",2.5,4.5,7,11.5,17.5,23.5,29.5,35.5,41.5,47.5,53.5,59.5,65.5,71.5,77.5,83.5,89.5,95.5,101.5,107.5]
[null,"Monster NonMagic Immunity"]
[null,"pct of monsters w/o non-magic weapon immunity",1,1,1,0.9,0.9,0.8,0.8,0.75,0.75,0.7,0.7,0.65,0.65,0.6,0.55,0.5,0.4,0.3,0.3,0.3]

{"sheet":"Smites","index":4,"n_rows":444,"n_cols":28,"rows_kept":444}
[]
[]
[]
[{"$nulls":3},"SMITES - Gereral Info",1,2,3,4,5,6,7,8,9,10,11,12,13,14,15,16,17,18,19,20]
[{"$nulls":3},"use all smite dice?  (pal, warlock, wiz, sorc, priest, etc)",{"$f":"IF(AND(Sorcadins!E7>=2,Sorcadins!E137=0),1,0)","v":0},{"$f":"IF(AND(Sorcadins!F7>=2,Sorcadins!F137=0),1,0)","v":0},{"$f":"IF(AND(Sorcadins!G7>=2,Sorcadins!G137=0),1,0)","v":0},{"$f":"IF(AND(Sorcadins!H7>=2,Sorcadins!H137=0),1,0)","v":0},{"$f":"IF(AND(Sorcadins!I7>=2,Sorcadins!I137=0),1,0)","v":0},{"$f":"IF(AND(Sorcadins!J7>=2,Sorcadins!J137=0),1,0)","v":0},{"$f":"IF(AND(Sorcadins!K7>=2,Sorcadins!K137=0),1,0)","v":0},{"$f":"IF(AND(Sorcadins!L7>=2,Sorcadins!L137=0),1,0)","v":0},{"$f":"IF(AND(Sorcadins!M7>=2,Sorcadins!M137=0),1,0)","v":0},{"$f":"IF(AND(Sorcadins!N7>=2,Sorcadins!N137=0),1,0)","v":0},{"$f":"IF(AND(Sorcadins!O7>=2,Sorcadins!O137=0),1,0)","v":0},{"$f":"IF(AND(Sorcadins!P7>=2,Sorcadins!P137=0),1,0)","v":0},{"$f":"IF(AND(Sorcadins!Q7>=2,Sorcadins!Q137=0),1,0)","v":0},{"$f":"IF(AND(Sorcadins!R7>=2,Sorcadins!R137=0),1,0)","v":0},{"$f":"IF(AND(Sorcadins!S7>=2,Sorcadins!S137=0),1,0)","v":0},{"$f":"IF(AND(Sorcadins!T7>=2,Sorcadins!T137=0),1,0)","v":0},{"$f":"IF(AND(Sorcadins!U7>=2,Sorcadins!U137=0),1,0)","v":0},{"$f":"IF(AND(Sorcadins!V7>=2,Sorcadins!V137=0),1,0)","v":0},{"$f":"IF(AND(Sorcadins!W7>=2,1),1,0)","v":0},{"$f":"IF(AND(Sorcadins!X7>=2,Sorcadins!X137=0),1,0)","v":0}]
[{"$nulls":3},"use only warlock smite dice?",{"$f":"IF(AND(Sorcadins!E12>=5,Sorcadins!E49>=1,OR(Sorcadins!E7<=1,Sorcadins!E137>=1)),1,0)","v":0},{"$f":"IF(AND(Sorcadins!F12>=5,Sorcadins!F49>=1,OR(Sorcadins!F7<=1,Sorcadins!F137>=1)),1,0)","v":0},{"$f":"IF(AND(Sorcadins!G12>=5,Sorcadins!G49>=1,OR(Sorcadins!G7<=1,Sorcadins!G137>=1)),1,0)","v":0},{"$f":"IF(AND(Sorcadins!H12>=5,Sorcadins!H49>=1,OR(Sorcadins!H7<=1,Sorcadins!H137>=1)),1,0)","v":0},{"$f":"IF(AND(Sorcadins!I12>=5,Sorcadins!I49>=1,OR(Sorcadins!I7<=1,Sorcadins!I137>=1)),1,0)","v":0},{"$f":"IF(AND(Sorcadins!J12>=5,Sorcadins!J49>=1,OR(Sorcadins!J7<=1,Sorcadins!J137>=1)),1,0)","v":0},{"$f":"IF(AND(Sorcadins!K12>=5,Sorcadins!K49>=1,OR(Sorcadins!K7<=1,Sorcadins!K137>=1)),1,0)","v":0},{"$f":"IF(AND(Sorcadins!L12>=5,Sorcadins!L49>=1,OR(Sorcadins!L7<=1,Sorcadins!L137>=1)),1,0)","v":0},{"$f":"IF(AND(Sorcadins!M12>=5,Sorcadins!M49>=1,OR(Sorcadins!M7<=1,Sorcadins!M137>=1)),1,0)","v":0},{"$f":"IF(AND(Sorcadins!N12>=5,Sorcadins!N49>=1,OR(Sorcadins!N7<=1,Sorcadins!N137>=1)),1,0)","v":0},{"$f":"IF(AND(Sorcadins!O12>=5,Sorcadins!O49>=1,OR(Sorcadins!O7<=1,Sorcadins!O137>=1)),1,0)","v":0},{"$f":"IF(AND(Sorcadins!P12>=5,Sorcadins!P49>=1,OR(Sorcadins!P7<=1,Sorcadins!P137>=1)),1,0)","v":0},{"$f":"IF(AND(Sorcadins!Q12>=5,Sorcadins!Q49>=1,OR(Sorcadins!Q7<=1,Sorcadins!Q137>=1)),1,0)","v":0},{"$f":"IF(AND(Sorcadins!R12>=5,Sorcadins!R49>=1,OR(Sorcadins!R7<=1,Sorcadins!R137>=1)),1,0)","v":0},{"$f":"IF(AND(Sorcadins!S12>=5,Sorcadins!S49>=1,OR(Sorcadins!S7<=1,Sorcadins!S137>=1)),1,0)","v":0},{"$f":"IF(AND(Sorcadins!T12>=5,Sorcadins!T49>=1,OR(Sorcadins!T7<=1,Sorcadins!T137>=1)),1,0)","v":0},{"$f":"IF(AND(Sorcadins!U12>=5,Sorcadins!U49>=1,OR(Sorcadins!U7<=1,Sorcadins!U137>=1)),1,0)","v":0},{"$f":"IF(AND(Sorcadins!V12>=5,Sorcadins!V49>=1,OR(Sorcadins!V7<=1,Sorcadins!V137>=1)),1,0)","v":0},{"$f":"IF(AND(Sorcadins!W12>=5,Sorcadins!W49>=1,OR(Sorcadins!W7<=1,Sorcadins!W137>=1)),1,0)","v":0},{"$f":"IF(AND(Sorcadins!X12>=5,Sorcadins!X49>=1,OR(Sorcadins!X7<=1,Sorcadins!X137>=1)),1,0)","v":0}]
[{"$nulls":3},"max smite dice per smite",{"$f":"IF(OR(Sorcadins!E12>=5,Sorcadins!E7>=2),MIN(IF(E6,6,5),Sorcadins!E274+1),0)","v":0},{"$f":"IF(OR(Sorcadins!F12>=5,Sorcadins!F7>=2),MIN(IF(F6,6,5),Sorcadins!F274+1),0)","v":0},{"$f":"IF(OR(Sorcadins!G12>=5,Sorcadins!G7>=2),MIN(IF(G6,6,5),Sorcadins!G274+1),0)","v":0},{"$f":"IF(OR(Sorcadins!H12>=5,Sorcadins!H7>=2),MIN(IF(H6,6,5),Sorcadins!H274+1),0)","v":0},{"$f":"IF(OR(Sorcadins!I12>=5,Sorcadins!I7>=2),MIN(IF(I6,6,5),Sorcadins!I274+1),0)","v":0},{"$f":"IF(OR(Sorcadins!J12>=5,Sorcadins!J7>=2),MIN(IF(J6,6,5),Sorcadins!J274+1),0)","v":0},{"$f":"IF(OR(Sorcadins!K12>=5,Sorcadins!K7>=2),MIN(IF(K6,6,5),Sorcadins!K274+1),0)","v":0},{"$f":"IF(OR(Sorcadins!L12>=5,Sorcadins!L7>=2),MIN(IF(L6,6,5),Sorcadins!L274+1),0)","v":0},{"$f":"IF(OR(Sorcadins!M12>=5,Sorcadins!M7>=2),MIN(IF(M6,6,5),Sorcadins!M274+1),0)","v":0},{"$f":"IF(OR(Sorcadins!N12>=5,Sorcadins!N7>=2),MIN(IF(N6,6,5),Sorcadins!N274+1),0)","v":0},{"$f":"IF(OR(Sorcadins!O12>=5,Sorcadins!O7>=2),MIN(IF(O6,6,5),Sorcadins!O274+1),0)","v":0},{"$f":"IF(OR(Sorcadins!P12>=5,Sorcadins!P7>=2),MIN(IF(P6,6,5),Sorcadins!P274+1),0)","v":0},{"$f":"IF(OR(Sorcadins!Q12>=5,Sorcadins!Q7>=2),MIN(IF(Q6,6,5),Sorcadins!Q274+1),0)","v":0},{"$f":"IF(OR(Sorcadins!R12>=5,Sorcadins!R7>=2),MIN(IF(R6,6,5),Sorcadins!R274+1),0)","v":0},{"$f":"IF(OR(Sorcadins!S12>=5,Sorcadins!S7>=2),MIN(IF(S6,6,5),Sorcadins!S274+1),0)","v":0},{"$f":"IF(OR(Sorcadins!T12>=5,Sorcadins!T7>=2),MIN(IF(T6,6,5),Sorcadins!T274+1),0)","v":0},{"$f":"IF(OR(Sorcadins!U12>=5,Sorcadins!U7>=2),MIN(IF(U6,6,5),Sorcadins!U274+1),0)","v":0},{"$f":"IF(OR(Sorcadins!V12>=5,Sorcadins!V7>=2),MIN(IF(V6,6,5),Sorcadins!V274+1),0)","v":0},{"$f":"IF(OR(Sorcadins!W12>=5,Sorcadins!W7>=2),MIN(IF(W6,6,5),Sorcadins!W274+1),0)","v":0},{"$f":"IF(OR(Sorcadins!X12>=5,Sorcadins!X7>=2),MIN(IF(X6,6,5),Sorcadins!X274+1),0)","v":0}]
[]
[{"$nulls":3},"SMITES - M1, B1, O1/O2",1,2,3,4,5,6,7,8,9,10,11,12,13,14,15,16,17,18,19,20]
[{"$nulls":3},"remaining sorcery points (based on Damage Scenario)",{"$f":"MAX(0,Sorcadins!E$561-Sorcadins!E$1276)","v":0},{"$f":"MAX(0,Sorcadins!F$561-Sorcadins!F$1276)","v":0},{"$f":"MAX(0,Sorcadins!G$561-Sorcadins!G$1276)","v":0},{"$f":"MAX(0,Sorcadins!H$561-Sorcadins!H$1276)","v":0},{"$f":"MAX(0,Sorcadins!I$561-Sorcadins!I$1276)","v":0},{"$f":"MAX(0,Sorcadins!J$561-Sorcadins!J$1276)","v":0},{"$f":"MAX(0,Sorcadins!K$561-Sorcadins!K$1276)","v":0},{"$f":"MAX(0,Sorcadins!L$561-Sorcadins!L$1276)","v":0},{"$f":"MAX(0,Sorcadins!M$561-Sorcadins!M$1276)","v":0},{"$f":"MAX(0,Sorcadins!N$561-Sorcadins!N$1276)","v":0},{"$f":"MAX(0,Sorcadins!O$561-Sorcadins!O$1276)","v":0},{"$f":"MAX(0,Sorcadins!P$561-Sorcadins!P$1276)","v":0},{"$f":"MAX(0,Sorcadins!Q$561-Sorcadins!Q$1276)","v":0},{"$f":"MAX(0,Sorcadins!R$561-Sorcadins!R$1276)","v":0},{"$f":"MAX(0,Sorcadins!S$561-Sorcadins!S$1276)","v":0},{"$f":"MAX(0,Sorcadins!T$561-Sorcadins!T$1276)","v":0},{"$f":"MAX(0,Sorcadins!U$561-Sorcadins!U$1276)","v":0},{"$f":"MAX(0,Sorcadins!V$561-Sorcadins!V$1276)","v":0},{"$f":"MAX(0,Sorcadins!W$561-Sorcadins!W$1276)","v":0},{"$f":"MAX(0,Sorcadins!X$561-Sorcadins!X$1276)","v":0},null,"*Sorc points directly convertible to Smite Dice"]
[{"$nulls":3},"remaining spell slot levels (based on Damage Scenario)",{"$f":"MAX(0,Sorcadins!E$281-MAX(0,Sorcadins!E$1276-Sorcadins!E$561))","v":0},{"$f":"MAX(0,Sorcadins!F$281-MAX(0,Sorcadins!F$1276-Sorcadins!F$561))","v":0},{"$f":"MAX(0,Sorcadins!G$281-MAX(0,Sorcadins!G$1276-Sorcadins!G$561))","v":0},{"$f":"MAX(0,Sorcadins!H$281-MAX(0,Sorcadins!H$1276-Sorcadins!H$561))","v":0},{"$f":"MAX(0,Sorcadins!I$281-MAX(0,Sorcadins!I$1276-Sorcadins!I$561))","v":0},{"$f":"MAX(0,Sorcadins!J$281-MAX(0,Sorcadins!J$1276-Sorcadins!J$561))","v":0},{"$f":"MAX(0,Sorcadins!K$281-MAX(0,Sorcadins!K$1276-Sorcadins!K$561))","v":0},{"$f":"MAX(0,Sorcadins!L$281-MAX(0,Sorcadins!L$1276-Sorcadins!L$561))","v":0},{"$f":"MAX(0,Sorcadins!M$281-MAX(0,Sorcadins!M$1276-Sorcadins!M$561))","v":0},{"$f":"MAX(0,Sorcadins!N$281-MAX(0,Sorcadins!N$1276-Sorcadins!N$561))","v":0},{"$f":"MAX(0,Sorcadins!O$281-MAX(0,Sorcadins!O$1276-Sorcadins!O$561))","v":0},{"$f":"MAX(0,Sorcadins!P$281-MAX(0,Sorcadins!P$1276-Sorcadins!P$561))","v":0},{"$f":"MAX(0,Sorcadins!Q$281-MAX(0,Sorcadins!Q$1276-Sorcadins!Q$561))","v":0},{"$f":"MAX(0,Sorcadins!R$281-MAX(0,Sorcadins!R$1276-Sorcadins!R$561))","v":0},{"$f":"MAX(0,Sorcadins!S$281-MAX(0,Sorcadins!S$1276-Sorcadins!S$561))","v":0},{"$f":"MAX(0,Sorcadins!T$281-MAX(0,Sorcadins!T$1276-Sorcadins!T$561))","v":0},{"$f":"MAX(0,Sorcadins!U$281-MAX(0,Sorcadins!U$1276-Sorcadins!U$561))","v":0},{"$f":"MAX(0,Sorcadins!V$281-MAX(0,Sorcadins!V$1276-Sorcadins!V$561))","v":0},{"$f":"MAX(0,Sorcadins!W$281-MAX(0,Sorcadins!W$1276-Sorcadins!W$561))","v":0},{"$f":"MAX(0,Sorcadins!X$281-MAX(0,Sorcadins!X$1276-Sorcadins!X$561))","v":0}]
[{"$nulls":3},"total warlock smite levels remaining",{"$f":"MIN(Sorcadins!E$273*E11,Sorcadins!E$264)","v":0},{"$f":"MIN(Sorcadins!F$273*F11,Sorcadins!F$264)","v":0},{"$f":"MIN(Sorcadins!G$273*G11,Sorcadins!G$264)","v":0},{"$f":"MIN(Sorcadins!H$273*H11,Sorcadins!H$264)","v":0},{"$f":"MIN(Sorcadins!I$273*I11,Sorcadins!I$264)","v":0},{"$f":"MIN(Sorcadins!J$273*J11,Sorcadins!J$264)","v":0},{"$f":"MIN(Sorcadins!K$273*K11,Sorcadins!K$264)","v":0},{"$f":"MIN(Sorcadins!L$273*L11,Sorcadins!L$264)","v":0},{"$f":"MIN(Sorcadins!M$273*M11,Sorcadins!M$264)","v":0},{"$f":"MIN(Sorcadins!N$273*N11,Sorcadins!N$264)","v":0},{"$f":"MIN(Sorcadins!O$273*O11,Sorcadins!O$264)","v":0},{"$f":"MIN(Sorcadins!P$273*P11,Sorcadins!P$264)","v":0},{"$f":"MIN(Sorcadins!Q$273*Q11,Sorcadins!Q$264)","v":0},{"$f":"MIN(Sorcadins!R$273*R11,Sorcadins!R$264)","v":0},{"$f":"MIN(Sorcadins!S$273*S11,Sorcadins!S$264)","v":0},{"$f":"MIN(Sorcadins!T$273*T11,Sorcadins!T$264)","v":0},{"$f":"MIN(Sorcadins!U$273*U11,Sorcadins!U$264)","v":0},{"$f":"MIN(Sorcadins!V$273*V11,Sorcadins!V$264)","v":0},{"$f":"MIN(Sorcadins!W$273*W11,Sorcadins!W$264)","v":0},{"$f":"MIN(Sorcadins!X$273*X11,Sorcadins!X$264)","v":0}]
[{"$nulls":3},"total smite levels remaining",{"$f":"IF(E$5>=1,Sorcadins!E$273*E11+E10,IF(E$6,E12,0))","v":0},{"$f":"IF(F$5>=1,Sorcadins!F$273*F11+F10,IF(F$6,F12,0))","v":0},{"$f":"IF(G$5>=1,Sorcadins!G$273*G11+G10,IF(G$6,G12,0))","v":0},{"$f":"IF(H$5>=1,Sorcadins!H$273*H11+H10,IF(H$6,H12,0))","v":0},{"$f":"IF(I$5>=1,Sorcadins!I$273*I11+I10,IF(I$6,I12,0))","v":0},{"$f":"IF(J$5>=1,Sorcadins!J$273*J11+J10,IF(J$6,J12,0))","v":0},{"$f":"IF(K$5>=1,Sorcadins!K$273*K11+K10,IF(K$6,K12,0))","v":0},{"$f":"IF(L$5>=1,Sorcadins!L$273*L11+L10,IF(L$6,L12,0))","v":0},{"$f":"IF(M$5>=1,Sorcadins!M$273*M11+M10,IF(M$6,M12,0))","v":0},{"$f":"IF(N$5>=1,Sorcadins!N$273*N11+N10,IF(N$6,N12,0))","v":0},{"$f":"IF(O$5>=1,Sorcadins!O$273*O11+O10,IF(O$6,O12,0))","v":0},{"$f":"IF(P$5>=1,Sorcadins!P$273*P11+P10,IF(P$6,P12,0))","v":0},{"$f":"IF(Q$5>=1,Sorcadins!Q$273*Q11+Q10,IF(Q$6,Q12,0))","v":0},{"$f":"IF(R$5>=1,Sorcadins!R$273*R11+R10,IF(R$6,R12,0))","v":0},{"$f":"IF(S$5>=1,Sorcadins!S$273*S11+S10,IF(S$6,S12,0))","v":0},{"$f":"IF(T$5>=1,Sorcadins!T$273*T11+T10,IF(T$6,T12,0))","v":0},{"$f":"IF(U$5>=1,Sorcadins!U$273*U11+U10,IF(U$6,U12,0))","v":0},{"$f":"IF(V$5>=1,Sorcadins!V$273*V11+V10,IF(V$6,V12,0))","v":0},{"$f":"IF(W$5>=1,Sorcadins!W$273*W11+W10,IF(W$6,W12,0))","v":0},{"$f":"IF(X$5>=1,Sorcadins!X$273*X11+X10,IF(X$6,X12,0))","v":0}]
[{"$nulls":3},"max number of daily smites (total no of spells left after casts)",{"$f":"IF(E$6,Sorcadins!E$1157,IF(E$5,Sorcadins!E$282+E10/2,0))","v":0},{"$f":"IF(F$6,Sorcadins!F$1157,IF(F$5,Sorcadins!F$282+F10/2,0))","v":0},{"$f":"IF(G$6,Sorcadins!G$1157,IF(G$5,Sorcadins!G$282+G10/2,0))","v":0},{"$f":"IF(H$6,Sorcadins!H$1157,IF(H$5,Sorcadins!H$282+H10/2,0))","v":0},{"$f":"IF(I$6,Sorcadins!I$1157,IF(I$5,Sorcadins!I$282+I10/2,0))","v":0},{"$f":"IF(J$6,Sorcadins!J$1157,IF(J$5,Sorcadins!J$282+J10/2,0))","v":0},{"$f":"IF(K$6,Sorcadins!K$1157,IF(K$5,Sorcadins!K$282+K10/2,0))","v":0},{"$f":"IF(L$6,Sorcadins!L$1157,IF(L$5,Sorcadins!L$282+L10/2,0))","v":0},{"$f":"IF(M$6,Sorcadins!M$1157,IF(M$5,Sorcadins!M$282+M10/2,0))","v":0},{"$f":"IF(N$6,Sorcadins!N$1157,IF(N$5,Sorcadins!N$282+N10/2,0))","v":0},{"$f":"IF(O$6,Sorcadins!O$1157,IF(O$5,Sorcadins!O$282+O10/2,0))","v":0},{"$f":"IF(P$6,Sorcadins!P$1157,IF(P$5,Sorcadins!P$282+P10/2,0))","v":0},{"$f":"IF(Q$6,Sorcadins!Q$1157,IF(Q$5,Sorcadins!Q$282+Q10/2,0))","v":0},{"$f":"IF(R$6,Sorcadins!R$1157,IF(R$5,Sorcadins!R$282+R10/2,0))","v":0},{"$f":"IF(S$6,Sorcadins!S$1157,IF(S$5,Sorcadins!S$282+S10/2,0))","v":0},{"$f":"IF(T$6,Sorcadins!T$1157,IF(T$5,Sorcadins!T$282+T10/2,0))","v":0},{"$f":"IF(U$6,Sorcadins!U$1157,IF(U$5,Sorcadins!U$282+U10/2,0))","v":0},{"$f":"IF(V$6,Sorcadins!V$1157,IF(V$5,Sorcadins!V$282+V10/2,0))","v":0},{"$f":"IF(W$6,Sorcadins!W$1157,IF(W$5,Sorcadins!W$282+W10/2,0))","v":0},{"$f":"IF(X$6,Sorcadins!X$1157,IF(X$5,Sorcadins!X$282+X10/2,0))","v":0}]
[{"$nulls":3},"avg crits per day for smite purposes (based on Damage Scenario)",{"$f":"'Base Numbers'!$C$5*'Base Numbers'!$C$6*Sorcadins!E$1308","v":1},{"$f":"'Base Numbers'!$C$5*'Base Numbers'!$C$6*Sorcadins!F$1308","v":1},{"$f":"'Base Numbers'!$C$5*'Base Numbers'!$C$6*Sorcadins!G$1308","v":1},{"$f":"'Base Numbers'!$C$5*'Base Numbers'!$C$6*Sorcadins!H$1308","v":1},{"$f":"'Base Numbers'!$C$5*'Base Numbers'!$C$6*Sorcadins!I$1308","v":1},{"$f":"'Base Numbers'!$C$5*'Base Numbers'!$C$6*Sorcadins!J$1308","v":1},{"$f":"'Base Numbers'!$C$5*'Base Numbers'!$C$6*Sorcadins!K$1308","v":1},{"$f":"'Base Numbers'!$C$5*'Base Numbers'!$C$6*Sorcadins!L$1308","v":1},{"$f":"'Base Numbers'!$C$5*'Base Numbers'!$C$6*Sorcadins!M$1308","v":1},{"$f":"'Base Numbers'!$C$5*'Base Numbers'!$C$6*Sorcadins!N$1308","v":1},{"$f":"'Base Numbers'!$C$5*'Base Numbers'!$C$6*Sorcadins!O$1308","v":1},{"$f":"'Base Numbers'!$C$5*'Base Numbers'!$C$6*Sorcadins!P$1308","v":1},{"$f":"'Base Numbers'!$C$5*'Base Numbers'!$C$6*Sorcadins!Q$1308","v":1},{"$f":"'Base Numbers'!$C$5*'Base Numbers'!$C$6*Sorcadins!R$1308","v":1},{"$f":"'Base Numbers'!$C$5*'Base Numbers'!$C$6*Sorcadins!S$1308","v":1},{"$f":"'Base Numbers'!$C$5*'Base Numbers'!$C$6*Sorcadins!T$1308","v":1},{"$f":"'Base Numbers'!$C$5*'Base Numbers'!$C$6*Sorcadins!U$1308","v":1},{"$f":"'Base Numbers'!$C$5*'Base Numbers'!$C$6*Sorcadins!V$1308","v":1},{"$f":"'Base Numbers'!$C$5*'Base Numbers'!$C$6*Sorcadins!W$1308","v":1},{"$f":"'Base Numbers'!$C$5*'Base Numbers'!$C$6*Sorcadins!X$1308","v":1}]
[{"$nulls":3},"number of smites used on crits",{"$f":"MIN(E14,E15)","v":0},{"$f":"MIN(F14,F15)","v":0},0,0,0,0,0,0,0,0,0,0,0,0,0,0,0,0,0,0]
[{"$nulls":3},"avg smite dice per crit ",{"$f":"IF(E16>0,MIN(E$7,(E13/MIN(E16,E15))),0)","v":0},0,0,0,{"$f":"IF(I16>0,MIN(I$7,(I13/MIN(I16,I15))),0)","v":0},0,0,0,{"$f":"IF(M16>0,MIN(M$7,(M13/MIN(M16,M15))),0)","v":0},0,0,0,0,0,0,0,0,0,0,0]
[{"$nulls":3},"smites left for non-crits",{"$f":"E14-E16","v":0},0,0,0,{"$f":"I14-I16","v":0},0,0,0,0,0,0,0,0,0,0,0,0,0,0,0]
[{"$nulls":3},"total non-crit smite-qualifying attacks available",{"$f":"Sorcadins!E$1283*('Base Numbers'!$C$5*'Base Numbers'!$C$6)-E15","v":19},{"$f":"Sorcadins!F$1283*('Base Numbers'!$C$5*'Base Numbers'!$C$6)-F15","v":19},{"$f":"Sorcadins!G$1283*('Base Numbers'!$C$5*'Base Numbers'!$C$6)-G15","v":19},{"$f":"Sorcadins!H$1283*('Base Numbers'!$C$5*'Base Numbers'!$C$6)-H15","v":19},{"$f":"Sorcadins!I$1283*('Base Numbers'!$C$5*'Base Numbers'!$C$6)-I15","v":19},{"$f":"Sorcadins!J$1283*('Base Numbers'!$C$5*'Base Numbers'!$C$6)-J15","v":19},{"$f":"Sorcadins!K$1283*('Base Numbers'!$C$5*'Base Numbers'!$C$6)-K15","v":19},{"$f":"Sorcadins!L$1283*('Base Numbers'!$C$5*'Base Numbers'!$C$6)-L15","v":19},{"$f":"Sorcadins!M$1283*('Base Numbers'!$C$5*'Base Numbers'!$C$6)-M15","v":19},{"$f":"Sorcadins!N$1283*('Base Numbers'!$C$5*'Base Numbers'!$C$6)-N15","v":19},{"$f":"Sorcadins!O$1283*('Base Numbers'!$C$5*'Base Numbers'!$C$6)-O15","v":19},{"$f":"Sorcadins!P$1283*('Base Numbers'!$C$5*'Base Numbers'!$C$6)-P15","v":19},{"$f":"Sorcadins!Q$1283*('Base Numbers'!$C$5*'Base Numbers'!$C$6)-Q15","v":19},{"$f":"Sorcadins!R$1283*('Base Numbers'!$C$5*'Base Numbers'!$C$6)-R15","v":19},{"$f":"Sorcadins!S$1283*('Base Numbers'!$C$5*'Base Numbers'!$C$6)-S15","v":19},{"$f":"Sorcadins!T$1283*('Base Numbers'!$C$5*'Base Numbers'!$C$6)-T15","v":19},{"$f":"Sorcadins!U$1283*('Base Numbers'!$C$5*'Base Numbers'!$C$6)-U15","v":19},{"$f":"Sorcadins!V$1283*('Base Numbers'!$C$5*'Base Numbers'!$C$6)-V15","v":19},{"$f":"Sorcadins!W$1283*('Base Numbers'!$C$5*'Base Numbers'!$C$6)-W15","v":19},{"$f":"Sorcadins!X$1283*('Base Numbers'!$C$5*'Base Numbers'!$C$6)-X15","v":19}]
[{"$nulls":3},"smite dice left for non-crits",{"$f":"ROUND(MAX(0,E13-E15*E17),4)","v":0},0,0,0,0,0,0,0,0,0,0,0,0,0,0,0,0,0,0,0]
[{"$nulls":3},"total smite dice used on crits",{"$f":"E16*E17","v":0},{"$f":"F16*F17","v":0},0,0,0,0,0,0,0,0,0,0,0,0,0,0,0,0,0,0]
[{"$nulls":3},"total crit smite damage per day",{"$f":"9*E21","v":0},{"$f":"9*F21","v":0},0,0,0,0,0,0,0,0,0,0,0,0,0,0,0,0,0,0]
[{"$nulls":3},"total non-crit smite damage per day",{"$f":"4.5*MIN(MIN(E19,E18)*E$7,E20)","v":0},{"$f":"4.5*MIN(MIN(F19,F18)*F$7,F20)","v":0},0,0,0,0,0,0,0,0,0,0,0,0,0,0,0,0,0,0]
[{"$nulls":3},"leftover sorc points + spell levels",{"$f":"IF(E13>0,IF(Sorcadins!E$273>0,(Sorcadins!E$273*E11+E10-E16*E17-E23/4.5)/Sorcadins!E$273,0),E11+E10)","v":0},{"$f":"IF(F13>0,IF(Sorcadins!F$273>0,(Sorcadins!F$273*F11+F10-F16*F17-F23/4.5)/Sorcadins!F$273,0),F11+F10)","v":0},{"$f":"IF(G13>0,IF(Sorcadins!G$273>0,(Sorcadins!G$273*G11+G10-G16*G17-G23/4.5)/Sorcadins!G$273,0),G11+G10)","v":0},{"$f":"IF(H13>0,IF(Sorcadins!H$273>0,(Sorcadins!H$273*H11+H10-H16*H17-H23/4.5)/Sorcadins!H$273,0),H11+H10)","v":0},{"$f":"IF(I13>0,IF(Sorcadins!I$273>0,(Sorcadins!I$273*I11+I10-I16*I17-I23/4.5)/Sorcadins!I$273,0),I11+I10)","v":0},{"$f":"IF(J13>0,IF(Sorcadins!J$273>0,(Sorcadins!J$273*J11+J10-J16*J17-J23/4.5)/Sorcadins!J$273,0),J11+J10)","v":0},{"$f":"IF(K13>0,IF(Sorcadins!K$273>0,(Sorcadins!K$273*K11+K10-K16*K17-K23/4.5)/Sorcadins!K$273,0),K11+K10)","v":0},{"$f":"IF(L13>0,IF(Sorcadins!L$273>0,(Sorcadins!L$273*L11+L10-L16*L17-L23/4.5)/Sorcadins!L$273,0),L11+L10)","v":0},{"$f":"IF(M13>0,IF(Sorcadins!M$273>0,(Sorcadins!M$273*M11+M10-M16*M17-M23/4.5)/Sorcadins!M$273,0),M11+M10)","v":0},{"$f":"IF(N13>0,IF(Sorcadins!N$273>0,(Sorcadins!N$273*N11+N10-N16*N17-N23/4.5)/Sorcadins!N$273,0),N11+N10)","v":0},{"$f":"IF(O13>0,IF(Sorcadins!O$273>0,(Sorcadins!O$273*O11+O10-O16*O17-O23/4.5)/Sorcadins!O$273,0),O11+O10)","v":0},{"$f":"IF(P13>0,IF(Sorcadins!P$273>0,(Sorcadins!P$273*P11+P10-P16*P17-P23/4.5)/Sorcadins!P$273,0),P11+P10)","v":0},{"$f":"IF(Q13>0,IF(Sorcadins!Q$273>0,(Sorcadins!Q$273*Q11+Q10-Q16*Q17-Q23/4.5)/Sorcadins!Q$273,0),Q11+Q10)","v":0},{"$f":"IF(R13>0,IF(Sorcadins!R$273>0,(Sorcadins!R$273*R11+R10-R16*R17-R23/4.5)/Sorcadins!R$273,0),R11+R10)","v":0},{"$f":"IF(S13>0,IF(Sorcadins!S$273>0,(Sorcadins!S$273*S11+S10-S16*S17-S23/4.5)/Sorcadins!S$273,0),S11+S10)","v":0},{"$f":"IF(T13>0,IF(Sorcadins!T$273>0,(Sorcadins!T$273*T11+T10-T16*T17-T23/4.5)/Sorcadins!T$273,0),T11+T10)","v":0},{"$f":"IF(U13>0,IF(Sorcadins!U$273>0,(Sorcadins!U$273*U11+U10-U16*U17-U23/4.5)/Sorcadins!U$273,0),U11+U10)","v":0},{"$f":"IF(V13>0,IF(Sorcadins!V$273>0,(Sorcadins!V$273*V11+V10-V16*V17-V23/4.5)/Sorcadins!V$273,0),V11+V10)","v":0},{"$f":"IF(W13>0,IF(Sorcadins!W$273>0,(Sorcadins!W$273*W11+W10-W16*W17-W23/4.5)/Sorcadins!W$273,0),W11+W10)","v":0},{"$f":"IF(X13>0,IF(Sorcadins!X$273>0,(Sorcadins!X$273*X11+X10-X16*X17-X23/4.5)/Sorcadins!X$273,0),X11+X10)","v":0}]
[{"$nulls":3},"actual smites performed",{"$f":"E16+IF(E$7>0,MIN(E18,E19,E20/E$7),0)","v":0},{"$f":"F16+IF(F$7>0,MIN(F18,F19,F20/F$7),0)","v":0},0,0,0,0,0,0,0,0,0,0,0,0,0,0,0,0,0,0]
[{"$nulls":3},"total daily smite damage: M1, B1, O1/O2",{"$f":"E22+E23","v":0},0,0,0,0,0,0,0,0,0,0,0,0,0,0,0,0,0,0,0]
[]
[{"$nulls":3},"SMITES - M1, B1, O3",1,2,3,4,5,6,7,8,9,10,11,12,13,14,15,16,17,18,19,20]
[{"$nulls":3},"remaining sorcery points (based on Damage Scenario)",{"$f":"MAX(0,Sorcadins!E$561-Sorcadins!E$1276)","v":0},{"$f":"MAX(0,Sorcadins!F$561-Sorcadins!F$1276)","v":0},{"$f":"MAX(0,Sorcadins!G$561-Sorcadins!G$1276)","v":0},{"$f":"MAX(0,Sorcadins!H$561-Sorcadins!H$1276)","v":0},{"$f":"MAX(0,Sorcadins!I$561-Sorcadins!I$1276)","v":0},{"$f":"MAX(0,Sorcadins!J$561-Sorcadins!J$1276)","v":0},{"$f":"MAX(0,Sorcadins!K$561-Sorcadins!K$1276)","v":0},{"$f":"MAX(0,Sorcadins!L$561-Sorcadins!L$1276)","v":0},{"$f":"MAX(0,Sorcadins!M$561-Sorcadins!M$1276)","v":0},{"$f":"MAX(0,Sorcadins!N$561-Sorcadins!N$1276)","v":0},{"$f":"MAX(0,Sorcadins!O$561-Sorcadins!O$1276)","v":0},{"$f":"MAX(0,Sorcadins!P$561-Sorcadins!P$1276)","v":0},{"$f":"MAX(0,Sorcadins!Q$561-Sorcadins!Q$1276)","v":0},{"$f":"MAX(0,Sorcadins!R$561-Sorcadins!R$1276)","v":0},{"$f":"MAX(0,Sorcadins!S$561-Sorcadins!S$1276)","v":0},{"$f":"MAX(0,Sorcadins!T$561-Sorcadins!T$1276)","v":0},{"$f":"MAX(0,Sorcadins!U$561-Sorcadins!U$1276)","v":0},{"$f":"MAX(0,Sorcadins!V$561-Sorcadins!V$1276)","v":0},{"$f":"MAX(0,Sorcadins!W$561-Sorcadins!W$1276)","v":0},{"$f":"MAX(0,Sorcadins!X$561-Sorcadins!X$1276)","v":0},null,"*Sorc points directly convertible to Smite Dice"]
[{"$nulls":3},"remaining spell slot levels (based on Damage Scenario)",{"$f":"MAX(0,Sorcadins!E$281-MAX(0,Sorcadins!E$1276-Sorcadins!E$561))","v":0},{"$f":"MAX(0,Sorcadins!F$281-MAX(0,Sorcadins!F$1276-Sorcadins!F$561))","v":0},{"$f":"MAX(0,Sorcadins!G$281-MAX(0,Sorcadins!G$1276-Sorcadins!G$561))","v":0},{"$f":"MAX(0,Sorcadins!H$281-MAX(0,Sorcadins!H$1276-Sorcadins!H$561))","v":0},{"$f":"MAX(0,Sorcadins!I$281-MAX(0,Sorcadins!I$1276-Sorcadins!I$561))","v":0},{"$f":"MAX(0,Sorcadins!J$281-MAX(0,Sorcadins!J$1276-Sorcadins!J$561))","v":0},{"$f":"MAX(0,Sorcadins!K$281-MAX(0,Sorcadins!K$1276-Sorcadins!K$561))","v":0},{"$f":"MAX(0,Sorcadins!L$281-MAX(0,Sorcadins!L$1276-Sorcadins!L$561))","v":0},{"$f":"MAX(0,Sorcadins!M$281-MAX(0,Sorcadins!M$1276-Sorcadins!M$561))","v":0},{"$f":"MAX(0,Sorcadins!N$281-MAX(0,Sorcadins!N$1276-Sorcadins!N$561))","v":0},{"$f":"MAX(0,Sorcadins!O$281-MAX(0,Sorcadins!O$1276-Sorcadins!O$561))","v":0},{"$f":"MAX(0,Sorcadins!P$281-MAX(0,Sorcadins!P$1276-Sorcadins!P$561))","v":0},{"$f":"MAX(0,Sorcadins!Q$281-MAX(0,Sorcadins!Q$1276-Sorcadins!Q$561))","v":0},{"$f":"MAX(0,Sorcadins!R$281-MAX(0,Sorcadins!R$1276-Sorcadins!R$561))","v":0},{"$f":"MAX(0,Sorcadins!S$281-MAX(0,Sorcadins!S$1276-Sorcadins!S$561))","v":0},{"$f":"MAX(0,Sorcadins!T$281-MAX(0,Sorcadins!T$1276-Sorcadins!T$561))","v":0},{"$f":"MAX(0,Sorcadins!U$281-MAX(0,Sorcadins!U$1276-Sorcadins!U$561))","v":0},{"$f":"MAX(0,Sorcadins!V$281-MAX(0,Sorcadins!V$1276-Sorcadins!V$561))","v":0},{"$f":"MAX(0,Sorcadins!W$281-MAX(0,Sorcadins!W$1276-Sorcadins!W$561))","v":0},{"$f":"MAX(0,Sorcadins!X$281-MAX(0,Sorcadins!X$1276-Sorcadins!X$561))","v":0}]
[{"$nulls":3},"total warlock smite levels remaining",{"$f":"MIN(Sorcadins!E$273*E30,Sorcadins!E$264)","v":0},{"$f":"MIN(Sorcadins!F$273*F30,Sorcadins!F$264)","v":0},{"$f":"MIN(Sorcadins!G$273*G30,Sorcadins!G$264)","v":0},{"$f":"MIN(Sorcadins!H$273*H30,Sorcadins!H$264)","v":0},{"$f":"MIN(Sorcadins!I$273*I30,Sorcadins!I$264)","v":0},{"$f":"MIN(Sorcadins!J$273*J30,Sorcadins!J$264)","v":0},{"$f":"MIN(Sorcadins!K$273*K30,Sorcadins!K$264)","v":0},{"$f":"MIN(Sorcadins!L$273*L30,Sorcadins!L$264)","v":0},{"$f":"MIN(Sorcadins!M$273*M30,Sorcadins!M$264)","v":0},{"$f":"MIN(Sorcadins!N$273*N30,Sorcadins!N$264)","v":0},{"$f":"MIN(Sorcadins!O$273*O30,Sorcadins!O$264)","v":0},{"$f":"MIN(Sorcadins!P$273*P30,Sorcadins!P$264)","v":0},{"$f":"MIN(Sorcadins!Q$273*Q30,Sorcadins!Q$264)","v":0},{"$f":"MIN(Sorcadins!R$273*R30,Sorcadins!R$264)","v":0},{"$f":"MIN(Sorcadins!S$273*S30,Sorcadins!S$264)","v":0},{"$f":"MIN(Sorcadins!T$273*T30,Sorcadins!T$264)","v":0},{"$f":"MIN(Sorcadins!U$273*U30,Sorcadins!U$264)","v":0},{"$f":"MIN(Sorcadins!V$273*V30,Sorcadins!V$264)","v":0},{"$f":"MIN(Sorcadins!W$273*W30,Sorcadins!W$264)","v":0},{"$f":"MIN(Sorcadins!X$273*X30,Sorcadins!X$264)","v":0}]
[{"$nulls":3},"total smite levels remaining",{"$f":"IF(E$5>=1,Sorcadins!E$273*E30+E29,IF(E$6,E31,0))","v":0},{"$f":"IF(F$5>=1,Sorcadins!F$273*F30+F29,IF(F$6,F31,0))","v":0},{"$f":"IF(G$5>=1,Sorcadins!G$273*G30+G29,IF(G$6,G31,0))","v":0},{"$f":"IF(H$5>=1,Sorcadins!H$273*H30+H29,IF(H$6,H31,0))","v":0},{"$f":"IF(I$5>=1,Sorcadins!I$273*I30+I29,IF(I$6,I31,0))","v":0},{"$f":"IF(J$5>=1,Sorcadins!J$273*J30+J29,IF(J$6,J31,0))","v":0},{"$f":"IF(K$5>=1,Sorcadins!K$273*K30+K29,IF(K$6,K31,0))","v":0},{"$f":"IF(L$5>=1,Sorcadins!L$273*L30+L29,IF(L$6,L31,0))","v":0},{"$f":"IF(M$5>=1,Sorcadins!M$273*M30+M29,IF(M$6,M31,0))","v":0},{"$f":"IF(N$5>=1,Sorcadins!N$273*N30+N29,IF(N$6,N31,0))","v":0},{"$f":"IF(O$5>=1,Sorcadins!O$273*O30+O29,IF(O$6,O31,0))","v":0},{"$f":"IF(P$5>=1,Sorcadins!P$273*P30+P29,IF(P$6,P31,0))","v":0},{"$f":"IF(Q$5>=1,Sorcadins!Q$273*Q30+Q29,IF(Q$6,Q31,0))","v":0},{"$f":"IF(R$5>=1,Sorcadins!R$273*R30+R29,IF(R$6,R31,0))","v":0},{"$f":"IF(S$5>=1,Sorcadins!S$273*S30+S29,IF(S$6,S31,0))","v":0},{"$f":"IF(T$5>=1,Sorcadins!T$273*T30+T29,IF(T$6,T31,0))","v":0},{"$f":"IF(U$5>=1,Sorcadins!U$273*U30+U29,IF(U$6,U31,0))","v":0},{"$f":"IF(V$5>=1,Sorcadins!V$273*V30+V29,IF(V$6,V31,0))","v":0},{"$f":"IF(W$5>=1,Sorcadins!W$273*W30+W29,IF(W$6,W31,0))","v":0},{"$f":"IF(X$5>=1,Sorcadins!X$273*X30+X29,IF(X$6,X31,0))","v":0}]
[{"$nulls":3},"max number of daily smites (after spells)",{"$f":"IF(E$6,Sorcadins!E$1157,IF(E$5,Sorcadins!E$282+E29/2,0))","v":0},{"$f":"IF(F$6,Sorcadins!F$1157,IF(F$5,Sorcadins!F$282+F29/2,0))","v":0},{"$f":"IF(G$6,Sorcadins!G$1157,IF(G$5,Sorcadins!G$282+G29/2,0))","v":0},{"$f":"IF(H$6,Sorcadins!H$1157,IF(H$5,Sorcadins!H$282+H29/2,0))","v":0},{"$f":"IF(I$6,Sorcadins!I$1157,IF(I$5,Sorcadins!I$282+I29/2,0))","v":0},{"$f":"IF(J$6,Sorcadins!J$1157,IF(J$5,Sorcadins!J$282+J29/2,0))","v":0},{"$f":"IF(K$6,Sorcadins!K$1157,IF(K$5,Sorcadins!K$282+K29/2,0))","v":0},{"$f":"IF(L$6,Sorcadins!L$1157,IF(L$5,Sorcadins!L$282+L29/2,0))","v":0},{"$f":"IF(M$6,Sorcadins!M$1157,IF(M$5,Sorcadins!M$282+M29/2,0))","v":0},{"$f":"IF(N$6,Sorcadins!N$1157,IF(N$5,Sorcadins!N$282+N29/2,0))","v":0},{"$f":"IF(O$6,Sorcadins!O$1157,IF(O$5,Sorcadins!O$282+O29/2,0))","v":0},{"$f":"IF(P$6,Sorcadins!P$1157,IF(P$5,Sorcadins!P$282+P29/2,0))","v":0},{"$f":"IF(Q$6,Sorcadins!Q$1157,IF(Q$5,Sorcadins!Q$282+Q29/2,0))","v":0},{"$f":"IF(R$6,Sorcadins!R$1157,IF(R$5,Sorcadins!R$282+R29/2,0))","v":0},{"$f":"IF(S$6,Sorcadins!S$1157,IF(S$5,Sorcadins!S$282+S29/2,0))","v":0},{"$f":"IF(T$6,Sorcadins!T$1157,IF(T$5,Sorcadins!T$282+T29/2,0))","v":0},{"$f":"IF(U$6,Sorcadins!U$1157,IF(U$5,Sorcadins!U$282+U29/2,0))","v":0},{"$f":"IF(V$6,Sorcadins!V$1157,IF(V$5,Sorcadins!V$282+V29/2,0))","v":0},{"$f":"IF(W$6,Sorcadins!W$1157,IF(W$5,Sorcadins!W$282+W29/2,0))","v":0},{"$f":"IF(X$6,Sorcadins!X$1157,IF(X$5,Sorcadins!X$282+X29/2,0))","v":0}]
[{"$nulls":3},"avg crits per day for smite purposes (based on Damage Scenario)",{"$f":"'Base Numbers'!$C$5*'Base Numbers'!$C$6*Sorcadins!E$1309","v":0.8},{"$f":"'Base Numbers'!$C$5*'Base Numbers'!$C$6*Sorcadins!F$1309","v":0.8},{"$f":"'Base Numbers'!$C$5*'Base Numbers'!$C$6*Sorcadins!G$1309","v":0.8},{"$f":"'Base Numbers'!$C$5*'Base Numbers'!$C$6*Sorcadins!H$1309","v":0.8},{"$f":"'Base Numbers'!$C$5*'Base Numbers'!$C$6*Sorcadins!I$1309","v":0.8},{"$f":"'Base Numbers'!$C$5*'Base Numbers'!$C$6*Sorcadins!J$1309","v":0.8},{"$f":"'Base Numbers'!$C$5*'Base Numbers'!$C$6*Sorcadins!K$1309","v":0.8},{"$f":"'Base Numbers'!$C$5*'Base Numbers'!$C$6*Sorcadins!L$1309","v":0.8},{"$f":"'Base Numbers'!$C$5*'Base Numbers'!$C$6*Sorcadins!M$1309","v":0.8},{"$f":"'Base Numbers'!$C$5*'Base Numbers'!$C$6*Sorcadins!N$1309","v":0.8},{"$f":"'Base Numbers'!$C$5*'Base Numbers'!$C$6*Sorcadins!O$1309","v":0.8},{"$f":"'Base Numbers'!$C$5*'Base Numbers'!$C$6*Sorcadins!P$1309","v":0.8},{"$f":"'Base Numbers'!$C$5*'Base Numbers'!$C$6*Sorcadins!Q$1309","v":0.8},{"$f":"'Base Numbers'!$C$5*'Base Numbers'!$C$6*Sorcadins!R$1309","v":0.8},{"$f":"'Base Numbers'!$C$5*'Base Numbers'!$C$6*Sorcadins!S$1309","v":0.8},{"$f":"'Base Numbers'!$C$5*'Base Numbers'!$C$6*Sorcadins!T$1309","v":0.8},{"$f":"'Base Numbers'!$C$5*'Base Numbers'!$C$6*Sorcadins!U$1309","v":0.8},{"$f":"'Base Numbers'!$C$5*'Base Numbers'!$C$6*Sorcadins!V$1309","v":0.8},{"$f":"'Base Numbers'!$C$5*'Base Numbers'!$C$6*Sorcadins!W$1309","v":0.8},{"$f":"'Base Numbers'!$C$5*'Base Numbers'!$C$6*Sorcadins!X$1309","v":0.8}]
[{"$nulls":3},"number of smites used on crits",{"$f":"MIN(E33,E34)","v":0},0,0,0,0,0,0,0,0,0,0,0,0,0,0,0,0,0,0,0]
[{"$nulls":3},"avg smite dice per crit ",{"$f":"IF(E35>0,MIN(E$7,(E32/MIN(E35,E34))),0)","v":0},0,0,0,0,0,0,0,0,0,0,0,0,0,0,0,0,0,0,0]
[{"$nulls":3},"smites left for non-crits",{"$f":"E33-E35","v":0},{"$f":"F33-F35","v":0},0,0,0,0,0,0,0,0,0,0,0,0,0,0,0,0,0,0]
[{"$nulls":3},"total non-crit smite-qualifying attacks available",{"$f":"Sorcadins!E$1284*('Base Numbers'!$C$5*'Base Numbers'!$C$6)-E34","v":15.2},{"$f":"Sorcadins!F$1284*('Base Numbers'!$C$5*'Base Numbers'!$C$6)-F34","v":15.2},{"$f":"Sorcadins!G$1284*('Base Numbers'!$C$5*'Base Numbers'!$C$6)-G34","v":15.2},{"$f":"Sorcadins!H$1284*('Base Numbers'!$C$5*'Base Numbers'!$C$6)-H34","v":15.2},{"$f":"Sorcadins!I$1284*('Base Numbers'!$C$5*'Base Numbers'!$C$6)-I34","v":15.2},{"$f":"Sorcadins!J$1284*('Base Numbers'!$C$5*'Base Numbers'!$C$6)-J34","v":15.2},{"$f":"Sorcadins!K$1284*('Base Numbers'!$C$5*'Base Numbers'!$C$6)-K34","v":15.2},{"$f":"Sorcadins!L$1284*('Base Numbers'!$C$5*'Base Numbers'!$C$6)-L34","v":15.2},{"$f":"Sorcadins!M$1284*('Base Numbers'!$C$5*'Base Numbers'!$C$6)-M34","v":15.2},{"$f":"Sorcadins!N$1284*('Base Numbers'!$C$5*'Base Numbers'!$C$6)-N34","v":15.2},{"$f":"Sorcadins!O$1284*('Base Numbers'!$C$5*'Base Numbers'!$C$6)-O34","v":15.2},{"$f":"Sorcadins!P$1284*('Base Numbers'!$C$5*'Base Numbers'!$C$6)-P34","v":15.2},{"$f":"Sorcadins!Q$1284*('Base Numbers'!$C$5*'Base Numbers'!$C$6)-Q34","v":15.2},{"$f":"Sorcadins!R$1284*('Base Numbers'!$C$5*'Base Numbers'!$C$6)-R34","v":15.2},{"$f":"Sorcadins!S$1284*('Base Numbers'!$C$5*'Base Numbers'!$C$6)-S34","v":15.2},{"$f":"Sorcadins!T$1284*('Base Numbers'!$C$5*'Base Numbers'!$C$6)-T34","v":15.2},{"$f":"Sorcadins!U$1284*('Base Numbers'!$C$5*'Base Numbers'!$C$6)-U34","v":15.2},{"$f":"Sorcadins!V$1284*('Base Numbers'!$C$5*'Base Numbers'!$C$6)-V34","v":15.2},{"$f":"Sorcadins!W$1284*('Base Numbers'!$C$5*'Base Numbers'!$C$6)-W34","v":15.2},{"$f":"Sorcadins!X$1284*('Base Numbers'!$C$5*'Base Numbers'!$C$6)-X34","v":15.2}]
[{"$nulls":3},"smite dice left for non-crits",{"$f":"ROUND(MAX(0,E32-E34*E36),4)","v":0},0,0,0,0,0,0,0,0,0,0,0,0,0,0,0,0,0,0,0]
[{"$nulls":3},"total smite dice used on crits",{"$f":"E35*E36","v":0},{"$f":"F35*F36","v":0},0,0,0,0,0,0,0,0,0,0,0,0,0,0,0,0,0,0]
[{"$nulls":3},"total crit smite damage per day",{"$f":"9*E40","v":0},0,0,0,0,0,0,0,0,0,0,0,0,0,0,0,0,0,0,0]
[{"$nulls":3},"total non-crit smite damage per day",{"$f":"4.5*MIN(MIN(E38,E37)*E$7,E39)","v":0},{"$f":"4.5*MIN(MIN(F38,F37)*F$7,F39)","v":0},0,0,0,0,0,0,0,0,0,0,0,0,0,0,0,0,0,{"$f":"4.5*MIN(MIN(X38,X37)*X$7,X39)","v":0}]
[{"$nulls":3},"leftover sorc points + spell levels",{"$f":"IF(E32>0,IF(Sorcadins!E$273>0,(Sorcadins!E$273*E30+E29-E35*E36-E42/4.5)/Sorcadins!E$273,0),E30+E29)","v":0},{"$f":"IF(F32>0,IF(Sorcadins!F$273>0,(Sorcadins!F$273*F30+F29-F35*F36-F42/4.5)/Sorcadins!F$273,0),F30+F29)","v":0},{"$f":"IF(G32>0,IF(Sorcadins!G$273>0,(Sorcadins!G$273*G30+G29-G35*G36-G42/4.5)/Sorcadins!G$273,0),G30+G29)","v":0},{"$f":"IF(H32>0,IF(Sorcadins!H$273>0,(Sorcadins!H$273*H30+H29-H35*H36-H42/4.5)/Sorcadins!H$273,0),H30+H29)","v":0},{"$f":"IF(I32>0,IF(Sorcadins!I$273>0,(Sorcadins!I$273*I30+I29-I35*I36-I42/4.5)/Sorcadins!I$273,0),I30+I29)","v":0},{"$f":"IF(J32>0,IF(Sorcadins!J$273>0,(Sorcadins!J$273*J30+J29-J35*J36-J42/4.5)/Sorcadins!J$273,0),J30+J29)","v":0},{"$f":"IF(K32>0,IF(Sorcadins!K$273>0,(Sorcadins!K$273*K30+K29-K35*K36-K42/4.5)/Sorcadins!K$273,0),K30+K29)","v":0},{"$f":"IF(L32>0,IF(Sorcadins!L$273>0,(Sorcadins!L$273*L30+L29-L35*L36-L42/4.5)/Sorcadins!L$273,0),L30+L29)","v":0},{"$f":"IF(M32>0,IF(Sorcadins!M$273>0,(Sorcadins!M$273*M30+M29-M35*M36-M42/4.5)/Sorcadins!M$273,0),M30+M29)","v":0},{"$f":"IF(N32>0,IF(Sorcadins!N$273>0,(Sorcadins!N$273*N30+N29-N35*N36-N42/4.5)/Sorcadins!N$273,0),N30+N29)","v":0},{"$f":"IF(O32>0,IF(Sorcadins!O$273>0,(Sorcadins!O$273*O30+O29-O35*O36-O42/4.5)/Sorcadins!O$273,0),O30+O29)","v":0},{"$f":"IF(P32>0,IF(Sorcadins!P$273>0,(Sorcadins!P$273*P30+P29-P35*P36-P42/4.5)/Sorcadins!P$273,0),P30+P29)","v":0},{"$f":"IF(Q32>0,IF(Sorcadins!Q$273>0,(Sorcadins!Q$273*Q30+Q29-Q35*Q36-Q42/4.5)/Sorcadins!Q$273,0),Q30+Q29)","v":0},{"$f":"IF(R32>0,IF(Sorcadins!R$273>0,(Sorcadins!R$273*R30+R29-R35*R36-R42/4.5)/Sorcadins!R$273,0),R30+R29)","v":0},{"$f":"IF(S32>0,IF(Sorcadins!S$273>0,(Sorcadins!S$273*S30+S29-S35*S36-S42/4.5)/Sorcadins!S$273,0),S30+S29)","v":0},{"$f":"IF(T32>0,IF(Sorcadins!T$273>0,(Sorcadins!T$273*T30+T29-T35*T36-T42/4.5)/Sorcadins!T$273,0),T30+T29)","v":0},{"$f":"IF(U32>0,IF(Sorcadins!U$273>0,(Sorcadins!U$273*U30+U29-U35*U36-U42/4.5)/Sorcadins!U$273,0),U30+U29)","v":0},{"$f":"IF(V32>0,IF(Sorcadins!V$273>0,(Sorcadins!V$273*V30+V29-V35*V36-V42/4.5)/Sorcadins!V$273,0),V30+V29)","v":0},{"$f":"IF(W32>0,IF(Sorcadins!W$273>0,(Sorcadins!W$273*W30+W29-W35*W36-W42/4.5)/Sorcadins!W$273,0),W30+W29)","v":0},{"$f":"IF(X32>0,IF(Sorcadins!X$273>0,(Sorcadins!X$273*X30+X29-X35*X36-X42/4.5)/Sorcadins!X$273,0),X30+X29)","v":0}]
[{"$nulls":3},"actual smites performed",{"$f":"E35+IF(E$7>0,MIN(E37,E38,E39/E$7),0)","v":0},{"$f":"F35+IF(F$7>0,MIN(F37,F38,F39/F$7),0)","v":0},0,0,0,0,0,0,0,0,0,0,0,0,0,0,0,0,0,0]
[{"$nulls":3},"total daily smite damage: M1, B1, O3",{"$f":"E41+E42","v":0},0,0,0,0,0,0,0,0,0,0,0,0,0,0,0,0,0,0,0]
[]
[{"$nulls":3},"SMITES - M1, B2, O1/O2",1,2,3,4,5,6,7,8,9,10,11,12,13,14,15,16,17,18,19,20]
[{"$nulls":3},"remaining sorcery points (based on Damage Scenario)",{"$f":"MAX(0,Sorcadins!E$561-Sorcadins!E$1277)","v":0},{"$f":"MAX(0,Sorcadins!F$561-Sorcadins!F$1277)","v":0},{"$f":"MAX(0,Sorcadins!G$561-Sorcadins!G$1277)","v":0},{"$f":"MAX(0,Sorcadins!H$561-Sorcadins!H$1277)","v":0},{"$f":"MAX(0,Sorcadins!I$561-Sorcadins!I$1277)","v":0},{"$f":"MAX(0,Sorcadins!J$561-Sorcadins!J$1277)","v":0},{"$f":"MAX(0,Sorcadins!K$561-Sorcadins!K$1277)","v":0},{"$f":"MAX(0,Sorcadins!L$561-Sorcadins!L$1277)","v":0},{"$f":"MAX(0,Sorcadins!M$561-Sorcadins!M$1277)","v":0},{"$f":"MAX(0,Sorcadins!N$561-Sorcadins!N$1277)","v":0},{"$f":"MAX(0,Sorcadins!O$561-Sorcadins!O$1277)","v":0},{"$f":"MAX(0,Sorcadins!P$561-Sorcadins!P$1277)","v":0},{"$f":"MAX(0,Sorcadins!Q$561-Sorcadins!Q$1277)","v":0},{"$f":"MAX(0,Sorcadins!R$561-Sorcadins!R$1277)","v":0},{"$f":"MAX(0,Sorcadins!S$561-Sorcadins!S$1277)","v":0},{"$f":"MAX(0,Sorcadins!T$561-Sorcadins!T$1277)","v":0},{"$f":"MAX(0,Sorcadins!U$561-Sorcadins!U$1277)","v":0},{"$f":"MAX(0,Sorcadins!V$561-Sorcadins!V$1277)","v":0},{"$f":"MAX(0,Sorcadins!W$561-Sorcadins!W$1277)","v":0},{"$f":"MAX(0,Sorcadins!X$561-Sorcadins!X$1277)","v":0},null,"*Sorc points directly convertible to Smite Dice"]
[{"$nulls":3},"remaining spell slot levels (based on Damage Scenario)",{"$f":"MAX(0,Sorcadins!E$281-MAX(0,Sorcadins!E$1277-Sorcadins!E$561))","v":0},{"$f":"MAX(0,Sorcadins!F$281-MAX(0,Sorcadins!F$1277-Sorcadins!F$561))","v":0},{"$f":"MAX(0,Sorcadins!G$281-MAX(0,Sorcadins!G$1277-Sorcadins!G$561))","v":0},{"$f":"MAX(0,Sorcadins!H$281-MAX(0,Sorcadins!H$1277-Sorcadins!H$561))","v":0},{"$f":"MAX(0,Sorcadins!I$281-MAX(0,Sorcadins!I$1277-Sorcadins!I$561))","v":0},{"$f":"MAX(0,Sorcadins!J$281-MAX(0,Sorcadins!J$1277-Sorcadins!J$561))","v":0},{"$f":"MAX(0,Sorcadins!K$281-MAX(0,Sorcadins!K$1277-Sorcadins!K$561))","v":0},{"$f":"MAX(0,Sorcadins!L$281-MAX(0,Sorcadins!L$1277-Sorcadins!L$561))","v":0},{"$f":"MAX(0,Sorcadins!M$281-MAX(0,Sorcadins!M$1277-Sorcadins!M$561))","v":0},{"$f":"MAX(0,Sorcadins!N$281-MAX(0,Sorcadins!N$1277-Sorcadins!N$561))","v":0},{"$f":"MAX(0,Sorcadins!O$281-MAX(0,Sorcadins!O$1277-Sorcadins!O$561))","v":0},{"$f":"MAX(0,Sorcadins!P$281-MAX(0,Sorcadins!P$1277-Sorcadins!P$561))","v":0},{"$f":"MAX(0,Sorcadins!Q$281-MAX(0,Sorcadins!Q$1277-Sorcadins!Q$561))","v":0},{"$f":"MAX(0,Sorcadins!R$281-MAX(0,Sorcadins!R$1277-Sorcadins!R$561))","v":0},{"$f":"MAX(0,Sorcadins!S$281-MAX(0,Sorcadins!S$1277-Sorcadins!S$561))","v":0},{"$f":"MAX(0,Sorcadins!T$281-MAX(0,Sorcadins!T$1277-Sorcadins!T$561))","v":0},{"$f":"MAX(0,Sorcadins!U$281-MAX(0,Sorcadins!U$1277-Sorcadins!U$561))","v":0},{"$f":"MAX(0,Sorcadins!V$281-MAX(0,Sorcadins!V$1277-Sorcadins!V$561))","v":0},{"$f":"MAX(0,Sorcadins!W$281-MAX(0,Sorcadins!W$1277-Sorcadins!W$561))","v":0},{"$f":"MAX(0,Sorcadins!X$281-MAX(0,Sorcadins!X$1277-Sorcadins!X$561))","v":0}]
[{"$nulls":3},"total warlock smite levels remaining",{"$f":"MIN(Sorcadins!E$273*E49,Sorcadins!E$264)","v":0},{"$f":"MIN(Sorcadins!F$273*F49,Sorcadins!F$264)","v":0},{"$f":"MIN(Sorcadins!G$273*G49,Sorcadins!G$264)","v":0},{"$f":"MIN(Sorcadins!H$273*H49,Sorcadins!H$264)","v":0},{"$f":"MIN(Sorcadins!I$273*I49,Sorcadins!I$264)","v":0},{"$f":"MIN(Sorcadins!J$273*J49,Sorcadins!J$264)","v":0},{"$f":"MIN(Sorcadins!K$273*K49,Sorcadins!K$264)","v":0},{"$f":"MIN(Sorcadins!L$273*L49,Sorcadins!L$264)","v":0},{"$f":"MIN(Sorcadins!M$273*M49,Sorcadins!M$264)","v":0},{"$f":"MIN(Sorcadins!N$273*N49,Sorcadins!N$264)","v":0},{"$f":"MIN(Sorcadins!O$273*O49,Sorcadins!O$264)","v":0},{"$f":"MIN(Sorcadins!P$273*P49,Sorcadins!P$264)","v":0},{"$f":"MIN(Sorcadins!Q$273*Q49,Sorcadins!Q$264)","v":0},{"$f":"MIN(Sorcadins!R$273*R49,Sorcadins!R$264)","v":0},{"$f":"MIN(Sorcadins!S$273*S49,Sorcadins!S$264)","v":0},{"$f":"MIN(Sorcadins!T$273*T49,Sorcadins!T$264)","v":0},{"$f":"MIN(Sorcadins!U$273*U49,Sorcadins!U$264)","v":0},{"$f":"MIN(Sorcadins!V$273*V49,Sorcadins!V$264)","v":0},{"$f":"MIN(Sorcadins!W$273*W49,Sorcadins!W$264)","v":0},{"$f":"MIN(Sorcadins!X$273*X49,Sorcadins!X$264)","v":0}]
[{"$nulls":3},"total smite levels remaining",{"$f":"IF(E$5>=1,Sorcadins!E$273*E49+E48,IF(E$6,E50,0))","v":0},{"$f":"IF(F$5>=1,Sorcadins!F$273*F49+F48,IF(F$6,F50,0))","v":0},{"$f":"IF(G$5>=1,Sorcadins!G$273*G49+G48,IF(G$6,G50,0))","v":0},{"$f":"IF(H$5>=1,Sorcadins!H$273*H49+H48,IF(H$6,H50,0))","v":0},{"$f":"IF(I$5>=1,Sorcadins!I$273*I49+I48,IF(I$6,I50,0))","v":0},{"$f":"IF(J$5>=1,Sorcadins!J$273*J49+J48,IF(J$6,J50,0))","v":0},{"$f":"IF(K$5>=1,Sorcadins!K$273*K49+K48,IF(K$6,K50,0))","v":0},{"$f":"IF(L$5>=1,Sorcadins!L$273*L49+L48,IF(L$6,L50,0))","v":0},{"$f":"IF(M$5>=1,Sorcadins!M$273*M49+M48,IF(M$6,M50,0))","v":0},{"$f":"IF(N$5>=1,Sorcadins!N$273*N49+N48,IF(N$6,N50,0))","v":0},{"$f":"IF(O$5>=1,Sorcadins!O$273*O49+O48,IF(O$6,O50,0))","v":0},{"$f":"IF(P$5>=1,Sorcadins!P$273*P49+P48,IF(P$6,P50,0))","v":0},{"$f":"IF(Q$5>=1,Sorcadins!Q$273*Q49+Q48,IF(Q$6,Q50,0))","v":0},{"$f":"IF(R$5>=1,Sorcadins!R$273*R49+R48,IF(R$6,R50,0))","v":0},{"$f":"IF(S$5>=1,Sorcadins!S$273*S49+S48,IF(S$6,S50,0))","v":0},{"$f":"IF(T$5>=1,Sorcadins!T$273*T49+T48,IF(T$6,T50,0))","v":0},{"$f":"IF(U$5>=1,Sorcadins!U$273*U49+U48,IF(U$6,U50,0))","v":0},{"$f":"IF(V$5>=1,Sorcadins!V$273*V49+V48,IF(V$6,V50,0))","v":0},{"$f":"IF(W$5>=1,Sorcadins!W$273*W49+W48,IF(W$6,W50,0))","v":0},{"$f":"IF(X$5>=1,Sorcadins!X$273*X49+X48,IF(X$6,X50,0))","v":0}]
[{"$nulls":3},"max number of daily smites (after spells)",{"$f":"IF(E$6,Sorcadins!E$1157,IF(E$5,Sorcadins!E$282+E48/2,0))","v":0},{"$f":"IF(F$6,Sorcadins!F$1157,IF(F$5,Sorcadins!F$282+F48/2,0))","v":0},{"$f":"IF(G$6,Sorcadins!G$1157,IF(G$5,Sorcadins!G$282+G48/2,0))","v":0},{"$f":"IF(H$6,Sorcadins!H$1157,IF(H$5,Sorcadins!H$282+H48/2,0))","v":0},{"$f":"IF(I$6,Sorcadins!I$1157,IF(I$5,Sorcadins!I$282+I48/2,0))","v":0},{"$f":"IF(J$6,Sorcadins!J$1157,IF(J$5,Sorcadins!J$282+J48/2,0))","v":0},{"$f":"IF(K$6,Sorcadins!K$1157,IF(K$5,Sorcadins!K$282+K48/2,0))","v":0},{"$f":"IF(L$6,Sorcadins!L$1157,IF(L$5,Sorcadins!L$282+L48/2,0))","v":0},{"$f":"IF(M$6,Sorcadins!M$1157,IF(M$5,Sorcadins!M$282+M48/2,0))","v":0},{"$f":"IF(N$6,Sorcadins!N$1157,IF(N$5,Sorcadins!N$282+N48/2,0))","v":0},{"$f":"IF(O$6,Sorcadins!O$1157,IF(O$5,Sorcadins!O$282+O48/2,0))","v":0},{"$f":"IF(P$6,Sorcadins!P$1157,IF(P$5,Sorcadins!P$282+P48/2,0))","v":0},{"$f":"IF(Q$6,Sorcadins!Q$1157,IF(Q$5,Sorcadins!Q$282+Q48/2,0))","v":0},{"$f":"IF(R$6,Sorcadins!R$1157,IF(R$5,Sorcadins!R$282+R48/2,0))","v":0},{"$f":"IF(S$6,Sorcadins!S$1157,IF(S$5,Sorcadins!S$282+S48/2,0))","v":0},{"$f":"IF(T$6,Sorcadins!T$1157,IF(T$5,Sorcadins!T$282+T48/2,0))","v":0},{"$f":"IF(U$6,Sorcadins!U$1157,IF(U$5,Sorcadins!U$282+U48/2,0))","v":0},{"$f":"IF(V$6,Sorcadins!V$1157,IF(V$5,Sorcadins!V$282+V48/2,0))","v":0},{"$f":"IF(W$6,Sorcadins!W$1157,IF(W$5,Sorcadins!W$282+W48/2,0))","v":0},{"$f":"IF(X$6,Sorcadins!X$1157,IF(X$5,Sorcadins!X$282+X48/2,0))","v":0}]
[{"$nulls":3},"avg crits per day for smite purposes (based on Damage Scenario)",{"$f":"'Base Numbers'!$C$5*'Base Numbers'!$C$6*Sorcadins!E$1310","v":1},{"$f":"'Base Numbers'!$C$5*'Base Numbers'!$C$6*Sorcadins!F$1310","v":1},{"$f":"'Base Numbers'!$C$5*'Base Numbers'!$C$6*Sorcadins!G$1310","v":1},{"$f":"'Base Numbers'!$C$5*'Base Numbers'!$C$6*Sorcadins!H$1310","v":1},{"$f":"'Base Numbers'!$C$5*'Base Numbers'!$C$6*Sorcadins!I$1310","v":1},{"$f":"'Base Numbers'!$C$5*'Base Numbers'!$C$6*Sorcadins!J$1310","v":1},{"$f":"'Base Numbers'!$C$5*'Base Numbers'!$C$6*Sorcadins!K$1310","v":1},{"$f":"'Base Numbers'!$C$5*'Base Numbers'!$C$6*Sorcadins!L$1310","v":1},{"$f":"'Base Numbers'!$C$5*'Base Numbers'!$C$6*Sorcadins!M$1310","v":1},{"$f":"'Base Numbers'!$C$5*'Base Numbers'!$C$6*Sorcadins!N$1310","v":1},{"$f":"'Base Numbers'!$C$5*'Base Numbers'!$C$6*Sorcadins!O$1310","v":1},{"$f":"'Base Numbers'!$C$5*'Base Numbers'!$C$6*Sorcadins!P$1310","v":1},{"$f":"'Base Numbers'!$C$5*'Base Numbers'!$C$6*Sorcadins!Q$1310","v":1},{"$f":"'Base Numbers'!$C$5*'Base Numbers'!$C$6*Sorcadins!R$1310","v":1},{"$f":"'Base Numbers'!$C$5*'Base Numbers'!$C$6*Sorcadins!S$1310","v":1},{"$f":"'Base Numbers'!$C$5*'Base Numbers'!$C$6*Sorcadins!T$1310","v":1},{"$f":"'Base Numbers'!$C$5*'Base Numbers'!$C$6*Sorcadins!U$1310","v":1},{"$f":"'Base Numbers'!$C$5*'Base Numbers'!$C$6*Sorcadins!V$1310","v":1},{"$f":"'Base Numbers'!$C$5*'Base Numbers'!$C$6*Sorcadins!W$1310","v":1},{"$f":"'Base Numbers'!$C$5*'Base Numbers'!$C$6*Sorcadins!X$1310","v":1}]
[{"$nulls":3},"number of smites used on crits",{"$f":"MIN(E52,E53)","v":0},{"$f":"MIN(F52,F53)","v":0},0,0,0,0,0,0,0,0,0,0,0,0,0,0,0,0,0,0]
[{"$nulls":3},"avg smite dice per crit ",{"$f":"IF(E54>0,MIN(E$7,(E51/MIN(E54,E53))),0)","v":0},0,0,0,0,0,0,0,0,0,0,0,0,0,0,0,0,0,0,0]
[{"$nulls":3},"smites left for non-crits",{"$f":"E52-E54","v":0},{"$f":"F52-F54","v":0},0,0,0,0,0,0,0,0,0,0,0,0,0,0,0,0,0,0]
[{"$nulls":3},"total non-crit smite-qualifying attacks available",{"$f":"Sorcadins!E$1285*('Base Numbers'!$C$5*'Base Numbers'!$C$6)-E53","v":19},{"$f":"Sorcadins!F$1285*('Base Numbers'!$C$5*'Base Numbers'!$C$6)-F53","v":19},{"$f":"Sorcadins!G$1285*('Base Numbers'!$C$5*'Base Numbers'!$C$6)-G53","v":19},{"$f":"Sorcadins!H$1285*('Base Numbers'!$C$5*'Base Numbers'!$C$6)-H53","v":19},{"$f":"Sorcadins!I$1285*('Base Numbers'!$C$5*'Base Numbers'!$C$6)-I53","v":19},{"$f":"Sorcadins!J$1285*('Base Numbers'!$C$5*'Base Numbers'!$C$6)-J53","v":19},{"$f":"Sorcadins!K$1285*('Base Numbers'!$C$5*'Base Numbers'!$C$6)-K53","v":19},{"$f":"Sorcadins!L$1285*('Base Numbers'!$C$5*'Base Numbers'!$C$6)-L53","v":19},{"$f":"Sorcadins!M$1285*('Base Numbers'!$C$5*'Base Numbers'!$C$6)-M53","v":19},{"$f":"Sorcadins!N$1285*('Base Numbers'!$C$5*'Base Numbers'!$C$6)-N53","v":19},{"$f":"Sorcadins!O$1285*('Base Numbers'!$C$5*'Base Numbers'!$C$6)-O53","v":19},{"$f":"Sorcadins!P$1285*('Base Numbers'!$C$5*'Base Numbers'!$C$6)-P53","v":19},{"$f":"Sorcadins!Q$1285*('Base Numbers'!$C$5*'Base Numbers'!$C$6)-Q53","v":19},{"$f":"Sorcadins!R$1285*('Base Numbers'!$C$5*'Base Numbers'!$C$6)-R53","v":19},{"$f":"Sorcadins!S$1285*('Base Numbers'!$C$5*'Base Numbers'!$C$6)-S53","v":19},{"$f":"Sorcadins!T$1285*('Base Numbers'!$C$5*'Base Numbers'!$C$6)-T53","v":19},{"$f":"Sorcadins!U$1285*('Base Numbers'!$C$5*'Base Numbers'!$C$6)-U53","v":19},{"$f":"Sorcadins!V$1285*('Base Numbers'!$C$5*'Base Numbers'!$C$6)-V53","v":19},{"$f":"Sorcadins!W$1285*('Base Numbers'!$C$5*'Base Numbers'!$C$6)-W53","v":19},{"$f":"Sorcadins!X$1285*('Base Numbers'!$C$5*'Base Numbers'!$C$6)-X53","v":19}]
[{"$nulls":3},"smite dice left for non-crits",{"$f":"ROUND(MAX(0,E51-E53*E55),4)","v":0},0,0,0,0,0,0,0,0,0,0,0,0,0,0,0,0,0,0,0]
[{"$nulls":3},"total smite dice used on crits",{"$f":"E54*E55","v":0},0,0,0,0,0,0,0,0,0,0,0,0,0,0,0,0,0,0,0]
[{"$nulls":3},"total crit smite damage per day",{"$f":"9*E59","v":0},{"$f":"9*F59","v":0},0,0,0,0,0,0,0,0,0,0,0,0,0,0,0,0,0,0]
[{"$nulls":3},"total non-crit smite damage per day",{"$f":"4.5*MIN(MIN(E57,E56)*E$7,E58)","v":0},{"$f":"4.5*MIN(MIN(F57,F56)*F$7,F58)","v":0},0,0,0,0,0,0,0,0,0,0,0,0,0,0,0,0,0,0]
[{"$nulls":3},"leftover sorc points + spell levels",{"$f":"IF(E51>0,IF(Sorcadins!E$273>0,(Sorcadins!E$273*E49+E48-E54*E55-E61/4.5)/Sorcadins!E$273,0),E49+E48)","v":0},{"$f":"IF(F51>0,IF(Sorcadins!F$273>0,(Sorcadins!F$273*F49+F48-F54*F55-F61/4.5)/Sorcadins!F$273,0),F49+F48)","v":0},{"$f":"IF(G51>0,IF(Sorcadins!G$273>0,(Sorcadins!G$273*G49+G48-G54*G55-G61/4.5)/Sorcadins!G$273,0),G49+G48)","v":0},{"$f":"IF(H51>0,IF(Sorcadins!H$273>0,(Sorcadins!H$273*H49+H48-H54*H55-H61/4.5)/Sorcadins!H$273,0),H49+H48)","v":0},{"$f":"IF(I51>0,IF(Sorcadins!I$273>0,(Sorcadins!I$273*I49+I48-I54*I55-I61/4.5)/Sorcadins!I$273,0),I49+I48)","v":0},{"$f":"IF(J51>0,IF(Sorcadins!J$273>0,(Sorcadins!J$273*J49+J48-J54*J55-J61/4.5)/Sorcadins!J$273,0),J49+J48)","v":0},{"$f":"IF(K51>0,IF(Sorcadins!K$273>0,(Sorcadins!K$273*K49+K48-K54*K55-K61/4.5)/Sorcadins!K$273,0),K49+K48)","v":0},{"$f":"IF(L51>0,IF(Sorcadins!L$273>0,(Sorcadins!L$273*L49+L48-L54*L55-L61/4.5)/Sorcadins!L$273,0),L49+L48)","v":0},{"$f":"IF(M51>0,IF(Sorcadins!M$273>0,(Sorcadins!M$273*M49+M48-M54*M55-M61/4.5)/Sorcadins!M$273,0),M49+M48)","v":0},{"$f":"IF(N51>0,IF(Sorcadins!N$273>0,(Sorcadins!N$273*N49+N48-N54*N55-N61/4.5)/Sorcadins!N$273,0),N49+N48)","v":0},{"$f":"IF(O51>0,IF(Sorcadins!O$273>0,(Sorcadins!O$273*O49+O48-O54*O55-O61/4.5)/Sorcadins!O$273,0),O49+O48)","v":0},{"$f":"IF(P51>0,IF(Sorcadins!P$273>0,(Sorcadins!P$273*P49+P48-P54*P55-P61/4.5)/Sorcadins!P$273,0),P49+P48)","v":0},{"$f":"IF(Q51>0,IF(Sorcadins!Q$273>0,(Sorcadins!Q$273*Q49+Q48-Q54*Q55-Q61/4.5)/Sorcadins!Q$273,0),Q49+Q48)","v":0},{"$f":"IF(R51>0,IF(Sorcadins!R$273>0,(Sorcadins!R$273*R49+R48-R54*R55-R61/4.5)/Sorcadins!R$273,0),R49+R48)","v":0},{"$f":"IF(S51>0,IF(Sorcadins!S$273>0,(Sorcadins!S$273*S49+S48-S54*S55-S61/4.5)/Sorcadins!S$273,0),S49+S48)","v":0},{"$f":"IF(T51>0,IF(Sorcadins!T$273>0,(Sorcadins!T$273*T49+T48-T54*T55-T61/4.5)/Sorcadins!T$273,0),T49+T48)","v":0},{"$f":"IF(U51>0,IF(Sorcadins!U$273>0,(Sorcadins!U$273*U49+U48-U54*U55-U61/4.5)/Sorcadins!U$273,0),U49+U48)","v":0},{"$f":"IF(V51>0,IF(Sorcadins!V$273>0,(Sorcadins!V$273*V49+V48-V54*V55-V61/4.5)/Sorcadins!V$273,0),V49+V48)","v":0},{"$f":"IF(W51>0,IF(Sorcadins!W$273>0,(Sorcadins!W$273*W49+W48-W54*W55-W61/4.5)/Sorcadins!W$273,0),W49+W48)","v":0},{"$f":"IF(X51>0,IF(Sorcadins!X$273>0,(Sorcadins!X$273*X49+X48-X54*X55-X61/4.5)/Sorcadins!X$273,0),X49+X48)","v":0}]
[{"$nulls":3},"actual smites performed",{"$f":"E54+IF(E$7>0,MIN(E56,E57,E58/E$7),0)","v":0},{"$f":"F54+IF(F$7>0,MIN(F56,F57,F58/F$7),0)","v":0},0,0,0,0,0,0,0,0,0,0,0,0,0,0,0,0,0,0]
[{"$nulls":3},"total daily smite damage: M1, B2, O1/O2",{"$f":"E60+E61","v":0},{"$f":"F60+F61","v":0},0,0,0,0,0,0,0,0,0,0,0,0,0,0,0,0,0,0]
[]
[{"$nulls":3},"SMITES - M1, B2, O3",1,2,3,4,5,6,7,8,9,10,11,12,13,14,15,16,17,18,19,20]
[{"$nulls":3},"remaining sorcery points (based on Damage Scenario)",{"$f":"MAX(0,Sorcadins!E$561-Sorcadins!E$1277)","v":0},{"$f":"MAX(0,Sorcadins!F$561-Sorcadins!F$1277)","v":0},{"$f":"MAX(0,Sorcadins!G$561-Sorcadins!G$1277)","v":0},{"$f":"MAX(0,Sorcadins!H$561-Sorcadins!H$1277)","v":0},{"$f":"MAX(0,Sorcadins!I$561-Sorcadins!I$1277)","v":0},{"$f":"MAX(0,Sorcadins!J$561-Sorcadins!J$1277)","v":0},{"$f":"MAX(0,Sorcadins!K$561-Sorcadins!K$1277)","v":0},{"$f":"MAX(0,Sorcadins!L$561-Sorcadins!L$1277)","v":0},{"$f":"MAX(0,Sorcadins!M$561-Sorcadins!M$1277)","v":0},{"$f":"MAX(0,Sorcadins!N$561-Sorcadins!N$1277)","v":0},{"$f":"MAX(0,Sorcadins!O$561-Sorcadins!O$1277)","v":0},{"$f":"MAX(0,Sorcadins!P$561-Sorcadins!P$1277)","v":0},{"$f":"MAX(0,Sorcadins!Q$561-Sorcadins!Q$1277)","v":0},{"$f":"MAX(0,Sorcadins!R$561-Sorcadins!R$1277)","v":0},{"$f":"MAX(0,Sorcadins!S$561-Sorcadins!S$1277)","v":0},{"$f":"MAX(0,Sorcadins!T$561-Sorcadins!T$1277)","v":0},{"$f":"MAX(0,Sorcadins!U$561-Sorcadins!U$1277)","v":0},{"$f":"MAX(0,Sorcadins!V$561-Sorcadins!V$1277)","v":0},{"$f":"MAX(0,Sorcadins!W$561-Sorcadins!W$1277)","v":0},{"$f":"MAX(0,Sorcadins!X$561-Sorcadins!X$1277)","v":0},null,"*Sorc points directly convertible to Smite Dice"]
[{"$nulls":3},"remaining spell slot levels (based on Damage Scenario)",{"$f":"MAX(0,Sorcadins!E$281-MAX(0,Sorcadins!E$1277-Sorcadins!E$561))","v":0},{"$f":"MAX(0,Sorcadins!F$281-MAX(0,Sorcadins!F$1277-Sorcadins!F$561))","v":0},{"$f":"MAX(0,Sorcadins!G$281-MAX(0,Sorcadins!G$1277-Sorcadins!G$561))","v":0},{"$f":"MAX(0,Sorcadins!H$281-MAX(0,Sorcadins!H$1277-Sorcadins!H$561))","v":0},{"$f":"MAX(0,Sorcadins!I$281-MAX(0,Sorcadins!I$1277-Sorcadins!I$561))","v":0},{"$f":"MAX(0,Sorcadins!J$281-MAX(0,Sorcadins!J$1277-Sorcadins!J$561))","v":0},{"$f":"MAX(0,Sorcadins!K$281-MAX(0,Sorcadins!K$1277-Sorcadins!K$561))","v":0},{"$f":"MAX(0,Sorcadins!L$281-MAX(0,Sorcadins!L$1277-Sorcadins!L$561))","v":0},{"$f":"MAX(0,Sorcadins!M$281-MAX(0,Sorcadins!M$1277-Sorcadins!M$561))","v":0},{"$f":"MAX(0,Sorcadins!N$281-MAX(0,Sorcadins!N$1277-Sorcadins!N$561))","v":0},{"$f":"MAX(0,Sorcadins!O$281-MAX(0,Sorcadins!O$1277-Sorcadins!O$561))","v":0},{"$f":"MAX(0,Sorcadins!P$281-MAX(0,Sorcadins!P$1277-Sorcadins!P$561))","v":0},{"$f":"MAX(0,Sorcadins!Q$281-MAX(0,Sorcadins!Q$1277-Sorcadins!Q$561))","v":0},{"$f":"MAX(0,Sorcadins!R$281-MAX(0,Sorcadins!R$1277-Sorcadins!R$561))","v":0},{"$f":"MAX(0,Sorcadins!S$281-MAX(0,Sorcadins!S$1277-Sorcadins!S$561))","v":0},{"$f":"MAX(0,Sorcadins!T$281-MAX(0,Sorcadins!T$1277-Sorcadins!T$561))","v":0},{"$f":"MAX(0,Sorcadins!U$281-MAX(0,Sorcadins!U$1277-Sorcadins!U$561))","v":0},{"$f":"MAX(0,Sorcadins!V$281-MAX(0,Sorcadins!V$1277-Sorcadins!V$561))","v":0},{"$f":"MAX(0,Sorcadins!W$281-MAX(0,Sorcadins!W$1277-Sorcadins!W$561))","v":0},{"$f":"MAX(0,Sorcadins!X$281-MAX(0,Sorcadins!X$1277-Sorcadins!X$561))","v":0}]
[{"$nulls":3},"total warlock smite levels remaining",{"$f":"MIN(Sorcadins!E$273*E68,Sorcadins!E$264)","v":0},{"$f":"MIN(Sorcadins!F$273*F68,Sorcadins!F$264)","v":0},{"$f":"MIN(Sorcadins!G$273*G68,Sorcadins!G$264)","v":0},{"$f":"MIN(Sorcadins!H$273*H68,Sorcadins!H$264)","v":0},{"$f":"MIN(Sorcadins!I$273*I68,Sorcadins!I$264)","v":0},{"$f":"MIN(Sorcadins!J$273*J68,Sorcadins!J$264)","v":0},{"$f":"MIN(Sorcadins!K$273*K68,Sorcadins!K$264)","v":0},{"$f":"MIN(Sorcadins!L$273*L68,Sorcadins!L$264)","v":0},{"$f":"MIN(Sorcadins!M$273*M68,Sorcadins!M$264)","v":0},{"$f":"MIN(Sorcadins!N$273*N68,Sorcadins!N$264)","v":0},{"$f":"MIN(Sorcadins!O$273*O68,Sorcadins!O$264)","v":0},{"$f":"MIN(Sorcadins!P$273*P68,Sorcadins!P$264)","v":0},{"$f":"MIN(Sorcadins!Q$273*Q68,Sorcadins!Q$264)","v":0},{"$f":"MIN(Sorcadins!R$273*R68,Sorcadins!R$264)","v":0},{"$f":"MIN(Sorcadins!S$273*S68,Sorcadins!S$264)","v":0},{"$f":"MIN(Sorcadins!T$273*T68,Sorcadins!T$264)","v":0},{"$f":"MIN(Sorcadins!U$273*U68,Sorcadins!U$264)","v":0},{"$f":"MIN(Sorcadins!V$273*V68,Sorcadins!V$264)","v":0},{"$f":"MIN(Sorcadins!W$273*W68,Sorcadins!W$264)","v":0},{"$f":"MIN(Sorcadins!X$273*X68,Sorcadins!X$264)","v":0}]
[{"$nulls":3},"total smite levels remaining",{"$f":"IF(E$5>=1,Sorcadins!E$273*E68+E67,IF(E$6,E69,0))","v":0},{"$f":"IF(F$5>=1,Sorcadins!F$273*F68+F67,IF(F$6,F69,0))","v":0},{"$f":"IF(G$5>=1,Sorcadins!G$273*G68+G67,IF(G$6,G69,0))","v":0},{"$f":"IF(H$5>=1,Sorcadins!H$273*H68+H67,IF(H$6,H69,0))","v":0},{"$f":"IF(I$5>=1,Sorcadins!I$273*I68+I67,IF(I$6,I69,0))","v":0},{"$f":"IF(J$5>=1,Sorcadins!J$273*J68+J67,IF(J$6,J69,0))","v":0},{"$f":"IF(K$5>=1,Sorcadins!K$273*K68+K67,IF(K$6,K69,0))","v":0},{"$f":"IF(L$5>=1,Sorcadins!L$273*L68+L67,IF(L$6,L69,0))","v":0},{"$f":"IF(M$5>=1,Sorcadins!M$273*M68+M67,IF(M$6,M69,0))","v":0},{"$f":"IF(N$5>=1,Sorcadins!N$273*N68+N67,IF(N$6,N69,0))","v":0},{"$f":"IF(O$5>=1,Sorcadins!O$273*O68+O67,IF(O$6,O69,0))","v":0},{"$f":"IF(P$5>=1,Sorcadins!P$273*P68+P67,IF(P$6,P69,0))","v":0},{"$f":"IF(Q$5>=1,Sorcadins!Q$273*Q68+Q67,IF(Q$6,Q69,0))","v":0},{"$f":"IF(R$5>=1,Sorcadins!R$273*R68+R67,IF(R$6,R69,0))","v":0},{"$f":"IF(S$5>=1,Sorcadins!S$273*S68+S67,IF(S$6,S69,0))","v":0},{"$f":"IF(T$5>=1,Sorcadins!T$273*T68+T67,IF(T$6,T69,0))","v":0},{"$f":"IF(U$5>=1,Sorcadins!U$273*U68+U67,IF(U$6,U69,0))","v":0},{"$f":"IF(V$5>=1,Sorcadins!V$273*V68+V67,IF(V$6,V69,0))","v":0},{"$f":"IF(W$5>=1,Sorcadins!W$273*W68+W67,IF(W$6,W69,0))","v":0},{"$f":"IF(X$5>=1,Sorcadins!X$273*X68+X67,IF(X$6,X69,0))","v":0}]
[{"$nulls":3},"max number of daily smites (after spells)",{"$f":"IF(E$6,Sorcadins!E$1157,IF(E$5,Sorcadins!E$282+E67/2,0))","v":0},{"$f":"IF(F$6,Sorcadins!F$1157,IF(F$5,Sorcadins!F$282+F67/2,0))","v":0},{"$f":"IF(G$6,Sorcadins!G$1157,IF(G$5,Sorcadins!G$282+G67/2,0))","v":0},{"$f":"IF(H$6,Sorcadins!H$1157,IF(H$5,Sorcadins!H$282+H67/2,0))","v":0},{"$f":"IF(I$6,Sorcadins!I$1157,IF(I$5,Sorcadins!I$282+I67/2,0))","v":0},{"$f":"IF(J$6,Sorcadins!J$1157,IF(J$5,Sorcadins!J$282+J67/2,0))","v":0},{"$f":"IF(K$6,Sorcadins!K$1157,IF(K$5,Sorcadins!K$282+K67/2,0))","v":0},{"$f":"IF(L$6,Sorcadins!L$1157,IF(L$5,Sorcadins!L$282+L67/2,0))","v":0},{"$f":"IF(M$6,Sorcadins!M$1157,IF(M$5,Sorcadins!M$282+M67/2,0))","v":0},{"$f":"IF(N$6,Sorcadins!N$1157,IF(N$5,Sorcadins!N$282+N67/2,0))","v":0},{"$f":"IF(O$6,Sorcadins!O$1157,IF(O$5,Sorcadins!O$282+O67/2,0))","v":0},{"$f":"IF(P$6,Sorcadins!P$1157,IF(P$5,Sorcadins!P$282+P67/2,0))","v":0},{"$f":"IF(Q$6,Sorcadins!Q$1157,IF(Q$5,Sorcadins!Q$282+Q67/2,0))","v":0},{"$f":"IF(R$6,Sorcadins!R$1157,IF(R$5,Sorcadins!R$282+R67/2,0))","v":0},{"$f":"IF(S$6,Sorcadins!S$1157,IF(S$5,Sorcadins!S$282+S67/2,0))","v":0},{"$f":"IF(T$6,Sorcadins!T$1157,IF(T$5,Sorcadins!T$282+T67/2,0))","v":0},{"$f":"IF(U$6,Sorcadins!U$1157,IF(U$5,Sorcadins!U$282+U67/2,0))","v":0},{"$f":"IF(V$6,Sorcadins!V$1157,IF(V$5,Sorcadins!V$282+V67/2,0))","v":0},{"$f":"IF(W$6,Sorcadins!W$1157,IF(W$5,Sorcadins!W$282+W67/2,0))","v":0},{"$f":"IF(X$6,Sorcadins!X$1157,IF(X$5,Sorcadins!X$282+X67/2,0))","v":0}]
[{"$nulls":3},"avg crits per day for smite purposes (based on Damage Scenario)",{"$f":"'Base Numbers'!$C$5*'Base Numbers'!$C$6*Sorcadins!E$1311","v":0.8},{"$f":"'Base Numbers'!$C$5*'Base Numbers'!$C$6*Sorcadins!F$1311","v":0.8},{"$f":"'Base Numbers'!$C$5*'Base Numbers'!$C$6*Sorcadins!G$1311","v":0.8},{"$f":"'Base Numbers'!$C$5*'Base Numbers'!$C$6*Sorcadins!H$1311","v":0.8},{"$f":"'Base Numbers'!$C$5*'Base Numbers'!$C$6*Sorcadins!I$1311","v":0.8},{"$f":"'Base Numbers'!$C$5*'Base Numbers'!$C$6*Sorcadins!J$1311","v":0.8},{"$f":"'Base Numbers'!$C$5*'Base Numbers'!$C$6*Sorcadins!K$1311","v":0.8},{"$f":"'Base Numbers'!$C$5*'Base Numbers'!$C$6*Sorcadins!L$1311","v":0.8},{"$f":"'Base Numbers'!$C$5*'Base Numbers'!$C$6*Sorcadins!M$1311","v":0.8},{"$f":"'Base Numbers'!$C$5*'Base Numbers'!$C$6*Sorcadins!N$1311","v":0.8},{"$f":"'Base Numbers'!$C$5*'Base Numbers'!$C$6*Sorcadins!O$1311","v":0.8},{"$f":"'Base Numbers'!$C$5*'Base Numbers'!$C$6*Sorcadins!P$1311","v":0.8},{"$f":"'Base Numbers'!$C$5*'Base Numbers'!$C$6*Sorcadins!Q$1311","v":0.8},{"$f":"'Base Numbers'!$C$5*'Base Numbers'!$C$6*Sorcadins!R$1311","v":0.8},{"$f":"'Base Numbers'!$C$5*'Base Numbers'!$C$6*Sorcadins!S$1311","v":0.8},{"$f":"'Base Numbers'!$C$5*'Base Numbers'!$C$6*Sorcadins!T$1311","v":0.8},{"$f":"'Base Numbers'!$C$5*'Base Numbers'!$C$6*Sorcadins!U$1311","v":0.8},{"$f":"'Base Numbers'!$C$5*'Base Numbers'!$C$6*Sorcadins!V$1311","v":0.8},{"$f":"'Base Numbers'!$C$5*'Base Numbers'!$C$6*Sorcadins!W$1311","v":0.8},{"$f":"'Base Numbers'!$C$5*'Base Numbers'!$C$6*Sorcadins!X$1311","v":0.8}]
[{"$nulls":3},"number of smites used on crits",{"$f":"MIN(E71,E72)","v":0},{"$f":"MIN(F71,F72)","v":0},0,0,0,0,0,0,0,0,0,0,0,0,0,0,0,0,0,0]
[{"$nulls":3},"avg smite dice per crit ",{"$f":"IF(E73>0,MIN(E$7,(E70/MIN(E73,E72))),0)","v":0},0,0,0,0,0,0,0,0,0,0,0,0,0,0,0,0,0,0,0]
[{"$nulls":3},"smites left for non-crits",{"$f":"E71-E73","v":0},{"$f":"F71-F73","v":0},0,0,0,0,0,0,0,0,0,0,0,0,0,0,0,0,0,0]
[{"$nulls":3},"total non-crit smite-qualifying attacks available",{"$f":"Sorcadins!E$1286*('Base Numbers'!$C$5*'Base Numbers'!$C$6)-E72","v":15.2},{"$f":"Sorcadins!F$1286*('Base Numbers'!$C$5*'Base Numbers'!$C$6)-F72","v":15.2},{"$f":"Sorcadins!G$1286*('Base Numbers'!$C$5*'Base Numbers'!$C$6)-G72","v":15.2},{"$f":"Sorcadins!H$1286*('Base Numbers'!$C$5*'Base Numbers'!$C$6)-H72","v":15.2},{"$f":"Sorcadins!I$1286*('Base Numbers'!$C$5*'Base Numbers'!$C$6)-I72","v":15.2},{"$f":"Sorcadins!J$1286*('Base Numbers'!$C$5*'Base Numbers'!$C$6)-J72","v":15.2},{"$f":"Sorcadins!K$1286*('Base Numbers'!$C$5*'Base Numbers'!$C$6)-K72","v":15.2},{"$f":"Sorcadins!L$1286*('Base Numbers'!$C$5*'Base Numbers'!$C$6)-L72","v":15.2},{"$f":"Sorcadins!M$1286*('Base Numbers'!$C$5*'Base Numbers'!$C$6)-M72","v":15.2},{"$f":"Sorcadins!N$1286*('Base Numbers'!$C$5*'Base Numbers'!$C$6)-N72","v":15.2},{"$f":"Sorcadins!O$1286*('Base Numbers'!$C$5*'Base Numbers'!$C$6)-O72","v":15.2},{"$f":"Sorcadins!P$1286*('Base Numbers'!$C$5*'Base Numbers'!$C$6)-P72","v":15.2},{"$f":"Sorcadins!Q$1286*('Base Numbers'!$C$5*'Base Numbers'!$C$6)-Q72","v":15.2},{"$f":"Sorcadins!R$1286*('Base Numbers'!$C$5*'Base Numbers'!$C$6)-R72","v":15.2},{"$f":"Sorcadins!S$1286*('Base Numbers'!$C$5*'Base Numbers'!$C$6)-S72","v":15.2},{"$f":"Sorcadins!T$1286*('Base Numbers'!$C$5*'Base Numbers'!$C$6)-T72","v":15.2},{"$f":"Sorcadins!U$1286*('Base Numbers'!$C$5*'Base Numbers'!$C$6)-U72","v":15.2},{"$f":"Sorcadins!V$1286*('Base Numbers'!$C$5*'Base Numbers'!$C$6)-V72","v":15.2},{"$f":"Sorcadins!W$1286*('Base Numbers'!$C$5*'Base Numbers'!$C$6)-W72","v":15.2},{"$f":"Sorcadins!X$1286*('Base Numbers'!$C$5*'Base Numbers'!$C$6)-X72","v":15.2}]
[{"$nulls":3},"smite dice left for non-crits",{"$f":"ROUND(MAX(0,E70-E72*E74),4)","v":0},0,0,0,0,0,0,0,0,0,0,0,0,0,0,0,0,0,0,0]
[{"$nulls":3},"total smite dice used on crits",{"$f":"E73*E74","v":0},{"$f":"F73*F74","v":0},0,0,0,0,0,0,0,0,0,0,0,0,0,0,0,0,0,0]
[{"$nulls":3},"total crit smite damage per day",{"$f":"9*E78","v":0},{"$f":"9*F78","v":0},0,0,0,0,0,0,0,0,0,0,0,0,0,0,0,0,0,0]
[{"$nulls":3},"total non-crit smite damage per day",{"$f":"4.5*MIN(MIN(E76,E75)*E$7,E77)","v":0},{"$f":"4.5*MIN(MIN(F76,F75)*F$7,F77)","v":0},0,0,0,0,0,0,0,0,0,0,0,0,0,0,0,0,0,0]
[{"$nulls":3},"leftover sorc points + spell levels",{"$f":"IF(E70>0,IF(Sorcadins!E$273>0,(Sorcadins!E$273*E68+E67-E73*E74-E80/4.5)/Sorcadins!E$273,0),E68+E67)","v":0},{"$f":"IF(F70>0,IF(Sorcadins!F$273>0,(Sorcadins!F$273*F68+F67-F73*F74-F80/4.5)/Sorcadins!F$273,0),F68+F67)","v":0},{"$f":"IF(G70>0,IF(Sorcadins!G$273>0,(Sorcadins!G$273*G68+G67-G73*G74-G80/4.5)/Sorcadins!G$273,0),G68+G67)","v":0},{"$f":"IF(H70>0,IF(Sorcadins!H$273>0,(Sorcadins!H$273*H68+H67-H73*H74-H80/4.5)/Sorcadins!H$273,0),H68+H67)","v":0},{"$f":"IF(I70>0,IF(Sorcadins!I$273>0,(Sorcadins!I$273*I68+I67-I73*I74-I80/4.5)/Sorcadins!I$273,0),I68+I67)","v":0},{"$f":"IF(J70>0,IF(Sorcadins!J$273>0,(Sorcadins!J$273*J68+J67-J73*J74-J80/4.5)/Sorcadins!J$273,0),J68+J67)","v":0},{"$f":"IF(K70>0,IF(Sorcadins!K$273>0,(Sorcadins!K$273*K68+K67-K73*K74-K80/4.5)/Sorcadins!K$273,0),K68+K67)","v":0},{"$f":"IF(L70>0,IF(Sorcadins!L$273>0,(Sorcadins!L$273*L68+L67-L73*L74-L80/4.5)/Sorcadins!L$273,0),L68+L67)","v":0},{"$f":"IF(M70>0,IF(Sorcadins!M$273>0,(Sorcadins!M$273*M68+M67-M73*M74-M80/4.5)/Sorcadins!M$273,0),M68+M67)","v":0},{"$f":"IF(N70>0,IF(Sorcadins!N$273>0,(Sorcadins!N$273*N68+N67-N73*N74-N80/4.5)/Sorcadins!N$273,0),N68+N67)","v":0},{"$f":"IF(O70>0,IF(Sorcadins!O$273>0,(Sorcadins!O$273*O68+O67-O73*O74-O80/4.5)/Sorcadins!O$273,0),O68+O67)","v":0},{"$f":"IF(P70>0,IF(Sorcadins!P$273>0,(Sorcadins!P$273*P68+P67-P73*P74-P80/4.5)/Sorcadins!P$273,0),P68+P67)","v":0},{"$f":"IF(Q70>0,IF(Sorcadins!Q$273>0,(Sorcadins!Q$273*Q68+Q67-Q73*Q74-Q80/4.5)/Sorcadins!Q$273,0),Q68+Q67)","v":0},{"$f":"IF(R70>0,IF(Sorcadins!R$273>0,(Sorcadins!R$273*R68+R67-R73*R74-R80/4.5)/Sorcadins!R$273,0),R68+R67)","v":0},{"$f":"IF(S70>0,IF(Sorcadins!S$273>0,(Sorcadins!S$273*S68+S67-S73*S74-S80/4.5)/Sorcadins!S$273,0),S68+S67)","v":0},{"$f":"IF(T70>0,IF(Sorcadins!T$273>0,(Sorcadins!T$273*T68+T67-T73*T74-T80/4.5)/Sorcadins!T$273,0),T68+T67)","v":0},{"$f":"IF(U70>0,IF(Sorcadins!U$273>0,(Sorcadins!U$273*U68+U67-U73*U74-U80/4.5)/Sorcadins!U$273,0),U68+U67)","v":0},{"$f":"IF(V70>0,IF(Sorcadins!V$273>0,(Sorcadins!V$273*V68+V67-V73*V74-V80/4.5)/Sorcadins!V$273,0),V68+V67)","v":0},{"$f":"IF(W70>0,IF(Sorcadins!W$273>0,(Sorcadins!W$273*W68+W67-W73*W74-W80/4.5)/Sorcadins!W$273,0),W68+W67)","v":0},{"$f":"IF(X70>0,IF(Sorcadins!X$273>0,(Sorcadins!X$273*X68+X67-X73*X74-X80/4.5)/Sorcadins!X$273,0),X68+X67)","v":0}]
[{"$nulls":3},"actual smites performed",{"$f":"E73+IF(E$7>0,MIN(E75,E76,E77/E$7),0)","v":0},{"$f":"F73+IF(F$7>0,MIN(F75,F76,F77/F$7),0)","v":0},0,0,0,0,0,0,0,0,0,0,0,0,0,0,0,0,0,0]
[{"$nulls":3},"total daily smite damage: M1, B2, O3",{"$f":"E79+E80","v":0},{"$f":"F79+F80","v":0},0,0,0,0,0,0,0,0,0,0,0,0,0,0,0,0,0,0]
[]
[{"$nulls":3},"SMITES - M1, B3, O1/O2",1,2,3,4,5,6,7,8,9,10,11,12,13,14,15,16,17,18,19,20]
[{"$nulls":3},"remaining sorcery points (based on Damage Scenario)",{"$f":"MAX(0,Sorcadins!E$561-Sorcadins!E$1277)","v":0},{"$f":"MAX(0,Sorcadins!F$561-Sorcadins!F$1277)","v":0},{"$f":"MAX(0,Sorcadins!G$561-Sorcadins!G$1277)","v":0},{"$f":"MAX(0,Sorcadins!H$561-Sorcadins!H$1277)","v":0},{"$f":"MAX(0,Sorcadins!I$561-Sorcadins!I$1277)","v":0},{"$f":"MAX(0,Sorcadins!J$561-Sorcadins!J$1277)","v":0},{"$f":"MAX(0,Sorcadins!K$561-Sorcadins!K$1277)","v":0},{"$f":"MAX(0,Sorcadins!L$561-Sorcadins!L$1277)","v":0},{"$f":"MAX(0,Sorcadins!M$561-Sorcadins!M$1277)","v":0},{"$f":"MAX(0,Sorcadins!N$561-Sorcadins!N$1277)","v":0},{"$f":"MAX(0,Sorcadins!O$561-Sorcadins!O$1277)","v":0},{"$f":"MAX(0,Sorcadins!P$561-Sorcadins!P$1277)","v":0},{"$f":"MAX(0,Sorcadins!Q$561-Sorcadins!Q$1277)","v":0},{"$f":"MAX(0,Sorcadins!R$561-Sorcadins!R$1277)","v":0},{"$f":"MAX(0,Sorcadins!S$561-Sorcadins!S$1277)","v":0},{"$f":"MAX(0,Sorcadins!T$561-Sorcadins!T$1277)","v":0},{"$f":"MAX(0,Sorcadins!U$561-Sorcadins!U$1277)","v":0},{"$f":"MAX(0,Sorcadins!V$561-Sorcadins!V$1277)","v":0},{"$f":"MAX(0,Sorcadins!W$561-Sorcadins!W$1277)","v":0},{"$f":"MAX(0,Sorcadins!X$561-Sorcadins!X$1277)","v":0},null,"*Sorc points directly convertible to Smite Dice"]
[{"$nulls":3},"remaining spell slot levels (based on Damage Scenario)",{"$f":"MAX(0,Sorcadins!E$281-MAX(0,Sorcadins!E$1277-Sorcadins!E$561))","v":0},{"$f":"MAX(0,Sorcadins!F$281-MAX(0,Sorcadins!F$1277-Sorcadins!F$561))","v":0},{"$f":"MAX(0,Sorcadins!G$281-MAX(0,Sorcadins!G$1277-Sorcadins!G$561))","v":0},{"$f":"MAX(0,Sorcadins!H$281-MAX(0,Sorcadins!H$1277-Sorcadins!H$561))","v":0},{"$f":"MAX(0,Sorcadins!I$281-MAX(0,Sorcadins!I$1277-Sorcadins!I$561))","v":0},{"$f":"MAX(0,Sorcadins!J$281-MAX(0,Sorcadins!J$1277-Sorcadins!J$561))","v":0},{"$f":"MAX(0,Sorcadins!K$281-MAX(0,Sorcadins!K$1277-Sorcadins!K$561))","v":0},{"$f":"MAX(0,Sorcadins!L$281-MAX(0,Sorcadins!L$1277-Sorcadins!L$561))","v":0},{"$f":"MAX(0,Sorcadins!M$281-MAX(0,Sorcadins!M$1277-Sorcadins!M$561))","v":0},{"$f":"MAX(0,Sorcadins!N$281-MAX(0,Sorcadins!N$1277-Sorcadins!N$561))","v":0},{"$f":"MAX(0,Sorcadins!O$281-MAX(0,Sorcadins!O$1277-Sorcadins!O$561))","v":0},{"$f":"MAX(0,Sorcadins!P$281-MAX(0,Sorcadins!P$1277-Sorcadins!P$561))","v":0},{"$f":"MAX(0,Sorcadins!Q$281-MAX(0,Sorcadins!Q$1277-Sorcadins!Q$561))","v":0},{"$f":"MAX(0,Sorcadins!R$281-MAX(0,Sorcadins!R$1277-Sorcadins!R$561))","v":0},{"$f":"MAX(0,Sorcadins!S$281-MAX(0,Sorcadins!S$1277-Sorcadins!S$561))","v":0},{"$f":"MAX(0,Sorcadins!T$281-MAX(0,Sorcadins!T$1277-Sorcadins!T$561))","v":0},{"$f":"MAX(0,Sorcadins!U$281-MAX(0,Sorcadins!U$1277-Sorcadins!U$561))","v":0},{"$f":"MAX(0,Sorcadins!V$281-MAX(0,Sorcadins!V$1277-Sorcadins!V$561))","v":0},{"$f":"MAX(0,Sorcadins!W$281-MAX(0,Sorcadins!W$1277-Sorcadins!W$561))","v":0},{"$f":"MAX(0,Sorcadins!X$281-MAX(0,Sorcadins!X$1277-Sorcadins!X$561))","v":0}]
[{"$nulls":3},"total warlock smite levels remaining",{"$f":"MIN(Sorcadins!E$273*E87,Sorcadins!E$264)","v":0},{"$f":"MIN(Sorcadins!F$273*F87,Sorcadins!F$264)","v":0},{"$f":"MIN(Sorcadins!G$273*G87,Sorcadins!G$264)","v":0},{"$f":"MIN(Sorcadins!H$273*H87,Sorcadins!H$264)","v":0},{"$f":"MIN(Sorcadins!I$273*I87,Sorcadins!I$264)","v":0},{"$f":"MIN(Sorcadins!J$273*J87,Sorcadins!J$264)","v":0},{"$f":"MIN(Sorcadins!K$273*K87,Sorcadins!K$264)","v":0},{"$f":"MIN(Sorcadins!L$273*L87,Sorcadins!L$264)","v":0},{"$f":"MIN(Sorcadins!M$273*M87,Sorcadins!M$264)","v":0},{"$f":"MIN(Sorcadins!N$273*N87,Sorcadins!N$264)","v":0},{"$f":"MIN(Sorcadins!O$273*O87,Sorcadins!O$264)","v":0},{"$f":"MIN(Sorcadins!P$273*P87,Sorcadins!P$264)","v":0},{"$f":"MIN(Sorcadins!Q$273*Q87,Sorcadins!Q$264)","v":0},{"$f":"MIN(Sorcadins!R$273*R87,Sorcadins!R$264)","v":0},{"$f":"MIN(Sorcadins!S$273*S87,Sorcadins!S$264)","v":0},{"$f":"MIN(Sorcadins!T$273*T87,Sorcadins!T$264)","v":0},{"$f":"MIN(Sorcadins!U$273*U87,Sorcadins!U$264)","v":0},{"$f":"MIN(Sorcadins!V$273*V87,Sorcadins!V$264)","v":0},{"$f":"MIN(Sorcadins!W$273*W87,Sorcadins!W$264)","v":0},{"$f":"MIN(Sorcadins!X$273*X87,Sorcadins!X$264)","v":0}]
[{"$nulls":3},"total smite levels remaining",{"$f":"IF(E$5>=1,Sorcadins!E$273*E87+E86,IF(E$6,E88,0))","v":0},{"$f":"IF(F$5>=1,Sorcadins!F$273*F87+F86,IF(F$6,F88,0))","v":0},{"$f":"IF(G$5>=1,Sorcadins!G$273*G87+G86,IF(G$6,G88,0))","v":0},{"$f":"IF(H$5>=1,Sorcadins!H$273*H87+H86,IF(H$6,H88,0))","v":0},{"$f":"IF(I$5>=1,Sorcadins!I$273*I87+I86,IF(I$6,I88,0))","v":0},{"$f":"IF(J$5>=1,Sorcadins!J$273*J87+J86,IF(J$6,J88,0))","v":0},{"$f":"IF(K$5>=1,Sorcadins!K$273*K87+K86,IF(K$6,K88,0))","v":0},{"$f":"IF(L$5>=1,Sorcadins!L$273*L87+L86,IF(L$6,L88,0))","v":0},{"$f":"IF(M$5>=1,Sorcadins!M$273*M87+M86,IF(M$6,M88,0))","v":0},{"$f":"IF(N$5>=1,Sorcadins!N$273*N87+N86,IF(N$6,N88,0))","v":0},{"$f":"IF(O$5>=1,Sorcadins!O$273*O87+O86,IF(O$6,O88,0))","v":0},{"$f":"IF(P$5>=1,Sorcadins!P$273*P87+P86,IF(P$6,P88,0))","v":0},{"$f":"IF(Q$5>=1,Sorcadins!Q$273*Q87+Q86,IF(Q$6,Q88,0))","v":0},{"$f":"IF(R$5>=1,Sorcadins!R$273*R87+R86,IF(R$6,R88,0))","v":0},{"$f":"IF(S$5>=1,Sorcadins!S$273*S87+S86,IF(S$6,S88,0))","v":0},{"$f":"IF(T$5>=1,Sorcadins!T$273*T87+T86,IF(T$6,T88,0))","v":0},{"$f":"IF(U$5>=1,Sorcadins!U$273*U87+U86,IF(U$6,U88,0))","v":0},{"$f":"IF(V$5>=1,Sorcadins!V$273*V87+V86,IF(V$6,V88,0))","v":0},{"$f":"IF(W$5>=1,Sorcadins!W$273*W87+W86,IF(W$6,W88,0))","v":0},{"$f":"IF(X$5>=1,Sorcadins!X$273*X87+X86,IF(X$6,X88,0))","v":0}]
[{"$nulls":3},"max number of daily smites (after spells)",{"$f":"IF(E$6,Sorcadins!E$1157,IF(E$5,Sorcadins!E$282+E86/2,0))","v":0},{"$f":"IF(F$6,Sorcadins!F$1157,IF(F$5,Sorcadins!F$282+F86/2,0))","v":0},{"$f":"IF(G$6,Sorcadins!G$1157,IF(G$5,Sorcadins!G$282+G86/2,0))","v":0},{"$f":"IF(H$6,Sorcadins!H$1157,IF(H$5,Sorcadins!H$282+H86/2,0))","v":0},{"$f":"IF(I$6,Sorcadins!I$1157,IF(I$5,Sorcadins!I$282+I86/2,0))","v":0},{"$f":"IF(J$6,Sorcadins!J$1157,IF(J$5,Sorcadins!J$282+J86/2,0))","v":0},{"$f":"IF(K$6,Sorcadins!K$1157,IF(K$5,Sorcadins!K$282+K86/2,0))","v":0},{"$f":"IF(L$6,Sorcadins!L$1157,IF(L$5,Sorcadins!L$282+L86/2,0))","v":0},{"$f":"IF(M$6,Sorcadins!M$1157,IF(M$5,Sorcadins!M$282+M86/2,0))","v":0},{"$f":"IF(N$6,Sorcadins!N$1157,IF(N$5,Sorcadins!N$282+N86/2,0))","v":0},{"$f":"IF(O$6,Sorcadins!O$1157,IF(O$5,Sorcadins!O$282+O86/2,0))","v":0},{"$f":"IF(P$6,Sorcadins!P$1157,IF(P$5,Sorcadins!P$282+P86/2,0))","v":0},{"$f":"IF(Q$6,Sorcadins!Q$1157,IF(Q$5,Sorcadins!Q$282+Q86/2,0))","v":0},{"$f":"IF(R$6,Sorcadins!R$1157,IF(R$5,Sorcadins!R$282+R86/2,0))","v":0},{"$f":"IF(S$6,Sorcadins!S$1157,IF(S$5,Sorcadins!S$282+S86/2,0))","v":0},{"$f":"IF(T$6,Sorcadins!T$1157,IF(T$5,Sorcadins!T$282+T86/2,0))","v":0},{"$f":"IF(U$6,Sorcadins!U$1157,IF(U$5,Sorcadins!U$282+U86/2,0))","v":0},{"$f":"IF(V$6,Sorcadins!V$1157,IF(V$5,Sorcadins!V$282+V86/2,0))","v":0},{"$f":"IF(W$6,Sorcadins!W$1157,IF(W$5,Sorcadins!W$282+W86/2,0))","v":0},{"$f":"IF(X$6,Sorcadins!X$1157,IF(X$5,Sorcadins!X$282+X86/2,0))","v":0}]
[{"$nulls":3},"avg crits per day for smite purposes (based on Damage Scenario)",{"$f":"'Base Numbers'!$C$5*'Base Numbers'!$C$6*Sorcadins!E$1312","v":1},{"$f":"'Base Numbers'!$C$5*'Base Numbers'!$C$6*Sorcadins!F$1312","v":1},{"$f":"'Base Numbers'!$C$5*'Base Numbers'!$C$6*Sorcadins!G$1312","v":1},{"$f":"'Base Numbers'!$C$5*'Base Numbers'!$C$6*Sorcadins!H$1312","v":1},{"$f":"'Base Numbers'!$C$5*'Base Numbers'!$C$6*Sorcadins!I$1312","v":1},{"$f":"'Base Numbers'!$C$5*'Base Numbers'!$C$6*Sorcadins!J$1312","v":1},{"$f":"'Base Numbers'!$C$5*'Base Numbers'!$C$6*Sorcadins!K$1312","v":1},{"$f":"'Base Numbers'!$C$5*'Base Numbers'!$C$6*Sorcadins!L$1312","v":1},{"$f":"'Base Numbers'!$C$5*'Base Numbers'!$C$6*Sorcadins!M$1312","v":1},{"$f":"'Base Numbers'!$C$5*'Base Numbers'!$C$6*Sorcadins!N$1312","v":1},{"$f":"'Base Numbers'!$C$5*'Base Numbers'!$C$6*Sorcadins!O$1312","v":1},{"$f":"'Base Numbers'!$C$5*'Base Numbers'!$C$6*Sorcadins!P$1312","v":1},{"$f":"'Base Numbers'!$C$5*'Base Numbers'!$C$6*Sorcadins!Q$1312","v":1},{"$f":"'Base Numbers'!$C$5*'Base Numbers'!$C$6*Sorcadins!R$1312","v":1},{"$f":"'Base Numbers'!$C$5*'Base Numbers'!$C$6*Sorcadins!S$1312","v":1},{"$f":"'Base Numbers'!$C$5*'Base Numbers'!$C$6*Sorcadins!T$1312","v":1},{"$f":"'Base Numbers'!$C$5*'Base Numbers'!$C$6*Sorcadins!U$1312","v":1},{"$f":"'Base Numbers'!$C$5*'Base Numbers'!$C$6*Sorcadins!V$1312","v":1},{"$f":"'Base Numbers'!$C$5*'Base Numbers'!$C$6*Sorcadins!W$1312","v":1},{"$f":"'Base Numbers'!$C$5*'Base Numbers'!$C$6*Sorcadins!X$1312","v":1}]
[{"$nulls":3},"number of smites used on crits",{"$f":"MIN(E90,E91)","v":0},{"$f":"MIN(F90,F91)","v":0},0,0,0,0,0,0,0,0,0,0,0,0,0,0,0,0,0,0]
[{"$nulls":3},"avg smite dice per crit ",{"$f":"IF(E92>0,MIN(E$7,(E89/MIN(E92,E91))),0)","v":0},0,0,0,0,0,0,0,0,0,0,0,0,0,0,0,0,0,0,0]
[{"$nulls":3},"smites left for non-crits",{"$f":"E90-E92","v":0},{"$f":"F90-F92","v":0},0,0,0,0,0,0,0,0,0,0,0,0,0,0,0,0,0,0]
[{"$nulls":3},"total non-crit smite-qualifying attacks available",{"$f":"Sorcadins!E$1287*('Base Numbers'!$C$5*'Base Numbers'!$C$6)-E91","v":19},{"$f":"Sorcadins!F$1287*('Base Numbers'!$C$5*'Base Numbers'!$C$6)-F91","v":19},{"$f":"Sorcadins!G$1287*('Base Numbers'!$C$5*'Base Numbers'!$C$6)-G91","v":19},{"$f":"Sorcadins!H$1287*('Base Numbers'!$C$5*'Base Numbers'!$C$6)-H91","v":19},{"$f":"Sorcadins!I$1287*('Base Numbers'!$C$5*'Base Numbers'!$C$6)-I91","v":19},{"$f":"Sorcadins!J$1287*('Base Numbers'!$C$5*'Base Numbers'!$C$6)-J91","v":19},{"$f":"Sorcadins!K$1287*('Base Numbers'!$C$5*'Base Numbers'!$C$6)-K91","v":19},{"$f":"Sorcadins!L$1287*('Base Numbers'!$C$5*'Base Numbers'!$C$6)-L91","v":19},{"$f":"Sorcadins!M$1287*('Base Numbers'!$C$5*'Base Numbers'!$C$6)-M91","v":19},{"$f":"Sorcadins!N$1287*('Base Numbers'!$C$5*'Base Numbers'!$C$6)-N91","v":19},{"$f":"Sorcadins!O$1287*('Base Numbers'!$C$5*'Base Numbers'!$C$6)-O91","v":19},{"$f":"Sorcadins!P$1287*('Base Numbers'!$C$5*'Base Numbers'!$C$6)-P91","v":19},{"$f":"Sorcadins!Q$1287*('Base Numbers'!$C$5*'Base Numbers'!$C$6)-Q91","v":19},{"$f":"Sorcadins!R$1287*('Base Numbers'!$C$5*'Base Numbers'!$C$6)-R91","v":19},{"$f":"Sorcadins!S$1287*('Base Numbers'!$C$5*'Base Numbers'!$C$6)-S91","v":19},{"$f":"Sorcadins!T$1287*('Base Numbers'!$C$5*'Base Numbers'!$C$6)-T91","v":19},{"$f":"Sorcadins!U$1287*('Base Numbers'!$C$5*'Base Numbers'!$C$6)-U91","v":19},{"$f":"Sorcadins!V$1287*('Base Numbers'!$C$5*'Base Numbers'!$C$6)-V91","v":19},{"$f":"Sorcadins!W$1287*('Base Numbers'!$C$5*'Base Numbers'!$C$6)-W91","v":19},{"$f":"Sorcadins!X$1287*('Base Numbers'!$C$5*'Base Numbers'!$C$6)-X91","v":19}]
[{"$nulls":3},"smite dice left for non-crits",{"$f":"ROUND(MAX(0,E89-E91*E93),4)","v":0},0,0,0,0,0,0,0,0,0,0,0,0,0,0,0,0,0,0,0]
[{"$nulls":3},"total smite dice used on crits",{"$f":"E92*E93","v":0},{"$f":"F92*F93","v":0},0,0,0,0,0,0,0,0,0,0,0,0,0,0,0,0,0,0]
[{"$nulls":3},"total crit smite damage per day",{"$f":"9*E97","v":0},{"$f":"9*F97","v":0},0,0,0,0,0,0,0,0,0,0,0,0,0,0,0,0,0,0]
[{"$nulls":3},"total non-crit smite damage per day",{"$f":"4.5*MIN(MIN(E95,E94)*E$7,E96)","v":0},{"$f":"4.5*MIN(MIN(F95,F94)*F$7,F96)","v":0},0,0,0,0,0,0,0,0,0,0,0,0,0,0,0,0,0,0]
[{"$nulls":3},"leftover sorc points + spell levels",{"$f":"IF(E89>0,IF(Sorcadins!E$273>0,(Sorcadins!E$273*E87+E86-E92*E93-E99/4.5)/Sorcadins!E$273,0),E87+E86)","v":0},{"$f":"IF(F89>0,IF(Sorcadins!F$273>0,(Sorcadins!F$273*F87+F86-F92*F93-F99/4.5)/Sorcadins!F$273,0),F87+F86)","v":0},{"$f":"IF(G89>0,IF(Sorcadins!G$273>0,(Sorcadins!G$273*G87+G86-G92*G93-G99/4.5)/Sorcadins!G$273,0),G87+G86)","v":0},{"$f":"IF(H89>0,IF(Sorcadins!H$273>0,(Sorcadins!H$273*H87+H86-H92*H93-H99/4.5)/Sorcadins!H$273,0),H87+H86)","v":0},{"$f":"IF(I89>0,IF(Sorcadins!I$273>0,(Sorcadins!I$273*I87+I86-I92*I93-I99/4.5)/Sorcadins!I$273,0),I87+I86)","v":0},{"$f":"IF(J89>0,IF(Sorcadins!J$273>0,(Sorcadins!J$273*J87+J86-J92*J93-J99/4.5)/Sorcadins!J$273,0),J87+J86)","v":0},{"$f":"IF(K89>0,IF(Sorcadins!K$273>0,(Sorcadins!K$273*K87+K86-K92*K93-K99/4.5)/Sorcadins!K$273,0),K87+K86)","v":0},{"$f":"IF(L89>0,IF(Sorcadins!L$273>0,(Sorcadins!L$273*L87+L86-L92*L93-L99/4.5)/Sorcadins!L$273,0),L87+L86)","v":0},{"$f":"IF(M89>0,IF(Sorcadins!M$273>0,(Sorcadins!M$273*M87+M86-M92*M93-M99/4.5)/Sorcadins!M$273,0),M87+M86)","v":0},{"$f":"IF(N89>0,IF(Sorcadins!N$273>0,(Sorcadins!N$273*N87+N86-N92*N93-N99/4.5)/Sorcadins!N$273,0),N87+N86)","v":0},{"$f":"IF(O89>0,IF(Sorcadins!O$273>0,(Sorcadins!O$273*O87+O86-O92*O93-O99/4.5)/Sorcadins!O$273,0),O87+O86)","v":0},{"$f":"IF(P89>0,IF(Sorcadins!P$273>0,(Sorcadins!P$273*P87+P86-P92*P93-P99/4.5)/Sorcadins!P$273,0),P87+P86)","v":0},{"$f":"IF(Q89>0,IF(Sorcadins!Q$273>0,(Sorcadins!Q$273*Q87+Q86-Q92*Q93-Q99/4.5)/Sorcadins!Q$273,0),Q87+Q86)","v":0},{"$f":"IF(R89>0,IF(Sorcadins!R$273>0,(Sorcadins!R$273*R87+R86-R92*R93-R99/4.5)/Sorcadins!R$273,0),R87+R86)","v":0},{"$f":"IF(S89>0,IF(Sorcadins!S$273>0,(Sorcadins!S$273*S87+S86-S92*S93-S99/4.5)/Sorcadins!S$273,0),S87+S86)","v":0},{"$f":"IF(T89>0,IF(Sorcadins!T$273>0,(Sorcadins!T$273*T87+T86-T92*T93-T99/4.5)/Sorcadins!T$273,0),T87+T86)","v":0},{"$f":"IF(U89>0,IF(Sorcadins!U$273>0,(Sorcadins!U$273*U87+U86-U92*U93-U99/4.5)/Sorcadins!U$273,0),U87+U86)","v":0},{"$f":"IF(V89>0,IF(Sorcadins!V$273>0,(Sorcadins!V$273*V87+V86-V92*V93-V99/4.5)/Sorcadins!V$273,0),V87+V86)","v":0},{"$f":"IF(W89>0,IF(Sorcadins!W$273>0,(Sorcadins!W$273*W87+W86-W92*W93-W99/4.5)/Sorcadins!W$273,0),W87+W86)","v":0},{"$f":"IF(X89>0,IF(Sorcadins!X$273>0,(Sorcadins!X$273*X87+X86-X92*X93-X99/4.5)/Sorcadins!X$273,0),X87+X86)","v":0}]
[{"$nulls":3},"actual smites performed",{"$f":"E92+IF(E$7>0,MIN(E94,E95,E96/E$7),0)","v":0},{"$f":"F92+IF(F$7>0,MIN(F94,F95,F96/F$7),0)","v":0},0,0,0,0,0,0,0,0,0,0,0,0,0,0,0,0,0,0]
[{"$nulls":3},"total daily smite damage: M1, B3, O1/O2",{"$f":"E98+E99","v":0},{"$f":"F98+F99","v":0},0,0,0,0,0,0,0,0,0,0,0,0,0,0,0,0,0,0]
[]
[{"$nulls":3},"SMITES - M1, B3, O3",1,2,3,4,5,6,7,8,9,10,11,12,13,14,15,16,17,18,19,20]
[{"$nulls":3},"remaining sorcery points (based on Damage Scenario)",{"$f":"MAX(0,Sorcadins!E$561-Sorcadins!E$1277)","v":0},{"$f":"MAX(0,Sorcadins!F$561-Sorcadins!F$1277)","v":0},{"$f":"MAX(0,Sorcadins!G$561-Sorcadins!G$1277)","v":0},{"$f":"MAX(0,Sorcadins!H$561-Sorcadins!H$1277)","v":0},{"$f":"MAX(0,Sorcadins!I$561-Sorcadins!I$1277)","v":0},{"$f":"MAX(0,Sorcadins!J$561-Sorcadins!J$1277)","v":0},{"$f":"MAX(0,Sorcadins!K$561-Sorcadins!K$1277)","v":0},{"$f":"MAX(0,Sorcadins!L$561-Sorcadins!L$1277)","v":0},{"$f":"MAX(0,Sorcadins!M$561-Sorcadins!M$1277)","v":0},{"$f":"MAX(0,Sorcadins!N$561-Sorcadins!N$1277)","v":0},{"$f":"MAX(0,Sorcadins!O$561-Sorcadins!O$1277)","v":0},{"$f":"MAX(0,Sorcadins!P$561-Sorcadins!P$1277)","v":0},{"$f":"MAX(0,Sorcadins!Q$561-Sorcadins!Q$1277)","v":0},{"$f":"MAX(0,Sorcadins!R$561-Sorcadins!R$1277)","v":0},{"$f":"MAX(0,Sorcadins!S$561-Sorcadins!S$1277)","v":0},{"$f":"MAX(0,Sorcadins!T$561-Sorcadins!T$1277)","v":0},{"$f":"MAX(0,Sorcadins!U$561-Sorcadins!U$1277)","v":0},{"$f":"MAX(0,Sorcadins!V$561-Sorcadins!V$1277)","v":0},{"$f":"MAX(0,Sorcadins!W$561-Sorcadins!W$1277)","v":0},{"$f":"MAX(0,Sorcadins!X$561-Sorcadins!X$1277)","v":0},null,"*Sorc points directly convertible to Smite Dice"]
[{"$nulls":3},"remaining spell slot levels (based on Damage Scenario)",{"$f":"MAX(0,Sorcadins!E$281-MAX(0,Sorcadins!E$1277-Sorcadins!E$561))","v":0},{"$f":"MAX(0,Sorcadins!F$281-MAX(0,Sorcadins!F$1277-Sorcadins!F$561))","v":0},{"$f":"MAX(0,Sorcadins!G$281-MAX(0,Sorcadins!G$1277-Sorcadins!G$561))","v":0},{"$f":"MAX(0,Sorcadins!H$281-MAX(0,Sorcadins!H$1277-Sorcadins!H$561))","v":0},{"$f":"MAX(0,Sorcadins!I$281-MAX(0,Sorcadins!I$1277-Sorcadins!I$561))","v":0},{"$f":"MAX(0,Sorcadins!J$281-MAX(0,Sorcadins!J$1277-Sorcadins!J$561))","v":0},{"$f":"MAX(0,Sorcadins!K$281-MAX(0,Sorcadins!K$1277-Sorcadins!K$561))","v":0},{"$f":"MAX(0,Sorcadins!L$281-MAX(0,Sorcadins!L$1277-Sorcadins!L$561))","v":0},{"$f":"MAX(0,Sorcadins!M$281-MAX(0,Sorcadins!M$1277-Sorcadins!M$561))","v":0},{"$f":"MAX(0,Sorcadins!N$281-MAX(0,Sorcadins!N$1277-Sorcadins!N$561))","v":0},{"$f":"MAX(0,Sorcadins!O$281-MAX(0,Sorcadins!O$1277-Sorcadins!O$561))","v":0},{"$f":"MAX(0,Sorcadins!P$281-MAX(0,Sorcadins!P$1277-Sorcadins!P$561))","v":0},{"$f":"MAX(0,Sorcadins!Q$281-MAX(0,Sorcadins!Q$1277-Sorcadins!Q$561))","v":0},{"$f":"MAX(0,Sorcadins!R$281-MAX(0,Sorcadins!R$1277-Sorcadins!R$561))","v":0},{"$f":"MAX(0,Sorcadins!S$281-MAX(0,Sorcadins!S$1277-Sorcadins!S$561))","v":0},{"$f":"MAX(0,Sorcadins!T$281-MAX(0,Sorcadins!T$1277-Sorcadins!T$561))","v":0},{"$f":"MAX(0,Sorcadins!U$281-MAX(0,Sorcadins!U$1277-Sorcadins!U$561))","v":0},{"$f":"MAX(0,Sorcadins!V$281-MAX(0,Sorcadins!V$1277-Sorcadins!V$561))","v":0},{"$f":"MAX(0,Sorcadins!W$281-MAX(0,Sorcadins!W$1277-Sorcadins!W$561))","v":0},{"$f":"MAX(0,Sorcadins!X$281-MAX(0,Sorcadins!X$1277-Sorcadins!X$561))","v":0}]
[{"$nulls":3},"total warlock smite levels remaining",{"$f":"MIN(Sorcadins!E$273*E106,Sorcadins!E$264)","v":0},{"$f":"MIN(Sorcadins!F$273*F106,Sorcadins!F$264)","v":0},{"$f":"MIN(Sorcadins!G$273*G106,Sorcadins!G$264)","v":0},{"$f":"MIN(Sorcadins!H$273*H106,Sorcadins!H$264)","v":0},{"$f":"MIN(Sorcadins!I$273*I106,Sorcadins!I$264)","v":0},{"$f":"MIN(Sorcadins!J$273*J106,Sorcadins!J$264)","v":0},{"$f":"MIN(Sorcadins!K$273*K106,Sorcadins!K$264)","v":0},{"$f":"MIN(Sorcadins!L$273*L106,Sorcadins!L$264)","v":0},{"$f":"MIN(Sorcadins!M$273*M106,Sorcadins!M$264)","v":0},{"$f":"MIN(Sorcadins!N$273*N106,Sorcadins!N$264)","v":0},{"$f":"MIN(Sorcadins!O$273*O106,Sorcadins!O$264)","v":0},{"$f":"MIN(Sorcadins!P$273*P106,Sorcadins!P$264)","v":0},{"$f":"MIN(Sorcadins!Q$273*Q106,Sorcadins!Q$264)","v":0},{"$f":"MIN(Sorcadins!R$273*R106,Sorcadins!R$264)","v":0},{"$f":"MIN(Sorcadins!S$273*S106,Sorcadins!S$264)","v":0},{"$f":"MIN(Sorcadins!T$273*T106,Sorcadins!T$264)","v":0},{"$f":"MIN(Sorcadins!U$273*U106,Sorcadins!U$264)","v":0},{"$f":"MIN(Sorcadins!V$273*V106,Sorcadins!V$264)","v":0},{"$f":"MIN(Sorcadins!W$273*W106,Sorcadins!W$264)","v":0},{"$f":"MIN(Sorcadins!X$273*X106,Sorcadins!X$264)","v":0}]
[{"$nulls":3},"total smite levels remaining",{"$f":"IF(E$5>=1,Sorcadins!E$273*E106+E105,IF(E$6,E107,0))","v":0},{"$f":"IF(F$5>=1,Sorcadins!F$273*F106+F105,IF(F$6,F107,0))","v":0},{"$f":"IF(G$5>=1,Sorcadins!G$273*G106+G105,IF(G$6,G107,0))","v":0},{"$f":"IF(H$5>=1,Sorcadins!H$273*H106+H105,IF(H$6,H107,0))","v":0},{"$f":"IF(I$5>=1,Sorcadins!I$273*I106+I105,IF(I$6,I107,0))","v":0},{"$f":"IF(J$5>=1,Sorcadins!J$273*J106+J105,IF(J$6,J107,0))","v":0},{"$f":"IF(K$5>=1,Sorcadins!K$273*K106+K105,IF(K$6,K107,0))","v":0},{"$f":"IF(L$5>=1,Sorcadins!L$273*L106+L105,IF(L$6,L107,0))","v":0},{"$f":"IF(M$5>=1,Sorcadins!M$273*M106+M105,IF(M$6,M107,0))","v":0},{"$f":"IF(N$5>=1,Sorcadins!N$273*N106+N105,IF(N$6,N107,0))","v":0},{"$f":"IF(O$5>=1,Sorcadins!O$273*O106+O105,IF(O$6,O107,0))","v":0},{"$f":"IF(P$5>=1,Sorcadins!P$273*P106+P105,IF(P$6,P107,0))","v":0},{"$f":"IF(Q$5>=1,Sorcadins!Q$273*Q106+Q105,IF(Q$6,Q107,0))","v":0},{"$f":"IF(R$5>=1,Sorcadins!R$273*R106+R105,IF(R$6,R107,0))","v":0},{"$f":"IF(S$5>=1,Sorcadins!S$273*S106+S105,IF(S$6,S107,0))","v":0},{"$f":"IF(T$5>=1,Sorcadins!T$273*T106+T105,IF(T$6,T107,0))","v":0},{"$f":"IF(U$5>=1,Sorcadins!U$273*U106+U105,IF(U$6,U107,0))","v":0},{"$f":"IF(V$5>=1,Sorcadins!V$273*V106+V105,IF(V$6,V107,0))","v":0},{"$f":"IF(W$5>=1,Sorcadins!W$273*W106+W105,IF(W$6,W107,0))","v":0},{"$f":"IF(X$5>=1,Sorcadins!X$273*X106+X105,IF(X$6,X107,0))","v":0}]
[{"$nulls":3},"max number of daily smites (after spells)",{"$f":"IF(OR(Sorcadins!E$12>=5,Sorcadins!E$7>=2),Sorcadins!E$282+E105/2,0)","v":0},{"$f":"IF(OR(Sorcadins!F$12>=5,Sorcadins!F$7>=2),Sorcadins!F$282+F105/2,0)","v":0},{"$f":"IF(OR(Sorcadins!G$12>=5,Sorcadins!G$7>=2),Sorcadins!G$282+G105/2,0)","v":0},{"$f":"IF(OR(Sorcadins!H$12>=5,Sorcadins!H$7>=2),Sorcadins!H$282+H105/2,0)","v":0},{"$f":"IF(OR(Sorcadins!I$12>=5,Sorcadins!I$7>=2),Sorcadins!I$282+I105/2,0)","v":0},{"$f":"IF(OR(Sorcadins!J$12>=5,Sorcadins!J$7>=2),Sorcadins!J$282+J105/2,0)","v":0},{"$f":"IF(OR(Sorcadins!K$12>=5,Sorcadins!K$7>=2),Sorcadins!K$282+K105/2,0)","v":0},{"$f":"IF(OR(Sorcadins!L$12>=5,Sorcadins!L$7>=2),Sorcadins!L$282+L105/2,0)","v":0},{"$f":"IF(OR(Sorcadins!M$12>=5,Sorcadins!M$7>=2),Sorcadins!M$282+M105/2,0)","v":0},{"$f":"IF(OR(Sorcadins!N$12>=5,Sorcadins!N$7>=2),Sorcadins!N$282+N105/2,0)","v":0},{"$f":"IF(OR(Sorcadins!O$12>=5,Sorcadins!O$7>=2),Sorcadins!O$282+O105/2,0)","v":0},{"$f":"IF(OR(Sorcadins!P$12>=5,Sorcadins!P$7>=2),Sorcadins!P$282+P105/2,0)","v":0},{"$f":"IF(OR(Sorcadins!Q$12>=5,Sorcadins!Q$7>=2),Sorcadins!Q$282+Q105/2,0)","v":0},{"$f":"IF(OR(Sorcadins!R$12>=5,Sorcadins!R$7>=2),Sorcadins!R$282+R105/2,0)","v":0},{"$f":"IF(OR(Sorcadins!S$12>=5,Sorcadins!S$7>=2),Sorcadins!S$282+S105/2,0)","v":0},{"$f":"IF(OR(Sorcadins!T$12>=5,Sorcadins!T$7>=2),Sorcadins!T$282+T105/2,0)","v":0},{"$f":"IF(OR(Sorcadins!U$12>=5,Sorcadins!U$7>=2),Sorcadins!U$282+U105/2,0)","v":0},{"$f":"IF(OR(Sorcadins!V$12>=5,Sorcadins!V$7>=2),Sorcadins!V$282+V105/2,0)","v":0},{"$f":"IF(OR(Sorcadins!W$12>=5,Sorcadins!W$7>=2),Sorcadins!W$282+W105/2,0)","v":0},{"$f":"IF(OR(Sorcadins!X$12>=5,Sorcadins!X$7>=2),Sorcadins!X$282+X105/2,0)","v":0}]
[{"$nulls":3},"avg crits per day for smite purposes (based on Damage Scenario)",{"$f":"'Base Numbers'!$C$5*'Base Numbers'!$C$6*Sorcadins!E$1313","v":0.8},{"$f":"'Base Numbers'!$C$5*'Base Numbers'!$C$6*Sorcadins!F$1313","v":0.8},{"$f":"'Base Numbers'!$C$5*'Base Numbers'!$C$6*Sorcadins!G$1313","v":0.8},{"$f":"'Base Numbers'!$C$5*'Base Numbers'!$C$6*Sorcadins!H$1313","v":0.8},{"$f":"'Base Numbers'!$C$5*'Base Numbers'!$C$6*Sorcadins!I$1313","v":0.8},{"$f":"'Base Numbers'!$C$5*'Base Numbers'!$C$6*Sorcadins!J$1313","v":0.8},{"$f":"'Base Numbers'!$C$5*'Base Numbers'!$C$6*Sorcadins!K$1313","v":0.8},{"$f":"'Base Numbers'!$C$5*'Base Numbers'!$C$6*Sorcadins!L$1313","v":0.8},{"$f":"'Base Numbers'!$C$5*'Base Numbers'!$C$6*Sorcadins!M$1313","v":0.8},{"$f":"'Base Numbers'!$C$5*'Base Numbers'!$C$6*Sorcadins!N$1313","v":0.8},{"$f":"'Base Numbers'!$C$5*'Base Numbers'!$C$6*Sorcadins!O$1313","v":0.8},{"$f":"'Base Numbers'!$C$5*'Base Numbers'!$C$6*Sorcadins!P$1313","v":0.8},{"$f":"'Base Numbers'!$C$5*'Base Numbers'!$C$6*Sorcadins!Q$1313","v":0.8},{"$f":"'Base Numbers'!$C$5*'Base Numbers'!$C$6*Sorcadins!R$1313","v":0.8},{"$f":"'Base Numbers'!$C$5*'Base Numbers'!$C$6*Sorcadins!S$1313","v":0.8},{"$f":"'Base Numbers'!$C$5*'Base Numbers'!$C$6*Sorcadins!T$1313","v":0.8},{"$f":"'Base Numbers'!$C$5*'Base Numbers'!$C$6*Sorcadins!U$1313","v":0.8},{"$f":"'Base Numbers'!$C$5*'Base Numbers'!$C$6*Sorcadins!V$1313","v":0.8},{"$f":"'Base Numbers'!$C$5*'Base Numbers'!$C$6*Sorcadins!W$1313","v":0.8},{"$f":"'Base Numbers'!$C$5*'Base Numbers'!$C$6*Sorcadins!X$1313","v":0.8}]
[{"$nulls":3},"number of smites used on crits",{"$f":"MIN(E109,E110)","v":0},{"$f":"MIN(F109,F110)","v":0},0,0,0,0,0,0,0,0,0,0,0,0,0,0,0,0,0,0]
[{"$nulls":3},"avg smite dice per crit ",{"$f":"IF(E111>0,MIN(E$7,(E108/MIN(E111,E110))),0)","v":0},0,0,0,0,0,0,0,0,0,0,0,0,0,0,0,0,0,0,0]
[{"$nulls":3},"smites left for non-crits",{"$f":"E109-E111","v":0},{"$f":"F109-F111","v":0},0,0,0,0,0,0,0,0,0,0,0,0,0,0,0,0,0,0]
[{"$nulls":3},"total non-crit smite-qualifying attacks available",{"$f":"Sorcadins!E$1288*('Base Numbers'!$C$5*'Base Numbers'!$C$6)-E110","v":15.2},{"$f":"Sorcadins!F$1288*('Base Numbers'!$C$5*'Base Numbers'!$C$6)-F110","v":15.2},{"$f":"Sorcadins!G$1288*('Base Numbers'!$C$5*'Base Numbers'!$C$6)-G110","v":15.2},{"$f":"Sorcadins!H$1288*('Base Numbers'!$C$5*'Base Numbers'!$C$6)-H110","v":15.2},{"$f":"Sorcadins!I$1288*('Base Numbers'!$C$5*'Base Numbers'!$C$6)-I110","v":15.2},{"$f":"Sorcadins!J$1288*('Base Numbers'!$C$5*'Base Numbers'!$C$6)-J110","v":15.2},{"$f":"Sorcadins!K$1288*('Base Numbers'!$C$5*'Base Numbers'!$C$6)-K110","v":15.2},{"$f":"Sorcadins!L$1288*('Base Numbers'!$C$5*'Base Numbers'!$C$6)-L110","v":15.2},{"$f":"Sorcadins!M$1288*('Base Numbers'!$C$5*'Base Numbers'!$C$6)-M110","v":15.2},{"$f":"Sorcadins!N$1288*('Base Numbers'!$C$5*'Base Numbers'!$C$6)-N110","v":15.2},{"$f":"Sorcadins!O$1288*('Base Numbers'!$C$5*'Base Numbers'!$C$6)-O110","v":15.2},{"$f":"Sorcadins!P$1288*('Base Numbers'!$C$5*'Base Numbers'!$C$6)-P110","v":15.2},{"$f":"Sorcadins!Q$1288*('Base Numbers'!$C$5*'Base Numbers'!$C$6)-Q110","v":15.2},{"$f":"Sorcadins!R$1288*('Base Numbers'!$C$5*'Base Numbers'!$C$6)-R110","v":15.2},{"$f":"Sorcadins!S$1288*('Base Numbers'!$C$5*'Base Numbers'!$C$6)-S110","v":15.2},{"$f":"Sorcadins!T$1288*('Base Numbers'!$C$5*'Base Numbers'!$C$6)-T110","v":15.2},{"$f":"Sorcadins!U$1288*('Base Numbers'!$C$5*'Base Numbers'!$C$6)-U110","v":15.2},{"$f":"Sorcadins!V$1288*('Base Numbers'!$C$5*'Base Numbers'!$C$6)-V110","v":15.2},{"$f":"Sorcadins!W$1288*('Base Numbers'!$C$5*'Base Numbers'!$C$6)-W110","v":15.2},{"$f":"Sorcadins!X$1288*('Base Numbers'!$C$5*'Base Numbers'!$C$6)-X110","v":15.2}]
[{"$nulls":3},"smite dice left for non-crits",{"$f":"ROUND(MAX(0,E108-E110*E112),4)","v":0},0,0,0,0,0,0,0,0,0,0,0,0,0,0,0,0,0,0,0]
[{"$nulls":3},"total smite dice used on crits",{"$f":"E111*E112","v":0},{"$f":"F111*F112","v":0},0,0,0,0,0,0,0,0,0,0,0,0,0,0,0,0,0,0]
[{"$nulls":3},"total crit smite damage per day",{"$f":"9*E116","v":0},{"$f":"9*F116","v":0},0,0,0,0,0,0,0,0,0,0,0,0,0,0,0,0,0,0]
[{"$nulls":3},"total non-crit smite damage per day",{"$f":"4.5*MIN(MIN(E114,E113)*E$7,E115)","v":0},{"$f":"4.5*MIN(MIN(F114,F113)*F$7,F115)","v":0},0,0,0,0,0,0,0,0,0,0,0,0,0,0,0,0,0,0]
[{"$nulls":3},"leftover sorc points + spell levels",{"$f":"IF(E108>0,IF(Sorcadins!E$273>0,(Sorcadins!E$273*E106+E105-E111*E112-E118/4.5)/Sorcadins!E$273,0),E106+E105)","v":0},{"$f":"IF(F108>0,IF(Sorcadins!F$273>0,(Sorcadins!F$273*F106+F105-F111*F112-F118/4.5)/Sorcadins!F$273,0),F106+F105)","v":0},{"$f":"IF(G108>0,IF(Sorcadins!G$273>0,(Sorcadins!G$273*G106+G105-G111*G112-G118/4.5)/Sorcadins!G$273,0),G106+G105)","v":0},{"$f":"IF(H108>0,IF(Sorcadins!H$273>0,(Sorcadins!H$273*H106+H105-H111*H112-H118/4.5)/Sorcadins!H$273,0),H106+H105)","v":0},{"$f":"IF(I108>0,IF(Sorcadins!I$273>0,(Sorcadins!I$273*I106+I105-I111*I112-I118/4.5)/Sorcadins!I$273,0),I106+I105)","v":0},{"$f":"IF(J108>0,IF(Sorcadins!J$273>0,(Sorcadins!J$273*J106+J105-J111*J112-J118/4.5)/Sorcadins!J$273,0),J106+J105)","v":0},{"$f":"IF(K108>0,IF(Sorcadins!K$273>0,(Sorcadins!K$273*K106+K105-K111*K112-K118/4.5)/Sorcadins!K$273,0),K106+K105)","v":0},{"$f":"IF(L108>0,IF(Sorcadins!L$273>0,(Sorcadins!L$273*L106+L105-L111*L112-L118/4.5)/Sorcadins!L$273,0),L106+L105)","v":0},{"$f":"IF(M108>0,IF(Sorcadins!M$273>0,(Sorcadins!M$273*M106+M105-M111*M112-M118/4.5)/Sorcadins!M$273,0),M106+M105)","v":0},{"$f":"IF(N108>0,IF(Sorcadins!N$273>0,(Sorcadins!N$273*N106+N105-N111*N112-N118/4.5)/Sorcadins!N$273,0),N106+N105)","v":0},{"$f":"IF(O108>0,IF(Sorcadins!O$273>0,(Sorcadins!O$273*O106+O105-O111*O112-O118/4.5)/Sorcadins!O$273,0),O106+O105)","v":0},{"$f":"IF(P108>0,IF(Sorcadins!P$273>0,(Sorcadins!P$273*P106+P105-P111*P112-P118/4.5)/Sorcadins!P$273,0),P106+P105)","v":0},{"$f":"IF(Q108>0,IF(Sorcadins!Q$273>0,(Sorcadins!Q$273*Q106+Q105-Q111*Q112-Q118/4.5)/Sorcadins!Q$273,0),Q106+Q105)","v":0},{"$f":"IF(R108>0,IF(Sorcadins!R$273>0,(Sorcadins!R$273*R106+R105-R111*R112-R118/4.5)/Sorcadins!R$273,0),R106+R105)","v":0},{"$f":"IF(S108>0,IF(Sorcadins!S$273>0,(Sorcadins!S$273*S106+S105-S111*S112-S118/4.5)/Sorcadins!S$273,0),S106+S105)","v":0},{"$f":"IF(T108>0,IF(Sorcadins!T$273>0,(Sorcadins!T$273*T106+T105-T111*T112-T118/4.5)/Sorcadins!T$273,0),T106+T105)","v":0},{"$f":"IF(U108>0,IF(Sorcadins!U$273>0,(Sorcadins!U$273*U106+U105-U111*U112-U118/4.5)/Sorcadins!U$273,0),U106+U105)","v":0},{"$f":"IF(V108>0,IF(Sorcadins!V$273>0,(Sorcadins!V$273*V106+V105-V111*V112-V118/4.5)/Sorcadins!V$273,0),V106+V105)","v":0},{"$f":"IF(W108>0,IF(Sorcadins!W$273>0,(Sorcadins!W$273*W106+W105-W111*W112-W118/4.5)/Sorcadins!W$273,0),W106+W105)","v":0},{"$f":"IF(X108>0,IF(Sorcadins!X$273>0,(Sorcadins!X$273*X106+X105-X111*X112-X118/4.5)/Sorcadins!X$273,0),X106+X105)","v":0}]
[{"$nulls":3},"actual smites performed",{"$f":"E111+IF(E$7>0,MIN(E113,E114,E115/E$7),0)","v":0},{"$f":"F111+IF(F$7>0,MIN(F113,F114,F115/F$7),0)","v":0},0,0,0,0,0,0,0,0,0,0,0,0,0,0,0,0,0,0]
[{"$nulls":3},"total daily smite damage: M1, B3, O3",{"$f":"E117+E118","v":0},{"$f":"F117+F118","v":0},0,0,0,0,0,0,0,0,0,0,0,0,0,0,0,0,0,0]
[]
[{"$nulls":3},"SMITES - M1, B4, O1/O2",1,2,3,4,5,6,7,8,9,10,11,12,13,14,15,16,17,18,19,20]
[{"$nulls":3},"remaining sorcery points (based on Damage Scenario)",{"$f":"MAX(0,Sorcadins!E$561-Sorcadins!E$1278)","v":0},{"$f":"MAX(0,Sorcadins!F$561-Sorcadins!F$1278)","v":0},{"$f":"MAX(0,Sorcadins!G$561-Sorcadins!G$1278)","v":0},{"$f":"MAX(0,Sorcadins!H$561-Sorcadins!H$1278)","v":0},{"$f":"MAX(0,Sorcadins!I$561-Sorcadins!I$1278)","v":0},{"$f":"MAX(0,Sorcadins!J$561-Sorcadins!J$1278)","v":0},{"$f":"MAX(0,Sorcadins!K$561-Sorcadins!K$1278)","v":0},{"$f":"MAX(0,Sorcadins!L$561-Sorcadins!L$1278)","v":0},{"$f":"MAX(0,Sorcadins!M$561-Sorcadins!M$1278)","v":0},{"$f":"MAX(0,Sorcadins!N$561-Sorcadins!N$1278)","v":0},{"$f":"MAX(0,Sorcadins!O$561-Sorcadins!O$1278)","v":0},{"$f":"MAX(0,Sorcadins!P$561-Sorcadins!P$1278)","v":0},{"$f":"MAX(0,Sorcadins!Q$561-Sorcadins!Q$1278)","v":0},{"$f":"MAX(0,Sorcadins!R$561-Sorcadins!R$1278)","v":0},{"$f":"MAX(0,Sorcadins!S$561-Sorcadins!S$1278)","v":0},{"$f":"MAX(0,Sorcadins!T$561-Sorcadins!T$1278)","v":0},{"$f":"MAX(0,Sorcadins!U$561-Sorcadins!U$1278)","v":0},{"$f":"MAX(0,Sorcadins!V$561-Sorcadins!V$1278)","v":0},{"$f":"MAX(0,Sorcadins!W$561-Sorcadins!W$1278)","v":0},{"$f":"MAX(0,Sorcadins!X$561-Sorcadins!X$1278)","v":0},null,"*Sorc points directly convertible to Smite Dice"]
[{"$nulls":3},"remaining spell slot levels (based on Damage Scenario)",{"$f":"MAX(0,Sorcadins!E$281-MAX(0,Sorcadins!E$1278-Sorcadins!E$561))","v":0},{"$f":"MAX(0,Sorcadins!F$281-MAX(0,Sorcadins!F$1278-Sorcadins!F$561))","v":0},{"$f":"MAX(0,Sorcadins!G$281-MAX(0,Sorcadins!G$1278-Sorcadins!G$561))","v":0},{"$f":"MAX(0,Sorcadins!H$281-MAX(0,Sorcadins!H$1278-Sorcadins!H$561))","v":0},{"$f":"MAX(0,Sorcadins!I$281-MAX(0,Sorcadins!I$1278-Sorcadins!I$561))","v":0},{"$f":"MAX(0,Sorcadins!J$281-MAX(0,Sorcadins!J$1278-Sorcadins!J$561))","v":0},{"$f":"MAX(0,Sorcadins!K$281-MAX(0,Sorcadins!K$1278-Sorcadins!K$561))","v":0},{"$f":"MAX(0,Sorcadins!L$281-MAX(0,Sorcadins!L$1278-Sorcadins!L$561))","v":0},{"$f":"MAX(0,Sorcadins!M$281-MAX(0,Sorcadins!M$1278-Sorcadins!M$561))","v":0},{"$f":"MAX(0,Sorcadins!N$281-MAX(0,Sorcadins!N$1278-Sorcadins!N$561))","v":0},{"$f":"MAX(0,Sorcadins!O$281-MAX(0,Sorcadins!O$1278-Sorcadins!O$561))","v":0},{"$f":"MAX(0,Sorcadins!P$281-MAX(0,Sorcadins!P$1278-Sorcadins!P$561))","v":0},{"$f":"MAX(0,Sorcadins!Q$281-MAX(0,Sorcadins!Q$1278-Sorcadins!Q$561))","v":0},{"$f":"MAX(0,Sorcadins!R$281-MAX(0,Sorcadins!R$1278-Sorcadins!R$561))","v":0},{"$f":"MAX(0,Sorcadins!S$281-MAX(0,Sorcadins!S$1278-Sorcadins!S$561))","v":0},{"$f":"MAX(0,Sorcadins!T$281-MAX(0,Sorcadins!T$1278-Sorcadins!T$561))","v":0},{"$f":"MAX(0,Sorcadins!U$281-MAX(0,Sorcadins!U$1278-Sorcadins!U$561))","v":0},{"$f":"MAX(0,Sorcadins!V$281-MAX(0,Sorcadins!V$1278-Sorcadins!V$561))","v":0},{"$f":"MAX(0,Sorcadins!W$281-MAX(0,Sorcadins!W$1278-Sorcadins!W$561))","v":0},{"$f":"MAX(0,Sorcadins!X$281-MAX(0,Sorcadins!X$1278-Sorcadins!X$561))","v":0}]
[{"$nulls":3},"total warlock smite levels remaining",{"$f":"MIN(Sorcadins!E$273*E125,Sorcadins!E$264)","v":0},{"$f":"MIN(Sorcadins!F$273*F125,Sorcadins!F$264)","v":0},{"$f":"MIN(Sorcadins!G$273*G125,Sorcadins!G$264)","v":0},{"$f":"MIN(Sorcadins!H$273*H125,Sorcadins!H$264)","v":0},{"$f":"MIN(Sorcadins!I$273*I125,Sorcadins!I$264)","v":0},{"$f":"MIN(Sorcadins!J$273*J125,Sorcadins!J$264)","v":0},{"$f":"MIN(Sorcadins!K$273*K125,Sorcadins!K$264)","v":0},{"$f":"MIN(Sorcadins!L$273*L125,Sorcadins!L$264)","v":0},{"$f":"MIN(Sorcadins!M$273*M125,Sorcadins!M$264)","v":0},{"$f":"MIN(Sorcadins!N$273*N125,Sorcadins!N$264)","v":0},{"$f":"MIN(Sorcadins!O$273*O125,Sorcadins!O$264)","v":0},{"$f":"MIN(Sorcadins!P$273*P125,Sorcadins!P$264)","v":0},{"$f":"MIN(Sorcadins!Q$273*Q125,Sorcadins!Q$264)","v":0},{"$f":"MIN(Sorcadins!R$273*R125,Sorcadins!R$264)","v":0},{"$f":"MIN(Sorcadins!S$273*S125,Sorcadins!S$264)","v":0},{"$f":"MIN(Sorcadins!T$273*T125,Sorcadins!T$264)","v":0},{"$f":"MIN(Sorcadins!U$273*U125,Sorcadins!U$264)","v":0},{"$f":"MIN(Sorcadins!V$273*V125,Sorcadins!V$264)","v":0},{"$f":"MIN(Sorcadins!W$273*W125,Sorcadins!W$264)","v":0},{"$f":"MIN(Sorcadins!X$273*X125,Sorcadins!X$264)","v":0}]
[{"$nulls":3},"total smite levels remaining",{"$f":"IF(E$5>=1,Sorcadins!E$273*E125+E124,IF(E$6,E126,0))","v":0},{"$f":"IF(F$5>=1,Sorcadins!F$273*F125+F124,IF(F$6,F126,0))","v":0},{"$f":"IF(G$5>=1,Sorcadins!G$273*G125+G124,IF(G$6,G126,0))","v":0},{"$f":"IF(H$5>=1,Sorcadins!H$273*H125+H124,IF(H$6,H126,0))","v":0},{"$f":"IF(I$5>=1,Sorcadins!I$273*I125+I124,IF(I$6,I126,0))","v":0},{"$f":"IF(J$5>=1,Sorcadins!J$273*J125+J124,IF(J$6,J126,0))","v":0},{"$f":"IF(K$5>=1,Sorcadins!K$273*K125+K124,IF(K$6,K126,0))","v":0},{"$f":"IF(L$5>=1,Sorcadins!L$273*L125+L124,IF(L$6,L126,0))","v":0},{"$f":"IF(M$5>=1,Sorcadins!M$273*M125+M124,IF(M$6,M126,0))","v":0},{"$f":"IF(N$5>=1,Sorcadins!N$273*N125+N124,IF(N$6,N126,0))","v":0},{"$f":"IF(O$5>=1,Sorcadins!O$273*O125+O124,IF(O$6,O126,0))","v":0},{"$f":"IF(P$5>=1,Sorcadins!P$273*P125+P124,IF(P$6,P126,0))","v":0},{"$f":"IF(Q$5>=1,Sorcadins!Q$273*Q125+Q124,IF(Q$6,Q126,0))","v":0},{"$f":"IF(R$5>=1,Sorcadins!R$273*R125+R124,IF(R$6,R126,0))","v":0},{"$f":"IF(S$5>=1,Sorcadins!S$273*S125+S124,IF(S$6,S126,0))","v":0},{"$f":"IF(T$5>=1,Sorcadins!T$273*T125+T124,IF(T$6,T126,0))","v":0},{"$f":"IF(U$5>=1,Sorcadins!U$273*U125+U124,IF(U$6,U126,0))","v":0},{"$f":"IF(V$5>=1,Sorcadins!V$273*V125+V124,IF(V$6,V126,0))","v":0},{"$f":"IF(W$5>=1,Sorcadins!W$273*W125+W124,IF(W$6,W126,0))","v":0},{"$f":"IF(X$5>=1,Sorcadins!X$273*X125+X124,IF(X$6,X126,0))","v":0}]
[{"$nulls":3},"max number of daily smites (after spells)",{"$f":"IF(E$6,Sorcadins!E$1157,IF(E$5,Sorcadins!E$282+E124/2,0))","v":0},{"$f":"IF(F$6,Sorcadins!F$1157,IF(F$5,Sorcadins!F$282+F124/2,0))","v":0},{"$f":"IF(G$6,Sorcadins!G$1157,IF(G$5,Sorcadins!G$282+G124/2,0))","v":0},{"$f":"IF(H$6,Sorcadins!H$1157,IF(H$5,Sorcadins!H$282+H124/2,0))","v":0},{"$f":"IF(I$6,Sorcadins!I$1157,IF(I$5,Sorcadins!I$282+I124/2,0))","v":0},{"$f":"IF(J$6,Sorcadins!J$1157,IF(J$5,Sorcadins!J$282+J124/2,0))","v":0},{"$f":"IF(K$6,Sorcadins!K$1157,IF(K$5,Sorcadins!K$282+K124/2,0))","v":0},{"$f":"IF(L$6,Sorcadins!L$1157,IF(L$5,Sorcadins!L$282+L124/2,0))","v":0},{"$f":"IF(M$6,Sorcadins!M$1157,IF(M$5,Sorcadins!M$282+M124/2,0))","v":0},{"$f":"IF(N$6,Sorcadins!N$1157,IF(N$5,Sorcadins!N$282+N124/2,0))","v":0},{"$f":"IF(O$6,Sorcadins!O$1157,IF(O$5,Sorcadins!O$282+O124/2,0))","v":0},{"$f":"IF(P$6,Sorcadins!P$1157,IF(P$5,Sorcadins!P$282+P124/2,0))","v":0},{"$f":"IF(Q$6,Sorcadins!Q$1157,IF(Q$5,Sorcadins!Q$282+Q124/2,0))","v":0},{"$f":"IF(R$6,Sorcadins!R$1157,IF(R$5,Sorcadins!R$282+R124/2,0))","v":0},{"$f":"IF(S$6,Sorcadins!S$1157,IF(S$5,Sorcadins!S$282+S124/2,0))","v":0},{"$f":"IF(T$6,Sorcadins!T$1157,IF(T$5,Sorcadins!T$282+T124/2,0))","v":0},{"$f":"IF(U$6,Sorcadins!U$1157,IF(U$5,Sorcadins!U$282+U124/2,0))","v":0},{"$f":"IF(V$6,Sorcadins!V$1157,IF(V$5,Sorcadins!V$282+V124/2,0))","v":0},{"$f":"IF(W$6,Sorcadins!W$1157,IF(W$5,Sorcadins!W$282+W124/2,0))","v":0},{"$f":"IF(X$6,Sorcadins!X$1157,IF(X$5,Sorcadins!X$282+X124/2,0))","v":0}]
[{"$nulls":3},"avg crits per day for smite purposes (based on Damage Scenario)",{"$f":"'Base Numbers'!$C$5*'Base Numbers'!$C$6*Sorcadins!E$1314","v":1},{"$f":"'Base Numbers'!$C$5*'Base Numbers'!$C$6*Sorcadins!F$1314","v":1},{"$f":"'Base Numbers'!$C$5*'Base Numbers'!$C$6*Sorcadins!G$1314","v":1},{"$f":"'Base Numbers'!$C$5*'Base Numbers'!$C$6*Sorcadins!H$1314","v":1},{"$f":"'Base Numbers'!$C$5*'Base Numbers'!$C$6*Sorcadins!I$1314","v":1},{"$f":"'Base Numbers'!$C$5*'Base Numbers'!$C$6*Sorcadins!J$1314","v":1},{"$f":"'Base Numbers'!$C$5*'Base Numbers'!$C$6*Sorcadins!K$1314","v":1},{"$f":"'Base Numbers'!$C$5*'Base Numbers'!$C$6*Sorcadins!L$1314","v":1},{"$f":"'Base Numbers'!$C$5*'Base Numbers'!$C$6*Sorcadins!M$1314","v":1},{"$f":"'Base Numbers'!$C$5*'Base Numbers'!$C$6*Sorcadins!N$1314","v":1},{"$f":"'Base Numbers'!$C$5*'Base Numbers'!$C$6*Sorcadins!O$1314","v":1},{"$f":"'Base Numbers'!$C$5*'Base Numbers'!$C$6*Sorcadins!P$1314","v":1},{"$f":"'Base Numbers'!$C$5*'Base Numbers'!$C$6*Sorcadins!Q$1314","v":1},{"$f":"'Base Numbers'!$C$5*'Base Numbers'!$C$6*Sorcadins!R$1314","v":1},{"$f":"'Base Numbers'!$C$5*'Base Numbers'!$C$6*Sorcadins!S$1314","v":1},{"$f":"'Base Numbers'!$C$5*'Base Numbers'!$C$6*Sorcadins!T$1314","v":1},{"$f":"'Base Numbers'!$C$5*'Base Numbers'!$C$6*Sorcadins!U$1314","v":1},{"$f":"'Base Numbers'!$C$5*'Base Numbers'!$C$6*Sorcadins!V$1314","v":1},{"$f":"'Base Numbers'!$C$5*'Base Numbers'!$C$6*Sorcadins!W$1314","v":1},{"$f":"'Base Numbers'!$C$5*'Base Numbers'!$C$6*Sorcadins!X$1314","v":1}]
[{"$nulls":3},"number of smites used on crits",{"$f":"MIN(E128,E129)","v":0},{"$f":"MIN(F128,F129)","v":0},0,0,0,0,0,0,0,0,0,0,0,0,0,0,0,0,0,0]
[{"$nulls":3},"avg smite dice per crit ",{"$f":"IF(E130>0,MIN(E$7,(E127/MIN(E130,E129))),0)","v":0},0,0,0,0,0,0,0,0,0,0,0,0,0,0,0,0,0,0,0]
[{"$nulls":3},"smites left for non-crits",{"$f":"E128-E130","v":0},{"$f":"F128-F130","v":0},0,0,0,0,0,0,0,0,0,0,0,0,0,0,0,0,0,0]
[{"$nulls":3},"total non-crit smite-qualifying attacks available",{"$f":"Sorcadins!E$1289*('Base Numbers'!$C$5*'Base Numbers'!$C$6)-E129","v":19},{"$f":"Sorcadins!F$1289*('Base Numbers'!$C$5*'Base Numbers'!$C$6)-F129","v":19},{"$f":"Sorcadins!G$1289*('Base Numbers'!$C$5*'Base Numbers'!$C$6)-G129","v":19},{"$f":"Sorcadins!H$1289*('Base Numbers'!$C$5*'Base Numbers'!$C$6)-H129","v":19},{"$f":"Sorcadins!I$1289*('Base Numbers'!$C$5*'Base Numbers'!$C$6)-I129","v":19},{"$f":"Sorcadins!J$1289*('Base Numbers'!$C$5*'Base Numbers'!$C$6)-J129","v":19},{"$f":"Sorcadins!K$1289*('Base Numbers'!$C$5*'Base Numbers'!$C$6)-K129","v":19},{"$f":"Sorcadins!L$1289*('Base Numbers'!$C$5*'Base Numbers'!$C$6)-L129","v":19},{"$f":"Sorcadins!M$1289*('Base Numbers'!$C$5*'Base Numbers'!$C$6)-M129","v":19},{"$f":"Sorcadins!N$1289*('Base Numbers'!$C$5*'Base Numbers'!$C$6)-N129","v":19},{"$f":"Sorcadins!O$1289*('Base Numbers'!$C$5*'Base Numbers'!$C$6)-O129","v":19},{"$f":"Sorcadins!P$1289*('Base Numbers'!$C$5*'Base Numbers'!$C$6)-P129","v":19},{"$f":"Sorcadins!Q$1289*('Base Numbers'!$C$5*'Base Numbers'!$C$6)-Q129","v":19},{"$f":"Sorcadins!R$1289*('Base Numbers'!$C$5*'Base Numbers'!$C$6)-R129","v":19},{"$f":"Sorcadins!S$1289*('Base Numbers'!$C$5*'Base Numbers'!$C$6)-S129","v":19},{"$f":"Sorcadins!T$1289*('Base Numbers'!$C$5*'Base Numbers'!$C$6)-T129","v":19},{"$f":"Sorcadins!U$1289*('Base Numbers'!$C$5*'Base Numbers'!$C$6)-U129","v":19},{"$f":"Sorcadins!V$1289*('Base Numbers'!$C$5*'Base Numbers'!$C$6)-V129","v":19},{"$f":"Sorcadins!W$1289*('Base Numbers'!$C$5*'Base Numbers'!$C$6)-W129","v":19},{"$f":"Sorcadins!X$1289*('Base Numbers'!$C$5*'Base Numbers'!$C$6)-X129","v":19}]
[{"$nulls":3},"smite dice left for non-crits",{"$f":"ROUND(MAX(0,E127-E129*E131),4)","v":0},{"$f":"ROUND(MAX(0,F127-F129*F131),4)","v":0},0,0,0,0,0,0,0,0,0,0,0,0,0,0,0,0,0,0]
[{"$nulls":3},"total smite dice used on crits",{"$f":"E130*E131","v":0},{"$f":"F130*F131","v":0},0,0,0,0,0,0,0,0,0,0,0,0,0,0,0,0,0,0]
[{"$nulls":3},"total crit smite damage per day",{"$f":"9*E135","v":0},{"$f":"9*F135","v":0},0,0,0,0,0,0,0,0,0,0,0,0,0,0,0,0,0,0]
[{"$nulls":3},"total non-crit smite damage per day",{"$f":"4.5*MIN(MIN(E133,E132)*E$7,E134)","v":0},{"$f":"4.5*MIN(MIN(F133,F132)*F$7,F134)","v":0},0,0,0,0,0,0,0,0,0,0,0,0,0,0,0,0,0,0]
[{"$nulls":3},"leftover sorc points + spell levels",{"$f":"IF(E127>0,IF(Sorcadins!E$273>0,(Sorcadins!E$273*E125+E124-E130*E131-E137/4.5)/Sorcadins!E$273,0),E125+E124)","v":0},{"$f":"IF(F127>0,IF(Sorcadins!F$273>0,(Sorcadins!F$273*F125+F124-F130*F131-F137/4.5)/Sorcadins!F$273,0),F125+F124)","v":0},{"$f":"IF(G127>0,IF(Sorcadins!G$273>0,(Sorcadins!G$273*G125+G124-G130*G131-G137/4.5)/Sorcadins!G$273,0),G125+G124)","v":0},{"$f":"IF(H127>0,IF(Sorcadins!H$273>0,(Sorcadins!H$273*H125+H124-H130*H131-H137/4.5)/Sorcadins!H$273,0),H125+H124)","v":0},{"$f":"IF(I127>0,IF(Sorcadins!I$273>0,(Sorcadins!I$273*I125+I124-I130*I131-I137/4.5)/Sorcadins!I$273,0),I125+I124)","v":0},{"$f":"IF(J127>0,IF(Sorcadins!J$273>0,(Sorcadins!J$273*J125+J124-J130*J131-J137/4.5)/Sorcadins!J$273,0),J125+J124)","v":0},{"$f":"IF(K127>0,IF(Sorcadins!K$273>0,(Sorcadins!K$273*K125+K124-K130*K131-K137/4.5)/Sorcadins!K$273,0),K125+K124)","v":0},{"$f":"IF(L127>0,IF(Sorcadins!L$273>0,(Sorcadins!L$273*L125+L124-L130*L131-L137/4.5)/Sorcadins!L$273,0),L125+L124)","v":0},{"$f":"IF(M127>0,IF(Sorcadins!M$273>0,(Sorcadins!M$273*M125+M124-M130*M131-M137/4.5)/Sorcadins!M$273,0),M125+M124)","v":0},{"$f":"IF(N127>0,IF(Sorcadins!N$273>0,(Sorcadins!N$273*N125+N124-N130*N131-N137/4.5)/Sorcadins!N$273,0),N125+N124)","v":0},{"$f":"IF(O127>0,IF(Sorcadins!O$273>0,(Sorcadins!O$273*O125+O124-O130*O131-O137/4.5)/Sorcadins!O$273,0),O125+O124)","v":0},{"$f":"IF(P127>0,IF(Sorcadins!P$273>0,(Sorcadins!P$273*P125+P124-P130*P131-P137/4.5)/Sorcadins!P$273,0),P125+P124)","v":0},{"$f":"IF(Q127>0,IF(Sorcadins!Q$273>0,(Sorcadins!Q$273*Q125+Q124-Q130*Q131-Q137/4.5)/Sorcadins!Q$273,0),Q125+Q124)","v":0},{"$f":"IF(R127>0,IF(Sorcadins!R$273>0,(Sorcadins!R$273*R125+R124-R130*R131-R137/4.5)/Sorcadins!R$273,0),R125+R124)","v":0},{"$f":"IF(S127>0,IF(Sorcadins!S$273>0,(Sorcadins!S$273*S125+S124-S130*S131-S137/4.5)/Sorcadins!S$273,0),S125+S124)","v":0},{"$f":"IF(T127>0,IF(Sorcadins!T$273>0,(Sorcadins!T$273*T125+T124-T130*T131-T137/4.5)/Sorcadins!T$273,0),T125+T124)","v":0},{"$f":"IF(U127>0,IF(Sorcadins!U$273>0,(Sorcadins!U$273*U125+U124-U130*U131-U137/4.5)/Sorcadins!U$273,0),U125+U124)","v":0},{"$f":"IF(V127>0,IF(Sorcadins!V$273>0,(Sorcadins!V$273*V125+V124-V130*V131-V137/4.5)/Sorcadins!V$273,0),V125+V124)","v":0},{"$f":"IF(W127>0,IF(Sorcadins!W$273>0,(Sorcadins!W$273*W125+W124-W130*W131-W137/4.5)/Sorcadins!W$273,0),W125+W124)","v":0},{"$f":"IF(X127>0,IF(Sorcadins!X$273>0,(Sorcadins!X$273*X125+X124-X130*X131-X137/4.5)/Sorcadins!X$273,0),X125+X124)","v":0}]
[{"$nulls":3},"actual smites performed",{"$f":"E130+IF(E$7>0,MIN(E132,E133,E134/E$7),0)","v":0},{"$f":"F130+IF(F$7>0,MIN(F132,F133,F134/F$7),0)","v":0},0,0,0,0,0,0,0,0,0,0,0,0,0,0,0,0,0,0]
[{"$nulls":3},"total daily smite damage: M1, B4, O1/O2",{"$f":"E136+E137","v":0},{"$f":"F136+F137","v":0},0,0,0,0,0,0,0,0,0,0,0,0,0,0,0,0,0,0]
[]
[{"$nulls":3},"SMITES - M1, B4, O3",1,2,3,4,5,6,7,8,9,10,11,12,13,14,15,16,17,18,19,20]
[{"$nulls":3},"remaining sorcery points (based on Damage Scenario)",{"$f":"MAX(0,Sorcadins!E$561-Sorcadins!E$1278)","v":0},{"$f":"MAX(0,Sorcadins!F$561-Sorcadins!F$1278)","v":0},{"$f":"MAX(0,Sorcadins!G$561-Sorcadins!G$1278)","v":0},{"$f":"MAX(0,Sorcadins!H$561-Sorcadins!H$1278)","v":0},{"$f":"MAX(0,Sorcadins!I$561-Sorcadins!I$1278)","v":0},{"$f":"MAX(0,Sorcadins!J$561-Sorcadins!J$1278)","v":0},{"$f":"MAX(0,Sorcadins!K$561-Sorcadins!K$1278)","v":0},{"$f":"MAX(0,Sorcadins!L$561-Sorcadins!L$1278)","v":0},{"$f":"MAX(0,Sorcadins!M$561-Sorcadins!M$1278)","v":0},{"$f":"MAX(0,Sorcadins!N$561-Sorcadins!N$1278)","v":0},{"$f":"MAX(0,Sorcadins!O$561-Sorcadins!O$1278)","v":0},{"$f":"MAX(0,Sorcadins!P$561-Sorcadins!P$1278)","v":0},{"$f":"MAX(0,Sorcadins!Q$561-Sorcadins!Q$1278)","v":0},{"$f":"MAX(0,Sorcadins!R$561-Sorcadins!R$1278)","v":0},{"$f":"MAX(0,Sorcadins!S$561-Sorcadins!S$1278)","v":0},{"$f":"MAX(0,Sorcadins!T$561-Sorcadins!T$1278)","v":0},{"$f":"MAX(0,Sorcadins!U$561-Sorcadins!U$1278)","v":0},{"$f":"MAX(0,Sorcadins!V$561-Sorcadins!V$1278)","v":0},{"$f":"MAX(0,Sorcadins!W$561-Sorcadins!W$1278)","v":0},{"$f":"MAX(0,Sorcadins!X$561-Sorcadins!X$1278)","v":0},null,"*Sorc points directly convertible to Smite Dice"]
[{"$nulls":3},"remaining spell slot levels (based on Damage Scenario)",{"$f":"MAX(0,Sorcadins!E$281-MAX(0,Sorcadins!E$1278-Sorcadins!E$561))","v":0},{"$f":"MAX(0,Sorcadins!F$281-MAX(0,Sorcadins!F$1278-Sorcadins!F$561))","v":0},{"$f":"MAX(0,Sorcadins!G$281-MAX(0,Sorcadins!G$1278-Sorcadins!G$561))","v":0},{"$f":"MAX(0,Sorcadins!H$281-MAX(0,Sorcadins!H$1278-Sorcadins!H$561))","v":0},{"$f":"MAX(0,Sorcadins!I$281-MAX(0,Sorcadins!I$1278-Sorcadins!I$561))","v":0},{"$f":"MAX(0,Sorcadins!J$281-MAX(0,Sorcadins!J$1278-Sorcadins!J$561))","v":0},{"$f":"MAX(0,Sorcadins!K$281-MAX(0,Sorcadins!K$1278-Sorcadins!K$561))","v":0},{"$f":"MAX(0,Sorcadins!L$281-MAX(0,Sorcadins!L$1278-Sorcadins!L$561))","v":0},{"$f":"MAX(0,Sorcadins!M$281-MAX(0,Sorcadins!M$1278-Sorcadins!M$561))","v":0},{"$f":"MAX(0,Sorcadins!N$281-MAX(0,Sorcadins!N$1278-Sorcadins!N$561))","v":0},{"$f":"MAX(0,Sorcadins!O$281-MAX(0,Sorcadins!O$1278-Sorcadins!O$561))","v":0},{"$f":"MAX(0,Sorcadins!P$281-MAX(0,Sorcadins!P$1278-Sorcadins!P$561))","v":0},{"$f":"MAX(0,Sorcadins!Q$281-MAX(0,Sorcadins!Q$1278-Sorcadins!Q$561))","v":0},{"$f":"MAX(0,Sorcadins!R$281-MAX(0,Sorcadins!R$1278-Sorcadins!R$561))","v":0},{"$f":"MAX(0,Sorcadins!S$281-MAX(0,Sorcadins!S$1278-Sorcadins!S$561))","v":0},{"$f":"MAX(0,Sorcadins!T$281-MAX(0,Sorcadins!T$1278-Sorcadins!T$561))","v":0},{"$f":"MAX(0,Sorcadins!U$281-MAX(0,Sorcadins!U$1278-Sorcadins!U$561))","v":0},{"$f":"MAX(0,Sorcadins!V$281-MAX(0,Sorcadins!V$1278-Sorcadins!V$561))","v":0},{"$f":"MAX(0,Sorcadins!W$281-MAX(0,Sorcadins!W$1278-Sorcadins!W$561))","v":0},{"$f":"MAX(0,Sorcadins!X$281-MAX(0,Sorcadins!X$1278-Sorcadins!X$561))","v":0}]
[{"$nulls":3},"total warlock smite levels remaining",{"$f":"MIN(Sorcadins!E$273*E144,Sorcadins!E$264)","v":0},{"$f":"MIN(Sorcadins!F$273*F144,Sorcadins!F$264)","v":0},{"$f":"MIN(Sorcadins!G$273*G144,Sorcadins!G$264)","v":0},{"$f":"MIN(Sorcadins!H$273*H144,Sorcadins!H$264)","v":0},{"$f":"MIN(Sorcadins!I$273*I144,Sorcadins!I$264)","v":0},{"$f":"MIN(Sorcadins!J$273*J144,Sorcadins!J$264)","v":0},{"$f":"MIN(Sorcadins!K$273*K144,Sorcadins!K$264)","v":0},{"$f":"MIN(Sorcadins!L$273*L144,Sorcadins!L$264)","v":0},{"$f":"MIN(Sorcadins!M$273*M144,Sorcadins!M$264)","v":0},{"$f":"MIN(Sorcadins!N$273*N144,Sorcadins!N$264)","v":0},{"$f":"MIN(Sorcadins!O$273*O144,Sorcadins!O$264)","v":0},{"$f":"MIN(Sorcadins!P$273*P144,Sorcadins!P$264)","v":0},{"$f":"MIN(Sorcadins!Q$273*Q144,Sorcadins!Q$264)","v":0},{"$f":"MIN(Sorcadins!R$273*R144,Sorcadins!R$264)","v":0},{"$f":"MIN(Sorcadins!S$273*S144,Sorcadins!S$264)","v":0},{"$f":"MIN(Sorcadins!T$273*T144,Sorcadins!T$264)","v":0},{"$f":"MIN(Sorcadins!U$273*U144,Sorcadins!U$264)","v":0},{"$f":"MIN(Sorcadins!V$273*V144,Sorcadins!V$264)","v":0},{"$f":"MIN(Sorcadins!W$273*W144,Sorcadins!W$264)","v":0},{"$f":"MIN(Sorcadins!X$273*X144,Sorcadins!X$264)","v":0}]
[{"$nulls":3},"total smite levels remaining",{"$f":"IF(E$5>=1,Sorcadins!E$273*E144+E143,IF(E$6,E145,0))","v":0},{"$f":"IF(F$5>=1,Sorcadins!F$273*F144+F143,IF(F$6,F145,0))","v":0},{"$f":"IF(G$5>=1,Sorcadins!G$273*G144+G143,IF(G$6,G145,0))","v":0},{"$f":"IF(H$5>=1,Sorcadins!H$273*H144+H143,IF(H$6,H145,0))","v":0},{"$f":"IF(I$5>=1,Sorcadins!I$273*I144+I143,IF(I$6,I145,0))","v":0},{"$f":"IF(J$5>=1,Sorcadins!J$273*J144+J143,IF(J$6,J145,0))","v":0},{"$f":"IF(K$5>=1,Sorcadins!K$273*K144+K143,IF(K$6,K145,0))","v":0},{"$f":"IF(L$5>=1,Sorcadins!L$273*L144+L143,IF(L$6,L145,0))","v":0},{"$f":"IF(M$5>=1,Sorcadins!M$273*M144+M143,IF(M$6,M145,0))","v":0},{"$f":"IF(N$5>=1,Sorcadins!N$273*N144+N143,IF(N$6,N145,0))","v":0},{"$f":"IF(O$5>=1,Sorcadins!O$273*O144+O143,IF(O$6,O145,0))","v":0},{"$f":"IF(P$5>=1,Sorcadins!P$273*P144+P143,IF(P$6,P145,0))","v":0},{"$f":"IF(Q$5>=1,Sorcadins!Q$273*Q144+Q143,IF(Q$6,Q145,0))","v":0},{"$f":"IF(R$5>=1,Sorcadins!R$273*R144+R143,IF(R$6,R145,0))","v":0},{"$f":"IF(S$5>=1,Sorcadins!S$273*S144+S143,IF(S$6,S145,0))","v":0},{"$f":"IF(T$5>=1,Sorcadins!T$273*T144+T143,IF(T$6,T145,0))","v":0},{"$f":"IF(U$5>=1,Sorcadins!U$273*U144+U143,IF(U$6,U145,0))","v":0},{"$f":"IF(V$5>=1,Sorcadins!V$273*V144+V143,IF(V$6,V145,0))","v":0},{"$f":"IF(W$5>=1,Sorcadins!W$273*W144+W143,IF(W$6,W145,0))","v":0},{"$f":"IF(X$5>=1,Sorcadins!X$273*X144+X143,IF(X$6,X145,0))","v":0}]
[{"$nulls":3},"max number of daily smites (after spells)",{"$f":"IF(E$6,Sorcadins!E$1157,IF(E$5,Sorcadins!E$282+E143/2,0))","v":0},{"$f":"IF(F$6,Sorcadins!F$1157,IF(F$5,Sorcadins!F$282+F143/2,0))","v":0},{"$f":"IF(G$6,Sorcadins!G$1157,IF(G$5,Sorcadins!G$282+G143/2,0))","v":0},{"$f":"IF(H$6,Sorcadins!H$1157,IF(H$5,Sorcadins!H$282+H143/2,0))","v":0},{"$f":"IF(I$6,Sorcadins!I$1157,IF(I$5,Sorcadins!I$282+I143/2,0))","v":0},{"$f":"IF(J$6,Sorcadins!J$1157,IF(J$5,Sorcadins!J$282+J143/2,0))","v":0},{"$f":"IF(K$6,Sorcadins!K$1157,IF(K$5,Sorcadins!K$282+K143/2,0))","v":0},{"$f":"IF(L$6,Sorcadins!L$1157,IF(L$5,Sorcadins!L$282+L143/2,0))","v":0},{"$f":"IF(M$6,Sorcadins!M$1157,IF(M$5,Sorcadins!M$282+M143/2,0))","v":0},{"$f":"IF(N$6,Sorcadins!N$1157,IF(N$5,Sorcadins!N$282+N143/2,0))","v":0},{"$f":"IF(O$6,Sorcadins!O$1157,IF(O$5,Sorcadins!O$282+O143/2,0))","v":0},{"$f":"IF(P$6,Sorcadins!P$1157,IF(P$5,Sorcadins!P$282+P143/2,0))","v":0},{"$f":"IF(Q$6,Sorcadins!Q$1157,IF(Q$5,Sorcadins!Q$282+Q143/2,0))","v":0},{"$f":"IF(R$6,Sorcadins!R$1157,IF(R$5,Sorcadins!R$282+R143/2,0))","v":0},{"$f":"IF(S$6,Sorcadins!S$1157,IF(S$5,Sorcadins!S$282+S143/2,0))","v":0},{"$f":"IF(T$6,Sorcadins!T$1157,IF(T$5,Sorcadins!T$282+T143/2,0))","v":0},{"$f":"IF(U$6,Sorcadins!U$1157,IF(U$5,Sorcadins!U$282+U143/2,0))","v":0},{"$f":"IF(V$6,Sorcadins!V$1157,IF(V$5,Sorcadins!V$282+V143/2,0))","v":0},{"$f":"IF(W$6,Sorcadins!W$1157,IF(W$5,Sorcadins!W$282+W143/2,0))","v":0},{"$f":"IF(X$6,Sorcadins!X$1157,IF(X$5,Sorcadins!X$282+X143/2,0))","v":0}]
[{"$nulls":3},"avg crits per day for smite purposes (based on Damage Scenario)",{"$f":"'Base Numbers'!$C$5*'Base Numbers'!$C$6*Sorcadins!E$1315","v":0.8},{"$f":"'Base Numbers'!$C$5*'Base Numbers'!$C$6*Sorcadins!F$1315","v":0.8},{"$f":"'Base Numbers'!$C$5*'Base Numbers'!$C$6*Sorcadins!G$1315","v":0.8},{"$f":"'Base Numbers'!$C$5*'Base Numbers'!$C$6*Sorcadins!H$1315","v":0.8},{"$f":"'Base Numbers'!$C$5*'Base Numbers'!$C$6*Sorcadins!I$1315","v":0.8},{"$f":"'Base Numbers'!$C$5*'Base Numbers'!$C$6*Sorcadins!J$1315","v":0.8},{"$f":"'Base Numbers'!$C$5*'Base Numbers'!$C$6*Sorcadins!K$1315","v":0.8},{"$f":"'Base Numbers'!$C$5*'Base Numbers'!$C$6*Sorcadins!L$1315","v":0.8},{"$f":"'Base Numbers'!$C$5*'Base Numbers'!$C$6*Sorcadins!M$1315","v":0.8},{"$f":"'Base Numbers'!$C$5*'Base Numbers'!$C$6*Sorcadins!N$1315","v":0.8},{"$f":"'Base Numbers'!$C$5*'Base Numbers'!$C$6*Sorcadins!O$1315","v":0.8},{"$f":"'Base Numbers'!$C$5*'Base Numbers'!$C$6*Sorcadins!P$1315","v":0.8},{"$f":"'Base Numbers'!$C$5*'Base Numbers'!$C$6*Sorcadins!Q$1315","v":0.8},{"$f":"'Base Numbers'!$C$5*'Base Numbers'!$C$6*Sorcadins!R$1315","v":0.8},{"$f":"'Base Numbers'!$C$5*'Base Numbers'!$C$6*Sorcadins!S$1315","v":0.8},{"$f":"'Base Numbers'!$C$5*'Base Numbers'!$C$6*Sorcadins!T$1315","v":0.8},{"$f":"'Base Numbers'!$C$5*'Base Numbers'!$C$6*Sorcadins!U$1315","v":0.8},{"$f":"'Base Numbers'!$C$5*'Base Numbers'!$C$6*Sorcadins!V$1315","v":0.8},{"$f":"'Base Numbers'!$C$5*'Base Numbers'!$C$6*Sorcadins!W$1315","v":0.8},{"$f":"'Base Numbers'!$C$5*'Base Numbers'!$C$6*Sorcadins!X$1315","v":0.8}]
[{"$nulls":3},"number of smites used on crits",{"$f":"MIN(E147,E148)","v":0},0,0,0,0,0,0,0,0,0,0,0,0,0,0,0,0,0,0,0]
[{"$nulls":3},"avg smite dice per crit ",{"$f":"IF(E149>0,MIN(E$7,(E146/MIN(E149,E148))),0)","v":0},0,0,0,0,0,0,0,0,0,0,0,0,0,0,0,0,0,0,0]
[{"$nulls":3},"smites left for non-crits",{"$f":"E147-E149","v":0},{"$f":"F147-F149","v":0},0,0,0,0,0,0,0,0,0,0,0,0,0,0,0,0,0,0]
[{"$nulls":3},"total non-crit smite-qualifying attacks available",{"$f":"Sorcadins!E$1290*('Base Numbers'!$C$5*'Base Numbers'!$C$6)-E148","v":15.2},{"$f":"Sorcadins!F$1290*('Base Numbers'!$C$5*'Base Numbers'!$C$6)-F148","v":15.2},{"$f":"Sorcadins!G$1290*('Base Numbers'!$C$5*'Base Numbers'!$C$6)-G148","v":15.2},{"$f":"Sorcadins!H$1290*('Base Numbers'!$C$5*'Base Numbers'!$C$6)-H148","v":15.2},{"$f":"Sorcadins!I$1290*('Base Numbers'!$C$5*'Base Numbers'!$C$6)-I148","v":15.2},{"$f":"Sorcadins!J$1290*('Base Numbers'!$C$5*'Base Numbers'!$C$6)-J148","v":15.2},{"$f":"Sorcadins!K$1290*('Base Numbers'!$C$5*'Base Numbers'!$C$6)-K148","v":15.2},{"$f":"Sorcadins!L$1290*('Base Numbers'!$C$5*'Base Numbers'!$C$6)-L148","v":15.2},{"$f":"Sorcadins!M$1290*('Base Numbers'!$C$5*'Base Numbers'!$C$6)-M148","v":15.2},{"$f":"Sorcadins!N$1290*('Base Numbers'!$C$5*'Base Numbers'!$C$6)-N148","v":15.2},{"$f":"Sorcadins!O$1290*('Base Numbers'!$C$5*'Base Numbers'!$C$6)-O148","v":15.2},{"$f":"Sorcadins!P$1290*('Base Numbers'!$C$5*'Base Numbers'!$C$6)-P148","v":15.2},{"$f":"Sorcadins!Q$1290*('Base Numbers'!$C$5*'Base Numbers'!$C$6)-Q148","v":15.2},{"$f":"Sorcadins!R$1290*('Base Numbers'!$C$5*'Base Numbers'!$C$6)-R148","v":15.2},{"$f":"Sorcadins!S$1290*('Base Numbers'!$C$5*'Base Numbers'!$C$6)-S148","v":15.2},{"$f":"Sorcadins!T$1290*('Base Numbers'!$C$5*'Base Numbers'!$C$6)-T148","v":15.2},{"$f":"Sorcadins!U$1290*('Base Numbers'!$C$5*'Base Numbers'!$C$6)-U148","v":15.2},{"$f":"Sorcadins!V$1290*('Base Numbers'!$C$5*'Base Numbers'!$C$6)-V148","v":15.2},{"$f":"Sorcadins!W$1290*('Base Numbers'!$C$5*'Base Numbers'!$C$6)-W148","v":15.2},{"$f":"Sorcadins!X$1290*('Base Numbers'!$C$5*'Base Numbers'!$C$6)-X148","v":15.2}]
[{"$nulls":3},"smite dice left for non-crits",{"$f":"ROUND(MAX(0,E146-E148*E150),4)","v":0},{"$f":"ROUND(MAX(0,F146-F148*F150),4)","v":0},0,0,0,0,0,0,0,0,0,0,0,0,0,0,0,0,0,0]
[{"$nulls":3},"total smite dice used on crits",{"$f":"E149*E150","v":0},{"$f":"F149*F150","v":0},0,0,0,0,0,0,0,0,0,0,0,0,0,0,0,0,0,0]
[{"$nulls":3},"total crit smite damage per day",{"$f":"9*E154","v":0},0,0,0,0,0,0,0,0,0,0,0,0,0,0,0,0,0,0,0]
[{"$nulls":3},"total non-crit smite damage per day",{"$f":"4.5*MIN(MIN(E152,E151)*E$7,E153)","v":0},{"$f":"4.5*MIN(MIN(F152,F151)*F$7,F153)","v":0},0,0,0,0,0,0,0,0,0,0,0,0,0,0,0,0,0,0]
[{"$nulls":3},"leftover sorc points + spell levels",{"$f":"IF(E146>0,IF(Sorcadins!E$273>0,(Sorcadins!E$273*E144+E143-E149*E150-E156/4.5)/Sorcadins!E$273,0),E144+E143)","v":0},{"$f":"IF(F146>0,IF(Sorcadins!F$273>0,(Sorcadins!F$273*F144+F143-F149*F150-F156/4.5)/Sorcadins!F$273,0),F144+F143)","v":0},{"$f":"IF(G146>0,IF(Sorcadins!G$273>0,(Sorcadins!G$273*G144+G143-G149*G150-G156/4.5)/Sorcadins!G$273,0),G144+G143)","v":0},{"$f":"IF(H146>0,IF(Sorcadins!H$273>0,(Sorcadins!H$273*H144+H143-H149*H150-H156/4.5)/Sorcadins!H$273,0),H144+H143)","v":0},{"$f":"IF(I146>0,IF(Sorcadins!I$273>0,(Sorcadins!I$273*I144+I143-I149*I150-I156/4.5)/Sorcadins!I$273,0),I144+I143)","v":0},{"$f":"IF(J146>0,IF(Sorcadins!J$273>0,(Sorcadins!J$273*J144+J143-J149*J150-J156/4.5)/Sorcadins!J$273,0),J144+J143)","v":0},{"$f":"IF(K146>0,IF(Sorcadins!K$273>0,(Sorcadins!K$273*K144+K143-K149*K150-K156/4.5)/Sorcadins!K$273,0),K144+K143)","v":0},{"$f":"IF(L146>0,IF(Sorcadins!L$273>0,(Sorcadins!L$273*L144+L143-L149*L150-L156/4.5)/Sorcadins!L$273,0),L144+L143)","v":0},{"$f":"IF(M146>0,IF(Sorcadins!M$273>0,(Sorcadins!M$273*M144+M143-M149*M150-M156/4.5)/Sorcadins!M$273,0),M144+M143)","v":0},{"$f":"IF(N146>0,IF(Sorcadins!N$273>0,(Sorcadins!N$273*N144+N143-N149*N150-N156/4.5)/Sorcadins!N$273,0),N144+N143)","v":0},{"$f":"IF(O146>0,IF(Sorcadins!O$273>0,(Sorcadins!O$273*O144+O143-O149*O150-O156/4.5)/Sorcadins!O$273,0),O144+O143)","v":0},{"$f":"IF(P146>0,IF(Sorcadins!P$273>0,(Sorcadins!P$273*P144+P143-P149*P150-P156/4.5)/Sorcadins!P$273,0),P144+P143)","v":0},{"$f":"IF(Q146>0,IF(Sorcadins!Q$273>0,(Sorcadins!Q$273*Q144+Q143-Q149*Q150-Q156/4.5)/Sorcadins!Q$273,0),Q144+Q143)","v":0},{"$f":"IF(R146>0,IF(Sorcadins!R$273>0,(Sorcadins!R$273*R144+R143-R149*R150-R156/4.5)/Sorcadins!R$273,0),R144+R143)","v":0},{"$f":"IF(S146>0,IF(Sorcadins!S$273>0,(Sorcadins!S$273*S144+S143-S149*S150-S156/4.5)/Sorcadins!S$273,0),S144+S143)","v":0},{"$f":"IF(T146>0,IF(Sorcadins!T$273>0,(Sorcadins!T$273*T144+T143-T149*T150-T156/4.5)/Sorcadins!T$273,0),T144+T143)","v":0},{"$f":"IF(U146>0,IF(Sorcadins!U$273>0,(Sorcadins!U$273*U144+U143-U149*U150-U156/4.5)/Sorcadins!U$273,0),U144+U143)","v":0},{"$f":"IF(V146>0,IF(Sorcadins!V$273>0,(Sorcadins!V$273*V144+V143-V149*V150-V156/4.5)/Sorcadins!V$273,0),V144+V143)","v":0},{"$f":"IF(W146>0,IF(Sorcadins!W$273>0,(Sorcadins!W$273*W144+W143-W149*W150-W156/4.5)/Sorcadins!W$273,0),W144+W143)","v":0},{"$f":"IF(X146>0,IF(Sorcadins!X$273>0,(Sorcadins!X$273*X144+X143-X149*X150-X156/4.5)/Sorcadins!X$273,0),X144+X143)","v":0}]
[{"$nulls":3},"actual smites performed",{"$f":"E149+IF(E$7>0,MIN(E151,E152,E153/E$7),0)","v":0},{"$f":"F149+IF(F$7>0,MIN(F151,F152,F153/F$7),0)","v":0},0,0,0,0,0,0,0,0,0,0,0,0,0,0,0,0,0,0]
[{"$nulls":3},"total daily smite damage: M1, B4, O3",{"$f":"E155+E156","v":0},0,0,0,0,0,0,0,0,0,0,0,0,0,0,0,0,0,0,0]
[]
[{"$nulls":3},"SMITES - M1, B5, O1/O2",1,2,3,4,5,6,7,8,9,10,11,12,13,14,15,16,17,18,19,20]
[{"$nulls":3},"remaining sorcery points (based on Damage Scenario)",{"$f":"MAX(0,Sorcadins!E$561-Sorcadins!E$1278)","v":0},{"$f":"MAX(0,Sorcadins!F$561-Sorcadins!F$1278)","v":0},{"$f":"MAX(0,Sorcadins!G$561-Sorcadins!G$1278)","v":0},{"$f":"MAX(0,Sorcadins!H$561-Sorcadins!H$1278)","v":0},{"$f":"MAX(0,Sorcadins!I$561-Sorcadins!I$1278)","v":0},{"$f":"MAX(0,Sorcadins!J$561-Sorcadins!J$1278)","v":0},{"$f":"MAX(0,Sorcadins!K$561-Sorcadins!K$1278)","v":0},{"$f":"MAX(0,Sorcadins!L$561-Sorcadins!L$1278)","v":0},{"$f":"MAX(0,Sorcadins!M$561-Sorcadins!M$1278)","v":0},{"$f":"MAX(0,Sorcadins!N$561-Sorcadins!N$1278)","v":0},{"$f":"MAX(0,Sorcadins!O$561-Sorcadins!O$1278)","v":0},{"$f":"MAX(0,Sorcadins!P$561-Sorcadins!P$1278)","v":0},{"$f":"MAX(0,Sorcadins!Q$561-Sorcadins!Q$1278)","v":0},{"$f":"MAX(0,Sorcadins!R$561-Sorcadins!R$1278)","v":0},{"$f":"MAX(0,Sorcadins!S$561-Sorcadins!S$1278)","v":0},{"$f":"MAX(0,Sorcadins!T$561-Sorcadins!T$1278)","v":0},{"$f":"MAX(0,Sorcadins!U$561-Sorcadins!U$1278)","v":0},{"$f":"MAX(0,Sorcadins!V$561-Sorcadins!V$1278)","v":0},{"$f":"MAX(0,Sorcadins!W$561-Sorcadins!W$1278)","v":0},{"$f":"MAX(0,Sorcadins!X$561-Sorcadins!X$1278)","v":0},null,"*Sorc points directly convertible to Smite Dice"]
[{"$nulls":3},"remaining spell slot levels (based on Damage Scenario)",{"$f":"MAX(0,Sorcadins!E$281-MAX(0,Sorcadins!E$1278-Sorcadins!E$561))","v":0},{"$f":"MAX(0,Sorcadins!F$281-MAX(0,Sorcadins!F$1278-Sorcadins!F$561))","v":0},{"$f":"MAX(0,Sorcadins!G$281-MAX(0,Sorcadins!G$1278-Sorcadins!G$561))","v":0},{"$f":"MAX(0,Sorcadins!H$281-MAX(0,Sorcadins!H$1278-Sorcadins!H$561))","v":0},{"$f":"MAX(0,Sorcadins!I$281-MAX(0,Sorcadins!I$1278-Sorcadins!I$561))","v":0},{"$f":"MAX(0,Sorcadins!J$281-MAX(0,Sorcadins!J$1278-Sorcadins!J$561))","v":0},{"$f":"MAX(0,Sorcadins!K$281-MAX(0,Sorcadins!K$1278-Sorcadins!K$561))","v":0},{"$f":"MAX(0,Sorcadins!L$281-MAX(0,Sorcadins!L$1278-Sorcadins!L$561))","v":0},{"$f":"MAX(0,Sorcadins!M$281-MAX(0,Sorcadins!M$1278-Sorcadins!M$561))","v":0},{"$f":"MAX(0,Sorcadins!N$281-MAX(0,Sorcadins!N$1278-Sorcadins!N$561))","v":0},{"$f":"MAX(0,Sorcadins!O$281-MAX(0,Sorcadins!O$1278-Sorcadins!O$561))","v":0},{"$f":"MAX(0,Sorcadins!P$281-MAX(0,Sorcadins!P$1278-Sorcadins!P$561))","v":0},{"$f":"MAX(0,Sorcadins!Q$281-MAX(0,Sorcadins!Q$1278-Sorcadins!Q$561))","v":0},{"$f":"MAX(0,Sorcadins!R$281-MAX(0,Sorcadins!R$1278-Sorcadins!R$561))","v":0},{"$f":"MAX(0,Sorcadins!S$281-MAX(0,Sorcadins!S$1278-Sorcadins!S$561))","v":0},{"$f":"MAX(0,Sorcadins!T$281-MAX(0,Sorcadins!T$1278-Sorcadins!T$561))","v":0},{"$f":"MAX(0,Sorcadins!U$281-MAX(0,Sorcadins!U$1278-Sorcadins!U$561))","v":0},{"$f":"MAX(0,Sorcadins!V$281-MAX(0,Sorcadins!V$1278-Sorcadins!V$561))","v":0},{"$f":"MAX(0,Sorcadins!W$281-MAX(0,Sorcadins!W$1278-Sorcadins!W$561))","v":0},{"$f":"MAX(0,Sorcadins!X$281-MAX(0,Sorcadins!X$1278-Sorcadins!X$561))","v":0}]
[{"$nulls":3},"total warlock smite levels remaining",{"$f":"MIN(Sorcadins!E$273*E163,Sorcadins!E$264)","v":0},{"$f":"MIN(Sorcadins!F$273*F163,Sorcadins!F$264)","v":0},{"$f":"MIN(Sorcadins!G$273*G163,Sorcadins!G$264)","v":0},{"$f":"MIN(Sorcadins!H$273*H163,Sorcadins!H$264)","v":0},{"$f":"MIN(Sorcadins!I$273*I163,Sorcadins!I$264)","v":0},{"$f":"MIN(Sorcadins!J$273*J163,Sorcadins!J$264)","v":0},{"$f":"MIN(Sorcadins!K$273*K163,Sorcadins!K$264)","v":0},{"$f":"MIN(Sorcadins!L$273*L163,Sorcadins!L$264)","v":0},{"$f":"MIN(Sorcadins!M$273*M163,Sorcadins!M$264)","v":0},{"$f":"MIN(Sorcadins!N$273*N163,Sorcadins!N$264)","v":0},{"$f":"MIN(Sorcadins!O$273*O163,Sorcadins!O$264)","v":0},{"$f":"MIN(Sorcadins!P$273*P163,Sorcadins!P$264)","v":0},{"$f":"MIN(Sorcadins!Q$273*Q163,Sorcadins!Q$264)","v":0},{"$f":"MIN(Sorcadins!R$273*R163,Sorcadins!R$264)","v":0},{"$f":"MIN(Sorcadins!S$273*S163,Sorcadins!S$264)","v":0},{"$f":"MIN(Sorcadins!T$273*T163,Sorcadins!T$264)","v":0},{"$f":"MIN(Sorcadins!U$273*U163,Sorcadins!U$264)","v":0},{"$f":"MIN(Sorcadins!V$273*V163,Sorcadins!V$264)","v":0},{"$f":"MIN(Sorcadins!W$273*W163,Sorcadins!W$264)","v":0},{"$f":"MIN(Sorcadins!X$273*X163,Sorcadins!X$264)","v":0}]
[{"$nulls":3},"total smite levels remaining",{"$f":"IF(E$5>=1,Sorcadins!E$273*E163+E162,IF(E$6,E164,0))","v":0},{"$f":"IF(F$5>=1,Sorcadins!F$273*F163+F162,IF(F$6,F164,0))","v":0},{"$f":"IF(G$5>=1,Sorcadins!G$273*G163+G162,IF(G$6,G164,0))","v":0},{"$f":"IF(H$5>=1,Sorcadins!H$273*H163+H162,IF(H$6,H164,0))","v":0},{"$f":"IF(I$5>=1,Sorcadins!I$273*I163+I162,IF(I$6,I164,0))","v":0},{"$f":"IF(J$5>=1,Sorcadins!J$273*J163+J162,IF(J$6,J164,0))","v":0},{"$f":"IF(K$5>=1,Sorcadins!K$273*K163+K162,IF(K$6,K164,0))","v":0},{"$f":"IF(L$5>=1,Sorcadins!L$273*L163+L162,IF(L$6,L164,0))","v":0},{"$f":"IF(M$5>=1,Sorcadins!M$273*M163+M162,IF(M$6,M164,0))","v":0},{"$f":"IF(N$5>=1,Sorcadins!N$273*N163+N162,IF(N$6,N164,0))","v":0},{"$f":"IF(O$5>=1,Sorcadins!O$273*O163+O162,IF(O$6,O164,0))","v":0},{"$f":"IF(P$5>=1,Sorcadins!P$273*P163+P162,IF(P$6,P164,0))","v":0},{"$f":"IF(Q$5>=1,Sorcadins!Q$273*Q163+Q162,IF(Q$6,Q164,0))","v":0},{"$f":"IF(R$5>=1,Sorcadins!R$273*R163+R162,IF(R$6,R164,0))","v":0},{"$f":"IF(S$5>=1,Sorcadins!S$273*S163+S162,IF(S$6,S164,0))","v":0},{"$f":"IF(T$5>=1,Sorcadins!T$273*T163+T162,IF(T$6,T164,0))","v":0},{"$f":"IF(U$5>=1,Sorcadins!U$273*U163+U162,IF(U$6,U164,0))","v":0},{"$f":"IF(V$5>=1,Sorcadins!V$273*V163+V162,IF(V$6,V164,0))","v":0},{"$f":"IF(W$5>=1,Sorcadins!W$273*W163+W162,IF(W$6,W164,0))","v":0},{"$f":"IF(X$5>=1,Sorcadins!X$273*X163+X162,IF(X$6,X164,0))","v":0}]
[{"$nulls":3},"max number of daily smites (after spells)",{"$f":"IF(E$6,Sorcadins!E$1157,IF(E$5,Sorcadins!E$282+E162/2,0))","v":0},{"$f":"IF(F$6,Sorcadins!F$1157,IF(F$5,Sorcadins!F$282+F162/2,0))","v":0},{"$f":"IF(G$6,Sorcadins!G$1157,IF(G$5,Sorcadins!G$282+G162/2,0))","v":0},{"$f":"IF(H$6,Sorcadins!H$1157,IF(H$5,Sorcadins!H$282+H162/2,0))","v":0},{"$f":"IF(I$6,Sorcadins!I$1157,IF(I$5,Sorcadins!I$282+I162/2,0))","v":0},{"$f":"IF(J$6,Sorcadins!J$1157,IF(J$5,Sorcadins!J$282+J162/2,0))","v":0},{"$f":"IF(K$6,Sorcadins!K$1157,IF(K$5,Sorcadins!K$282+K162/2,0))","v":0},{"$f":"IF(L$6,Sorcadins!L$1157,IF(L$5,Sorcadins!L$282+L162/2,0))","v":0},{"$f":"IF(M$6,Sorcadins!M$1157,IF(M$5,Sorcadins!M$282+M162/2,0))","v":0},{"$f":"IF(N$6,Sorcadins!N$1157,IF(N$5,Sorcadins!N$282+N162/2,0))","v":0},{"$f":"IF(O$6,Sorcadins!O$1157,IF(O$5,Sorcadins!O$282+O162/2,0))","v":0},{"$f":"IF(P$6,Sorcadins!P$1157,IF(P$5,Sorcadins!P$282+P162/2,0))","v":0},{"$f":"IF(Q$6,Sorcadins!Q$1157,IF(Q$5,Sorcadins!Q$282+Q162/2,0))","v":0},{"$f":"IF(R$6,Sorcadins!R$1157,IF(R$5,Sorcadins!R$282+R162/2,0))","v":0},{"$f":"IF(S$6,Sorcadins!S$1157,IF(S$5,Sorcadins!S$282+S162/2,0))","v":0},{"$f":"IF(T$6,Sorcadins!T$1157,IF(T$5,Sorcadins!T$282+T162/2,0))","v":0},{"$f":"IF(U$6,Sorcadins!U$1157,IF(U$5,Sorcadins!U$282+U162/2,0))","v":0},{"$f":"IF(V$6,Sorcadins!V$1157,IF(V$5,Sorcadins!V$282+V162/2,0))","v":0},{"$f":"IF(W$6,Sorcadins!W$1157,IF(W$5,Sorcadins!W$282+W162/2,0))","v":0},{"$f":"IF(X$6,Sorcadins!X$1157,IF(X$5,Sorcadins!X$282+X162/2,0))","v":0}]
[{"$nulls":3},"avg crits per day for smite purposes (based on Damage Scenario)",{"$f":"'Base Numbers'!$C$5*'Base Numbers'!$C$6*Sorcadins!E$1316","v":1},{"$f":"'Base Numbers'!$C$5*'Base Numbers'!$C$6*Sorcadins!F$1316","v":1},{"$f":"'Base Numbers'!$C$5*'Base Numbers'!$C$6*Sorcadins!G$1316","v":1},{"$f":"'Base Numbers'!$C$5*'Base Numbers'!$C$6*Sorcadins!H$1316","v":1},{"$f":"'Base Numbers'!$C$5*'Base Numbers'!$C$6*Sorcadins!I$1316","v":1},{"$f":"'Base Numbers'!$C$5*'Base Numbers'!$C$6*Sorcadins!J$1316","v":1},{"$f":"'Base Numbers'!$C$5*'Base Numbers'!$C$6*Sorcadins!K$1316","v":1},{"$f":"'Base Numbers'!$C$5*'Base Numbers'!$C$6*Sorcadins!L$1316","v":1},{"$f":"'Base Numbers'!$C$5*'Base Numbers'!$C$6*Sorcadins!M$1316","v":1},{"$f":"'Base Numbers'!$C$5*'Base Numbers'!$C$6*Sorcadins!N$1316","v":1},{"$f":"'Base Numbers'!$C$5*'Base Numbers'!$C$6*Sorcadins!O$1316","v":1},{"$f":"'Base Numbers'!$C$5*'Base Numbers'!$C$6*Sorcadins!P$1316","v":1},{"$f":"'Base Numbers'!$C$5*'Base Numbers'!$C$6*Sorcadins!Q$1316","v":1},{"$f":"'Base Numbers'!$C$5*'Base Numbers'!$C$6*Sorcadins!R$1316","v":1},{"$f":"'Base Numbers'!$C$5*'Base Numbers'!$C$6*Sorcadins!S$1316","v":1},{"$f":"'Base Numbers'!$C$5*'Base Numbers'!$C$6*Sorcadins!T$1316","v":1},{"$f":"'Base Numbers'!$C$5*'Base Numbers'!$C$6*Sorcadins!U$1316","v":1},{"$f":"'Base Numbers'!$C$5*'Base Numbers'!$C$6*Sorcadins!V$1316","v":1},{"$f":"'Base Numbers'!$C$5*'Base Numbers'!$C$6*Sorcadins!W$1316","v":1},{"$f":"'Base Numbers'!$C$5*'Base Numbers'!$C$6*Sorcadins!X$1316","v":1}]
[{"$nulls":3},"number of smites used on crits",{"$f":"MIN(E166,E167)","v":0},{"$f":"MIN(F166,F167)","v":0},0,0,0,0,0,0,0,0,0,0,0,0,0,0,0,0,0,0]
[{"$nulls":3},"avg smite dice per crit ",{"$f":"IF(E168>0,MIN(E$7,(E165/MIN(E168,E167))),0)","v":0},0,0,0,0,0,0,0,0,0,0,0,0,0,0,0,0,0,0,0]
[{"$nulls":3},"smites left for non-crits",{"$f":"E166-E168","v":0},{"$f":"F166-F168","v":0},0,0,0,0,0,0,0,0,0,0,0,0,0,0,0,0,0,0]
[{"$nulls":3},"total non-crit smite-qualifying attacks available",{"$f":"Sorcadins!E$1291*('Base Numbers'!$C$5*'Base Numbers'!$C$6)-E167","v":19},{"$f":"Sorcadins!F$1291*('Base Numbers'!$C$5*'Base Numbers'!$C$6)-F167","v":19},{"$f":"Sorcadins!G$1291*('Base Numbers'!$C$5*'Base Numbers'!$C$6)-G167","v":19},{"$f":"Sorcadins!H$1291*('Base Numbers'!$C$5*'Base Numbers'!$C$6)-H167","v":19},{"$f":"Sorcadins!I$1291*('Base Numbers'!$C$5*'Base Numbers'!$C$6)-I167","v":19},{"$f":"Sorcadins!J$1291*('Base Numbers'!$C$5*'Base Numbers'!$C$6)-J167","v":19},{"$f":"Sorcadins!K$1291*('Base Numbers'!$C$5*'Base Numbers'!$C$6)-K167","v":19},{"$f":"Sorcadins!L$1291*('Base Numbers'!$C$5*'Base Numbers'!$C$6)-L167","v":19},{"$f":"Sorcadins!M$1291*('Base Numbers'!$C$5*'Base Numbers'!$C$6)-M167","v":19},{"$f":"Sorcadins!N$1291*('Base Numbers'!$C$5*'Base Numbers'!$C$6)-N167","v":19},{"$f":"Sorcadins!O$1291*('Base Numbers'!$C$5*'Base Numbers'!$C$6)-O167","v":19},{"$f":"Sorcadins!P$1291*('Base Numbers'!$C$5*'Base Numbers'!$C$6)-P167","v":19},{"$f":"Sorcadins!Q$1291*('Base Numbers'!$C$5*'Base Numbers'!$C$6)-Q167","v":19},{"$f":"Sorcadins!R$1291*('Base Numbers'!$C$5*'Base Numbers'!$C$6)-R167","v":19},{"$f":"Sorcadins!S$1291*('Base Numbers'!$C$5*'Base Numbers'!$C$6)-S167","v":19},{"$f":"Sorcadins!T$1291*('Base Numbers'!$C$5*'Base Numbers'!$C$6)-T167","v":19},{"$f":"Sorcadins!U$1291*('Base Numbers'!$C$5*'Base Numbers'!$C$6)-U167","v":19},{"$f":"Sorcadins!V$1291*('Base Numbers'!$C$5*'Base Numbers'!$C$6)-V167","v":19},{"$f":"Sorcadins!W$1291*('Base Numbers'!$C$5*'Base Numbers'!$C$6)-W167","v":19},{"$f":"Sorcadins!X$1291*('Base Numbers'!$C$5*'Base Numbers'!$C$6)-X167","v":19}]
[{"$nulls":3},"smite dice left for non-crits",{"$f":"ROUND(MAX(0,E165-E167*E169),4)","v":0},{"$f":"ROUND(MAX(0,F165-F167*F169),4)","v":0},0,0,0,0,0,0,0,0,0,0,0,0,0,0,0,0,0,0]
[{"$nulls":3},"total smite dice used on crits",{"$f":"E168*E169","v":0},{"$f":"F168*F169","v":0},0,0,0,0,0,0,0,0,0,0,0,0,0,0,0,0,0,0]
[{"$nulls":3},"total crit smite damage per day",{"$f":"9*E173","v":0},{"$f":"9*F173","v":0},0,0,0,0,0,0,0,0,0,0,0,0,0,0,0,0,0,0]
[{"$nulls":3},"total non-crit smite damage per day",{"$f":"4.5*MIN(MIN(E171,E170)*E$7,E172)","v":0},{"$f":"4.5*MIN(MIN(F171,F170)*F$7,F172)","v":0},0,0,0,0,0,0,0,0,0,0,0,0,0,0,0,0,0,0]
[{"$nulls":3},"leftover sorc points + spell levels",{"$f":"IF(E165>0,IF(Sorcadins!E$273>0,(Sorcadins!E$273*E163+E162-E168*E169-E175/4.5)/Sorcadins!E$273,0),E163+E162)","v":0},{"$f":"IF(F165>0,IF(Sorcadins!F$273>0,(Sorcadins!F$273*F163+F162-F168*F169-F175/4.5)/Sorcadins!F$273,0),F163+F162)","v":0},{"$f":"IF(G165>0,IF(Sorcadins!G$273>0,(Sorcadins!G$273*G163+G162-G168*G169-G175/4.5)/Sorcadins!G$273,0),G163+G162)","v":0},{"$f":"IF(H165>0,IF(Sorcadins!H$273>0,(Sorcadins!H$273*H163+H162-H168*H169-H175/4.5)/Sorcadins!H$273,0),H163+H162)","v":0},{"$f":"IF(I165>0,IF(Sorcadins!I$273>0,(Sorcadins!I$273*I163+I162-I168*I169-I175/4.5)/Sorcadins!I$273,0),I163+I162)","v":0},{"$f":"IF(J165>0,IF(Sorcadins!J$273>0,(Sorcadins!J$273*J163+J162-J168*J169-J175/4.5)/Sorcadins!J$273,0),J163+J162)","v":0},{"$f":"IF(K165>0,IF(Sorcadins!K$273>0,(Sorcadins!K$273*K163+K162-K168*K169-K175/4.5)/Sorcadins!K$273,0),K163+K162)","v":0},{"$f":"IF(L165>0,IF(Sorcadins!L$273>0,(Sorcadins!L$273*L163+L162-L168*L169-L175/4.5)/Sorcadins!L$273,0),L163+L162)","v":0},{"$f":"IF(M165>0,IF(Sorcadins!M$273>0,(Sorcadins!M$273*M163+M162-M168*M169-M175/4.5)/Sorcadins!M$273,0),M163+M162)","v":0},{"$f":"IF(N165>0,IF(Sorcadins!N$273>0,(Sorcadins!N$273*N163+N162-N168*N169-N175/4.5)/Sorcadins!N$273,0),N163+N162)","v":0},{"$f":"IF(O165>0,IF(Sorcadins!O$273>0,(Sorcadins!O$273*O163+O162-O168*O169-O175/4.5)/Sorcadins!O$273,0),O163+O162)","v":0},{"$f":"IF(P165>0,IF(Sorcadins!P$273>0,(Sorcadins!P$273*P163+P162-P168*P169-P175/4.5)/Sorcadins!P$273,0),P163+P162)","v":0},{"$f":"IF(Q165>0,IF(Sorcadins!Q$273>0,(Sorcadins!Q$273*Q163+Q162-Q168*Q169-Q175/4.5)/Sorcadins!Q$273,0),Q163+Q162)","v":0},{"$f":"IF(R165>0,IF(Sorcadins!R$273>0,(Sorcadins!R$273*R163+R162-R168*R169-R175/4.5)/Sorcadins!R$273,0),R163+R162)","v":0},{"$f":"IF(S165>0,IF(Sorcadins!S$273>0,(Sorcadins!S$273*S163+S162-S168*S169-S175/4.5)/Sorcadins!S$273,0),S163+S162)","v":0},{"$f":"IF(T165>0,IF(Sorcadins!T$273>0,(Sorcadins!T$273*T163+T162-T168*T169-T175/4.5)/Sorcadins!T$273,0),T163+T162)","v":0},{"$f":"IF(U165>0,IF(Sorcadins!U$273>0,(Sorcadins!U$273*U163+U162-U168*U169-U175/4.5)/Sorcadins!U$273,0),U163+U162)","v":0},{"$f":"IF(V165>0,IF(Sorcadins!V$273>0,(Sorcadins!V$273*V163+V162-V168*V169-V175/4.5)/Sorcadins!V$273,0),V163+V162)","v":0},{"$f":"IF(W165>0,IF(Sorcadins!W$273>0,(Sorcadins!W$273*W163+W162-W168*W169-W175/4.5)/Sorcadins!W$273,0),W163+W162)","v":0},{"$f":"IF(X165>0,IF(Sorcadins!X$273>0,(Sorcadins!X$273*X163+X162-X168*X169-X175/4.5)/Sorcadins!X$273,0),X163+X162)","v":0}]
[{"$nulls":3},"actual smites performed",{"$f":"E168+IF(E$7>0,MIN(E170,E171,E172/E$7),0)","v":0},{"$f":"F168+IF(F$7>0,MIN(F170,F171,F172/F$7),0)","v":0},0,0,0,0,0,0,0,0,0,0,0,0,0,0,0,0,0,0]
[{"$nulls":3},"total daily smite damage: M1, B5, O1/O2",{"$f":"E174+E175","v":0},{"$f":"F174+F175","v":0},0,0,0,0,0,0,0,0,0,0,0,0,0,0,0,0,0,0]
[]
[{"$nulls":3},"SMITES - M1, B5, O3",1,2,3,4,5,6,7,8,9,10,11,12,13,14,15,16,17,18,19,20]
[{"$nulls":3},"remaining sorcery points (based on Damage Scenario)",{"$f":"MAX(0,Sorcadins!E$561-Sorcadins!E$1278)","v":0},{"$f":"MAX(0,Sorcadins!F$561-Sorcadins!F$1278)","v":0},{"$f":"MAX(0,Sorcadins!G$561-Sorcadins!G$1278)","v":0},{"$f":"MAX(0,Sorcadins!H$561-Sorcadins!H$1278)","v":0},{"$f":"MAX(0,Sorcadins!I$561-Sorcadins!I$1278)","v":0},{"$f":"MAX(0,Sorcadins!J$561-Sorcadins!J$1278)","v":0},{"$f":"MAX(0,Sorcadins!K$561-Sorcadins!K$1278)","v":0},{"$f":"MAX(0,Sorcadins!L$561-Sorcadins!L$1278)","v":0},{"$f":"MAX(0,Sorcadins!M$561-Sorcadins!M$1278)","v":0},{"$f":"MAX(0,Sorcadins!N$561-Sorcadins!N$1278)","v":0},{"$f":"MAX(0,Sorcadins!O$561-Sorcadins!O$1278)","v":0},{"$f":"MAX(0,Sorcadins!P$561-Sorcadins!P$1278)","v":0},{"$f":"MAX(0,Sorcadins!Q$561-Sorcadins!Q$1278)","v":0},{"$f":"MAX(0,Sorcadins!R$561-Sorcadins!R$1278)","v":0},{"$f":"MAX(0,Sorcadins!S$561-Sorcadins!S$1278)","v":0},{"$f":"MAX(0,Sorcadins!T$561-Sorcadins!T$1278)","v":0},{"$f":"MAX(0,Sorcadins!U$561-Sorcadins!U$1278)","v":0},{"$f":"MAX(0,Sorcadins!V$561-Sorcadins!V$1278)","v":0},{"$f":"MAX(0,Sorcadins!W$561-Sorcadins!W$1278)","v":0},{"$f":"MAX(0,Sorcadins!X$561-Sorcadins!X$1278)","v":0},null,"*Sorc points directly convertible to Smite Dice"]
[{"$nulls":3},"remaining spell slot levels (based on Damage Scenario)",{"$f":"MAX(0,Sorcadins!E$281-MAX(0,Sorcadins!E$1278-Sorcadins!E$561))","v":0},{"$f":"MAX(0,Sorcadins!F$281-MAX(0,Sorcadins!F$1278-Sorcadins!F$561))","v":0},{"$f":"MAX(0,Sorcadins!G$281-MAX(0,Sorcadins!G$1278-Sorcadins!G$561))","v":0},{"$f":"MAX(0,Sorcadins!H$281-MAX(0,Sorcadins!H$1278-Sorcadins!H$561))","v":0},{"$f":"MAX(0,Sorcadins!I$281-MAX(0,Sorcadins!I$1278-Sorcadins!I$561))","v":0},{"$f":"MAX(0,Sorcadins!J$281-MAX(0,Sorcadins!J$1278-Sorcadins!J$561))","v":0},{"$f":"MAX(0,Sorcadins!K$281-MAX(0,Sorcadins!K$1278-Sorcadins!K$561))","v":0},{"$f":"MAX(0,Sorcadins!L$281-MAX(0,Sorcadins!L$1278-Sorcadins!L$561))","v":0},{"$f":"MAX(0,Sorcadins!M$281-MAX(0,Sorcadins!M$1278-Sorcadins!M$561))","v":0},{"$f":"MAX(0,Sorcadins!N$281-MAX(0,Sorcadins!N$1278-Sorcadins!N$561))","v":0},{"$f":"MAX(0,Sorcadins!O$281-MAX(0,Sorcadins!O$1278-Sorcadins!O$561))","v":0},{"$f":"MAX(0,Sorcadins!P$281-MAX(0,Sorcadins!P$1278-Sorcadins!P$561))","v":0},{"$f":"MAX(0,Sorcadins!Q$281-MAX(0,Sorcadins!Q$1278-Sorcadins!Q$561))","v":0},{"$f":"MAX(0,Sorcadins!R$281-MAX(0,Sorcadins!R$1278-Sorcadins!R$561))","v":0},{"$f":"MAX(0,Sorcadins!S$281-MAX(0,Sorcadins!S$1278-Sorcadins!S$561))","v":0},{"$f":"MAX(0,Sorcadins!T$281-MAX(0,Sorcadins!T$1278-Sorcadins!T$561))","v":0},{"$f":"MAX(0,Sorcadins!U$281-MAX(0,Sorcadins!U$1278-Sorcadins!U$561))","v":0},{"$f":"MAX(0,Sorcadins!V$281-MAX(0,Sorcadins!V$1278-Sorcadins!V$561))","v":0},{"$f":"MAX(0,Sorcadins!W$281-MAX(0,Sorcadins!W$1278-Sorcadins!W$561))","v":0},{"$f":"MAX(0,Sorcadins!X$281-MAX(0,Sorcadins!X$1278-Sorcadins!X$561))","v":0}]
[{"$nulls":3},"total warlock smite levels remaining",{"$f":"MIN(Sorcadins!E$273*E182,Sorcadins!E$264)","v":0},{"$f":"MIN(Sorcadins!F$273*F182,Sorcadins!F$264)","v":0},{"$f":"MIN(Sorcadins!G$273*G182,Sorcadins!G$264)","v":0},{"$f":"MIN(Sorcadins!H$273*H182,Sorcadins!H$264)","v":0},{"$f":"MIN(Sorcadins!I$273*I182,Sorcadins!I$264)","v":0},{"$f":"MIN(Sorcadins!J$273*J182,Sorcadins!J$264)","v":0},{"$f":"MIN(Sorcadins!K$273*K182,Sorcadins!K$264)","v":0},{"$f":"MIN(Sorcadins!L$273*L182,Sorcadins!L$264)","v":0},{"$f":"MIN(Sorcadins!M$273*M182,Sorcadins!M$264)","v":0},{"$f":"MIN(Sorcadins!N$273*N182,Sorcadins!N$264)","v":0},{"$f":"MIN(Sorcadins!O$273*O182,Sorcadins!O$264)","v":0},{"$f":"MIN(Sorcadins!P$273*P182,Sorcadins!P$264)","v":0},{"$f":"MIN(Sorcadins!Q$273*Q182,Sorcadins!Q$264)","v":0},{"$f":"MIN(Sorcadins!R$273*R182,Sorcadins!R$264)","v":0},{"$f":"MIN(Sorcadins!S$273*S182,Sorcadins!S$264)","v":0},{"$f":"MIN(Sorcadins!T$273*T182,Sorcadins!T$264)","v":0},{"$f":"MIN(Sorcadins!U$273*U182,Sorcadins!U$264)","v":0},{"$f":"MIN(Sorcadins!V$273*V182,Sorcadins!V$264)","v":0},{"$f":"MIN(Sorcadins!W$273*W182,Sorcadins!W$264)","v":0},{"$f":"MIN(Sorcadins!X$273*X182,Sorcadins!X$264)","v":0}]
[{"$nulls":3},"total smite levels remaining",{"$f":"IF(E$5>=1,Sorcadins!E$273*E182+E181,IF(E$6,E183,0))","v":0},{"$f":"IF(F$5>=1,Sorcadins!F$273*F182+F181,IF(F$6,F183,0))","v":0},{"$f":"IF(G$5>=1,Sorcadins!G$273*G182+G181,IF(G$6,G183,0))","v":0},{"$f":"IF(H$5>=1,Sorcadins!H$273*H182+H181,IF(H$6,H183,0))","v":0},{"$f":"IF(I$5>=1,Sorcadins!I$273*I182+I181,IF(I$6,I183,0))","v":0},{"$f":"IF(J$5>=1,Sorcadins!J$273*J182+J181,IF(J$6,J183,0))","v":0},{"$f":"IF(K$5>=1,Sorcadins!K$273*K182+K181,IF(K$6,K183,0))","v":0},{"$f":"IF(L$5>=1,Sorcadins!L$273*L182+L181,IF(L$6,L183,0))","v":0},{"$f":"IF(M$5>=1,Sorcadins!M$273*M182+M181,IF(M$6,M183,0))","v":0},{"$f":"IF(N$5>=1,Sorcadins!N$273*N182+N181,IF(N$6,N183,0))","v":0},{"$f":"IF(O$5>=1,Sorcadins!O$273*O182+O181,IF(O$6,O183,0))","v":0},{"$f":"IF(P$5>=1,Sorcadins!P$273*P182+P181,IF(P$6,P183,0))","v":0},{"$f":"IF(Q$5>=1,Sorcadins!Q$273*Q182+Q181,IF(Q$6,Q183,0))","v":0},{"$f":"IF(R$5>=1,Sorcadins!R$273*R182+R181,IF(R$6,R183,0))","v":0},{"$f":"IF(S$5>=1,Sorcadins!S$273*S182+S181,IF(S$6,S183,0))","v":0},{"$f":"IF(T$5>=1,Sorcadins!T$273*T182+T181,IF(T$6,T183,0))","v":0},{"$f":"IF(U$5>=1,Sorcadins!U$273*U182+U181,IF(U$6,U183,0))","v":0},{"$f":"IF(V$5>=1,Sorcadins!V$273*V182+V181,IF(V$6,V183,0))","v":0},{"$f":"IF(W$5>=1,Sorcadins!W$273*W182+W181,IF(W$6,W183,0))","v":0},{"$f":"IF(X$5>=1,Sorcadins!X$273*X182+X181,IF(X$6,X183,0))","v":0}]
[{"$nulls":3},"max number of daily smites (after spells)",{"$f":"IF(E$6,Sorcadins!E$1157,IF(E$5,Sorcadins!E$282+E181/2,0))","v":0},{"$f":"IF(F$6,Sorcadins!F$1157,IF(F$5,Sorcadins!F$282+F181/2,0))","v":0},{"$f":"IF(G$6,Sorcadins!G$1157,IF(G$5,Sorcadins!G$282+G181/2,0))","v":0},{"$f":"IF(H$6,Sorcadins!H$1157,IF(H$5,Sorcadins!H$282+H181/2,0))","v":0},{"$f":"IF(I$6,Sorcadins!I$1157,IF(I$5,Sorcadins!I$282+I181/2,0))","v":0},{"$f":"IF(J$6,Sorcadins!J$1157,IF(J$5,Sorcadins!J$282+J181/2,0))","v":0},{"$f":"IF(K$6,Sorcadins!K$1157,IF(K$5,Sorcadins!K$282+K181/2,0))","v":0},{"$f":"IF(L$6,Sorcadins!L$1157,IF(L$5,Sorcadins!L$282+L181/2,0))","v":0},{"$f":"IF(M$6,Sorcadins!M$1157,IF(M$5,Sorcadins!M$282+M181/2,0))","v":0},{"$f":"IF(N$6,Sorcadins!N$1157,IF(N$5,Sorcadins!N$282+N181/2,0))","v":0},{"$f":"IF(O$6,Sorcadins!O$1157,IF(O$5,Sorcadins!O$282+O181/2,0))","v":0},{"$f":"IF(P$6,Sorcadins!P$1157,IF(P$5,Sorcadins!P$282+P181/2,0))","v":0},{"$f":"IF(Q$6,Sorcadins!Q$1157,IF(Q$5,Sorcadins!Q$282+Q181/2,0))","v":0},{"$f":"IF(R$6,Sorcadins!R$1157,IF(R$5,Sorcadins!R$282+R181/2,0))","v":0},{"$f":"IF(S$6,Sorcadins!S$1157,IF(S$5,Sorcadins!S$282+S181/2,0))","v":0},{"$f":"IF(T$6,Sorcadins!T$1157,IF(T$5,Sorcadins!T$282+T181/2,0))","v":0},{"$f":"IF(U$6,Sorcadins!U$1157,IF(U$5,Sorcadins!U$282+U181/2,0))","v":0},{"$f":"IF(V$6,Sorcadins!V$1157,IF(V$5,Sorcadins!V$282+V181/2,0))","v":0},{"$f":"IF(W$6,Sorcadins!W$1157,IF(W$5,Sorcadins!W$282+W181/2,0))","v":0},{"$f":"IF(X$6,Sorcadins!X$1157,IF(X$5,Sorcadins!X$282+X181/2,0))","v":0}]
[{"$nulls":3},"avg crits per day for smite purposes (based on Damage Scenario)",{"$f":"'Base Numbers'!$C$5*'Base Numbers'!$C$6*Sorcadins!E$1317","v":0.8},{"$f":"'Base Numbers'!$C$5*'Base Numbers'!$C$6*Sorcadins!F$1317","v":0.8},{"$f":"'Base Numbers'!$C$5*'Base Numbers'!$C$6*Sorcadins!G$1317","v":0.8},{"$f":"'Base Numbers'!$C$5*'Base Numbers'!$C$6*Sorcadins!H$1317","v":0.8},{"$f":"'Base Numbers'!$C$5*'Base Numbers'!$C$6*Sorcadins!I$1317","v":0.8},{"$f":"'Base Numbers'!$C$5*'Base Numbers'!$C$6*Sorcadins!J$1317","v":0.8},{"$f":"'Base Numbers'!$C$5*'Base Numbers'!$C$6*Sorcadins!K$1317","v":0.8},{"$f":"'Base Numbers'!$C$5*'Base Numbers'!$C$6*Sorcadins!L$1317","v":0.8},{"$f":"'Base Numbers'!$C$5*'Base Numbers'!$C$6*Sorcadins!M$1317","v":0.8},{"$f":"'Base Numbers'!$C$5*'Base Numbers'!$C$6*Sorcadins!N$1317","v":0.8},{"$f":"'Base Numbers'!$C$5*'Base Numbers'!$C$6*Sorcadins!O$1317","v":0.8},{"$f":"'Base Numbers'!$C$5*'Base Numbers'!$C$6*Sorcadins!P$1317","v":0.8},{"$f":"'Base Numbers'!$C$5*'Base Numbers'!$C$6*Sorcadins!Q$1317","v":0.8},{"$f":"'Base Numbers'!$C$5*'Base Numbers'!$C$6*Sorcadins!R$1317","v":0.8},{"$f":"'Base Numbers'!$C$5*'Base Numbers'!$C$6*Sorcadins!S$1317","v":0.8},{"$f":"'Base Numbers'!$C$5*'Base Numbers'!$C$6*Sorcadins!T$1317","v":0.8},{"$f":"'Base Numbers'!$C$5*'Base Numbers'!$C$6*Sorcadins!U$1317","v":0.8},{"$f":"'Base Numbers'!$C$5*'Base Numbers'!$C$6*Sorcadins!V$1317","v":0.8},{"$f":"'Base Numbers'!$C$5*'Base Numbers'!$C$6*Sorcadins!W$1317","v":0.8},{"$f":"'Base Numbers'!$C$5*'Base Numbers'!$C$6*Sorcadins!X$1317","v":0.8}]
[{"$nulls":3},"number of smites used on crits",{"$f":"MIN(E185,E186)","v":0},{"$f":"MIN(F185,F186)","v":0},0,0,0,0,0,0,0,0,0,0,0,0,0,0,0,0,0,0]
[{"$nulls":3},"avg smite dice per crit ",{"$f":"IF(E187>0,MIN(E$7,(E184/MIN(E187,E186))),0)","v":0},0,0,0,0,0,0,0,0,0,0,0,0,0,0,0,0,0,0,0]
[{"$nulls":3},"smites left for non-crits",{"$f":"E185-E187","v":0},{"$f":"F185-F187","v":0},0,0,0,0,0,0,0,0,0,0,0,0,0,0,0,0,0,0]
[{"$nulls":3},"total non-crit smite-qualifying attacks available",{"$f":"Sorcadins!E$1292*('Base Numbers'!$C$5*'Base Numbers'!$C$6)-E186","v":15.2},{"$f":"Sorcadins!F$1292*('Base Numbers'!$C$5*'Base Numbers'!$C$6)-F186","v":15.2},{"$f":"Sorcadins!G$1292*('Base Numbers'!$C$5*'Base Numbers'!$C$6)-G186","v":15.2},{"$f":"Sorcadins!H$1292*('Base Numbers'!$C$5*'Base Numbers'!$C$6)-H186","v":15.2},{"$f":"Sorcadins!I$1292*('Base Numbers'!$C$5*'Base Numbers'!$C$6)-I186","v":15.2},{"$f":"Sorcadins!J$1292*('Base Numbers'!$C$5*'Base Numbers'!$C$6)-J186","v":15.2},{"$f":"Sorcadins!K$1292*('Base Numbers'!$C$5*'Base Numbers'!$C$6)-K186","v":15.2},{"$f":"Sorcadins!L$1292*('Base Numbers'!$C$5*'Base Numbers'!$C$6)-L186","v":15.2},{"$f":"Sorcadins!M$1292*('Base Numbers'!$C$5*'Base Numbers'!$C$6)-M186","v":15.2},{"$f":"Sorcadins!N$1292*('Base Numbers'!$C$5*'Base Numbers'!$C$6)-N186","v":15.2},{"$f":"Sorcadins!O$1292*('Base Numbers'!$C$5*'Base Numbers'!$C$6)-O186","v":15.2},{"$f":"Sorcadins!P$1292*('Base Numbers'!$C$5*'Base Numbers'!$C$6)-P186","v":15.2},{"$f":"Sorcadins!Q$1292*('Base Numbers'!$C$5*'Base Numbers'!$C$6)-Q186","v":15.2},{"$f":"Sorcadins!R$1292*('Base Numbers'!$C$5*'Base Numbers'!$C$6)-R186","v":15.2},{"$f":"Sorcadins!S$1292*('Base Numbers'!$C$5*'Base Numbers'!$C$6)-S186","v":15.2},{"$f":"Sorcadins!T$1292*('Base Numbers'!$C$5*'Base Numbers'!$C$6)-T186","v":15.2},{"$f":"Sorcadins!U$1292*('Base Numbers'!$C$5*'Base Numbers'!$C$6)-U186","v":15.2},{"$f":"Sorcadins!V$1292*('Base Numbers'!$C$5*'Base Numbers'!$C$6)-V186","v":15.2},{"$f":"Sorcadins!W$1292*('Base Numbers'!$C$5*'Base Numbers'!$C$6)-W186","v":15.2},{"$f":"Sorcadins!X$1292*('Base Numbers'!$C$5*'Base Numbers'!$C$6)-X186","v":15.2}]
[{"$nulls":3},"smite dice left for non-crits",{"$f":"ROUND(MAX(0,E184-E186*E188),4)","v":0},{"$f":"ROUND(MAX(0,F184-F186*F188),4)","v":0},0,0,0,0,0,0,0,0,0,0,0,0,0,0,0,0,0,0]
[{"$nulls":3},"total smite dice used on crits",{"$f":"E187*E188","v":0},{"$f":"F187*F188","v":0},0,0,0,0,0,0,0,0,0,0,0,0,0,0,0,0,0,0]
[{"$nulls":3},"total crit smite damage per day",{"$f":"9*E192","v":0},{"$f":"9*F192","v":0},0,0,0,0,0,0,0,0,0,0,0,0,0,0,0,0,0,0]
[{"$nulls":3},"total non-crit smite damage per day",{"$f":"4.5*MIN(MIN(E190,E189)*E$7,E191)","v":0},{"$f":"4.5*MIN(MIN(F190,F189)*F$7,F191)","v":0},0,0,0,0,0,0,0,0,0,0,0,0,0,0,0,0,0,0]
[{"$nulls":3},"leftover sorc points + spell levels",{"$f":"IF(E184>0,IF(Sorcadins!E$273>0,(Sorcadins!E$273*E182+E181-E187*E188-E194/4.5)/Sorcadins!E$273,0),E182+E181)","v":0},{"$f":"IF(F184>0,IF(Sorcadins!F$273>0,(Sorcadins!F$273*F182+F181-F187*F188-F194/4.5)/Sorcadins!F$273,0),F182+F181)","v":0},{"$f":"IF(G184>0,IF(Sorcadins!G$273>0,(Sorcadins!G$273*G182+G181-G187*G188-G194/4.5)/Sorcadins!G$273,0),G182+G181)","v":0},{"$f":"IF(H184>0,IF(Sorcadins!H$273>0,(Sorcadins!H$273*H182+H181-H187*H188-H194/4.5)/Sorcadins!H$273,0),H182+H181)","v":0},{"$f":"IF(I184>0,IF(Sorcadins!I$273>0,(Sorcadins!I$273*I182+I181-I187*I188-I194/4.5)/Sorcadins!I$273,0),I182+I181)","v":0},{"$f":"IF(J184>0,IF(Sorcadins!J$273>0,(Sorcadins!J$273*J182+J181-J187*J188-J194/4.5)/Sorcadins!J$273,0),J182+J181)","v":0},{"$f":"IF(K184>0,IF(Sorcadins!K$273>0,(Sorcadins!K$273*K182+K181-K187*K188-K194/4.5)/Sorcadins!K$273,0),K182+K181)","v":0},{"$f":"IF(L184>0,IF(Sorcadins!L$273>0,(Sorcadins!L$273*L182+L181-L187*L188-L194/4.5)/Sorcadins!L$273,0),L182+L181)","v":0},{"$f":"IF(M184>0,IF(Sorcadins!M$273>0,(Sorcadins!M$273*M182+M181-M187*M188-M194/4.5)/Sorcadins!M$273,0),M182+M181)","v":0},{"$f":"IF(N184>0,IF(Sorcadins!N$273>0,(Sorcadins!N$273*N182+N181-N187*N188-N194/4.5)/Sorcadins!N$273,0),N182+N181)","v":0},{"$f":"IF(O184>0,IF(Sorcadins!O$273>0,(Sorcadins!O$273*O182+O181-O187*O188-O194/4.5)/Sorcadins!O$273,0),O182+O181)","v":0},{"$f":"IF(P184>0,IF(Sorcadins!P$273>0,(Sorcadins!P$273*P182+P181-P187*P188-P194/4.5)/Sorcadins!P$273,0),P182+P181)","v":0},{"$f":"IF(Q184>0,IF(Sorcadins!Q$273>0,(Sorcadins!Q$273*Q182+Q181-Q187*Q188-Q194/4.5)/Sorcadins!Q$273,0),Q182+Q181)","v":0},{"$f":"IF(R184>0,IF(Sorcadins!R$273>0,(Sorcadins!R$273*R182+R181-R187*R188-R194/4.5)/Sorcadins!R$273,0),R182+R181)","v":0},{"$f":"IF(S184>0,IF(Sorcadins!S$273>0,(Sorcadins!S$273*S182+S181-S187*S188-S194/4.5)/Sorcadins!S$273,0),S182+S181)","v":0},{"$f":"IF(T184>0,IF(Sorcadins!T$273>0,(Sorcadins!T$273*T182+T181-T187*T188-T194/4.5)/Sorcadins!T$273,0),T182+T181)","v":0},{"$f":"IF(U184>0,IF(Sorcadins!U$273>0,(Sorcadins!U$273*U182+U181-U187*U188-U194/4.5)/Sorcadins!U$273,0),U182+U181)","v":0},{"$f":"IF(V184>0,IF(Sorcadins!V$273>0,(Sorcadins!V$273*V182+V181-V187*V188-V194/4.5)/Sorcadins!V$273,0),V182+V181)","v":0},{"$f":"IF(W184>0,IF(Sorcadins!W$273>0,(Sorcadins!W$273*W182+W181-W187*W188-W194/4.5)/Sorcadins!W$273,0),W182+W181)","v":0},{"$f":"IF(X184>0,IF(Sorcadins!X$273>0,(Sorcadins!X$273*X182+X181-X187*X188-X194/4.5)/Sorcadins!X$273,0),X182+X181)","v":0}]
[{"$nulls":3},"actual smites performed",{"$f":"E187+IF(E$7>0,MIN(E189,E190,E191/E$7),0)","v":0},{"$f":"F187+IF(F$7>0,MIN(F189,F190,F191/F$7),0)","v":0},0,0,0,0,0,0,0,0,0,0,0,0,0,0,0,0,0,0]
[{"$nulls":3},"total daily smite damage: M1, B5, O3",{"$f":"E193+E194","v":0},{"$f":"F193+F194","v":0},0,0,0,0,0,0,0,0,0,0,0,0,0,0,0,0,0,0]
[]
[{"$nulls":3},"SMITES - M2, B6, O1/O2",1,2,3,4,5,6,7,8,9,10,11,12,13,14,15,16,17,18,19,20]
[{"$nulls":3},"remaining sorcery points (based on Damage Scenario)",{"$f":"MAX(0,Sorcadins!E$561-Sorcadins!E$1278)","v":0},{"$f":"MAX(0,Sorcadins!F$561-Sorcadins!F$1278)","v":0},{"$f":"MAX(0,Sorcadins!G$561-Sorcadins!G$1278)","v":0},{"$f":"MAX(0,Sorcadins!H$561-Sorcadins!H$1278)","v":0},{"$f":"MAX(0,Sorcadins!I$561-Sorcadins!I$1278)","v":0},{"$f":"MAX(0,Sorcadins!J$561-Sorcadins!J$1278)","v":0},{"$f":"MAX(0,Sorcadins!K$561-Sorcadins!K$1278)","v":0},{"$f":"MAX(0,Sorcadins!L$561-Sorcadins!L$1278)","v":0},{"$f":"MAX(0,Sorcadins!M$561-Sorcadins!M$1278)","v":0},{"$f":"MAX(0,Sorcadins!N$561-Sorcadins!N$1278)","v":0},{"$f":"MAX(0,Sorcadins!O$561-Sorcadins!O$1278)","v":0},{"$f":"MAX(0,Sorcadins!P$561-Sorcadins!P$1278)","v":0},{"$f":"MAX(0,Sorcadins!Q$561-Sorcadins!Q$1278)","v":0},{"$f":"MAX(0,Sorcadins!R$561-Sorcadins!R$1278)","v":0},{"$f":"MAX(0,Sorcadins!S$561-Sorcadins!S$1278)","v":0},{"$f":"MAX(0,Sorcadins!T$561-Sorcadins!T$1278)","v":0},{"$f":"MAX(0,Sorcadins!U$561-Sorcadins!U$1278)","v":0},{"$f":"MAX(0,Sorcadins!V$561-Sorcadins!V$1278)","v":0},{"$f":"MAX(0,Sorcadins!W$561-Sorcadins!W$1278)","v":0},{"$f":"MAX(0,Sorcadins!X$561-Sorcadins!X$1278)","v":0},null,"*Sorc points directly convertible to Smite Dice"]
[{"$nulls":3},"remaining spell slot levels (based on Damage Scenario)",{"$f":"MAX(0,Sorcadins!E$281-MAX(0,Sorcadins!E$1278-Sorcadins!E$561))","v":0},{"$f":"MAX(0,Sorcadins!F$281-MAX(0,Sorcadins!F$1278-Sorcadins!F$561))","v":0},{"$f":"MAX(0,Sorcadins!G$281-MAX(0,Sorcadins!G$1278-Sorcadins!G$561))","v":0},{"$f":"MAX(0,Sorcadins!H$281-MAX(0,Sorcadins!H$1278-Sorcadins!H$561))","v":0},{"$f":"MAX(0,Sorcadins!I$281-MAX(0,Sorcadins!I$1278-Sorcadins!I$561))","v":0},{"$f":"MAX(0,Sorcadins!J$281-MAX(0,Sorcadins!J$1278-Sorcadins!J$561))","v":0},{"$f":"MAX(0,Sorcadins!K$281-MAX(0,Sorcadins!K$1278-Sorcadins!K$561))","v":0},{"$f":"MAX(0,Sorcadins!L$281-MAX(0,Sorcadins!L$1278-Sorcadins!L$561))","v":0},{"$f":"MAX(0,Sorcadins!M$281-MAX(0,Sorcadins!M$1278-Sorcadins!M$561))","v":0},{"$f":"MAX(0,Sorcadins!N$281-MAX(0,Sorcadins!N$1278-Sorcadins!N$561))","v":0},{"$f":"MAX(0,Sorcadins!O$281-MAX(0,Sorcadins!O$1278-Sorcadins!O$561))","v":0},{"$f":"MAX(0,Sorcadins!P$281-MAX(0,Sorcadins!P$1278-Sorcadins!P$561))","v":0},{"$f":"MAX(0,Sorcadins!Q$281-MAX(0,Sorcadins!Q$1278-Sorcadins!Q$561))","v":0},{"$f":"MAX(0,Sorcadins!R$281-MAX(0,Sorcadins!R$1278-Sorcadins!R$561))","v":0},{"$f":"MAX(0,Sorcadins!S$281-MAX(0,Sorcadins!S$1278-Sorcadins!S$561))","v":0},{"$f":"MAX(0,Sorcadins!T$281-MAX(0,Sorcadins!T$1278-Sorcadins!T$561))","v":0},{"$f":"MAX(0,Sorcadins!U$281-MAX(0,Sorcadins!U$1278-Sorcadins!U$561))","v":0},{"$f":"MAX(0,Sorcadins!V$281-MAX(0,Sorcadins!V$1278-Sorcadins!V$561))","v":0},{"$f":"MAX(0,Sorcadins!W$281-MAX(0,Sorcadins!W$1278-Sorcadins!W$561))","v":0},{"$f":"MAX(0,Sorcadins!X$281-MAX(0,Sorcadins!X$1278-Sorcadins!X$561))","v":0}]
[{"$nulls":3},"total warlock smite levels remaining",{"$f":"MIN(Sorcadins!E$273*E201,Sorcadins!E$264)","v":0},{"$f":"MIN(Sorcadins!F$273*F201,Sorcadins!F$264)","v":0},{"$f":"MIN(Sorcadins!G$273*G201,Sorcadins!G$264)","v":0},{"$f":"MIN(Sorcadins!H$273*H201,Sorcadins!H$264)","v":0},{"$f":"MIN(Sorcadins!I$273*I201,Sorcadins!I$264)","v":0},{"$f":"MIN(Sorcadins!J$273*J201,Sorcadins!J$264)","v":0},{"$f":"MIN(Sorcadins!K$273*K201,Sorcadins!K$264)","v":0},{"$f":"MIN(Sorcadins!L$273*L201,Sorcadins!L$264)","v":0},{"$f":"MIN(Sorcadins!M$273*M201,Sorcadins!M$264)","v":0},{"$f":"MIN(Sorcadins!N$273*N201,Sorcadins!N$264)","v":0},{"$f":"MIN(Sorcadins!O$273*O201,Sorcadins!O$264)","v":0},{"$f":"MIN(Sorcadins!P$273*P201,Sorcadins!P$264)","v":0},{"$f":"MIN(Sorcadins!Q$273*Q201,Sorcadins!Q$264)","v":0},{"$f":"MIN(Sorcadins!R$273*R201,Sorcadins!R$264)","v":0},{"$f":"MIN(Sorcadins!S$273*S201,Sorcadins!S$264)","v":0},{"$f":"MIN(Sorcadins!T$273*T201,Sorcadins!T$264)","v":0},{"$f":"MIN(Sorcadins!U$273*U201,Sorcadins!U$264)","v":0},{"$f":"MIN(Sorcadins!V$273*V201,Sorcadins!V$264)","v":0},{"$f":"MIN(Sorcadins!W$273*W201,Sorcadins!W$264)","v":0},{"$f":"MIN(Sorcadins!X$273*X201,Sorcadins!X$264)","v":0}]
[{"$nulls":3},"total smite levels remaining",{"$f":"IF(E$5>=1,Sorcadins!E$273*E201+E200,IF(E$6,E202,0))","v":0},{"$f":"IF(F$5>=1,Sorcadins!F$273*F201+F200,IF(F$6,F202,0))","v":0},{"$f":"IF(G$5>=1,Sorcadins!G$273*G201+G200,IF(G$6,G202,0))","v":0},{"$f":"IF(H$5>=1,Sorcadins!H$273*H201+H200,IF(H$6,H202,0))","v":0},{"$f":"IF(I$5>=1,Sorcadins!I$273*I201+I200,IF(I$6,I202,0))","v":0},{"$f":"IF(J$5>=1,Sorcadins!J$273*J201+J200,IF(J$6,J202,0))","v":0},{"$f":"IF(K$5>=1,Sorcadins!K$273*K201+K200,IF(K$6,K202,0))","v":0},{"$f":"IF(L$5>=1,Sorcadins!L$273*L201+L200,IF(L$6,L202,0))","v":0},{"$f":"IF(M$5>=1,Sorcadins!M$273*M201+M200,IF(M$6,M202,0))","v":0},{"$f":"IF(N$5>=1,Sorcadins!N$273*N201+N200,IF(N$6,N202,0))","v":0},{"$f":"IF(O$5>=1,Sorcadins!O$273*O201+O200,IF(O$6,O202,0))","v":0},{"$f":"IF(P$5>=1,Sorcadins!P$273*P201+P200,IF(P$6,P202,0))","v":0},{"$f":"IF(Q$5>=1,Sorcadins!Q$273*Q201+Q200,IF(Q$6,Q202,0))","v":0},{"$f":"IF(R$5>=1,Sorcadins!R$273*R201+R200,IF(R$6,R202,0))","v":0},{"$f":"IF(S$5>=1,Sorcadins!S$273*S201+S200,IF(S$6,S202,0))","v":0},{"$f":"IF(T$5>=1,Sorcadins!T$273*T201+T200,IF(T$6,T202,0))","v":0},{"$f":"IF(U$5>=1,Sorcadins!U$273*U201+U200,IF(U$6,U202,0))","v":0},{"$f":"IF(V$5>=1,Sorcadins!V$273*V201+V200,IF(V$6,V202,0))","v":0},{"$f":"IF(W$5>=1,Sorcadins!W$273*W201+W200,IF(W$6,W202,0))","v":0},{"$f":"IF(X$5>=1,Sorcadins!X$273*X201+X200,IF(X$6,X202,0))","v":0}]
[{"$nulls":3},"max number of daily smites (after spells)",{"$f":"IF(E$6,Sorcadins!E$1157,IF(E$5,Sorcadins!E$282+E200/2,0))","v":0},{"$f":"IF(F$6,Sorcadins!F$1157,IF(F$5,Sorcadins!F$282+F200/2,0))","v":0},{"$f":"IF(G$6,Sorcadins!G$1157,IF(G$5,Sorcadins!G$282+G200/2,0))","v":0},{"$f":"IF(H$6,Sorcadins!H$1157,IF(H$5,Sorcadins!H$282+H200/2,0))","v":0},{"$f":"IF(I$6,Sorcadins!I$1157,IF(I$5,Sorcadins!I$282+I200/2,0))","v":0},{"$f":"IF(J$6,Sorcadins!J$1157,IF(J$5,Sorcadins!J$282+J200/2,0))","v":0},{"$f":"IF(K$6,Sorcadins!K$1157,IF(K$5,Sorcadins!K$282+K200/2,0))","v":0},{"$f":"IF(L$6,Sorcadins!L$1157,IF(L$5,Sorcadins!L$282+L200/2,0))","v":0},{"$f":"IF(M$6,Sorcadins!M$1157,IF(M$5,Sorcadins!M$282+M200/2,0))","v":0},{"$f":"IF(N$6,Sorcadins!N$1157,IF(N$5,Sorcadins!N$282+N200/2,0))","v":0},{"$f":"IF(O$6,Sorcadins!O$1157,IF(O$5,Sorcadins!O$282+O200/2,0))","v":0},{"$f":"IF(P$6,Sorcadins!P$1157,IF(P$5,Sorcadins!P$282+P200/2,0))","v":0},{"$f":"IF(Q$6,Sorcadins!Q$1157,IF(Q$5,Sorcadins!Q$282+Q200/2,0))","v":0},{"$f":"IF(R$6,Sorcadins!R$1157,IF(R$5,Sorcadins!R$282+R200/2,0))","v":0},{"$f":"IF(S$6,Sorcadins!S$1157,IF(S$5,Sorcadins!S$282+S200/2,0))","v":0},{"$f":"IF(T$6,Sorcadins!T$1157,IF(T$5,Sorcadins!T$282+T200/2,0))","v":0},{"$f":"IF(U$6,Sorcadins!U$1157,IF(U$5,Sorcadins!U$282+U200/2,0))","v":0},{"$f":"IF(V$6,Sorcadins!V$1157,IF(V$5,Sorcadins!V$282+V200/2,0))","v":0},{"$f":"IF(W$6,Sorcadins!W$1157,IF(W$5,Sorcadins!W$282+W200/2,0))","v":0},{"$f":"IF(X$6,Sorcadins!X$1157,IF(X$5,Sorcadins!X$282+X200/2,0))","v":0}]
[{"$nulls":3},"avg crits per day for smite purposes (based on Damage Scenario)",{"$f":"'Base Numbers'!$C$5*'Base Numbers'!$C$6*Sorcadins!E$1318","v":1},{"$f":"'Base Numbers'!$C$5*'Base Numbers'!$C$6*Sorcadins!F$1318","v":1},{"$f":"'Base Numbers'!$C$5*'Base Numbers'!$C$6*Sorcadins!G$1318","v":1},{"$f":"'Base Numbers'!$C$5*'Base Numbers'!$C$6*Sorcadins!H$1318","v":1},{"$f":"'Base Numbers'!$C$5*'Base Numbers'!$C$6*Sorcadins!I$1318","v":1},{"$f":"'Base Numbers'!$C$5*'Base Numbers'!$C$6*Sorcadins!J$1318","v":1},{"$f":"'Base Numbers'!$C$5*'Base Numbers'!$C$6*Sorcadins!K$1318","v":1},{"$f":"'Base Numbers'!$C$5*'Base Numbers'!$C$6*Sorcadins!L$1318","v":1},{"$f":"'Base Numbers'!$C$5*'Base Numbers'!$C$6*Sorcadins!M$1318","v":1},{"$f":"'Base Numbers'!$C$5*'Base Numbers'!$C$6*Sorcadins!N$1318","v":1},{"$f":"'Base Numbers'!$C$5*'Base Numbers'!$C$6*Sorcadins!O$1318","v":1},{"$f":"'Base Numbers'!$C$5*'Base Numbers'!$C$6*Sorcadins!P$1318","v":1},{"$f":"'Base Numbers'!$C$5*'Base Numbers'!$C$6*Sorcadins!Q$1318","v":1},{"$f":"'Base Numbers'!$C$5*'Base Numbers'!$C$6*Sorcadins!R$1318","v":1},{"$f":"'Base Numbers'!$C$5*'Base Numbers'!$C$6*Sorcadins!S$1318","v":1},{"$f":"'Base Numbers'!$C$5*'Base Numbers'!$C$6*Sorcadins!T$1318","v":1},{"$f":"'Base Numbers'!$C$5*'Base Numbers'!$C$6*Sorcadins!U$1318","v":1},{"$f":"'Base Numbers'!$C$5*'Base Numbers'!$C$6*Sorcadins!V$1318","v":1},{"$f":"'Base Numbers'!$C$5*'Base Numbers'!$C$6*Sorcadins!W$1318","v":1},{"$f":"'Base Numbers'!$C$5*'Base Numbers'!$C$6*Sorcadins!X$1318","v":1}]
[{"$nulls":3},"number of smites used on crits",{"$f":"MIN(E204,E205)","v":0},{"$f":"MIN(F204,F205)","v":0},0,0,0,0,0,0,0,0,0,0,0,0,0,0,0,0,0,0]
[{"$nulls":3},"avg smite dice per crit ",{"$f":"IF(E206>0,MIN(E$7,(E203/MIN(E206,E205))),0)","v":0},0,0,0,0,0,0,0,0,0,0,0,0,0,0,0,0,0,0,0]
[{"$nulls":3},"smites left for non-crits",{"$f":"E204-E206","v":0},0,0,0,0,0,0,0,0,0,0,0,0,0,0,0,0,0,0,0]
[{"$nulls":3},"total non-crit smite-qualifying attacks available",{"$f":"Sorcadins!E$1293*('Base Numbers'!$C$5*'Base Numbers'!$C$6)-E205","v":19},{"$f":"Sorcadins!F$1293*('Base Numbers'!$C$5*'Base Numbers'!$C$6)-F205","v":19},{"$f":"Sorcadins!G$1293*('Base Numbers'!$C$5*'Base Numbers'!$C$6)-G205","v":19},{"$f":"Sorcadins!H$1293*('Base Numbers'!$C$5*'Base Numbers'!$C$6)-H205","v":19},{"$f":"Sorcadins!I$1293*('Base Numbers'!$C$5*'Base Numbers'!$C$6)-I205","v":19},{"$f":"Sorcadins!J$1293*('Base Numbers'!$C$5*'Base Numbers'!$C$6)-J205","v":19},{"$f":"Sorcadins!K$1293*('Base Numbers'!$C$5*'Base Numbers'!$C$6)-K205","v":19},{"$f":"Sorcadins!L$1293*('Base Numbers'!$C$5*'Base Numbers'!$C$6)-L205","v":19},{"$f":"Sorcadins!M$1293*('Base Numbers'!$C$5*'Base Numbers'!$C$6)-M205","v":19},{"$f":"Sorcadins!N$1293*('Base Numbers'!$C$5*'Base Numbers'!$C$6)-N205","v":19},{"$f":"Sorcadins!O$1293*('Base Numbers'!$C$5*'Base Numbers'!$C$6)-O205","v":19},{"$f":"Sorcadins!P$1293*('Base Numbers'!$C$5*'Base Numbers'!$C$6)-P205","v":19},{"$f":"Sorcadins!Q$1293*('Base Numbers'!$C$5*'Base Numbers'!$C$6)-Q205","v":19},{"$f":"Sorcadins!R$1293*('Base Numbers'!$C$5*'Base Numbers'!$C$6)-R205","v":19},{"$f":"Sorcadins!S$1293*('Base Numbers'!$C$5*'Base Numbers'!$C$6)-S205","v":19},{"$f":"Sorcadins!T$1293*('Base Numbers'!$C$5*'Base Numbers'!$C$6)-T205","v":19},{"$f":"Sorcadins!U$1293*('Base Numbers'!$C$5*'Base Numbers'!$C$6)-U205","v":19},{"$f":"Sorcadins!V$1293*('Base Numbers'!$C$5*'Base Numbers'!$C$6)-V205","v":19},{"$f":"Sorcadins!W$1293*('Base Numbers'!$C$5*'Base Numbers'!$C$6)-W205","v":19},{"$f":"Sorcadins!X$1293*('Base Numbers'!$C$5*'Base Numbers'!$C$6)-X205","v":19}]
[{"$nulls":3},"smite dice left for non-crits",{"$f":"ROUND(MAX(0,E203-E205*E207),4)","v":0},{"$f":"ROUND(MAX(0,F203-F205*F207),4)","v":0},0,0,0,0,0,0,0,0,0,0,0,0,0,0,0,0,0,0]
[{"$nulls":3},"total smite dice used on crits",{"$f":"E206*E207","v":0},0,0,0,0,0,0,0,0,0,0,0,0,0,0,0,0,0,0,0]
[{"$nulls":3},"total crit smite damage per day",{"$f":"9*E211","v":0},{"$f":"9*F211","v":0},0,0,0,0,0,0,0,0,0,0,0,0,0,0,0,0,0,0]
[{"$nulls":3},"total non-crit smite damage per day",{"$f":"4.5*MIN(MIN(E209,E208)*E$7,E210)","v":0},{"$f":"4.5*MIN(MIN(F209,F208)*F$7,F210)","v":0},0,0,0,0,0,0,0,0,0,0,0,0,0,0,0,0,0,0]
[{"$nulls":3},"leftover sorc points + spell levels",{"$f":"IF(E203>0,IF(Sorcadins!E$273>0,(Sorcadins!E$273*E201+E200-E206*E207-E213/4.5)/Sorcadins!E$273,0),E201+E200)","v":0},{"$f":"IF(F203>0,IF(Sorcadins!F$273>0,(Sorcadins!F$273*F201+F200-F206*F207-F213/4.5)/Sorcadins!F$273,0),F201+F200)","v":0},{"$f":"IF(G203>0,IF(Sorcadins!G$273>0,(Sorcadins!G$273*G201+G200-G206*G207-G213/4.5)/Sorcadins!G$273,0),G201+G200)","v":0},{"$f":"IF(H203>0,IF(Sorcadins!H$273>0,(Sorcadins!H$273*H201+H200-H206*H207-H213/4.5)/Sorcadins!H$273,0),H201+H200)","v":0},{"$f":"IF(I203>0,IF(Sorcadins!I$273>0,(Sorcadins!I$273*I201+I200-I206*I207-I213/4.5)/Sorcadins!I$273,0),I201+I200)","v":0},{"$f":"IF(J203>0,IF(Sorcadins!J$273>0,(Sorcadins!J$273*J201+J200-J206*J207-J213/4.5)/Sorcadins!J$273,0),J201+J200)","v":0},{"$f":"IF(K203>0,IF(Sorcadins!K$273>0,(Sorcadins!K$273*K201+K200-K206*K207-K213/4.5)/Sorcadins!K$273,0),K201+K200)","v":0},{"$f":"IF(L203>0,IF(Sorcadins!L$273>0,(Sorcadins!L$273*L201+L200-L206*L207-L213/4.5)/Sorcadins!L$273,0),L201+L200)","v":0},{"$f":"IF(M203>0,IF(Sorcadins!M$273>0,(Sorcadins!M$273*M201+M200-M206*M207-M213/4.5)/Sorcadins!M$273,0),M201+M200)","v":0},{"$f":"IF(N203>0,IF(Sorcadins!N$273>0,(Sorcadins!N$273*N201+N200-N206*N207-N213/4.5)/Sorcadins!N$273,0),N201+N200)","v":0},{"$f":"IF(O203>0,IF(Sorcadins!O$273>0,(Sorcadins!O$273*O201+O200-O206*O207-O213/4.5)/Sorcadins!O$273,0),O201+O200)","v":0},{"$f":"IF(P203>0,IF(Sorcadins!P$273>0,(Sorcadins!P$273*P201+P200-P206*P207-P213/4.5)/Sorcadins!P$273,0),P201+P200)","v":0},{"$f":"IF(Q203>0,IF(Sorcadins!Q$273>0,(Sorcadins!Q$273*Q201+Q200-Q206*Q207-Q213/4.5)/Sorcadins!Q$273,0),Q201+Q200)","v":0},{"$f":"IF(R203>0,IF(Sorcadins!R$273>0,(Sorcadins!R$273*R201+R200-R206*R207-R213/4.5)/Sorcadins!R$273,0),R201+R200)","v":0},{"$f":"IF(S203>0,IF(Sorcadins!S$273>0,(Sorcadins!S$273*S201+S200-S206*S207-S213/4.5)/Sorcadins!S$273,0),S201+S200)","v":0},{"$f":"IF(T203>0,IF(Sorcadins!T$273>0,(Sorcadins!T$273*T201+T200-T206*T207-T213/4.5)/Sorcadins!T$273,0),T201+T200)","v":0},{"$f":"IF(U203>0,IF(Sorcadins!U$273>0,(Sorcadins!U$273*U201+U200-U206*U207-U213/4.5)/Sorcadins!U$273,0),U201+U200)","v":0},{"$f":"IF(V203>0,IF(Sorcadins!V$273>0,(Sorcadins!V$273*V201+V200-V206*V207-V213/4.5)/Sorcadins!V$273,0),V201+V200)","v":0},{"$f":"IF(W203>0,IF(Sorcadins!W$273>0,(Sorcadins!W$273*W201+W200-W206*W207-W213/4.5)/Sorcadins!W$273,0),W201+W200)","v":0},{"$f":"IF(X203>0,IF(Sorcadins!X$273>0,(Sorcadins!X$273*X201+X200-X206*X207-X213/4.5)/Sorcadins!X$273,0),X201+X200)","v":0}]
[{"$nulls":3},"actual smites performed",{"$f":"E206+IF(E$7>0,MIN(E208,E209,E210/E$7),0)","v":0},{"$f":"F206+IF(F$7>0,MIN(F208,F209,F210/F$7),0)","v":0},0,0,0,0,0,0,0,0,0,0,0,0,0,0,0,0,0,0]
[{"$nulls":3},"total daily smite damage: M2, B6, O1/O2",{"$f":"E212+E213","v":0},{"$f":"F212+F213","v":0},0,0,0,0,0,0,0,0,0,0,0,0,0,0,0,0,0,0]
[]
[{"$nulls":3},"SMITES -M2, B6, O3",1,2,3,4,5,6,7,8,9,10,11,12,13,14,15,16,17,18,19,20]
[{"$nulls":3},"remaining sorcery points (based on Damage Scenario)",{"$f":"MAX(0,Sorcadins!E$561-Sorcadins!E$1278)","v":0},{"$f":"MAX(0,Sorcadins!F$561-Sorcadins!F$1278)","v":0},{"$f":"MAX(0,Sorcadins!G$561-Sorcadins!G$1278)","v":0},{"$f":"MAX(0,Sorcadins!H$561-Sorcadins!H$1278)","v":0},{"$f":"MAX(0,Sorcadins!I$561-Sorcadins!I$1278)","v":0},{"$f":"MAX(0,Sorcadins!J$561-Sorcadins!J$1278)","v":0},{"$f":"MAX(0,Sorcadins!K$561-Sorcadins!K$1278)","v":0},{"$f":"MAX(0,Sorcadins!L$561-Sorcadins!L$1278)","v":0},{"$f":"MAX(0,Sorcadins!M$561-Sorcadins!M$1278)","v":0},{"$f":"MAX(0,Sorcadins!N$561-Sorcadins!N$1278)","v":0},{"$f":"MAX(0,Sorcadins!O$561-Sorcadins!O$1278)","v":0},{"$f":"MAX(0,Sorcadins!P$561-Sorcadins!P$1278)","v":0},{"$f":"MAX(0,Sorcadins!Q$561-Sorcadins!Q$1278)","v":0},{"$f":"MAX(0,Sorcadins!R$561-Sorcadins!R$1278)","v":0},{"$f":"MAX(0,Sorcadins!S$561-Sorcadins!S$1278)","v":0},{"$f":"MAX(0,Sorcadins!T$561-Sorcadins!T$1278)","v":0},{"$f":"MAX(0,Sorcadins!U$561-Sorcadins!U$1278)","v":0},{"$f":"MAX(0,Sorcadins!V$561-Sorcadins!V$1278)","v":0},{"$f":"MAX(0,Sorcadins!W$561-Sorcadins!W$1278)","v":0},{"$f":"MAX(0,Sorcadins!X$561-Sorcadins!X$1278)","v":0},null,"*Sorc points directly convertible to Smite Dice"]
[{"$nulls":3},"remaining spell slot levels (based on Damage Scenario)",{"$f":"MAX(0,Sorcadins!E$281-MAX(0,Sorcadins!E$1278-Sorcadins!E$561))","v":0},{"$f":"MAX(0,Sorcadins!F$281-MAX(0,Sorcadins!F$1278-Sorcadins!F$561))","v":0},{"$f":"MAX(0,Sorcadins!G$281-MAX(0,Sorcadins!G$1278-Sorcadins!G$561))","v":0},{"$f":"MAX(0,Sorcadins!H$281-MAX(0,Sorcadins!H$1278-Sorcadins!H$561))","v":0},{"$f":"MAX(0,Sorcadins!I$281-MAX(0,Sorcadins!I$1278-Sorcadins!I$561))","v":0},{"$f":"MAX(0,Sorcadins!J$281-MAX(0,Sorcadins!J$1278-Sorcadins!J$561))","v":0},{"$f":"MAX(0,Sorcadins!K$281-MAX(0,Sorcadins!K$1278-Sorcadins!K$561))","v":0},{"$f":"MAX(0,Sorcadins!L$281-MAX(0,Sorcadins!L$1278-Sorcadins!L$561))","v":0},{"$f":"MAX(0,Sorcadins!M$281-MAX(0,Sorcadins!M$1278-Sorcadins!M$561))","v":0},{"$f":"MAX(0,Sorcadins!N$281-MAX(0,Sorcadins!N$1278-Sorcadins!N$561))","v":0},{"$f":"MAX(0,Sorcadins!O$281-MAX(0,Sorcadins!O$1278-Sorcadins!O$561))","v":0},{"$f":"MAX(0,Sorcadins!P$281-MAX(0,Sorcadins!P$1278-Sorcadins!P$561))","v":0},{"$f":"MAX(0,Sorcadins!Q$281-MAX(0,Sorcadins!Q$1278-Sorcadins!Q$561))","v":0},{"$f":"MAX(0,Sorcadins!R$281-MAX(0,Sorcadins!R$1278-Sorcadins!R$561))","v":0},{"$f":"MAX(0,Sorcadins!S$281-MAX(0,Sorcadins!S$1278-Sorcadins!S$561))","v":0},{"$f":"MAX(0,Sorcadins!T$281-MAX(0,Sorcadins!T$1278-Sorcadins!T$561))","v":0},{"$f":"MAX(0,Sorcadins!U$281-MAX(0,Sorcadins!U$1278-Sorcadins!U$561))","v":0},{"$f":"MAX(0,Sorcadins!V$281-MAX(0,Sorcadins!V$1278-Sorcadins!V$561))","v":0},{"$f":"MAX(0,Sorcadins!W$281-MAX(0,Sorcadins!W$1278-Sorcadins!W$561))","v":0},{"$f":"MAX(0,Sorcadins!X$281-MAX(0,Sorcadins!X$1278-Sorcadins!X$561))","v":0}]
[{"$nulls":3},"total warlock smite levels remaining",{"$f":"MIN(Sorcadins!E$273*E220,Sorcadins!E$264)","v":0},{"$f":"MIN(Sorcadins!F$273*F220,Sorcadins!F$264)","v":0},{"$f":"MIN(Sorcadins!G$273*G220,Sorcadins!G$264)","v":0},{"$f":"MIN(Sorcadins!H$273*H220,Sorcadins!H$264)","v":0},{"$f":"MIN(Sorcadins!I$273*I220,Sorcadins!I$264)","v":0},{"$f":"MIN(Sorcadins!J$273*J220,Sorcadins!J$264)","v":0},{"$f":"MIN(Sorcadins!K$273*K220,Sorcadins!K$264)","v":0},{"$f":"MIN(Sorcadins!L$273*L220,Sorcadins!L$264)","v":0},{"$f":"MIN(Sorcadins!M$273*M220,Sorcadins!M$264)","v":0},{"$f":"MIN(Sorcadins!N$273*N220,Sorcadins!N$264)","v":0},{"$f":"MIN(Sorcadins!O$273*O220,Sorcadins!O$264)","v":0},{"$f":"MIN(Sorcadins!P$273*P220,Sorcadins!P$264)","v":0},{"$f":"MIN(Sorcadins!Q$273*Q220,Sorcadins!Q$264)","v":0},{"$f":"MIN(Sorcadins!R$273*R220,Sorcadins!R$264)","v":0},{"$f":"MIN(Sorcadins!S$273*S220,Sorcadins!S$264)","v":0},{"$f":"MIN(Sorcadins!T$273*T220,Sorcadins!T$264)","v":0},{"$f":"MIN(Sorcadins!U$273*U220,Sorcadins!U$264)","v":0},{"$f":"MIN(Sorcadins!V$273*V220,Sorcadins!V$264)","v":0},{"$f":"MIN(Sorcadins!W$273*W220,Sorcadins!W$264)","v":0},{"$f":"MIN(Sorcadins!X$273*X220,Sorcadins!X$264)","v":0}]
[{"$nulls":3},"total smite levels remaining",{"$f":"IF(E$5>=1,Sorcadins!E$273*E220+E219,IF(E$6,E221,0))","v":0},{"$f":"IF(F$5>=1,Sorcadins!F$273*F220+F219,IF(F$6,F221,0))","v":0},{"$f":"IF(G$5>=1,Sorcadins!G$273*G220+G219,IF(G$6,G221,0))","v":0},{"$f":"IF(H$5>=1,Sorcadins!H$273*H220+H219,IF(H$6,H221,0))","v":0},{"$f":"IF(I$5>=1,Sorcadins!I$273*I220+I219,IF(I$6,I221,0))","v":0},{"$f":"IF(J$5>=1,Sorcadins!J$273*J220+J219,IF(J$6,J221,0))","v":0},{"$f":"IF(K$5>=1,Sorcadins!K$273*K220+K219,IF(K$6,K221,0))","v":0},{"$f":"IF(L$5>=1,Sorcadins!L$273*L220+L219,IF(L$6,L221,0))","v":0},{"$f":"IF(M$5>=1,Sorcadins!M$273*M220+M219,IF(M$6,M221,0))","v":0},{"$f":"IF(N$5>=1,Sorcadins!N$273*N220+N219,IF(N$6,N221,0))","v":0},{"$f":"IF(O$5>=1,Sorcadins!O$273*O220+O219,IF(O$6,O221,0))","v":0},{"$f":"IF(P$5>=1,Sorcadins!P$273*P220+P219,IF(P$6,P221,0))","v":0},{"$f":"IF(Q$5>=1,Sorcadins!Q$273*Q220+Q219,IF(Q$6,Q221,0))","v":0},{"$f":"IF(R$5>=1,Sorcadins!R$273*R220+R219,IF(R$6,R221,0))","v":0},{"$f":"IF(S$5>=1,Sorcadins!S$273*S220+S219,IF(S$6,S221,0))","v":0},{"$f":"IF(T$5>=1,Sorcadins!T$273*T220+T219,IF(T$6,T221,0))","v":0},{"$f":"IF(U$5>=1,Sorcadins!U$273*U220+U219,IF(U$6,U221,0))","v":0},{"$f":"IF(V$5>=1,Sorcadins!V$273*V220+V219,IF(V$6,V221,0))","v":0},{"$f":"IF(W$5>=1,Sorcadins!W$273*W220+W219,IF(W$6,W221,0))","v":0},{"$f":"IF(X$5>=1,Sorcadins!X$273*X220+X219,IF(X$6,X221,0))","v":0}]
[{"$nulls":3},"max number of daily smites (after spells)",{"$f":"IF(E$6,Sorcadins!E$1157,IF(E$5,Sorcadins!E$282+E219/2,0))","v":0},{"$f":"IF(F$6,Sorcadins!F$1157,IF(F$5,Sorcadins!F$282+F219/2,0))","v":0},{"$f":"IF(G$6,Sorcadins!G$1157,IF(G$5,Sorcadins!G$282+G219/2,0))","v":0},{"$f":"IF(H$6,Sorcadins!H$1157,IF(H$5,Sorcadins!H$282+H219/2,0))","v":0},{"$f":"IF(I$6,Sorcadins!I$1157,IF(I$5,Sorcadins!I$282+I219/2,0))","v":0},{"$f":"IF(J$6,Sorcadins!J$1157,IF(J$5,Sorcadins!J$282+J219/2,0))","v":0},{"$f":"IF(K$6,Sorcadins!K$1157,IF(K$5,Sorcadins!K$282+K219/2,0))","v":0},{"$f":"IF(L$6,Sorcadins!L$1157,IF(L$5,Sorcadins!L$282+L219/2,0))","v":0},{"$f":"IF(M$6,Sorcadins!M$1157,IF(M$5,Sorcadins!M$282+M219/2,0))","v":0},{"$f":"IF(N$6,Sorcadins!N$1157,IF(N$5,Sorcadins!N$282+N219/2,0))","v":0},{"$f":"IF(O$6,Sorcadins!O$1157,IF(O$5,Sorcadins!O$282+O219/2,0))","v":0},{"$f":"IF(P$6,Sorcadins!P$1157,IF(P$5,Sorcadins!P$282+P219/2,0))","v":0},{"$f":"IF(Q$6,Sorcadins!Q$1157,IF(Q$5,Sorcadins!Q$282+Q219/2,0))","v":0},{"$f":"IF(R$6,Sorcadins!R$1157,IF(R$5,Sorcadins!R$282+R219/2,0))","v":0},{"$f":"IF(S$6,Sorcadins!S$1157,IF(S$5,Sorcadins!S$282+S219/2,0))","v":0},{"$f":"IF(T$6,Sorcadins!T$1157,IF(T$5,Sorcadins!T$282+T219/2,0))","v":0},{"$f":"IF(U$6,Sorcadins!U$1157,IF(U$5,Sorcadins!U$282+U219/2,0))","v":0},{"$f":"IF(V$6,Sorcadins!V$1157,IF(V$5,Sorcadins!V$282+V219/2,0))","v":0},{"$f":"IF(W$6,Sorcadins!W$1157,IF(W$5,Sorcadins!W$282+W219/2,0))","v":0},{"$f":"IF(X$6,Sorcadins!X$1157,IF(X$5,Sorcadins!X$282+X219/2,0))","v":0}]
[{"$nulls":3},"avg crits per day for smite purposes (based on Damage Scenario)",{"$f":"'Base Numbers'!$C$5*'Base Numbers'!$C$6*Sorcadins!E$1319","v":0.8},{"$f":"'Base Numbers'!$C$5*'Base Numbers'!$C$6*Sorcadins!F$1319","v":0.8},{"$f":"'Base Numbers'!$C$5*'Base Numbers'!$C$6*Sorcadins!G$1319","v":0.8},{"$f":"'Base Numbers'!$C$5*'Base Numbers'!$C$6*Sorcadins!H$1319","v":0.8},{"$f":"'Base Numbers'!$C$5*'Base Numbers'!$C$6*Sorcadins!I$1319","v":0.8},{"$f":"'Base Numbers'!$C$5*'Base Numbers'!$C$6*Sorcadins!J$1319","v":0.8},{"$f":"'Base Numbers'!$C$5*'Base Numbers'!$C$6*Sorcadins!K$1319","v":0.8},{"$f":"'Base Numbers'!$C$5*'Base Numbers'!$C$6*Sorcadins!L$1319","v":0.8},{"$f":"'Base Numbers'!$C$5*'Base Numbers'!$C$6*Sorcadins!M$1319","v":0.8},{"$f":"'Base Numbers'!$C$5*'Base Numbers'!$C$6*Sorcadins!N$1319","v":0.8},{"$f":"'Base Numbers'!$C$5*'Base Numbers'!$C$6*Sorcadins!O$1319","v":0.8},{"$f":"'Base Numbers'!$C$5*'Base Numbers'!$C$6*Sorcadins!P$1319","v":0.8},{"$f":"'Base Numbers'!$C$5*'Base Numbers'!$C$6*Sorcadins!Q$1319","v":0.8},{"$f":"'Base Numbers'!$C$5*'Base Numbers'!$C$6*Sorcadins!R$1319","v":0.8},{"$f":"'Base Numbers'!$C$5*'Base Numbers'!$C$6*Sorcadins!S$1319","v":0.8},{"$f":"'Base Numbers'!$C$5*'Base Numbers'!$C$6*Sorcadins!T$1319","v":0.8},{"$f":"'Base Numbers'!$C$5*'Base Numbers'!$C$6*Sorcadins!U$1319","v":0.8},{"$f":"'Base Numbers'!$C$5*'Base Numbers'!$C$6*Sorcadins!V$1319","v":0.8},{"$f":"'Base Numbers'!$C$5*'Base Numbers'!$C$6*Sorcadins!W$1319","v":0.8},{"$f":"'Base Numbers'!$C$5*'Base Numbers'!$C$6*Sorcadins!X$1319","v":0.8}]
[{"$nulls":3},"number of smites used on crits",{"$f":"MIN(E223,E224)","v":0},{"$f":"MIN(F223,F224)","v":0},0,0,0,0,0,0,0,0,0,0,0,0,0,0,0,0,0,0]
[{"$nulls":3},"avg smite dice per crit ",{"$f":"IF(E225>0,MIN(E$7,(E222/MIN(E225,E224))),0)","v":0},0,0,0,0,0,0,0,0,0,0,0,0,0,0,0,0,0,0,0]
[{"$nulls":3},"smites left for non-crits",{"$f":"E223-E225","v":0},{"$f":"F223-F225","v":0},0,0,0,0,0,0,0,0,0,0,0,0,0,0,0,0,0,0]
[{"$nulls":3},"total non-crit smite-qualifying attacks available",{"$f":"Sorcadins!E$1294*('Base Numbers'!$C$5*'Base Numbers'!$C$6)-E224","v":15.2},{"$f":"Sorcadins!F$1294*('Base Numbers'!$C$5*'Base Numbers'!$C$6)-F224","v":15.2},{"$f":"Sorcadins!G$1294*('Base Numbers'!$C$5*'Base Numbers'!$C$6)-G224","v":15.2},{"$f":"Sorcadins!H$1294*('Base Numbers'!$C$5*'Base Numbers'!$C$6)-H224","v":15.2},{"$f":"Sorcadins!I$1294*('Base Numbers'!$C$5*'Base Numbers'!$C$6)-I224","v":15.2},{"$f":"Sorcadins!J$1294*('Base Numbers'!$C$5*'Base Numbers'!$C$6)-J224","v":15.2},{"$f":"Sorcadins!K$1294*('Base Numbers'!$C$5*'Base Numbers'!$C$6)-K224","v":15.2},{"$f":"Sorcadins!L$1294*('Base Numbers'!$C$5*'Base Numbers'!$C$6)-L224","v":15.2},{"$f":"Sorcadins!M$1294*('Base Numbers'!$C$5*'Base Numbers'!$C$6)-M224","v":15.2},{"$f":"Sorcadins!N$1294*('Base Numbers'!$C$5*'Base Numbers'!$C$6)-N224","v":15.2},{"$f":"Sorcadins!O$1294*('Base Numbers'!$C$5*'Base Numbers'!$C$6)-O224","v":15.2},{"$f":"Sorcadins!P$1294*('Base Numbers'!$C$5*'Base Numbers'!$C$6)-P224","v":15.2},{"$f":"Sorcadins!Q$1294*('Base Numbers'!$C$5*'Base Numbers'!$C$6)-Q224","v":15.2},{"$f":"Sorcadins!R$1294*('Base Numbers'!$C$5*'Base Numbers'!$C$6)-R224","v":15.2},{"$f":"Sorcadins!S$1294*('Base Numbers'!$C$5*'Base Numbers'!$C$6)-S224","v":15.2},{"$f":"Sorcadins!T$1294*('Base Numbers'!$C$5*'Base Numbers'!$C$6)-T224","v":15.2},{"$f":"Sorcadins!U$1294*('Base Numbers'!$C$5*'Base Numbers'!$C$6)-U224","v":15.2},{"$f":"Sorcadins!V$1294*('Base Numbers'!$C$5*'Base Numbers'!$C$6)-V224","v":15.2},{"$f":"Sorcadins!W$1294*('Base Numbers'!$C$5*'Base Numbers'!$C$6)-W224","v":15.2},{"$f":"Sorcadins!X$1294*('Base Numbers'!$C$5*'Base Numbers'!$C$6)-X224","v":15.2}]
[{"$nulls":3},"smite dice left for non-crits",{"$f":"ROUND(MAX(0,E222-E224*E226),4)","v":0},{"$f":"ROUND(MAX(0,F222-F224*F226),4)","v":0},0,0,0,0,0,0,0,0,0,0,0,0,0,0,0,0,0,0]
[{"$nulls":3},"total smite dice used on crits",{"$f":"E225*E226","v":0},{"$f":"F225*F226","v":0},0,0,0,0,0,0,0,0,0,0,0,0,0,0,0,0,0,0]
[{"$nulls":3},"total crit smite damage per day",{"$f":"9*E230","v":0},{"$f":"9*F230","v":0},0,0,0,0,0,0,0,0,0,0,0,0,0,0,0,0,0,0]
[{"$nulls":3},"total non-crit smite damage per day",{"$f":"4.5*MIN(MIN(E228,E227)*E$7,E229)","v":0},{"$f":"4.5*MIN(MIN(F228,F227)*F$7,F229)","v":0},0,0,0,0,0,0,0,0,0,0,0,0,0,0,0,0,0,0]
[{"$nulls":3},"leftover sorc points + spell levels",{"$f":"IF(E222>0,IF(Sorcadins!E$273>0,(Sorcadins!E$273*E220+E219-E225*E226-E232/4.5)/Sorcadins!E$273,0),E220+E219)","v":0},{"$f":"IF(F222>0,IF(Sorcadins!F$273>0,(Sorcadins!F$273*F220+F219-F225*F226-F232/4.5)/Sorcadins!F$273,0),F220+F219)","v":0},{"$f":"IF(G222>0,IF(Sorcadins!G$273>0,(Sorcadins!G$273*G220+G219-G225*G226-G232/4.5)/Sorcadins!G$273,0),G220+G219)","v":0},{"$f":"IF(H222>0,IF(Sorcadins!H$273>0,(Sorcadins!H$273*H220+H219-H225*H226-H232/4.5)/Sorcadins!H$273,0),H220+H219)","v":0},{"$f":"IF(I222>0,IF(Sorcadins!I$273>0,(Sorcadins!I$273*I220+I219-I225*I226-I232/4.5)/Sorcadins!I$273,0),I220+I219)","v":0},{"$f":"IF(J222>0,IF(Sorcadins!J$273>0,(Sorcadins!J$273*J220+J219-J225*J226-J232/4.5)/Sorcadins!J$273,0),J220+J219)","v":0},{"$f":"IF(K222>0,IF(Sorcadins!K$273>0,(Sorcadins!K$273*K220+K219-K225*K226-K232/4.5)/Sorcadins!K$273,0),K220+K219)","v":0},{"$f":"IF(L222>0,IF(Sorcadins!L$273>0,(Sorcadins!L$273*L220+L219-L225*L226-L232/4.5)/Sorcadins!L$273,0),L220+L219)","v":0},{"$f":"IF(M222>0,IF(Sorcadins!M$273>0,(Sorcadins!M$273*M220+M219-M225*M226-M232/4.5)/Sorcadins!M$273,0),M220+M219)","v":0},{"$f":"IF(N222>0,IF(Sorcadins!N$273>0,(Sorcadins!N$273*N220+N219-N225*N226-N232/4.5)/Sorcadins!N$273,0),N220+N219)","v":0},{"$f":"IF(O222>0,IF(Sorcadins!O$273>0,(Sorcadins!O$273*O220+O219-O225*O226-O232/4.5)/Sorcadins!O$273,0),O220+O219)","v":0},{"$f":"IF(P222>0,IF(Sorcadins!P$273>0,(Sorcadins!P$273*P220+P219-P225*P226-P232/4.5)/Sorcadins!P$273,0),P220+P219)","v":0},{"$f":"IF(Q222>0,IF(Sorcadins!Q$273>0,(Sorcadins!Q$273*Q220+Q219-Q225*Q226-Q232/4.5)/Sorcadins!Q$273,0),Q220+Q219)","v":0},{"$f":"IF(R222>0,IF(Sorcadins!R$273>0,(Sorcadins!R$273*R220+R219-R225*R226-R232/4.5)/Sorcadins!R$273,0),R220+R219)","v":0},{"$f":"IF(S222>0,IF(Sorcadins!S$273>0,(Sorcadins!S$273*S220+S219-S225*S226-S232/4.5)/Sorcadins!S$273,0),S220+S219)","v":0},{"$f":"IF(T222>0,IF(Sorcadins!T$273>0,(Sorcadins!T$273*T220+T219-T225*T226-T232/4.5)/Sorcadins!T$273,0),T220+T219)","v":0},{"$f":"IF(U222>0,IF(Sorcadins!U$273>0,(Sorcadins!U$273*U220+U219-U225*U226-U232/4.5)/Sorcadins!U$273,0),U220+U219)","v":0},{"$f":"IF(V222>0,IF(Sorcadins!V$273>0,(Sorcadins!V$273*V220+V219-V225*V226-V232/4.5)/Sorcadins!V$273,0),V220+V219)","v":0},{"$f":"IF(W222>0,IF(Sorcadins!W$273>0,(Sorcadins!W$273*W220+W219-W225*W226-W232/4.5)/Sorcadins!W$273,0),W220+W219)","v":0},{"$f":"IF(X222>0,IF(Sorcadins!X$273>0,(Sorcadins!X$273*X220+X219-X225*X226-X232/4.5)/Sorcadins!X$273,0),X220+X219)","v":0}]
[{"$nulls":3},"actual smites performed",{"$f":"E225+IF(E$7>0,MIN(E227,E228,E229/E$7),0)","v":0},{"$f":"F225+IF(F$7>0,MIN(F227,F228,F229/F$7),0)","v":0},0,0,0,0,0,0,0,0,0,0,0,0,0,0,0,0,0,0]
[{"$nulls":3},"total daily smite damage:M2, B6, O3",{"$f":"E231+E232","v":0},{"$f":"F231+F232","v":0},0,0,0,0,0,0,0,0,0,0,0,0,0,0,0,0,0,0]
[]
[{"$nulls":3},"SMITES - M2, B7, O1/O2",1,2,3,4,5,6,7,8,9,10,11,12,13,14,15,16,17,18,19,20]
[{"$nulls":3},"remaining sorcery points (based on Damage Scenario)",{"$f":"MAX(0,Sorcadins!E$561-Sorcadins!E$1278)","v":0},{"$f":"MAX(0,Sorcadins!F$561-Sorcadins!F$1278)","v":0},{"$f":"MAX(0,Sorcadins!G$561-Sorcadins!G$1278)","v":0},{"$f":"MAX(0,Sorcadins!H$561-Sorcadins!H$1278)","v":0},{"$f":"MAX(0,Sorcadins!I$561-Sorcadins!I$1278)","v":0},{"$f":"MAX(0,Sorcadins!J$561-Sorcadins!J$1278)","v":0},{"$f":"MAX(0,Sorcadins!K$561-Sorcadins!K$1278)","v":0},{"$f":"MAX(0,Sorcadins!L$561-Sorcadins!L$1278)","v":0},{"$f":"MAX(0,Sorcadins!M$561-Sorcadins!M$1278)","v":0},{"$f":"MAX(0,Sorcadins!N$561-Sorcadins!N$1278)","v":0},{"$f":"MAX(0,Sorcadins!O$561-Sorcadins!O$1278)","v":0},{"$f":"MAX(0,Sorcadins!P$561-Sorcadins!P$1278)","v":0},{"$f":"MAX(0,Sorcadins!Q$561-Sorcadins!Q$1278)","v":0},{"$f":"MAX(0,Sorcadins!R$561-Sorcadins!R$1278)","v":0},{"$f":"MAX(0,Sorcadins!S$561-Sorcadins!S$1278)","v":0},{"$f":"MAX(0,Sorcadins!T$561-Sorcadins!T$1278)","v":0},{"$f":"MAX(0,Sorcadins!U$561-Sorcadins!U$1278)","v":0},{"$f":"MAX(0,Sorcadins!V$561-Sorcadins!V$1278)","v":0},{"$f":"MAX(0,Sorcadins!W$561-Sorcadins!W$1278)","v":0},{"$f":"MAX(0,Sorcadins!X$561-Sorcadins!X$1278)","v":0},null,"*Sorc points directly convertible to Smite Dice"]
[{"$nulls":3},"remaining spell slot levels (based on Damage Scenario)",{"$f":"MAX(0,Sorcadins!E$281-MAX(0,Sorcadins!E$1278-Sorcadins!E$561))","v":0},{"$f":"MAX(0,Sorcadins!F$281-MAX(0,Sorcadins!F$1278-Sorcadins!F$561))","v":0},{"$f":"MAX(0,Sorcadins!G$281-MAX(0,Sorcadins!G$1278-Sorcadins!G$561))","v":0},{"$f":"MAX(0,Sorcadins!H$281-MAX(0,Sorcadins!H$1278-Sorcadins!H$561))","v":0},{"$f":"MAX(0,Sorcadins!I$281-MAX(0,Sorcadins!I$1278-Sorcadins!I$561))","v":0},{"$f":"MAX(0,Sorcadins!J$281-MAX(0,Sorcadins!J$1278-Sorcadins!J$561))","v":0},{"$f":"MAX(0,Sorcadins!K$281-MAX(0,Sorcadins!K$1278-Sorcadins!K$561))","v":0},{"$f":"MAX(0,Sorcadins!L$281-MAX(0,Sorcadins!L$1278-Sorcadins!L$561))","v":0},{"$f":"MAX(0,Sorcadins!M$281-MAX(0,Sorcadins!M$1278-Sorcadins!M$561))","v":0},{"$f":"MAX(0,Sorcadins!N$281-MAX(0,Sorcadins!N$1278-Sorcadins!N$561))","v":0},{"$f":"MAX(0,Sorcadins!O$281-MAX(0,Sorcadins!O$1278-Sorcadins!O$561))","v":0},{"$f":"MAX(0,Sorcadins!P$281-MAX(0,Sorcadins!P$1278-Sorcadins!P$561))","v":0},{"$f":"MAX(0,Sorcadins!Q$281-MAX(0,Sorcadins!Q$1278-Sorcadins!Q$561))","v":0},{"$f":"MAX(0,Sorcadins!R$281-MAX(0,Sorcadins!R$1278-Sorcadins!R$561))","v":0},{"$f":"MAX(0,Sorcadins!S$281-MAX(0,Sorcadins!S$1278-Sorcadins!S$561))","v":0},{"$f":"MAX(0,Sorcadins!T$281-MAX(0,Sorcadins!T$1278-Sorcadins!T$561))","v":0},{"$f":"MAX(0,Sorcadins!U$281-MAX(0,Sorcadins!U$1278-Sorcadins!U$561))","v":0},{"$f":"MAX(0,Sorcadins!V$281-MAX(0,Sorcadins!V$1278-Sorcadins!V$561))","v":0},{"$f":"MAX(0,Sorcadins!W$281-MAX(0,Sorcadins!W$1278-Sorcadins!W$561))","v":0},{"$f":"MAX(0,Sorcadins!X$281-MAX(0,Sorcadins!X$1278-Sorcadins!X$561))","v":0}]
[{"$nulls":3},"total warlock smite levels remaining",{"$f":"MIN(Sorcadins!E$273*E239,Sorcadins!E$264)","v":0},{"$f":"MIN(Sorcadins!F$273*F239,Sorcadins!F$264)","v":0},{"$f":"MIN(Sorcadins!G$273*G239,Sorcadins!G$264)","v":0},{"$f":"MIN(Sorcadins!H$273*H239,Sorcadins!H$264)","v":0},{"$f":"MIN(Sorcadins!I$273*I239,Sorcadins!I$264)","v":0},{"$f":"MIN(Sorcadins!J$273*J239,Sorcadins!J$264)","v":0},{"$f":"MIN(Sorcadins!K$273*K239,Sorcadins!K$264)","v":0},{"$f":"MIN(Sorcadins!L$273*L239,Sorcadins!L$264)","v":0},{"$f":"MIN(Sorcadins!M$273*M239,Sorcadins!M$264)","v":0},{"$f":"MIN(Sorcadins!N$273*N239,Sorcadins!N$264)","v":0},{"$f":"MIN(Sorcadins!O$273*O239,Sorcadins!O$264)","v":0},{"$f":"MIN(Sorcadins!P$273*P239,Sorcadins!P$264)","v":0},{"$f":"MIN(Sorcadins!Q$273*Q239,Sorcadins!Q$264)","v":0},{"$f":"MIN(Sorcadins!R$273*R239,Sorcadins!R$264)","v":0},{"$f":"MIN(Sorcadins!S$273*S239,Sorcadins!S$264)","v":0},{"$f":"MIN(Sorcadins!T$273*T239,Sorcadins!T$264)","v":0},{"$f":"MIN(Sorcadins!U$273*U239,Sorcadins!U$264)","v":0},{"$f":"MIN(Sorcadins!V$273*V239,Sorcadins!V$264)","v":0},{"$f":"MIN(Sorcadins!W$273*W239,Sorcadins!W$264)","v":0},{"$f":"MIN(Sorcadins!X$273*X239,Sorcadins!X$264)","v":0}]
[{"$nulls":3},"total smite levels remaining",{"$f":"IF(E$5>=1,Sorcadins!E$273*E239+E238,IF(E$6,E240,0))","v":0},{"$f":"IF(F$5>=1,Sorcadins!F$273*F239+F238,IF(F$6,F240,0))","v":0},{"$f":"IF(G$5>=1,Sorcadins!G$273*G239+G238,IF(G$6,G240,0))","v":0},{"$f":"IF(H$5>=1,Sorcadins!H$273*H239+H238,IF(H$6,H240,0))","v":0},{"$f":"IF(I$5>=1,Sorcadins!I$273*I239+I238,IF(I$6,I240,0))","v":0},{"$f":"IF(J$5>=1,Sorcadins!J$273*J239+J238,IF(J$6,J240,0))","v":0},{"$f":"IF(K$5>=1,Sorcadins!K$273*K239+K238,IF(K$6,K240,0))","v":0},{"$f":"IF(L$5>=1,Sorcadins!L$273*L239+L238,IF(L$6,L240,0))","v":0},{"$f":"IF(M$5>=1,Sorcadins!M$273*M239+M238,IF(M$6,M240,0))","v":0},{"$f":"IF(N$5>=1,Sorcadins!N$273*N239+N238,IF(N$6,N240,0))","v":0},{"$f":"IF(O$5>=1,Sorcadins!O$273*O239+O238,IF(O$6,O240,0))","v":0},{"$f":"IF(P$5>=1,Sorcadins!P$273*P239+P238,IF(P$6,P240,0))","v":0},{"$f":"IF(Q$5>=1,Sorcadins!Q$273*Q239+Q238,IF(Q$6,Q240,0))","v":0},{"$f":"IF(R$5>=1,Sorcadins!R$273*R239+R238,IF(R$6,R240,0))","v":0},{"$f":"IF(S$5>=1,Sorcadins!S$273*S239+S238,IF(S$6,S240,0))","v":0},{"$f":"IF(T$5>=1,Sorcadins!T$273*T239+T238,IF(T$6,T240,0))","v":0},{"$f":"IF(U$5>=1,Sorcadins!U$273*U239+U238,IF(U$6,U240,0))","v":0},{"$f":"IF(V$5>=1,Sorcadins!V$273*V239+V238,IF(V$6,V240,0))","v":0},{"$f":"IF(W$5>=1,Sorcadins!W$273*W239+W238,IF(W$6,W240,0))","v":0},{"$f":"IF(X$5>=1,Sorcadins!X$273*X239+X238,IF(X$6,X240,0))","v":0}]
[{"$nulls":3},"max number of daily smites (after spells)",{"$f":"IF(E$6,Sorcadins!E$1157,IF(E$5,Sorcadins!E$282+E238/2,0))","v":0},{"$f":"IF(F$6,Sorcadins!F$1157,IF(F$5,Sorcadins!F$282+F238/2,0))","v":0},{"$f":"IF(G$6,Sorcadins!G$1157,IF(G$5,Sorcadins!G$282+G238/2,0))","v":0},{"$f":"IF(H$6,Sorcadins!H$1157,IF(H$5,Sorcadins!H$282+H238/2,0))","v":0},{"$f":"IF(I$6,Sorcadins!I$1157,IF(I$5,Sorcadins!I$282+I238/2,0))","v":0},{"$f":"IF(J$6,Sorcadins!J$1157,IF(J$5,Sorcadins!J$282+J238/2,0))","v":0},{"$f":"IF(K$6,Sorcadins!K$1157,IF(K$5,Sorcadins!K$282+K238/2,0))","v":0},{"$f":"IF(L$6,Sorcadins!L$1157,IF(L$5,Sorcadins!L$282+L238/2,0))","v":0},{"$f":"IF(M$6,Sorcadins!M$1157,IF(M$5,Sorcadins!M$282+M238/2,0))","v":0},{"$f":"IF(N$6,Sorcadins!N$1157,IF(N$5,Sorcadins!N$282+N238/2,0))","v":0},{"$f":"IF(O$6,Sorcadins!O$1157,IF(O$5,Sorcadins!O$282+O238/2,0))","v":0},{"$f":"IF(P$6,Sorcadins!P$1157,IF(P$5,Sorcadins!P$282+P238/2,0))","v":0},{"$f":"IF(Q$6,Sorcadins!Q$1157,IF(Q$5,Sorcadins!Q$282+Q238/2,0))","v":0},{"$f":"IF(R$6,Sorcadins!R$1157,IF(R$5,Sorcadins!R$282+R238/2,0))","v":0},{"$f":"IF(S$6,Sorcadins!S$1157,IF(S$5,Sorcadins!S$282+S238/2,0))","v":0},{"$f":"IF(T$6,Sorcadins!T$1157,IF(T$5,Sorcadins!T$282+T238/2,0))","v":0},{"$f":"IF(U$6,Sorcadins!U$1157,IF(U$5,Sorcadins!U$282+U238/2,0))","v":0},{"$f":"IF(V$6,Sorcadins!V$1157,IF(V$5,Sorcadins!V$282+V238/2,0))","v":0},{"$f":"IF(W$6,Sorcadins!W$1157,IF(W$5,Sorcadins!W$282+W238/2,0))","v":0},{"$f":"IF(X$6,Sorcadins!X$1157,IF(X$5,Sorcadins!X$282+X238/2,0))","v":0}]
[{"$nulls":3},"avg crits per day for smite purposes (based on Damage Scenario)",{"$f":"'Base Numbers'!$C$5*'Base Numbers'!$C$6*Sorcadins!E$1320","v":1},{"$f":"'Base Numbers'!$C$5*'Base Numbers'!$C$6*Sorcadins!F$1320","v":1},{"$f":"'Base Numbers'!$C$5*'Base Numbers'!$C$6*Sorcadins!G$1320","v":1},{"$f":"'Base Numbers'!$C$5*'Base Numbers'!$C$6*Sorcadins!H$1320","v":1},{"$f":"'Base Numbers'!$C$5*'Base Numbers'!$C$6*Sorcadins!I$1320","v":1},{"$f":"'Base Numbers'!$C$5*'Base Numbers'!$C$6*Sorcadins!J$1320","v":1},{"$f":"'Base Numbers'!$C$5*'Base Numbers'!$C$6*Sorcadins!K$1320","v":1},{"$f":"'Base Numbers'!$C$5*'Base Numbers'!$C$6*Sorcadins!L$1320","v":1},{"$f":"'Base Numbers'!$C$5*'Base Numbers'!$C$6*Sorcadins!M$1320","v":1},{"$f":"'Base Numbers'!$C$5*'Base Numbers'!$C$6*Sorcadins!N$1320","v":1},{"$f":"'Base Numbers'!$C$5*'Base Numbers'!$C$6*Sorcadins!O$1320","v":1},{"$f":"'Base Numbers'!$C$5*'Base Numbers'!$C$6*Sorcadins!P$1320","v":1},{"$f":"'Base Numbers'!$C$5*'Base Numbers'!$C$6*Sorcadins!Q$1320","v":1},{"$f":"'Base Numbers'!$C$5*'Base Numbers'!$C$6*Sorcadins!R$1320","v":1},{"$f":"'Base Numbers'!$C$5*'Base Numbers'!$C$6*Sorcadins!S$1320","v":1},{"$f":"'Base Numbers'!$C$5*'Base Numbers'!$C$6*Sorcadins!T$1320","v":1},{"$f":"'Base Numbers'!$C$5*'Base Numbers'!$C$6*Sorcadins!U$1320","v":1},{"$f":"'Base Numbers'!$C$5*'Base Numbers'!$C$6*Sorcadins!V$1320","v":1},{"$f":"'Base Numbers'!$C$5*'Base Numbers'!$C$6*Sorcadins!W$1320","v":1},{"$f":"'Base Numbers'!$C$5*'Base Numbers'!$C$6*Sorcadins!X$1320","v":1}]
[{"$nulls":3},"number of smites used on crits",{"$f":"MIN(E242,E243)","v":0},{"$f":"MIN(F242,F243)","v":0},0,0,0,0,0,0,0,0,0,0,0,0,0,0,0,0,0,0]
[{"$nulls":3},"avg smite dice per crit ",{"$f":"IF(E244>0,MIN(E$7,(E241/MIN(E244,E243))),0)","v":0},0,0,0,0,0,0,0,0,0,0,0,0,0,0,0,0,0,0,0]
[{"$nulls":3},"smites left for non-crits",{"$f":"E242-E244","v":0},{"$f":"F242-F244","v":0},0,0,0,0,0,0,0,0,0,0,0,0,0,0,0,0,0,0]
[{"$nulls":3},"total non-crit smite-qualifying attacks available",{"$f":"Sorcadins!E$1295*('Base Numbers'!$C$5*'Base Numbers'!$C$6)-E243","v":19},{"$f":"Sorcadins!F$1295*('Base Numbers'!$C$5*'Base Numbers'!$C$6)-F243","v":19},{"$f":"Sorcadins!G$1295*('Base Numbers'!$C$5*'Base Numbers'!$C$6)-G243","v":19},{"$f":"Sorcadins!H$1295*('Base Numbers'!$C$5*'Base Numbers'!$C$6)-H243","v":19},{"$f":"Sorcadins!I$1295*('Base Numbers'!$C$5*'Base Numbers'!$C$6)-I243","v":19},{"$f":"Sorcadins!J$1295*('Base Numbers'!$C$5*'Base Numbers'!$C$6)-J243","v":19},{"$f":"Sorcadins!K$1295*('Base Numbers'!$C$5*'Base Numbers'!$C$6)-K243","v":19},{"$f":"Sorcadins!L$1295*('Base Numbers'!$C$5*'Base Numbers'!$C$6)-L243","v":19},{"$f":"Sorcadins!M$1295*('Base Numbers'!$C$5*'Base Numbers'!$C$6)-M243","v":19},{"$f":"Sorcadins!N$1295*('Base Numbers'!$C$5*'Base Numbers'!$C$6)-N243","v":19},{"$f":"Sorcadins!O$1295*('Base Numbers'!$C$5*'Base Numbers'!$C$6)-O243","v":19},{"$f":"Sorcadins!P$1295*('Base Numbers'!$C$5*'Base Numbers'!$C$6)-P243","v":19},{"$f":"Sorcadins!Q$1295*('Base Numbers'!$C$5*'Base Numbers'!$C$6)-Q243","v":19},{"$f":"Sorcadins!R$1295*('Base Numbers'!$C$5*'Base Numbers'!$C$6)-R243","v":19},{"$f":"Sorcadins!S$1295*('Base Numbers'!$C$5*'Base Numbers'!$C$6)-S243","v":19},{"$f":"Sorcadins!T$1295*('Base Numbers'!$C$5*'Base Numbers'!$C$6)-T243","v":19},{"$f":"Sorcadins!U$1295*('Base Numbers'!$C$5*'Base Numbers'!$C$6)-U243","v":19},{"$f":"Sorcadins!V$1295*('Base Numbers'!$C$5*'Base Numbers'!$C$6)-V243","v":19},{"$f":"Sorcadins!W$1295*('Base Numbers'!$C$5*'Base Numbers'!$C$6)-W243","v":19},{"$f":"Sorcadins!X$1295*('Base Numbers'!$C$5*'Base Numbers'!$C$6)-X243","v":19}]
[{"$nulls":3},"smite dice left for non-crits",{"$f":"ROUND(MAX(0,E241-E243*E245),4)","v":0},{"$f":"ROUND(MAX(0,F241-F243*F245),4)","v":0},0,0,0,0,0,0,0,0,0,0,0,0,0,0,0,0,0,0]
[{"$nulls":3},"total smite dice used on crits",{"$f":"E244*E245","v":0},{"$f":"F244*F245","v":0},0,0,0,0,0,0,0,0,0,0,0,0,0,0,0,0,0,0]
[{"$nulls":3},"total crit smite damage per day",{"$f":"9*E249","v":0},{"$f":"9*F249","v":0},0,0,0,0,0,0,0,0,0,0,0,0,0,0,0,0,0,0]
[{"$nulls":3},"total non-crit smite damage per day",{"$f":"4.5*MIN(MIN(E247,E246)*E$7,E248)","v":0},{"$f":"4.5*MIN(MIN(F247,F246)*F$7,F248)","v":0},0,0,0,0,0,0,0,0,0,0,0,0,0,0,0,0,0,0]
[{"$nulls":3},"leftover sorc points + spell levels",{"$f":"IF(E241>0,IF(Sorcadins!E$273>0,(Sorcadins!E$273*E239+E238-E244*E245-E251/4.5)/Sorcadins!E$273,0),E239+E238)","v":0},{"$f":"IF(F241>0,IF(Sorcadins!F$273>0,(Sorcadins!F$273*F239+F238-F244*F245-F251/4.5)/Sorcadins!F$273,0),F239+F238)","v":0},{"$f":"IF(G241>0,IF(Sorcadins!G$273>0,(Sorcadins!G$273*G239+G238-G244*G245-G251/4.5)/Sorcadins!G$273,0),G239+G238)","v":0},{"$f":"IF(H241>0,IF(Sorcadins!H$273>0,(Sorcadins!H$273*H239+H238-H244*H245-H251/4.5)/Sorcadins!H$273,0),H239+H238)","v":0},{"$f":"IF(I241>0,IF(Sorcadins!I$273>0,(Sorcadins!I$273*I239+I238-I244*I245-I251/4.5)/Sorcadins!I$273,0),I239+I238)","v":0},{"$f":"IF(J241>0,IF(Sorcadins!J$273>0,(Sorcadins!J$273*J239+J238-J244*J245-J251/4.5)/Sorcadins!J$273,0),J239+J238)","v":0},{"$f":"IF(K241>0,IF(Sorcadins!K$273>0,(Sorcadins!K$273*K239+K238-K244*K245-K251/4.5)/Sorcadins!K$273,0),K239+K238)","v":0},{"$f":"IF(L241>0,IF(Sorcadins!L$273>0,(Sorcadins!L$273*L239+L238-L244*L245-L251/4.5)/Sorcadins!L$273,0),L239+L238)","v":0},{"$f":"IF(M241>0,IF(Sorcadins!M$273>0,(Sorcadins!M$273*M239+M238-M244*M245-M251/4.5)/Sorcadins!M$273,0),M239+M238)","v":0},{"$f":"IF(N241>0,IF(Sorcadins!N$273>0,(Sorcadins!N$273*N239+N238-N244*N245-N251/4.5)/Sorcadins!N$273,0),N239+N238)","v":0},{"$f":"IF(O241>0,IF(Sorcadins!O$273>0,(Sorcadins!O$273*O239+O238-O244*O245-O251/4.5)/Sorcadins!O$273,0),O239+O238)","v":0},{"$f":"IF(P241>0,IF(Sorcadins!P$273>0,(Sorcadins!P$273*P239+P238-P244*P245-P251/4.5)/Sorcadins!P$273,0),P239+P238)","v":0},{"$f":"IF(Q241>0,IF(Sorcadins!Q$273>0,(Sorcadins!Q$273*Q239+Q238-Q244*Q245-Q251/4.5)/Sorcadins!Q$273,0),Q239+Q238)","v":0},{"$f":"IF(R241>0,IF(Sorcadins!R$273>0,(Sorcadins!R$273*R239+R238-R244*R245-R251/4.5)/Sorcadins!R$273,0),R239+R238)","v":0},{"$f":"IF(S241>0,IF(Sorcadins!S$273>0,(Sorcadins!S$273*S239+S238-S244*S245-S251/4.5)/Sorcadins!S$273,0),S239+S238)","v":0},{"$f":"IF(T241>0,IF(Sorcadins!T$273>0,(Sorcadins!T$273*T239+T238-T244*T245-T251/4.5)/Sorcadins!T$273,0),T239+T238)","v":0},{"$f":"IF(U241>0,IF(Sorcadins!U$273>0,(Sorcadins!U$273*U239+U238-U244*U245-U251/4.5)/Sorcadins!U$273,0),U239+U238)","v":0},{"$f":"IF(V241>0,IF(Sorcadins!V$273>0,(Sorcadins!V$273*V239+V238-V244*V245-V251/4.5)/Sorcadins!V$273,0),V239+V238)","v":0},{"$f":"IF(W241>0,IF(Sorcadins!W$273>0,(Sorcadins!W$273*W239+W238-W244*W245-W251/4.5)/Sorcadins!W$273,0),W239+W238)","v":0},{"$f":"IF(X241>0,IF(Sorcadins!X$273>0,(Sorcadins!X$273*X239+X238-X244*X245-X251/4.5)/Sorcadins!X$273,0),X239+X238)","v":0}]
[{"$nulls":3},"actual smites performed",{"$f":"E244+IF(E$7>0,MIN(E246,E247,E248/E$7),0)","v":0},{"$f":"F244+IF(F$7>0,MIN(F246,F247,F248/F$7),0)","v":0},0,0,0,0,0,0,0,0,0,0,0,0,0,0,0,0,0,0]
[{"$nulls":3},"total daily smite damage: M2, B7, O1/O2",{"$f":"E250+E251","v":0},{"$f":"F250+F251","v":0},0,0,0,0,0,0,0,0,0,0,0,0,0,0,0,0,0,0]
[]
[{"$nulls":3},"SMITES - M2, B7, O3",1,2,3,4,5,6,7,8,9,10,11,12,13,14,15,16,17,18,19,20]
[{"$nulls":3},"remaining sorcery points (based on Damage Scenario)",{"$f":"MAX(0,Sorcadins!E$561-Sorcadins!E$1278)","v":0},{"$f":"MAX(0,Sorcadins!F$561-Sorcadins!F$1278)","v":0},{"$f":"MAX(0,Sorcadins!G$561-Sorcadins!G$1278)","v":0},{"$f":"MAX(0,Sorcadins!H$561-Sorcadins!H$1278)","v":0},{"$f":"MAX(0,Sorcadins!I$561-Sorcadins!I$1278)","v":0},{"$f":"MAX(0,Sorcadins!J$561-Sorcadins!J$1278)","v":0},{"$f":"MAX(0,Sorcadins!K$561-Sorcadins!K$1278)","v":0},{"$f":"MAX(0,Sorcadins!L$561-Sorcadins!L$1278)","v":0},{"$f":"MAX(0,Sorcadins!M$561-Sorcadins!M$1278)","v":0},{"$f":"MAX(0,Sorcadins!N$561-Sorcadins!N$1278)","v":0},{"$f":"MAX(0,Sorcadins!O$561-Sorcadins!O$1278)","v":0},{"$f":"MAX(0,Sorcadins!P$561-Sorcadins!P$1278)","v":0},{"$f":"MAX(0,Sorcadins!Q$561-Sorcadins!Q$1278)","v":0},{"$f":"MAX(0,Sorcadins!R$561-Sorcadins!R$1278)","v":0},{"$f":"MAX(0,Sorcadins!S$561-Sorcadins!S$1278)","v":0},{"$f":"MAX(0,Sorcadins!T$561-Sorcadins!T$1278)","v":0},{"$f":"MAX(0,Sorcadins!U$561-Sorcadins!U$1278)","v":0},{"$f":"MAX(0,Sorcadins!V$561-Sorcadins!V$1278)","v":0},{"$f":"MAX(0,Sorcadins!W$561-Sorcadins!W$1278)","v":0},{"$f":"MAX(0,Sorcadins!X$561-Sorcadins!X$1278)","v":0},null,"*Sorc points directly convertible to Smite Dice"]
[{"$nulls":3},"remaining spell slot levels (based on Damage Scenario)",{"$f":"MAX(0,Sorcadins!E$281-MAX(0,Sorcadins!E$1278-Sorcadins!E$561))","v":0},{"$f":"MAX(0,Sorcadins!F$281-MAX(0,Sorcadins!F$1278-Sorcadins!F$561))","v":0},{"$f":"MAX(0,Sorcadins!G$281-MAX(0,Sorcadins!G$1278-Sorcadins!G$561))","v":0},{"$f":"MAX(0,Sorcadins!H$281-MAX(0,Sorcadins!H$1278-Sorcadins!H$561))","v":0},{"$f":"MAX(0,Sorcadins!I$281-MAX(0,Sorcadins!I$1278-Sorcadins!I$561))","v":0},{"$f":"MAX(0,Sorcadins!J$281-MAX(0,Sorcadins!J$1278-Sorcadins!J$561))","v":0},{"$f":"MAX(0,Sorcadins!K$281-MAX(0,Sorcadins!K$1278-Sorcadins!K$561))","v":0},{"$f":"MAX(0,Sorcadins!L$281-MAX(0,Sorcadins!L$1278-Sorcadins!L$561))","v":0},{"$f":"MAX(0,Sorcadins!M$281-MAX(0,Sorcadins!M$1278-Sorcadins!M$561))","v":0},{"$f":"MAX(0,Sorcadins!N$281-MAX(0,Sorcadins!N$1278-Sorcadins!N$561))","v":0},{"$f":"MAX(0,Sorcadins!O$281-MAX(0,Sorcadins!O$1278-Sorcadins!O$561))","v":0},{"$f":"MAX(0,Sorcadins!P$281-MAX(0,Sorcadins!P$1278-Sorcadins!P$561))","v":0},{"$f":"MAX(0,Sorcadins!Q$281-MAX(0,Sorcadins!Q$1278-Sorcadins!Q$561))","v":0},{"$f":"MAX(0,Sorcadins!R$281-MAX(0,Sorcadins!R$1278-Sorcadins!R$561))","v":0},{"$f":"MAX(0,Sorcadins!S$281-MAX(0,Sorcadins!S$1278-Sorcadins!S$561))","v":0},{"$f":"MAX(0,Sorcadins!T$281-MAX(0,Sorcadins!T$1278-Sorcadins!T$561))","v":0},{"$f":"MAX(0,Sorcadins!U$281-MAX(0,Sorcadins!U$1278-Sorcadins!U$561))","v":0},{"$f":"MAX(0,Sorcadins!V$281-MAX(0,Sorcadins!V$1278-Sorcadins!V$561))","v":0},{"$f":"MAX(0,Sorcadins!W$281-MAX(0,Sorcadins!W$1278-Sorcadins!W$561))","v":0},{"$f":"MAX(0,Sorcadins!X$281-MAX(0,Sorcadins!X$1278-Sorcadins!X$561))","v":0}]
[{"$nulls":3},"total warlock smite levels remaining",{"$f":"MIN(Sorcadins!E$273*E258,Sorcadins!E$264)","v":0},{"$f":"MIN(Sorcadins!F$273*F258,Sorcadins!F$264)","v":0},{"$f":"MIN(Sorcadins!G$273*G258,Sorcadins!G$264)","v":0},{"$f":"MIN(Sorcadins!H$273*H258,Sorcadins!H$264)","v":0},{"$f":"MIN(Sorcadins!I$273*I258,Sorcadins!I$264)","v":0},{"$f":"MIN(Sorcadins!J$273*J258,Sorcadins!J$264)","v":0},{"$f":"MIN(Sorcadins!K$273*K258,Sorcadins!K$264)","v":0},{"$f":"MIN(Sorcadins!L$273*L258,Sorcadins!L$264)","v":0},{"$f":"MIN(Sorcadins!M$273*M258,Sorcadins!M$264)","v":0},{"$f":"MIN(Sorcadins!N$273*N258,Sorcadins!N$264)","v":0},{"$f":"MIN(Sorcadins!O$273*O258,Sorcadins!O$264)","v":0},{"$f":"MIN(Sorcadins!P$273*P258,Sorcadins!P$264)","v":0},{"$f":"MIN(Sorcadins!Q$273*Q258,Sorcadins!Q$264)","v":0},{"$f":"MIN(Sorcadins!R$273*R258,Sorcadins!R$264)","v":0},{"$f":"MIN(Sorcadins!S$273*S258,Sorcadins!S$264)","v":0},{"$f":"MIN(Sorcadins!T$273*T258,Sorcadins!T$264)","v":0},{"$f":"MIN(Sorcadins!U$273*U258,Sorcadins!U$264)","v":0},{"$f":"MIN(Sorcadins!V$273*V258,Sorcadins!V$264)","v":0},{"$f":"MIN(Sorcadins!W$273*W258,Sorcadins!W$264)","v":0},{"$f":"MIN(Sorcadins!X$273*X258,Sorcadins!X$264)","v":0}]
[{"$nulls":3},"total smite levels remaining",{"$f":"IF(E$5>=1,Sorcadins!E$273*E258+E257,IF(E$6,E259,0))","v":0},{"$f":"IF(F$5>=1,Sorcadins!F$273*F258+F257,IF(F$6,F259,0))","v":0},{"$f":"IF(G$5>=1,Sorcadins!G$273*G258+G257,IF(G$6,G259,0))","v":0},{"$f":"IF(H$5>=1,Sorcadins!H$273*H258+H257,IF(H$6,H259,0))","v":0},{"$f":"IF(I$5>=1,Sorcadins!I$273*I258+I257,IF(I$6,I259,0))","v":0},{"$f":"IF(J$5>=1,Sorcadins!J$273*J258+J257,IF(J$6,J259,0))","v":0},{"$f":"IF(K$5>=1,Sorcadins!K$273*K258+K257,IF(K$6,K259,0))","v":0},{"$f":"IF(L$5>=1,Sorcadins!L$273*L258+L257,IF(L$6,L259,0))","v":0},{"$f":"IF(M$5>=1,Sorcadins!M$273*M258+M257,IF(M$6,M259,0))","v":0},{"$f":"IF(N$5>=1,Sorcadins!N$273*N258+N257,IF(N$6,N259,0))","v":0},{"$f":"IF(O$5>=1,Sorcadins!O$273*O258+O257,IF(O$6,O259,0))","v":0},{"$f":"IF(P$5>=1,Sorcadins!P$273*P258+P257,IF(P$6,P259,0))","v":0},{"$f":"IF(Q$5>=1,Sorcadins!Q$273*Q258+Q257,IF(Q$6,Q259,0))","v":0},{"$f":"IF(R$5>=1,Sorcadins!R$273*R258+R257,IF(R$6,R259,0))","v":0},{"$f":"IF(S$5>=1,Sorcadins!S$273*S258+S257,IF(S$6,S259,0))","v":0},{"$f":"IF(T$5>=1,Sorcadins!T$273*T258+T257,IF(T$6,T259,0))","v":0},{"$f":"IF(U$5>=1,Sorcadins!U$273*U258+U257,IF(U$6,U259,0))","v":0},{"$f":"IF(V$5>=1,Sorcadins!V$273*V258+V257,IF(V$6,V259,0))","v":0},{"$f":"IF(W$5>=1,Sorcadins!W$273*W258+W257,IF(W$6,W259,0))","v":0},{"$f":"IF(X$5>=1,Sorcadins!X$273*X258+X257,IF(X$6,X259,0))","v":0}]
[{"$nulls":3},"max number of daily smites (after spells)",{"$f":"IF(E$6,Sorcadins!E$1157,IF(E$5,Sorcadins!E$282+E257/2,0))","v":0},{"$f":"IF(F$6,Sorcadins!F$1157,IF(F$5,Sorcadins!F$282+F257/2,0))","v":0},{"$f":"IF(G$6,Sorcadins!G$1157,IF(G$5,Sorcadins!G$282+G257/2,0))","v":0},{"$f":"IF(H$6,Sorcadins!H$1157,IF(H$5,Sorcadins!H$282+H257/2,0))","v":0},{"$f":"IF(I$6,Sorcadins!I$1157,IF(I$5,Sorcadins!I$282+I257/2,0))","v":0},{"$f":"IF(J$6,Sorcadins!J$1157,IF(J$5,Sorcadins!J$282+J257/2,0))","v":0},{"$f":"IF(K$6,Sorcadins!K$1157,IF(K$5,Sorcadins!K$282+K257/2,0))","v":0},{"$f":"IF(L$6,Sorcadins!L$1157,IF(L$5,Sorcadins!L$282+L257/2,0))","v":0},{"$f":"IF(M$6,Sorcadins!M$1157,IF(M$5,Sorcadins!M$282+M257/2,0))","v":0},{"$f":"IF(N$6,Sorcadins!N$1157,IF(N$5,Sorcadins!N$282+N257/2,0))","v":0},{"$f":"IF(O$6,Sorcadins!O$1157,IF(O$5,Sorcadins!O$282+O257/2,0))","v":0},{"$f":"IF(P$6,Sorcadins!P$1157,IF(P$5,Sorcadins!P$282+P257/2,0))","v":0},{"$f":"IF(Q$6,Sorcadins!Q$1157,IF(Q$5,Sorcadins!Q$282+Q257/2,0))","v":0},{"$f":"IF(R$6,Sorcadins!R$1157,IF(R$5,Sorcadins!R$282+R257/2,0))","v":0},{"$f":"IF(S$6,Sorcadins!S$1157,IF(S$5,Sorcadins!S$282+S257/2,0))","v":0},{"$f":"IF(T$6,Sorcadins!T$1157,IF(T$5,Sorcadins!T$282+T257/2,0))","v":0},{"$f":"IF(U$6,Sorcadins!U$1157,IF(U$5,Sorcadins!U$282+U257/2,0))","v":0},{"$f":"IF(V$6,Sorcadins!V$1157,IF(V$5,Sorcadins!V$282+V257/2,0))","v":0},{"$f":"IF(W$6,Sorcadins!W$1157,IF(W$5,Sorcadins!W$282+W257/2,0))","v":0},{"$f":"IF(X$6,Sorcadins!X$1157,IF(X$5,Sorcadins!X$282+X257/2,0))","v":0}]
[{"$nulls":3},"avg crits per day for smite purposes (based on Damage Scenario)",{"$f":"'Base Numbers'!$C$5*'Base Numbers'!$C$6*Sorcadins!E$1321","v":0.8},{"$f":"'Base Numbers'!$C$5*'Base Numbers'!$C$6*Sorcadins!F$1321","v":0.8},{"$f":"'Base Numbers'!$C$5*'Base Numbers'!$C$6*Sorcadins!G$1321","v":0.8},{"$f":"'Base Numbers'!$C$5*'Base Numbers'!$C$6*Sorcadins!H$1321","v":0.8},{"$f":"'Base Numbers'!$C$5*'Base Numbers'!$C$6*Sorcadins!I$1321","v":0.8},{"$f":"'Base Numbers'!$C$5*'Base Numbers'!$C$6*Sorcadins!J$1321","v":0.8},{"$f":"'Base Numbers'!$C$5*'Base Numbers'!$C$6*Sorcadins!K$1321","v":0.8},{"$f":"'Base Numbers'!$C$5*'Base Numbers'!$C$6*Sorcadins!L$1321","v":0.8},{"$f":"'Base Numbers'!$C$5*'Base Numbers'!$C$6*Sorcadins!M$1321","v":0.8},{"$f":"'Base Numbers'!$C$5*'Base Numbers'!$C$6*Sorcadins!N$1321","v":0.8},{"$f":"'Base Numbers'!$C$5*'Base Numbers'!$C$6*Sorcadins!O$1321","v":0.8},{"$f":"'Base Numbers'!$C$5*'Base Numbers'!$C$6*Sorcadins!P$1321","v":0.8},{"$f":"'Base Numbers'!$C$5*'Base Numbers'!$C$6*Sorcadins!Q$1321","v":0.8},{"$f":"'Base Numbers'!$C$5*'Base Numbers'!$C$6*Sorcadins!R$1321","v":0.8},{"$f":"'Base Numbers'!$C$5*'Base Numbers'!$C$6*Sorcadins!S$1321","v":0.8},{"$f":"'Base Numbers'!$C$5*'Base Numbers'!$C$6*Sorcadins!T$1321","v":0.8},{"$f":"'Base Numbers'!$C$5*'Base Numbers'!$C$6*Sorcadins!U$1321","v":0.8},{"$f":"'Base Numbers'!$C$5*'Base Numbers'!$C$6*Sorcadins!V$1321","v":0.8},{"$f":"'Base Numbers'!$C$5*'Base Numbers'!$C$6*Sorcadins!W$1321","v":0.8},{"$f":"'Base Numbers'!$C$5*'Base Numbers'!$C$6*Sorcadins!X$1321","v":0.8}]
[{"$nulls":3},"number of smites used on crits",{"$f":"MIN(E261,E262)","v":0},{"$f":"MIN(F261,F262)","v":0},0,0,0,0,0,0,0,0,0,0,0,0,0,0,0,0,0,0]
[{"$nulls":3},"avg smite dice per crit ",{"$f":"IF(E263>0,MIN(E$7,(E260/MIN(E263,E262))),0)","v":0},0,0,0,0,0,0,0,0,0,0,0,0,0,0,0,0,0,0,0]
[{"$nulls":3},"smites left for non-crits",{"$f":"E261-E263","v":0},{"$f":"F261-F263","v":0},0,0,0,0,0,0,0,0,0,0,0,0,0,0,0,0,0,0]
[{"$nulls":3},"total non-crit smite-qualifying attacks available",{"$f":"Sorcadins!E$1296*('Base Numbers'!$C$5*'Base Numbers'!$C$6)-E262","v":15.2},{"$f":"Sorcadins!F$1296*('Base Numbers'!$C$5*'Base Numbers'!$C$6)-F262","v":15.2},{"$f":"Sorcadins!G$1296*('Base Numbers'!$C$5*'Base Numbers'!$C$6)-G262","v":15.2},{"$f":"Sorcadins!H$1296*('Base Numbers'!$C$5*'Base Numbers'!$C$6)-H262","v":15.2},{"$f":"Sorcadins!I$1296*('Base Numbers'!$C$5*'Base Numbers'!$C$6)-I262","v":15.2},{"$f":"Sorcadins!J$1296*('Base Numbers'!$C$5*'Base Numbers'!$C$6)-J262","v":15.2},{"$f":"Sorcadins!K$1296*('Base Numbers'!$C$5*'Base Numbers'!$C$6)-K262","v":15.2},{"$f":"Sorcadins!L$1296*('Base Numbers'!$C$5*'Base Numbers'!$C$6)-L262","v":15.2},{"$f":"Sorcadins!M$1296*('Base Numbers'!$C$5*'Base Numbers'!$C$6)-M262","v":15.2},{"$f":"Sorcadins!N$1296*('Base Numbers'!$C$5*'Base Numbers'!$C$6)-N262","v":15.2},{"$f":"Sorcadins!O$1296*('Base Numbers'!$C$5*'Base Numbers'!$C$6)-O262","v":15.2},{"$f":"Sorcadins!P$1296*('Base Numbers'!$C$5*'Base Numbers'!$C$6)-P262","v":15.2},{"$f":"Sorcadins!Q$1296*('Base Numbers'!$C$5*'Base Numbers'!$C$6)-Q262","v":15.2},{"$f":"Sorcadins!R$1296*('Base Numbers'!$C$5*'Base Numbers'!$C$6)-R262","v":15.2},{"$f":"Sorcadins!S$1296*('Base Numbers'!$C$5*'Base Numbers'!$C$6)-S262","v":15.2},{"$f":"Sorcadins!T$1296*('Base Numbers'!$C$5*'Base Numbers'!$C$6)-T262","v":15.2},{"$f":"Sorcadins!U$1296*('Base Numbers'!$C$5*'Base Numbers'!$C$6)-U262","v":15.2},{"$f":"Sorcadins!V$1296*('Base Numbers'!$C$5*'Base Numbers'!$C$6)-V262","v":15.2},{"$f":"Sorcadins!W$1296*('Base Numbers'!$C$5*'Base Numbers'!$C$6)-W262","v":15.2},{"$f":"Sorcadins!X$1296*('Base Numbers'!$C$5*'Base Numbers'!$C$6)-X262","v":15.2}]
[{"$nulls":3},"smite dice left for non-crits",{"$f":"ROUND(MAX(0,E260-E262*E264),4)","v":0},{"$f":"ROUND(MAX(0,F260-F262*F264),4)","v":0},0,0,0,0,0,0,0,0,0,0,0,0,0,0,0,0,0,0]
[{"$nulls":3},"total smite dice used on crits",{"$f":"E263*E264","v":0},{"$f":"F263*F264","v":0},0,0,0,0,0,0,0,0,0,0,0,0,0,0,0,0,0,0]
[{"$nulls":3},"total crit smite damage per day",{"$f":"9*E268","v":0},{"$f":"9*F268","v":0},0,0,0,0,0,0,0,0,0,0,0,0,0,0,0,0,0,0]
[{"$nulls":3},"total non-crit smite damage per day",{"$f":"4.5*MIN(MIN(E266,E265)*E$7,E267)","v":0},{"$f":"4.5*MIN(MIN(F266,F265)*F$7,F267)","v":0},0,0,0,0,0,0,0,0,0,0,0,0,0,0,0,0,0,0]
[{"$nulls":3},"leftover sorc points + spell levels",{"$f":"IF(E260>0,IF(Sorcadins!E$273>0,(Sorcadins!E$273*E258+E257-E263*E264-E270/4.5)/Sorcadins!E$273,0),E258+E257)","v":0},{"$f":"IF(F260>0,IF(Sorcadins!F$273>0,(Sorcadins!F$273*F258+F257-F263*F264-F270/4.5)/Sorcadins!F$273,0),F258+F257)","v":0},{"$f":"IF(G260>0,IF(Sorcadins!G$273>0,(Sorcadins!G$273*G258+G257-G263*G264-G270/4.5)/Sorcadins!G$273,0),G258+G257)","v":0},{"$f":"IF(H260>0,IF(Sorcadins!H$273>0,(Sorcadins!H$273*H258+H257-H263*H264-H270/4.5)/Sorcadins!H$273,0),H258+H257)","v":0},{"$f":"IF(I260>0,IF(Sorcadins!I$273>0,(Sorcadins!I$273*I258+I257-I263*I264-I270/4.5)/Sorcadins!I$273,0),I258+I257)","v":0},{"$f":"IF(J260>0,IF(Sorcadins!J$273>0,(Sorcadins!J$273*J258+J257-J263*J264-J270/4.5)/Sorcadins!J$273,0),J258+J257)","v":0},{"$f":"IF(K260>0,IF(Sorcadins!K$273>0,(Sorcadins!K$273*K258+K257-K263*K264-K270/4.5)/Sorcadins!K$273,0),K258+K257)","v":0},{"$f":"IF(L260>0,IF(Sorcadins!L$273>0,(Sorcadins!L$273*L258+L257-L263*L264-L270/4.5)/Sorcadins!L$273,0),L258+L257)","v":0},{"$f":"IF(M260>0,IF(Sorcadins!M$273>0,(Sorcadins!M$273*M258+M257-M263*M264-M270/4.5)/Sorcadins!M$273,0),M258+M257)","v":0},{"$f":"IF(N260>0,IF(Sorcadins!N$273>0,(Sorcadins!N$273*N258+N257-N263*N264-N270/4.5)/Sorcadins!N$273,0),N258+N257)","v":0},{"$f":"IF(O260>0,IF(Sorcadins!O$273>0,(Sorcadins!O$273*O258+O257-O263*O264-O270/4.5)/Sorcadins!O$273,0),O258+O257)","v":0},{"$f":"IF(P260>0,IF(Sorcadins!P$273>0,(Sorcadins!P$273*P258+P257-P263*P264-P270/4.5)/Sorcadins!P$273,0),P258+P257)","v":0},{"$f":"IF(Q260>0,IF(Sorcadins!Q$273>0,(Sorcadins!Q$273*Q258+Q257-Q263*Q264-Q270/4.5)/Sorcadins!Q$273,0),Q258+Q257)","v":0},{"$f":"IF(R260>0,IF(Sorcadins!R$273>0,(Sorcadins!R$273*R258+R257-R263*R264-R270/4.5)/Sorcadins!R$273,0),R258+R257)","v":0},{"$f":"IF(S260>0,IF(Sorcadins!S$273>0,(Sorcadins!S$273*S258+S257-S263*S264-S270/4.5)/Sorcadins!S$273,0),S258+S257)","v":0},{"$f":"IF(T260>0,IF(Sorcadins!T$273>0,(Sorcadins!T$273*T258+T257-T263*T264-T270/4.5)/Sorcadins!T$273,0),T258+T257)","v":0},{"$f":"IF(U260>0,IF(Sorcadins!U$273>0,(Sorcadins!U$273*U258+U257-U263*U264-U270/4.5)/Sorcadins!U$273,0),U258+U257)","v":0},{"$f":"IF(V260>0,IF(Sorcadins!V$273>0,(Sorcadins!V$273*V258+V257-V263*V264-V270/4.5)/Sorcadins!V$273,0),V258+V257)","v":0},{"$f":"IF(W260>0,IF(Sorcadins!W$273>0,(Sorcadins!W$273*W258+W257-W263*W264-W270/4.5)/Sorcadins!W$273,0),W258+W257)","v":0},{"$f":"IF(X260>0,IF(Sorcadins!X$273>0,(Sorcadins!X$273*X258+X257-X263*X264-X270/4.5)/Sorcadins!X$273,0),X258+X257)","v":0}]
[{"$nulls":3},"actual smites performed",{"$f":"E263+IF(E$7>0,MIN(E265,E266,E267/E$7),0)","v":0},{"$f":"F263+IF(F$7>0,MIN(F265,F266,F267/F$7),0)","v":0},0,0,0,0,0,0,0,0,0,0,0,0,0,0,0,0,0,0]
[{"$nulls":3},"total daily smite damage: M2, B7, O3",{"$f":"E269+E270","v":0},{"$f":"F269+F270","v":0},0,0,0,0,0,0,0,0,0,0,0,0,0,0,0,0,0,0]
[]
[{"$nulls":3},"SMITES - M2, B12, O1/O2",1,2,3,4,5,6,7,8,9,10,11,12,13,14,15,16,17,18,19,20]
[{"$nulls":3},"remaining sorcery points (based on Damage Scenario)",{"$f":"MAX(0,Sorcadins!E$561-Sorcadins!E$1279)","v":0},{"$f":"MAX(0,Sorcadins!F$561-Sorcadins!F$1279)","v":0},{"$f":"MAX(0,Sorcadins!G$561-Sorcadins!G$1279)","v":0},{"$f":"MAX(0,Sorcadins!H$561-Sorcadins!H$1279)","v":0},{"$f":"MAX(0,Sorcadins!I$561-Sorcadins!I$1279)","v":0},{"$f":"MAX(0,Sorcadins!J$561-Sorcadins!J$1279)","v":0},{"$f":"MAX(0,Sorcadins!K$561-Sorcadins!K$1279)","v":0},{"$f":"MAX(0,Sorcadins!L$561-Sorcadins!L$1279)","v":0},{"$f":"MAX(0,Sorcadins!M$561-Sorcadins!M$1279)","v":0},{"$f":"MAX(0,Sorcadins!N$561-Sorcadins!N$1279)","v":0},{"$f":"MAX(0,Sorcadins!O$561-Sorcadins!O$1279)","v":0},{"$f":"MAX(0,Sorcadins!P$561-Sorcadins!P$1279)","v":0},{"$f":"MAX(0,Sorcadins!Q$561-Sorcadins!Q$1279)","v":0},{"$f":"MAX(0,Sorcadins!R$561-Sorcadins!R$1279)","v":0},{"$f":"MAX(0,Sorcadins!S$561-Sorcadins!S$1279)","v":0},{"$f":"MAX(0,Sorcadins!T$561-Sorcadins!T$1279)","v":0},{"$f":"MAX(0,Sorcadins!U$561-Sorcadins!U$1279)","v":0},{"$f":"MAX(0,Sorcadins!V$561-Sorcadins!V$1279)","v":0},{"$f":"MAX(0,Sorcadins!W$561-Sorcadins!W$1279)","v":0},{"$f":"MAX(0,Sorcadins!X$561-Sorcadins!X$1279)","v":0},null,"*Sorc points directly convertible to Smite Dice"]
[{"$nulls":3},"remaining spell slot levels (based on Damage Scenario)",{"$f":"MAX(0,Sorcadins!E$281-MAX(0,Sorcadins!E$1279-Sorcadins!E$561))","v":0},{"$f":"MAX(0,Sorcadins!F$281-MAX(0,Sorcadins!F$1279-Sorcadins!F$561))","v":0},{"$f":"MAX(0,Sorcadins!G$281-MAX(0,Sorcadins!G$1279-Sorcadins!G$561))","v":0},{"$f":"MAX(0,Sorcadins!H$281-MAX(0,Sorcadins!H$1279-Sorcadins!H$561))","v":0},{"$f":"MAX(0,Sorcadins!I$281-MAX(0,Sorcadins!I$1279-Sorcadins!I$561))","v":0},{"$f":"MAX(0,Sorcadins!J$281-MAX(0,Sorcadins!J$1279-Sorcadins!J$561))","v":0},{"$f":"MAX(0,Sorcadins!K$281-MAX(0,Sorcadins!K$1279-Sorcadins!K$561))","v":0},{"$f":"MAX(0,Sorcadins!L$281-MAX(0,Sorcadins!L$1279-Sorcadins!L$561))","v":0},{"$f":"MAX(0,Sorcadins!M$281-MAX(0,Sorcadins!M$1279-Sorcadins!M$561))","v":0},{"$f":"MAX(0,Sorcadins!N$281-MAX(0,Sorcadins!N$1279-Sorcadins!N$561))","v":0},{"$f":"MAX(0,Sorcadins!O$281-MAX(0,Sorcadins!O$1279-Sorcadins!O$561))","v":0},{"$f":"MAX(0,Sorcadins!P$281-MAX(0,Sorcadins!P$1279-Sorcadins!P$561))","v":0},{"$f":"MAX(0,Sorcadins!Q$281-MAX(0,Sorcadins!Q$1279-Sorcadins!Q$561))","v":0},{"$f":"MAX(0,Sorcadins!R$281-MAX(0,Sorcadins!R$1279-Sorcadins!R$561))","v":0},{"$f":"MAX(0,Sorcadins!S$281-MAX(0,Sorcadins!S$1279-Sorcadins!S$561))","v":0},{"$f":"MAX(0,Sorcadins!T$281-MAX(0,Sorcadins!T$1279-Sorcadins!T$561))","v":0},{"$f":"MAX(0,Sorcadins!U$281-MAX(0,Sorcadins!U$1279-Sorcadins!U$561))","v":0},{"$f":"MAX(0,Sorcadins!V$281-MAX(0,Sorcadins!V$1279-Sorcadins!V$561))","v":0},{"$f":"MAX(0,Sorcadins!W$281-MAX(0,Sorcadins!W$1279-Sorcadins!W$561))","v":0},{"$f":"MAX(0,Sorcadins!X$281-MAX(0,Sorcadins!X$1279-Sorcadins!X$561))","v":0}]
[{"$nulls":3},"total warlock smite levels remaining",{"$f":"MIN(Sorcadins!E$273*E277,Sorcadins!E$264)","v":0},{"$f":"MIN(Sorcadins!F$273*F277,Sorcadins!F$264)","v":0},{"$f":"MIN(Sorcadins!G$273*G277,Sorcadins!G$264)","v":0},{"$f":"MIN(Sorcadins!H$273*H277,Sorcadins!H$264)","v":0},{"$f":"MIN(Sorcadins!I$273*I277,Sorcadins!I$264)","v":0},{"$f":"MIN(Sorcadins!J$273*J277,Sorcadins!J$264)","v":0},{"$f":"MIN(Sorcadins!K$273*K277,Sorcadins!K$264)","v":0},{"$f":"MIN(Sorcadins!L$273*L277,Sorcadins!L$264)","v":0},{"$f":"MIN(Sorcadins!M$273*M277,Sorcadins!M$264)","v":0},{"$f":"MIN(Sorcadins!N$273*N277,Sorcadins!N$264)","v":0},{"$f":"MIN(Sorcadins!O$273*O277,Sorcadins!O$264)","v":0},{"$f":"MIN(Sorcadins!P$273*P277,Sorcadins!P$264)","v":0},{"$f":"MIN(Sorcadins!Q$273*Q277,Sorcadins!Q$264)","v":0},{"$f":"MIN(Sorcadins!R$273*R277,Sorcadins!R$264)","v":0},{"$f":"MIN(Sorcadins!S$273*S277,Sorcadins!S$264)","v":0},{"$f":"MIN(Sorcadins!T$273*T277,Sorcadins!T$264)","v":0},{"$f":"MIN(Sorcadins!U$273*U277,Sorcadins!U$264)","v":0},{"$f":"MIN(Sorcadins!V$273*V277,Sorcadins!V$264)","v":0},{"$f":"MIN(Sorcadins!W$273*W277,Sorcadins!W$264)","v":0},{"$f":"MIN(Sorcadins!X$273*X277,Sorcadins!X$264)","v":0}]
[{"$nulls":3},"total smite levels remaining",{"$f":"IF(E$5>=1,Sorcadins!E$273*E277+E276,IF(E$6,E278,0))","v":0},{"$f":"IF(F$5>=1,Sorcadins!F$273*F277+F276,IF(F$6,F278,0))","v":0},{"$f":"IF(G$5>=1,Sorcadins!G$273*G277+G276,IF(G$6,G278,0))","v":0},{"$f":"IF(H$5>=1,Sorcadins!H$273*H277+H276,IF(H$6,H278,0))","v":0},{"$f":"IF(I$5>=1,Sorcadins!I$273*I277+I276,IF(I$6,I278,0))","v":0},{"$f":"IF(J$5>=1,Sorcadins!J$273*J277+J276,IF(J$6,J278,0))","v":0},{"$f":"IF(K$5>=1,Sorcadins!K$273*K277+K276,IF(K$6,K278,0))","v":0},{"$f":"IF(L$5>=1,Sorcadins!L$273*L277+L276,IF(L$6,L278,0))","v":0},{"$f":"IF(M$5>=1,Sorcadins!M$273*M277+M276,IF(M$6,M278,0))","v":0},{"$f":"IF(N$5>=1,Sorcadins!N$273*N277+N276,IF(N$6,N278,0))","v":0},{"$f":"IF(O$5>=1,Sorcadins!O$273*O277+O276,IF(O$6,O278,0))","v":0},{"$f":"IF(P$5>=1,Sorcadins!P$273*P277+P276,IF(P$6,P278,0))","v":0},{"$f":"IF(Q$5>=1,Sorcadins!Q$273*Q277+Q276,IF(Q$6,Q278,0))","v":0},{"$f":"IF(R$5>=1,Sorcadins!R$273*R277+R276,IF(R$6,R278,0))","v":0},{"$f":"IF(S$5>=1,Sorcadins!S$273*S277+S276,IF(S$6,S278,0))","v":0},{"$f":"IF(T$5>=1,Sorcadins!T$273*T277+T276,IF(T$6,T278,0))","v":0},{"$f":"IF(U$5>=1,Sorcadins!U$273*U277+U276,IF(U$6,U278,0))","v":0},{"$f":"IF(V$5>=1,Sorcadins!V$273*V277+V276,IF(V$6,V278,0))","v":0},{"$f":"IF(W$5>=1,Sorcadins!W$273*W277+W276,IF(W$6,W278,0))","v":0},{"$f":"IF(X$5>=1,Sorcadins!X$273*X277+X276,IF(X$6,X278,0))","v":0}]
[{"$nulls":3},"max number of daily smites (after spells)",{"$f":"IF(E$6,Sorcadins!E$1157,IF(E$5,Sorcadins!E$282+E276/2,0))","v":0},{"$f":"IF(F$6,Sorcadins!F$1157,IF(F$5,Sorcadins!F$282+F276/2,0))","v":0},{"$f":"IF(G$6,Sorcadins!G$1157,IF(G$5,Sorcadins!G$282+G276/2,0))","v":0},{"$f":"IF(H$6,Sorcadins!H$1157,IF(H$5,Sorcadins!H$282+H276/2,0))","v":0},{"$f":"IF(I$6,Sorcadins!I$1157,IF(I$5,Sorcadins!I$282+I276/2,0))","v":0},{"$f":"IF(J$6,Sorcadins!J$1157,IF(J$5,Sorcadins!J$282+J276/2,0))","v":0},{"$f":"IF(K$6,Sorcadins!K$1157,IF(K$5,Sorcadins!K$282+K276/2,0))","v":0},{"$f":"IF(L$6,Sorcadins!L$1157,IF(L$5,Sorcadins!L$282+L276/2,0))","v":0},{"$f":"IF(M$6,Sorcadins!M$1157,IF(M$5,Sorcadins!M$282+M276/2,0))","v":0},{"$f":"IF(N$6,Sorcadins!N$1157,IF(N$5,Sorcadins!N$282+N276/2,0))","v":0},{"$f":"IF(O$6,Sorcadins!O$1157,IF(O$5,Sorcadins!O$282+O276/2,0))","v":0},{"$f":"IF(P$6,Sorcadins!P$1157,IF(P$5,Sorcadins!P$282+P276/2,0))","v":0},{"$f":"IF(Q$6,Sorcadins!Q$1157,IF(Q$5,Sorcadins!Q$282+Q276/2,0))","v":0},{"$f":"IF(R$6,Sorcadins!R$1157,IF(R$5,Sorcadins!R$282+R276/2,0))","v":0},{"$f":"IF(S$6,Sorcadins!S$1157,IF(S$5,Sorcadins!S$282+S276/2,0))","v":0},{"$f":"IF(T$6,Sorcadins!T$1157,IF(T$5,Sorcadins!T$282+T276/2,0))","v":0},{"$f":"IF(U$6,Sorcadins!U$1157,IF(U$5,Sorcadins!U$282+U276/2,0))","v":0},{"$f":"IF(V$6,Sorcadins!V$1157,IF(V$5,Sorcadins!V$282+V276/2,0))","v":0},{"$f":"IF(W$6,Sorcadins!W$1157,IF(W$5,Sorcadins!W$282+W276/2,0))","v":0},{"$f":"IF(X$6,Sorcadins!X$1157,IF(X$5,Sorcadins!X$282+X276/2,0))","v":0}]
[{"$nulls":3},"avg crits per day for smite purposes (based on Damage Scenario)",{"$f":"'Base Numbers'!$C$5*'Base Numbers'!$C$6*Sorcadins!E$1322","v":1},{"$f":"'Base Numbers'!$C$5*'Base Numbers'!$C$6*Sorcadins!F$1322","v":1},{"$f":"'Base Numbers'!$C$5*'Base Numbers'!$C$6*Sorcadins!G$1322","v":1},{"$f":"'Base Numbers'!$C$5*'Base Numbers'!$C$6*Sorcadins!H$1322","v":1},{"$f":"'Base Numbers'!$C$5*'Base Numbers'!$C$6*Sorcadins!I$1322","v":1},{"$f":"'Base Numbers'!$C$5*'Base Numbers'!$C$6*Sorcadins!J$1322","v":1},{"$f":"'Base Numbers'!$C$5*'Base Numbers'!$C$6*Sorcadins!K$1322","v":1},{"$f":"'Base Numbers'!$C$5*'Base Numbers'!$C$6*Sorcadins!L$1322","v":1},{"$f":"'Base Numbers'!$C$5*'Base Numbers'!$C$6*Sorcadins!M$1322","v":1},{"$f":"'Base Numbers'!$C$5*'Base Numbers'!$C$6*Sorcadins!N$1322","v":1},{"$f":"'Base Numbers'!$C$5*'Base Numbers'!$C$6*Sorcadins!O$1322","v":1},{"$f":"'Base Numbers'!$C$5*'Base Numbers'!$C$6*Sorcadins!P$1322","v":1},{"$f":"'Base Numbers'!$C$5*'Base Numbers'!$C$6*Sorcadins!Q$1322","v":1},{"$f":"'Base Numbers'!$C$5*'Base Numbers'!$C$6*Sorcadins!R$1322","v":1},{"$f":"'Base Numbers'!$C$5*'Base Numbers'!$C$6*Sorcadins!S$1322","v":1},{"$f":"'Base Numbers'!$C$5*'Base Numbers'!$C$6*Sorcadins!T$1322","v":1},{"$f":"'Base Numbers'!$C$5*'Base Numbers'!$C$6*Sorcadins!U$1322","v":1},{"$f":"'Base Numbers'!$C$5*'Base Numbers'!$C$6*Sorcadins!V$1322","v":1},{"$f":"'Base Numbers'!$C$5*'Base Numbers'!$C$6*Sorcadins!W$1322","v":1},{"$f":"'Base Numbers'!$C$5*'Base Numbers'!$C$6*Sorcadins!X$1322","v":1}]
[{"$nulls":3},"number of smites used on crits",{"$f":"MIN(E280,E281)","v":0},{"$f":"MIN(F280,F281)","v":0},0,0,0,0,0,0,0,0,0,0,0,0,0,0,0,0,0,0]
[{"$nulls":3},"avg smite dice per crit ",{"$f":"IF(E282>0,MIN(E$7,(E279/MIN(E282,E281))),0)","v":0},0,0,0,0,0,0,0,0,0,0,0,0,0,0,0,0,0,0,0]
[{"$nulls":3},"smites left for non-crits",{"$f":"E280-E282","v":0},{"$f":"F280-F282","v":0},0,0,0,0,0,0,0,0,0,0,0,0,0,0,0,0,0,0]
[{"$nulls":3},"total non-crit smite-qualifying attacks available",{"$f":"Sorcadins!E$1297*('Base Numbers'!$C$5*'Base Numbers'!$C$6)-E281","v":19},{"$f":"Sorcadins!F$1297*('Base Numbers'!$C$5*'Base Numbers'!$C$6)-F281","v":19},{"$f":"Sorcadins!G$1297*('Base Numbers'!$C$5*'Base Numbers'!$C$6)-G281","v":19},{"$f":"Sorcadins!H$1297*('Base Numbers'!$C$5*'Base Numbers'!$C$6)-H281","v":19},{"$f":"Sorcadins!I$1297*('Base Numbers'!$C$5*'Base Numbers'!$C$6)-I281","v":19},{"$f":"Sorcadins!J$1297*('Base Numbers'!$C$5*'Base Numbers'!$C$6)-J281","v":19},{"$f":"Sorcadins!K$1297*('Base Numbers'!$C$5*'Base Numbers'!$C$6)-K281","v":19},{"$f":"Sorcadins!L$1297*('Base Numbers'!$C$5*'Base Numbers'!$C$6)-L281","v":19},{"$f":"Sorcadins!M$1297*('Base Numbers'!$C$5*'Base Numbers'!$C$6)-M281","v":19},{"$f":"Sorcadins!N$1297*('Base Numbers'!$C$5*'Base Numbers'!$C$6)-N281","v":19},{"$f":"Sorcadins!O$1297*('Base Numbers'!$C$5*'Base Numbers'!$C$6)-O281","v":19},{"$f":"Sorcadins!P$1297*('Base Numbers'!$C$5*'Base Numbers'!$C$6)-P281","v":19},{"$f":"Sorcadins!Q$1297*('Base Numbers'!$C$5*'Base Numbers'!$C$6)-Q281","v":19},{"$f":"Sorcadins!R$1297*('Base Numbers'!$C$5*'Base Numbers'!$C$6)-R281","v":19},{"$f":"Sorcadins!S$1297*('Base Numbers'!$C$5*'Base Numbers'!$C$6)-S281","v":19},{"$f":"Sorcadins!T$1297*('Base Numbers'!$C$5*'Base Numbers'!$C$6)-T281","v":19},{"$f":"Sorcadins!U$1297*('Base Numbers'!$C$5*'Base Numbers'!$C$6)-U281","v":19},{"$f":"Sorcadins!V$1297*('Base Numbers'!$C$5*'Base Numbers'!$C$6)-V281","v":19},{"$f":"Sorcadins!W$1297*('Base Numbers'!$C$5*'Base Numbers'!$C$6)-W281","v":19},{"$f":"Sorcadins!X$1297*('Base Numbers'!$C$5*'Base Numbers'!$C$6)-X281","v":19}]
[{"$nulls":3},"smite dice left for non-crits",{"$f":"ROUND(MAX(0,E279-E281*E283),4)","v":0},{"$f":"ROUND(MAX(0,F279-F281*F283),4)","v":0},0,0,0,0,0,0,0,0,0,0,0,0,0,0,0,0,0,0]
[{"$nulls":3},"total smite dice used on crits",{"$f":"E282*E283","v":0},{"$f":"F282*F283","v":0},0,0,0,0,0,0,0,0,0,0,0,0,0,0,0,0,0,0]
[{"$nulls":3},"total crit smite damage per day",{"$f":"9*E287","v":0},{"$f":"9*F287","v":0},0,0,0,0,0,0,0,0,0,0,0,0,0,0,0,0,0,0]
[{"$nulls":3},"total non-crit smite damage per day",{"$f":"4.5*MIN(MIN(E285,E284)*E$7,E286)","v":0},{"$f":"4.5*MIN(MIN(F285,F284)*F$7,F286)","v":0},0,0,0,0,0,0,0,0,0,0,0,0,0,0,0,0,0,0]
[{"$nulls":3},"leftover sorc points + spell levels",{"$f":"IF(E279>0,IF(Sorcadins!E$273>0,(Sorcadins!E$273*E277+E276-E282*E283-E289/4.5)/Sorcadins!E$273,0),E277+E276)","v":0},{"$f":"IF(F279>0,IF(Sorcadins!F$273>0,(Sorcadins!F$273*F277+F276-F282*F283-F289/4.5)/Sorcadins!F$273,0),F277+F276)","v":0},{"$f":"IF(G279>0,IF(Sorcadins!G$273>0,(Sorcadins!G$273*G277+G276-G282*G283-G289/4.5)/Sorcadins!G$273,0),G277+G276)","v":0},{"$f":"IF(H279>0,IF(Sorcadins!H$273>0,(Sorcadins!H$273*H277+H276-H282*H283-H289/4.5)/Sorcadins!H$273,0),H277+H276)","v":0},{"$f":"IF(I279>0,IF(Sorcadins!I$273>0,(Sorcadins!I$273*I277+I276-I282*I283-I289/4.5)/Sorcadins!I$273,0),I277+I276)","v":0},{"$f":"IF(J279>0,IF(Sorcadins!J$273>0,(Sorcadins!J$273*J277+J276-J282*J283-J289/4.5)/Sorcadins!J$273,0),J277+J276)","v":0},{"$f":"IF(K279>0,IF(Sorcadins!K$273>0,(Sorcadins!K$273*K277+K276-K282*K283-K289/4.5)/Sorcadins!K$273,0),K277+K276)","v":0},{"$f":"IF(L279>0,IF(Sorcadins!L$273>0,(Sorcadins!L$273*L277+L276-L282*L283-L289/4.5)/Sorcadins!L$273,0),L277+L276)","v":0},{"$f":"IF(M279>0,IF(Sorcadins!M$273>0,(Sorcadins!M$273*M277+M276-M282*M283-M289/4.5)/Sorcadins!M$273,0),M277+M276)","v":0},{"$f":"IF(N279>0,IF(Sorcadins!N$273>0,(Sorcadins!N$273*N277+N276-N282*N283-N289/4.5)/Sorcadins!N$273,0),N277+N276)","v":0},{"$f":"IF(O279>0,IF(Sorcadins!O$273>0,(Sorcadins!O$273*O277+O276-O282*O283-O289/4.5)/Sorcadins!O$273,0),O277+O276)","v":0},{"$f":"IF(P279>0,IF(Sorcadins!P$273>0,(Sorcadins!P$273*P277+P276-P282*P283-P289/4.5)/Sorcadins!P$273,0),P277+P276)","v":0},{"$f":"IF(Q279>0,IF(Sorcadins!Q$273>0,(Sorcadins!Q$273*Q277+Q276-Q282*Q283-Q289/4.5)/Sorcadins!Q$273,0),Q277+Q276)","v":0},{"$f":"IF(R279>0,IF(Sorcadins!R$273>0,(Sorcadins!R$273*R277+R276-R282*R283-R289/4.5)/Sorcadins!R$273,0),R277+R276)","v":0},{"$f":"IF(S279>0,IF(Sorcadins!S$273>0,(Sorcadins!S$273*S277+S276-S282*S283-S289/4.5)/Sorcadins!S$273,0),S277+S276)","v":0},{"$f":"IF(T279>0,IF(Sorcadins!T$273>0,(Sorcadins!T$273*T277+T276-T282*T283-T289/4.5)/Sorcadins!T$273,0),T277+T276)","v":0},{"$f":"IF(U279>0,IF(Sorcadins!U$273>0,(Sorcadins!U$273*U277+U276-U282*U283-U289/4.5)/Sorcadins!U$273,0),U277+U276)","v":0},{"$f":"IF(V279>0,IF(Sorcadins!V$273>0,(Sorcadins!V$273*V277+V276-V282*V283-V289/4.5)/Sorcadins!V$273,0),V277+V276)","v":0},{"$f":"IF(W279>0,IF(Sorcadins!W$273>0,(Sorcadins!W$273*W277+W276-W282*W283-W289/4.5)/Sorcadins!W$273,0),W277+W276)","v":0},{"$f":"IF(X279>0,IF(Sorcadins!X$273>0,(Sorcadins!X$273*X277+X276-X282*X283-X289/4.5)/Sorcadins!X$273,0),X277+X276)","v":0}]
[{"$nulls":3},"actual smites performed",{"$f":"E282+IF(E$7>0,MIN(E284,E285,E286/E$7),0)","v":0},{"$f":"F282+IF(F$7>0,MIN(F284,F285,F286/F$7),0)","v":0},0,0,0,0,0,0,0,0,0,0,0,0,0,0,0,0,0,0]
[{"$nulls":3},"total daily smite damage: M2, B12, O1/O2",{"$f":"E288+E289","v":0},{"$f":"F288+F289","v":0},0,0,0,0,0,0,0,0,0,0,0,0,0,0,0,0,0,0]
[]
[{"$nulls":3},"SMITES - M2, B12, O3",1,2,3,4,5,6,7,8,9,10,11,12,13,14,15,16,17,18,19,20]
[{"$nulls":3},"remaining sorcery points (based on Damage Scenario)",{"$f":"MAX(0,Sorcadins!E$561-Sorcadins!E$1279)","v":0},{"$f":"MAX(0,Sorcadins!F$561-Sorcadins!F$1279)","v":0},{"$f":"MAX(0,Sorcadins!G$561-Sorcadins!G$1279)","v":0},{"$f":"MAX(0,Sorcadins!H$561-Sorcadins!H$1279)","v":0},{"$f":"MAX(0,Sorcadins!I$561-Sorcadins!I$1279)","v":0},{"$f":"MAX(0,Sorcadins!J$561-Sorcadins!J$1279)","v":0},{"$f":"MAX(0,Sorcadins!K$561-Sorcadins!K$1279)","v":0},{"$f":"MAX(0,Sorcadins!L$561-Sorcadins!L$1279)","v":0},{"$f":"MAX(0,Sorcadins!M$561-Sorcadins!M$1279)","v":0},{"$f":"MAX(0,Sorcadins!N$561-Sorcadins!N$1279)","v":0},{"$f":"MAX(0,Sorcadins!O$561-Sorcadins!O$1279)","v":0},{"$f":"MAX(0,Sorcadins!P$561-Sorcadins!P$1279)","v":0},{"$f":"MAX(0,Sorcadins!Q$561-Sorcadins!Q$1279)","v":0},{"$f":"MAX(0,Sorcadins!R$561-Sorcadins!R$1279)","v":0},{"$f":"MAX(0,Sorcadins!S$561-Sorcadins!S$1279)","v":0},{"$f":"MAX(0,Sorcadins!T$561-Sorcadins!T$1279)","v":0},{"$f":"MAX(0,Sorcadins!U$561-Sorcadins!U$1279)","v":0},{"$f":"MAX(0,Sorcadins!V$561-Sorcadins!V$1279)","v":0},{"$f":"MAX(0,Sorcadins!W$561-Sorcadins!W$1279)","v":0},{"$f":"MAX(0,Sorcadins!X$561-Sorcadins!X$1279)","v":0},null,"*Sorc points directly convertible to Smite Dice"]
[{"$nulls":3},"remaining spell slot levels (based on Damage Scenario)",{"$f":"MAX(0,Sorcadins!E$281-MAX(0,Sorcadins!E$1279-Sorcadins!E$561))","v":0},{"$f":"MAX(0,Sorcadins!F$281-MAX(0,Sorcadins!F$1279-Sorcadins!F$561))","v":0},{"$f":"MAX(0,Sorcadins!G$281-MAX(0,Sorcadins!G$1279-Sorcadins!G$561))","v":0},{"$f":"MAX(0,Sorcadins!H$281-MAX(0,Sorcadins!H$1279-Sorcadins!H$561))","v":0},{"$f":"MAX(0,Sorcadins!I$281-MAX(0,Sorcadins!I$1279-Sorcadins!I$561))","v":0},{"$f":"MAX(0,Sorcadins!J$281-MAX(0,Sorcadins!J$1279-Sorcadins!J$561))","v":0},{"$f":"MAX(0,Sorcadins!K$281-MAX(0,Sorcadins!K$1279-Sorcadins!K$561))","v":0},{"$f":"MAX(0,Sorcadins!L$281-MAX(0,Sorcadins!L$1279-Sorcadins!L$561))","v":0},{"$f":"MAX(0,Sorcadins!M$281-MAX(0,Sorcadins!M$1279-Sorcadins!M$561))","v":0},{"$f":"MAX(0,Sorcadins!N$281-MAX(0,Sorcadins!N$1279-Sorcadins!N$561))","v":0},{"$f":"MAX(0,Sorcadins!O$281-MAX(0,Sorcadins!O$1279-Sorcadins!O$561))","v":0},{"$f":"MAX(0,Sorcadins!P$281-MAX(0,Sorcadins!P$1279-Sorcadins!P$561))","v":0},{"$f":"MAX(0,Sorcadins!Q$281-MAX(0,Sorcadins!Q$1279-Sorcadins!Q$561))","v":0},{"$f":"MAX(0,Sorcadins!R$281-MAX(0,Sorcadins!R$1279-Sorcadins!R$561))","v":0},{"$f":"MAX(0,Sorcadins!S$281-MAX(0,Sorcadins!S$1279-Sorcadins!S$561))","v":0},{"$f":"MAX(0,Sorcadins!T$281-MAX(0,Sorcadins!T$1279-Sorcadins!T$561))","v":0},{"$f":"MAX(0,Sorcadins!U$281-MAX(0,Sorcadins!U$1279-Sorcadins!U$561))","v":0},{"$f":"MAX(0,Sorcadins!V$281-MAX(0,Sorcadins!V$1279-Sorcadins!V$561))","v":0},{"$f":"MAX(0,Sorcadins!W$281-MAX(0,Sorcadins!W$1279-Sorcadins!W$561))","v":0},{"$f":"MAX(0,Sorcadins!X$281-MAX(0,Sorcadins!X$1279-Sorcadins!X$561))","v":0}]
[{"$nulls":3},"total warlock smite levels remaining",{"$f":"MIN(Sorcadins!E$273*E296,Sorcadins!E$264)","v":0},{"$f":"MIN(Sorcadins!F$273*F296,Sorcadins!F$264)","v":0},{"$f":"MIN(Sorcadins!G$273*G296,Sorcadins!G$264)","v":0},{"$f":"MIN(Sorcadins!H$273*H296,Sorcadins!H$264)","v":0},{"$f":"MIN(Sorcadins!I$273*I296,Sorcadins!I$264)","v":0},{"$f":"MIN(Sorcadins!J$273*J296,Sorcadins!J$264)","v":0},{"$f":"MIN(Sorcadins!K$273*K296,Sorcadins!K$264)","v":0},{"$f":"MIN(Sorcadins!L$273*L296,Sorcadins!L$264)","v":0},{"$f":"MIN(Sorcadins!M$273*M296,Sorcadins!M$264)","v":0},{"$f":"MIN(Sorcadins!N$273*N296,Sorcadins!N$264)","v":0},{"$f":"MIN(Sorcadins!O$273*O296,Sorcadins!O$264)","v":0},{"$f":"MIN(Sorcadins!P$273*P296,Sorcadins!P$264)","v":0},{"$f":"MIN(Sorcadins!Q$273*Q296,Sorcadins!Q$264)","v":0},{"$f":"MIN(Sorcadins!R$273*R296,Sorcadins!R$264)","v":0},{"$f":"MIN(Sorcadins!S$273*S296,Sorcadins!S$264)","v":0},{"$f":"MIN(Sorcadins!T$273*T296,Sorcadins!T$264)","v":0},{"$f":"MIN(Sorcadins!U$273*U296,Sorcadins!U$264)","v":0},{"$f":"MIN(Sorcadins!V$273*V296,Sorcadins!V$264)","v":0},{"$f":"MIN(Sorcadins!W$273*W296,Sorcadins!W$264)","v":0},{"$f":"MIN(Sorcadins!X$273*X296,Sorcadins!X$264)","v":0}]
[{"$nulls":3},"total smite levels remaining",{"$f":"IF(E$5>=1,Sorcadins!E$273*E296+E295,IF(E$6,E297,0))","v":0},{"$f":"IF(F$5>=1,Sorcadins!F$273*F296+F295,IF(F$6,F297,0))","v":0},{"$f":"IF(G$5>=1,Sorcadins!G$273*G296+G295,IF(G$6,G297,0))","v":0},{"$f":"IF(H$5>=1,Sorcadins!H$273*H296+H295,IF(H$6,H297,0))","v":0},{"$f":"IF(I$5>=1,Sorcadins!I$273*I296+I295,IF(I$6,I297,0))","v":0},{"$f":"IF(J$5>=1,Sorcadins!J$273*J296+J295,IF(J$6,J297,0))","v":0},{"$f":"IF(K$5>=1,Sorcadins!K$273*K296+K295,IF(K$6,K297,0))","v":0},{"$f":"IF(L$5>=1,Sorcadins!L$273*L296+L295,IF(L$6,L297,0))","v":0},{"$f":"IF(M$5>=1,Sorcadins!M$273*M296+M295,IF(M$6,M297,0))","v":0},{"$f":"IF(N$5>=1,Sorcadins!N$273*N296+N295,IF(N$6,N297,0))","v":0},{"$f":"IF(O$5>=1,Sorcadins!O$273*O296+O295,IF(O$6,O297,0))","v":0},{"$f":"IF(P$5>=1,Sorcadins!P$273*P296+P295,IF(P$6,P297,0))","v":0},{"$f":"IF(Q$5>=1,Sorcadins!Q$273*Q296+Q295,IF(Q$6,Q297,0))","v":0},{"$f":"IF(R$5>=1,Sorcadins!R$273*R296+R295,IF(R$6,R297,0))","v":0},{"$f":"IF(S$5>=1,Sorcadins!S$273*S296+S295,IF(S$6,S297,0))","v":0},{"$f":"IF(T$5>=1,Sorcadins!T$273*T296+T295,IF(T$6,T297,0))","v":0},{"$f":"IF(U$5>=1,Sorcadins!U$273*U296+U295,IF(U$6,U297,0))","v":0},{"$f":"IF(V$5>=1,Sorcadins!V$273*V296+V295,IF(V$6,V297,0))","v":0},{"$f":"IF(W$5>=1,Sorcadins!W$273*W296+W295,IF(W$6,W297,0))","v":0},{"$f":"IF(X$5>=1,Sorcadins!X$273*X296+X295,IF(X$6,X297,0))","v":0}]
[{"$nulls":3},"max number of daily smites (after spells)",{"$f":"IF(E$6,Sorcadins!E$1157,IF(E$5,Sorcadins!E$282+E295/2,0))","v":0},{"$f":"IF(F$6,Sorcadins!F$1157,IF(F$5,Sorcadins!F$282+F295/2,0))","v":0},{"$f":"IF(G$6,Sorcadins!G$1157,IF(G$5,Sorcadins!G$282+G295/2,0))","v":0},{"$f":"IF(H$6,Sorcadins!H$1157,IF(H$5,Sorcadins!H$282+H295/2,0))","v":0},{"$f":"IF(I$6,Sorcadins!I$1157,IF(I$5,Sorcadins!I$282+I295/2,0))","v":0},{"$f":"IF(J$6,Sorcadins!J$1157,IF(J$5,Sorcadins!J$282+J295/2,0))","v":0},{"$f":"IF(K$6,Sorcadins!K$1157,IF(K$5,Sorcadins!K$282+K295/2,0))","v":0},{"$f":"IF(L$6,Sorcadins!L$1157,IF(L$5,Sorcadins!L$282+L295/2,0))","v":0},{"$f":"IF(M$6,Sorcadins!M$1157,IF(M$5,Sorcadins!M$282+M295/2,0))","v":0},{"$f":"IF(N$6,Sorcadins!N$1157,IF(N$5,Sorcadins!N$282+N295/2,0))","v":0},{"$f":"IF(O$6,Sorcadins!O$1157,IF(O$5,Sorcadins!O$282+O295/2,0))","v":0},{"$f":"IF(P$6,Sorcadins!P$1157,IF(P$5,Sorcadins!P$282+P295/2,0))","v":0},{"$f":"IF(Q$6,Sorcadins!Q$1157,IF(Q$5,Sorcadins!Q$282+Q295/2,0))","v":0},{"$f":"IF(R$6,Sorcadins!R$1157,IF(R$5,Sorcadins!R$282+R295/2,0))","v":0},{"$f":"IF(S$6,Sorcadins!S$1157,IF(S$5,Sorcadins!S$282+S295/2,0))","v":0},{"$f":"IF(T$6,Sorcadins!T$1157,IF(T$5,Sorcadins!T$282+T295/2,0))","v":0},{"$f":"IF(U$6,Sorcadins!U$1157,IF(U$5,Sorcadins!U$282+U295/2,0))","v":0},{"$f":"IF(V$6,Sorcadins!V$1157,IF(V$5,Sorcadins!V$282+V295/2,0))","v":0},{"$f":"IF(W$6,Sorcadins!W$1157,IF(W$5,Sorcadins!W$282+W295/2,0))","v":0},{"$f":"IF(X$6,Sorcadins!X$1157,IF(X$5,Sorcadins!X$282+X295/2,0))","v":0}]
[{"$nulls":3},"avg crits per day for smite purposes (based on Damage Scenario)",{"$f":"'Base Numbers'!$C$5*'Base Numbers'!$C$6*Sorcadins!E$1323","v":0.8},{"$f":"'Base Numbers'!$C$5*'Base Numbers'!$C$6*Sorcadins!F$1323","v":0.8},{"$f":"'Base Numbers'!$C$5*'Base Numbers'!$C$6*Sorcadins!G$1323","v":0.8},{"$f":"'Base Numbers'!$C$5*'Base Numbers'!$C$6*Sorcadins!H$1323","v":0.8},{"$f":"'Base Numbers'!$C$5*'Base Numbers'!$C$6*Sorcadins!I$1323","v":0.8},{"$f":"'Base Numbers'!$C$5*'Base Numbers'!$C$6*Sorcadins!J$1323","v":0.8},{"$f":"'Base Numbers'!$C$5*'Base Numbers'!$C$6*Sorcadins!K$1323","v":0.8},{"$f":"'Base Numbers'!$C$5*'Base Numbers'!$C$6*Sorcadins!L$1323","v":0.8},{"$f":"'Base Numbers'!$C$5*'Base Numbers'!$C$6*Sorcadins!M$1323","v":0.8},{"$f":"'Base Numbers'!$C$5*'Base Numbers'!$C$6*Sorcadins!N$1323","v":0.8},{"$f":"'Base Numbers'!$C$5*'Base Numbers'!$C$6*Sorcadins!O$1323","v":0.8},{"$f":"'Base Numbers'!$C$5*'Base Numbers'!$C$6*Sorcadins!P$1323","v":0.8},{"$f":"'Base Numbers'!$C$5*'Base Numbers'!$C$6*Sorcadins!Q$1323","v":0.8},{"$f":"'Base Numbers'!$C$5*'Base Numbers'!$C$6*Sorcadins!R$1323","v":0.8},{"$f":"'Base Numbers'!$C$5*'Base Numbers'!$C$6*Sorcadins!S$1323","v":0.8},{"$f":"'Base Numbers'!$C$5*'Base Numbers'!$C$6*Sorcadins!T$1323","v":0.8},{"$f":"'Base Numbers'!$C$5*'Base Numbers'!$C$6*Sorcadins!U$1323","v":0.8},{"$f":"'Base Numbers'!$C$5*'Base Numbers'!$C$6*Sorcadins!V$1323","v":0.8},{"$f":"'Base Numbers'!$C$5*'Base Numbers'!$C$6*Sorcadins!W$1323","v":0.8},{"$f":"'Base Numbers'!$C$5*'Base Numbers'!$C$6*Sorcadins!X$1323","v":0.8}]
[{"$nulls":3},"number of smites used on crits",{"$f":"MIN(E299,E300)","v":0},{"$f":"MIN(F299,F300)","v":0},0,0,0,0,0,0,0,0,0,0,0,0,0,0,0,0,0,0]
[{"$nulls":3},"avg smite dice per crit ",{"$f":"IF(E301>0,MIN(E$7,(E298/MIN(E301,E300))),0)","v":0},0,0,0,0,0,0,0,0,0,0,0,0,0,0,0,0,0,0,0]
[{"$nulls":3},"smites left for non-crits",{"$f":"E299-E301","v":0},{"$f":"F299-F301","v":0},0,0,0,0,0,0,0,0,0,0,0,0,0,0,0,0,0,0]
[{"$nulls":3},"total non-crit smite-qualifying attacks available",{"$f":"Sorcadins!E$1298*('Base Numbers'!$C$5*'Base Numbers'!$C$6)-E300","v":15.2},{"$f":"Sorcadins!F$1298*('Base Numbers'!$C$5*'Base Numbers'!$C$6)-F300","v":15.2},{"$f":"Sorcadins!G$1298*('Base Numbers'!$C$5*'Base Numbers'!$C$6)-G300","v":15.2},{"$f":"Sorcadins!H$1298*('Base Numbers'!$C$5*'Base Numbers'!$C$6)-H300","v":15.2},{"$f":"Sorcadins!I$1298*('Base Numbers'!$C$5*'Base Numbers'!$C$6)-I300","v":15.2},{"$f":"Sorcadins!J$1298*('Base Numbers'!$C$5*'Base Numbers'!$C$6)-J300","v":15.2},{"$f":"Sorcadins!K$1298*('Base Numbers'!$C$5*'Base Numbers'!$C$6)-K300","v":15.2},{"$f":"Sorcadins!L$1298*('Base Numbers'!$C$5*'Base Numbers'!$C$6)-L300","v":15.2},{"$f":"Sorcadins!M$1298*('Base Numbers'!$C$5*'Base Numbers'!$C$6)-M300","v":15.2},{"$f":"Sorcadins!N$1298*('Base Numbers'!$C$5*'Base Numbers'!$C$6)-N300","v":15.2},{"$f":"Sorcadins!O$1298*('Base Numbers'!$C$5*'Base Numbers'!$C$6)-O300","v":15.2},{"$f":"Sorcadins!P$1298*('Base Numbers'!$C$5*'Base Numbers'!$C$6)-P300","v":15.2},{"$f":"Sorcadins!Q$1298*('Base Numbers'!$C$5*'Base Numbers'!$C$6)-Q300","v":15.2},{"$f":"Sorcadins!R$1298*('Base Numbers'!$C$5*'Base Numbers'!$C$6)-R300","v":15.2},{"$f":"Sorcadins!S$1298*('Base Numbers'!$C$5*'Base Numbers'!$C$6)-S300","v":15.2},{"$f":"Sorcadins!T$1298*('Base Numbers'!$C$5*'Base Numbers'!$C$6)-T300","v":15.2},{"$f":"Sorcadins!U$1298*('Base Numbers'!$C$5*'Base Numbers'!$C$6)-U300","v":15.2},{"$f":"Sorcadins!V$1298*('Base Numbers'!$C$5*'Base Numbers'!$C$6)-V300","v":15.2},{"$f":"Sorcadins!W$1298*('Base Numbers'!$C$5*'Base Numbers'!$C$6)-W300","v":15.2},{"$f":"Sorcadins!X$1298*('Base Numbers'!$C$5*'Base Numbers'!$C$6)-X300","v":15.2}]
[{"$nulls":3},"smite dice left for non-crits",{"$f":"ROUND(MAX(0,E298-E300*E302),4)","v":0},{"$f":"ROUND(MAX(0,F298-F300*F302),4)","v":0},0,0,0,0,0,0,0,0,0,0,0,0,0,0,0,0,0,0]
[{"$nulls":3},"total smite dice used on crits",{"$f":"E301*E302","v":0},{"$f":"F301*F302","v":0},0,0,0,0,0,0,0,0,0,0,0,0,0,0,0,0,0,0]
[{"$nulls":3},"total crit smite damage per day",{"$f":"9*E306","v":0},{"$f":"9*F306","v":0},0,0,0,0,0,0,0,0,0,0,0,0,0,0,0,0,0,0]
[{"$nulls":3},"total non-crit smite damage per day",{"$f":"4.5*MIN(MIN(E304,E303)*E$7,E305)","v":0},{"$f":"4.5*MIN(MIN(F304,F303)*F$7,F305)","v":0},0,0,0,0,0,0,0,0,0,0,0,0,0,0,0,0,0,0]
[{"$nulls":3},"leftover sorc points + spell levels",{"$f":"IF(E298>0,IF(Sorcadins!E$273>0,(Sorcadins!E$273*E296+E295-E301*E302-E308/4.5)/Sorcadins!E$273,0),E296+E295)","v":0},{"$f":"IF(F298>0,IF(Sorcadins!F$273>0,(Sorcadins!F$273*F296+F295-F301*F302-F308/4.5)/Sorcadins!F$273,0),F296+F295)","v":0},{"$f":"IF(G298>0,IF(Sorcadins!G$273>0,(Sorcadins!G$273*G296+G295-G301*G302-G308/4.5)/Sorcadins!G$273,0),G296+G295)","v":0},{"$f":"IF(H298>0,IF(Sorcadins!H$273>0,(Sorcadins!H$273*H296+H295-H301*H302-H308/4.5)/Sorcadins!H$273,0),H296+H295)","v":0},{"$f":"IF(I298>0,IF(Sorcadins!I$273>0,(Sorcadins!I$273*I296+I295-I301*I302-I308/4.5)/Sorcadins!I$273,0),I296+I295)","v":0},{"$f":"IF(J298>0,IF(Sorcadins!J$273>0,(Sorcadins!J$273*J296+J295-J301*J302-J308/4.5)/Sorcadins!J$273,0),J296+J295)","v":0},{"$f":"IF(K298>0,IF(Sorcadins!K$273>0,(Sorcadins!K$273*K296+K295-K301*K302-K308/4.5)/Sorcadins!K$273,0),K296+K295)","v":0},{"$f":"IF(L298>0,IF(Sorcadins!L$273>0,(Sorcadins!L$273*L296+L295-L301*L302-L308/4.5)/Sorcadins!L$273,0),L296+L295)","v":0},{"$f":"IF(M298>0,IF(Sorcadins!M$273>0,(Sorcadins!M$273*M296+M295-M301*M302-M308/4.5)/Sorcadins!M$273,0),M296+M295)","v":0},{"$f":"IF(N298>0,IF(Sorcadins!N$273>0,(Sorcadins!N$273*N296+N295-N301*N302-N308/4.5)/Sorcadins!N$273,0),N296+N295)","v":0},{"$f":"IF(O298>0,IF(Sorcadins!O$273>0,(Sorcadins!O$273*O296+O295-O301*O302-O308/4.5)/Sorcadins!O$273,0),O296+O295)","v":0},{"$f":"IF(P298>0,IF(Sorcadins!P$273>0,(Sorcadins!P$273*P296+P295-P301*P302-P308/4.5)/Sorcadins!P$273,0),P296+P295)","v":0},{"$f":"IF(Q298>0,IF(Sorcadins!Q$273>0,(Sorcadins!Q$273*Q296+Q295-Q301*Q302-Q308/4.5)/Sorcadins!Q$273,0),Q296+Q295)","v":0},{"$f":"IF(R298>0,IF(Sorcadins!R$273>0,(Sorcadins!R$273*R296+R295-R301*R302-R308/4.5)/Sorcadins!R$273,0),R296+R295)","v":0},{"$f":"IF(S298>0,IF(Sorcadins!S$273>0,(Sorcadins!S$273*S296+S295-S301*S302-S308/4.5)/Sorcadins!S$273,0),S296+S295)","v":0},{"$f":"IF(T298>0,IF(Sorcadins!T$273>0,(Sorcadins!T$273*T296+T295-T301*T302-T308/4.5)/Sorcadins!T$273,0),T296+T295)","v":0},{"$f":"IF(U298>0,IF(Sorcadins!U$273>0,(Sorcadins!U$273*U296+U295-U301*U302-U308/4.5)/Sorcadins!U$273,0),U296+U295)","v":0},{"$f":"IF(V298>0,IF(Sorcadins!V$273>0,(Sorcadins!V$273*V296+V295-V301*V302-V308/4.5)/Sorcadins!V$273,0),V296+V295)","v":0},{"$f":"IF(W298>0,IF(Sorcadins!W$273>0,(Sorcadins!W$273*W296+W295-W301*W302-W308/4.5)/Sorcadins!W$273,0),W296+W295)","v":0},{"$f":"IF(X298>0,IF(Sorcadins!X$273>0,(Sorcadins!X$273*X296+X295-X301*X302-X308/4.5)/Sorcadins!X$273,0),X296+X295)","v":0}]
[{"$nulls":3},"actual smites performed",{"$f":"E301+IF(E$7>0,MIN(E303,E304,E305/E$7),0)","v":0},{"$f":"F301+IF(F$7>0,MIN(F303,F304,F305/F$7),0)","v":0},0,0,0,0,0,0,0,0,0,0,0,0,0,0,0,0,0,0]
[{"$nulls":3},"total daily smite damage: M2, B12, O3",{"$f":"E307+E308","v":0},{"$f":"F307+F308","v":0},0,0,0,0,0,0,0,0,0,0,0,0,0,0,0,0,0,0]
[]
[{"$nulls":3},"SMITES - M2, B13, O1/O2",1,2,3,4,5,6,7,8,9,10,11,12,13,14,15,16,17,18,19,20]
[{"$nulls":3},"remaining sorcery points (based on Damage Scenario)",{"$f":"MAX(0,Sorcadins!E$561-Sorcadins!E$1279)","v":0},{"$f":"MAX(0,Sorcadins!F$561-Sorcadins!F$1279)","v":0},{"$f":"MAX(0,Sorcadins!G$561-Sorcadins!G$1279)","v":0},{"$f":"MAX(0,Sorcadins!H$561-Sorcadins!H$1279)","v":0},{"$f":"MAX(0,Sorcadins!I$561-Sorcadins!I$1279)","v":0},{"$f":"MAX(0,Sorcadins!J$561-Sorcadins!J$1279)","v":0},{"$f":"MAX(0,Sorcadins!K$561-Sorcadins!K$1279)","v":0},{"$f":"MAX(0,Sorcadins!L$561-Sorcadins!L$1279)","v":0},{"$f":"MAX(0,Sorcadins!M$561-Sorcadins!M$1279)","v":0},{"$f":"MAX(0,Sorcadins!N$561-Sorcadins!N$1279)","v":0},{"$f":"MAX(0,Sorcadins!O$561-Sorcadins!O$1279)","v":0},{"$f":"MAX(0,Sorcadins!P$561-Sorcadins!P$1279)","v":0},{"$f":"MAX(0,Sorcadins!Q$561-Sorcadins!Q$1279)","v":0},{"$f":"MAX(0,Sorcadins!R$561-Sorcadins!R$1279)","v":0},{"$f":"MAX(0,Sorcadins!S$561-Sorcadins!S$1279)","v":0},{"$f":"MAX(0,Sorcadins!T$561-Sorcadins!T$1279)","v":0},{"$f":"MAX(0,Sorcadins!U$561-Sorcadins!U$1279)","v":0},{"$f":"MAX(0,Sorcadins!V$561-Sorcadins!V$1279)","v":0},{"$f":"MAX(0,Sorcadins!W$561-Sorcadins!W$1279)","v":0},{"$f":"MAX(0,Sorcadins!X$561-Sorcadins!X$1279)","v":0},null,"*Sorc points directly convertible to Smite Dice"]
[{"$nulls":3},"remaining spell slot levels (based on Damage Scenario)",{"$f":"MAX(0,Sorcadins!E$281-MAX(0,Sorcadins!E$1279-Sorcadins!E$561))","v":0},{"$f":"MAX(0,Sorcadins!F$281-MAX(0,Sorcadins!F$1279-Sorcadins!F$561))","v":0},{"$f":"MAX(0,Sorcadins!G$281-MAX(0,Sorcadins!G$1279-Sorcadins!G$561))","v":0},{"$f":"MAX(0,Sorcadins!H$281-MAX(0,Sorcadins!H$1279-Sorcadins!H$561))","v":0},{"$f":"MAX(0,Sorcadins!I$281-MAX(0,Sorcadins!I$1279-Sorcadins!I$561))","v":0},{"$f":"MAX(0,Sorcadins!J$281-MAX(0,Sorcadins!J$1279-Sorcadins!J$561))","v":0},{"$f":"MAX(0,Sorcadins!K$281-MAX(0,Sorcadins!K$1279-Sorcadins!K$561))","v":0},{"$f":"MAX(0,Sorcadins!L$281-MAX(0,Sorcadins!L$1279-Sorcadins!L$561))","v":0},{"$f":"MAX(0,Sorcadins!M$281-MAX(0,Sorcadins!M$1279-Sorcadins!M$561))","v":0},{"$f":"MAX(0,Sorcadins!N$281-MAX(0,Sorcadins!N$1279-Sorcadins!N$561))","v":0},{"$f":"MAX(0,Sorcadins!O$281-MAX(0,Sorcadins!O$1279-Sorcadins!O$561))","v":0},{"$f":"MAX(0,Sorcadins!P$281-MAX(0,Sorcadins!P$1279-Sorcadins!P$561))","v":0},{"$f":"MAX(0,Sorcadins!Q$281-MAX(0,Sorcadins!Q$1279-Sorcadins!Q$561))","v":0},{"$f":"MAX(0,Sorcadins!R$281-MAX(0,Sorcadins!R$1279-Sorcadins!R$561))","v":0},{"$f":"MAX(0,Sorcadins!S$281-MAX(0,Sorcadins!S$1279-Sorcadins!S$561))","v":0},{"$f":"MAX(0,Sorcadins!T$281-MAX(0,Sorcadins!T$1279-Sorcadins!T$561))","v":0},{"$f":"MAX(0,Sorcadins!U$281-MAX(0,Sorcadins!U$1279-Sorcadins!U$561))","v":0},{"$f":"MAX(0,Sorcadins!V$281-MAX(0,Sorcadins!V$1279-Sorcadins!V$561))","v":0},{"$f":"MAX(0,Sorcadins!W$281-MAX(0,Sorcadins!W$1279-Sorcadins!W$561))","v":0},{"$f":"MAX(0,Sorcadins!X$281-MAX(0,Sorcadins!X$1279-Sorcadins!X$561))","v":0}]
[{"$nulls":3},"total warlock smite levels remaining",{"$f":"MIN(Sorcadins!E$273*E315,Sorcadins!E$264)","v":0},{"$f":"MIN(Sorcadins!F$273*F315,Sorcadins!F$264)","v":0},{"$f":"MIN(Sorcadins!G$273*G315,Sorcadins!G$264)","v":0},{"$f":"MIN(Sorcadins!H$273*H315,Sorcadins!H$264)","v":0},{"$f":"MIN(Sorcadins!I$273*I315,Sorcadins!I$264)","v":0},{"$f":"MIN(Sorcadins!J$273*J315,Sorcadins!J$264)","v":0},{"$f":"MIN(Sorcadins!K$273*K315,Sorcadins!K$264)","v":0},{"$f":"MIN(Sorcadins!L$273*L315,Sorcadins!L$264)","v":0},{"$f":"MIN(Sorcadins!M$273*M315,Sorcadins!M$264)","v":0},{"$f":"MIN(Sorcadins!N$273*N315,Sorcadins!N$264)","v":0},{"$f":"MIN(Sorcadins!O$273*O315,Sorcadins!O$264)","v":0},{"$f":"MIN(Sorcadins!P$273*P315,Sorcadins!P$264)","v":0},{"$f":"MIN(Sorcadins!Q$273*Q315,Sorcadins!Q$264)","v":0},{"$f":"MIN(Sorcadins!R$273*R315,Sorcadins!R$264)","v":0},{"$f":"MIN(Sorcadins!S$273*S315,Sorcadins!S$264)","v":0},{"$f":"MIN(Sorcadins!T$273*T315,Sorcadins!T$264)","v":0},{"$f":"MIN(Sorcadins!U$273*U315,Sorcadins!U$264)","v":0},{"$f":"MIN(Sorcadins!V$273*V315,Sorcadins!V$264)","v":0},{"$f":"MIN(Sorcadins!W$273*W315,Sorcadins!W$264)","v":0},{"$f":"MIN(Sorcadins!X$273*X315,Sorcadins!X$264)","v":0}]
[{"$nulls":3},"total smite levels remaining",{"$f":"IF(E$5>=1,Sorcadins!E$273*E315+E314,IF(E$6,E316,0))","v":0},{"$f":"IF(F$5>=1,Sorcadins!F$273*F315+F314,IF(F$6,F316,0))","v":0},{"$f":"IF(G$5>=1,Sorcadins!G$273*G315+G314,IF(G$6,G316,0))","v":0},{"$f":"IF(H$5>=1,Sorcadins!H$273*H315+H314,IF(H$6,H316,0))","v":0},{"$f":"IF(I$5>=1,Sorcadins!I$273*I315+I314,IF(I$6,I316,0))","v":0},{"$f":"IF(J$5>=1,Sorcadins!J$273*J315+J314,IF(J$6,J316,0))","v":0},{"$f":"IF(K$5>=1,Sorcadins!K$273*K315+K314,IF(K$6,K316,0))","v":0},{"$f":"IF(L$5>=1,Sorcadins!L$273*L315+L314,IF(L$6,L316,0))","v":0},{"$f":"IF(M$5>=1,Sorcadins!M$273*M315+M314,IF(M$6,M316,0))","v":0},{"$f":"IF(N$5>=1,Sorcadins!N$273*N315+N314,IF(N$6,N316,0))","v":0},{"$f":"IF(O$5>=1,Sorcadins!O$273*O315+O314,IF(O$6,O316,0))","v":0},{"$f":"IF(P$5>=1,Sorcadins!P$273*P315+P314,IF(P$6,P316,0))","v":0},{"$f":"IF(Q$5>=1,Sorcadins!Q$273*Q315+Q314,IF(Q$6,Q316,0))","v":0},{"$f":"IF(R$5>=1,Sorcadins!R$273*R315+R314,IF(R$6,R316,0))","v":0},{"$f":"IF(S$5>=1,Sorcadins!S$273*S315+S314,IF(S$6,S316,0))","v":0},{"$f":"IF(T$5>=1,Sorcadins!T$273*T315+T314,IF(T$6,T316,0))","v":0},{"$f":"IF(U$5>=1,Sorcadins!U$273*U315+U314,IF(U$6,U316,0))","v":0},{"$f":"IF(V$5>=1,Sorcadins!V$273*V315+V314,IF(V$6,V316,0))","v":0},{"$f":"IF(W$5>=1,Sorcadins!W$273*W315+W314,IF(W$6,W316,0))","v":0},{"$f":"IF(X$5>=1,Sorcadins!X$273*X315+X314,IF(X$6,X316,0))","v":0}]
[{"$nulls":3},"max number of daily smites (after spells)",{"$f":"IF(E$6,Sorcadins!E$1157,IF(E$5,Sorcadins!E$282+E314/2,0))","v":0},{"$f":"IF(F$6,Sorcadins!F$1157,IF(F$5,Sorcadins!F$282+F314/2,0))","v":0},{"$f":"IF(G$6,Sorcadins!G$1157,IF(G$5,Sorcadins!G$282+G314/2,0))","v":0},{"$f":"IF(H$6,Sorcadins!H$1157,IF(H$5,Sorcadins!H$282+H314/2,0))","v":0},{"$f":"IF(I$6,Sorcadins!I$1157,IF(I$5,Sorcadins!I$282+I314/2,0))","v":0},{"$f":"IF(J$6,Sorcadins!J$1157,IF(J$5,Sorcadins!J$282+J314/2,0))","v":0},{"$f":"IF(K$6,Sorcadins!K$1157,IF(K$5,Sorcadins!K$282+K314/2,0))","v":0},{"$f":"IF(L$6,Sorcadins!L$1157,IF(L$5,Sorcadins!L$282+L314/2,0))","v":0},{"$f":"IF(M$6,Sorcadins!M$1157,IF(M$5,Sorcadins!M$282+M314/2,0))","v":0},{"$f":"IF(N$6,Sorcadins!N$1157,IF(N$5,Sorcadins!N$282+N314/2,0))","v":0},{"$f":"IF(O$6,Sorcadins!O$1157,IF(O$5,Sorcadins!O$282+O314/2,0))","v":0},{"$f":"IF(P$6,Sorcadins!P$1157,IF(P$5,Sorcadins!P$282+P314/2,0))","v":0},{"$f":"IF(Q$6,Sorcadins!Q$1157,IF(Q$5,Sorcadins!Q$282+Q314/2,0))","v":0},{"$f":"IF(R$6,Sorcadins!R$1157,IF(R$5,Sorcadins!R$282+R314/2,0))","v":0},{"$f":"IF(S$6,Sorcadins!S$1157,IF(S$5,Sorcadins!S$282+S314/2,0))","v":0},{"$f":"IF(T$6,Sorcadins!T$1157,IF(T$5,Sorcadins!T$282+T314/2,0))","v":0},{"$f":"IF(U$6,Sorcadins!U$1157,IF(U$5,Sorcadins!U$282+U314/2,0))","v":0},{"$f":"IF(V$6,Sorcadins!V$1157,IF(V$5,Sorcadins!V$282+V314/2,0))","v":0},{"$f":"IF(W$6,Sorcadins!W$1157,IF(W$5,Sorcadins!W$282+W314/2,0))","v":0},{"$f":"IF(X$6,Sorcadins!X$1157,IF(X$5,Sorcadins!X$282+X314/2,0))","v":0}]
[{"$nulls":3},"avg crits per day for smite purposes (based on Damage Scenario)",{"$f":"'Base Numbers'!$C$5*'Base Numbers'!$C$6*Sorcadins!E$1324","v":1},{"$f":"'Base Numbers'!$C$5*'Base Numbers'!$C$6*Sorcadins!F$1324","v":1},{"$f":"'Base Numbers'!$C$5*'Base Numbers'!$C$6*Sorcadins!G$1324","v":1},{"$f":"'Base Numbers'!$C$5*'Base Numbers'!$C$6*Sorcadins!H$1324","v":1},{"$f":"'Base Numbers'!$C$5*'Base Numbers'!$C$6*Sorcadins!I$1324","v":1},{"$f":"'Base Numbers'!$C$5*'Base Numbers'!$C$6*Sorcadins!J$1324","v":1},{"$f":"'Base Numbers'!$C$5*'Base Numbers'!$C$6*Sorcadins!K$1324","v":1},{"$f":"'Base Numbers'!$C$5*'Base Numbers'!$C$6*Sorcadins!L$1324","v":1},{"$f":"'Base Numbers'!$C$5*'Base Numbers'!$C$6*Sorcadins!M$1324","v":1},{"$f":"'Base Numbers'!$C$5*'Base Numbers'!$C$6*Sorcadins!N$1324","v":1},{"$f":"'Base Numbers'!$C$5*'Base Numbers'!$C$6*Sorcadins!O$1324","v":1},{"$f":"'Base Numbers'!$C$5*'Base Numbers'!$C$6*Sorcadins!P$1324","v":1},{"$f":"'Base Numbers'!$C$5*'Base Numbers'!$C$6*Sorcadins!Q$1324","v":1},{"$f":"'Base Numbers'!$C$5*'Base Numbers'!$C$6*Sorcadins!R$1324","v":1},{"$f":"'Base Numbers'!$C$5*'Base Numbers'!$C$6*Sorcadins!S$1324","v":1},{"$f":"'Base Numbers'!$C$5*'Base Numbers'!$C$6*Sorcadins!T$1324","v":1},{"$f":"'Base Numbers'!$C$5*'Base Numbers'!$C$6*Sorcadins!U$1324","v":1},{"$f":"'Base Numbers'!$C$5*'Base Numbers'!$C$6*Sorcadins!V$1324","v":1},{"$f":"'Base Numbers'!$C$5*'Base Numbers'!$C$6*Sorcadins!W$1324","v":1},{"$f":"'Base Numbers'!$C$5*'Base Numbers'!$C$6*Sorcadins!X$1324","v":1}]
[{"$nulls":3},"number of smites used on crits",{"$f":"MIN(E318,E319)","v":0},{"$f":"MIN(F318,F319)","v":0},0,0,0,0,0,0,0,0,0,0,0,0,0,0,0,0,0,0]
[{"$nulls":3},"avg smite dice per crit ",{"$f":"IF(E320>0,MIN(E$7,(E317/MIN(E320,E319))),0)","v":0},0,0,0,0,0,0,0,0,0,0,0,0,0,0,0,0,0,0,0]
[{"$nulls":3},"smites left for non-crits",{"$f":"E318-E320","v":0},{"$f":"F318-F320","v":0},0,0,0,0,0,0,0,0,0,0,0,0,0,0,0,0,0,0]
[{"$nulls":3},"total non-crit smite-qualifying attacks available",{"$f":"Sorcadins!E$1299*('Base Numbers'!$C$5*'Base Numbers'!$C$6)-E319","v":19},{"$f":"Sorcadins!F$1299*('Base Numbers'!$C$5*'Base Numbers'!$C$6)-F319","v":19},{"$f":"Sorcadins!G$1299*('Base Numbers'!$C$5*'Base Numbers'!$C$6)-G319","v":19},{"$f":"Sorcadins!H$1299*('Base Numbers'!$C$5*'Base Numbers'!$C$6)-H319","v":19},{"$f":"Sorcadins!I$1299*('Base Numbers'!$C$5*'Base Numbers'!$C$6)-I319","v":19},{"$f":"Sorcadins!J$1299*('Base Numbers'!$C$5*'Base Numbers'!$C$6)-J319","v":19},{"$f":"Sorcadins!K$1299*('Base Numbers'!$C$5*'Base Numbers'!$C$6)-K319","v":19},{"$f":"Sorcadins!L$1299*('Base Numbers'!$C$5*'Base Numbers'!$C$6)-L319","v":19},{"$f":"Sorcadins!M$1299*('Base Numbers'!$C$5*'Base Numbers'!$C$6)-M319","v":19},{"$f":"Sorcadins!N$1299*('Base Numbers'!$C$5*'Base Numbers'!$C$6)-N319","v":19},{"$f":"Sorcadins!O$1299*('Base Numbers'!$C$5*'Base Numbers'!$C$6)-O319","v":19},{"$f":"Sorcadins!P$1299*('Base Numbers'!$C$5*'Base Numbers'!$C$6)-P319","v":19},{"$f":"Sorcadins!Q$1299*('Base Numbers'!$C$5*'Base Numbers'!$C$6)-Q319","v":19},{"$f":"Sorcadins!R$1299*('Base Numbers'!$C$5*'Base Numbers'!$C$6)-R319","v":19},{"$f":"Sorcadins!S$1299*('Base Numbers'!$C$5*'Base Numbers'!$C$6)-S319","v":19},{"$f":"Sorcadins!T$1299*('Base Numbers'!$C$5*'Base Numbers'!$C$6)-T319","v":19},{"$f":"Sorcadins!U$1299*('Base Numbers'!$C$5*'Base Numbers'!$C$6)-U319","v":19},{"$f":"Sorcadins!V$1299*('Base Numbers'!$C$5*'Base Numbers'!$C$6)-V319","v":19},{"$f":"Sorcadins!W$1299*('Base Numbers'!$C$5*'Base Numbers'!$C$6)-W319","v":19},{"$f":"Sorcadins!X$1299*('Base Numbers'!$C$5*'Base Numbers'!$C$6)-X319","v":19}]
[{"$nulls":3},"smite dice left for non-crits",{"$f":"ROUND(MAX(0,E317-E319*E321),4)","v":0},{"$f":"ROUND(MAX(0,F317-F319*F321),4)","v":0},0,0,0,0,0,0,0,0,0,0,0,0,0,0,0,0,0,0]
[{"$nulls":3},"total smite dice used on crits",{"$f":"E320*E321","v":0},{"$f":"F320*F321","v":0},0,0,0,0,0,0,0,0,0,0,0,0,0,0,0,0,0,0]
[{"$nulls":3},"total crit smite damage per day",{"$f":"9*E325","v":0},{"$f":"9*F325","v":0},0,0,0,0,0,0,0,0,0,0,0,0,0,0,0,0,0,0]
[{"$nulls":3},"total non-crit smite damage per day",{"$f":"4.5*MIN(MIN(E323,E322)*E$7,E324)","v":0},{"$f":"4.5*MIN(MIN(F323,F322)*F$7,F324)","v":0},0,0,0,0,0,0,0,0,0,0,0,0,0,0,0,0,0,0]
[{"$nulls":3},"leftover sorc points + spell levels",{"$f":"IF(E317>0,IF(Sorcadins!E$273>0,(Sorcadins!E$273*E315+E314-E320*E321-E327/4.5)/Sorcadins!E$273,0),E315+E314)","v":0},{"$f":"IF(F317>0,IF(Sorcadins!F$273>0,(Sorcadins!F$273*F315+F314-F320*F321-F327/4.5)/Sorcadins!F$273,0),F315+F314)","v":0},{"$f":"IF(G317>0,IF(Sorcadins!G$273>0,(Sorcadins!G$273*G315+G314-G320*G321-G327/4.5)/Sorcadins!G$273,0),G315+G314)","v":0},{"$f":"IF(H317>0,IF(Sorcadins!H$273>0,(Sorcadins!H$273*H315+H314-H320*H321-H327/4.5)/Sorcadins!H$273,0),H315+H314)","v":0},{"$f":"IF(I317>0,IF(Sorcadins!I$273>0,(Sorcadins!I$273*I315+I314-I320*I321-I327/4.5)/Sorcadins!I$273,0),I315+I314)","v":0},{"$f":"IF(J317>0,IF(Sorcadins!J$273>0,(Sorcadins!J$273*J315+J314-J320*J321-J327/4.5)/Sorcadins!J$273,0),J315+J314)","v":0},{"$f":"IF(K317>0,IF(Sorcadins!K$273>0,(Sorcadins!K$273*K315+K314-K320*K321-K327/4.5)/Sorcadins!K$273,0),K315+K314)","v":0},{"$f":"IF(L317>0,IF(Sorcadins!L$273>0,(Sorcadins!L$273*L315+L314-L320*L321-L327/4.5)/Sorcadins!L$273,0),L315+L314)","v":0},{"$f":"IF(M317>0,IF(Sorcadins!M$273>0,(Sorcadins!M$273*M315+M314-M320*M321-M327/4.5)/Sorcadins!M$273,0),M315+M314)","v":0},{"$f":"IF(N317>0,IF(Sorcadins!N$273>0,(Sorcadins!N$273*N315+N314-N320*N321-N327/4.5)/Sorcadins!N$273,0),N315+N314)","v":0},{"$f":"IF(O317>0,IF(Sorcadins!O$273>0,(Sorcadins!O$273*O315+O314-O320*O321-O327/4.5)/Sorcadins!O$273,0),O315+O314)","v":0},{"$f":"IF(P317>0,IF(Sorcadins!P$273>0,(Sorcadins!P$273*P315+P314-P320*P321-P327/4.5)/Sorcadins!P$273,0),P315+P314)","v":0},{"$f":"IF(Q317>0,IF(Sorcadins!Q$273>0,(Sorcadins!Q$273*Q315+Q314-Q320*Q321-Q327/4.5)/Sorcadins!Q$273,0),Q315+Q314)","v":0},{"$f":"IF(R317>0,IF(Sorcadins!R$273>0,(Sorcadins!R$273*R315+R314-R320*R321-R327/4.5)/Sorcadins!R$273,0),R315+R314)","v":0},{"$f":"IF(S317>0,IF(Sorcadins!S$273>0,(Sorcadins!S$273*S315+S314-S320*S321-S327/4.5)/Sorcadins!S$273,0),S315+S314)","v":0},{"$f":"IF(T317>0,IF(Sorcadins!T$273>0,(Sorcadins!T$273*T315+T314-T320*T321-T327/4.5)/Sorcadins!T$273,0),T315+T314)","v":0},{"$f":"IF(U317>0,IF(Sorcadins!U$273>0,(Sorcadins!U$273*U315+U314-U320*U321-U327/4.5)/Sorcadins!U$273,0),U315+U314)","v":0},{"$f":"IF(V317>0,IF(Sorcadins!V$273>0,(Sorcadins!V$273*V315+V314-V320*V321-V327/4.5)/Sorcadins!V$273,0),V315+V314)","v":0},{"$f":"IF(W317>0,IF(Sorcadins!W$273>0,(Sorcadins!W$273*W315+W314-W320*W321-W327/4.5)/Sorcadins!W$273,0),W315+W314)","v":0},{"$f":"IF(X317>0,IF(Sorcadins!X$273>0,(Sorcadins!X$273*X315+X314-X320*X321-X327/4.5)/Sorcadins!X$273,0),X315+X314)","v":0}]
[{"$nulls":3},"actual smites performed",{"$f":"E320+IF(E$7>0,MIN(E322,E323,E324/E$7),0)","v":0},{"$f":"F320+IF(F$7>0,MIN(F322,F323,F324/F$7),0)","v":0},0,0,0,0,0,0,0,0,0,0,0,0,0,0,0,0,0,0]
[{"$nulls":3},"total daily smite damage: M2, B13, O1/O2",{"$f":"E326+E327","v":0},{"$f":"F326+F327","v":0},0,0,0,0,0,0,0,0,0,0,0,0,0,0,0,0,0,0]
[]
[{"$nulls":3},"SMITES - M2, B13, O3",1,2,3,4,5,6,7,8,9,10,11,12,13,14,15,16,17,18,19,20]
[{"$nulls":3},"remaining sorcery points (based on Damage Scenario)",{"$f":"MAX(0,Sorcadins!E$561-Sorcadins!E$1279)","v":0},{"$f":"MAX(0,Sorcadins!F$561-Sorcadins!F$1279)","v":0},{"$f":"MAX(0,Sorcadins!G$561-Sorcadins!G$1279)","v":0},{"$f":"MAX(0,Sorcadins!H$561-Sorcadins!H$1279)","v":0},{"$f":"MAX(0,Sorcadins!I$561-Sorcadins!I$1279)","v":0},{"$f":"MAX(0,Sorcadins!J$561-Sorcadins!J$1279)","v":0},{"$f":"MAX(0,Sorcadins!K$561-Sorcadins!K$1279)","v":0},{"$f":"MAX(0,Sorcadins!L$561-Sorcadins!L$1279)","v":0},{"$f":"MAX(0,Sorcadins!M$561-Sorcadins!M$1279)","v":0},{"$f":"MAX(0,Sorcadins!N$561-Sorcadins!N$1279)","v":0},{"$f":"MAX(0,Sorcadins!O$561-Sorcadins!O$1279)","v":0},{"$f":"MAX(0,Sorcadins!P$561-Sorcadins!P$1279)","v":0},{"$f":"MAX(0,Sorcadins!Q$561-Sorcadins!Q$1279)","v":0},{"$f":"MAX(0,Sorcadins!R$561-Sorcadins!R$1279)","v":0},{"$f":"MAX(0,Sorcadins!S$561-Sorcadins!S$1279)","v":0},{"$f":"MAX(0,Sorcadins!T$561-Sorcadins!T$1279)","v":0},{"$f":"MAX(0,Sorcadins!U$561-Sorcadins!U$1279)","v":0},{"$f":"MAX(0,Sorcadins!V$561-Sorcadins!V$1279)","v":0},{"$f":"MAX(0,Sorcadins!W$561-Sorcadins!W$1279)","v":0},{"$f":"MAX(0,Sorcadins!X$561-Sorcadins!X$1279)","v":0},null,"*Sorc points directly convertible to Smite Dice"]
[{"$nulls":3},"remaining spell slot levels (based on Damage Scenario)",{"$f":"MAX(0,Sorcadins!E$281-MAX(0,Sorcadins!E$1279-Sorcadins!E$561))","v":0},{"$f":"MAX(0,Sorcadins!F$281-MAX(0,Sorcadins!F$1279-Sorcadins!F$561))","v":0},{"$f":"MAX(0,Sorcadins!G$281-MAX(0,Sorcadins!G$1279-Sorcadins!G$561))","v":0},{"$f":"MAX(0,Sorcadins!H$281-MAX(0,Sorcadins!H$1279-Sorcadins!H$561))","v":0},{"$f":"MAX(0,Sorcadins!I$281-MAX(0,Sorcadins!I$1279-Sorcadins!I$561))","v":0},{"$f":"MAX(0,Sorcadins!J$281-MAX(0,Sorcadins!J$1279-Sorcadins!J$561))","v":0},{"$f":"MAX(0,Sorcadins!K$281-MAX(0,Sorcadins!K$1279-Sorcadins!K$561))","v":0},{"$f":"MAX(0,Sorcadins!L$281-MAX(0,Sorcadins!L$1279-Sorcadins!L$561))","v":0},{"$f":"MAX(0,Sorcadins!M$281-MAX(0,Sorcadins!M$1279-Sorcadins!M$561))","v":0},{"$f":"MAX(0,Sorcadins!N$281-MAX(0,Sorcadins!N$1279-Sorcadins!N$561))","v":0},{"$f":"MAX(0,Sorcadins!O$281-MAX(0,Sorcadins!O$1279-Sorcadins!O$561))","v":0},{"$f":"MAX(0,Sorcadins!P$281-MAX(0,Sorcadins!P$1279-Sorcadins!P$561))","v":0},{"$f":"MAX(0,Sorcadins!Q$281-MAX(0,Sorcadins!Q$1279-Sorcadins!Q$561))","v":0},{"$f":"MAX(0,Sorcadins!R$281-MAX(0,Sorcadins!R$1279-Sorcadins!R$561))","v":0},{"$f":"MAX(0,Sorcadins!S$281-MAX(0,Sorcadins!S$1279-Sorcadins!S$561))","v":0},{"$f":"MAX(0,Sorcadins!T$281-MAX(0,Sorcadins!T$1279-Sorcadins!T$561))","v":0},{"$f":"MAX(0,Sorcadins!U$281-MAX(0,Sorcadins!U$1279-Sorcadins!U$561))","v":0},{"$f":"MAX(0,Sorcadins!V$281-MAX(0,Sorcadins!V$1279-Sorcadins!V$561))","v":0},{"$f":"MAX(0,Sorcadins!W$281-MAX(0,Sorcadins!W$1279-Sorcadins!W$561))","v":0},{"$f":"MAX(0,Sorcadins!X$281-MAX(0,Sorcadins!X$1279-Sorcadins!X$561))","v":0}]
[{"$nulls":3},"total warlock smite levels remaining",{"$f":"MIN(Sorcadins!E$273*E334,Sorcadins!E$264)","v":0},{"$f":"MIN(Sorcadins!F$273*F334,Sorcadins!F$264)","v":0},{"$f":"MIN(Sorcadins!G$273*G334,Sorcadins!G$264)","v":0},{"$f":"MIN(Sorcadins!H$273*H334,Sorcadins!H$264)","v":0},{"$f":"MIN(Sorcadins!I$273*I334,Sorcadins!I$264)","v":0},{"$f":"MIN(Sorcadins!J$273*J334,Sorcadins!J$264)","v":0},{"$f":"MIN(Sorcadins!K$273*K334,Sorcadins!K$264)","v":0},{"$f":"MIN(Sorcadins!L$273*L334,Sorcadins!L$264)","v":0},{"$f":"MIN(Sorcadins!M$273*M334,Sorcadins!M$264)","v":0},{"$f":"MIN(Sorcadins!N$273*N334,Sorcadins!N$264)","v":0},{"$f":"MIN(Sorcadins!O$273*O334,Sorcadins!O$264)","v":0},{"$f":"MIN(Sorcadins!P$273*P334,Sorcadins!P$264)","v":0},{"$f":"MIN(Sorcadins!Q$273*Q334,Sorcadins!Q$264)","v":0},{"$f":"MIN(Sorcadins!R$273*R334,Sorcadins!R$264)","v":0},{"$f":"MIN(Sorcadins!S$273*S334,Sorcadins!S$264)","v":0},{"$f":"MIN(Sorcadins!T$273*T334,Sorcadins!T$264)","v":0},{"$f":"MIN(Sorcadins!U$273*U334,Sorcadins!U$264)","v":0},{"$f":"MIN(Sorcadins!V$273*V334,Sorcadins!V$264)","v":0},{"$f":"MIN(Sorcadins!W$273*W334,Sorcadins!W$264)","v":0},{"$f":"MIN(Sorcadins!X$273*X334,Sorcadins!X$264)","v":0}]
[{"$nulls":3},"total smite levels remaining",{"$f":"IF(E$5>=1,Sorcadins!E$273*E334+E333,IF(E$6,E335,0))","v":0},{"$f":"IF(F$5>=1,Sorcadins!F$273*F334+F333,IF(F$6,F335,0))","v":0},{"$f":"IF(G$5>=1,Sorcadins!G$273*G334+G333,IF(G$6,G335,0))","v":0},{"$f":"IF(H$5>=1,Sorcadins!H$273*H334+H333,IF(H$6,H335,0))","v":0},{"$f":"IF(I$5>=1,Sorcadins!I$273*I334+I333,IF(I$6,I335,0))","v":0},{"$f":"IF(J$5>=1,Sorcadins!J$273*J334+J333,IF(J$6,J335,0))","v":0},{"$f":"IF(K$5>=1,Sorcadins!K$273*K334+K333,IF(K$6,K335,0))","v":0},{"$f":"IF(L$5>=1,Sorcadins!L$273*L334+L333,IF(L$6,L335,0))","v":0},{"$f":"IF(M$5>=1,Sorcadins!M$273*M334+M333,IF(M$6,M335,0))","v":0},{"$f":"IF(N$5>=1,Sorcadins!N$273*N334+N333,IF(N$6,N335,0))","v":0},{"$f":"IF(O$5>=1,Sorcadins!O$273*O334+O333,IF(O$6,O335,0))","v":0},{"$f":"IF(P$5>=1,Sorcadins!P$273*P334+P333,IF(P$6,P335,0))","v":0},{"$f":"IF(Q$5>=1,Sorcadins!Q$273*Q334+Q333,IF(Q$6,Q335,0))","v":0},{"$f":"IF(R$5>=1,Sorcadins!R$273*R334+R333,IF(R$6,R335,0))","v":0},{"$f":"IF(S$5>=1,Sorcadins!S$273*S334+S333,IF(S$6,S335,0))","v":0},{"$f":"IF(T$5>=1,Sorcadins!T$273*T334+T333,IF(T$6,T335,0))","v":0},{"$f":"IF(U$5>=1,Sorcadins!U$273*U334+U333,IF(U$6,U335,0))","v":0},{"$f":"IF(V$5>=1,Sorcadins!V$273*V334+V333,IF(V$6,V335,0))","v":0},{"$f":"IF(W$5>=1,Sorcadins!W$273*W334+W333,IF(W$6,W335,0))","v":0},{"$f":"IF(X$5>=1,Sorcadins!X$273*X334+X333,IF(X$6,X335,0))","v":0}]
[{"$nulls":3},"max number of daily smites (after spells)",{"$f":"IF(E$6,Sorcadins!E$1157,IF(E$5,Sorcadins!E$282+E333/2,0))","v":0},{"$f":"IF(F$6,Sorcadins!F$1157,IF(F$5,Sorcadins!F$282+F333/2,0))","v":0},{"$f":"IF(G$6,Sorcadins!G$1157,IF(G$5,Sorcadins!G$282+G333/2,0))","v":0},{"$f":"IF(H$6,Sorcadins!H$1157,IF(H$5,Sorcadins!H$282+H333/2,0))","v":0},{"$f":"IF(I$6,Sorcadins!I$1157,IF(I$5,Sorcadins!I$282+I333/2,0))","v":0},{"$f":"IF(J$6,Sorcadins!J$1157,IF(J$5,Sorcadins!J$282+J333/2,0))","v":0},{"$f":"IF(K$6,Sorcadins!K$1157,IF(K$5,Sorcadins!K$282+K333/2,0))","v":0},{"$f":"IF(L$6,Sorcadins!L$1157,IF(L$5,Sorcadins!L$282+L333/2,0))","v":0},{"$f":"IF(M$6,Sorcadins!M$1157,IF(M$5,Sorcadins!M$282+M333/2,0))","v":0},{"$f":"IF(N$6,Sorcadins!N$1157,IF(N$5,Sorcadins!N$282+N333/2,0))","v":0},{"$f":"IF(O$6,Sorcadins!O$1157,IF(O$5,Sorcadins!O$282+O333/2,0))","v":0},{"$f":"IF(P$6,Sorcadins!P$1157,IF(P$5,Sorcadins!P$282+P333/2,0))","v":0},{"$f":"IF(Q$6,Sorcadins!Q$1157,IF(Q$5,Sorcadins!Q$282+Q333/2,0))","v":0},{"$f":"IF(R$6,Sorcadins!R$1157,IF(R$5,Sorcadins!R$282+R333/2,0))","v":0},{"$f":"IF(S$6,Sorcadins!S$1157,IF(S$5,Sorcadins!S$282+S333/2,0))","v":0},{"$f":"IF(T$6,Sorcadins!T$1157,IF(T$5,Sorcadins!T$282+T333/2,0))","v":0},{"$f":"IF(U$6,Sorcadins!U$1157,IF(U$5,Sorcadins!U$282+U333/2,0))","v":0},{"$f":"IF(V$6,Sorcadins!V$1157,IF(V$5,Sorcadins!V$282+V333/2,0))","v":0},{"$f":"IF(W$6,Sorcadins!W$1157,IF(W$5,Sorcadins!W$282+W333/2,0))","v":0},{"$f":"IF(X$6,Sorcadins!X$1157,IF(X$5,Sorcadins!X$282+X333/2,0))","v":0}]
[{"$nulls":3},"avg crits per day for smite purposes (based on Damage Scenario)",{"$f":"'Base Numbers'!$C$5*'Base Numbers'!$C$6*Sorcadins!E$1325","v":0.8},{"$f":"'Base Numbers'!$C$5*'Base Numbers'!$C$6*Sorcadins!F$1325","v":0.8},{"$f":"'Base Numbers'!$C$5*'Base Numbers'!$C$6*Sorcadins!G$1325","v":0.8},{"$f":"'Base Numbers'!$C$5*'Base Numbers'!$C$6*Sorcadins!H$1325","v":0.8},{"$f":"'Base Numbers'!$C$5*'Base Numbers'!$C$6*Sorcadins!I$1325","v":0.8},{"$f":"'Base Numbers'!$C$5*'Base Numbers'!$C$6*Sorcadins!J$1325","v":0.8},{"$f":"'Base Numbers'!$C$5*'Base Numbers'!$C$6*Sorcadins!K$1325","v":0.8},{"$f":"'Base Numbers'!$C$5*'Base Numbers'!$C$6*Sorcadins!L$1325","v":0.8},{"$f":"'Base Numbers'!$C$5*'Base Numbers'!$C$6*Sorcadins!M$1325","v":0.8},{"$f":"'Base Numbers'!$C$5*'Base Numbers'!$C$6*Sorcadins!N$1325","v":0.8},{"$f":"'Base Numbers'!$C$5*'Base Numbers'!$C$6*Sorcadins!O$1325","v":0.8},{"$f":"'Base Numbers'!$C$5*'Base Numbers'!$C$6*Sorcadins!P$1325","v":0.8},{"$f":"'Base Numbers'!$C$5*'Base Numbers'!$C$6*Sorcadins!Q$1325","v":0.8},{"$f":"'Base Numbers'!$C$5*'Base Numbers'!$C$6*Sorcadins!R$1325","v":0.8},{"$f":"'Base Numbers'!$C$5*'Base Numbers'!$C$6*Sorcadins!S$1325","v":0.8},{"$f":"'Base Numbers'!$C$5*'Base Numbers'!$C$6*Sorcadins!T$1325","v":0.8},{"$f":"'Base Numbers'!$C$5*'Base Numbers'!$C$6*Sorcadins!U$1325","v":0.8},{"$f":"'Base Numbers'!$C$5*'Base Numbers'!$C$6*Sorcadins!V$1325","v":0.8},{"$f":"'Base Numbers'!$C$5*'Base Numbers'!$C$6*Sorcadins!W$1325","v":0.8},{"$f":"'Base Numbers'!$C$5*'Base Numbers'!$C$6*Sorcadins!X$1325","v":0.8}]
[{"$nulls":3},"number of smites used on crits",{"$f":"MIN(E337,E338)","v":0},{"$f":"MIN(F337,F338)","v":0},0,0,0,0,0,0,0,0,0,0,0,0,0,0,0,0,0,0]
[{"$nulls":3},"avg smite dice per crit ",{"$f":"IF(E339>0,MIN(E$7,(E336/MIN(E339,E338))),0)","v":0},0,0,0,0,0,0,0,0,0,0,0,0,0,0,0,0,0,0,0,{"$nulls":3},{"$f":"(15-1)*17","v":238}]
[{"$nulls":3},"smites left for non-crits",{"$f":"E337-E339","v":0},{"$f":"F337-F339","v":0},0,0,0,0,0,0,0,0,0,0,0,0,0,0,0,0,0,0,{"$nulls":3},12]
[{"$nulls":3},"total non-crit smite-qualifying attacks available",{"$f":"Sorcadins!E$1300*('Base Numbers'!$C$5*'Base Numbers'!$C$6)-E338","v":15.2},{"$f":"Sorcadins!F$1300*('Base Numbers'!$C$5*'Base Numbers'!$C$6)-F338","v":15.2},{"$f":"Sorcadins!G$1300*('Base Numbers'!$C$5*'Base Numbers'!$C$6)-G338","v":15.2},{"$f":"Sorcadins!H$1300*('Base Numbers'!$C$5*'Base Numbers'!$C$6)-H338","v":15.2},{"$f":"Sorcadins!I$1300*('Base Numbers'!$C$5*'Base Numbers'!$C$6)-I338","v":15.2},{"$f":"Sorcadins!J$1300*('Base Numbers'!$C$5*'Base Numbers'!$C$6)-J338","v":15.2},{"$f":"Sorcadins!K$1300*('Base Numbers'!$C$5*'Base Numbers'!$C$6)-K338","v":15.2},{"$f":"Sorcadins!L$1300*('Base Numbers'!$C$5*'Base Numbers'!$C$6)-L338","v":15.2},{"$f":"Sorcadins!M$1300*('Base Numbers'!$C$5*'Base Numbers'!$C$6)-M338","v":15.2},{"$f":"Sorcadins!N$1300*('Base Numbers'!$C$5*'Base Numbers'!$C$6)-N338","v":15.2},{"$f":"Sorcadins!O$1300*('Base Numbers'!$C$5*'Base Numbers'!$C$6)-O338","v":15.2},{"$f":"Sorcadins!P$1300*('Base Numbers'!$C$5*'Base Numbers'!$C$6)-P338","v":15.2},{"$f":"Sorcadins!Q$1300*('Base Numbers'!$C$5*'Base Numbers'!$C$6)-Q338","v":15.2},{"$f":"Sorcadins!R$1300*('Base Numbers'!$C$5*'Base Numbers'!$C$6)-R338","v":15.2},{"$f":"Sorcadins!S$1300*('Base Numbers'!$C$5*'Base Numbers'!$C$6)-S338","v":15.2},{"$f":"Sorcadins!T$1300*('Base Numbers'!$C$5*'Base Numbers'!$C$6)-T338","v":15.2},{"$f":"Sorcadins!U$1300*('Base Numbers'!$C$5*'Base Numbers'!$C$6)-U338","v":15.2},{"$f":"Sorcadins!V$1300*('Base Numbers'!$C$5*'Base Numbers'!$C$6)-V338","v":15.2},{"$f":"Sorcadins!W$1300*('Base Numbers'!$C$5*'Base Numbers'!$C$6)-W338","v":15.2},{"$f":"Sorcadins!X$1300*('Base Numbers'!$C$5*'Base Numbers'!$C$6)-X338","v":15.2},{"$nulls":3},{"$f":"AB340+AB341","v":250}]
[{"$nulls":3},"smite dice left for non-crits",{"$f":"ROUND(MAX(0,E336-E338*E340),4)","v":0},{"$f":"ROUND(MAX(0,F336-F338*F340),4)","v":0},0,0,0,0,0,0,0,0,0,0,0,0,0,0,0,0,0,0]
[{"$nulls":3},"total smite dice used on crits",{"$f":"E339*E340","v":0},{"$f":"F339*F340","v":0},0,0,0,0,0,0,0,0,0,0,0,0,0,0,0,0,0,0]
[{"$nulls":3},"total crit smite damage per day",{"$f":"9*E344","v":0},{"$f":"9*F344","v":0},0,0,0,0,0,0,0,0,0,0,0,0,0,0,0,0,0,0]
[{"$nulls":3},"total non-crit smite damage per day",{"$f":"4.5*MIN(MIN(E342,E341)*E$7,E343)","v":0},{"$f":"4.5*MIN(MIN(F342,F341)*F$7,F343)","v":0},0,0,0,0,0,0,0,0,0,0,0,0,0,0,0,0,0,0]
[{"$nulls":3},"leftover sorc points + spell levels",{"$f":"IF(E336>0,IF(Sorcadins!E$273>0,(Sorcadins!E$273*E334+E333-E339*E340-E346/4.5)/Sorcadins!E$273,0),E334+E333)","v":0},{"$f":"IF(F336>0,IF(Sorcadins!F$273>0,(Sorcadins!F$273*F334+F333-F339*F340-F346/4.5)/Sorcadins!F$273,0),F334+F333)","v":0},{"$f":"IF(G336>0,IF(Sorcadins!G$273>0,(Sorcadins!G$273*G334+G333-G339*G340-G346/4.5)/Sorcadins!G$273,0),G334+G333)","v":0},{"$f":"IF(H336>0,IF(Sorcadins!H$273>0,(Sorcadins!H$273*H334+H333-H339*H340-H346/4.5)/Sorcadins!H$273,0),H334+H333)","v":0},{"$f":"IF(I336>0,IF(Sorcadins!I$273>0,(Sorcadins!I$273*I334+I333-I339*I340-I346/4.5)/Sorcadins!I$273,0),I334+I333)","v":0},{"$f":"IF(J336>0,IF(Sorcadins!J$273>0,(Sorcadins!J$273*J334+J333-J339*J340-J346/4.5)/Sorcadins!J$273,0),J334+J333)","v":0},{"$f":"IF(K336>0,IF(Sorcadins!K$273>0,(Sorcadins!K$273*K334+K333-K339*K340-K346/4.5)/Sorcadins!K$273,0),K334+K333)","v":0},{"$f":"IF(L336>0,IF(Sorcadins!L$273>0,(Sorcadins!L$273*L334+L333-L339*L340-L346/4.5)/Sorcadins!L$273,0),L334+L333)","v":0},{"$f":"IF(M336>0,IF(Sorcadins!M$273>0,(Sorcadins!M$273*M334+M333-M339*M340-M346/4.5)/Sorcadins!M$273,0),M334+M333)","v":0},{"$f":"IF(N336>0,IF(Sorcadins!N$273>0,(Sorcadins!N$273*N334+N333-N339*N340-N346/4.5)/Sorcadins!N$273,0),N334+N333)","v":0},{"$f":"IF(O336>0,IF(Sorcadins!O$273>0,(Sorcadins!O$273*O334+O333-O339*O340-O346/4.5)/Sorcadins!O$273,0),O334+O333)","v":0},{"$f":"IF(P336>0,IF(Sorcadins!P$273>0,(Sorcadins!P$273*P334+P333-P339*P340-P346/4.5)/Sorcadins!P$273,0),P334+P333)","v":0},{"$f":"IF(Q336>0,IF(Sorcadins!Q$273>0,(Sorcadins!Q$273*Q334+Q333-Q339*Q340-Q346/4.5)/Sorcadins!Q$273,0),Q334+Q333)","v":0},{"$f":"IF(R336>0,IF(Sorcadins!R$273>0,(Sorcadins!R$273*R334+R333-R339*R340-R346/4.5)/Sorcadins!R$273,0),R334+R333)","v":0},{"$f":"IF(S336>0,IF(Sorcadins!S$273>0,(Sorcadins!S$273*S334+S333-S339*S340-S346/4.5)/Sorcadins!S$273,0),S334+S333)","v":0},{"$f":"IF(T336>0,IF(Sorcadins!T$273>0,(Sorcadins!T$273*T334+T333-T339*T340-T346/4.5)/Sorcadins!T$273,0),T334+T333)","v":0},{"$f":"IF(U336>0,IF(Sorcadins!U$273>0,(Sorcadins!U$273*U334+U333-U339*U340-U346/4.5)/Sorcadins!U$273,0),U334+U333)","v":0},{"$f":"IF(V336>0,IF(Sorcadins!V$273>0,(Sorcadins!V$273*V334+V333-V339*V340-V346/4.5)/Sorcadins!V$273,0),V334+V333)","v":0},{"$f":"IF(W336>0,IF(Sorcadins!W$273>0,(Sorcadins!W$273*W334+W333-W339*W340-W346/4.5)/Sorcadins!W$273,0),W334+W333)","v":0},{"$f":"IF(X336>0,IF(Sorcadins!X$273>0,(Sorcadins!X$273*X334+X333-X339*X340-X346/4.5)/Sorcadins!X$273,0),X334+X333)","v":0}]
[{"$nulls":3},"actual smites performed",{"$f":"E339+IF(E$7>0,MIN(E341,E342,E343/E$7),0)","v":0},{"$f":"F339+IF(F$7>0,MIN(F341,F342,F343/F$7),0)","v":0},0,0,0,0,0,0,0,0,0,0,0,0,0,0,0,0,0,0]
[{"$nulls":3},"total daily smite damage: M2, B13, O3",{"$f":"E345+E346","v":0},{"$f":"F345+F346","v":0},0,0,0,0,0,0,0,0,0,0,0,0,0,0,0,0,0,0]
[]
[{"$nulls":3},"SMITES - M3, B8, O1/O2",1,2,3,4,5,6,7,8,9,10,11,12,13,14,15,16,17,18,19,20,null,"*With this one, there's actually more smite dice than there are attacks!"]
[{"$nulls":3},"remaining sorcery points (based on Damage Scenario)",{"$f":"MAX(0,Sorcadins!E$561-Sorcadins!E$1278)","v":0},{"$f":"MAX(0,Sorcadins!F$561-Sorcadins!F$1278)","v":0},{"$f":"MAX(0,Sorcadins!G$561-Sorcadins!G$1278)","v":0},{"$f":"MAX(0,Sorcadins!H$561-Sorcadins!H$1278)","v":0},{"$f":"MAX(0,Sorcadins!I$561-Sorcadins!I$1278)","v":0},{"$f":"MAX(0,Sorcadins!J$561-Sorcadins!J$1278)","v":0},{"$f":"MAX(0,Sorcadins!K$561-Sorcadins!K$1278)","v":0},{"$f":"MAX(0,Sorcadins!L$561-Sorcadins!L$1278)","v":0},{"$f":"MAX(0,Sorcadins!M$561-Sorcadins!M$1278)","v":0},{"$f":"MAX(0,Sorcadins!N$561-Sorcadins!N$1278)","v":0},{"$f":"MAX(0,Sorcadins!O$561-Sorcadins!O$1278)","v":0},{"$f":"MAX(0,Sorcadins!P$561-Sorcadins!P$1278)","v":0},{"$f":"MAX(0,Sorcadins!Q$561-Sorcadins!Q$1278)","v":0},{"$f":"MAX(0,Sorcadins!R$561-Sorcadins!R$1278)","v":0},{"$f":"MAX(0,Sorcadins!S$561-Sorcadins!S$1278)","v":0},{"$f":"MAX(0,Sorcadins!T$561-Sorcadins!T$1278)","v":0},{"$f":"MAX(0,Sorcadins!U$561-Sorcadins!U$1278)","v":0},{"$f":"MAX(0,Sorcadins!V$561-Sorcadins!V$1278)","v":0},{"$f":"MAX(0,Sorcadins!W$561-Sorcadins!W$1278)","v":0},{"$f":"MAX(0,Sorcadins!X$561-Sorcadins!X$1278)","v":0},null,"*Sorc points directly convertible to Smite Dice"]
[{"$nulls":3},"remaining spell slot levels (based on Damage Scenario)",{"$f":"MAX(0,Sorcadins!E$281-MAX(0,Sorcadins!E$1278-Sorcadins!E$561))","v":0},{"$f":"MAX(0,Sorcadins!F$281-MAX(0,Sorcadins!F$1278-Sorcadins!F$561))","v":0},{"$f":"MAX(0,Sorcadins!G$281-MAX(0,Sorcadins!G$1278-Sorcadins!G$561))","v":0},{"$f":"MAX(0,Sorcadins!H$281-MAX(0,Sorcadins!H$1278-Sorcadins!H$561))","v":0},{"$f":"MAX(0,Sorcadins!I$281-MAX(0,Sorcadins!I$1278-Sorcadins!I$561))","v":0},{"$f":"MAX(0,Sorcadins!J$281-MAX(0,Sorcadins!J$1278-Sorcadins!J$561))","v":0},{"$f":"MAX(0,Sorcadins!K$281-MAX(0,Sorcadins!K$1278-Sorcadins!K$561))","v":0},{"$f":"MAX(0,Sorcadins!L$281-MAX(0,Sorcadins!L$1278-Sorcadins!L$561))","v":0},{"$f":"MAX(0,Sorcadins!M$281-MAX(0,Sorcadins!M$1278-Sorcadins!M$561))","v":0},{"$f":"MAX(0,Sorcadins!N$281-MAX(0,Sorcadins!N$1278-Sorcadins!N$561))","v":0},{"$f":"MAX(0,Sorcadins!O$281-MAX(0,Sorcadins!O$1278-Sorcadins!O$561))","v":0},{"$f":"MAX(0,Sorcadins!P$281-MAX(0,Sorcadins!P$1278-Sorcadins!P$561))","v":0},{"$f":"MAX(0,Sorcadins!Q$281-MAX(0,Sorcadins!Q$1278-Sorcadins!Q$561))","v":0},{"$f":"MAX(0,Sorcadins!R$281-MAX(0,Sorcadins!R$1278-Sorcadins!R$561))","v":0},{"$f":"MAX(0,Sorcadins!S$281-MAX(0,Sorcadins!S$1278-Sorcadins!S$561))","v":0},{"$f":"MAX(0,Sorcadins!T$281-MAX(0,Sorcadins!T$1278-Sorcadins!T$561))","v":0},{"$f":"MAX(0,Sorcadins!U$281-MAX(0,Sorcadins!U$1278-Sorcadins!U$561))","v":0},{"$f":"MAX(0,Sorcadins!V$281-MAX(0,Sorcadins!V$1278-Sorcadins!V$561))","v":0},{"$f":"MAX(0,Sorcadins!W$281-MAX(0,Sorcadins!W$1278-Sorcadins!W$561))","v":0},{"$f":"MAX(0,Sorcadins!X$281-MAX(0,Sorcadins!X$1278-Sorcadins!X$561))","v":0}]
[{"$nulls":3},"total warlock smite levels remaining",{"$f":"MIN(Sorcadins!E$273*E353,Sorcadins!E$264)","v":0},{"$f":"MIN(Sorcadins!F$273*F353,Sorcadins!F$264)","v":0},{"$f":"MIN(Sorcadins!G$273*G353,Sorcadins!G$264)","v":0},{"$f":"MIN(Sorcadins!H$273*H353,Sorcadins!H$264)","v":0},{"$f":"MIN(Sorcadins!I$273*I353,Sorcadins!I$264)","v":0},{"$f":"MIN(Sorcadins!J$273*J353,Sorcadins!J$264)","v":0},{"$f":"MIN(Sorcadins!K$273*K353,Sorcadins!K$264)","v":0},{"$f":"MIN(Sorcadins!L$273*L353,Sorcadins!L$264)","v":0},{"$f":"MIN(Sorcadins!M$273*M353,Sorcadins!M$264)","v":0},{"$f":"MIN(Sorcadins!N$273*N353,Sorcadins!N$264)","v":0},{"$f":"MIN(Sorcadins!O$273*O353,Sorcadins!O$264)","v":0},{"$f":"MIN(Sorcadins!P$273*P353,Sorcadins!P$264)","v":0},{"$f":"MIN(Sorcadins!Q$273*Q353,Sorcadins!Q$264)","v":0},{"$f":"MIN(Sorcadins!R$273*R353,Sorcadins!R$264)","v":0},{"$f":"MIN(Sorcadins!S$273*S353,Sorcadins!S$264)","v":0},{"$f":"MIN(Sorcadins!T$273*T353,Sorcadins!T$264)","v":0},{"$f":"MIN(Sorcadins!U$273*U353,Sorcadins!U$264)","v":0},{"$f":"MIN(Sorcadins!V$273*V353,Sorcadins!V$264)","v":0},{"$f":"MIN(Sorcadins!W$273*W353,Sorcadins!W$264)","v":0},{"$f":"MIN(Sorcadins!X$273*X353,Sorcadins!X$264)","v":0}]
[{"$nulls":3},"total smite levels remaining",{"$f":"IF(E$5>=1,Sorcadins!E$273*E353+E352,IF(E$6,E354,0))","v":0},{"$f":"IF(F$5>=1,Sorcadins!F$273*F353+F352,IF(F$6,F354,0))","v":0},{"$f":"IF(G$5>=1,Sorcadins!G$273*G353+G352,IF(G$6,G354,0))","v":0},{"$f":"IF(H$5>=1,Sorcadins!H$273*H353+H352,IF(H$6,H354,0))","v":0},{"$f":"IF(I$5>=1,Sorcadins!I$273*I353+I352,IF(I$6,I354,0))","v":0},{"$f":"IF(J$5>=1,Sorcadins!J$273*J353+J352,IF(J$6,J354,0))","v":0},{"$f":"IF(K$5>=1,Sorcadins!K$273*K353+K352,IF(K$6,K354,0))","v":0},{"$f":"IF(L$5>=1,Sorcadins!L$273*L353+L352,IF(L$6,L354,0))","v":0},{"$f":"IF(M$5>=1,Sorcadins!M$273*M353+M352,IF(M$6,M354,0))","v":0},{"$f":"IF(N$5>=1,Sorcadins!N$273*N353+N352,IF(N$6,N354,0))","v":0},{"$f":"IF(O$5>=1,Sorcadins!O$273*O353+O352,IF(O$6,O354,0))","v":0},{"$f":"IF(P$5>=1,Sorcadins!P$273*P353+P352,IF(P$6,P354,0))","v":0},{"$f":"IF(Q$5>=1,Sorcadins!Q$273*Q353+Q352,IF(Q$6,Q354,0))","v":0},{"$f":"IF(R$5>=1,Sorcadins!R$273*R353+R352,IF(R$6,R354,0))","v":0},{"$f":"IF(S$5>=1,Sorcadins!S$273*S353+S352,IF(S$6,S354,0))","v":0},{"$f":"IF(T$5>=1,Sorcadins!T$273*T353+T352,IF(T$6,T354,0))","v":0},{"$f":"IF(U$5>=1,Sorcadins!U$273*U353+U352,IF(U$6,U354,0))","v":0},{"$f":"IF(V$5>=1,Sorcadins!V$273*V353+V352,IF(V$6,V354,0))","v":0},{"$f":"IF(W$5>=1,Sorcadins!W$273*W353+W352,IF(W$6,W354,0))","v":0},{"$f":"IF(X$5>=1,Sorcadins!X$273*X353+X352,IF(X$6,X354,0))","v":0}]
[{"$nulls":3},"max number of daily smites (after spells)",{"$f":"IF(E$6,Sorcadins!E$1157,IF(E$5,Sorcadins!E$282+E352/2,0))","v":0},{"$f":"IF(F$6,Sorcadins!F$1157,IF(F$5,Sorcadins!F$282+F352/2,0))","v":0},{"$f":"IF(G$6,Sorcadins!G$1157,IF(G$5,Sorcadins!G$282+G352/2,0))","v":0},{"$f":"IF(H$6,Sorcadins!H$1157,IF(H$5,Sorcadins!H$282+H352/2,0))","v":0},{"$f":"IF(I$6,Sorcadins!I$1157,IF(I$5,Sorcadins!I$282+I352/2,0))","v":0},{"$f":"IF(J$6,Sorcadins!J$1157,IF(J$5,Sorcadins!J$282+J352/2,0))","v":0},{"$f":"IF(K$6,Sorcadins!K$1157,IF(K$5,Sorcadins!K$282+K352/2,0))","v":0},{"$f":"IF(L$6,Sorcadins!L$1157,IF(L$5,Sorcadins!L$282+L352/2,0))","v":0},{"$f":"IF(M$6,Sorcadins!M$1157,IF(M$5,Sorcadins!M$282+M352/2,0))","v":0},{"$f":"IF(N$6,Sorcadins!N$1157,IF(N$5,Sorcadins!N$282+N352/2,0))","v":0},{"$f":"IF(O$6,Sorcadins!O$1157,IF(O$5,Sorcadins!O$282+O352/2,0))","v":0},{"$f":"IF(P$6,Sorcadins!P$1157,IF(P$5,Sorcadins!P$282+P352/2,0))","v":0},{"$f":"IF(Q$6,Sorcadins!Q$1157,IF(Q$5,Sorcadins!Q$282+Q352/2,0))","v":0},{"$f":"IF(R$6,Sorcadins!R$1157,IF(R$5,Sorcadins!R$282+R352/2,0))","v":0},{"$f":"IF(S$6,Sorcadins!S$1157,IF(S$5,Sorcadins!S$282+S352/2,0))","v":0},{"$f":"IF(T$6,Sorcadins!T$1157,IF(T$5,Sorcadins!T$282+T352/2,0))","v":0},{"$f":"IF(U$6,Sorcadins!U$1157,IF(U$5,Sorcadins!U$282+U352/2,0))","v":0},{"$f":"IF(V$6,Sorcadins!V$1157,IF(V$5,Sorcadins!V$282+V352/2,0))","v":0},{"$f":"IF(W$6,Sorcadins!W$1157,IF(W$5,Sorcadins!W$282+W352/2,0))","v":0},{"$f":"IF(X$6,Sorcadins!X$1157,IF(X$5,Sorcadins!X$282+X352/2,0))","v":0}]
[{"$nulls":3},"avg crits per day for smite purposes (based on Damage Scenario)",{"$f":"'Base Numbers'!$C$5*'Base Numbers'!$C$6*Sorcadins!E$1326","v":0.2},{"$f":"'Base Numbers'!$C$5*'Base Numbers'!$C$6*Sorcadins!F$1326","v":0.2},{"$f":"'Base Numbers'!$C$5*'Base Numbers'!$C$6*Sorcadins!G$1326","v":0.2},{"$f":"'Base Numbers'!$C$5*'Base Numbers'!$C$6*Sorcadins!H$1326","v":0.2},{"$f":"'Base Numbers'!$C$5*'Base Numbers'!$C$6*Sorcadins!I$1326","v":0.2},{"$f":"'Base Numbers'!$C$5*'Base Numbers'!$C$6*Sorcadins!J$1326","v":0.2},{"$f":"'Base Numbers'!$C$5*'Base Numbers'!$C$6*Sorcadins!K$1326","v":0.2},{"$f":"'Base Numbers'!$C$5*'Base Numbers'!$C$6*Sorcadins!L$1326","v":0.2},{"$f":"'Base Numbers'!$C$5*'Base Numbers'!$C$6*Sorcadins!M$1326","v":0.2},{"$f":"'Base Numbers'!$C$5*'Base Numbers'!$C$6*Sorcadins!N$1326","v":0.2},{"$f":"'Base Numbers'!$C$5*'Base Numbers'!$C$6*Sorcadins!O$1326","v":0.2},{"$f":"'Base Numbers'!$C$5*'Base Numbers'!$C$6*Sorcadins!P$1326","v":0.2},{"$f":"'Base Numbers'!$C$5*'Base Numbers'!$C$6*Sorcadins!Q$1326","v":0.2},{"$f":"'Base Numbers'!$C$5*'Base Numbers'!$C$6*Sorcadins!R$1326","v":0.2},{"$f":"'Base Numbers'!$C$5*'Base Numbers'!$C$6*Sorcadins!S$1326","v":0.2},{"$f":"'Base Numbers'!$C$5*'Base Numbers'!$C$6*Sorcadins!T$1326","v":0.2},{"$f":"'Base Numbers'!$C$5*'Base Numbers'!$C$6*Sorcadins!U$1326","v":0.2},{"$f":"'Base Numbers'!$C$5*'Base Numbers'!$C$6*Sorcadins!V$1326","v":0.2},{"$f":"'Base Numbers'!$C$5*'Base Numbers'!$C$6*Sorcadins!W$1326","v":0.2},{"$f":"'Base Numbers'!$C$5*'Base Numbers'!$C$6*Sorcadins!X$1326","v":0.2}]
[{"$nulls":3},"number of smites used on crits",{"$f":"MIN(E356,E357)","v":0},{"$f":"MIN(F356,F357)","v":0},0,0,0,0,0,0,0,0,0,0,0,0,0,0,0,0,0,0]
[{"$nulls":3},"avg smite dice per crit ",{"$f":"IF(E358>0,MIN(E$7,(E355/MIN(E358,E357))),0)","v":0},0,0,0,0,0,0,0,0,0,0,0,0,0,0,0,0,0,0,0]
[{"$nulls":3},"smites left for non-crits",{"$f":"E356-E358","v":0},{"$f":"F356-F358","v":0},0,0,0,0,0,0,0,0,0,0,0,0,0,0,0,0,0,0]
[{"$nulls":3},"total non-crit smite-qualifying attacks available",{"$f":"Sorcadins!E$1301*('Base Numbers'!$C$5*'Base Numbers'!$C$6)-E357","v":3.8},{"$f":"Sorcadins!F$1301*('Base Numbers'!$C$5*'Base Numbers'!$C$6)-F357","v":3.8},{"$f":"Sorcadins!G$1301*('Base Numbers'!$C$5*'Base Numbers'!$C$6)-G357","v":3.8},{"$f":"Sorcadins!H$1301*('Base Numbers'!$C$5*'Base Numbers'!$C$6)-H357","v":3.8},{"$f":"Sorcadins!I$1301*('Base Numbers'!$C$5*'Base Numbers'!$C$6)-I357","v":3.8},{"$f":"Sorcadins!J$1301*('Base Numbers'!$C$5*'Base Numbers'!$C$6)-J357","v":3.8},{"$f":"Sorcadins!K$1301*('Base Numbers'!$C$5*'Base Numbers'!$C$6)-K357","v":3.8},{"$f":"Sorcadins!L$1301*('Base Numbers'!$C$5*'Base Numbers'!$C$6)-L357","v":3.8},{"$f":"Sorcadins!M$1301*('Base Numbers'!$C$5*'Base Numbers'!$C$6)-M357","v":3.8},{"$f":"Sorcadins!N$1301*('Base Numbers'!$C$5*'Base Numbers'!$C$6)-N357","v":3.8},{"$f":"Sorcadins!O$1301*('Base Numbers'!$C$5*'Base Numbers'!$C$6)-O357","v":3.8},{"$f":"Sorcadins!P$1301*('Base Numbers'!$C$5*'Base Numbers'!$C$6)-P357","v":3.8},{"$f":"Sorcadins!Q$1301*('Base Numbers'!$C$5*'Base Numbers'!$C$6)-Q357","v":3.8},{"$f":"Sorcadins!R$1301*('Base Numbers'!$C$5*'Base Numbers'!$C$6)-R357","v":3.8},{"$f":"Sorcadins!S$1301*('Base Numbers'!$C$5*'Base Numbers'!$C$6)-S357","v":3.8},{"$f":"Sorcadins!T$1301*('Base Numbers'!$C$5*'Base Numbers'!$C$6)-T357","v":3.8},{"$f":"Sorcadins!U$1301*('Base Numbers'!$C$5*'Base Numbers'!$C$6)-U357","v":3.8},{"$f":"Sorcadins!V$1301*('Base Numbers'!$C$5*'Base Numbers'!$C$6)-V357","v":3.8},{"$f":"Sorcadins!W$1301*('Base Numbers'!$C$5*'Base Numbers'!$C$6)-W357","v":3.8},{"$f":"Sorcadins!X$1301*('Base Numbers'!$C$5*'Base Numbers'!$C$6)-X357","v":3.8}]
[{"$nulls":3},"smite dice left for non-crits",{"$f":"ROUND(MAX(0,E355-E357*E359),4)","v":0},{"$f":"ROUND(MAX(0,F355-F357*F359),4)","v":0},0,0,0,0,0,0,0,0,0,0,0,0,0,0,0,0,0,0]
[{"$nulls":3},"total smite dice used on crits",{"$f":"E358*E359","v":0},{"$f":"F358*F359","v":0},0,0,0,0,0,0,0,0,0,0,0,0,0,0,0,0,0,0]
[{"$nulls":3},"total crit smite damage per day",{"$f":"9*E363","v":0},{"$f":"9*F363","v":0},0,0,0,0,0,0,0,0,0,0,0,0,0,0,0,0,0,0]
[{"$nulls":3},"total non-crit smite damage per day",{"$f":"4.5*MIN(MIN(E361,E360)*E$7,E362)","v":0},{"$f":"4.5*MIN(MIN(F361,F360)*F$7,F362)","v":0},0,0,0,0,0,0,0,0,0,0,0,0,0,0,0,0,0,0]
[{"$nulls":3},"leftover sorc points + spell levels",{"$f":"IF(E355>0,IF(Sorcadins!E$273>0,(Sorcadins!E$273*E353+E352-E358*E359-E365/4.5)/Sorcadins!E$273,0),E353+E352)","v":0},{"$f":"IF(F355>0,IF(Sorcadins!F$273>0,(Sorcadins!F$273*F353+F352-F358*F359-F365/4.5)/Sorcadins!F$273,0),F353+F352)","v":0},{"$f":"IF(G355>0,IF(Sorcadins!G$273>0,(Sorcadins!G$273*G353+G352-G358*G359-G365/4.5)/Sorcadins!G$273,0),G353+G352)","v":0},{"$f":"IF(H355>0,IF(Sorcadins!H$273>0,(Sorcadins!H$273*H353+H352-H358*H359-H365/4.5)/Sorcadins!H$273,0),H353+H352)","v":0},{"$f":"IF(I355>0,IF(Sorcadins!I$273>0,(Sorcadins!I$273*I353+I352-I358*I359-I365/4.5)/Sorcadins!I$273,0),I353+I352)","v":0},{"$f":"IF(J355>0,IF(Sorcadins!J$273>0,(Sorcadins!J$273*J353+J352-J358*J359-J365/4.5)/Sorcadins!J$273,0),J353+J352)","v":0},{"$f":"IF(K355>0,IF(Sorcadins!K$273>0,(Sorcadins!K$273*K353+K352-K358*K359-K365/4.5)/Sorcadins!K$273,0),K353+K352)","v":0},{"$f":"IF(L355>0,IF(Sorcadins!L$273>0,(Sorcadins!L$273*L353+L352-L358*L359-L365/4.5)/Sorcadins!L$273,0),L353+L352)","v":0},{"$f":"IF(M355>0,IF(Sorcadins!M$273>0,(Sorcadins!M$273*M353+M352-M358*M359-M365/4.5)/Sorcadins!M$273,0),M353+M352)","v":0},{"$f":"IF(N355>0,IF(Sorcadins!N$273>0,(Sorcadins!N$273*N353+N352-N358*N359-N365/4.5)/Sorcadins!N$273,0),N353+N352)","v":0},{"$f":"IF(O355>0,IF(Sorcadins!O$273>0,(Sorcadins!O$273*O353+O352-O358*O359-O365/4.5)/Sorcadins!O$273,0),O353+O352)","v":0},{"$f":"IF(P355>0,IF(Sorcadins!P$273>0,(Sorcadins!P$273*P353+P352-P358*P359-P365/4.5)/Sorcadins!P$273,0),P353+P352)","v":0},{"$f":"IF(Q355>0,IF(Sorcadins!Q$273>0,(Sorcadins!Q$273*Q353+Q352-Q358*Q359-Q365/4.5)/Sorcadins!Q$273,0),Q353+Q352)","v":0},{"$f":"IF(R355>0,IF(Sorcadins!R$273>0,(Sorcadins!R$273*R353+R352-R358*R359-R365/4.5)/Sorcadins!R$273,0),R353+R352)","v":0},{"$f":"IF(S355>0,IF(Sorcadins!S$273>0,(Sorcadins!S$273*S353+S352-S358*S359-S365/4.5)/Sorcadins!S$273,0),S353+S352)","v":0},{"$f":"IF(T355>0,IF(Sorcadins!T$273>0,(Sorcadins!T$273*T353+T352-T358*T359-T365/4.5)/Sorcadins!T$273,0),T353+T352)","v":0},{"$f":"IF(U355>0,IF(Sorcadins!U$273>0,(Sorcadins!U$273*U353+U352-U358*U359-U365/4.5)/Sorcadins!U$273,0),U353+U352)","v":0},{"$f":"IF(V355>0,IF(Sorcadins!V$273>0,(Sorcadins!V$273*V353+V352-V358*V359-V365/4.5)/Sorcadins!V$273,0),V353+V352)","v":0},{"$f":"IF(W355>0,IF(Sorcadins!W$273>0,(Sorcadins!W$273*W353+W352-W358*W359-W365/4.5)/Sorcadins!W$273,0),W353+W352)","v":0},{"$f":"IF(X355>0,IF(Sorcadins!X$273>0,(Sorcadins!X$273*X353+X352-X358*X359-X365/4.5)/Sorcadins!X$273,0),X353+X352)","v":0}]
[{"$nulls":3},"actual smites performed",{"$f":"E358+IF(E$7>0,MIN(E360,E361,E362/E$7),0)","v":0},{"$f":"F358+IF(F$7>0,MIN(F360,F361,F362/F$7),0)","v":0},0,0,0,0,0,0,0,0,0,0,0,0,0,0,0,0,0,0]
[{"$nulls":3},"total daily smite damage: M3, B8, O1/O2",{"$f":"E364+E365","v":0},{"$f":"F364+F365","v":0},0,0,0,0,0,0,0,0,0,0,0,0,0,0,0,0,0,0]
[]
[{"$nulls":3},"SMITES - M3, B8, O3",1,2,3,4,5,6,7,8,9,10,11,12,13,14,15,16,17,18,19,20,null,"*With this one, there's actually more smite dice than there are attacks!"]
[{"$nulls":3},"remaining sorcery points (based on Damage Scenario)",{"$f":"MAX(0,Sorcadins!E$561-Sorcadins!E$1278)","v":0},{"$f":"MAX(0,Sorcadins!F$561-Sorcadins!F$1278)","v":0},{"$f":"MAX(0,Sorcadins!G$561-Sorcadins!G$1278)","v":0},{"$f":"MAX(0,Sorcadins!H$561-Sorcadins!H$1278)","v":0},{"$f":"MAX(0,Sorcadins!I$561-Sorcadins!I$1278)","v":0},{"$f":"MAX(0,Sorcadins!J$561-Sorcadins!J$1278)","v":0},{"$f":"MAX(0,Sorcadins!K$561-Sorcadins!K$1278)","v":0},{"$f":"MAX(0,Sorcadins!L$561-Sorcadins!L$1278)","v":0},{"$f":"MAX(0,Sorcadins!M$561-Sorcadins!M$1278)","v":0},{"$f":"MAX(0,Sorcadins!N$561-Sorcadins!N$1278)","v":0},{"$f":"MAX(0,Sorcadins!O$561-Sorcadins!O$1278)","v":0},{"$f":"MAX(0,Sorcadins!P$561-Sorcadins!P$1278)","v":0},{"$f":"MAX(0,Sorcadins!Q$561-Sorcadins!Q$1278)","v":0},{"$f":"MAX(0,Sorcadins!R$561-Sorcadins!R$1278)","v":0},{"$f":"MAX(0,Sorcadins!S$561-Sorcadins!S$1278)","v":0},{"$f":"MAX(0,Sorcadins!T$561-Sorcadins!T$1278)","v":0},{"$f":"MAX(0,Sorcadins!U$561-Sorcadins!U$1278)","v":0},{"$f":"MAX(0,Sorcadins!V$561-Sorcadins!V$1278)","v":0},{"$f":"MAX(0,Sorcadins!W$561-Sorcadins!W$1278)","v":0},{"$f":"MAX(0,Sorcadins!X$561-Sorcadins!X$1278)","v":0},null,"*Sorc points directly convertible to Smite Dice"]
[{"$nulls":3},"remaining spell slot levels (based on Damage Scenario)",{"$f":"MAX(0,Sorcadins!E$281-MAX(0,Sorcadins!E$1278-Sorcadins!E$561))","v":0},{"$f":"MAX(0,Sorcadins!F$281-MAX(0,Sorcadins!F$1278-Sorcadins!F$561))","v":0},{"$f":"MAX(0,Sorcadins!G$281-MAX(0,Sorcadins!G$1278-Sorcadins!G$561))","v":0},{"$f":"MAX(0,Sorcadins!H$281-MAX(0,Sorcadins!H$1278-Sorcadins!H$561))","v":0},{"$f":"MAX(0,Sorcadins!I$281-MAX(0,Sorcadins!I$1278-Sorcadins!I$561))","v":0},{"$f":"MAX(0,Sorcadins!J$281-MAX(0,Sorcadins!J$1278-Sorcadins!J$561))","v":0},{"$f":"MAX(0,Sorcadins!K$281-MAX(0,Sorcadins!K$1278-Sorcadins!K$561))","v":0},{"$f":"MAX(0,Sorcadins!L$281-MAX(0,Sorcadins!L$1278-Sorcadins!L$561))","v":0},{"$f":"MAX(0,Sorcadins!M$281-MAX(0,Sorcadins!M$1278-Sorcadins!M$561))","v":0},{"$f":"MAX(0,Sorcadins!N$281-MAX(0,Sorcadins!N$1278-Sorcadins!N$561))","v":0},{"$f":"MAX(0,Sorcadins!O$281-MAX(0,Sorcadins!O$1278-Sorcadins!O$561))","v":0},{"$f":"MAX(0,Sorcadins!P$281-MAX(0,Sorcadins!P$1278-Sorcadins!P$561))","v":0},{"$f":"MAX(0,Sorcadins!Q$281-MAX(0,Sorcadins!Q$1278-Sorcadins!Q$561))","v":0},{"$f":"MAX(0,Sorcadins!R$281-MAX(0,Sorcadins!R$1278-Sorcadins!R$561))","v":0},{"$f":"MAX(0,Sorcadins!S$281-MAX(0,Sorcadins!S$1278-Sorcadins!S$561))","v":0},{"$f":"MAX(0,Sorcadins!T$281-MAX(0,Sorcadins!T$1278-Sorcadins!T$561))","v":0},{"$f":"MAX(0,Sorcadins!U$281-MAX(0,Sorcadins!U$1278-Sorcadins!U$561))","v":0},{"$f":"MAX(0,Sorcadins!V$281-MAX(0,Sorcadins!V$1278-Sorcadins!V$561))","v":0},{"$f":"MAX(0,Sorcadins!W$281-MAX(0,Sorcadins!W$1278-Sorcadins!W$561))","v":0},{"$f":"MAX(0,Sorcadins!X$281-MAX(0,Sorcadins!X$1278-Sorcadins!X$561))","v":0}]
[{"$nulls":3},"total warlock smite levels remaining",{"$f":"MIN(Sorcadins!E$273*E372,Sorcadins!E$264)","v":0},{"$f":"MIN(Sorcadins!F$273*F372,Sorcadins!F$264)","v":0},{"$f":"MIN(Sorcadins!G$273*G372,Sorcadins!G$264)","v":0},{"$f":"MIN(Sorcadins!H$273*H372,Sorcadins!H$264)","v":0},{"$f":"MIN(Sorcadins!I$273*I372,Sorcadins!I$264)","v":0},{"$f":"MIN(Sorcadins!J$273*J372,Sorcadins!J$264)","v":0},{"$f":"MIN(Sorcadins!K$273*K372,Sorcadins!K$264)","v":0},{"$f":"MIN(Sorcadins!L$273*L372,Sorcadins!L$264)","v":0},{"$f":"MIN(Sorcadins!M$273*M372,Sorcadins!M$264)","v":0},{"$f":"MIN(Sorcadins!N$273*N372,Sorcadins!N$264)","v":0},{"$f":"MIN(Sorcadins!O$273*O372,Sorcadins!O$264)","v":0},{"$f":"MIN(Sorcadins!P$273*P372,Sorcadins!P$264)","v":0},{"$f":"MIN(Sorcadins!Q$273*Q372,Sorcadins!Q$264)","v":0},{"$f":"MIN(Sorcadins!R$273*R372,Sorcadins!R$264)","v":0},{"$f":"MIN(Sorcadins!S$273*S372,Sorcadins!S$264)","v":0},{"$f":"MIN(Sorcadins!T$273*T372,Sorcadins!T$264)","v":0},{"$f":"MIN(Sorcadins!U$273*U372,Sorcadins!U$264)","v":0},{"$f":"MIN(Sorcadins!V$273*V372,Sorcadins!V$264)","v":0},{"$f":"MIN(Sorcadins!W$273*W372,Sorcadins!W$264)","v":0},{"$f":"MIN(Sorcadins!X$273*X372,Sorcadins!X$264)","v":0}]
[{"$nulls":3},"total smite levels remaining",{"$f":"IF(E$5>=1,Sorcadins!E$273*E372+E371,IF(E$6,E373,0))","v":0},{"$f":"IF(F$5>=1,Sorcadins!F$273*F372+F371,IF(F$6,F373,0))","v":0},{"$f":"IF(G$5>=1,Sorcadins!G$273*G372+G371,IF(G$6,G373,0))","v":0},{"$f":"IF(H$5>=1,Sorcadins!H$273*H372+H371,IF(H$6,H373,0))","v":0},{"$f":"IF(I$5>=1,Sorcadins!I$273*I372+I371,IF(I$6,I373,0))","v":0},{"$f":"IF(J$5>=1,Sorcadins!J$273*J372+J371,IF(J$6,J373,0))","v":0},{"$f":"IF(K$5>=1,Sorcadins!K$273*K372+K371,IF(K$6,K373,0))","v":0},{"$f":"IF(L$5>=1,Sorcadins!L$273*L372+L371,IF(L$6,L373,0))","v":0},{"$f":"IF(M$5>=1,Sorcadins!M$273*M372+M371,IF(M$6,M373,0))","v":0},{"$f":"IF(N$5>=1,Sorcadins!N$273*N372+N371,IF(N$6,N373,0))","v":0},{"$f":"IF(O$5>=1,Sorcadins!O$273*O372+O371,IF(O$6,O373,0))","v":0},{"$f":"IF(P$5>=1,Sorcadins!P$273*P372+P371,IF(P$6,P373,0))","v":0},{"$f":"IF(Q$5>=1,Sorcadins!Q$273*Q372+Q371,IF(Q$6,Q373,0))","v":0},{"$f":"IF(R$5>=1,Sorcadins!R$273*R372+R371,IF(R$6,R373,0))","v":0},{"$f":"IF(S$5>=1,Sorcadins!S$273*S372+S371,IF(S$6,S373,0))","v":0},{"$f":"IF(T$5>=1,Sorcadins!T$273*T372+T371,IF(T$6,T373,0))","v":0},{"$f":"IF(U$5>=1,Sorcadins!U$273*U372+U371,IF(U$6,U373,0))","v":0},{"$f":"IF(V$5>=1,Sorcadins!V$273*V372+V371,IF(V$6,V373,0))","v":0},{"$f":"IF(W$5>=1,Sorcadins!W$273*W372+W371,IF(W$6,W373,0))","v":0},{"$f":"IF(X$5>=1,Sorcadins!X$273*X372+X371,IF(X$6,X373,0))","v":0}]
[{"$nulls":3},"max number of daily smites (after spells)",{"$f":"IF(E$6,Sorcadins!E$1157,IF(E$5,Sorcadins!E$282+E371/2,0))","v":0},{"$f":"IF(F$6,Sorcadins!F$1157,IF(F$5,Sorcadins!F$282+F371/2,0))","v":0},{"$f":"IF(G$6,Sorcadins!G$1157,IF(G$5,Sorcadins!G$282+G371/2,0))","v":0},{"$f":"IF(H$6,Sorcadins!H$1157,IF(H$5,Sorcadins!H$282+H371/2,0))","v":0},{"$f":"IF(I$6,Sorcadins!I$1157,IF(I$5,Sorcadins!I$282+I371/2,0))","v":0},{"$f":"IF(J$6,Sorcadins!J$1157,IF(J$5,Sorcadins!J$282+J371/2,0))","v":0},{"$f":"IF(K$6,Sorcadins!K$1157,IF(K$5,Sorcadins!K$282+K371/2,0))","v":0},{"$f":"IF(L$6,Sorcadins!L$1157,IF(L$5,Sorcadins!L$282+L371/2,0))","v":0},{"$f":"IF(M$6,Sorcadins!M$1157,IF(M$5,Sorcadins!M$282+M371/2,0))","v":0},{"$f":"IF(N$6,Sorcadins!N$1157,IF(N$5,Sorcadins!N$282+N371/2,0))","v":0},{"$f":"IF(O$6,Sorcadins!O$1157,IF(O$5,Sorcadins!O$282+O371/2,0))","v":0},{"$f":"IF(P$6,Sorcadins!P$1157,IF(P$5,Sorcadins!P$282+P371/2,0))","v":0},{"$f":"IF(Q$6,Sorcadins!Q$1157,IF(Q$5,Sorcadins!Q$282+Q371/2,0))","v":0},{"$f":"IF(R$6,Sorcadins!R$1157,IF(R$5,Sorcadins!R$282+R371/2,0))","v":0},{"$f":"IF(S$6,Sorcadins!S$1157,IF(S$5,Sorcadins!S$282+S371/2,0))","v":0},{"$f":"IF(T$6,Sorcadins!T$1157,IF(T$5,Sorcadins!T$282+T371/2,0))","v":0},{"$f":"IF(U$6,Sorcadins!U$1157,IF(U$5,Sorcadins!U$282+U371/2,0))","v":0},{"$f":"IF(V$6,Sorcadins!V$1157,IF(V$5,Sorcadins!V$282+V371/2,0))","v":0},{"$f":"IF(W$6,Sorcadins!W$1157,IF(W$5,Sorcadins!W$282+W371/2,0))","v":0},{"$f":"IF(X$6,Sorcadins!X$1157,IF(X$5,Sorcadins!X$282+X371/2,0))","v":0}]
[{"$nulls":3},"avg crits per day for smite purposes (based on Damage Scenario)",{"$f":"'Base Numbers'!$C$5*'Base Numbers'!$C$6*Sorcadins!E$1327","v":0},{"$f":"'Base Numbers'!$C$5*'Base Numbers'!$C$6*Sorcadins!F$1327","v":0},{"$f":"'Base Numbers'!$C$5*'Base Numbers'!$C$6*Sorcadins!G$1327","v":0},{"$f":"'Base Numbers'!$C$5*'Base Numbers'!$C$6*Sorcadins!H$1327","v":0},{"$f":"'Base Numbers'!$C$5*'Base Numbers'!$C$6*Sorcadins!I$1327","v":0},{"$f":"'Base Numbers'!$C$5*'Base Numbers'!$C$6*Sorcadins!J$1327","v":0},{"$f":"'Base Numbers'!$C$5*'Base Numbers'!$C$6*Sorcadins!K$1327","v":0},{"$f":"'Base Numbers'!$C$5*'Base Numbers'!$C$6*Sorcadins!L$1327","v":0},{"$f":"'Base Numbers'!$C$5*'Base Numbers'!$C$6*Sorcadins!M$1327","v":0},{"$f":"'Base Numbers'!$C$5*'Base Numbers'!$C$6*Sorcadins!N$1327","v":0},{"$f":"'Base Numbers'!$C$5*'Base Numbers'!$C$6*Sorcadins!O$1327","v":0},{"$f":"'Base Numbers'!$C$5*'Base Numbers'!$C$6*Sorcadins!P$1327","v":0},{"$f":"'Base Numbers'!$C$5*'Base Numbers'!$C$6*Sorcadins!Q$1327","v":0},{"$f":"'Base Numbers'!$C$5*'Base Numbers'!$C$6*Sorcadins!R$1327","v":0},{"$f":"'Base Numbers'!$C$5*'Base Numbers'!$C$6*Sorcadins!S$1327","v":0},{"$f":"'Base Numbers'!$C$5*'Base Numbers'!$C$6*Sorcadins!T$1327","v":0},{"$f":"'Base Numbers'!$C$5*'Base Numbers'!$C$6*Sorcadins!U$1327","v":0},{"$f":"'Base Numbers'!$C$5*'Base Numbers'!$C$6*Sorcadins!V$1327","v":0},{"$f":"'Base Numbers'!$C$5*'Base Numbers'!$C$6*Sorcadins!W$1327","v":0},{"$f":"'Base Numbers'!$C$5*'Base Numbers'!$C$6*Sorcadins!X$1327","v":0}]
[{"$nulls":3},"number of smites used on crits",{"$f":"MIN(E375,E376)","v":0},0,0,0,0,0,0,0,0,0,0,0,0,0,0,0,0,0,0,0]
[{"$nulls":3},"avg smite dice per crit ",{"$f":"IF(E377>0,MIN(E$7,(E374/MIN(E377,E376))),0)","v":0},0,0,0,0,0,0,0,0,0,0,0,0,0,0,0,0,0,0,0]
[{"$nulls":3},"smites left for non-crits",{"$f":"E375-E377","v":0},{"$f":"F375-F377","v":0},0,0,0,0,0,0,0,0,0,0,0,0,0,0,0,0,0,0]
[{"$nulls":3},"total non-crit smite-qualifying attacks available",{"$f":"Sorcadins!E$1302*('Base Numbers'!$C$5*'Base Numbers'!$C$6)-E376","v":0},{"$f":"Sorcadins!F$1302*('Base Numbers'!$C$5*'Base Numbers'!$C$6)-F376","v":0},{"$f":"Sorcadins!G$1302*('Base Numbers'!$C$5*'Base Numbers'!$C$6)-G376","v":0},{"$f":"Sorcadins!H$1302*('Base Numbers'!$C$5*'Base Numbers'!$C$6)-H376","v":0},{"$f":"Sorcadins!I$1302*('Base Numbers'!$C$5*'Base Numbers'!$C$6)-I376","v":0},{"$f":"Sorcadins!J$1302*('Base Numbers'!$C$5*'Base Numbers'!$C$6)-J376","v":0},{"$f":"Sorcadins!K$1302*('Base Numbers'!$C$5*'Base Numbers'!$C$6)-K376","v":0},{"$f":"Sorcadins!L$1302*('Base Numbers'!$C$5*'Base Numbers'!$C$6)-L376","v":0},{"$f":"Sorcadins!M$1302*('Base Numbers'!$C$5*'Base Numbers'!$C$6)-M376","v":0},{"$f":"Sorcadins!N$1302*('Base Numbers'!$C$5*'Base Numbers'!$C$6)-N376","v":0},{"$f":"Sorcadins!O$1302*('Base Numbers'!$C$5*'Base Numbers'!$C$6)-O376","v":0},{"$f":"Sorcadins!P$1302*('Base Numbers'!$C$5*'Base Numbers'!$C$6)-P376","v":0},{"$f":"Sorcadins!Q$1302*('Base Numbers'!$C$5*'Base Numbers'!$C$6)-Q376","v":0},{"$f":"Sorcadins!R$1302*('Base Numbers'!$C$5*'Base Numbers'!$C$6)-R376","v":0},{"$f":"Sorcadins!S$1302*('Base Numbers'!$C$5*'Base Numbers'!$C$6)-S376","v":0},{"$f":"Sorcadins!T$1302*('Base Numbers'!$C$5*'Base Numbers'!$C$6)-T376","v":0},{"$f":"Sorcadins!U$1302*('Base Numbers'!$C$5*'Base Numbers'!$C$6)-U376","v":0},{"$f":"Sorcadins!V$1302*('Base Numbers'!$C$5*'Base Numbers'!$C$6)-V376","v":0},{"$f":"Sorcadins!W$1302*('Base Numbers'!$C$5*'Base Numbers'!$C$6)-W376","v":0},{"$f":"Sorcadins!X$1302*('Base Numbers'!$C$5*'Base Numbers'!$C$6)-X376","v":0}]
[{"$nulls":3},"smite dice left for non-crits",{"$f":"ROUND(MAX(0,E374-E376*E378),4)","v":0},{"$f":"ROUND(MAX(0,F374-F376*F378),4)","v":0},0,0,0,0,0,0,0,0,0,0,0,0,0,0,0,0,0,0]
[{"$nulls":3},"total smite dice used on crits",{"$f":"E377*E378","v":0},{"$f":"F377*F378","v":0},0,0,0,0,0,0,0,0,0,0,0,0,0,0,0,0,0,0]
[{"$nulls":3},"total crit smite damage per day",{"$f":"9*E382","v":0},0,0,0,0,0,0,0,0,0,0,0,0,0,0,0,0,0,0,0]
[{"$nulls":3},"total non-crit smite damage per day",{"$f":"4.5*MIN(MIN(E380,E379)*E$7,E381)","v":0},{"$f":"4.5*MIN(MIN(F380,F379)*F$7,F381)","v":0},0,0,0,0,0,0,0,0,0,0,0,0,0,0,0,0,0,0]
[{"$nulls":3},"leftover sorc points + spell levels",{"$f":"IF(E374>0,IF(Sorcadins!E$273>0,(Sorcadins!E$273*E372+E371-E377*E378-E384/4.5)/Sorcadins!E$273,0),E372+E371)","v":0},{"$f":"IF(F374>0,IF(Sorcadins!F$273>0,(Sorcadins!F$273*F372+F371-F377*F378-F384/4.5)/Sorcadins!F$273,0),F372+F371)","v":0},{"$f":"IF(G374>0,IF(Sorcadins!G$273>0,(Sorcadins!G$273*G372+G371-G377*G378-G384/4.5)/Sorcadins!G$273,0),G372+G371)","v":0},{"$f":"IF(H374>0,IF(Sorcadins!H$273>0,(Sorcadins!H$273*H372+H371-H377*H378-H384/4.5)/Sorcadins!H$273,0),H372+H371)","v":0},{"$f":"IF(I374>0,IF(Sorcadins!I$273>0,(Sorcadins!I$273*I372+I371-I377*I378-I384/4.5)/Sorcadins!I$273,0),I372+I371)","v":0},{"$f":"IF(J374>0,IF(Sorcadins!J$273>0,(Sorcadins!J$273*J372+J371-J377*J378-J384/4.5)/Sorcadins!J$273,0),J372+J371)","v":0},{"$f":"IF(K374>0,IF(Sorcadins!K$273>0,(Sorcadins!K$273*K372+K371-K377*K378-K384/4.5)/Sorcadins!K$273,0),K372+K371)","v":0},{"$f":"IF(L374>0,IF(Sorcadins!L$273>0,(Sorcadins!L$273*L372+L371-L377*L378-L384/4.5)/Sorcadins!L$273,0),L372+L371)","v":0},{"$f":"IF(M374>0,IF(Sorcadins!M$273>0,(Sorcadins!M$273*M372+M371-M377*M378-M384/4.5)/Sorcadins!M$273,0),M372+M371)","v":0},{"$f":"IF(N374>0,IF(Sorcadins!N$273>0,(Sorcadins!N$273*N372+N371-N377*N378-N384/4.5)/Sorcadins!N$273,0),N372+N371)","v":0},{"$f":"IF(O374>0,IF(Sorcadins!O$273>0,(Sorcadins!O$273*O372+O371-O377*O378-O384/4.5)/Sorcadins!O$273,0),O372+O371)","v":0},{"$f":"IF(P374>0,IF(Sorcadins!P$273>0,(Sorcadins!P$273*P372+P371-P377*P378-P384/4.5)/Sorcadins!P$273,0),P372+P371)","v":0},{"$f":"IF(Q374>0,IF(Sorcadins!Q$273>0,(Sorcadins!Q$273*Q372+Q371-Q377*Q378-Q384/4.5)/Sorcadins!Q$273,0),Q372+Q371)","v":0},{"$f":"IF(R374>0,IF(Sorcadins!R$273>0,(Sorcadins!R$273*R372+R371-R377*R378-R384/4.5)/Sorcadins!R$273,0),R372+R371)","v":0},{"$f":"IF(S374>0,IF(Sorcadins!S$273>0,(Sorcadins!S$273*S372+S371-S377*S378-S384/4.5)/Sorcadins!S$273,0),S372+S371)","v":0},{"$f":"IF(T374>0,IF(Sorcadins!T$273>0,(Sorcadins!T$273*T372+T371-T377*T378-T384/4.5)/Sorcadins!T$273,0),T372+T371)","v":0},{"$f":"IF(U374>0,IF(Sorcadins!U$273>0,(Sorcadins!U$273*U372+U371-U377*U378-U384/4.5)/Sorcadins!U$273,0),U372+U371)","v":0},{"$f":"IF(V374>0,IF(Sorcadins!V$273>0,(Sorcadins!V$273*V372+V371-V377*V378-V384/4.5)/Sorcadins!V$273,0),V372+V371)","v":0},{"$f":"IF(W374>0,IF(Sorcadins!W$273>0,(Sorcadins!W$273*W372+W371-W377*W378-W384/4.5)/Sorcadins!W$273,0),W372+W371)","v":0},{"$f":"IF(X374>0,IF(Sorcadins!X$273>0,(Sorcadins!X$273*X372+X371-X377*X378-X384/4.5)/Sorcadins!X$273,0),X372+X371)","v":0}]
[{"$nulls":3},"actual smites performed",{"$f":"E377+IF(E$7>0,MIN(E379,E380,E381/E$7),0)","v":0},{"$f":"F377+IF(F$7>0,MIN(F379,F380,F381/F$7),0)","v":0},0,0,0,0,0,0,0,0,0,0,0,0,0,0,0,0,0,0]
[{"$nulls":3},"total daily smite damage: M3, B8, O3",{"$f":"E383+E384","v":0},0,0,0,0,0,0,0,0,0,0,0,0,0,0,0,0,0,0,0]
[]
[{"$nulls":3},"SMITES - M4, B9 (Ranged EB only)",1,2,3,4,5,6,7,8,9,10,11,12,13,14,15,16,17,18,19,20,null,"* this doesn't allow smites of any kind; here as a placeholder"]
[{"$nulls":3},"remaining sorcery points (based on Damage Scenario)",0,0,0,0,0,0,0,0,0,0,0,0,0,0,0,0,0,0,0,0]
[{"$nulls":3},"remaining spell slot levels (based on Damage Scenario)",0,0,0,0,0,0,0,0,0,0,0,0,0,0,0,0,0,0,0,0]
[{"$nulls":3},"total warlock smite levels remaining",0,0,0,0,0,0,0,0,0,0,0,0,0,0,0,0,0,0,0,0]
[{"$nulls":3},"total smite levels remaining",0,0,0,0,0,0,0,0,0,0,0,0,0,0,0,0,0,0,0,0]
[{"$nulls":3},"max number of daily smites (after spells)",0,0,0,0,0,0,0,0,0,0,0,0,0,0,0,0,0,0,0,0]
[{"$nulls":3},"avg crits per day for smite purposes (based on Damage Scenario)",0,0,0,0,0,0,0,0,0,0,0,0,0,0,0,0,0,0,0,0]
[{"$nulls":3},"number of smites used on crits",0,0,0,0,0,0,0,0,0,0,0,0,0,0,0,0,0,0,0,0]
[{"$nulls":3},"avg smite dice per crit ",0,0,0,0,0,0,0,0,0,0,0,0,0,0,0,0,0,0,0,0]
[{"$nulls":3},"smites left for non-crits",0,0,0,0,0,0,0,0,0,0,0,0,0,0,0,0,0,0,0,0]
[{"$nulls":3},"total non-crit smite-qualifying attacks available",0,0,0,0,0,0,0,0,0,0,0,0,0,0,0,0,0,0,0,0]
[{"$nulls":3},"smite dice left for non-crits",0,0,0,0,0,0,0,0,0,0,0,0,0,0,0,0,0,0,0,0]
[{"$nulls":3},"total smite dice used on crits",0,0,0,0,0,0,0,0,0,0,0,0,0,0,0,0,0,0,0,0]
[{"$nulls":3},"total crit smite damage per day",0,0,0,0,0,0,0,0,0,0,0,0,0,0,0,0,0,0,0,0]
[{"$nulls":3},"total non-crit smite damage per day",0,0,0,0,0,0,0,0,0,0,0,0,0,0,0,0,0,0,0,0]
[{"$nulls":3},"leftover sorc points + spell levels",0,0,0,0,0,0,0,0,0,0,0,0,0,0,0,0,0,0,0,0]
[{"$nulls":3},"actual smites performed",0,0,0,0,0,0,0,0,0,0,0,0,0,0,0,0,0,0,0,0]
[{"$nulls":3},"total daily smite damage: M4, B9",{"$f":"E402+E403","v":0},0,0,0,0,0,0,0,0,0,0,0,0,0,0,0,0,0,0,0]
[]
[{"$nulls":3},"SMITES - M5, B10 (Ranged)",1,2,3,4,5,6,7,8,9,10,11,12,13,14,15,16,17,18,19,20]
[{"$nulls":3},"remaining sorcery points (based on Damage Scenario)",{"$f":"MAX(0,Sorcadins!E$561-Sorcadins!E$1278)","v":0},{"$f":"MAX(0,Sorcadins!F$561-Sorcadins!F$1278)","v":0},{"$f":"MAX(0,Sorcadins!G$561-Sorcadins!G$1278)","v":0},{"$f":"MAX(0,Sorcadins!H$561-Sorcadins!H$1278)","v":0},{"$f":"MAX(0,Sorcadins!I$561-Sorcadins!I$1278)","v":0},{"$f":"MAX(0,Sorcadins!J$561-Sorcadins!J$1278)","v":0},{"$f":"MAX(0,Sorcadins!K$561-Sorcadins!K$1278)","v":0},{"$f":"MAX(0,Sorcadins!L$561-Sorcadins!L$1278)","v":0},{"$f":"MAX(0,Sorcadins!M$561-Sorcadins!M$1278)","v":0},{"$f":"MAX(0,Sorcadins!N$561-Sorcadins!N$1278)","v":0},{"$f":"MAX(0,Sorcadins!O$561-Sorcadins!O$1278)","v":0},{"$f":"MAX(0,Sorcadins!P$561-Sorcadins!P$1278)","v":0},{"$f":"MAX(0,Sorcadins!Q$561-Sorcadins!Q$1278)","v":0},{"$f":"MAX(0,Sorcadins!R$561-Sorcadins!R$1278)","v":0},{"$f":"MAX(0,Sorcadins!S$561-Sorcadins!S$1278)","v":0},{"$f":"MAX(0,Sorcadins!T$561-Sorcadins!T$1278)","v":0},{"$f":"MAX(0,Sorcadins!U$561-Sorcadins!U$1278)","v":0},{"$f":"MAX(0,Sorcadins!V$561-Sorcadins!V$1278)","v":0},{"$f":"MAX(0,Sorcadins!W$561-Sorcadins!W$1278)","v":0},{"$f":"MAX(0,Sorcadins!X$561-Sorcadins!X$1278)","v":0},null,"*Sorc points directly convertible to Smite Dice"]
[{"$nulls":3},"remaining spell slot levels (based on Damage Scenario)",{"$f":"MAX(0,Sorcadins!E$281-MAX(0,Sorcadins!E$1278-Sorcadins!E$561))","v":0},{"$f":"MAX(0,Sorcadins!F$281-MAX(0,Sorcadins!F$1278-Sorcadins!F$561))","v":0},{"$f":"MAX(0,Sorcadins!G$281-MAX(0,Sorcadins!G$1278-Sorcadins!G$561))","v":0},{"$f":"MAX(0,Sorcadins!H$281-MAX(0,Sorcadins!H$1278-Sorcadins!H$561))","v":0},{"$f":"MAX(0,Sorcadins!I$281-MAX(0,Sorcadins!I$1278-Sorcadins!I$561))","v":0},{"$f":"MAX(0,Sorcadins!J$281-MAX(0,Sorcadins!J$1278-Sorcadins!J$561))","v":0},{"$f":"MAX(0,Sorcadins!K$281-MAX(0,Sorcadins!K$1278-Sorcadins!K$561))","v":0},{"$f":"MAX(0,Sorcadins!L$281-MAX(0,Sorcadins!L$1278-Sorcadins!L$561))","v":0},{"$f":"MAX(0,Sorcadins!M$281-MAX(0,Sorcadins!M$1278-Sorcadins!M$561))","v":0},{"$f":"MAX(0,Sorcadins!N$281-MAX(0,Sorcadins!N$1278-Sorcadins!N$561))","v":0},{"$f":"MAX(0,Sorcadins!O$281-MAX(0,Sorcadins!O$1278-Sorcadins!O$561))","v":0},{"$f":"MAX(0,Sorcadins!P$281-MAX(0,Sorcadins!P$1278-Sorcadins!P$561))","v":0},{"$f":"MAX(0,Sorcadins!Q$281-MAX(0,Sorcadins!Q$1278-Sorcadins!Q$561))","v":0},{"$f":"MAX(0,Sorcadins!R$281-MAX(0,Sorcadins!R$1278-Sorcadins!R$561))","v":0},{"$f":"MAX(0,Sorcadins!S$281-MAX(0,Sorcadins!S$1278-Sorcadins!S$561))","v":0},{"$f":"MAX(0,Sorcadins!T$281-MAX(0,Sorcadins!T$1278-Sorcadins!T$561))","v":0},{"$f":"MAX(0,Sorcadins!U$281-MAX(0,Sorcadins!U$1278-Sorcadins!U$561))","v":0},{"$f":"MAX(0,Sorcadins!V$281-MAX(0,Sorcadins!V$1278-Sorcadins!V$561))","v":0},{"$f":"MAX(0,Sorcadins!W$281-MAX(0,Sorcadins!W$1278-Sorcadins!W$561))","v":0},{"$f":"MAX(0,Sorcadins!X$281-MAX(0,Sorcadins!X$1278-Sorcadins!X$561))","v":0}]
[{"$nulls":3},"total warlock smite levels remaining",{"$f":"MIN(Sorcadins!E$273*E410,Sorcadins!E$264)","v":0},{"$f":"MIN(Sorcadins!F$273*F410,Sorcadins!F$264)","v":0},{"$f":"MIN(Sorcadins!G$273*G410,Sorcadins!G$264)","v":0},{"$f":"MIN(Sorcadins!H$273*H410,Sorcadins!H$264)","v":0},{"$f":"MIN(Sorcadins!I$273*I410,Sorcadins!I$264)","v":0},{"$f":"MIN(Sorcadins!J$273*J410,Sorcadins!J$264)","v":0},{"$f":"MIN(Sorcadins!K$273*K410,Sorcadins!K$264)","v":0},{"$f":"MIN(Sorcadins!L$273*L410,Sorcadins!L$264)","v":0},{"$f":"MIN(Sorcadins!M$273*M410,Sorcadins!M$264)","v":0},{"$f":"MIN(Sorcadins!N$273*N410,Sorcadins!N$264)","v":0},{"$f":"MIN(Sorcadins!O$273*O410,Sorcadins!O$264)","v":0},{"$f":"MIN(Sorcadins!P$273*P410,Sorcadins!P$264)","v":0},{"$f":"MIN(Sorcadins!Q$273*Q410,Sorcadins!Q$264)","v":0},{"$f":"MIN(Sorcadins!R$273*R410,Sorcadins!R$264)","v":0},{"$f":"MIN(Sorcadins!S$273*S410,Sorcadins!S$264)","v":0},{"$f":"MIN(Sorcadins!T$273*T410,Sorcadins!T$264)","v":0},{"$f":"MIN(Sorcadins!U$273*U410,Sorcadins!U$264)","v":0},{"$f":"MIN(Sorcadins!V$273*V410,Sorcadins!V$264)","v":0},{"$f":"MIN(Sorcadins!W$273*W410,Sorcadins!W$264)","v":0},{"$f":"MIN(Sorcadins!X$273*X410,Sorcadins!X$264)","v":0}]
[{"$nulls":3},"total smite levels remaining",{"$f":"IF(Sorcadins!E12>=5,E411,0)","v":0},{"$f":"IF(Sorcadins!F12>=5,F411,0)","v":0},{"$f":"IF(Sorcadins!G12>=5,G411,0)","v":0},{"$f":"IF(Sorcadins!H12>=5,H411,0)","v":0},{"$f":"IF(Sorcadins!I12>=5,I411,0)","v":0},{"$f":"IF(Sorcadins!J12>=5,J411,0)","v":0},{"$f":"IF(Sorcadins!K12>=5,K411,0)","v":0},{"$f":"IF(Sorcadins!L12>=5,L411,0)","v":0},{"$f":"IF(Sorcadins!M12>=5,M411,0)","v":0},{"$f":"IF(Sorcadins!N12>=5,N411,0)","v":0},{"$f":"IF(Sorcadins!O12>=5,O411,0)","v":0},{"$f":"IF(Sorcadins!P12>=5,P411,0)","v":0},{"$f":"IF(Sorcadins!Q12>=5,Q411,0)","v":0},{"$f":"IF(Sorcadins!R12>=5,R411,0)","v":0},{"$f":"IF(Sorcadins!S12>=5,S411,0)","v":0},{"$f":"IF(Sorcadins!T12>=5,T411,0)","v":0},{"$f":"IF(Sorcadins!U12>=5,U411,0)","v":0},{"$f":"IF(Sorcadins!V12>=5,V411,0)","v":0},{"$f":"IF(Sorcadins!W12>=5,W411,0)","v":0},{"$f":"IF(Sorcadins!X12>=5,X411,0)","v":0},null,"* ranged smites restricted to warlock L5 smites"]
[{"$nulls":3},"max number of daily smites (after spells)",{"$f":"Sorcadins!E$1157","v":0},{"$f":"Sorcadins!F$1157","v":0},{"$f":"Sorcadins!G$1157","v":0},{"$f":"Sorcadins!H$1157","v":0},{"$f":"Sorcadins!I$1157","v":0},{"$f":"Sorcadins!J$1157","v":0},{"$f":"Sorcadins!K$1157","v":0},{"$f":"Sorcadins!L$1157","v":0},{"$f":"Sorcadins!M$1157","v":0},{"$f":"Sorcadins!N$1157","v":0},{"$f":"Sorcadins!O$1157","v":0},{"$f":"Sorcadins!P$1157","v":0},{"$f":"Sorcadins!Q$1157","v":0},{"$f":"Sorcadins!R$1157","v":0},{"$f":"Sorcadins!S$1157","v":0},{"$f":"Sorcadins!T$1157","v":0},{"$f":"Sorcadins!U$1157","v":0},{"$f":"Sorcadins!V$1157","v":0},{"$f":"Sorcadins!W$1157","v":0},{"$f":"Sorcadins!X$1157","v":0}]
[{"$nulls":3},"avg crits per day for smite purposes (based on Damage Scenario)",{"$f":"'Base Numbers'!$C$5*'Base Numbers'!$C$6*Sorcadins!E$1329","v":0.8},{"$f":"'Base Numbers'!$C$5*'Base Numbers'!$C$6*Sorcadins!F$1329","v":0.8},{"$f":"'Base Numbers'!$C$5*'Base Numbers'!$C$6*Sorcadins!G$1329","v":0.8},{"$f":"'Base Numbers'!$C$5*'Base Numbers'!$C$6*Sorcadins!H$1329","v":0.8},{"$f":"'Base Numbers'!$C$5*'Base Numbers'!$C$6*Sorcadins!I$1329","v":0.8},{"$f":"'Base Numbers'!$C$5*'Base Numbers'!$C$6*Sorcadins!J$1329","v":0.8},{"$f":"'Base Numbers'!$C$5*'Base Numbers'!$C$6*Sorcadins!K$1329","v":0.8},{"$f":"'Base Numbers'!$C$5*'Base Numbers'!$C$6*Sorcadins!L$1329","v":0.8},{"$f":"'Base Numbers'!$C$5*'Base Numbers'!$C$6*Sorcadins!M$1329","v":0.8},{"$f":"'Base Numbers'!$C$5*'Base Numbers'!$C$6*Sorcadins!N$1329","v":0.8},{"$f":"'Base Numbers'!$C$5*'Base Numbers'!$C$6*Sorcadins!O$1329","v":0.8},{"$f":"'Base Numbers'!$C$5*'Base Numbers'!$C$6*Sorcadins!P$1329","v":0.8},{"$f":"'Base Numbers'!$C$5*'Base Numbers'!$C$6*Sorcadins!Q$1329","v":0.8},{"$f":"'Base Numbers'!$C$5*'Base Numbers'!$C$6*Sorcadins!R$1329","v":0.8},{"$f":"'Base Numbers'!$C$5*'Base Numbers'!$C$6*Sorcadins!S$1329","v":0.8},{"$f":"'Base Numbers'!$C$5*'Base Numbers'!$C$6*Sorcadins!T$1329","v":0.8},{"$f":"'Base Numbers'!$C$5*'Base Numbers'!$C$6*Sorcadins!U$1329","v":0.8},{"$f":"'Base Numbers'!$C$5*'Base Numbers'!$C$6*Sorcadins!V$1329","v":0.8},{"$f":"'Base Numbers'!$C$5*'Base Numbers'!$C$6*Sorcadins!W$1329","v":0.8},{"$f":"'Base Numbers'!$C$5*'Base Numbers'!$C$6*Sorcadins!X$1329","v":0.8}]
[{"$nulls":3},"number of smites used on crits",{"$f":"MIN(E413,E414)","v":0},0,0,0,0,0,0,0,0,0,0,0,0,0,0,0,0,0,0,0]
[{"$nulls":3},"avg smite dice per crit ",{"$f":"IF(E415>0,MIN(E$7,(E412/MIN(E415,E414))),0)","v":0},0,0,0,0,0,0,0,0,0,0,0,0,0,0,0,0,0,0,0]
[{"$nulls":3},"smites left for non-crits",{"$f":"E413-E415","v":0},{"$f":"F413-F415","v":0},0,0,0,0,0,0,0,0,0,0,0,0,0,0,0,0,0,0]
[{"$nulls":3},"total non-crit smite-qualifying attacks available",{"$f":"Sorcadins!E$1304*('Base Numbers'!$C$5*'Base Numbers'!$C$6)-E414","v":15.2},{"$f":"Sorcadins!F$1304*('Base Numbers'!$C$5*'Base Numbers'!$C$6)-F414","v":15.2},{"$f":"Sorcadins!G$1304*('Base Numbers'!$C$5*'Base Numbers'!$C$6)-G414","v":15.2},{"$f":"Sorcadins!H$1304*('Base Numbers'!$C$5*'Base Numbers'!$C$6)-H414","v":15.2},{"$f":"Sorcadins!I$1304*('Base Numbers'!$C$5*'Base Numbers'!$C$6)-I414","v":15.2},{"$f":"Sorcadins!J$1304*('Base Numbers'!$C$5*'Base Numbers'!$C$6)-J414","v":15.2},{"$f":"Sorcadins!K$1304*('Base Numbers'!$C$5*'Base Numbers'!$C$6)-K414","v":15.2},{"$f":"Sorcadins!L$1304*('Base Numbers'!$C$5*'Base Numbers'!$C$6)-L414","v":15.2},{"$f":"Sorcadins!M$1304*('Base Numbers'!$C$5*'Base Numbers'!$C$6)-M414","v":15.2},{"$f":"Sorcadins!N$1304*('Base Numbers'!$C$5*'Base Numbers'!$C$6)-N414","v":15.2},{"$f":"Sorcadins!O$1304*('Base Numbers'!$C$5*'Base Numbers'!$C$6)-O414","v":15.2},{"$f":"Sorcadins!P$1304*('Base Numbers'!$C$5*'Base Numbers'!$C$6)-P414","v":15.2},{"$f":"Sorcadins!Q$1304*('Base Numbers'!$C$5*'Base Numbers'!$C$6)-Q414","v":15.2},{"$f":"Sorcadins!R$1304*('Base Numbers'!$C$5*'Base Numbers'!$C$6)-R414","v":15.2},{"$f":"Sorcadins!S$1304*('Base Numbers'!$C$5*'Base Numbers'!$C$6)-S414","v":15.2},{"$f":"Sorcadins!T$1304*('Base Numbers'!$C$5*'Base Numbers'!$C$6)-T414","v":15.2},{"$f":"Sorcadins!U$1304*('Base Numbers'!$C$5*'Base Numbers'!$C$6)-U414","v":15.2},{"$f":"Sorcadins!V$1304*('Base Numbers'!$C$5*'Base Numbers'!$C$6)-V414","v":15.2},{"$f":"Sorcadins!W$1304*('Base Numbers'!$C$5*'Base Numbers'!$C$6)-W414","v":15.2},{"$f":"Sorcadins!X$1304*('Base Numbers'!$C$5*'Base Numbers'!$C$6)-X414","v":15.2}]
[{"$nulls":3},"smite dice left for non-crits",{"$f":"ROUND(MAX(0,E412-E414*E416),4)","v":0},{"$f":"ROUND(MAX(0,F412-F414*F416),4)","v":0},0,0,0,0,0,0,0,0,0,0,0,0,0,0,0,0,0,0]
[{"$nulls":3},"total smite dice used on crits",{"$f":"E415*E416","v":0},{"$f":"F415*F416","v":0},0,0,0,0,0,0,0,0,0,0,0,0,0,0,0,0,0,0]
[{"$nulls":3},"total crit smite damage per day",{"$f":"9*E420","v":0},0,0,0,0,0,0,0,0,0,0,0,0,0,0,0,0,0,0,0]
[{"$nulls":3},"total non-crit smite damage per day",{"$f":"4.5*MIN(MIN(E418,E417)*E$7,E419)","v":0},{"$f":"4.5*MIN(MIN(F418,F417)*F$7,F419)","v":0},0,0,0,0,0,0,0,0,0,0,0,0,0,0,0,0,0,0]
[{"$nulls":3},"leftover sorc points + spell levels",{"$f":"IF(E412>0,IF(Sorcadins!E$273>0,(Sorcadins!E$273*E410+E409-E415*E416-E422/4.5)/Sorcadins!E$273,0),E410+E409)","v":0},{"$f":"IF(F412>0,IF(Sorcadins!F$273>0,(Sorcadins!F$273*F410+F409-F415*F416-F422/4.5)/Sorcadins!F$273,0),F410+F409)","v":0},{"$f":"IF(G412>0,IF(Sorcadins!G$273>0,(Sorcadins!G$273*G410+G409-G415*G416-G422/4.5)/Sorcadins!G$273,0),G410+G409)","v":0},{"$f":"IF(H412>0,IF(Sorcadins!H$273>0,(Sorcadins!H$273*H410+H409-H415*H416-H422/4.5)/Sorcadins!H$273,0),H410+H409)","v":0},{"$f":"IF(I412>0,IF(Sorcadins!I$273>0,(Sorcadins!I$273*I410+I409-I415*I416-I422/4.5)/Sorcadins!I$273,0),I410+I409)","v":0},{"$f":"IF(J412>0,IF(Sorcadins!J$273>0,(Sorcadins!J$273*J410+J409-J415*J416-J422/4.5)/Sorcadins!J$273,0),J410+J409)","v":0},{"$f":"IF(K412>0,IF(Sorcadins!K$273>0,(Sorcadins!K$273*K410+K409-K415*K416-K422/4.5)/Sorcadins!K$273,0),K410+K409)","v":0},{"$f":"IF(L412>0,IF(Sorcadins!L$273>0,(Sorcadins!L$273*L410+L409-L415*L416-L422/4.5)/Sorcadins!L$273,0),L410+L409)","v":0},{"$f":"IF(M412>0,IF(Sorcadins!M$273>0,(Sorcadins!M$273*M410+M409-M415*M416-M422/4.5)/Sorcadins!M$273,0),M410+M409)","v":0},{"$f":"IF(N412>0,IF(Sorcadins!N$273>0,(Sorcadins!N$273*N410+N409-N415*N416-N422/4.5)/Sorcadins!N$273,0),N410+N409)","v":0},{"$f":"IF(O412>0,IF(Sorcadins!O$273>0,(Sorcadins!O$273*O410+O409-O415*O416-O422/4.5)/Sorcadins!O$273,0),O410+O409)","v":0},{"$f":"IF(P412>0,IF(Sorcadins!P$273>0,(Sorcadins!P$273*P410+P409-P415*P416-P422/4.5)/Sorcadins!P$273,0),P410+P409)","v":0},{"$f":"IF(Q412>0,IF(Sorcadins!Q$273>0,(Sorcadins!Q$273*Q410+Q409-Q415*Q416-Q422/4.5)/Sorcadins!Q$273,0),Q410+Q409)","v":0},{"$f":"IF(R412>0,IF(Sorcadins!R$273>0,(Sorcadins!R$273*R410+R409-R415*R416-R422/4.5)/Sorcadins!R$273,0),R410+R409)","v":0},{"$f":"IF(S412>0,IF(Sorcadins!S$273>0,(Sorcadins!S$273*S410+S409-S415*S416-S422/4.5)/Sorcadins!S$273,0),S410+S409)","v":0},{"$f":"IF(T412>0,IF(Sorcadins!T$273>0,(Sorcadins!T$273*T410+T409-T415*T416-T422/4.5)/Sorcadins!T$273,0),T410+T409)","v":0},{"$f":"IF(U412>0,IF(Sorcadins!U$273>0,(Sorcadins!U$273*U410+U409-U415*U416-U422/4.5)/Sorcadins!U$273,0),U410+U409)","v":0},{"$f":"IF(V412>0,IF(Sorcadins!V$273>0,(Sorcadins!V$273*V410+V409-V415*V416-V422/4.5)/Sorcadins!V$273,0),V410+V409)","v":0},{"$f":"IF(W412>0,IF(Sorcadins!W$273>0,(Sorcadins!W$273*W410+W409-W415*W416-W422/4.5)/Sorcadins!W$273,0),W410+W409)","v":0},{"$f":"IF(X412>0,IF(Sorcadins!X$273>0,(Sorcadins!X$273*X410+X409-X415*X416-X422/4.5)/Sorcadins!X$273,0),X410+X409)","v":0}]
[{"$nulls":3},"actual smites performed",{"$f":"E415+IF(E$7>0,MIN(E417,E418,E419/E$7),0)","v":0},{"$f":"F415+IF(F$7>0,MIN(F417,F418,F419/F$7),0)","v":0},0,0,0,0,0,0,0,0,0,0,0,0,0,0,0,0,0,0]
[{"$nulls":3},"total daily smite damage: M5, B10 (Ranged)",{"$f":"E421+E422","v":0},0,0,0,0,0,0,0,0,0,0,0,0,0,0,0,0,0,0,0]
[]
[{"$nulls":3},"SMITES - M5, B11 (Ranged)",1,2,3,4,5,6,7,8,9,10,11,12,13,14,15,16,17,18,19,20]
[{"$nulls":3},"remaining sorcery points (based on Damage Scenario)",{"$f":"MAX(0,Sorcadins!E$561-Sorcadins!E$1276)","v":0},{"$f":"MAX(0,Sorcadins!F$561-Sorcadins!F$1276)","v":0},{"$f":"MAX(0,Sorcadins!G$561-Sorcadins!G$1276)","v":0},{"$f":"MAX(0,Sorcadins!H$561-Sorcadins!H$1276)","v":0},{"$f":"MAX(0,Sorcadins!I$561-Sorcadins!I$1276)","v":0},{"$f":"MAX(0,Sorcadins!J$561-Sorcadins!J$1276)","v":0},{"$f":"MAX(0,Sorcadins!K$561-Sorcadins!K$1276)","v":0},{"$f":"MAX(0,Sorcadins!L$561-Sorcadins!L$1276)","v":0},{"$f":"MAX(0,Sorcadins!M$561-Sorcadins!M$1276)","v":0},{"$f":"MAX(0,Sorcadins!N$561-Sorcadins!N$1276)","v":0},{"$f":"MAX(0,Sorcadins!O$561-Sorcadins!O$1276)","v":0},{"$f":"MAX(0,Sorcadins!P$561-Sorcadins!P$1276)","v":0},{"$f":"MAX(0,Sorcadins!Q$561-Sorcadins!Q$1276)","v":0},{"$f":"MAX(0,Sorcadins!R$561-Sorcadins!R$1276)","v":0},{"$f":"MAX(0,Sorcadins!S$561-Sorcadins!S$1276)","v":0},{"$f":"MAX(0,Sorcadins!T$561-Sorcadins!T$1276)","v":0},{"$f":"MAX(0,Sorcadins!U$561-Sorcadins!U$1276)","v":0},{"$f":"MAX(0,Sorcadins!V$561-Sorcadins!V$1276)","v":0},{"$f":"MAX(0,Sorcadins!W$561-Sorcadins!W$1276)","v":0},{"$f":"MAX(0,Sorcadins!X$561-Sorcadins!X$1276)","v":0},null,"*Sorc points directly convertible to Smite Dice"]
[{"$nulls":3},"remaining spell slot levels (based on Damage Scenario)",{"$f":"MAX(0,Sorcadins!E$281-MAX(0,Sorcadins!E$1276-Sorcadins!E$561))","v":0},{"$f":"MAX(0,Sorcadins!F$281-MAX(0,Sorcadins!F$1276-Sorcadins!F$561))","v":0},{"$f":"MAX(0,Sorcadins!G$281-MAX(0,Sorcadins!G$1276-Sorcadins!G$561))","v":0},{"$f":"MAX(0,Sorcadins!H$281-MAX(0,Sorcadins!H$1276-Sorcadins!H$561))","v":0},{"$f":"MAX(0,Sorcadins!I$281-MAX(0,Sorcadins!I$1276-Sorcadins!I$561))","v":0},{"$f":"MAX(0,Sorcadins!J$281-MAX(0,Sorcadins!J$1276-Sorcadins!J$561))","v":0},{"$f":"MAX(0,Sorcadins!K$281-MAX(0,Sorcadins!K$1276-Sorcadins!K$561))","v":0},{"$f":"MAX(0,Sorcadins!L$281-MAX(0,Sorcadins!L$1276-Sorcadins!L$561))","v":0},{"$f":"MAX(0,Sorcadins!M$281-MAX(0,Sorcadins!M$1276-Sorcadins!M$561))","v":0},{"$f":"MAX(0,Sorcadins!N$281-MAX(0,Sorcadins!N$1276-Sorcadins!N$561))","v":0},{"$f":"MAX(0,Sorcadins!O$281-MAX(0,Sorcadins!O$1276-Sorcadins!O$561))","v":0},{"$f":"MAX(0,Sorcadins!P$281-MAX(0,Sorcadins!P$1276-Sorcadins!P$561))","v":0},{"$f":"MAX(0,Sorcadins!Q$281-MAX(0,Sorcadins!Q$1276-Sorcadins!Q$561))","v":0},{"$f":"MAX(0,Sorcadins!R$281-MAX(0,Sorcadins!R$1276-Sorcadins!R$561))","v":0},{"$f":"MAX(0,Sorcadins!S$281-MAX(0,Sorcadins!S$1276-Sorcadins!S$561))","v":0},{"$f":"MAX(0,Sorcadins!T$281-MAX(0,Sorcadins!T$1276-Sorcadins!T$561))","v":0},{"$f":"MAX(0,Sorcadins!U$281-MAX(0,Sorcadins!U$1276-Sorcadins!U$561))","v":0},{"$f":"MAX(0,Sorcadins!V$281-MAX(0,Sorcadins!V$1276-Sorcadins!V$561))","v":0},{"$f":"MAX(0,Sorcadins!W$281-MAX(0,Sorcadins!W$1276-Sorcadins!W$561))","v":0},{"$f":"MAX(0,Sorcadins!X$281-MAX(0,Sorcadins!X$1276-Sorcadins!X$561))","v":0}]
[{"$nulls":3},"total warlock smite levels remaining",{"$f":"MIN(Sorcadins!E$273*E429,Sorcadins!E$264)","v":0},{"$f":"MIN(Sorcadins!F$273*F429,Sorcadins!F$264)","v":0},{"$f":"MIN(Sorcadins!G$273*G429,Sorcadins!G$264)","v":0},{"$f":"MIN(Sorcadins!H$273*H429,Sorcadins!H$264)","v":0},{"$f":"MIN(Sorcadins!I$273*I429,Sorcadins!I$264)","v":0},{"$f":"MIN(Sorcadins!J$273*J429,Sorcadins!J$264)","v":0},{"$f":"MIN(Sorcadins!K$273*K429,Sorcadins!K$264)","v":0},{"$f":"MIN(Sorcadins!L$273*L429,Sorcadins!L$264)","v":0},{"$f":"MIN(Sorcadins!M$273*M429,Sorcadins!M$264)","v":0},{"$f":"MIN(Sorcadins!N$273*N429,Sorcadins!N$264)","v":0},{"$f":"MIN(Sorcadins!O$273*O429,Sorcadins!O$264)","v":0},{"$f":"MIN(Sorcadins!P$273*P429,Sorcadins!P$264)","v":0},{"$f":"MIN(Sorcadins!Q$273*Q429,Sorcadins!Q$264)","v":0},{"$f":"MIN(Sorcadins!R$273*R429,Sorcadins!R$264)","v":0},{"$f":"MIN(Sorcadins!S$273*S429,Sorcadins!S$264)","v":0},{"$f":"MIN(Sorcadins!T$273*T429,Sorcadins!T$264)","v":0},{"$f":"MIN(Sorcadins!U$273*U429,Sorcadins!U$264)","v":0},{"$f":"MIN(Sorcadins!V$273*V429,Sorcadins!V$264)","v":0},{"$f":"MIN(Sorcadins!W$273*W429,Sorcadins!W$264)","v":0},{"$f":"MIN(Sorcadins!X$273*X429,Sorcadins!X$264)","v":0}]
[{"$nulls":3},"total smite levels remaining",{"$f":"IF(Sorcadins!E12>=5,E430,0)","v":0},{"$f":"IF(Sorcadins!F12>=5,F430,0)","v":0},{"$f":"IF(Sorcadins!G12>=5,G430,0)","v":0},{"$f":"IF(Sorcadins!H12>=5,H430,0)","v":0},{"$f":"IF(Sorcadins!I12>=5,I430,0)","v":0},{"$f":"IF(Sorcadins!J12>=5,J430,0)","v":0},{"$f":"IF(Sorcadins!K12>=5,K430,0)","v":0},{"$f":"IF(Sorcadins!L12>=5,L430,0)","v":0},{"$f":"IF(Sorcadins!M12>=5,M430,0)","v":0},{"$f":"IF(Sorcadins!N12>=5,N430,0)","v":0},{"$f":"IF(Sorcadins!O12>=5,O430,0)","v":0},{"$f":"IF(Sorcadins!P12>=5,P430,0)","v":0},{"$f":"IF(Sorcadins!Q12>=5,Q430,0)","v":0},{"$f":"IF(Sorcadins!R12>=5,R430,0)","v":0},{"$f":"IF(Sorcadins!S12>=5,S430,0)","v":0},{"$f":"IF(Sorcadins!T12>=5,T430,0)","v":0},{"$f":"IF(Sorcadins!U12>=5,U430,0)","v":0},{"$f":"IF(Sorcadins!V12>=5,V430,0)","v":0},{"$f":"IF(Sorcadins!W12>=5,W430,0)","v":0},{"$f":"IF(Sorcadins!X12>=5,X430,0)","v":0},null,"* ranged smites restricted to warlock L5 smites"]
[{"$nulls":3},"max number of daily smites (after spells)",{"$f":"Sorcadins!E$1157","v":0},{"$f":"Sorcadins!F$1157","v":0},{"$f":"Sorcadins!G$1157","v":0},{"$f":"Sorcadins!H$1157","v":0},{"$f":"Sorcadins!I$1157","v":0},{"$f":"Sorcadins!J$1157","v":0},{"$f":"Sorcadins!K$1157","v":0},{"$f":"Sorcadins!L$1157","v":0},{"$f":"Sorcadins!M$1157","v":0},{"$f":"Sorcadins!N$1157","v":0},{"$f":"Sorcadins!O$1157","v":0},{"$f":"Sorcadins!P$1157","v":0},{"$f":"Sorcadins!Q$1157","v":0},{"$f":"Sorcadins!R$1157","v":0},{"$f":"Sorcadins!S$1157","v":0},{"$f":"Sorcadins!T$1157","v":0},{"$f":"Sorcadins!U$1157","v":0},{"$f":"Sorcadins!V$1157","v":0},{"$f":"Sorcadins!W$1157","v":0},{"$f":"Sorcadins!X$1157","v":0}]
[{"$nulls":3},"avg crits per day for smite purposes (based on Damage Scenario)",{"$f":"'Base Numbers'!$C$5*'Base Numbers'!$C$6*Sorcadins!E$1330","v":0.8},{"$f":"'Base Numbers'!$C$5*'Base Numbers'!$C$6*Sorcadins!F$1330","v":0.8},{"$f":"'Base Numbers'!$C$5*'Base Numbers'!$C$6*Sorcadins!G$1330","v":0.8},{"$f":"'Base Numbers'!$C$5*'Base Numbers'!$C$6*Sorcadins!H$1330","v":0.8},{"$f":"'Base Numbers'!$C$5*'Base Numbers'!$C$6*Sorcadins!I$1330","v":0.8},{"$f":"'Base Numbers'!$C$5*'Base Numbers'!$C$6*Sorcadins!J$1330","v":0.8},{"$f":"'Base Numbers'!$C$5*'Base Numbers'!$C$6*Sorcadins!K$1330","v":0.8},{"$f":"'Base Numbers'!$C$5*'Base Numbers'!$C$6*Sorcadins!L$1330","v":0.8},{"$f":"'Base Numbers'!$C$5*'Base Numbers'!$C$6*Sorcadins!M$1330","v":0.8},{"$f":"'Base Numbers'!$C$5*'Base Numbers'!$C$6*Sorcadins!N$1330","v":0.8},{"$f":"'Base Numbers'!$C$5*'Base Numbers'!$C$6*Sorcadins!O$1330","v":0.8},{"$f":"'Base Numbers'!$C$5*'Base Numbers'!$C$6*Sorcadins!P$1330","v":0.8},{"$f":"'Base Numbers'!$C$5*'Base Numbers'!$C$6*Sorcadins!Q$1330","v":0.8},{"$f":"'Base Numbers'!$C$5*'Base Numbers'!$C$6*Sorcadins!R$1330","v":0.8},{"$f":"'Base Numbers'!$C$5*'Base Numbers'!$C$6*Sorcadins!S$1330","v":0.8},{"$f":"'Base Numbers'!$C$5*'Base Numbers'!$C$6*Sorcadins!T$1330","v":0.8},{"$f":"'Base Numbers'!$C$5*'Base Numbers'!$C$6*Sorcadins!U$1330","v":0.8},{"$f":"'Base Numbers'!$C$5*'Base Numbers'!$C$6*Sorcadins!V$1330","v":0.8},{"$f":"'Base Numbers'!$C$5*'Base Numbers'!$C$6*Sorcadins!W$1330","v":0.8},{"$f":"'Base Numbers'!$C$5*'Base Numbers'!$C$6*Sorcadins!X$1330","v":0.8}]
[{"$nulls":3},"number of smites used on crits",{"$f":"MIN(E432,E433)","v":0},0,0,0,0,0,0,0,0,0,0,0,0,0,0,0,0,0,0,0]
[{"$nulls":3},"avg smite dice per crit ",{"$f":"IF(E434>0,MIN(E$7,(E431/MIN(E434,E433))),0)","v":0},0,0,0,0,0,0,0,0,0,0,0,0,0,0,0,0,0,0,0]
[{"$nulls":3},"smites left for non-crits",{"$f":"E432-E434","v":0},{"$f":"F432-F434","v":0},0,0,0,0,0,0,0,0,0,0,0,0,0,0,0,0,0,0]
[{"$nulls":3},"total non-crit smite-qualifying attacks available",{"$f":"Sorcadins!E$1305*('Base Numbers'!$C$5*'Base Numbers'!$C$6)-E433","v":15.2},{"$f":"Sorcadins!F$1305*('Base Numbers'!$C$5*'Base Numbers'!$C$6)-F433","v":15.2},{"$f":"Sorcadins!G$1305*('Base Numbers'!$C$5*'Base Numbers'!$C$6)-G433","v":15.2},{"$f":"Sorcadins!H$1305*('Base Numbers'!$C$5*'Base Numbers'!$C$6)-H433","v":15.2},{"$f":"Sorcadins!I$1305*('Base Numbers'!$C$5*'Base Numbers'!$C$6)-I433","v":15.2},{"$f":"Sorcadins!J$1305*('Base Numbers'!$C$5*'Base Numbers'!$C$6)-J433","v":15.2},{"$f":"Sorcadins!K$1305*('Base Numbers'!$C$5*'Base Numbers'!$C$6)-K433","v":15.2},{"$f":"Sorcadins!L$1305*('Base Numbers'!$C$5*'Base Numbers'!$C$6)-L433","v":15.2},{"$f":"Sorcadins!M$1305*('Base Numbers'!$C$5*'Base Numbers'!$C$6)-M433","v":15.2},{"$f":"Sorcadins!N$1305*('Base Numbers'!$C$5*'Base Numbers'!$C$6)-N433","v":15.2},{"$f":"Sorcadins!O$1305*('Base Numbers'!$C$5*'Base Numbers'!$C$6)-O433","v":15.2},{"$f":"Sorcadins!P$1305*('Base Numbers'!$C$5*'Base Numbers'!$C$6)-P433","v":15.2},{"$f":"Sorcadins!Q$1305*('Base Numbers'!$C$5*'Base Numbers'!$C$6)-Q433","v":15.2},{"$f":"Sorcadins!R$1305*('Base Numbers'!$C$5*'Base Numbers'!$C$6)-R433","v":15.2},{"$f":"Sorcadins!S$1305*('Base Numbers'!$C$5*'Base Numbers'!$C$6)-S433","v":15.2},{"$f":"Sorcadins!T$1305*('Base Numbers'!$C$5*'Base Numbers'!$C$6)-T433","v":15.2},{"$f":"Sorcadins!U$1305*('Base Numbers'!$C$5*'Base Numbers'!$C$6)-U433","v":15.2},{"$f":"Sorcadins!V$1305*('Base Numbers'!$C$5*'Base Numbers'!$C$6)-V433","v":15.2},{"$f":"Sorcadins!W$1305*('Base Numbers'!$C$5*'Base Numbers'!$C$6)-W433","v":15.2},{"$f":"Sorcadins!X$1305*('Base Numbers'!$C$5*'Base Numbers'!$C$6)-X433","v":15.2}]
[{"$nulls":3},"smite dice left for non-crits",{"$f":"ROUND(MAX(0,E431-E433*E435),4)","v":0},{"$f":"ROUND(MAX(0,F431-F433*F435),4)","v":0},0,0,0,0,0,0,0,0,0,0,0,0,0,0,0,0,0,0]
[{"$nulls":3},"total smite dice used on crits",{"$f":"E434*E435","v":0},{"$f":"F434*F435","v":0},0,0,0,0,0,0,0,0,0,0,0,0,0,0,0,0,0,0]
[{"$nulls":3},"total crit smite damage per day",{"$f":"9*E439","v":0},0,0,0,0,0,0,0,0,0,0,0,0,0,0,0,0,0,0,0]
[{"$nulls":3},"total non-crit smite damage per day",{"$f":"4.5*MIN(MIN(E437,E436)*E$7,E438)","v":0},{"$f":"4.5*MIN(MIN(F437,F436)*F$7,F438)","v":0},0,0,0,0,0,0,0,0,0,0,0,0,0,0,0,0,0,0]
[{"$nulls":3},"leftover sorc points + spell levels",{"$f":"IF(E431>0,IF(Sorcadins!E$273>0,(Sorcadins!E$273*E429+E428-E434*E435-E441/4.5)/Sorcadins!E$273,0),E429+E428)","v":0},{"$f":"IF(F431>0,IF(Sorcadins!F$273>0,(Sorcadins!F$273*F429+F428-F434*F435-F441/4.5)/Sorcadins!F$273,0),F429+F428)","v":0},{"$f":"IF(G431>0,IF(Sorcadins!G$273>0,(Sorcadins!G$273*G429+G428-G434*G435-G441/4.5)/Sorcadins!G$273,0),G429+G428)","v":0},{"$f":"IF(H431>0,IF(Sorcadins!H$273>0,(Sorcadins!H$273*H429+H428-H434*H435-H441/4.5)/Sorcadins!H$273,0),H429+H428)","v":0},{"$f":"IF(I431>0,IF(Sorcadins!I$273>0,(Sorcadins!I$273*I429+I428-I434*I435-I441/4.5)/Sorcadins!I$273,0),I429+I428)","v":0},{"$f":"IF(J431>0,IF(Sorcadins!J$273>0,(Sorcadins!J$273*J429+J428-J434*J435-J441/4.5)/Sorcadins!J$273,0),J429+J428)","v":0},{"$f":"IF(K431>0,IF(Sorcadins!K$273>0,(Sorcadins!K$273*K429+K428-K434*K435-K441/4.5)/Sorcadins!K$273,0),K429+K428)","v":0},{"$f":"IF(L431>0,IF(Sorcadins!L$273>0,(Sorcadins!L$273*L429+L428-L434*L435-L441/4.5)/Sorcadins!L$273,0),L429+L428)","v":0},{"$f":"IF(M431>0,IF(Sorcadins!M$273>0,(Sorcadins!M$273*M429+M428-M434*M435-M441/4.5)/Sorcadins!M$273,0),M429+M428)","v":0},{"$f":"IF(N431>0,IF(Sorcadins!N$273>0,(Sorcadins!N$273*N429+N428-N434*N435-N441/4.5)/Sorcadins!N$273,0),N429+N428)","v":0},{"$f":"IF(O431>0,IF(Sorcadins!O$273>0,(Sorcadins!O$273*O429+O428-O434*O435-O441/4.5)/Sorcadins!O$273,0),O429+O428)","v":0},{"$f":"IF(P431>0,IF(Sorcadins!P$273>0,(Sorcadins!P$273*P429+P428-P434*P435-P441/4.5)/Sorcadins!P$273,0),P429+P428)","v":0},{"$f":"IF(Q431>0,IF(Sorcadins!Q$273>0,(Sorcadins!Q$273*Q429+Q428-Q434*Q435-Q441/4.5)/Sorcadins!Q$273,0),Q429+Q428)","v":0},{"$f":"IF(R431>0,IF(Sorcadins!R$273>0,(Sorcadins!R$273*R429+R428-R434*R435-R441/4.5)/Sorcadins!R$273,0),R429+R428)","v":0},{"$f":"IF(S431>0,IF(Sorcadins!S$273>0,(Sorcadins!S$273*S429+S428-S434*S435-S441/4.5)/Sorcadins!S$273,0),S429+S428)","v":0},{"$f":"IF(T431>0,IF(Sorcadins!T$273>0,(Sorcadins!T$273*T429+T428-T434*T435-T441/4.5)/Sorcadins!T$273,0),T429+T428)","v":0},{"$f":"IF(U431>0,IF(Sorcadins!U$273>0,(Sorcadins!U$273*U429+U428-U434*U435-U441/4.5)/Sorcadins!U$273,0),U429+U428)","v":0},{"$f":"IF(V431>0,IF(Sorcadins!V$273>0,(Sorcadins!V$273*V429+V428-V434*V435-V441/4.5)/Sorcadins!V$273,0),V429+V428)","v":0},{"$f":"IF(W431>0,IF(Sorcadins!W$273>0,(Sorcadins!W$273*W429+W428-W434*W435-W441/4.5)/Sorcadins!W$273,0),W429+W428)","v":0},{"$f":"IF(X431>0,IF(Sorcadins!X$273>0,(Sorcadins!X$273*X429+X428-X434*X435-X441/4.5)/Sorcadins!X$273,0),X429+X428)","v":0}]
[{"$nulls":3},"actual smites performed",{"$f":"E434+IF(E$7>0,MIN(E436,E437,E438/E$7),0)","v":0},{"$f":"F434+IF(F$7>0,MIN(F436,F437,F438/F$7),0)","v":0},0,0,0,0,0,0,0,0,0,0,0,0,0,0,0,0,0,0]
[{"$nulls":3},"total daily smite damage: M5, B11 (Ranged)",{"$f":"E440+E441","v":0},0,0,0,0,0,0,0,0,0,0,0,0,0,0,0,0,0,0,0]

{"sheet":"Damage Scenarios","index":5,"n_rows":30,"n_cols":12,"rows_kept":30}
[]
[]
[]
[]
[null,"Main Attack Scenarios",null,"Damage Scenarios"]
[null,"(M1) main attack attack action (adj for spells)",null,null,"BB?","EB?","QBB?","QEB?","Ranged?","M#","B#","O#"]
[null,"(M2) main attack BB",null,"M1, B1, O1/O2",0,0,0,0,0,1,1,1]
[null,"(M3) main attack melee EB",null,"M1, B1, O3",0,0,0,0,0,1,1,3]
[null,"(M4) main attack ranged EB",null,"M1, B2, O1/O2",0,0,1,0,0,1,2,1]
[null,"(M5) main attack ranged bow",null,"M1, B2, O3",0,0,1,0,0,1,2,3]
[{"$nulls":3},"M1, B3, O1/O2",0,0,0,1,0,1,3,1]
[null,"Bonus Attack Scenarios:",null,"M1, B3, O3",0,0,0,1,0,1,3,3]
[null,"(B1) weapon-based bonus attack (no Quicken BB or EB)",null,"M1, B4, O1/O2",0,0,1,0,0,1,4,1]
[null,"(B2) weapon-based bonus attack when possible, otherwise Q BB",null,"M1, B4, O3",0,0,1,0,0,1,4,3]
[null,"(B3) weapon-based bonus attack when possible, otherwise Q EB",null,"M1, B5, O1/O2",0,0,0,1,0,1,5,1]
[null,"(B4) bonus attack Q BB when possible, otherwise weapon attack",null,"M1, B5, O3",0,0,0,1,0,1,5,3]
[null,"(B5) bonus attack Q EB when possible, otherwise weapon attack",null,"M2, B6, O1/O2",1,0,1,0,0,2,6,1]
[null,"(B6) bonus attack Q BB and GWM bonus melee attacks (with main action BB)",null,"M2, B6, O3",1,0,1,0,0,2,6,3]
[null,"(B7) bonus attack Q EB and GWM bonus melee attacks (with main action BB)",null,"M2, B7, O1/O2",1,0,0,1,0,2,7,1]
[null,"(B8) bonus attack QQ EB melee range (only, with main action EB)",null,"M2, B7, O3",1,0,0,1,0,2,7,3]
[null,"(B9) bonus attack QQ EB ranged (only, with main action EB)",null,"M2, B12, O1/O2",1,0,1,0,0,2,12,1]
[null,"(B10) bonus attack QQ EB ranged, or Ranged bonus attack",null,"M2, B12, O3",1,0,1,0,0,2,12,3]
[null,"(B11) ranged bonus attack (no Quicken BB or EB)",null,"M2, B13, O1/O2",1,0,0,1,0,2,13,1]
[null,"(B12) bonus attack GWM bons att w Q BB fallback  (with main action BB)",null,"M2, B13, O3",1,0,0,1,0,2,13,3]
[null,"(B13) bonus attack GWM bons att w Q EB fallback  (with main action BB)",null,"M3, B8, O1/O2",0,1,0,1,0,3,8,1]
[{"$nulls":3},"M3, B8, O3",0,1,0,1,0,3,8,3]
[null,"Opportunity Attack Scenarios:",null,"M4, B9",0,1,0,1,1,4,9,0]
[null,"(O1) opp att damage option: melee attack",null,"M5, B10",0,0,0,1,1,5,10,0]
[null,"(O2) opp att damage option: booming blade",null,"M5, B11",0,0,0,0,1,5,11,0]
[null,"(O3) opp att damage option: melee-range eldritch blast"]

{"sheet":"SpellOrder","index":6,"n_rows":23,"n_cols":132,"rows_kept":23,"merged":[[3,4,4,4]]}
[]
[{"$nulls":3},"actual casts per day row number:"]
[null,"ACTUAL CASTS PER DAY (based on total available slots)",null,{"$f":"MATCH(B3,Sorcadins!$D$1:'Sorcadins'!$D1522,0)","v":221},null,"Level"]
[{"$nulls":4},"Spell index in Actual Casts Array:",1,2,3,4,5,6,7,8,9,10,11,12,13,14,15,16,17,18,19,20]
[null,"Spell","SpellPriority",null,null,"actual casts per day",{"$nulls":20},"total upcastable spells of equal or higher priority",{"$nulls":20},"avg spell slot of spells with equal or higher priority",{"$nulls":20},"upcast equation factor for spell",{"$nulls":20},"avg slot used for this spell",{"$nulls":20},"upcast equation factor for this spell, for use in other spell's higher upcast priority equation"]
[null,"Spirit Guardians",1,"spirit guardians casts (c) (req Divine Soul)",{"$f":"MATCH($D6,INDEX(Sorcadins!$D:$D,$D$3):'Sorcadins'!$D1522,0)-1","v":11},{"$f":"IF(CELL(\"contents\",INDIRECT(ADDRESS($D$3+$E6,4+F$4,1,1,\"Sorcadins\")))>=1,CELL(\"contents\",INDIRECT(ADDRESS($D$3+$E6,4+F$4,1,1,\"Sorcadins\"))),0)","v":0},{"$f":"IF(CELL(\"contents\",INDIRECT(ADDRESS($D$3+$E6,4+G$4,1,1,\"Sorcadins\")))>=1,CELL(\"contents\",INDIRECT(ADDRESS($D$3+$E6,4+G$4,1,1,\"Sorcadins\"))),0)","v":0},{"$f":"IF(CELL(\"contents\",INDIRECT(ADDRESS($D$3+$E6,4+H$4,1,1,\"Sorcadins\")))>=1,CELL(\"contents\",INDIRECT(ADDRESS($D$3+$E6,4+H$4,1,1,\"Sorcadins\"))),0)","v":0},{"$f":"IF(CELL(\"contents\",INDIRECT(ADDRESS($D$3+$E6,4+I$4,1,1,\"Sorcadins\")))>=1,CELL(\"contents\",INDIRECT(ADDRESS($D$3+$E6,4+I$4,1,1,\"Sorcadins\"))),0)","v":0},{"$f":"IF(CELL(\"contents\",INDIRECT(ADDRESS($D$3+$E6,4+J$4,1,1,\"Sorcadins\")))>=1,CELL(\"contents\",INDIRECT(ADDRESS($D$3+$E6,4+J$4,1,1,\"Sorcadins\"))),0)","v":0},{"$f":"IF(CELL(\"contents\",INDIRECT(ADDRESS($D$3+$E6,4+K$4,1,1,\"Sorcadins\")))>=1,CELL(\"contents\",INDIRECT(ADDRESS($D$3+$E6,4+K$4,1,1,\"Sorcadins\"))),0)","v":0},{"$f":"IF(CELL(\"contents\",INDIRECT(ADDRESS($D$3+$E6,4+L$4,1,1,\"Sorcadins\")))>=1,CELL(\"contents\",INDIRECT(ADDRESS($D$3+$E6,4+L$4,1,1,\"Sorcadins\"))),0)","v":0},{"$f":"IF(CELL(\"contents\",INDIRECT(ADDRESS($D$3+$E6,4+M$4,1,1,\"Sorcadins\")))>=1,CELL(\"contents\",INDIRECT(ADDRESS($D$3+$E6,4+M$4,1,1,\"Sorcadins\"))),0)","v":0},{"$f":"IF(CELL(\"contents\",INDIRECT(ADDRESS($D$3+$E6,4+N$4,1,1,\"Sorcadins\")))>=1,CELL(\"contents\",INDIRECT(ADDRESS($D$3+$E6,4+N$4,1,1,\"Sorcadins\"))),0)","v":0},{"$f":"IF(CELL(\"contents\",INDIRECT(ADDRESS($D$3+$E6,4+O$4,1,1,\"Sorcadins\")))>=1,CELL(\"contents\",INDIRECT(ADDRESS($D$3+$E6,4+O$4,1,1,\"Sorcadins\"))),0)","v":0},{"$f":"IF(CELL(\"contents\",INDIRECT(ADDRESS($D$3+$E6,4+P$4,1,1,\"Sorcadins\")))>=1,CELL(\"contents\",INDIRECT(ADDRESS($D$3+$E6,4+P$4,1,1,\"Sorcadins\"))),0)","v":0},{"$f":"IF(CELL(\"contents\",INDIRECT(ADDRESS($D$3+$E6,4+Q$4,1,1,\"Sorcadins\")))>=1,CELL(\"contents\",INDIRECT(ADDRESS($D$3+$E6,4+Q$4,1,1,\"Sorcadins\"))),0)","v":0},{"$f":"IF(CELL(\"contents\",INDIRECT(ADDRESS($D$3+$E6,4+R$4,1,1,\"Sorcadins\")))>=1,CELL(\"contents\",INDIRECT(ADDRESS($D$3+$E6,4+R$4,1,1,\"Sorcadins\"))),0)","v":0},{"$f":"IF(CELL(\"contents\",INDIRECT(ADDRESS($D$3+$E6,4+S$4,1,1,\"Sorcadins\")))>=1,CELL(\"contents\",INDIRECT(ADDRESS($D$3+$E6,4+S$4,1,1,\"Sorcadins\"))),0)","v":0},{"$f":"IF(CELL(\"contents\",INDIRECT(ADDRESS($D$3+$E6,4+T$4,1,1,\"Sorcadins\")))>=1,CELL(\"contents\",INDIRECT(ADDRESS($D$3+$E6,4+T$4,1,1,\"Sorcadins\"))),0)","v":0},{"$f":"IF(CELL(\"contents\",INDIRECT(ADDRESS($D$3+$E6,4+U$4,1,1,\"Sorcadins\")))>=1,CELL(\"contents\",INDIRECT(ADDRESS($D$3+$E6,4+U$4,1,1,\"Sorcadins\"))),0)","v":0},{"$f":"IF(CELL(\"contents\",INDIRECT(ADDRESS($D$3+$E6,4+V$4,1,1,\"Sorcadins\")))>=1,CELL(\"contents\",INDIRECT(ADDRESS($D$3+$E6,4+V$4,1,1,\"Sorcadins\"))),0)","v":0},{"$f":"IF(CELL(\"contents\",INDIRECT(ADDRESS($D$3+$E6,4+W$4,1,1,\"Sorcadins\")))>=1,CELL(\"contents\",INDIRECT(ADDRESS($D$3+$E6,4+W$4,1,1,\"Sorcadins\"))),0)","v":0},{"$f":"IF(CELL(\"contents\",INDIRECT(ADDRESS($D$3+$E6,4+X$4,1,1,\"Sorcadins\")))>=1,CELL(\"contents\",INDIRECT(ADDRESS($D$3+$E6,4+X$4,1,1,\"Sorcadins\"))),0)","v":0},{"$f":"IF(CELL(\"contents\",INDIRECT(ADDRESS($D$3+$E6,4+Y$4,1,1,\"Sorcadins\")))>=1,CELL(\"contents\",INDIRECT(ADDRESS($D$3+$E6,4+Y$4,1,1,\"Sorcadins\"))),0)","v":0},null,{"$f":"SUM(F$6:INDEX(F:F,5+$C6))","v":0},{"$f":"SUM(G$6:INDEX(G:G,5+$C6))","v":0},{"$f":"SUM(H$6:INDEX(H:H,5+$C6))","v":0},{"$f":"SUM(I$6:INDEX(I:I,5+$C6))","v":0},{"$f":"SUM(J$6:INDEX(J:J,5+$C6))","v":0},{"$f":"SUM(K$6:INDEX(K:K,5+$C6))","v":0},{"$f":"SUM(L$6:INDEX(L:L,5+$C6))","v":0},{"$f":"SUM(M$6:INDEX(M:M,5+$C6))","v":0},{"$f":"SUM(N$6:INDEX(N:N,5+$C6))","v":0},{"$f":"SUM(O$6:INDEX(O:O,5+$C6))","v":0},{"$f":"SUM(P$6:INDEX(P:P,5+$C6))","v":0},{"$f":"SUM(Q$6:INDEX(Q:Q,5+$C6))","v":0},{"$f":"SUM(R$6:INDEX(R:R,5+$C6))","v":0},{"$f":"SUM(S$6:INDEX(S:S,5+$C6))","v":0},{"$f":"SUM(T$6:INDEX(T:T,5+$C6))","v":0},{"$f":"SUM(U$6:INDEX(U:U,5+$C6))","v":0},{"$f":"SUM(V$6:INDEX(V:V,5+$C6))","v":0},{"$f":"SUM(W$6:INDEX(W:W,5+$C6))","v":0},{"$f":"SUM(X$6:INDEX(X:X,5+$C6))","v":0},{"$f":"SUM(Y$6:INDEX(Y:Y,5+$C6))","v":0},null,{"$f":"IF(AA6>0,IF(Sorcadins!E$265>Sorcadins!E$269,MIN(Sorcadins!E$265,Sorcadins!E$263/AA6),CELL(\"contents\",INDIRECT(ADDRESS(43+Sorcadins!E$21,ROUNDUP(5+MIN(20,AA6),0),1,1,\"Caster Tables\")))),0)","v":0},{"$f":"IF(AB6>0,IF(Sorcadins!F$265>Sorcadins!F$269,MIN(Sorcadins!F$265,Sorcadins!F$263/AB6),CELL(\"contents\",INDIRECT(ADDRESS(43+Sorcadins!F$21,ROUNDUP(5+MIN(20,AB6),0),1,1,\"Caster Tables\")))),0)","v":0},{"$f":"IF(AC6>0,IF(Sorcadins!G$265>Sorcadins!G$269,MIN(Sorcadins!G$265,Sorcadins!G$263/AC6),CELL(\"contents\",INDIRECT(ADDRESS(43+Sorcadins!G$21,ROUNDUP(5+MIN(20,AC6),0),1,1,\"Caster Tables\")))),0)","v":0},{"$f":"IF(AD6>0,IF(Sorcadins!H$265>Sorcadins!H$269,MIN(Sorcadins!H$265,Sorcadins!H$263/AD6),CELL(\"contents\",INDIRECT(ADDRESS(43+Sorcadins!H$21,ROUNDUP(5+MIN(20,AD6),0),1,1,\"Caster Tables\")))),0)","v":0},{"$f":"IF(AE6>0,IF(Sorcadins!I$265>Sorcadins!I$269,MIN(Sorcadins!I$265,Sorcadins!I$263/AE6),CELL(\"contents\",INDIRECT(ADDRESS(43+Sorcadins!I$21,ROUNDUP(5+MIN(20,AE6),0),1,1,\"Caster Tables\")))),0)","v":0},{"$f":"IF(AF6>0,IF(Sorcadins!J$265>Sorcadins!J$269,MIN(Sorcadins!J$265,Sorcadins!J$263/AF6),CELL(\"contents\",INDIRECT(ADDRESS(43+Sorcadins!J$21,ROUNDUP(5+MIN(20,AF6),0),1,1,\"Caster Tables\")))),0)","v":0},{"$f":"IF(AG6>0,IF(Sorcadins!K$265>Sorcadins!K$269,MIN(Sorcadins!K$265,Sorcadins!K$263/AG6),CELL(\"contents\",INDIRECT(ADDRESS(43+Sorcadins!K$21,ROUNDUP(5+MIN(20,AG6),0),1,1,\"Caster Tables\")))),0)","v":0},{"$f":"IF(AH6>0,IF(Sorcadins!L$265>Sorcadins!L$269,MIN(Sorcadins!L$265,Sorcadins!L$263/AH6),CELL(\"contents\",INDIRECT(ADDRESS(43+Sorcadins!L$21,ROUNDUP(5+MIN(20,AH6),0),1,1,\"Caster Tables\")))),0)","v":0},{"$f":"IF(AI6>0,IF(Sorcadins!M$265>Sorcadins!M$269,MIN(Sorcadins!M$265,Sorcadins!M$263/AI6),CELL(\"contents\",INDIRECT(ADDRESS(43+Sorcadins!M$21,ROUNDUP(5+MIN(20,AI6),0),1,1,\"Caster Tables\")))),0)","v":0},{"$f":"IF(AJ6>0,IF(Sorcadins!N$265>Sorcadins!N$269,MIN(Sorcadins!N$265,Sorcadins!N$263/AJ6),CELL(\"contents\",INDIRECT(ADDRESS(43+Sorcadins!N$21,ROUNDUP(5+MIN(20,AJ6),0),1,1,\"Caster Tables\")))),0)","v":0},{"$f":"IF(AK6>0,IF(Sorcadins!O$265>Sorcadins!O$269,MIN(Sorcadins!O$265,Sorcadins!O$263/AK6),CELL(\"contents\",INDIRECT(ADDRESS(43+Sorcadins!O$21,ROUNDUP(5+MIN(20,AK6),0),1,1,\"Caster Tables\")))),0)","v":0},{"$f":"IF(AL6>0,IF(Sorcadins!P$265>Sorcadins!P$269,MIN(Sorcadins!P$265,Sorcadins!P$263/AL6),CELL(\"contents\",INDIRECT(ADDRESS(43+Sorcadins!P$21,ROUNDUP(5+MIN(20,AL6),0),1,1,\"Caster Tables\")))),0)","v":0},{"$f":"IF(AM6>0,IF(Sorcadins!Q$265>Sorcadins!Q$269,MIN(Sorcadins!Q$265,Sorcadins!Q$263/AM6),CELL(\"contents\",INDIRECT(ADDRESS(43+Sorcadins!Q$21,ROUNDUP(5+MIN(20,AM6),0),1,1,\"Caster Tables\")))),0)","v":0},{"$f":"IF(AN6>0,IF(Sorcadins!R$265>Sorcadins!R$269,MIN(Sorcadins!R$265,Sorcadins!R$263/AN6),CELL(\"contents\",INDIRECT(ADDRESS(43+Sorcadins!R$21,ROUNDUP(5+MIN(20,AN6),0),1,1,\"Caster Tables\")))),0)","v":0},{"$f":"IF(AO6>0,IF(Sorcadins!S$265>Sorcadins!S$269,MIN(Sorcadins!S$265,Sorcadins!S$263/AO6),CELL(\"contents\",INDIRECT(ADDRESS(43+Sorcadins!S$21,ROUNDUP(5+MIN(20,AO6),0),1,1,\"Caster Tables\")))),0)","v":0},{"$f":"IF(AP6>0,IF(Sorcadins!T$265>Sorcadins!T$269,MIN(Sorcadins!T$265,Sorcadins!T$263/AP6),CELL(\"contents\",INDIRECT(ADDRESS(43+Sorcadins!T$21,ROUNDUP(5+MIN(20,AP6),0),1,1,\"Caster Tables\")))),0)","v":0},{"$f":"IF(AQ6>0,IF(Sorcadins!U$265>Sorcadins!U$269,MIN(Sorcadins!U$265,Sorcadins!U$263/AQ6),CELL(\"contents\",INDIRECT(ADDRESS(43+Sorcadins!U$21,ROUNDUP(5+MIN(20,AQ6),0),1,1,\"Caster Tables\")))),0)","v":0},{"$f":"IF(AR6>0,IF(Sorcadins!V$265>Sorcadins!V$269,MIN(Sorcadins!V$265,Sorcadins!V$263/AR6),CELL(\"contents\",INDIRECT(ADDRESS(43+Sorcadins!V$21,ROUNDUP(5+MIN(20,AR6),0),1,1,\"Caster Tables\")))),0)","v":0},{"$f":"IF(AS6>0,IF(Sorcadins!W$265>Sorcadins!W$269,MIN(Sorcadins!W$265,Sorcadins!W$263/AS6),CELL(\"contents\",INDIRECT(ADDRESS(43+Sorcadins!W$21,ROUNDUP(5+MIN(20,AS6),0),1,1,\"Caster Tables\")))),0)","v":0},{"$f":"IF(AT6>0,IF(Sorcadins!X$265>Sorcadins!X$269,MIN(Sorcadins!X$265,Sorcadins!X$263/AT6),CELL(\"contents\",INDIRECT(ADDRESS(43+Sorcadins!X$21,ROUNDUP(5+MIN(20,AT6),0),1,1,\"Caster Tables\")))),0)","v":0},null,{"$f":"IF(F6>=1,AA6/F6,0)","v":0},0,0,0,0,0,0,0,0,0,{"$f":"IF(P6>=1,AK6/P6,0)","v":0},0,0,0,0,0,0,0,0,0,null,{"$f":"MIN(AV6,MAX(0,IF(F6>=1,AV6,0))*BQ6)","v":0},0,0,0,0,0,0,0,0,0,0,0,0,0,0,0,0,0,0,0,null,{"$f":"F6*CL6","v":0},0,0,0,0,0,0,0,0,0,{"$f":"P6*CV6","v":0},0,0,0,0,0,0,0,0,0,null,"Spirit Guardians"]
[null,"Spirit Shroud",2,"spirit shroud casts (c) (bonus action)",{"$f":"MATCH($D7,INDEX(Sorcadins!$D:$D,$D$3):'Sorcadins'!$D1523,0)-1","v":13},{"$f":"IF(CELL(\"contents\",INDIRECT(ADDRESS($D$3+$E7,4+F$4,1,1,\"Sorcadins\")))>=1,CELL(\"contents\",INDIRECT(ADDRESS($D$3+$E7,4+F$4,1,1,\"Sorcadins\"))),0)","v":0},{"$f":"IF(CELL(\"contents\",INDIRECT(ADDRESS($D$3+$E7,4+G$4,1,1,\"Sorcadins\")))>=1,CELL(\"contents\",INDIRECT(ADDRESS($D$3+$E7,4+G$4,1,1,\"Sorcadins\"))),0)","v":0},{"$f":"IF(CELL(\"contents\",INDIRECT(ADDRESS($D$3+$E7,4+H$4,1,1,\"Sorcadins\")))>=1,CELL(\"contents\",INDIRECT(ADDRESS($D$3+$E7,4+H$4,1,1,\"Sorcadins\"))),0)","v":0},{"$f":"IF(CELL(\"contents\",INDIRECT(ADDRESS($D$3+$E7,4+I$4,1,1,\"Sorcadins\")))>=1,CELL(\"contents\",INDIRECT(ADDRESS($D$3+$E7,4+I$4,1,1,\"Sorcadins\"))),0)","v":0},{"$f":"IF(CELL(\"contents\",INDIRECT(ADDRESS($D$3+$E7,4+J$4,1,1,\"Sorcadins\")))>=1,CELL(\"contents\",INDIRECT(ADDRESS($D$3+$E7,4+J$4,1,1,\"Sorcadins\"))),0)","v":0},{"$f":"IF(CELL(\"contents\",INDIRECT(ADDRESS($D$3+$E7,4+K$4,1,1,\"Sorcadins\")))>=1,CELL(\"contents\",INDIRECT(ADDRESS($D$3+$E7,4+K$4,1,1,\"Sorcadins\"))),0)","v":0},{"$f":"IF(CELL(\"contents\",INDIRECT(ADDRESS($D$3+$E7,4+L$4,1,1,\"Sorcadins\")))>=1,CELL(\"contents\",INDIRECT(ADDRESS($D$3+$E7,4+L$4,1,1,\"Sorcadins\"))),0)","v":0},{"$f":"IF(CELL(\"contents\",INDIRECT(ADDRESS($D$3+$E7,4+M$4,1,1,\"Sorcadins\")))>=1,CELL(\"contents\",INDIRECT(ADDRESS($D$3+$E7,4+M$4,1,1,\"Sorcadins\"))),0)","v":0},{"$f":"IF(CELL(\"contents\",INDIRECT(ADDRESS($D$3+$E7,4+N$4,1,1,\"Sorcadins\")))>=1,CELL(\"contents\",INDIRECT(ADDRESS($D$3+$E7,4+N$4,1,1,\"Sorcadins\"))),0)","v":0},{"$f":"IF(CELL(\"contents\",INDIRECT(ADDRESS($D$3+$E7,4+O$4,1,1,\"Sorcadins\")))>=1,CELL(\"contents\",INDIRECT(ADDRESS($D$3+$E7,4+O$4,1,1,\"Sorcadins\"))),0)","v":0},{"$f":"IF(CELL(\"contents\",INDIRECT(ADDRESS($D$3+$E7,4+P$4,1,1,\"Sorcadins\")))>=1,CELL(\"contents\",INDIRECT(ADDRESS($D$3+$E7,4+P$4,1,1,\"Sorcadins\"))),0)","v":0},{"$f":"IF(CELL(\"contents\",INDIRECT(ADDRESS($D$3+$E7,4+Q$4,1,1,\"Sorcadins\")))>=1,CELL(\"contents\",INDIRECT(ADDRESS($D$3+$E7,4+Q$4,1,1,\"Sorcadins\"))),0)","v":0},{"$f":"IF(CELL(\"contents\",INDIRECT(ADDRESS($D$3+$E7,4+R$4,1,1,\"Sorcadins\")))>=1,CELL(\"contents\",INDIRECT(ADDRESS($D$3+$E7,4+R$4,1,1,\"Sorcadins\"))),0)","v":0},{"$f":"IF(CELL(\"contents\",INDIRECT(ADDRESS($D$3+$E7,4+S$4,1,1,\"Sorcadins\")))>=1,CELL(\"contents\",INDIRECT(ADDRESS($D$3+$E7,4+S$4,1,1,\"Sorcadins\"))),0)","v":0},{"$f":"IF(CELL(\"contents\",INDIRECT(ADDRESS($D$3+$E7,4+T$4,1,1,\"Sorcadins\")))>=1,CELL(\"contents\",INDIRECT(ADDRESS($D$3+$E7,4+T$4,1,1,\"Sorcadins\"))),0)","v":0},{"$f":"IF(CELL(\"contents\",INDIRECT(ADDRESS($D$3+$E7,4+U$4,1,1,\"Sorcadins\")))>=1,CELL(\"contents\",INDIRECT(ADDRESS($D$3+$E7,4+U$4,1,1,\"Sorcadins\"))),0)","v":0},{"$f":"IF(CELL(\"contents\",INDIRECT(ADDRESS($D$3+$E7,4+V$4,1,1,\"Sorcadins\")))>=1,CELL(\"contents\",INDIRECT(ADDRESS($D$3+$E7,4+V$4,1,1,\"Sorcadins\"))),0)","v":0},{"$f":"IF(CELL(\"contents\",INDIRECT(ADDRESS($D$3+$E7,4+W$4,1,1,\"Sorcadins\")))>=1,CELL(\"contents\",INDIRECT(ADDRESS($D$3+$E7,4+W$4,1,1,\"Sorcadins\"))),0)","v":0},{"$f":"IF(CELL(\"contents\",INDIRECT(ADDRESS($D$3+$E7,4+X$4,1,1,\"Sorcadins\")))>=1,CELL(\"contents\",INDIRECT(ADDRESS($D$3+$E7,4+X$4,1,1,\"Sorcadins\"))),0)","v":0},{"$f":"IF(CELL(\"contents\",INDIRECT(ADDRESS($D$3+$E7,4+Y$4,1,1,\"Sorcadins\")))>=1,CELL(\"contents\",INDIRECT(ADDRESS($D$3+$E7,4+Y$4,1,1,\"Sorcadins\"))),0)","v":0},null,{"$f":"SUM(F$6:INDEX(F:F,5+$C7))","v":0},{"$f":"SUM(G$6:INDEX(G:G,5+$C7))","v":0},{"$f":"SUM(H$6:INDEX(H:H,5+$C7))","v":0},{"$f":"SUM(I$6:INDEX(I:I,5+$C7))","v":0},{"$f":"SUM(J$6:INDEX(J:J,5+$C7))","v":0},{"$f":"SUM(K$6:INDEX(K:K,5+$C7))","v":0},{"$f":"SUM(L$6:INDEX(L:L,5+$C7))","v":0},{"$f":"SUM(M$6:INDEX(M:M,5+$C7))","v":0},{"$f":"SUM(N$6:INDEX(N:N,5+$C7))","v":0},{"$f":"SUM(O$6:INDEX(O:O,5+$C7))","v":0},{"$f":"SUM(P$6:INDEX(P:P,5+$C7))","v":0},{"$f":"SUM(Q$6:INDEX(Q:Q,5+$C7))","v":0},{"$f":"SUM(R$6:INDEX(R:R,5+$C7))","v":0},{"$f":"SUM(S$6:INDEX(S:S,5+$C7))","v":0},{"$f":"SUM(T$6:INDEX(T:T,5+$C7))","v":0},{"$f":"SUM(U$6:INDEX(U:U,5+$C7))","v":0},{"$f":"SUM(V$6:INDEX(V:V,5+$C7))","v":0},{"$f":"SUM(W$6:INDEX(W:W,5+$C7))","v":0},{"$f":"SUM(X$6:INDEX(X:X,5+$C7))","v":0},{"$f":"SUM(Y$6:INDEX(Y:Y,5+$C7))","v":0},null,{"$f":"IF(AA7>0,IF(Sorcadins!E$265>Sorcadins!E$269,MIN(Sorcadins!E$265,Sorcadins!E$263/AA7),CELL(\"contents\",INDIRECT(ADDRESS(43+Sorcadins!E$21,ROUNDUP(5+MIN(20,AA7),0),1,1,\"Caster Tables\")))),0)","v":0},{"$f":"IF(AB7>0,IF(Sorcadins!F$265>Sorcadins!F$269,MIN(Sorcadins!F$265,Sorcadins!F$263/AB7),CELL(\"contents\",INDIRECT(ADDRESS(43+Sorcadins!F$21,ROUNDUP(5+MIN(20,AB7),0),1,1,\"Caster Tables\")))),0)","v":0},{"$f":"IF(AC7>0,IF(Sorcadins!G$265>Sorcadins!G$269,MIN(Sorcadins!G$265,Sorcadins!G$263/AC7),CELL(\"contents\",INDIRECT(ADDRESS(43+Sorcadins!G$21,ROUNDUP(5+MIN(20,AC7),0),1,1,\"Caster Tables\")))),0)","v":0},{"$f":"IF(AD7>0,IF(Sorcadins!H$265>Sorcadins!H$269,MIN(Sorcadins!H$265,Sorcadins!H$263/AD7),CELL(\"contents\",INDIRECT(ADDRESS(43+Sorcadins!H$21,ROUNDUP(5+MIN(20,AD7),0),1,1,\"Caster Tables\")))),0)","v":0},{"$f":"IF(AE7>0,IF(Sorcadins!I$265>Sorcadins!I$269,MIN(Sorcadins!I$265,Sorcadins!I$263/AE7),CELL(\"contents\",INDIRECT(ADDRESS(43+Sorcadins!I$21,ROUNDUP(5+MIN(20,AE7),0),1,1,\"Caster Tables\")))),0)","v":0},{"$f":"IF(AF7>0,IF(Sorcadins!J$265>Sorcadins!J$269,MIN(Sorcadins!J$265,Sorcadins!J$263/AF7),CELL(\"contents\",INDIRECT(ADDRESS(43+Sorcadins!J$21,ROUNDUP(5+MIN(20,AF7),0),1,1,\"Caster Tables\")))),0)","v":0},{"$f":"IF(AG7>0,IF(Sorcadins!K$265>Sorcadins!K$269,MIN(Sorcadins!K$265,Sorcadins!K$263/AG7),CELL(\"contents\",INDIRECT(ADDRESS(43+Sorcadins!K$21,ROUNDUP(5+MIN(20,AG7),0),1,1,\"Caster Tables\")))),0)","v":0},{"$f":"IF(AH7>0,IF(Sorcadins!L$265>Sorcadins!L$269,MIN(Sorcadins!L$265,Sorcadins!L$263/AH7),CELL(\"contents\",INDIRECT(ADDRESS(43+Sorcadins!L$21,ROUNDUP(5+MIN(20,AH7),0),1,1,\"Caster Tables\")))),0)","v":0},{"$f":"IF(AI7>0,IF(Sorcadins!M$265>Sorcadins!M$269,MIN(Sorcadins!M$265,Sorcadins!M$263/AI7),CELL(\"contents\",INDIRECT(ADDRESS(43+Sorcadins!M$21,ROUNDUP(5+MIN(20,AI7),0),1,1,\"Caster Tables\")))),0)","v":0},{"$f":"IF(AJ7>0,IF(Sorcadins!N$265>Sorcadins!N$269,MIN(Sorcadins!N$265,Sorcadins!N$263/AJ7),CELL(\"contents\",INDIRECT(ADDRESS(43+Sorcadins!N$21,ROUNDUP(5+MIN(20,AJ7),0),1,1,\"Caster Tables\")))),0)","v":0},{"$f":"IF(AK7>0,IF(Sorcadins!O$265>Sorcadins!O$269,MIN(Sorcadins!O$265,Sorcadins!O$263/AK7),CELL(\"contents\",INDIRECT(ADDRESS(43+Sorcadins!O$21,ROUNDUP(5+MIN(20,AK7),0),1,1,\"Caster Tables\")))),0)","v":0},{"$f":"IF(AL7>0,IF(Sorcadins!P$265>Sorcadins!P$269,MIN(Sorcadins!P$265,Sorcadins!P$263/AL7),CELL(\"contents\",INDIRECT(ADDRESS(43+Sorcadins!P$21,ROUNDUP(5+MIN(20,AL7),0),1,1,\"Caster Tables\")))),0)","v":0},{"$f":"IF(AM7>0,IF(Sorcadins!Q$265>Sorcadins!Q$269,MIN(Sorcadins!Q$265,Sorcadins!Q$263/AM7),CELL(\"contents\",INDIRECT(ADDRESS(43+Sorcadins!Q$21,ROUNDUP(5+MIN(20,AM7),0),1,1,\"Caster Tables\")))),0)","v":0},{"$f":"IF(AN7>0,IF(Sorcadins!R$265>Sorcadins!R$269,MIN(Sorcadins!R$265,Sorcadins!R$263/AN7),CELL(\"contents\",INDIRECT(ADDRESS(43+Sorcadins!R$21,ROUNDUP(5+MIN(20,AN7),0),1,1,\"Caster Tables\")))),0)","v":0},{"$f":"IF(AO7>0,IF(Sorcadins!S$265>Sorcadins!S$269,MIN(Sorcadins!S$265,Sorcadins!S$263/AO7),CELL(\"contents\",INDIRECT(ADDRESS(43+Sorcadins!S$21,ROUNDUP(5+MIN(20,AO7),0),1,1,\"Caster Tables\")))),0)","v":0},{"$f":"IF(AP7>0,IF(Sorcadins!T$265>Sorcadins!T$269,MIN(Sorcadins!T$265,Sorcadins!T$263/AP7),CELL(\"contents\",INDIRECT(ADDRESS(43+Sorcadins!T$21,ROUNDUP(5+MIN(20,AP7),0),1,1,\"Caster Tables\")))),0)","v":0},{"$f":"IF(AQ7>0,IF(Sorcadins!U$265>Sorcadins!U$269,MIN(Sorcadins!U$265,Sorcadins!U$263/AQ7),CELL(\"contents\",INDIRECT(ADDRESS(43+Sorcadins!U$21,ROUNDUP(5+MIN(20,AQ7),0),1,1,\"Caster Tables\")))),0)","v":0},{"$f":"IF(AR7>0,IF(Sorcadins!V$265>Sorcadins!V$269,MIN(Sorcadins!V$265,Sorcadins!V$263/AR7),CELL(\"contents\",INDIRECT(ADDRESS(43+Sorcadins!V$21,ROUNDUP(5+MIN(20,AR7),0),1,1,\"Caster Tables\")))),0)","v":0},{"$f":"IF(AS7>0,IF(Sorcadins!W$265>Sorcadins!W$269,MIN(Sorcadins!W$265,Sorcadins!W$263/AS7),CELL(\"contents\",INDIRECT(ADDRESS(43+Sorcadins!W$21,ROUNDUP(5+MIN(20,AS7),0),1,1,\"Caster Tables\")))),0)","v":0},{"$f":"IF(AT7>0,IF(Sorcadins!X$265>Sorcadins!X$269,MIN(Sorcadins!X$265,Sorcadins!X$263/AT7),CELL(\"contents\",INDIRECT(ADDRESS(43+Sorcadins!X$21,ROUNDUP(5+MIN(20,AT7),0),1,1,\"Caster Tables\")))),0)","v":0},null,0,0,0,0,0,0,0,0,0,0,0,0,0,0,0,0,0,0,0,0,null,{"$f":"IF(AV7>0,MIN(AV7,MAX(0,IF(F7>=0,AV7,0)-SUM(DG$6:INDEX(DG:DG,5+$C7-1))/AA7)*BQ7),0)","v":0},{"$f":"IF(AW7>0,MIN(AW7,MAX(0,IF(G7>=0,AW7,0)-SUM(DH$6:INDEX(DH:DH,5+$C7-1))/AB7)*BR7),0)","v":0},{"$f":"IF(AX7>0,MIN(AX7,MAX(0,IF(H7>=0,AX7,0)-SUM(DI$6:INDEX(DI:DI,5+$C7-1))/AC7)*BS7),0)","v":0},{"$f":"IF(AY7>0,MIN(AY7,MAX(0,IF(I7>=0,AY7,0)-SUM(DJ$6:INDEX(DJ:DJ,5+$C7-1))/AD7)*BT7),0)","v":0},{"$f":"IF(AZ7>0,MIN(AZ7,MAX(0,IF(J7>=0,AZ7,0)-SUM(DK$6:INDEX(DK:DK,5+$C7-1))/AE7)*BU7),0)","v":0},{"$f":"IF(BA7>0,MIN(BA7,MAX(0,IF(K7>=0,BA7,0)-SUM(DL$6:INDEX(DL:DL,5+$C7-1))/AF7)*BV7),0)","v":0},{"$f":"IF(BB7>0,MIN(BB7,MAX(0,IF(L7>=0,BB7,0)-SUM(DM$6:INDEX(DM:DM,5+$C7-1))/AG7)*BW7),0)","v":0},{"$f":"IF(BC7>0,MIN(BC7,MAX(0,IF(M7>=0,BC7,0)-SUM(DN$6:INDEX(DN:DN,5+$C7-1))/AH7)*BX7),0)","v":0},{"$f":"IF(BD7>0,MIN(BD7,MAX(0,IF(N7>=0,BD7,0)-SUM(DO$6:INDEX(DO:DO,5+$C7-1))/AI7)*BY7),0)","v":0},{"$f":"IF(BE7>0,MIN(BE7,MAX(0,IF(O7>=0,BE7,0)-SUM(DP$6:INDEX(DP:DP,5+$C7-1))/AJ7)*BZ7),0)","v":0},{"$f":"IF(BF7>0,MIN(BF7,MAX(0,IF(P7>=0,BF7,0)-SUM(DQ$6:INDEX(DQ:DQ,5+$C7-1))/AK7)*CA7),0)","v":0},{"$f":"IF(BG7>0,MIN(BG7,MAX(0,IF(Q7>=0,BG7,0)-SUM(DR$6:INDEX(DR:DR,5+$C7-1))/AL7)*CB7),0)","v":0},{"$f":"IF(BH7>0,MIN(BH7,MAX(0,IF(R7>=0,BH7,0)-SUM(DS$6:INDEX(DS:DS,5+$C7-1))/AM7)*CC7),0)","v":0},{"$f":"IF(BI7>0,MIN(BI7,MAX(0,IF(S7>=0,BI7,0)-SUM(DT$6:INDEX(DT:DT,5+$C7-1))/AN7)*CD7),0)","v":0},{"$f":"IF(BJ7>0,MIN(BJ7,MAX(0,IF(T7>=0,BJ7,0)-SUM(DU$6:INDEX(DU:DU,5+$C7-1))/AO7)*CE7),0)","v":0},{"$f":"IF(BK7>0,MIN(BK7,MAX(0,IF(U7>=0,BK7,0)-SUM(DV$6:INDEX(DV:DV,5+$C7-1))/AP7)*CF7),0)","v":0},{"$f":"IF(BL7>0,MIN(BL7,MAX(0,IF(V7>=0,BL7,0)-SUM(DW$6:INDEX(DW:DW,5+$C7-1))/AQ7)*CG7),0)","v":0},{"$f":"IF(BM7>0,MIN(BM7,MAX(0,IF(W7>=0,BM7,0)-SUM(DX$6:INDEX(DX:DX,5+$C7-1))/AR7)*CH7),0)","v":0},{"$f":"IF(BN7>0,MIN(BN7,MAX(0,IF(X7>=0,BN7,0)-SUM(DY$6:INDEX(DY:DY,5+$C7-1))/AS7)*CI7),0)","v":0},{"$f":"IF(BO7>0,MIN(BO7,MAX(0,IF(Y7>=0,BO7,0)-SUM(DZ$6:INDEX(DZ:DZ,5+$C7-1))/AT7)*CJ7),0)","v":0},null,0,0,0,0,0,0,0,0,0,0,0,0,0,0,0,0,0,0,0,0,null,"Spirit Shroud"]
[null,"Bigby's Hand",3,"bigby's hand casts (c)",{"$f":"MATCH($D8,INDEX(Sorcadins!$D:$D,$D$3):'Sorcadins'!$D1524,0)-1","v":25},{"$f":"IF(CELL(\"contents\",INDIRECT(ADDRESS($D$3+$E8,4+F$4,1,1,\"Sorcadins\")))>=1,CELL(\"contents\",INDIRECT(ADDRESS($D$3+$E8,4+F$4,1,1,\"Sorcadins\"))),0)","v":0},{"$f":"IF(CELL(\"contents\",INDIRECT(ADDRESS($D$3+$E8,4+G$4,1,1,\"Sorcadins\")))>=1,CELL(\"contents\",INDIRECT(ADDRESS($D$3+$E8,4+G$4,1,1,\"Sorcadins\"))),0)","v":0},{"$f":"IF(CELL(\"contents\",INDIRECT(ADDRESS($D$3+$E8,4+H$4,1,1,\"Sorcadins\")))>=1,CELL(\"contents\",INDIRECT(ADDRESS($D$3+$E8,4+H$4,1,1,\"Sorcadins\"))),0)","v":0},{"$f":"IF(CELL(\"contents\",INDIRECT(ADDRESS($D$3+$E8,4+I$4,1,1,\"Sorcadins\")))>=1,CELL(\"contents\",INDIRECT(ADDRESS($D$3+$E8,4+I$4,1,1,\"Sorcadins\"))),0)","v":0},{"$f":"IF(CELL(\"contents\",INDIRECT(ADDRESS($D$3+$E8,4+J$4,1,1,\"Sorcadins\")))>=1,CELL(\"contents\",INDIRECT(ADDRESS($D$3+$E8,4+J$4,1,1,\"Sorcadins\"))),0)","v":0},{"$f":"IF(CELL(\"contents\",INDIRECT(ADDRESS($D$3+$E8,4+K$4,1,1,\"Sorcadins\")))>=1,CELL(\"contents\",INDIRECT(ADDRESS($D$3+$E8,4+K$4,1,1,\"Sorcadins\"))),0)","v":0},{"$f":"IF(CELL(\"contents\",INDIRECT(ADDRESS($D$3+$E8,4+L$4,1,1,\"Sorcadins\")))>=1,CELL(\"contents\",INDIRECT(ADDRESS($D$3+$E8,4+L$4,1,1,\"Sorcadins\"))),0)","v":0},{"$f":"IF(CELL(\"contents\",INDIRECT(ADDRESS($D$3+$E8,4+M$4,1,1,\"Sorcadins\")))>=1,CELL(\"contents\",INDIRECT(ADDRESS($D$3+$E8,4+M$4,1,1,\"Sorcadins\"))),0)","v":0},{"$f":"IF(CELL(\"contents\",INDIRECT(ADDRESS($D$3+$E8,4+N$4,1,1,\"Sorcadins\")))>=1,CELL(\"contents\",INDIRECT(ADDRESS($D$3+$E8,4+N$4,1,1,\"Sorcadins\"))),0)","v":0},{"$f":"IF(CELL(\"contents\",INDIRECT(ADDRESS($D$3+$E8,4+O$4,1,1,\"Sorcadins\")))>=1,CELL(\"contents\",INDIRECT(ADDRESS($D$3+$E8,4+O$4,1,1,\"Sorcadins\"))),0)","v":0},{"$f":"IF(CELL(\"contents\",INDIRECT(ADDRESS($D$3+$E8,4+P$4,1,1,\"Sorcadins\")))>=1,CELL(\"contents\",INDIRECT(ADDRESS($D$3+$E8,4+P$4,1,1,\"Sorcadins\"))),0)","v":0},{"$f":"IF(CELL(\"contents\",INDIRECT(ADDRESS($D$3+$E8,4+Q$4,1,1,\"Sorcadins\")))>=1,CELL(\"contents\",INDIRECT(ADDRESS($D$3+$E8,4+Q$4,1,1,\"Sorcadins\"))),0)","v":0},{"$f":"IF(CELL(\"contents\",INDIRECT(ADDRESS($D$3+$E8,4+R$4,1,1,\"Sorcadins\")))>=1,CELL(\"contents\",INDIRECT(ADDRESS($D$3+$E8,4+R$4,1,1,\"Sorcadins\"))),0)","v":0},{"$f":"IF(CELL(\"contents\",INDIRECT(ADDRESS($D$3+$E8,4+S$4,1,1,\"Sorcadins\")))>=1,CELL(\"contents\",INDIRECT(ADDRESS($D$3+$E8,4+S$4,1,1,\"Sorcadins\"))),0)","v":0},{"$f":"IF(CELL(\"contents\",INDIRECT(ADDRESS($D$3+$E8,4+T$4,1,1,\"Sorcadins\")))>=1,CELL(\"contents\",INDIRECT(ADDRESS($D$3+$E8,4+T$4,1,1,\"Sorcadins\"))),0)","v":0},{"$f":"IF(CELL(\"contents\",INDIRECT(ADDRESS($D$3+$E8,4+U$4,1,1,\"Sorcadins\")))>=1,CELL(\"contents\",INDIRECT(ADDRESS($D$3+$E8,4+U$4,1,1,\"Sorcadins\"))),0)","v":0},{"$f":"IF(CELL(\"contents\",INDIRECT(ADDRESS($D$3+$E8,4+V$4,1,1,\"Sorcadins\")))>=1,CELL(\"contents\",INDIRECT(ADDRESS($D$3+$E8,4+V$4,1,1,\"Sorcadins\"))),0)","v":0},{"$f":"IF(CELL(\"contents\",INDIRECT(ADDRESS($D$3+$E8,4+W$4,1,1,\"Sorcadins\")))>=1,CELL(\"contents\",INDIRECT(ADDRESS($D$3+$E8,4+W$4,1,1,\"Sorcadins\"))),0)","v":0},{"$f":"IF(CELL(\"contents\",INDIRECT(ADDRESS($D$3+$E8,4+X$4,1,1,\"Sorcadins\")))>=1,CELL(\"contents\",INDIRECT(ADDRESS($D$3+$E8,4+X$4,1,1,\"Sorcadins\"))),0)","v":0},{"$f":"IF(CELL(\"contents\",INDIRECT(ADDRESS($D$3+$E8,4+Y$4,1,1,\"Sorcadins\")))>=1,CELL(\"contents\",INDIRECT(ADDRESS($D$3+$E8,4+Y$4,1,1,\"Sorcadins\"))),0)","v":0},null,{"$f":"SUM(F$6:INDEX(F:F,5+$C8))","v":0},{"$f":"SUM(G$6:INDEX(G:G,5+$C8))","v":0},{"$f":"SUM(H$6:INDEX(H:H,5+$C8))","v":0},{"$f":"SUM(I$6:INDEX(I:I,5+$C8))","v":0},{"$f":"SUM(J$6:INDEX(J:J,5+$C8))","v":0},{"$f":"SUM(K$6:INDEX(K:K,5+$C8))","v":0},{"$f":"SUM(L$6:INDEX(L:L,5+$C8))","v":0},{"$f":"SUM(M$6:INDEX(M:M,5+$C8))","v":0},{"$f":"SUM(N$6:INDEX(N:N,5+$C8))","v":0},{"$f":"SUM(O$6:INDEX(O:O,5+$C8))","v":0},{"$f":"SUM(P$6:INDEX(P:P,5+$C8))","v":0},{"$f":"SUM(Q$6:INDEX(Q:Q,5+$C8))","v":0},{"$f":"SUM(R$6:INDEX(R:R,5+$C8))","v":0},{"$f":"SUM(S$6:INDEX(S:S,5+$C8))","v":0},{"$f":"SUM(T$6:INDEX(T:T,5+$C8))","v":0},{"$f":"SUM(U$6:INDEX(U:U,5+$C8))","v":0},{"$f":"SUM(V$6:INDEX(V:V,5+$C8))","v":0},{"$f":"SUM(W$6:INDEX(W:W,5+$C8))","v":0},{"$f":"SUM(X$6:INDEX(X:X,5+$C8))","v":0},{"$f":"SUM(Y$6:INDEX(Y:Y,5+$C8))","v":0},null,{"$f":"IF(AA8>0,IF(Sorcadins!E$265>Sorcadins!E$269,MIN(Sorcadins!E$265,Sorcadins!E$263/AA8),CELL(\"contents\",INDIRECT(ADDRESS(43+Sorcadins!E$21,ROUNDUP(5+MIN(20,AA8),0),1,1,\"Caster Tables\")))),0)","v":0},{"$f":"IF(AB8>0,IF(Sorcadins!F$265>Sorcadins!F$269,MIN(Sorcadins!F$265,Sorcadins!F$263/AB8),CELL(\"contents\",INDIRECT(ADDRESS(43+Sorcadins!F$21,ROUNDUP(5+MIN(20,AB8),0),1,1,\"Caster Tables\")))),0)","v":0},{"$f":"IF(AC8>0,IF(Sorcadins!G$265>Sorcadins!G$269,MIN(Sorcadins!G$265,Sorcadins!G$263/AC8),CELL(\"contents\",INDIRECT(ADDRESS(43+Sorcadins!G$21,ROUNDUP(5+MIN(20,AC8),0),1,1,\"Caster Tables\")))),0)","v":0},{"$f":"IF(AD8>0,IF(Sorcadins!H$265>Sorcadins!H$269,MIN(Sorcadins!H$265,Sorcadins!H$263/AD8),CELL(\"contents\",INDIRECT(ADDRESS(43+Sorcadins!H$21,ROUNDUP(5+MIN(20,AD8),0),1,1,\"Caster Tables\")))),0)","v":0},{"$f":"IF(AE8>0,IF(Sorcadins!I$265>Sorcadins!I$269,MIN(Sorcadins!I$265,Sorcadins!I$263/AE8),CELL(\"contents\",INDIRECT(ADDRESS(43+Sorcadins!I$21,ROUNDUP(5+MIN(20,AE8),0),1,1,\"Caster Tables\")))),0)","v":0},{"$f":"IF(AF8>0,IF(Sorcadins!J$265>Sorcadins!J$269,MIN(Sorcadins!J$265,Sorcadins!J$263/AF8),CELL(\"contents\",INDIRECT(ADDRESS(43+Sorcadins!J$21,ROUNDUP(5+MIN(20,AF8),0),1,1,\"Caster Tables\")))),0)","v":0},{"$f":"IF(AG8>0,IF(Sorcadins!K$265>Sorcadins!K$269,MIN(Sorcadins!K$265,Sorcadins!K$263/AG8),CELL(\"contents\",INDIRECT(ADDRESS(43+Sorcadins!K$21,ROUNDUP(5+MIN(20,AG8),0),1,1,\"Caster Tables\")))),0)","v":0},{"$f":"IF(AH8>0,IF(Sorcadins!L$265>Sorcadins!L$269,MIN(Sorcadins!L$265,Sorcadins!L$263/AH8),CELL(\"contents\",INDIRECT(ADDRESS(43+Sorcadins!L$21,ROUNDUP(5+MIN(20,AH8),0),1,1,\"Caster Tables\")))),0)","v":0},{"$f":"IF(AI8>0,IF(Sorcadins!M$265>Sorcadins!M$269,MIN(Sorcadins!M$265,Sorcadins!M$263/AI8),CELL(\"contents\",INDIRECT(ADDRESS(43+Sorcadins!M$21,ROUNDUP(5+MIN(20,AI8),0),1,1,\"Caster Tables\")))),0)","v":0},{"$f":"IF(AJ8>0,IF(Sorcadins!N$265>Sorcadins!N$269,MIN(Sorcadins!N$265,Sorcadins!N$263/AJ8),CELL(\"contents\",INDIRECT(ADDRESS(43+Sorcadins!N$21,ROUNDUP(5+MIN(20,AJ8),0),1,1,\"Caster Tables\")))),0)","v":0},{"$f":"IF(AK8>0,IF(Sorcadins!O$265>Sorcadins!O$269,MIN(Sorcadins!O$265,Sorcadins!O$263/AK8),CELL(\"contents\",INDIRECT(ADDRESS(43+Sorcadins!O$21,ROUNDUP(5+MIN(20,AK8),0),1,1,\"Caster Tables\")))),0)","v":0},{"$f":"IF(AL8>0,IF(Sorcadins!P$265>Sorcadins!P$269,MIN(Sorcadins!P$265,Sorcadins!P$263/AL8),CELL(\"contents\",INDIRECT(ADDRESS(43+Sorcadins!P$21,ROUNDUP(5+MIN(20,AL8),0),1,1,\"Caster Tables\")))),0)","v":0},{"$f":"IF(AM8>0,IF(Sorcadins!Q$265>Sorcadins!Q$269,MIN(Sorcadins!Q$265,Sorcadins!Q$263/AM8),CELL(\"contents\",INDIRECT(ADDRESS(43+Sorcadins!Q$21,ROUNDUP(5+MIN(20,AM8),0),1,1,\"Caster Tables\")))),0)","v":0},{"$f":"IF(AN8>0,IF(Sorcadins!R$265>Sorcadins!R$269,MIN(Sorcadins!R$265,Sorcadins!R$263/AN8),CELL(\"contents\",INDIRECT(ADDRESS(43+Sorcadins!R$21,ROUNDUP(5+MIN(20,AN8),0),1,1,\"Caster Tables\")))),0)","v":0},{"$f":"IF(AO8>0,IF(Sorcadins!S$265>Sorcadins!S$269,MIN(Sorcadins!S$265,Sorcadins!S$263/AO8),CELL(\"contents\",INDIRECT(ADDRESS(43+Sorcadins!S$21,ROUNDUP(5+MIN(20,AO8),0),1,1,\"Caster Tables\")))),0)","v":0},{"$f":"IF(AP8>0,IF(Sorcadins!T$265>Sorcadins!T$269,MIN(Sorcadins!T$265,Sorcadins!T$263/AP8),CELL(\"contents\",INDIRECT(ADDRESS(43+Sorcadins!T$21,ROUNDUP(5+MIN(20,AP8),0),1,1,\"Caster Tables\")))),0)","v":0},{"$f":"IF(AQ8>0,IF(Sorcadins!U$265>Sorcadins!U$269,MIN(Sorcadins!U$265,Sorcadins!U$263/AQ8),CELL(\"contents\",INDIRECT(ADDRESS(43+Sorcadins!U$21,ROUNDUP(5+MIN(20,AQ8),0),1,1,\"Caster Tables\")))),0)","v":0},{"$f":"IF(AR8>0,IF(Sorcadins!V$265>Sorcadins!V$269,MIN(Sorcadins!V$265,Sorcadins!V$263/AR8),CELL(\"contents\",INDIRECT(ADDRESS(43+Sorcadins!V$21,ROUNDUP(5+MIN(20,AR8),0),1,1,\"Caster Tables\")))),0)","v":0},{"$f":"IF(AS8>0,IF(Sorcadins!W$265>Sorcadins!W$269,MIN(Sorcadins!W$265,Sorcadins!W$263/AS8),CELL(\"contents\",INDIRECT(ADDRESS(43+Sorcadins!W$21,ROUNDUP(5+MIN(20,AS8),0),1,1,\"Caster Tables\")))),0)","v":0},{"$f":"IF(AT8>0,IF(Sorcadins!X$265>Sorcadins!X$269,MIN(Sorcadins!X$265,Sorcadins!X$263/AT8),CELL(\"contents\",INDIRECT(ADDRESS(43+Sorcadins!X$21,ROUNDUP(5+MIN(20,AT8),0),1,1,\"Caster Tables\")))),0)","v":0},null,0,0,0,0,0,0,0,0,0,0,0,0,0,0,0,0,0,0,0,0,null,{"$f":"IF(AV8>0,MIN(AV8,MAX(0,IF(F8>=0,AV8,0)-SUM(DG$6:INDEX(DG:DG,5+$C8-1))/AA8)*BQ8),0)","v":0},{"$f":"IF(AW8>0,MIN(AW8,MAX(0,IF(G8>=0,AW8,0)-SUM(DH$6:INDEX(DH:DH,5+$C8-1))/AB8)*BR8),0)","v":0},{"$f":"IF(AX8>0,MIN(AX8,MAX(0,IF(H8>=0,AX8,0)-SUM(DI$6:INDEX(DI:DI,5+$C8-1))/AC8)*BS8),0)","v":0},{"$f":"IF(AY8>0,MIN(AY8,MAX(0,IF(I8>=0,AY8,0)-SUM(DJ$6:INDEX(DJ:DJ,5+$C8-1))/AD8)*BT8),0)","v":0},{"$f":"IF(AZ8>0,MIN(AZ8,MAX(0,IF(J8>=0,AZ8,0)-SUM(DK$6:INDEX(DK:DK,5+$C8-1))/AE8)*BU8),0)","v":0},{"$f":"IF(BA8>0,MIN(BA8,MAX(0,IF(K8>=0,BA8,0)-SUM(DL$6:INDEX(DL:DL,5+$C8-1))/AF8)*BV8),0)","v":0},{"$f":"IF(BB8>0,MIN(BB8,MAX(0,IF(L8>=0,BB8,0)-SUM(DM$6:INDEX(DM:DM,5+$C8-1))/AG8)*BW8),0)","v":0},{"$f":"IF(BC8>0,MIN(BC8,MAX(0,IF(M8>=0,BC8,0)-SUM(DN$6:INDEX(DN:DN,5+$C8-1))/AH8)*BX8),0)","v":0},{"$f":"IF(BD8>0,MIN(BD8,MAX(0,IF(N8>=0,BD8,0)-SUM(DO$6:INDEX(DO:DO,5+$C8-1))/AI8)*BY8),0)","v":0},{"$f":"IF(BE8>0,MIN(BE8,MAX(0,IF(O8>=0,BE8,0)-SUM(DP$6:INDEX(DP:DP,5+$C8-1))/AJ8)*BZ8),0)","v":0},{"$f":"IF(BF8>0,MIN(BF8,MAX(0,IF(P8>=0,BF8,0)-SUM(DQ$6:INDEX(DQ:DQ,5+$C8-1))/AK8)*CA8),0)","v":0},{"$f":"IF(BG8>0,MIN(BG8,MAX(0,IF(Q8>=0,BG8,0)-SUM(DR$6:INDEX(DR:DR,5+$C8-1))/AL8)*CB8),0)","v":0},{"$f":"IF(BH8>0,MIN(BH8,MAX(0,IF(R8>=0,BH8,0)-SUM(DS$6:INDEX(DS:DS,5+$C8-1))/AM8)*CC8),0)","v":0},{"$f":"IF(BI8>0,MIN(BI8,MAX(0,IF(S8>=0,BI8,0)-SUM(DT$6:INDEX(DT:DT,5+$C8-1))/AN8)*CD8),0)","v":0},{"$f":"IF(BJ8>0,MIN(BJ8,MAX(0,IF(T8>=0,BJ8,0)-SUM(DU$6:INDEX(DU:DU,5+$C8-1))/AO8)*CE8),0)","v":0},{"$f":"IF(BK8>0,MIN(BK8,MAX(0,IF(U8>=0,BK8,0)-SUM(DV$6:INDEX(DV:DV,5+$C8-1))/AP8)*CF8),0)","v":0},{"$f":"IF(BL8>0,MIN(BL8,MAX(0,IF(V8>=0,BL8,0)-SUM(DW$6:INDEX(DW:DW,5+$C8-1))/AQ8)*CG8),0)","v":0},{"$f":"IF(BM8>0,MIN(BM8,MAX(0,IF(W8>=0,BM8,0)-SUM(DX$6:INDEX(DX:DX,5+$C8-1))/AR8)*CH8),0)","v":0},{"$f":"IF(BN8>0,MIN(BN8,MAX(0,IF(X8>=0,BN8,0)-SUM(DY$6:INDEX(DY:DY,5+$C8-1))/AS8)*CI8),0)","v":0},{"$f":"IF(BO8>0,MIN(BO8,MAX(0,IF(Y8>=0,BO8,0)-SUM(DZ$6:INDEX(DZ:DZ,5+$C8-1))/AT8)*CJ8),0)","v":0},null,0,0,0,0,0,0,0,0,0,0,0,0,0,0,0,0,0,0,0,0,null,"Bigby's Hand"]
[null,"Animate Objects",4,"animate objects casts (c)",{"$f":"MATCH($D9,INDEX(Sorcadins!$D:$D,$D$3):'Sorcadins'!$D1525,0)-1","v":26},{"$f":"IF(CELL(\"contents\",INDIRECT(ADDRESS($D$3+$E9,4+F$4,1,1,\"Sorcadins\")))>=1,CELL(\"contents\",INDIRECT(ADDRESS($D$3+$E9,4+F$4,1,1,\"Sorcadins\"))),0)","v":0},{"$f":"IF(CELL(\"contents\",INDIRECT(ADDRESS($D$3+$E9,4+G$4,1,1,\"Sorcadins\")))>=1,CELL(\"contents\",INDIRECT(ADDRESS($D$3+$E9,4+G$4,1,1,\"Sorcadins\"))),0)","v":0},{"$f":"IF(CELL(\"contents\",INDIRECT(ADDRESS($D$3+$E9,4+H$4,1,1,\"Sorcadins\")))>=1,CELL(\"contents\",INDIRECT(ADDRESS($D$3+$E9,4+H$4,1,1,\"Sorcadins\"))),0)","v":0},{"$f":"IF(CELL(\"contents\",INDIRECT(ADDRESS($D$3+$E9,4+I$4,1,1,\"Sorcadins\")))>=1,CELL(\"contents\",INDIRECT(ADDRESS($D$3+$E9,4+I$4,1,1,\"Sorcadins\"))),0)","v":0},{"$f":"IF(CELL(\"contents\",INDIRECT(ADDRESS($D$3+$E9,4+J$4,1,1,\"Sorcadins\")))>=1,CELL(\"contents\",INDIRECT(ADDRESS($D$3+$E9,4+J$4,1,1,\"Sorcadins\"))),0)","v":0},{"$f":"IF(CELL(\"contents\",INDIRECT(ADDRESS($D$3+$E9,4+K$4,1,1,\"Sorcadins\")))>=1,CELL(\"contents\",INDIRECT(ADDRESS($D$3+$E9,4+K$4,1,1,\"Sorcadins\"))),0)","v":0},{"$f":"IF(CELL(\"contents\",INDIRECT(ADDRESS($D$3+$E9,4+L$4,1,1,\"Sorcadins\")))>=1,CELL(\"contents\",INDIRECT(ADDRESS($D$3+$E9,4+L$4,1,1,\"Sorcadins\"))),0)","v":0},{"$f":"IF(CELL(\"contents\",INDIRECT(ADDRESS($D$3+$E9,4+M$4,1,1,\"Sorcadins\")))>=1,CELL(\"contents\",INDIRECT(ADDRESS($D$3+$E9,4+M$4,1,1,\"Sorcadins\"))),0)","v":0},{"$f":"IF(CELL(\"contents\",INDIRECT(ADDRESS($D$3+$E9,4+N$4,1,1,\"Sorcadins\")))>=1,CELL(\"contents\",INDIRECT(ADDRESS($D$3+$E9,4+N$4,1,1,\"Sorcadins\"))),0)","v":0},{"$f":"IF(CELL(\"contents\",INDIRECT(ADDRESS($D$3+$E9,4+O$4,1,1,\"Sorcadins\")))>=1,CELL(\"contents\",INDIRECT(ADDRESS($D$3+$E9,4+O$4,1,1,\"Sorcadins\"))),0)","v":0},{"$f":"IF(CELL(\"contents\",INDIRECT(ADDRESS($D$3+$E9,4+P$4,1,1,\"Sorcadins\")))>=1,CELL(\"contents\",INDIRECT(ADDRESS($D$3+$E9,4+P$4,1,1,\"Sorcadins\"))),0)","v":0},{"$f":"IF(CELL(\"contents\",INDIRECT(ADDRESS($D$3+$E9,4+Q$4,1,1,\"Sorcadins\")))>=1,CELL(\"contents\",INDIRECT(ADDRESS($D$3+$E9,4+Q$4,1,1,\"Sorcadins\"))),0)","v":0},{"$f":"IF(CELL(\"contents\",INDIRECT(ADDRESS($D$3+$E9,4+R$4,1,1,\"Sorcadins\")))>=1,CELL(\"contents\",INDIRECT(ADDRESS($D$3+$E9,4+R$4,1,1,\"Sorcadins\"))),0)","v":0},{"$f":"IF(CELL(\"contents\",INDIRECT(ADDRESS($D$3+$E9,4+S$4,1,1,\"Sorcadins\")))>=1,CELL(\"contents\",INDIRECT(ADDRESS($D$3+$E9,4+S$4,1,1,\"Sorcadins\"))),0)","v":0},{"$f":"IF(CELL(\"contents\",INDIRECT(ADDRESS($D$3+$E9,4+T$4,1,1,\"Sorcadins\")))>=1,CELL(\"contents\",INDIRECT(ADDRESS($D$3+$E9,4+T$4,1,1,\"Sorcadins\"))),0)","v":0},{"$f":"IF(CELL(\"contents\",INDIRECT(ADDRESS($D$3+$E9,4+U$4,1,1,\"Sorcadins\")))>=1,CELL(\"contents\",INDIRECT(ADDRESS($D$3+$E9,4+U$4,1,1,\"Sorcadins\"))),0)","v":0},{"$f":"IF(CELL(\"contents\",INDIRECT(ADDRESS($D$3+$E9,4+V$4,1,1,\"Sorcadins\")))>=1,CELL(\"contents\",INDIRECT(ADDRESS($D$3+$E9,4+V$4,1,1,\"Sorcadins\"))),0)","v":0},{"$f":"IF(CELL(\"contents\",INDIRECT(ADDRESS($D$3+$E9,4+W$4,1,1,\"Sorcadins\")))>=1,CELL(\"contents\",INDIRECT(ADDRESS($D$3+$E9,4+W$4,1,1,\"Sorcadins\"))),0)","v":0},{"$f":"IF(CELL(\"contents\",INDIRECT(ADDRESS($D$3+$E9,4+X$4,1,1,\"Sorcadins\")))>=1,CELL(\"contents\",INDIRECT(ADDRESS($D$3+$E9,4+X$4,1,1,\"Sorcadins\"))),0)","v":0},{"$f":"IF(CELL(\"contents\",INDIRECT(ADDRESS($D$3+$E9,4+Y$4,1,1,\"Sorcadins\")))>=1,CELL(\"contents\",INDIRECT(ADDRESS($D$3+$E9,4+Y$4,1,1,\"Sorcadins\"))),0)","v":0},null,{"$f":"SUM(F$6:INDEX(F:F,5+$C9))","v":0},{"$f":"SUM(G$6:INDEX(G:G,5+$C9))","v":0},{"$f":"SUM(H$6:INDEX(H:H,5+$C9))","v":0},{"$f":"SUM(I$6:INDEX(I:I,5+$C9))","v":0},{"$f":"SUM(J$6:INDEX(J:J,5+$C9))","v":0},{"$f":"SUM(K$6:INDEX(K:K,5+$C9))","v":0},{"$f":"SUM(L$6:INDEX(L:L,5+$C9))","v":0},{"$f":"SUM(M$6:INDEX(M:M,5+$C9))","v":0},{"$f":"SUM(N$6:INDEX(N:N,5+$C9))","v":0},{"$f":"SUM(O$6:INDEX(O:O,5+$C9))","v":0},{"$f":"SUM(P$6:INDEX(P:P,5+$C9))","v":0},{"$f":"SUM(Q$6:INDEX(Q:Q,5+$C9))","v":0},{"$f":"SUM(R$6:INDEX(R:R,5+$C9))","v":0},{"$f":"SUM(S$6:INDEX(S:S,5+$C9))","v":0},{"$f":"SUM(T$6:INDEX(T:T,5+$C9))","v":0},{"$f":"SUM(U$6:INDEX(U:U,5+$C9))","v":0},{"$f":"SUM(V$6:INDEX(V:V,5+$C9))","v":0},{"$f":"SUM(W$6:INDEX(W:W,5+$C9))","v":0},{"$f":"SUM(X$6:INDEX(X:X,5+$C9))","v":0},{"$f":"SUM(Y$6:INDEX(Y:Y,5+$C9))","v":0},null,{"$f":"IF(AA9>0,IF(Sorcadins!E$265>Sorcadins!E$269,MIN(Sorcadins!E$265,Sorcadins!E$263/AA9),CELL(\"contents\",INDIRECT(ADDRESS(43+Sorcadins!E$21,ROUNDUP(5+MIN(20,AA9),0),1,1,\"Caster Tables\")))),0)","v":0},{"$f":"IF(AB9>0,IF(Sorcadins!F$265>Sorcadins!F$269,MIN(Sorcadins!F$265,Sorcadins!F$263/AB9),CELL(\"contents\",INDIRECT(ADDRESS(43+Sorcadins!F$21,ROUNDUP(5+MIN(20,AB9),0),1,1,\"Caster Tables\")))),0)","v":0},{"$f":"IF(AC9>0,IF(Sorcadins!G$265>Sorcadins!G$269,MIN(Sorcadins!G$265,Sorcadins!G$263/AC9),CELL(\"contents\",INDIRECT(ADDRESS(43+Sorcadins!G$21,ROUNDUP(5+MIN(20,AC9),0),1,1,\"Caster Tables\")))),0)","v":0},{"$f":"IF(AD9>0,IF(Sorcadins!H$265>Sorcadins!H$269,MIN(Sorcadins!H$265,Sorcadins!H$263/AD9),CELL(\"contents\",INDIRECT(ADDRESS(43+Sorcadins!H$21,ROUNDUP(5+MIN(20,AD9),0),1,1,\"Caster Tables\")))),0)","v":0},{"$f":"IF(AE9>0,IF(Sorcadins!I$265>Sorcadins!I$269,MIN(Sorcadins!I$265,Sorcadins!I$263/AE9),CELL(\"contents\",INDIRECT(ADDRESS(43+Sorcadins!I$21,ROUNDUP(5+MIN(20,AE9),0),1,1,\"Caster Tables\")))),0)","v":0},{"$f":"IF(AF9>0,IF(Sorcadins!J$265>Sorcadins!J$269,MIN(Sorcadins!J$265,Sorcadins!J$263/AF9),CELL(\"contents\",INDIRECT(ADDRESS(43+Sorcadins!J$21,ROUNDUP(5+MIN(20,AF9),0),1,1,\"Caster Tables\")))),0)","v":0},{"$f":"IF(AG9>0,IF(Sorcadins!K$265>Sorcadins!K$269,MIN(Sorcadins!K$265,Sorcadins!K$263/AG9),CELL(\"contents\",INDIRECT(ADDRESS(43+Sorcadins!K$21,ROUNDUP(5+MIN(20,AG9),0),1,1,\"Caster Tables\")))),0)","v":0},{"$f":"IF(AH9>0,IF(Sorcadins!L$265>Sorcadins!L$269,MIN(Sorcadins!L$265,Sorcadins!L$263/AH9),CELL(\"contents\",INDIRECT(ADDRESS(43+Sorcadins!L$21,ROUNDUP(5+MIN(20,AH9),0),1,1,\"Caster Tables\")))),0)","v":0},{"$f":"IF(AI9>0,IF(Sorcadins!M$265>Sorcadins!M$269,MIN(Sorcadins!M$265,Sorcadins!M$263/AI9),CELL(\"contents\",INDIRECT(ADDRESS(43+Sorcadins!M$21,ROUNDUP(5+MIN(20,AI9),0),1,1,\"Caster Tables\")))),0)","v":0},{"$f":"IF(AJ9>0,IF(Sorcadins!N$265>Sorcadins!N$269,MIN(Sorcadins!N$265,Sorcadins!N$263/AJ9),CELL(\"contents\",INDIRECT(ADDRESS(43+Sorcadins!N$21,ROUNDUP(5+MIN(20,AJ9),0),1,1,\"Caster Tables\")))),0)","v":0},{"$f":"IF(AK9>0,IF(Sorcadins!O$265>Sorcadins!O$269,MIN(Sorcadins!O$265,Sorcadins!O$263/AK9),CELL(\"contents\",INDIRECT(ADDRESS(43+Sorcadins!O$21,ROUNDUP(5+MIN(20,AK9),0),1,1,\"Caster Tables\")))),0)","v":0},{"$f":"IF(AL9>0,IF(Sorcadins!P$265>Sorcadins!P$269,MIN(Sorcadins!P$265,Sorcadins!P$263/AL9),CELL(\"contents\",INDIRECT(ADDRESS(43+Sorcadins!P$21,ROUNDUP(5+MIN(20,AL9),0),1,1,\"Caster Tables\")))),0)","v":0},{"$f":"IF(AM9>0,IF(Sorcadins!Q$265>Sorcadins!Q$269,MIN(Sorcadins!Q$265,Sorcadins!Q$263/AM9),CELL(\"contents\",INDIRECT(ADDRESS(43+Sorcadins!Q$21,ROUNDUP(5+MIN(20,AM9),0),1,1,\"Caster Tables\")))),0)","v":0},{"$f":"IF(AN9>0,IF(Sorcadins!R$265>Sorcadins!R$269,MIN(Sorcadins!R$265,Sorcadins!R$263/AN9),CELL(\"contents\",INDIRECT(ADDRESS(43+Sorcadins!R$21,ROUNDUP(5+MIN(20,AN9),0),1,1,\"Caster Tables\")))),0)","v":0},{"$f":"IF(AO9>0,IF(Sorcadins!S$265>Sorcadins!S$269,MIN(Sorcadins!S$265,Sorcadins!S$263/AO9),CELL(\"contents\",INDIRECT(ADDRESS(43+Sorcadins!S$21,ROUNDUP(5+MIN(20,AO9),0),1,1,\"Caster Tables\")))),0)","v":0},{"$f":"IF(AP9>0,IF(Sorcadins!T$265>Sorcadins!T$269,MIN(Sorcadins!T$265,Sorcadins!T$263/AP9),CELL(\"contents\",INDIRECT(ADDRESS(43+Sorcadins!T$21,ROUNDUP(5+MIN(20,AP9),0),1,1,\"Caster Tables\")))),0)","v":0},{"$f":"IF(AQ9>0,IF(Sorcadins!U$265>Sorcadins!U$269,MIN(Sorcadins!U$265,Sorcadins!U$263/AQ9),CELL(\"contents\",INDIRECT(ADDRESS(43+Sorcadins!U$21,ROUNDUP(5+MIN(20,AQ9),0),1,1,\"Caster Tables\")))),0)","v":0},{"$f":"IF(AR9>0,IF(Sorcadins!V$265>Sorcadins!V$269,MIN(Sorcadins!V$265,Sorcadins!V$263/AR9),CELL(\"contents\",INDIRECT(ADDRESS(43+Sorcadins!V$21,ROUNDUP(5+MIN(20,AR9),0),1,1,\"Caster Tables\")))),0)","v":0},{"$f":"IF(AS9>0,IF(Sorcadins!W$265>Sorcadins!W$269,MIN(Sorcadins!W$265,Sorcadins!W$263/AS9),CELL(\"contents\",INDIRECT(ADDRESS(43+Sorcadins!W$21,ROUNDUP(5+MIN(20,AS9),0),1,1,\"Caster Tables\")))),0)","v":0},{"$f":"IF(AT9>0,IF(Sorcadins!X$265>Sorcadins!X$269,MIN(Sorcadins!X$265,Sorcadins!X$263/AT9),CELL(\"contents\",INDIRECT(ADDRESS(43+Sorcadins!X$21,ROUNDUP(5+MIN(20,AT9),0),1,1,\"Caster Tables\")))),0)","v":0},null,0,0,0,0,0,0,0,0,0,0,0,0,0,0,0,0,0,0,0,0,null,{"$f":"IF(AV9>0,MIN(AV9,MAX(0,IF(F9>=0,AV9,0)-SUM(DG$6:INDEX(DG:DG,5+$C9-1))/AA9)*BQ9),0)","v":0},{"$f":"IF(AW9>0,MIN(AW9,MAX(0,IF(G9>=0,AW9,0)-SUM(DH$6:INDEX(DH:DH,5+$C9-1))/AB9)*BR9),0)","v":0},{"$f":"IF(AX9>0,MIN(AX9,MAX(0,IF(H9>=0,AX9,0)-SUM(DI$6:INDEX(DI:DI,5+$C9-1))/AC9)*BS9),0)","v":0},{"$f":"IF(AY9>0,MIN(AY9,MAX(0,IF(I9>=0,AY9,0)-SUM(DJ$6:INDEX(DJ:DJ,5+$C9-1))/AD9)*BT9),0)","v":0},{"$f":"IF(AZ9>0,MIN(AZ9,MAX(0,IF(J9>=0,AZ9,0)-SUM(DK$6:INDEX(DK:DK,5+$C9-1))/AE9)*BU9),0)","v":0},{"$f":"IF(BA9>0,MIN(BA9,MAX(0,IF(K9>=0,BA9,0)-SUM(DL$6:INDEX(DL:DL,5+$C9-1))/AF9)*BV9),0)","v":0},{"$f":"IF(BB9>0,MIN(BB9,MAX(0,IF(L9>=0,BB9,0)-SUM(DM$6:INDEX(DM:DM,5+$C9-1))/AG9)*BW9),0)","v":0},{"$f":"IF(BC9>0,MIN(BC9,MAX(0,IF(M9>=0,BC9,0)-SUM(DN$6:INDEX(DN:DN,5+$C9-1))/AH9)*BX9),0)","v":0},{"$f":"IF(BD9>0,MIN(BD9,MAX(0,IF(N9>=0,BD9,0)-SUM(DO$6:INDEX(DO:DO,5+$C9-1))/AI9)*BY9),0)","v":0},{"$f":"IF(BE9>0,MIN(BE9,MAX(0,IF(O9>=0,BE9,0)-SUM(DP$6:INDEX(DP:DP,5+$C9-1))/AJ9)*BZ9),0)","v":0},{"$f":"IF(BF9>0,MIN(BF9,MAX(0,IF(P9>=0,BF9,0)-SUM(DQ$6:INDEX(DQ:DQ,5+$C9-1))/AK9)*CA9),0)","v":0},{"$f":"IF(BG9>0,MIN(BG9,MAX(0,IF(Q9>=0,BG9,0)-SUM(DR$6:INDEX(DR:DR,5+$C9-1))/AL9)*CB9),0)","v":0},{"$f":"IF(BH9>0,MIN(BH9,MAX(0,IF(R9>=0,BH9,0)-SUM(DS$6:INDEX(DS:DS,5+$C9-1))/AM9)*CC9),0)","v":0},{"$f":"IF(BI9>0,MIN(BI9,MAX(0,IF(S9>=0,BI9,0)-SUM(DT$6:INDEX(DT:DT,5+$C9-1))/AN9)*CD9),0)","v":0},{"$f":"IF(BJ9>0,MIN(BJ9,MAX(0,IF(T9>=0,BJ9,0)-SUM(DU$6:INDEX(DU:DU,5+$C9-1))/AO9)*CE9),0)","v":0},{"$f":"IF(BK9>0,MIN(BK9,MAX(0,IF(U9>=0,BK9,0)-SUM(DV$6:INDEX(DV:DV,5+$C9-1))/AP9)*CF9),0)","v":0},{"$f":"IF(BL9>0,MIN(BL9,MAX(0,IF(V9>=0,BL9,0)-SUM(DW$6:INDEX(DW:DW,5+$C9-1))/AQ9)*CG9),0)","v":0},{"$f":"IF(BM9>0,MIN(BM9,MAX(0,IF(W9>=0,BM9,0)-SUM(DX$6:INDEX(DX:DX,5+$C9-1))/AR9)*CH9),0)","v":0},{"$f":"IF(BN9>0,MIN(BN9,MAX(0,IF(X9>=0,BN9,0)-SUM(DY$6:INDEX(DY:DY,5+$C9-1))/AS9)*CI9),0)","v":0},{"$f":"IF(BO9>0,MIN(BO9,MAX(0,IF(Y9>=0,BO9,0)-SUM(DZ$6:INDEX(DZ:DZ,5+$C9-1))/AT9)*CJ9),0)","v":0},null,0,0,0,0,0,0,0,0,0,0,0,0,0,0,0,0,0,0,0,0,null,"Animate Objects"]
[null,"Fireball",5,"fireball casts : AE",{"$f":"MATCH($D10,INDEX(Sorcadins!$D:$D,$D$3):'Sorcadins'!$D1526,0)-1","v":28},{"$f":"IF(CELL(\"contents\",INDIRECT(ADDRESS($D$3+$E10,4+F$4,1,1,\"Sorcadins\")))>=1,CELL(\"contents\",INDIRECT(ADDRESS($D$3+$E10,4+F$4,1,1,\"Sorcadins\"))),0)","v":0},{"$f":"IF(CELL(\"contents\",INDIRECT(ADDRESS($D$3+$E10,4+G$4,1,1,\"Sorcadins\")))>=1,CELL(\"contents\",INDIRECT(ADDRESS($D$3+$E10,4+G$4,1,1,\"Sorcadins\"))),0)","v":0},{"$f":"IF(CELL(\"contents\",INDIRECT(ADDRESS($D$3+$E10,4+H$4,1,1,\"Sorcadins\")))>=1,CELL(\"contents\",INDIRECT(ADDRESS($D$3+$E10,4+H$4,1,1,\"Sorcadins\"))),0)","v":0},{"$f":"IF(CELL(\"contents\",INDIRECT(ADDRESS($D$3+$E10,4+I$4,1,1,\"Sorcadins\")))>=1,CELL(\"contents\",INDIRECT(ADDRESS($D$3+$E10,4+I$4,1,1,\"Sorcadins\"))),0)","v":0},{"$f":"IF(CELL(\"contents\",INDIRECT(ADDRESS($D$3+$E10,4+J$4,1,1,\"Sorcadins\")))>=1,CELL(\"contents\",INDIRECT(ADDRESS($D$3+$E10,4+J$4,1,1,\"Sorcadins\"))),0)","v":0},{"$f":"IF(CELL(\"contents\",INDIRECT(ADDRESS($D$3+$E10,4+K$4,1,1,\"Sorcadins\")))>=1,CELL(\"contents\",INDIRECT(ADDRESS($D$3+$E10,4+K$4,1,1,\"Sorcadins\"))),0)","v":0},{"$f":"IF(CELL(\"contents\",INDIRECT(ADDRESS($D$3+$E10,4+L$4,1,1,\"Sorcadins\")))>=1,CELL(\"contents\",INDIRECT(ADDRESS($D$3+$E10,4+L$4,1,1,\"Sorcadins\"))),0)","v":0},{"$f":"IF(CELL(\"contents\",INDIRECT(ADDRESS($D$3+$E10,4+M$4,1,1,\"Sorcadins\")))>=1,CELL(\"contents\",INDIRECT(ADDRESS($D$3+$E10,4+M$4,1,1,\"Sorcadins\"))),0)","v":0},{"$f":"IF(CELL(\"contents\",INDIRECT(ADDRESS($D$3+$E10,4+N$4,1,1,\"Sorcadins\")))>=1,CELL(\"contents\",INDIRECT(ADDRESS($D$3+$E10,4+N$4,1,1,\"Sorcadins\"))),0)","v":0},{"$f":"IF(CELL(\"contents\",INDIRECT(ADDRESS($D$3+$E10,4+O$4,1,1,\"Sorcadins\")))>=1,CELL(\"contents\",INDIRECT(ADDRESS($D$3+$E10,4+O$4,1,1,\"Sorcadins\"))),0)","v":0},{"$f":"IF(CELL(\"contents\",INDIRECT(ADDRESS($D$3+$E10,4+P$4,1,1,\"Sorcadins\")))>=1,CELL(\"contents\",INDIRECT(ADDRESS($D$3+$E10,4+P$4,1,1,\"Sorcadins\"))),0)","v":0},{"$f":"IF(CELL(\"contents\",INDIRECT(ADDRESS($D$3+$E10,4+Q$4,1,1,\"Sorcadins\")))>=1,CELL(\"contents\",INDIRECT(ADDRESS($D$3+$E10,4+Q$4,1,1,\"Sorcadins\"))),0)","v":0},{"$f":"IF(CELL(\"contents\",INDIRECT(ADDRESS($D$3+$E10,4+R$4,1,1,\"Sorcadins\")))>=1,CELL(\"contents\",INDIRECT(ADDRESS($D$3+$E10,4+R$4,1,1,\"Sorcadins\"))),0)","v":0},{"$f":"IF(CELL(\"contents\",INDIRECT(ADDRESS($D$3+$E10,4+S$4,1,1,\"Sorcadins\")))>=1,CELL(\"contents\",INDIRECT(ADDRESS($D$3+$E10,4+S$4,1,1,\"Sorcadins\"))),0)","v":0},{"$f":"IF(CELL(\"contents\",INDIRECT(ADDRESS($D$3+$E10,4+T$4,1,1,\"Sorcadins\")))>=1,CELL(\"contents\",INDIRECT(ADDRESS($D$3+$E10,4+T$4,1,1,\"Sorcadins\"))),0)","v":0},{"$f":"IF(CELL(\"contents\",INDIRECT(ADDRESS($D$3+$E10,4+U$4,1,1,\"Sorcadins\")))>=1,CELL(\"contents\",INDIRECT(ADDRESS($D$3+$E10,4+U$4,1,1,\"Sorcadins\"))),0)","v":0},{"$f":"IF(CELL(\"contents\",INDIRECT(ADDRESS($D$3+$E10,4+V$4,1,1,\"Sorcadins\")))>=1,CELL(\"contents\",INDIRECT(ADDRESS($D$3+$E10,4+V$4,1,1,\"Sorcadins\"))),0)","v":0},{"$f":"IF(CELL(\"contents\",INDIRECT(ADDRESS($D$3+$E10,4+W$4,1,1,\"Sorcadins\")))>=1,CELL(\"contents\",INDIRECT(ADDRESS($D$3+$E10,4+W$4,1,1,\"Sorcadins\"))),0)","v":0},{"$f":"IF(CELL(\"contents\",INDIRECT(ADDRESS($D$3+$E10,4+X$4,1,1,\"Sorcadins\")))>=1,CELL(\"contents\",INDIRECT(ADDRESS($D$3+$E10,4+X$4,1,1,\"Sorcadins\"))),0)","v":0},{"$f":"IF(CELL(\"contents\",INDIRECT(ADDRESS($D$3+$E10,4+Y$4,1,1,\"Sorcadins\")))>=1,CELL(\"contents\",INDIRECT(ADDRESS($D$3+$E10,4+Y$4,1,1,\"Sorcadins\"))),0)","v":0},null,{"$f":"SUM(F$6:INDEX(F:F,5+$C10))","v":0},{"$f":"SUM(G$6:INDEX(G:G,5+$C10))","v":0},{"$f":"SUM(H$6:INDEX(H:H,5+$C10))","v":0},{"$f":"SUM(I$6:INDEX(I:I,5+$C10))","v":0},{"$f":"SUM(J$6:INDEX(J:J,5+$C10))","v":0},{"$f":"SUM(K$6:INDEX(K:K,5+$C10))","v":0},{"$f":"SUM(L$6:INDEX(L:L,5+$C10))","v":0},{"$f":"SUM(M$6:INDEX(M:M,5+$C10))","v":0},{"$f":"SUM(N$6:INDEX(N:N,5+$C10))","v":0},{"$f":"SUM(O$6:INDEX(O:O,5+$C10))","v":0},{"$f":"SUM(P$6:INDEX(P:P,5+$C10))","v":0},{"$f":"SUM(Q$6:INDEX(Q:Q,5+$C10))","v":0},{"$f":"SUM(R$6:INDEX(R:R,5+$C10))","v":0},{"$f":"SUM(S$6:INDEX(S:S,5+$C10))","v":0},{"$f":"SUM(T$6:INDEX(T:T,5+$C10))","v":0},{"$f":"SUM(U$6:INDEX(U:U,5+$C10))","v":0},{"$f":"SUM(V$6:INDEX(V:V,5+$C10))","v":0},{"$f":"SUM(W$6:INDEX(W:W,5+$C10))","v":0},{"$f":"SUM(X$6:INDEX(X:X,5+$C10))","v":0},{"$f":"SUM(Y$6:INDEX(Y:Y,5+$C10))","v":0},null,{"$f":"IF(AA10>0,IF(Sorcadins!E$265>Sorcadins!E$269,MIN(Sorcadins!E$265,Sorcadins!E$263/AA10),CELL(\"contents\",INDIRECT(ADDRESS(43+Sorcadins!E$21,ROUNDUP(5+MIN(20,AA10),0),1,1,\"Caster Tables\")))),0)","v":0},{"$f":"IF(AB10>0,IF(Sorcadins!F$265>Sorcadins!F$269,MIN(Sorcadins!F$265,Sorcadins!F$263/AB10),CELL(\"contents\",INDIRECT(ADDRESS(43+Sorcadins!F$21,ROUNDUP(5+MIN(20,AB10),0),1,1,\"Caster Tables\")))),0)","v":0},{"$f":"IF(AC10>0,IF(Sorcadins!G$265>Sorcadins!G$269,MIN(Sorcadins!G$265,Sorcadins!G$263/AC10),CELL(\"contents\",INDIRECT(ADDRESS(43+Sorcadins!G$21,ROUNDUP(5+MIN(20,AC10),0),1,1,\"Caster Tables\")))),0)","v":0},{"$f":"IF(AD10>0,IF(Sorcadins!H$265>Sorcadins!H$269,MIN(Sorcadins!H$265,Sorcadins!H$263/AD10),CELL(\"contents\",INDIRECT(ADDRESS(43+Sorcadins!H$21,ROUNDUP(5+MIN(20,AD10),0),1,1,\"Caster Tables\")))),0)","v":0},{"$f":"IF(AE10>0,IF(Sorcadins!I$265>Sorcadins!I$269,MIN(Sorcadins!I$265,Sorcadins!I$263/AE10),CELL(\"contents\",INDIRECT(ADDRESS(43+Sorcadins!I$21,ROUNDUP(5+MIN(20,AE10),0),1,1,\"Caster Tables\")))),0)","v":0},{"$f":"IF(AF10>0,IF(Sorcadins!J$265>Sorcadins!J$269,MIN(Sorcadins!J$265,Sorcadins!J$263/AF10),CELL(\"contents\",INDIRECT(ADDRESS(43+Sorcadins!J$21,ROUNDUP(5+MIN(20,AF10),0),1,1,\"Caster Tables\")))),0)","v":0},{"$f":"IF(AG10>0,IF(Sorcadins!K$265>Sorcadins!K$269,MIN(Sorcadins!K$265,Sorcadins!K$263/AG10),CELL(\"contents\",INDIRECT(ADDRESS(43+Sorcadins!K$21,ROUNDUP(5+MIN(20,AG10),0),1,1,\"Caster Tables\")))),0)","v":0},{"$f":"IF(AH10>0,IF(Sorcadins!L$265>Sorcadins!L$269,MIN(Sorcadins!L$265,Sorcadins!L$263/AH10),CELL(\"contents\",INDIRECT(ADDRESS(43+Sorcadins!L$21,ROUNDUP(5+MIN(20,AH10),0),1,1,\"Caster Tables\")))),0)","v":0},{"$f":"IF(AI10>0,IF(Sorcadins!M$265>Sorcadins!M$269,MIN(Sorcadins!M$265,Sorcadins!M$263/AI10),CELL(\"contents\",INDIRECT(ADDRESS(43+Sorcadins!M$21,ROUNDUP(5+MIN(20,AI10),0),1,1,\"Caster Tables\")))),0)","v":0},{"$f":"IF(AJ10>0,IF(Sorcadins!N$265>Sorcadins!N$269,MIN(Sorcadins!N$265,Sorcadins!N$263/AJ10),CELL(\"contents\",INDIRECT(ADDRESS(43+Sorcadins!N$21,ROUNDUP(5+MIN(20,AJ10),0),1,1,\"Caster Tables\")))),0)","v":0},{"$f":"IF(AK10>0,IF(Sorcadins!O$265>Sorcadins!O$269,MIN(Sorcadins!O$265,Sorcadins!O$263/AK10),CELL(\"contents\",INDIRECT(ADDRESS(43+Sorcadins!O$21,ROUNDUP(5+MIN(20,AK10),0),1,1,\"Caster Tables\")))),0)","v":0},{"$f":"IF(AL10>0,IF(Sorcadins!P$265>Sorcadins!P$269,MIN(Sorcadins!P$265,Sorcadins!P$263/AL10),CELL(\"contents\",INDIRECT(ADDRESS(43+Sorcadins!P$21,ROUNDUP(5+MIN(20,AL10),0),1,1,\"Caster Tables\")))),0)","v":0},{"$f":"IF(AM10>0,IF(Sorcadins!Q$265>Sorcadins!Q$269,MIN(Sorcadins!Q$265,Sorcadins!Q$263/AM10),CELL(\"contents\",INDIRECT(ADDRESS(43+Sorcadins!Q$21,ROUNDUP(5+MIN(20,AM10),0),1,1,\"Caster Tables\")))),0)","v":0},{"$f":"IF(AN10>0,IF(Sorcadins!R$265>Sorcadins!R$269,MIN(Sorcadins!R$265,Sorcadins!R$263/AN10),CELL(\"contents\",INDIRECT(ADDRESS(43+Sorcadins!R$21,ROUNDUP(5+MIN(20,AN10),0),1,1,\"Caster Tables\")))),0)","v":0},{"$f":"IF(AO10>0,IF(Sorcadins!S$265>Sorcadins!S$269,MIN(Sorcadins!S$265,Sorcadins!S$263/AO10),CELL(\"contents\",INDIRECT(ADDRESS(43+Sorcadins!S$21,ROUNDUP(5+MIN(20,AO10),0),1,1,\"Caster Tables\")))),0)","v":0},{"$f":"IF(AP10>0,IF(Sorcadins!T$265>Sorcadins!T$269,MIN(Sorcadins!T$265,Sorcadins!T$263/AP10),CELL(\"contents\",INDIRECT(ADDRESS(43+Sorcadins!T$21,ROUNDUP(5+MIN(20,AP10),0),1,1,\"Caster Tables\")))),0)","v":0},{"$f":"IF(AQ10>0,IF(Sorcadins!U$265>Sorcadins!U$269,MIN(Sorcadins!U$265,Sorcadins!U$263/AQ10),CELL(\"contents\",INDIRECT(ADDRESS(43+Sorcadins!U$21,ROUNDUP(5+MIN(20,AQ10),0),1,1,\"Caster Tables\")))),0)","v":0},{"$f":"IF(AR10>0,IF(Sorcadins!V$265>Sorcadins!V$269,MIN(Sorcadins!V$265,Sorcadins!V$263/AR10),CELL(\"contents\",INDIRECT(ADDRESS(43+Sorcadins!V$21,ROUNDUP(5+MIN(20,AR10),0),1,1,\"Caster Tables\")))),0)","v":0},{"$f":"IF(AS10>0,IF(Sorcadins!W$265>Sorcadins!W$269,MIN(Sorcadins!W$265,Sorcadins!W$263/AS10),CELL(\"contents\",INDIRECT(ADDRESS(43+Sorcadins!W$21,ROUNDUP(5+MIN(20,AS10),0),1,1,\"Caster Tables\")))),0)","v":0},{"$f":"IF(AT10>0,IF(Sorcadins!X$265>Sorcadins!X$269,MIN(Sorcadins!X$265,Sorcadins!X$263/AT10),CELL(\"contents\",INDIRECT(ADDRESS(43+Sorcadins!X$21,ROUNDUP(5+MIN(20,AT10),0),1,1,\"Caster Tables\")))),0)","v":0},null,0,0,0,0,0,0,0,0,0,0,0,0,0,0,0,0,0,0,0,0,null,{"$f":"IF(AV10>0,MIN(AV10,MAX(0,IF(F10>=0,AV10,0)-SUM(DG$6:INDEX(DG:DG,5+$C10-1))/AA10)*BQ10),0)","v":0},{"$f":"IF(AW10>0,MIN(AW10,MAX(0,IF(G10>=0,AW10,0)-SUM(DH$6:INDEX(DH:DH,5+$C10-1))/AB10)*BR10),0)","v":0},{"$f":"IF(AX10>0,MIN(AX10,MAX(0,IF(H10>=0,AX10,0)-SUM(DI$6:INDEX(DI:DI,5+$C10-1))/AC10)*BS10),0)","v":0},{"$f":"IF(AY10>0,MIN(AY10,MAX(0,IF(I10>=0,AY10,0)-SUM(DJ$6:INDEX(DJ:DJ,5+$C10-1))/AD10)*BT10),0)","v":0},{"$f":"IF(AZ10>0,MIN(AZ10,MAX(0,IF(J10>=0,AZ10,0)-SUM(DK$6:INDEX(DK:DK,5+$C10-1))/AE10)*BU10),0)","v":0},{"$f":"IF(BA10>0,MIN(BA10,MAX(0,IF(K10>=0,BA10,0)-SUM(DL$6:INDEX(DL:DL,5+$C10-1))/AF10)*BV10),0)","v":0},{"$f":"IF(BB10>0,MIN(BB10,MAX(0,IF(L10>=0,BB10,0)-SUM(DM$6:INDEX(DM:DM,5+$C10-1))/AG10)*BW10),0)","v":0},{"$f":"IF(BC10>0,MIN(BC10,MAX(0,IF(M10>=0,BC10,0)-SUM(DN$6:INDEX(DN:DN,5+$C10-1))/AH10)*BX10),0)","v":0},{"$f":"IF(BD10>0,MIN(BD10,MAX(0,IF(N10>=0,BD10,0)-SUM(DO$6:INDEX(DO:DO,5+$C10-1))/AI10)*BY10),0)","v":0},{"$f":"IF(BE10>0,MIN(BE10,MAX(0,IF(O10>=0,BE10,0)-SUM(DP$6:INDEX(DP:DP,5+$C10-1))/AJ10)*BZ10),0)","v":0},{"$f":"IF(BF10>0,MIN(BF10,MAX(0,IF(P10>=0,BF10,0)-SUM(DQ$6:INDEX(DQ:DQ,5+$C10-1))/AK10)*CA10),0)","v":0},{"$f":"IF(BG10>0,MIN(BG10,MAX(0,IF(Q10>=0,BG10,0)-SUM(DR$6:INDEX(DR:DR,5+$C10-1))/AL10)*CB10),0)","v":0},{"$f":"IF(BH10>0,MIN(BH10,MAX(0,IF(R10>=0,BH10,0)-SUM(DS$6:INDEX(DS:DS,5+$C10-1))/AM10)*CC10),0)","v":0},{"$f":"IF(BI10>0,MIN(BI10,MAX(0,IF(S10>=0,BI10,0)-SUM(DT$6:INDEX(DT:DT,5+$C10-1))/AN10)*CD10),0)","v":0},{"$f":"IF(BJ10>0,MIN(BJ10,MAX(0,IF(T10>=0,BJ10,0)-SUM(DU$6:INDEX(DU:DU,5+$C10-1))/AO10)*CE10),0)","v":0},{"$f":"IF(BK10>0,MIN(BK10,MAX(0,IF(U10>=0,BK10,0)-SUM(DV$6:INDEX(DV:DV,5+$C10-1))/AP10)*CF10),0)","v":0},{"$f":"IF(BL10>0,MIN(BL10,MAX(0,IF(V10>=0,BL10,0)-SUM(DW$6:INDEX(DW:DW,5+$C10-1))/AQ10)*CG10),0)","v":0},{"$f":"IF(BM10>0,MIN(BM10,MAX(0,IF(W10>=0,BM10,0)-SUM(DX$6:INDEX(DX:DX,5+$C10-1))/AR10)*CH10),0)","v":0},{"$f":"IF(BN10>0,MIN(BN10,MAX(0,IF(X10>=0,BN10,0)-SUM(DY$6:INDEX(DY:DY,5+$C10-1))/AS10)*CI10),0)","v":0},{"$f":"IF(BO10>0,MIN(BO10,MAX(0,IF(Y10>=0,BO10,0)-SUM(DZ$6:INDEX(DZ:DZ,5+$C10-1))/AT10)*CJ10),0)","v":0},null,0,0,0,0,0,0,0,0,0,0,0,0,0,0,0,0,0,0,0,0,null,"Fireball"]
[null,"Spiritual Weapon",6,"spirtual weapon casts (free cast) req Conq or Divine S",{"$f":"MATCH($D11,INDEX(Sorcadins!$D:$D,$D$3):'Sorcadins'!$D1527,0)-1","v":27},{"$f":"IF(CELL(\"contents\",INDIRECT(ADDRESS($D$3+$E11,4+F$4,1,1,\"Sorcadins\")))>=1,CELL(\"contents\",INDIRECT(ADDRESS($D$3+$E11,4+F$4,1,1,\"Sorcadins\"))),0)","v":0},{"$f":"IF(CELL(\"contents\",INDIRECT(ADDRESS($D$3+$E11,4+G$4,1,1,\"Sorcadins\")))>=1,CELL(\"contents\",INDIRECT(ADDRESS($D$3+$E11,4+G$4,1,1,\"Sorcadins\"))),0)","v":0},{"$f":"IF(CELL(\"contents\",INDIRECT(ADDRESS($D$3+$E11,4+H$4,1,1,\"Sorcadins\")))>=1,CELL(\"contents\",INDIRECT(ADDRESS($D$3+$E11,4+H$4,1,1,\"Sorcadins\"))),0)","v":0},{"$f":"IF(CELL(\"contents\",INDIRECT(ADDRESS($D$3+$E11,4+I$4,1,1,\"Sorcadins\")))>=1,CELL(\"contents\",INDIRECT(ADDRESS($D$3+$E11,4+I$4,1,1,\"Sorcadins\"))),0)","v":0},{"$f":"IF(CELL(\"contents\",INDIRECT(ADDRESS($D$3+$E11,4+J$4,1,1,\"Sorcadins\")))>=1,CELL(\"contents\",INDIRECT(ADDRESS($D$3+$E11,4+J$4,1,1,\"Sorcadins\"))),0)","v":0},{"$f":"IF(CELL(\"contents\",INDIRECT(ADDRESS($D$3+$E11,4+K$4,1,1,\"Sorcadins\")))>=1,CELL(\"contents\",INDIRECT(ADDRESS($D$3+$E11,4+K$4,1,1,\"Sorcadins\"))),0)","v":0},{"$f":"IF(CELL(\"contents\",INDIRECT(ADDRESS($D$3+$E11,4+L$4,1,1,\"Sorcadins\")))>=1,CELL(\"contents\",INDIRECT(ADDRESS($D$3+$E11,4+L$4,1,1,\"Sorcadins\"))),0)","v":0},{"$f":"IF(CELL(\"contents\",INDIRECT(ADDRESS($D$3+$E11,4+M$4,1,1,\"Sorcadins\")))>=1,CELL(\"contents\",INDIRECT(ADDRESS($D$3+$E11,4+M$4,1,1,\"Sorcadins\"))),0)","v":0},{"$f":"IF(CELL(\"contents\",INDIRECT(ADDRESS($D$3+$E11,4+N$4,1,1,\"Sorcadins\")))>=1,CELL(\"contents\",INDIRECT(ADDRESS($D$3+$E11,4+N$4,1,1,\"Sorcadins\"))),0)","v":0},{"$f":"IF(CELL(\"contents\",INDIRECT(ADDRESS($D$3+$E11,4+O$4,1,1,\"Sorcadins\")))>=1,CELL(\"contents\",INDIRECT(ADDRESS($D$3+$E11,4+O$4,1,1,\"Sorcadins\"))),0)","v":0},{"$f":"IF(CELL(\"contents\",INDIRECT(ADDRESS($D$3+$E11,4+P$4,1,1,\"Sorcadins\")))>=1,CELL(\"contents\",INDIRECT(ADDRESS($D$3+$E11,4+P$4,1,1,\"Sorcadins\"))),0)","v":0},{"$f":"IF(CELL(\"contents\",INDIRECT(ADDRESS($D$3+$E11,4+Q$4,1,1,\"Sorcadins\")))>=1,CELL(\"contents\",INDIRECT(ADDRESS($D$3+$E11,4+Q$4,1,1,\"Sorcadins\"))),0)","v":0},{"$f":"IF(CELL(\"contents\",INDIRECT(ADDRESS($D$3+$E11,4+R$4,1,1,\"Sorcadins\")))>=1,CELL(\"contents\",INDIRECT(ADDRESS($D$3+$E11,4+R$4,1,1,\"Sorcadins\"))),0)","v":0},{"$f":"IF(CELL(\"contents\",INDIRECT(ADDRESS($D$3+$E11,4+S$4,1,1,\"Sorcadins\")))>=1,CELL(\"contents\",INDIRECT(ADDRESS($D$3+$E11,4+S$4,1,1,\"Sorcadins\"))),0)","v":0},{"$f":"IF(CELL(\"contents\",INDIRECT(ADDRESS($D$3+$E11,4+T$4,1,1,\"Sorcadins\")))>=1,CELL(\"contents\",INDIRECT(ADDRESS($D$3+$E11,4+T$4,1,1,\"Sorcadins\"))),0)","v":0},{"$f":"IF(CELL(\"contents\",INDIRECT(ADDRESS($D$3+$E11,4+U$4,1,1,\"Sorcadins\")))>=1,CELL(\"contents\",INDIRECT(ADDRESS($D$3+$E11,4+U$4,1,1,\"Sorcadins\"))),0)","v":0},{"$f":"IF(CELL(\"contents\",INDIRECT(ADDRESS($D$3+$E11,4+V$4,1,1,\"Sorcadins\")))>=1,CELL(\"contents\",INDIRECT(ADDRESS($D$3+$E11,4+V$4,1,1,\"Sorcadins\"))),0)","v":0},{"$f":"IF(CELL(\"contents\",INDIRECT(ADDRESS($D$3+$E11,4+W$4,1,1,\"Sorcadins\")))>=1,CELL(\"contents\",INDIRECT(ADDRESS($D$3+$E11,4+W$4,1,1,\"Sorcadins\"))),0)","v":0},{"$f":"IF(CELL(\"contents\",INDIRECT(ADDRESS($D$3+$E11,4+X$4,1,1,\"Sorcadins\")))>=1,CELL(\"contents\",INDIRECT(ADDRESS($D$3+$E11,4+X$4,1,1,\"Sorcadins\"))),0)","v":0},{"$f":"IF(CELL(\"contents\",INDIRECT(ADDRESS($D$3+$E11,4+Y$4,1,1,\"Sorcadins\")))>=1,CELL(\"contents\",INDIRECT(ADDRESS($D$3+$E11,4+Y$4,1,1,\"Sorcadins\"))),0)","v":0},null,{"$f":"SUM(F$6:INDEX(F:F,5+$C11))","v":0},{"$f":"SUM(G$6:INDEX(G:G,5+$C11))","v":0},{"$f":"SUM(H$6:INDEX(H:H,5+$C11))","v":0},{"$f":"SUM(I$6:INDEX(I:I,5+$C11))","v":0},{"$f":"SUM(J$6:INDEX(J:J,5+$C11))","v":0},{"$f":"SUM(K$6:INDEX(K:K,5+$C11))","v":0},{"$f":"SUM(L$6:INDEX(L:L,5+$C11))","v":0},{"$f":"SUM(M$6:INDEX(M:M,5+$C11))","v":0},{"$f":"SUM(N$6:INDEX(N:N,5+$C11))","v":0},{"$f":"SUM(O$6:INDEX(O:O,5+$C11))","v":0},{"$f":"SUM(P$6:INDEX(P:P,5+$C11))","v":0},{"$f":"SUM(Q$6:INDEX(Q:Q,5+$C11))","v":0},{"$f":"SUM(R$6:INDEX(R:R,5+$C11))","v":0},{"$f":"SUM(S$6:INDEX(S:S,5+$C11))","v":0},{"$f":"SUM(T$6:INDEX(T:T,5+$C11))","v":0},{"$f":"SUM(U$6:INDEX(U:U,5+$C11))","v":0},{"$f":"SUM(V$6:INDEX(V:V,5+$C11))","v":0},{"$f":"SUM(W$6:INDEX(W:W,5+$C11))","v":0},{"$f":"SUM(X$6:INDEX(X:X,5+$C11))","v":0},{"$f":"SUM(Y$6:INDEX(Y:Y,5+$C11))","v":0},null,{"$f":"IF(AA11>0,IF(Sorcadins!E$265>Sorcadins!E$269,MIN(Sorcadins!E$265,Sorcadins!E$263/AA11),CELL(\"contents\",INDIRECT(ADDRESS(43+Sorcadins!E$21,ROUNDUP(5+MIN(20,AA11),0),1,1,\"Caster Tables\")))),0)","v":0},{"$f":"IF(AB11>0,IF(Sorcadins!F$265>Sorcadins!F$269,MIN(Sorcadins!F$265,Sorcadins!F$263/AB11),CELL(\"contents\",INDIRECT(ADDRESS(43+Sorcadins!F$21,ROUNDUP(5+MIN(20,AB11),0),1,1,\"Caster Tables\")))),0)","v":0},{"$f":"IF(AC11>0,IF(Sorcadins!G$265>Sorcadins!G$269,MIN(Sorcadins!G$265,Sorcadins!G$263/AC11),CELL(\"contents\",INDIRECT(ADDRESS(43+Sorcadins!G$21,ROUNDUP(5+MIN(20,AC11),0),1,1,\"Caster Tables\")))),0)","v":0},{"$f":"IF(AD11>0,IF(Sorcadins!H$265>Sorcadins!H$269,MIN(Sorcadins!H$265,Sorcadins!H$263/AD11),CELL(\"contents\",INDIRECT(ADDRESS(43+Sorcadins!H$21,ROUNDUP(5+MIN(20,AD11),0),1,1,\"Caster Tables\")))),0)","v":0},{"$f":"IF(AE11>0,IF(Sorcadins!I$265>Sorcadins!I$269,MIN(Sorcadins!I$265,Sorcadins!I$263/AE11),CELL(\"contents\",INDIRECT(ADDRESS(43+Sorcadins!I$21,ROUNDUP(5+MIN(20,AE11),0),1,1,\"Caster Tables\")))),0)","v":0},{"$f":"IF(AF11>0,IF(Sorcadins!J$265>Sorcadins!J$269,MIN(Sorcadins!J$265,Sorcadins!J$263/AF11),CELL(\"contents\",INDIRECT(ADDRESS(43+Sorcadins!J$21,ROUNDUP(5+MIN(20,AF11),0),1,1,\"Caster Tables\")))),0)","v":0},{"$f":"IF(AG11>0,IF(Sorcadins!K$265>Sorcadins!K$269,MIN(Sorcadins!K$265,Sorcadins!K$263/AG11),CELL(\"contents\",INDIRECT(ADDRESS(43+Sorcadins!K$21,ROUNDUP(5+MIN(20,AG11),0),1,1,\"Caster Tables\")))),0)","v":0},{"$f":"IF(AH11>0,IF(Sorcadins!L$265>Sorcadins!L$269,MIN(Sorcadins!L$265,Sorcadins!L$263/AH11),CELL(\"contents\",INDIRECT(ADDRESS(43+Sorcadins!L$21,ROUNDUP(5+MIN(20,AH11),0),1,1,\"Caster Tables\")))),0)","v":0},{"$f":"IF(AI11>0,IF(Sorcadins!M$265>Sorcadins!M$269,MIN(Sorcadins!M$265,Sorcadins!M$263/AI11),CELL(\"contents\",INDIRECT(ADDRESS(43+Sorcadins!M$21,ROUNDUP(5+MIN(20,AI11),0),1,1,\"Caster Tables\")))),0)","v":0},{"$f":"IF(AJ11>0,IF(Sorcadins!N$265>Sorcadins!N$269,MIN(Sorcadins!N$265,Sorcadins!N$263/AJ11),CELL(\"contents\",INDIRECT(ADDRESS(43+Sorcadins!N$21,ROUNDUP(5+MIN(20,AJ11),0),1,1,\"Caster Tables\")))),0)","v":0},{"$f":"IF(AK11>0,IF(Sorcadins!O$265>Sorcadins!O$269,MIN(Sorcadins!O$265,Sorcadins!O$263/AK11),CELL(\"contents\",INDIRECT(ADDRESS(43+Sorcadins!O$21,ROUNDUP(5+MIN(20,AK11),0),1,1,\"Caster Tables\")))),0)","v":0},{"$f":"IF(AL11>0,IF(Sorcadins!P$265>Sorcadins!P$269,MIN(Sorcadins!P$265,Sorcadins!P$263/AL11),CELL(\"contents\",INDIRECT(ADDRESS(43+Sorcadins!P$21,ROUNDUP(5+MIN(20,AL11),0),1,1,\"Caster Tables\")))),0)","v":0},{"$f":"IF(AM11>0,IF(Sorcadins!Q$265>Sorcadins!Q$269,MIN(Sorcadins!Q$265,Sorcadins!Q$263/AM11),CELL(\"contents\",INDIRECT(ADDRESS(43+Sorcadins!Q$21,ROUNDUP(5+MIN(20,AM11),0),1,1,\"Caster Tables\")))),0)","v":0},{"$f":"IF(AN11>0,IF(Sorcadins!R$265>Sorcadins!R$269,MIN(Sorcadins!R$265,Sorcadins!R$263/AN11),CELL(\"contents\",INDIRECT(ADDRESS(43+Sorcadins!R$21,ROUNDUP(5+MIN(20,AN11),0),1,1,\"Caster Tables\")))),0)","v":0},{"$f":"IF(AO11>0,IF(Sorcadins!S$265>Sorcadins!S$269,MIN(Sorcadins!S$265,Sorcadins!S$263/AO11),CELL(\"contents\",INDIRECT(ADDRESS(43+Sorcadins!S$21,ROUNDUP(5+MIN(20,AO11),0),1,1,\"Caster Tables\")))),0)","v":0},{"$f":"IF(AP11>0,IF(Sorcadins!T$265>Sorcadins!T$269,MIN(Sorcadins!T$265,Sorcadins!T$263/AP11),CELL(\"contents\",INDIRECT(ADDRESS(43+Sorcadins!T$21,ROUNDUP(5+MIN(20,AP11),0),1,1,\"Caster Tables\")))),0)","v":0},{"$f":"IF(AQ11>0,IF(Sorcadins!U$265>Sorcadins!U$269,MIN(Sorcadins!U$265,Sorcadins!U$263/AQ11),CELL(\"contents\",INDIRECT(ADDRESS(43+Sorcadins!U$21,ROUNDUP(5+MIN(20,AQ11),0),1,1,\"Caster Tables\")))),0)","v":0},{"$f":"IF(AR11>0,IF(Sorcadins!V$265>Sorcadins!V$269,MIN(Sorcadins!V$265,Sorcadins!V$263/AR11),CELL(\"contents\",INDIRECT(ADDRESS(43+Sorcadins!V$21,ROUNDUP(5+MIN(20,AR11),0),1,1,\"Caster Tables\")))),0)","v":0},{"$f":"IF(AS11>0,IF(Sorcadins!W$265>Sorcadins!W$269,MIN(Sorcadins!W$265,Sorcadins!W$263/AS11),CELL(\"contents\",INDIRECT(ADDRESS(43+Sorcadins!W$21,ROUNDUP(5+MIN(20,AS11),0),1,1,\"Caster Tables\")))),0)","v":0},{"$f":"IF(AT11>0,IF(Sorcadins!X$265>Sorcadins!X$269,MIN(Sorcadins!X$265,Sorcadins!X$263/AT11),CELL(\"contents\",INDIRECT(ADDRESS(43+Sorcadins!X$21,ROUNDUP(5+MIN(20,AT11),0),1,1,\"Caster Tables\")))),0)","v":0},null,{"$f":"IF(F11>=1,AA11/F11,0)","v":0},{"$f":"IF(G11>=1,AB11/G11,0)","v":0},0,0,0,0,0,0,0,0,0,0,0,0,0,0,0,0,0,0,null,{"$f":"IF(AV11>0,MIN(AV11,MAX(0,IF(F11>=0,AV11,0)-SUM(DG$6:INDEX(DG:DG,5+$C11-1))/AA11)*BQ11),0)","v":0},{"$f":"IF(AW11>0,MIN(AW11,MAX(0,IF(G11>=0,AW11,0)-SUM(DH$6:INDEX(DH:DH,5+$C11-1))/AB11)*BR11),0)","v":0},{"$f":"IF(AX11>0,MIN(AX11,MAX(0,IF(H11>=0,AX11,0)-SUM(DI$6:INDEX(DI:DI,5+$C11-1))/AC11)*BS11),0)","v":0},{"$f":"IF(AY11>0,MIN(AY11,MAX(0,IF(I11>=0,AY11,0)-SUM(DJ$6:INDEX(DJ:DJ,5+$C11-1))/AD11)*BT11),0)","v":0},{"$f":"IF(AZ11>0,MIN(AZ11,MAX(0,IF(J11>=0,AZ11,0)-SUM(DK$6:INDEX(DK:DK,5+$C11-1))/AE11)*BU11),0)","v":0},{"$f":"IF(BA11>0,MIN(BA11,MAX(0,IF(K11>=0,BA11,0)-SUM(DL$6:INDEX(DL:DL,5+$C11-1))/AF11)*BV11),0)","v":0},{"$f":"IF(BB11>0,MIN(BB11,MAX(0,IF(L11>=0,BB11,0)-SUM(DM$6:INDEX(DM:DM,5+$C11-1))/AG11)*BW11),0)","v":0},{"$f":"IF(BC11>0,MIN(BC11,MAX(0,IF(M11>=0,BC11,0)-SUM(DN$6:INDEX(DN:DN,5+$C11-1))/AH11)*BX11),0)","v":0},{"$f":"IF(BD11>0,MIN(BD11,MAX(0,IF(N11>=0,BD11,0)-SUM(DO$6:INDEX(DO:DO,5+$C11-1))/AI11)*BY11),0)","v":0},{"$f":"IF(BE11>0,MIN(BE11,MAX(0,IF(O11>=0,BE11,0)-SUM(DP$6:INDEX(DP:DP,5+$C11-1))/AJ11)*BZ11),0)","v":0},{"$f":"IF(BF11>0,MIN(BF11,MAX(0,IF(P11>=0,BF11,0)-SUM(DQ$6:INDEX(DQ:DQ,5+$C11-1))/AK11)*CA11),0)","v":0},{"$f":"IF(BG11>0,MIN(BG11,MAX(0,IF(Q11>=0,BG11,0)-SUM(DR$6:INDEX(DR:DR,5+$C11-1))/AL11)*CB11),0)","v":0},{"$f":"IF(BH11>0,MIN(BH11,MAX(0,IF(R11>=0,BH11,0)-SUM(DS$6:INDEX(DS:DS,5+$C11-1))/AM11)*CC11),0)","v":0},{"$f":"IF(BI11>0,MIN(BI11,MAX(0,IF(S11>=0,BI11,0)-SUM(DT$6:INDEX(DT:DT,5+$C11-1))/AN11)*CD11),0)","v":0},{"$f":"IF(BJ11>0,MIN(BJ11,MAX(0,IF(T11>=0,BJ11,0)-SUM(DU$6:INDEX(DU:DU,5+$C11-1))/AO11)*CE11),0)","v":0},{"$f":"IF(BK11>0,MIN(BK11,MAX(0,IF(U11>=0,BK11,0)-SUM(DV$6:INDEX(DV:DV,5+$C11-1))/AP11)*CF11),0)","v":0},{"$f":"IF(BL11>0,MIN(BL11,MAX(0,IF(V11>=0,BL11,0)-SUM(DW$6:INDEX(DW:DW,5+$C11-1))/AQ11)*CG11),0)","v":0},{"$f":"IF(BM11>0,MIN(BM11,MAX(0,IF(W11>=0,BM11,0)-SUM(DX$6:INDEX(DX:DX,5+$C11-1))/AR11)*CH11),0)","v":0},{"$f":"IF(BN11>0,MIN(BN11,MAX(0,IF(X11>=0,BN11,0)-SUM(DY$6:INDEX(DY:DY,5+$C11-1))/AS11)*CI11),0)","v":0},{"$f":"IF(BO11>0,MIN(BO11,MAX(0,IF(Y11>=0,BO11,0)-SUM(DZ$6:INDEX(DZ:DZ,5+$C11-1))/AT11)*CJ11),0)","v":0},null,0,0,0,0,0,0,0,0,0,0,0,0,0,0,0,0,0,0,0,0,null,"Spiritual Weapon"]
[null,"Summon Beast",7,"summon beast (c)",{"$f":"MATCH($D12,INDEX(Sorcadins!$D:$D,$D$3):'Sorcadins'!$D1528,0)-1","v":31},{"$f":"IF(CELL(\"contents\",INDIRECT(ADDRESS($D$3+$E12,4+F$4,1,1,\"Sorcadins\")))>=1,CELL(\"contents\",INDIRECT(ADDRESS($D$3+$E12,4+F$4,1,1,\"Sorcadins\"))),0)","v":0},{"$f":"IF(CELL(\"contents\",INDIRECT(ADDRESS($D$3+$E12,4+G$4,1,1,\"Sorcadins\")))>=1,CELL(\"contents\",INDIRECT(ADDRESS($D$3+$E12,4+G$4,1,1,\"Sorcadins\"))),0)","v":0},{"$f":"IF(CELL(\"contents\",INDIRECT(ADDRESS($D$3+$E12,4+H$4,1,1,\"Sorcadins\")))>=1,CELL(\"contents\",INDIRECT(ADDRESS($D$3+$E12,4+H$4,1,1,\"Sorcadins\"))),0)","v":0},{"$f":"IF(CELL(\"contents\",INDIRECT(ADDRESS($D$3+$E12,4+I$4,1,1,\"Sorcadins\")))>=1,CELL(\"contents\",INDIRECT(ADDRESS($D$3+$E12,4+I$4,1,1,\"Sorcadins\"))),0)","v":0},{"$f":"IF(CELL(\"contents\",INDIRECT(ADDRESS($D$3+$E12,4+J$4,1,1,\"Sorcadins\")))>=1,CELL(\"contents\",INDIRECT(ADDRESS($D$3+$E12,4+J$4,1,1,\"Sorcadins\"))),0)","v":0},{"$f":"IF(CELL(\"contents\",INDIRECT(ADDRESS($D$3+$E12,4+K$4,1,1,\"Sorcadins\")))>=1,CELL(\"contents\",INDIRECT(ADDRESS($D$3+$E12,4+K$4,1,1,\"Sorcadins\"))),0)","v":0},{"$f":"IF(CELL(\"contents\",INDIRECT(ADDRESS($D$3+$E12,4+L$4,1,1,\"Sorcadins\")))>=1,CELL(\"contents\",INDIRECT(ADDRESS($D$3+$E12,4+L$4,1,1,\"Sorcadins\"))),0)","v":0},{"$f":"IF(CELL(\"contents\",INDIRECT(ADDRESS($D$3+$E12,4+M$4,1,1,\"Sorcadins\")))>=1,CELL(\"contents\",INDIRECT(ADDRESS($D$3+$E12,4+M$4,1,1,\"Sorcadins\"))),0)","v":0},{"$f":"IF(CELL(\"contents\",INDIRECT(ADDRESS($D$3+$E12,4+N$4,1,1,\"Sorcadins\")))>=1,CELL(\"contents\",INDIRECT(ADDRESS($D$3+$E12,4+N$4,1,1,\"Sorcadins\"))),0)","v":0},{"$f":"IF(CELL(\"contents\",INDIRECT(ADDRESS($D$3+$E12,4+O$4,1,1,\"Sorcadins\")))>=1,CELL(\"contents\",INDIRECT(ADDRESS($D$3+$E12,4+O$4,1,1,\"Sorcadins\"))),0)","v":0},{"$f":"IF(CELL(\"contents\",INDIRECT(ADDRESS($D$3+$E12,4+P$4,1,1,\"Sorcadins\")))>=1,CELL(\"contents\",INDIRECT(ADDRESS($D$3+$E12,4+P$4,1,1,\"Sorcadins\"))),0)","v":0},{"$f":"IF(CELL(\"contents\",INDIRECT(ADDRESS($D$3+$E12,4+Q$4,1,1,\"Sorcadins\")))>=1,CELL(\"contents\",INDIRECT(ADDRESS($D$3+$E12,4+Q$4,1,1,\"Sorcadins\"))),0)","v":0},{"$f":"IF(CELL(\"contents\",INDIRECT(ADDRESS($D$3+$E12,4+R$4,1,1,\"Sorcadins\")))>=1,CELL(\"contents\",INDIRECT(ADDRESS($D$3+$E12,4+R$4,1,1,\"Sorcadins\"))),0)","v":0},{"$f":"IF(CELL(\"contents\",INDIRECT(ADDRESS($D$3+$E12,4+S$4,1,1,\"Sorcadins\")))>=1,CELL(\"contents\",INDIRECT(ADDRESS($D$3+$E12,4+S$4,1,1,\"Sorcadins\"))),0)","v":0},{"$f":"IF(CELL(\"contents\",INDIRECT(ADDRESS($D$3+$E12,4+T$4,1,1,\"Sorcadins\")))>=1,CELL(\"contents\",INDIRECT(ADDRESS($D$3+$E12,4+T$4,1,1,\"Sorcadins\"))),0)","v":0},{"$f":"IF(CELL(\"contents\",INDIRECT(ADDRESS($D$3+$E12,4+U$4,1,1,\"Sorcadins\")))>=1,CELL(\"contents\",INDIRECT(ADDRESS($D$3+$E12,4+U$4,1,1,\"Sorcadins\"))),0)","v":0},{"$f":"IF(CELL(\"contents\",INDIRECT(ADDRESS($D$3+$E12,4+V$4,1,1,\"Sorcadins\")))>=1,CELL(\"contents\",INDIRECT(ADDRESS($D$3+$E12,4+V$4,1,1,\"Sorcadins\"))),0)","v":0},{"$f":"IF(CELL(\"contents\",INDIRECT(ADDRESS($D$3+$E12,4+W$4,1,1,\"Sorcadins\")))>=1,CELL(\"contents\",INDIRECT(ADDRESS($D$3+$E12,4+W$4,1,1,\"Sorcadins\"))),0)","v":0},{"$f":"IF(CELL(\"contents\",INDIRECT(ADDRESS($D$3+$E12,4+X$4,1,1,\"Sorcadins\")))>=1,CELL(\"contents\",INDIRECT(ADDRESS($D$3+$E12,4+X$4,1,1,\"Sorcadins\"))),0)","v":0},{"$f":"IF(CELL(\"contents\",INDIRECT(ADDRESS($D$3+$E12,4+Y$4,1,1,\"Sorcadins\")))>=1,CELL(\"contents\",INDIRECT(ADDRESS($D$3+$E12,4+Y$4,1,1,\"Sorcadins\"))),0)","v":0},null,{"$f":"SUM(F$6:INDEX(F:F,5+$C12))","v":0},{"$f":"SUM(G$6:INDEX(G:G,5+$C12))","v":0},{"$f":"SUM(H$6:INDEX(H:H,5+$C12))","v":0},{"$f":"SUM(I$6:INDEX(I:I,5+$C12))","v":0},{"$f":"SUM(J$6:INDEX(J:J,5+$C12))","v":0},{"$f":"SUM(K$6:INDEX(K:K,5+$C12))","v":0},{"$f":"SUM(L$6:INDEX(L:L,5+$C12))","v":0},{"$f":"SUM(M$6:INDEX(M:M,5+$C12))","v":0},{"$f":"SUM(N$6:INDEX(N:N,5+$C12))","v":0},{"$f":"SUM(O$6:INDEX(O:O,5+$C12))","v":0},{"$f":"SUM(P$6:INDEX(P:P,5+$C12))","v":0},{"$f":"SUM(Q$6:INDEX(Q:Q,5+$C12))","v":0},{"$f":"SUM(R$6:INDEX(R:R,5+$C12))","v":0},{"$f":"SUM(S$6:INDEX(S:S,5+$C12))","v":0},{"$f":"SUM(T$6:INDEX(T:T,5+$C12))","v":0},{"$f":"SUM(U$6:INDEX(U:U,5+$C12))","v":0},{"$f":"SUM(V$6:INDEX(V:V,5+$C12))","v":0},{"$f":"SUM(W$6:INDEX(W:W,5+$C12))","v":0},{"$f":"SUM(X$6:INDEX(X:X,5+$C12))","v":0},{"$f":"SUM(Y$6:INDEX(Y:Y,5+$C12))","v":0},null,{"$f":"IF(AA12>0,IF(Sorcadins!E$265>Sorcadins!E$269,MIN(Sorcadins!E$265,Sorcadins!E$263/AA12),CELL(\"contents\",INDIRECT(ADDRESS(43+Sorcadins!E$21,ROUNDUP(5+MIN(20,AA12),0),1,1,\"Caster Tables\")))),0)","v":0},{"$f":"IF(AB12>0,IF(Sorcadins!F$265>Sorcadins!F$269,MIN(Sorcadins!F$265,Sorcadins!F$263/AB12),CELL(\"contents\",INDIRECT(ADDRESS(43+Sorcadins!F$21,ROUNDUP(5+MIN(20,AB12),0),1,1,\"Caster Tables\")))),0)","v":0},{"$f":"IF(AC12>0,IF(Sorcadins!G$265>Sorcadins!G$269,MIN(Sorcadins!G$265,Sorcadins!G$263/AC12),CELL(\"contents\",INDIRECT(ADDRESS(43+Sorcadins!G$21,ROUNDUP(5+MIN(20,AC12),0),1,1,\"Caster Tables\")))),0)","v":0},{"$f":"IF(AD12>0,IF(Sorcadins!H$265>Sorcadins!H$269,MIN(Sorcadins!H$265,Sorcadins!H$263/AD12),CELL(\"contents\",INDIRECT(ADDRESS(43+Sorcadins!H$21,ROUNDUP(5+MIN(20,AD12),0),1,1,\"Caster Tables\")))),0)","v":0},{"$f":"IF(AE12>0,IF(Sorcadins!I$265>Sorcadins!I$269,MIN(Sorcadins!I$265,Sorcadins!I$263/AE12),CELL(\"contents\",INDIRECT(ADDRESS(43+Sorcadins!I$21,ROUNDUP(5+MIN(20,AE12),0),1,1,\"Caster Tables\")))),0)","v":0},{"$f":"IF(AF12>0,IF(Sorcadins!J$265>Sorcadins!J$269,MIN(Sorcadins!J$265,Sorcadins!J$263/AF12),CELL(\"contents\",INDIRECT(ADDRESS(43+Sorcadins!J$21,ROUNDUP(5+MIN(20,AF12),0),1,1,\"Caster Tables\")))),0)","v":0},{"$f":"IF(AG12>0,IF(Sorcadins!K$265>Sorcadins!K$269,MIN(Sorcadins!K$265,Sorcadins!K$263/AG12),CELL(\"contents\",INDIRECT(ADDRESS(43+Sorcadins!K$21,ROUNDUP(5+MIN(20,AG12),0),1,1,\"Caster Tables\")))),0)","v":0},{"$f":"IF(AH12>0,IF(Sorcadins!L$265>Sorcadins!L$269,MIN(Sorcadins!L$265,Sorcadins!L$263/AH12),CELL(\"contents\",INDIRECT(ADDRESS(43+Sorcadins!L$21,ROUNDUP(5+MIN(20,AH12),0),1,1,\"Caster Tables\")))),0)","v":0},{"$f":"IF(AI12>0,IF(Sorcadins!M$265>Sorcadins!M$269,MIN(Sorcadins!M$265,Sorcadins!M$263/AI12),CELL(\"contents\",INDIRECT(ADDRESS(43+Sorcadins!M$21,ROUNDUP(5+MIN(20,AI12),0),1,1,\"Caster Tables\")))),0)","v":0},{"$f":"IF(AJ12>0,IF(Sorcadins!N$265>Sorcadins!N$269,MIN(Sorcadins!N$265,Sorcadins!N$263/AJ12),CELL(\"contents\",INDIRECT(ADDRESS(43+Sorcadins!N$21,ROUNDUP(5+MIN(20,AJ12),0),1,1,\"Caster Tables\")))),0)","v":0},{"$f":"IF(AK12>0,IF(Sorcadins!O$265>Sorcadins!O$269,MIN(Sorcadins!O$265,Sorcadins!O$263/AK12),CELL(\"contents\",INDIRECT(ADDRESS(43+Sorcadins!O$21,ROUNDUP(5+MIN(20,AK12),0),1,1,\"Caster Tables\")))),0)","v":0},{"$f":"IF(AL12>0,IF(Sorcadins!P$265>Sorcadins!P$269,MIN(Sorcadins!P$265,Sorcadins!P$263/AL12),CELL(\"contents\",INDIRECT(ADDRESS(43+Sorcadins!P$21,ROUNDUP(5+MIN(20,AL12),0),1,1,\"Caster Tables\")))),0)","v":0},{"$f":"IF(AM12>0,IF(Sorcadins!Q$265>Sorcadins!Q$269,MIN(Sorcadins!Q$265,Sorcadins!Q$263/AM12),CELL(\"contents\",INDIRECT(ADDRESS(43+Sorcadins!Q$21,ROUNDUP(5+MIN(20,AM12),0),1,1,\"Caster Tables\")))),0)","v":0},{"$f":"IF(AN12>0,IF(Sorcadins!R$265>Sorcadins!R$269,MIN(Sorcadins!R$265,Sorcadins!R$263/AN12),CELL(\"contents\",INDIRECT(ADDRESS(43+Sorcadins!R$21,ROUNDUP(5+MIN(20,AN12),0),1,1,\"Caster Tables\")))),0)","v":0},{"$f":"IF(AO12>0,IF(Sorcadins!S$265>Sorcadins!S$269,MIN(Sorcadins!S$265,Sorcadins!S$263/AO12),CELL(\"contents\",INDIRECT(ADDRESS(43+Sorcadins!S$21,ROUNDUP(5+MIN(20,AO12),0),1,1,\"Caster Tables\")))),0)","v":0},{"$f":"IF(AP12>0,IF(Sorcadins!T$265>Sorcadins!T$269,MIN(Sorcadins!T$265,Sorcadins!T$263/AP12),CELL(\"contents\",INDIRECT(ADDRESS(43+Sorcadins!T$21,ROUNDUP(5+MIN(20,AP12),0),1,1,\"Caster Tables\")))),0)","v":0},{"$f":"IF(AQ12>0,IF(Sorcadins!U$265>Sorcadins!U$269,MIN(Sorcadins!U$265,Sorcadins!U$263/AQ12),CELL(\"contents\",INDIRECT(ADDRESS(43+Sorcadins!U$21,ROUNDUP(5+MIN(20,AQ12),0),1,1,\"Caster Tables\")))),0)","v":0},{"$f":"IF(AR12>0,IF(Sorcadins!V$265>Sorcadins!V$269,MIN(Sorcadins!V$265,Sorcadins!V$263/AR12),CELL(\"contents\",INDIRECT(ADDRESS(43+Sorcadins!V$21,ROUNDUP(5+MIN(20,AR12),0),1,1,\"Caster Tables\")))),0)","v":0},{"$f":"IF(AS12>0,IF(Sorcadins!W$265>Sorcadins!W$269,MIN(Sorcadins!W$265,Sorcadins!W$263/AS12),CELL(\"contents\",INDIRECT(ADDRESS(43+Sorcadins!W$21,ROUNDUP(5+MIN(20,AS12),0),1,1,\"Caster Tables\")))),0)","v":0},{"$f":"IF(AT12>0,IF(Sorcadins!X$265>Sorcadins!X$269,MIN(Sorcadins!X$265,Sorcadins!X$263/AT12),CELL(\"contents\",INDIRECT(ADDRESS(43+Sorcadins!X$21,ROUNDUP(5+MIN(20,AT12),0),1,1,\"Caster Tables\")))),0)","v":0},null,0,0,0,0,0,0,0,0,0,0,0,0,0,0,0,0,0,0,0,0,null,{"$f":"IF(AV12>0,MIN(AV12,MAX(0,IF(F12>=0,AV12,0)-SUM(DG$6:INDEX(DG:DG,5+$C12-1))/AA12)*BQ12),0)","v":0},{"$f":"IF(AW12>0,MIN(AW12,MAX(0,IF(G12>=0,AW12,0)-SUM(DH$6:INDEX(DH:DH,5+$C12-1))/AB12)*BR12),0)","v":0},{"$f":"IF(AX12>0,MIN(AX12,MAX(0,IF(H12>=0,AX12,0)-SUM(DI$6:INDEX(DI:DI,5+$C12-1))/AC12)*BS12),0)","v":0},{"$f":"IF(AY12>0,MIN(AY12,MAX(0,IF(I12>=0,AY12,0)-SUM(DJ$6:INDEX(DJ:DJ,5+$C12-1))/AD12)*BT12),0)","v":0},{"$f":"IF(AZ12>0,MIN(AZ12,MAX(0,IF(J12>=0,AZ12,0)-SUM(DK$6:INDEX(DK:DK,5+$C12-1))/AE12)*BU12),0)","v":0},{"$f":"IF(BA12>0,MIN(BA12,MAX(0,IF(K12>=0,BA12,0)-SUM(DL$6:INDEX(DL:DL,5+$C12-1))/AF12)*BV12),0)","v":0},{"$f":"IF(BB12>0,MIN(BB12,MAX(0,IF(L12>=0,BB12,0)-SUM(DM$6:INDEX(DM:DM,5+$C12-1))/AG12)*BW12),0)","v":0},{"$f":"IF(BC12>0,MIN(BC12,MAX(0,IF(M12>=0,BC12,0)-SUM(DN$6:INDEX(DN:DN,5+$C12-1))/AH12)*BX12),0)","v":0},{"$f":"IF(BD12>0,MIN(BD12,MAX(0,IF(N12>=0,BD12,0)-SUM(DO$6:INDEX(DO:DO,5+$C12-1))/AI12)*BY12),0)","v":0},{"$f":"IF(BE12>0,MIN(BE12,MAX(0,IF(O12>=0,BE12,0)-SUM(DP$6:INDEX(DP:DP,5+$C12-1))/AJ12)*BZ12),0)","v":0},{"$f":"IF(BF12>0,MIN(BF12,MAX(0,IF(P12>=0,BF12,0)-SUM(DQ$6:INDEX(DQ:DQ,5+$C12-1))/AK12)*CA12),0)","v":0},{"$f":"IF(BG12>0,MIN(BG12,MAX(0,IF(Q12>=0,BG12,0)-SUM(DR$6:INDEX(DR:DR,5+$C12-1))/AL12)*CB12),0)","v":0},{"$f":"IF(BH12>0,MIN(BH12,MAX(0,IF(R12>=0,BH12,0)-SUM(DS$6:INDEX(DS:DS,5+$C12-1))/AM12)*CC12),0)","v":0},{"$f":"IF(BI12>0,MIN(BI12,MAX(0,IF(S12>=0,BI12,0)-SUM(DT$6:INDEX(DT:DT,5+$C12-1))/AN12)*CD12),0)","v":0},{"$f":"IF(BJ12>0,MIN(BJ12,MAX(0,IF(T12>=0,BJ12,0)-SUM(DU$6:INDEX(DU:DU,5+$C12-1))/AO12)*CE12),0)","v":0},{"$f":"IF(BK12>0,MIN(BK12,MAX(0,IF(U12>=0,BK12,0)-SUM(DV$6:INDEX(DV:DV,5+$C12-1))/AP12)*CF12),0)","v":0},{"$f":"IF(BL12>0,MIN(BL12,MAX(0,IF(V12>=0,BL12,0)-SUM(DW$6:INDEX(DW:DW,5+$C12-1))/AQ12)*CG12),0)","v":0},{"$f":"IF(BM12>0,MIN(BM12,MAX(0,IF(W12>=0,BM12,0)-SUM(DX$6:INDEX(DX:DX,5+$C12-1))/AR12)*CH12),0)","v":0},{"$f":"IF(BN12>0,MIN(BN12,MAX(0,IF(X12>=0,BN12,0)-SUM(DY$6:INDEX(DY:DY,5+$C12-1))/AS12)*CI12),0)","v":0},{"$f":"IF(BO12>0,MIN(BO12,MAX(0,IF(Y12>=0,BO12,0)-SUM(DZ$6:INDEX(DZ:DZ,5+$C12-1))/AT12)*CJ12),0)","v":0},null,{"$f":"F12*CL12","v":0},0,0,0,0,0,0,0,0,0,{"$f":"P12*CV12","v":0},0,0,0,0,0,0,0,0,0,null,"Summon Beast"]
[null,"Summon Fey",8,"summon fey (c)",{"$f":"MATCH($D13,INDEX(Sorcadins!$D:$D,$D$3):'Sorcadins'!$D1529,0)-1","v":32},{"$f":"IF(CELL(\"contents\",INDIRECT(ADDRESS($D$3+$E13,4+F$4,1,1,\"Sorcadins\")))>=1,CELL(\"contents\",INDIRECT(ADDRESS($D$3+$E13,4+F$4,1,1,\"Sorcadins\"))),0)","v":0},{"$f":"IF(CELL(\"contents\",INDIRECT(ADDRESS($D$3+$E13,4+G$4,1,1,\"Sorcadins\")))>=1,CELL(\"contents\",INDIRECT(ADDRESS($D$3+$E13,4+G$4,1,1,\"Sorcadins\"))),0)","v":0},{"$f":"IF(CELL(\"contents\",INDIRECT(ADDRESS($D$3+$E13,4+H$4,1,1,\"Sorcadins\")))>=1,CELL(\"contents\",INDIRECT(ADDRESS($D$3+$E13,4+H$4,1,1,\"Sorcadins\"))),0)","v":0},{"$f":"IF(CELL(\"contents\",INDIRECT(ADDRESS($D$3+$E13,4+I$4,1,1,\"Sorcadins\")))>=1,CELL(\"contents\",INDIRECT(ADDRESS($D$3+$E13,4+I$4,1,1,\"Sorcadins\"))),0)","v":0},{"$f":"IF(CELL(\"contents\",INDIRECT(ADDRESS($D$3+$E13,4+J$4,1,1,\"Sorcadins\")))>=1,CELL(\"contents\",INDIRECT(ADDRESS($D$3+$E13,4+J$4,1,1,\"Sorcadins\"))),0)","v":0},{"$f":"IF(CELL(\"contents\",INDIRECT(ADDRESS($D$3+$E13,4+K$4,1,1,\"Sorcadins\")))>=1,CELL(\"contents\",INDIRECT(ADDRESS($D$3+$E13,4+K$4,1,1,\"Sorcadins\"))),0)","v":0},{"$f":"IF(CELL(\"contents\",INDIRECT(ADDRESS($D$3+$E13,4+L$4,1,1,\"Sorcadins\")))>=1,CELL(\"contents\",INDIRECT(ADDRESS($D$3+$E13,4+L$4,1,1,\"Sorcadins\"))),0)","v":0},{"$f":"IF(CELL(\"contents\",INDIRECT(ADDRESS($D$3+$E13,4+M$4,1,1,\"Sorcadins\")))>=1,CELL(\"contents\",INDIRECT(ADDRESS($D$3+$E13,4+M$4,1,1,\"Sorcadins\"))),0)","v":0},{"$f":"IF(CELL(\"contents\",INDIRECT(ADDRESS($D$3+$E13,4+N$4,1,1,\"Sorcadins\")))>=1,CELL(\"contents\",INDIRECT(ADDRESS($D$3+$E13,4+N$4,1,1,\"Sorcadins\"))),0)","v":0},{"$f":"IF(CELL(\"contents\",INDIRECT(ADDRESS($D$3+$E13,4+O$4,1,1,\"Sorcadins\")))>=1,CELL(\"contents\",INDIRECT(ADDRESS($D$3+$E13,4+O$4,1,1,\"Sorcadins\"))),0)","v":0},{"$f":"IF(CELL(\"contents\",INDIRECT(ADDRESS($D$3+$E13,4+P$4,1,1,\"Sorcadins\")))>=1,CELL(\"contents\",INDIRECT(ADDRESS($D$3+$E13,4+P$4,1,1,\"Sorcadins\"))),0)","v":0},{"$f":"IF(CELL(\"contents\",INDIRECT(ADDRESS($D$3+$E13,4+Q$4,1,1,\"Sorcadins\")))>=1,CELL(\"contents\",INDIRECT(ADDRESS($D$3+$E13,4+Q$4,1,1,\"Sorcadins\"))),0)","v":0},{"$f":"IF(CELL(\"contents\",INDIRECT(ADDRESS($D$3+$E13,4+R$4,1,1,\"Sorcadins\")))>=1,CELL(\"contents\",INDIRECT(ADDRESS($D$3+$E13,4+R$4,1,1,\"Sorcadins\"))),0)","v":0},{"$f":"IF(CELL(\"contents\",INDIRECT(ADDRESS($D$3+$E13,4+S$4,1,1,\"Sorcadins\")))>=1,CELL(\"contents\",INDIRECT(ADDRESS($D$3+$E13,4+S$4,1,1,\"Sorcadins\"))),0)","v":0},{"$f":"IF(CELL(\"contents\",INDIRECT(ADDRESS($D$3+$E13,4+T$4,1,1,\"Sorcadins\")))>=1,CELL(\"contents\",INDIRECT(ADDRESS($D$3+$E13,4+T$4,1,1,\"Sorcadins\"))),0)","v":0},{"$f":"IF(CELL(\"contents\",INDIRECT(ADDRESS($D$3+$E13,4+U$4,1,1,\"Sorcadins\")))>=1,CELL(\"contents\",INDIRECT(ADDRESS($D$3+$E13,4+U$4,1,1,\"Sorcadins\"))),0)","v":0},{"$f":"IF(CELL(\"contents\",INDIRECT(ADDRESS($D$3+$E13,4+V$4,1,1,\"Sorcadins\")))>=1,CELL(\"contents\",INDIRECT(ADDRESS($D$3+$E13,4+V$4,1,1,\"Sorcadins\"))),0)","v":0},{"$f":"IF(CELL(\"contents\",INDIRECT(ADDRESS($D$3+$E13,4+W$4,1,1,\"Sorcadins\")))>=1,CELL(\"contents\",INDIRECT(ADDRESS($D$3+$E13,4+W$4,1,1,\"Sorcadins\"))),0)","v":0},{"$f":"IF(CELL(\"contents\",INDIRECT(ADDRESS($D$3+$E13,4+X$4,1,1,\"Sorcadins\")))>=1,CELL(\"contents\",INDIRECT(ADDRESS($D$3+$E13,4+X$4,1,1,\"Sorcadins\"))),0)","v":0},{"$f":"IF(CELL(\"contents\",INDIRECT(ADDRESS($D$3+$E13,4+Y$4,1,1,\"Sorcadins\")))>=1,CELL(\"contents\",INDIRECT(ADDRESS($D$3+$E13,4+Y$4,1,1,\"Sorcadins\"))),0)","v":0},null,{"$f":"SUM(F$6:INDEX(F:F,5+$C13))","v":0},{"$f":"SUM(G$6:INDEX(G:G,5+$C13))","v":0},{"$f":"SUM(H$6:INDEX(H:H,5+$C13))","v":0},{"$f":"SUM(I$6:INDEX(I:I,5+$C13))","v":0},{"$f":"SUM(J$6:INDEX(J:J,5+$C13))","v":0},{"$f":"SUM(K$6:INDEX(K:K,5+$C13))","v":0},{"$f":"SUM(L$6:INDEX(L:L,5+$C13))","v":0},{"$f":"SUM(M$6:INDEX(M:M,5+$C13))","v":0},{"$f":"SUM(N$6:INDEX(N:N,5+$C13))","v":0},{"$f":"SUM(O$6:INDEX(O:O,5+$C13))","v":0},{"$f":"SUM(P$6:INDEX(P:P,5+$C13))","v":0},{"$f":"SUM(Q$6:INDEX(Q:Q,5+$C13))","v":0},{"$f":"SUM(R$6:INDEX(R:R,5+$C13))","v":0},{"$f":"SUM(S$6:INDEX(S:S,5+$C13))","v":0},{"$f":"SUM(T$6:INDEX(T:T,5+$C13))","v":0},{"$f":"SUM(U$6:INDEX(U:U,5+$C13))","v":0},{"$f":"SUM(V$6:INDEX(V:V,5+$C13))","v":0},{"$f":"SUM(W$6:INDEX(W:W,5+$C13))","v":0},{"$f":"SUM(X$6:INDEX(X:X,5+$C13))","v":0},{"$f":"SUM(Y$6:INDEX(Y:Y,5+$C13))","v":0},null,{"$f":"IF(AA13>0,IF(Sorcadins!E$265>Sorcadins!E$269,MIN(Sorcadins!E$265,Sorcadins!E$263/AA13),CELL(\"contents\",INDIRECT(ADDRESS(43+Sorcadins!E$21,ROUNDUP(5+MIN(20,AA13),0),1,1,\"Caster Tables\")))),0)","v":0},{"$f":"IF(AB13>0,IF(Sorcadins!F$265>Sorcadins!F$269,MIN(Sorcadins!F$265,Sorcadins!F$263/AB13),CELL(\"contents\",INDIRECT(ADDRESS(43+Sorcadins!F$21,ROUNDUP(5+MIN(20,AB13),0),1,1,\"Caster Tables\")))),0)","v":0},{"$f":"IF(AC13>0,IF(Sorcadins!G$265>Sorcadins!G$269,MIN(Sorcadins!G$265,Sorcadins!G$263/AC13),CELL(\"contents\",INDIRECT(ADDRESS(43+Sorcadins!G$21,ROUNDUP(5+MIN(20,AC13),0),1,1,\"Caster Tables\")))),0)","v":0},{"$f":"IF(AD13>0,IF(Sorcadins!H$265>Sorcadins!H$269,MIN(Sorcadins!H$265,Sorcadins!H$263/AD13),CELL(\"contents\",INDIRECT(ADDRESS(43+Sorcadins!H$21,ROUNDUP(5+MIN(20,AD13),0),1,1,\"Caster Tables\")))),0)","v":0},{"$f":"IF(AE13>0,IF(Sorcadins!I$265>Sorcadins!I$269,MIN(Sorcadins!I$265,Sorcadins!I$263/AE13),CELL(\"contents\",INDIRECT(ADDRESS(43+Sorcadins!I$21,ROUNDUP(5+MIN(20,AE13),0),1,1,\"Caster Tables\")))),0)","v":0},{"$f":"IF(AF13>0,IF(Sorcadins!J$265>Sorcadins!J$269,MIN(Sorcadins!J$265,Sorcadins!J$263/AF13),CELL(\"contents\",INDIRECT(ADDRESS(43+Sorcadins!J$21,ROUNDUP(5+MIN(20,AF13),0),1,1,\"Caster Tables\")))),0)","v":0},{"$f":"IF(AG13>0,IF(Sorcadins!K$265>Sorcadins!K$269,MIN(Sorcadins!K$265,Sorcadins!K$263/AG13),CELL(\"contents\",INDIRECT(ADDRESS(43+Sorcadins!K$21,ROUNDUP(5+MIN(20,AG13),0),1,1,\"Caster Tables\")))),0)","v":0},{"$f":"IF(AH13>0,IF(Sorcadins!L$265>Sorcadins!L$269,MIN(Sorcadins!L$265,Sorcadins!L$263/AH13),CELL(\"contents\",INDIRECT(ADDRESS(43+Sorcadins!L$21,ROUNDUP(5+MIN(20,AH13),0),1,1,\"Caster Tables\")))),0)","v":0},{"$f":"IF(AI13>0,IF(Sorcadins!M$265>Sorcadins!M$269,MIN(Sorcadins!M$265,Sorcadins!M$263/AI13),CELL(\"contents\",INDIRECT(ADDRESS(43+Sorcadins!M$21,ROUNDUP(5+MIN(20,AI13),0),1,1,\"Caster Tables\")))),0)","v":0},{"$f":"IF(AJ13>0,IF(Sorcadins!N$265>Sorcadins!N$269,MIN(Sorcadins!N$265,Sorcadins!N$263/AJ13),CELL(\"contents\",INDIRECT(ADDRESS(43+Sorcadins!N$21,ROUNDUP(5+MIN(20,AJ13),0),1,1,\"Caster Tables\")))),0)","v":0},{"$f":"IF(AK13>0,IF(Sorcadins!O$265>Sorcadins!O$269,MIN(Sorcadins!O$265,Sorcadins!O$263/AK13),CELL(\"contents\",INDIRECT(ADDRESS(43+Sorcadins!O$21,ROUNDUP(5+MIN(20,AK13),0),1,1,\"Caster Tables\")))),0)","v":0},{"$f":"IF(AL13>0,IF(Sorcadins!P$265>Sorcadins!P$269,MIN(Sorcadins!P$265,Sorcadins!P$263/AL13),CELL(\"contents\",INDIRECT(ADDRESS(43+Sorcadins!P$21,ROUNDUP(5+MIN(20,AL13),0),1,1,\"Caster Tables\")))),0)","v":0},{"$f":"IF(AM13>0,IF(Sorcadins!Q$265>Sorcadins!Q$269,MIN(Sorcadins!Q$265,Sorcadins!Q$263/AM13),CELL(\"contents\",INDIRECT(ADDRESS(43+Sorcadins!Q$21,ROUNDUP(5+MIN(20,AM13),0),1,1,\"Caster Tables\")))),0)","v":0},{"$f":"IF(AN13>0,IF(Sorcadins!R$265>Sorcadins!R$269,MIN(Sorcadins!R$265,Sorcadins!R$263/AN13),CELL(\"contents\",INDIRECT(ADDRESS(43+Sorcadins!R$21,ROUNDUP(5+MIN(20,AN13),0),1,1,\"Caster Tables\")))),0)","v":0},{"$f":"IF(AO13>0,IF(Sorcadins!S$265>Sorcadins!S$269,MIN(Sorcadins!S$265,Sorcadins!S$263/AO13),CELL(\"contents\",INDIRECT(ADDRESS(43+Sorcadins!S$21,ROUNDUP(5+MIN(20,AO13),0),1,1,\"Caster Tables\")))),0)","v":0},{"$f":"IF(AP13>0,IF(Sorcadins!T$265>Sorcadins!T$269,MIN(Sorcadins!T$265,Sorcadins!T$263/AP13),CELL(\"contents\",INDIRECT(ADDRESS(43+Sorcadins!T$21,ROUNDUP(5+MIN(20,AP13),0),1,1,\"Caster Tables\")))),0)","v":0},{"$f":"IF(AQ13>0,IF(Sorcadins!U$265>Sorcadins!U$269,MIN(Sorcadins!U$265,Sorcadins!U$263/AQ13),CELL(\"contents\",INDIRECT(ADDRESS(43+Sorcadins!U$21,ROUNDUP(5+MIN(20,AQ13),0),1,1,\"Caster Tables\")))),0)","v":0},{"$f":"IF(AR13>0,IF(Sorcadins!V$265>Sorcadins!V$269,MIN(Sorcadins!V$265,Sorcadins!V$263/AR13),CELL(\"contents\",INDIRECT(ADDRESS(43+Sorcadins!V$21,ROUNDUP(5+MIN(20,AR13),0),1,1,\"Caster Tables\")))),0)","v":0},{"$f":"IF(AS13>0,IF(Sorcadins!W$265>Sorcadins!W$269,MIN(Sorcadins!W$265,Sorcadins!W$263/AS13),CELL(\"contents\",INDIRECT(ADDRESS(43+Sorcadins!W$21,ROUNDUP(5+MIN(20,AS13),0),1,1,\"Caster Tables\")))),0)","v":0},{"$f":"IF(AT13>0,IF(Sorcadins!X$265>Sorcadins!X$269,MIN(Sorcadins!X$265,Sorcadins!X$263/AT13),CELL(\"contents\",INDIRECT(ADDRESS(43+Sorcadins!X$21,ROUNDUP(5+MIN(20,AT13),0),1,1,\"Caster Tables\")))),0)","v":0},null,0,0,0,0,0,0,0,0,0,0,0,0,0,0,0,0,0,0,0,0,null,{"$f":"IF(AV13>0,MIN(AV13,MAX(0,IF(F13>=0,AV13,0)-SUM(DG$6:INDEX(DG:DG,5+$C13-1))/AA13)*BQ13),0)","v":0},{"$f":"IF(AW13>0,MIN(AW13,MAX(0,IF(G13>=0,AW13,0)-SUM(DH$6:INDEX(DH:DH,5+$C13-1))/AB13)*BR13),0)","v":0},{"$f":"IF(AX13>0,MIN(AX13,MAX(0,IF(H13>=0,AX13,0)-SUM(DI$6:INDEX(DI:DI,5+$C13-1))/AC13)*BS13),0)","v":0},{"$f":"IF(AY13>0,MIN(AY13,MAX(0,IF(I13>=0,AY13,0)-SUM(DJ$6:INDEX(DJ:DJ,5+$C13-1))/AD13)*BT13),0)","v":0},{"$f":"IF(AZ13>0,MIN(AZ13,MAX(0,IF(J13>=0,AZ13,0)-SUM(DK$6:INDEX(DK:DK,5+$C13-1))/AE13)*BU13),0)","v":0},{"$f":"IF(BA13>0,MIN(BA13,MAX(0,IF(K13>=0,BA13,0)-SUM(DL$6:INDEX(DL:DL,5+$C13-1))/AF13)*BV13),0)","v":0},{"$f":"IF(BB13>0,MIN(BB13,MAX(0,IF(L13>=0,BB13,0)-SUM(DM$6:INDEX(DM:DM,5+$C13-1))/AG13)*BW13),0)","v":0},{"$f":"IF(BC13>0,MIN(BC13,MAX(0,IF(M13>=0,BC13,0)-SUM(DN$6:INDEX(DN:DN,5+$C13-1))/AH13)*BX13),0)","v":0},{"$f":"IF(BD13>0,MIN(BD13,MAX(0,IF(N13>=0,BD13,0)-SUM(DO$6:INDEX(DO:DO,5+$C13-1))/AI13)*BY13),0)","v":0},{"$f":"IF(BE13>0,MIN(BE13,MAX(0,IF(O13>=0,BE13,0)-SUM(DP$6:INDEX(DP:DP,5+$C13-1))/AJ13)*BZ13),0)","v":0},{"$f":"IF(BF13>0,MIN(BF13,MAX(0,IF(P13>=0,BF13,0)-SUM(DQ$6:INDEX(DQ:DQ,5+$C13-1))/AK13)*CA13),0)","v":0},{"$f":"IF(BG13>0,MIN(BG13,MAX(0,IF(Q13>=0,BG13,0)-SUM(DR$6:INDEX(DR:DR,5+$C13-1))/AL13)*CB13),0)","v":0},{"$f":"IF(BH13>0,MIN(BH13,MAX(0,IF(R13>=0,BH13,0)-SUM(DS$6:INDEX(DS:DS,5+$C13-1))/AM13)*CC13),0)","v":0},{"$f":"IF(BI13>0,MIN(BI13,MAX(0,IF(S13>=0,BI13,0)-SUM(DT$6:INDEX(DT:DT,5+$C13-1))/AN13)*CD13),0)","v":0},{"$f":"IF(BJ13>0,MIN(BJ13,MAX(0,IF(T13>=0,BJ13,0)-SUM(DU$6:INDEX(DU:DU,5+$C13-1))/AO13)*CE13),0)","v":0},{"$f":"IF(BK13>0,MIN(BK13,MAX(0,IF(U13>=0,BK13,0)-SUM(DV$6:INDEX(DV:DV,5+$C13-1))/AP13)*CF13),0)","v":0},{"$f":"IF(BL13>0,MIN(BL13,MAX(0,IF(V13>=0,BL13,0)-SUM(DW$6:INDEX(DW:DW,5+$C13-1))/AQ13)*CG13),0)","v":0},{"$f":"IF(BM13>0,MIN(BM13,MAX(0,IF(W13>=0,BM13,0)-SUM(DX$6:INDEX(DX:DX,5+$C13-1))/AR13)*CH13),0)","v":0},{"$f":"IF(BN13>0,MIN(BN13,MAX(0,IF(X13>=0,BN13,0)-SUM(DY$6:INDEX(DY:DY,5+$C13-1))/AS13)*CI13),0)","v":0},{"$f":"IF(BO13>0,MIN(BO13,MAX(0,IF(Y13>=0,BO13,0)-SUM(DZ$6:INDEX(DZ:DZ,5+$C13-1))/AT13)*CJ13),0)","v":0},null,0,0,0,0,0,0,0,0,0,0,0,0,0,0,0,0,0,0,0,0,null,"Summon Fey"]
[null,"Summon Undead",9,"summon undead (c)",{"$f":"MATCH($D14,INDEX(Sorcadins!$D:$D,$D$3):'Sorcadins'!$D1530,0)-1","v":33},{"$f":"IF(CELL(\"contents\",INDIRECT(ADDRESS($D$3+$E14,4+F$4,1,1,\"Sorcadins\")))>=1,CELL(\"contents\",INDIRECT(ADDRESS($D$3+$E14,4+F$4,1,1,\"Sorcadins\"))),0)","v":0},{"$f":"IF(CELL(\"contents\",INDIRECT(ADDRESS($D$3+$E14,4+G$4,1,1,\"Sorcadins\")))>=1,CELL(\"contents\",INDIRECT(ADDRESS($D$3+$E14,4+G$4,1,1,\"Sorcadins\"))),0)","v":0},{"$f":"IF(CELL(\"contents\",INDIRECT(ADDRESS($D$3+$E14,4+H$4,1,1,\"Sorcadins\")))>=1,CELL(\"contents\",INDIRECT(ADDRESS($D$3+$E14,4+H$4,1,1,\"Sorcadins\"))),0)","v":0},{"$f":"IF(CELL(\"contents\",INDIRECT(ADDRESS($D$3+$E14,4+I$4,1,1,\"Sorcadins\")))>=1,CELL(\"contents\",INDIRECT(ADDRESS($D$3+$E14,4+I$4,1,1,\"Sorcadins\"))),0)","v":0},{"$f":"IF(CELL(\"contents\",INDIRECT(ADDRESS($D$3+$E14,4+J$4,1,1,\"Sorcadins\")))>=1,CELL(\"contents\",INDIRECT(ADDRESS($D$3+$E14,4+J$4,1,1,\"Sorcadins\"))),0)","v":0},{"$f":"IF(CELL(\"contents\",INDIRECT(ADDRESS($D$3+$E14,4+K$4,1,1,\"Sorcadins\")))>=1,CELL(\"contents\",INDIRECT(ADDRESS($D$3+$E14,4+K$4,1,1,\"Sorcadins\"))),0)","v":0},{"$f":"IF(CELL(\"contents\",INDIRECT(ADDRESS($D$3+$E14,4+L$4,1,1,\"Sorcadins\")))>=1,CELL(\"contents\",INDIRECT(ADDRESS($D$3+$E14,4+L$4,1,1,\"Sorcadins\"))),0)","v":0},{"$f":"IF(CELL(\"contents\",INDIRECT(ADDRESS($D$3+$E14,4+M$4,1,1,\"Sorcadins\")))>=1,CELL(\"contents\",INDIRECT(ADDRESS($D$3+$E14,4+M$4,1,1,\"Sorcadins\"))),0)","v":0},{"$f":"IF(CELL(\"contents\",INDIRECT(ADDRESS($D$3+$E14,4+N$4,1,1,\"Sorcadins\")))>=1,CELL(\"contents\",INDIRECT(ADDRESS($D$3+$E14,4+N$4,1,1,\"Sorcadins\"))),0)","v":0},{"$f":"IF(CELL(\"contents\",INDIRECT(ADDRESS($D$3+$E14,4+O$4,1,1,\"Sorcadins\")))>=1,CELL(\"contents\",INDIRECT(ADDRESS($D$3+$E14,4+O$4,1,1,\"Sorcadins\"))),0)","v":0},{"$f":"IF(CELL(\"contents\",INDIRECT(ADDRESS($D$3+$E14,4+P$4,1,1,\"Sorcadins\")))>=1,CELL(\"contents\",INDIRECT(ADDRESS($D$3+$E14,4+P$4,1,1,\"Sorcadins\"))),0)","v":0},{"$f":"IF(CELL(\"contents\",INDIRECT(ADDRESS($D$3+$E14,4+Q$4,1,1,\"Sorcadins\")))>=1,CELL(\"contents\",INDIRECT(ADDRESS($D$3+$E14,4+Q$4,1,1,\"Sorcadins\"))),0)","v":0},{"$f":"IF(CELL(\"contents\",INDIRECT(ADDRESS($D$3+$E14,4+R$4,1,1,\"Sorcadins\")))>=1,CELL(\"contents\",INDIRECT(ADDRESS($D$3+$E14,4+R$4,1,1,\"Sorcadins\"))),0)","v":0},{"$f":"IF(CELL(\"contents\",INDIRECT(ADDRESS($D$3+$E14,4+S$4,1,1,\"Sorcadins\")))>=1,CELL(\"contents\",INDIRECT(ADDRESS($D$3+$E14,4+S$4,1,1,\"Sorcadins\"))),0)","v":0},{"$f":"IF(CELL(\"contents\",INDIRECT(ADDRESS($D$3+$E14,4+T$4,1,1,\"Sorcadins\")))>=1,CELL(\"contents\",INDIRECT(ADDRESS($D$3+$E14,4+T$4,1,1,\"Sorcadins\"))),0)","v":0},{"$f":"IF(CELL(\"contents\",INDIRECT(ADDRESS($D$3+$E14,4+U$4,1,1,\"Sorcadins\")))>=1,CELL(\"contents\",INDIRECT(ADDRESS($D$3+$E14,4+U$4,1,1,\"Sorcadins\"))),0)","v":0},{"$f":"IF(CELL(\"contents\",INDIRECT(ADDRESS($D$3+$E14,4+V$4,1,1,\"Sorcadins\")))>=1,CELL(\"contents\",INDIRECT(ADDRESS($D$3+$E14,4+V$4,1,1,\"Sorcadins\"))),0)","v":0},{"$f":"IF(CELL(\"contents\",INDIRECT(ADDRESS($D$3+$E14,4+W$4,1,1,\"Sorcadins\")))>=1,CELL(\"contents\",INDIRECT(ADDRESS($D$3+$E14,4+W$4,1,1,\"Sorcadins\"))),0)","v":0},{"$f":"IF(CELL(\"contents\",INDIRECT(ADDRESS($D$3+$E14,4+X$4,1,1,\"Sorcadins\")))>=1,CELL(\"contents\",INDIRECT(ADDRESS($D$3+$E14,4+X$4,1,1,\"Sorcadins\"))),0)","v":0},{"$f":"IF(CELL(\"contents\",INDIRECT(ADDRESS($D$3+$E14,4+Y$4,1,1,\"Sorcadins\")))>=1,CELL(\"contents\",INDIRECT(ADDRESS($D$3+$E14,4+Y$4,1,1,\"Sorcadins\"))),0)","v":0},null,{"$f":"SUM(F$6:INDEX(F:F,5+$C14))","v":0},{"$f":"SUM(G$6:INDEX(G:G,5+$C14))","v":0},{"$f":"SUM(H$6:INDEX(H:H,5+$C14))","v":0},{"$f":"SUM(I$6:INDEX(I:I,5+$C14))","v":0},{"$f":"SUM(J$6:INDEX(J:J,5+$C14))","v":0},{"$f":"SUM(K$6:INDEX(K:K,5+$C14))","v":0},{"$f":"SUM(L$6:INDEX(L:L,5+$C14))","v":0},{"$f":"SUM(M$6:INDEX(M:M,5+$C14))","v":0},{"$f":"SUM(N$6:INDEX(N:N,5+$C14))","v":0},{"$f":"SUM(O$6:INDEX(O:O,5+$C14))","v":0},{"$f":"SUM(P$6:INDEX(P:P,5+$C14))","v":0},{"$f":"SUM(Q$6:INDEX(Q:Q,5+$C14))","v":0},{"$f":"SUM(R$6:INDEX(R:R,5+$C14))","v":0},{"$f":"SUM(S$6:INDEX(S:S,5+$C14))","v":0},{"$f":"SUM(T$6:INDEX(T:T,5+$C14))","v":0},{"$f":"SUM(U$6:INDEX(U:U,5+$C14))","v":0},{"$f":"SUM(V$6:INDEX(V:V,5+$C14))","v":0},{"$f":"SUM(W$6:INDEX(W:W,5+$C14))","v":0},{"$f":"SUM(X$6:INDEX(X:X,5+$C14))","v":0},{"$f":"SUM(Y$6:INDEX(Y:Y,5+$C14))","v":0},null,{"$f":"IF(AA14>0,IF(Sorcadins!E$265>Sorcadins!E$269,MIN(Sorcadins!E$265,Sorcadins!E$263/AA14),CELL(\"contents\",INDIRECT(ADDRESS(43+Sorcadins!E$21,ROUNDUP(5+MIN(20,AA14),0),1,1,\"Caster Tables\")))),0)","v":0},{"$f":"IF(AB14>0,IF(Sorcadins!F$265>Sorcadins!F$269,MIN(Sorcadins!F$265,Sorcadins!F$263/AB14),CELL(\"contents\",INDIRECT(ADDRESS(43+Sorcadins!F$21,ROUNDUP(5+MIN(20,AB14),0),1,1,\"Caster Tables\")))),0)","v":0},{"$f":"IF(AC14>0,IF(Sorcadins!G$265>Sorcadins!G$269,MIN(Sorcadins!G$265,Sorcadins!G$263/AC14),CELL(\"contents\",INDIRECT(ADDRESS(43+Sorcadins!G$21,ROUNDUP(5+MIN(20,AC14),0),1,1,\"Caster Tables\")))),0)","v":0},{"$f":"IF(AD14>0,IF(Sorcadins!H$265>Sorcadins!H$269,MIN(Sorcadins!H$265,Sorcadins!H$263/AD14),CELL(\"contents\",INDIRECT(ADDRESS(43+Sorcadins!H$21,ROUNDUP(5+MIN(20,AD14),0),1,1,\"Caster Tables\")))),0)","v":0},{"$f":"IF(AE14>0,IF(Sorcadins!I$265>Sorcadins!I$269,MIN(Sorcadins!I$265,Sorcadins!I$263/AE14),CELL(\"contents\",INDIRECT(ADDRESS(43+Sorcadins!I$21,ROUNDUP(5+MIN(20,AE14),0),1,1,\"Caster Tables\")))),0)","v":0},{"$f":"IF(AF14>0,IF(Sorcadins!J$265>Sorcadins!J$269,MIN(Sorcadins!J$265,Sorcadins!J$263/AF14),CELL(\"contents\",INDIRECT(ADDRESS(43+Sorcadins!J$21,ROUNDUP(5+MIN(20,AF14),0),1,1,\"Caster Tables\")))),0)","v":0},{"$f":"IF(AG14>0,IF(Sorcadins!K$265>Sorcadins!K$269,MIN(Sorcadins!K$265,Sorcadins!K$263/AG14),CELL(\"contents\",INDIRECT(ADDRESS(43+Sorcadins!K$21,ROUNDUP(5+MIN(20,AG14),0),1,1,\"Caster Tables\")))),0)","v":0},{"$f":"IF(AH14>0,IF(Sorcadins!L$265>Sorcadins!L$269,MIN(Sorcadins!L$265,Sorcadins!L$263/AH14),CELL(\"contents\",INDIRECT(ADDRESS(43+Sorcadins!L$21,ROUNDUP(5+MIN(20,AH14),0),1,1,\"Caster Tables\")))),0)","v":0},{"$f":"IF(AI14>0,IF(Sorcadins!M$265>Sorcadins!M$269,MIN(Sorcadins!M$265,Sorcadins!M$263/AI14),CELL(\"contents\",INDIRECT(ADDRESS(43+Sorcadins!M$21,ROUNDUP(5+MIN(20,AI14),0),1,1,\"Caster Tables\")))),0)","v":0},{"$f":"IF(AJ14>0,IF(Sorcadins!N$265>Sorcadins!N$269,MIN(Sorcadins!N$265,Sorcadins!N$263/AJ14),CELL(\"contents\",INDIRECT(ADDRESS(43+Sorcadins!N$21,ROUNDUP(5+MIN(20,AJ14),0),1,1,\"Caster Tables\")))),0)","v":0},{"$f":"IF(AK14>0,IF(Sorcadins!O$265>Sorcadins!O$269,MIN(Sorcadins!O$265,Sorcadins!O$263/AK14),CELL(\"contents\",INDIRECT(ADDRESS(43+Sorcadins!O$21,ROUNDUP(5+MIN(20,AK14),0),1,1,\"Caster Tables\")))),0)","v":0},{"$f":"IF(AL14>0,IF(Sorcadins!P$265>Sorcadins!P$269,MIN(Sorcadins!P$265,Sorcadins!P$263/AL14),CELL(\"contents\",INDIRECT(ADDRESS(43+Sorcadins!P$21,ROUNDUP(5+MIN(20,AL14),0),1,1,\"Caster Tables\")))),0)","v":0},{"$f":"IF(AM14>0,IF(Sorcadins!Q$265>Sorcadins!Q$269,MIN(Sorcadins!Q$265,Sorcadins!Q$263/AM14),CELL(\"contents\",INDIRECT(ADDRESS(43+Sorcadins!Q$21,ROUNDUP(5+MIN(20,AM14),0),1,1,\"Caster Tables\")))),0)","v":0},{"$f":"IF(AN14>0,IF(Sorcadins!R$265>Sorcadins!R$269,MIN(Sorcadins!R$265,Sorcadins!R$263/AN14),CELL(\"contents\",INDIRECT(ADDRESS(43+Sorcadins!R$21,ROUNDUP(5+MIN(20,AN14),0),1,1,\"Caster Tables\")))),0)","v":0},{"$f":"IF(AO14>0,IF(Sorcadins!S$265>Sorcadins!S$269,MIN(Sorcadins!S$265,Sorcadins!S$263/AO14),CELL(\"contents\",INDIRECT(ADDRESS(43+Sorcadins!S$21,ROUNDUP(5+MIN(20,AO14),0),1,1,\"Caster Tables\")))),0)","v":0},{"$f":"IF(AP14>0,IF(Sorcadins!T$265>Sorcadins!T$269,MIN(Sorcadins!T$265,Sorcadins!T$263/AP14),CELL(\"contents\",INDIRECT(ADDRESS(43+Sorcadins!T$21,ROUNDUP(5+MIN(20,AP14),0),1,1,\"Caster Tables\")))),0)","v":0},{"$f":"IF(AQ14>0,IF(Sorcadins!U$265>Sorcadins!U$269,MIN(Sorcadins!U$265,Sorcadins!U$263/AQ14),CELL(\"contents\",INDIRECT(ADDRESS(43+Sorcadins!U$21,ROUNDUP(5+MIN(20,AQ14),0),1,1,\"Caster Tables\")))),0)","v":0},{"$f":"IF(AR14>0,IF(Sorcadins!V$265>Sorcadins!V$269,MIN(Sorcadins!V$265,Sorcadins!V$263/AR14),CELL(\"contents\",INDIRECT(ADDRESS(43+Sorcadins!V$21,ROUNDUP(5+MIN(20,AR14),0),1,1,\"Caster Tables\")))),0)","v":0},{"$f":"IF(AS14>0,IF(Sorcadins!W$265>Sorcadins!W$269,MIN(Sorcadins!W$265,Sorcadins!W$263/AS14),CELL(\"contents\",INDIRECT(ADDRESS(43+Sorcadins!W$21,ROUNDUP(5+MIN(20,AS14),0),1,1,\"Caster Tables\")))),0)","v":0},{"$f":"IF(AT14>0,IF(Sorcadins!X$265>Sorcadins!X$269,MIN(Sorcadins!X$265,Sorcadins!X$263/AT14),CELL(\"contents\",INDIRECT(ADDRESS(43+Sorcadins!X$21,ROUNDUP(5+MIN(20,AT14),0),1,1,\"Caster Tables\")))),0)","v":0},null,0,0,0,0,0,0,0,0,0,0,0,0,0,0,0,0,0,0,0,0,null,{"$f":"IF(AV14>0,MIN(AV14,MAX(0,IF(F14>=0,AV14,0)-SUM(DG$6:INDEX(DG:DG,5+$C14-1))/AA14)*BQ14),0)","v":0},{"$f":"IF(AW14>0,MIN(AW14,MAX(0,IF(G14>=0,AW14,0)-SUM(DH$6:INDEX(DH:DH,5+$C14-1))/AB14)*BR14),0)","v":0},{"$f":"IF(AX14>0,MIN(AX14,MAX(0,IF(H14>=0,AX14,0)-SUM(DI$6:INDEX(DI:DI,5+$C14-1))/AC14)*BS14),0)","v":0},{"$f":"IF(AY14>0,MIN(AY14,MAX(0,IF(I14>=0,AY14,0)-SUM(DJ$6:INDEX(DJ:DJ,5+$C14-1))/AD14)*BT14),0)","v":0},{"$f":"IF(AZ14>0,MIN(AZ14,MAX(0,IF(J14>=0,AZ14,0)-SUM(DK$6:INDEX(DK:DK,5+$C14-1))/AE14)*BU14),0)","v":0},{"$f":"IF(BA14>0,MIN(BA14,MAX(0,IF(K14>=0,BA14,0)-SUM(DL$6:INDEX(DL:DL,5+$C14-1))/AF14)*BV14),0)","v":0},{"$f":"IF(BB14>0,MIN(BB14,MAX(0,IF(L14>=0,BB14,0)-SUM(DM$6:INDEX(DM:DM,5+$C14-1))/AG14)*BW14),0)","v":0},{"$f":"IF(BC14>0,MIN(BC14,MAX(0,IF(M14>=0,BC14,0)-SUM(DN$6:INDEX(DN:DN,5+$C14-1))/AH14)*BX14),0)","v":0},{"$f":"IF(BD14>0,MIN(BD14,MAX(0,IF(N14>=0,BD14,0)-SUM(DO$6:INDEX(DO:DO,5+$C14-1))/AI14)*BY14),0)","v":0},{"$f":"IF(BE14>0,MIN(BE14,MAX(0,IF(O14>=0,BE14,0)-SUM(DP$6:INDEX(DP:DP,5+$C14-1))/AJ14)*BZ14),0)","v":0},{"$f":"IF(BF14>0,MIN(BF14,MAX(0,IF(P14>=0,BF14,0)-SUM(DQ$6:INDEX(DQ:DQ,5+$C14-1))/AK14)*CA14),0)","v":0},{"$f":"IF(BG14>0,MIN(BG14,MAX(0,IF(Q14>=0,BG14,0)-SUM(DR$6:INDEX(DR:DR,5+$C14-1))/AL14)*CB14),0)","v":0},{"$f":"IF(BH14>0,MIN(BH14,MAX(0,IF(R14>=0,BH14,0)-SUM(DS$6:INDEX(DS:DS,5+$C14-1))/AM14)*CC14),0)","v":0},{"$f":"IF(BI14>0,MIN(BI14,MAX(0,IF(S14>=0,BI14,0)-SUM(DT$6:INDEX(DT:DT,5+$C14-1))/AN14)*CD14),0)","v":0},{"$f":"IF(BJ14>0,MIN(BJ14,MAX(0,IF(T14>=0,BJ14,0)-SUM(DU$6:INDEX(DU:DU,5+$C14-1))/AO14)*CE14),0)","v":0},{"$f":"IF(BK14>0,MIN(BK14,MAX(0,IF(U14>=0,BK14,0)-SUM(DV$6:INDEX(DV:DV,5+$C14-1))/AP14)*CF14),0)","v":0},{"$f":"IF(BL14>0,MIN(BL14,MAX(0,IF(V14>=0,BL14,0)-SUM(DW$6:INDEX(DW:DW,5+$C14-1))/AQ14)*CG14),0)","v":0},{"$f":"IF(BM14>0,MIN(BM14,MAX(0,IF(W14>=0,BM14,0)-SUM(DX$6:INDEX(DX:DX,5+$C14-1))/AR14)*CH14),0)","v":0},{"$f":"IF(BN14>0,MIN(BN14,MAX(0,IF(X14>=0,BN14,0)-SUM(DY$6:INDEX(DY:DY,5+$C14-1))/AS14)*CI14),0)","v":0},{"$f":"IF(BO14>0,MIN(BO14,MAX(0,IF(Y14>=0,BO14,0)-SUM(DZ$6:INDEX(DZ:DZ,5+$C14-1))/AT14)*CJ14),0)","v":0},null,0,0,0,0,0,0,0,0,0,0,0,0,0,0,0,0,0,0,0,0,null,"Summon Undead"]
[null,"Summon Aberration",10,"summon aberation (c)",{"$f":"MATCH($D15,INDEX(Sorcadins!$D:$D,$D$3):'Sorcadins'!$D1531,0)-1","v":34},{"$f":"IF(CELL(\"contents\",INDIRECT(ADDRESS($D$3+$E15,4+F$4,1,1,\"Sorcadins\")))>=1,CELL(\"contents\",INDIRECT(ADDRESS($D$3+$E15,4+F$4,1,1,\"Sorcadins\"))),0)","v":0},{"$f":"IF(CELL(\"contents\",INDIRECT(ADDRESS($D$3+$E15,4+G$4,1,1,\"Sorcadins\")))>=1,CELL(\"contents\",INDIRECT(ADDRESS($D$3+$E15,4+G$4,1,1,\"Sorcadins\"))),0)","v":0},{"$f":"IF(CELL(\"contents\",INDIRECT(ADDRESS($D$3+$E15,4+H$4,1,1,\"Sorcadins\")))>=1,CELL(\"contents\",INDIRECT(ADDRESS($D$3+$E15,4+H$4,1,1,\"Sorcadins\"))),0)","v":0},{"$f":"IF(CELL(\"contents\",INDIRECT(ADDRESS($D$3+$E15,4+I$4,1,1,\"Sorcadins\")))>=1,CELL(\"contents\",INDIRECT(ADDRESS($D$3+$E15,4+I$4,1,1,\"Sorcadins\"))),0)","v":0},{"$f":"IF(CELL(\"contents\",INDIRECT(ADDRESS($D$3+$E15,4+J$4,1,1,\"Sorcadins\")))>=1,CELL(\"contents\",INDIRECT(ADDRESS($D$3+$E15,4+J$4,1,1,\"Sorcadins\"))),0)","v":0},{"$f":"IF(CELL(\"contents\",INDIRECT(ADDRESS($D$3+$E15,4+K$4,1,1,\"Sorcadins\")))>=1,CELL(\"contents\",INDIRECT(ADDRESS($D$3+$E15,4+K$4,1,1,\"Sorcadins\"))),0)","v":0},{"$f":"IF(CELL(\"contents\",INDIRECT(ADDRESS($D$3+$E15,4+L$4,1,1,\"Sorcadins\")))>=1,CELL(\"contents\",INDIRECT(ADDRESS($D$3+$E15,4+L$4,1,1,\"Sorcadins\"))),0)","v":0},{"$f":"IF(CELL(\"contents\",INDIRECT(ADDRESS($D$3+$E15,4+M$4,1,1,\"Sorcadins\")))>=1,CELL(\"contents\",INDIRECT(ADDRESS($D$3+$E15,4+M$4,1,1,\"Sorcadins\"))),0)","v":0},{"$f":"IF(CELL(\"contents\",INDIRECT(ADDRESS($D$3+$E15,4+N$4,1,1,\"Sorcadins\")))>=1,CELL(\"contents\",INDIRECT(ADDRESS($D$3+$E15,4+N$4,1,1,\"Sorcadins\"))),0)","v":0},{"$f":"IF(CELL(\"contents\",INDIRECT(ADDRESS($D$3+$E15,4+O$4,1,1,\"Sorcadins\")))>=1,CELL(\"contents\",INDIRECT(ADDRESS($D$3+$E15,4+O$4,1,1,\"Sorcadins\"))),0)","v":0},{"$f":"IF(CELL(\"contents\",INDIRECT(ADDRESS($D$3+$E15,4+P$4,1,1,\"Sorcadins\")))>=1,CELL(\"contents\",INDIRECT(ADDRESS($D$3+$E15,4+P$4,1,1,\"Sorcadins\"))),0)","v":0},{"$f":"IF(CELL(\"contents\",INDIRECT(ADDRESS($D$3+$E15,4+Q$4,1,1,\"Sorcadins\")))>=1,CELL(\"contents\",INDIRECT(ADDRESS($D$3+$E15,4+Q$4,1,1,\"Sorcadins\"))),0)","v":0},{"$f":"IF(CELL(\"contents\",INDIRECT(ADDRESS($D$3+$E15,4+R$4,1,1,\"Sorcadins\")))>=1,CELL(\"contents\",INDIRECT(ADDRESS($D$3+$E15,4+R$4,1,1,\"Sorcadins\"))),0)","v":0},{"$f":"IF(CELL(\"contents\",INDIRECT(ADDRESS($D$3+$E15,4+S$4,1,1,\"Sorcadins\")))>=1,CELL(\"contents\",INDIRECT(ADDRESS($D$3+$E15,4+S$4,1,1,\"Sorcadins\"))),0)","v":0},{"$f":"IF(CELL(\"contents\",INDIRECT(ADDRESS($D$3+$E15,4+T$4,1,1,\"Sorcadins\")))>=1,CELL(\"contents\",INDIRECT(ADDRESS($D$3+$E15,4+T$4,1,1,\"Sorcadins\"))),0)","v":0},{"$f":"IF(CELL(\"contents\",INDIRECT(ADDRESS($D$3+$E15,4+U$4,1,1,\"Sorcadins\")))>=1,CELL(\"contents\",INDIRECT(ADDRESS($D$3+$E15,4+U$4,1,1,\"Sorcadins\"))),0)","v":0},{"$f":"IF(CELL(\"contents\",INDIRECT(ADDRESS($D$3+$E15,4+V$4,1,1,\"Sorcadins\")))>=1,CELL(\"contents\",INDIRECT(ADDRESS($D$3+$E15,4+V$4,1,1,\"Sorcadins\"))),0)","v":0},{"$f":"IF(CELL(\"contents\",INDIRECT(ADDRESS($D$3+$E15,4+W$4,1,1,\"Sorcadins\")))>=1,CELL(\"contents\",INDIRECT(ADDRESS($D$3+$E15,4+W$4,1,1,\"Sorcadins\"))),0)","v":0},{"$f":"IF(CELL(\"contents\",INDIRECT(ADDRESS($D$3+$E15,4+X$4,1,1,\"Sorcadins\")))>=1,CELL(\"contents\",INDIRECT(ADDRESS($D$3+$E15,4+X$4,1,1,\"Sorcadins\"))),0)","v":0},{"$f":"IF(CELL(\"contents\",INDIRECT(ADDRESS($D$3+$E15,4+Y$4,1,1,\"Sorcadins\")))>=1,CELL(\"contents\",INDIRECT(ADDRESS($D$3+$E15,4+Y$4,1,1,\"Sorcadins\"))),0)","v":0},null,{"$f":"SUM(F$6:INDEX(F:F,5+$C15))","v":0},{"$f":"SUM(G$6:INDEX(G:G,5+$C15))","v":0},{"$f":"SUM(H$6:INDEX(H:H,5+$C15))","v":0},{"$f":"SUM(I$6:INDEX(I:I,5+$C15))","v":0},{"$f":"SUM(J$6:INDEX(J:J,5+$C15))","v":0},{"$f":"SUM(K$6:INDEX(K:K,5+$C15))","v":0},{"$f":"SUM(L$6:INDEX(L:L,5+$C15))","v":0},{"$f":"SUM(M$6:INDEX(M:M,5+$C15))","v":0},{"$f":"SUM(N$6:INDEX(N:N,5+$C15))","v":0},{"$f":"SUM(O$6:INDEX(O:O,5+$C15))","v":0},{"$f":"SUM(P$6:INDEX(P:P,5+$C15))","v":0},{"$f":"SUM(Q$6:INDEX(Q:Q,5+$C15))","v":0},{"$f":"SUM(R$6:INDEX(R:R,5+$C15))","v":0},{"$f":"SUM(S$6:INDEX(S:S,5+$C15))","v":0},{"$f":"SUM(T$6:INDEX(T:T,5+$C15))","v":0},{"$f":"SUM(U$6:INDEX(U:U,5+$C15))","v":0},{"$f":"SUM(V$6:INDEX(V:V,5+$C15))","v":0},{"$f":"SUM(W$6:INDEX(W:W,5+$C15))","v":0},{"$f":"SUM(X$6:INDEX(X:X,5+$C15))","v":0},{"$f":"SUM(Y$6:INDEX(Y:Y,5+$C15))","v":0},null,{"$f":"IF(AA15>0,IF(Sorcadins!E$265>Sorcadins!E$269,MIN(Sorcadins!E$265,Sorcadins!E$263/AA15),CELL(\"contents\",INDIRECT(ADDRESS(43+Sorcadins!E$21,ROUNDUP(5+MIN(20,AA15),0),1,1,\"Caster Tables\")))),0)","v":0},{"$f":"IF(AB15>0,IF(Sorcadins!F$265>Sorcadins!F$269,MIN(Sorcadins!F$265,Sorcadins!F$263/AB15),CELL(\"contents\",INDIRECT(ADDRESS(43+Sorcadins!F$21,ROUNDUP(5+MIN(20,AB15),0),1,1,\"Caster Tables\")))),0)","v":0},{"$f":"IF(AC15>0,IF(Sorcadins!G$265>Sorcadins!G$269,MIN(Sorcadins!G$265,Sorcadins!G$263/AC15),CELL(\"contents\",INDIRECT(ADDRESS(43+Sorcadins!G$21,ROUNDUP(5+MIN(20,AC15),0),1,1,\"Caster Tables\")))),0)","v":0},{"$f":"IF(AD15>0,IF(Sorcadins!H$265>Sorcadins!H$269,MIN(Sorcadins!H$265,Sorcadins!H$263/AD15),CELL(\"contents\",INDIRECT(ADDRESS(43+Sorcadins!H$21,ROUNDUP(5+MIN(20,AD15),0),1,1,\"Caster Tables\")))),0)","v":0},{"$f":"IF(AE15>0,IF(Sorcadins!I$265>Sorcadins!I$269,MIN(Sorcadins!I$265,Sorcadins!I$263/AE15),CELL(\"contents\",INDIRECT(ADDRESS(43+Sorcadins!I$21,ROUNDUP(5+MIN(20,AE15),0),1,1,\"Caster Tables\")))),0)","v":0},{"$f":"IF(AF15>0,IF(Sorcadins!J$265>Sorcadins!J$269,MIN(Sorcadins!J$265,Sorcadins!J$263/AF15),CELL(\"contents\",INDIRECT(ADDRESS(43+Sorcadins!J$21,ROUNDUP(5+MIN(20,AF15),0),1,1,\"Caster Tables\")))),0)","v":0},{"$f":"IF(AG15>0,IF(Sorcadins!K$265>Sorcadins!K$269,MIN(Sorcadins!K$265,Sorcadins!K$263/AG15),CELL(\"contents\",INDIRECT(ADDRESS(43+Sorcadins!K$21,ROUNDUP(5+MIN(20,AG15),0),1,1,\"Caster Tables\")))),0)","v":0},{"$f":"IF(AH15>0,IF(Sorcadins!L$265>Sorcadins!L$269,MIN(Sorcadins!L$265,Sorcadins!L$263/AH15),CELL(\"contents\",INDIRECT(ADDRESS(43+Sorcadins!L$21,ROUNDUP(5+MIN(20,AH15),0),1,1,\"Caster Tables\")))),0)","v":0},{"$f":"IF(AI15>0,IF(Sorcadins!M$265>Sorcadins!M$269,MIN(Sorcadins!M$265,Sorcadins!M$263/AI15),CELL(\"contents\",INDIRECT(ADDRESS(43+Sorcadins!M$21,ROUNDUP(5+MIN(20,AI15),0),1,1,\"Caster Tables\")))),0)","v":0},{"$f":"IF(AJ15>0,IF(Sorcadins!N$265>Sorcadins!N$269,MIN(Sorcadins!N$265,Sorcadins!N$263/AJ15),CELL(\"contents\",INDIRECT(ADDRESS(43+Sorcadins!N$21,ROUNDUP(5+MIN(20,AJ15),0),1,1,\"Caster Tables\")))),0)","v":0},{"$f":"IF(AK15>0,IF(Sorcadins!O$265>Sorcadins!O$269,MIN(Sorcadins!O$265,Sorcadins!O$263/AK15),CELL(\"contents\",INDIRECT(ADDRESS(43+Sorcadins!O$21,ROUNDUP(5+MIN(20,AK15),0),1,1,\"Caster Tables\")))),0)","v":0},{"$f":"IF(AL15>0,IF(Sorcadins!P$265>Sorcadins!P$269,MIN(Sorcadins!P$265,Sorcadins!P$263/AL15),CELL(\"contents\",INDIRECT(ADDRESS(43+Sorcadins!P$21,ROUNDUP(5+MIN(20,AL15),0),1,1,\"Caster Tables\")))),0)","v":0},{"$f":"IF(AM15>0,IF(Sorcadins!Q$265>Sorcadins!Q$269,MIN(Sorcadins!Q$265,Sorcadins!Q$263/AM15),CELL(\"contents\",INDIRECT(ADDRESS(43+Sorcadins!Q$21,ROUNDUP(5+MIN(20,AM15),0),1,1,\"Caster Tables\")))),0)","v":0},{"$f":"IF(AN15>0,IF(Sorcadins!R$265>Sorcadins!R$269,MIN(Sorcadins!R$265,Sorcadins!R$263/AN15),CELL(\"contents\",INDIRECT(ADDRESS(43+Sorcadins!R$21,ROUNDUP(5+MIN(20,AN15),0),1,1,\"Caster Tables\")))),0)","v":0},{"$f":"IF(AO15>0,IF(Sorcadins!S$265>Sorcadins!S$269,MIN(Sorcadins!S$265,Sorcadins!S$263/AO15),CELL(\"contents\",INDIRECT(ADDRESS(43+Sorcadins!S$21,ROUNDUP(5+MIN(20,AO15),0),1,1,\"Caster Tables\")))),0)","v":0},{"$f":"IF(AP15>0,IF(Sorcadins!T$265>Sorcadins!T$269,MIN(Sorcadins!T$265,Sorcadins!T$263/AP15),CELL(\"contents\",INDIRECT(ADDRESS(43+Sorcadins!T$21,ROUNDUP(5+MIN(20,AP15),0),1,1,\"Caster Tables\")))),0)","v":0},{"$f":"IF(AQ15>0,IF(Sorcadins!U$265>Sorcadins!U$269,MIN(Sorcadins!U$265,Sorcadins!U$263/AQ15),CELL(\"contents\",INDIRECT(ADDRESS(43+Sorcadins!U$21,ROUNDUP(5+MIN(20,AQ15),0),1,1,\"Caster Tables\")))),0)","v":0},{"$f":"IF(AR15>0,IF(Sorcadins!V$265>Sorcadins!V$269,MIN(Sorcadins!V$265,Sorcadins!V$263/AR15),CELL(\"contents\",INDIRECT(ADDRESS(43+Sorcadins!V$21,ROUNDUP(5+MIN(20,AR15),0),1,1,\"Caster Tables\")))),0)","v":0},{"$f":"IF(AS15>0,IF(Sorcadins!W$265>Sorcadins!W$269,MIN(Sorcadins!W$265,Sorcadins!W$263/AS15),CELL(\"contents\",INDIRECT(ADDRESS(43+Sorcadins!W$21,ROUNDUP(5+MIN(20,AS15),0),1,1,\"Caster Tables\")))),0)","v":0},{"$f":"IF(AT15>0,IF(Sorcadins!X$265>Sorcadins!X$269,MIN(Sorcadins!X$265,Sorcadins!X$263/AT15),CELL(\"contents\",INDIRECT(ADDRESS(43+Sorcadins!X$21,ROUNDUP(5+MIN(20,AT15),0),1,1,\"Caster Tables\")))),0)","v":0},null,0,0,0,0,0,0,0,0,0,0,0,0,0,0,0,0,0,0,0,0,null,{"$f":"IF(AV15>0,MIN(AV15,MAX(0,IF(F15>=0,AV15,0)-SUM(DG$6:INDEX(DG:DG,5+$C15-1))/AA15)*BQ15),0)","v":0},{"$f":"IF(AW15>0,MIN(AW15,MAX(0,IF(G15>=0,AW15,0)-SUM(DH$6:INDEX(DH:DH,5+$C15-1))/AB15)*BR15),0)","v":0},{"$f":"IF(AX15>0,MIN(AX15,MAX(0,IF(H15>=0,AX15,0)-SUM(DI$6:INDEX(DI:DI,5+$C15-1))/AC15)*BS15),0)","v":0},{"$f":"IF(AY15>0,MIN(AY15,MAX(0,IF(I15>=0,AY15,0)-SUM(DJ$6:INDEX(DJ:DJ,5+$C15-1))/AD15)*BT15),0)","v":0},{"$f":"IF(AZ15>0,MIN(AZ15,MAX(0,IF(J15>=0,AZ15,0)-SUM(DK$6:INDEX(DK:DK,5+$C15-1))/AE15)*BU15),0)","v":0},{"$f":"IF(BA15>0,MIN(BA15,MAX(0,IF(K15>=0,BA15,0)-SUM(DL$6:INDEX(DL:DL,5+$C15-1))/AF15)*BV15),0)","v":0},{"$f":"IF(BB15>0,MIN(BB15,MAX(0,IF(L15>=0,BB15,0)-SUM(DM$6:INDEX(DM:DM,5+$C15-1))/AG15)*BW15),0)","v":0},{"$f":"IF(BC15>0,MIN(BC15,MAX(0,IF(M15>=0,BC15,0)-SUM(DN$6:INDEX(DN:DN,5+$C15-1))/AH15)*BX15),0)","v":0},{"$f":"IF(BD15>0,MIN(BD15,MAX(0,IF(N15>=0,BD15,0)-SUM(DO$6:INDEX(DO:DO,5+$C15-1))/AI15)*BY15),0)","v":0},{"$f":"IF(BE15>0,MIN(BE15,MAX(0,IF(O15>=0,BE15,0)-SUM(DP$6:INDEX(DP:DP,5+$C15-1))/AJ15)*BZ15),0)","v":0},{"$f":"IF(BF15>0,MIN(BF15,MAX(0,IF(P15>=0,BF15,0)-SUM(DQ$6:INDEX(DQ:DQ,5+$C15-1))/AK15)*CA15),0)","v":0},{"$f":"IF(BG15>0,MIN(BG15,MAX(0,IF(Q15>=0,BG15,0)-SUM(DR$6:INDEX(DR:DR,5+$C15-1))/AL15)*CB15),0)","v":0},{"$f":"IF(BH15>0,MIN(BH15,MAX(0,IF(R15>=0,BH15,0)-SUM(DS$6:INDEX(DS:DS,5+$C15-1))/AM15)*CC15),0)","v":0},{"$f":"IF(BI15>0,MIN(BI15,MAX(0,IF(S15>=0,BI15,0)-SUM(DT$6:INDEX(DT:DT,5+$C15-1))/AN15)*CD15),0)","v":0},{"$f":"IF(BJ15>0,MIN(BJ15,MAX(0,IF(T15>=0,BJ15,0)-SUM(DU$6:INDEX(DU:DU,5+$C15-1))/AO15)*CE15),0)","v":0},{"$f":"IF(BK15>0,MIN(BK15,MAX(0,IF(U15>=0,BK15,0)-SUM(DV$6:INDEX(DV:DV,5+$C15-1))/AP15)*CF15),0)","v":0},{"$f":"IF(BL15>0,MIN(BL15,MAX(0,IF(V15>=0,BL15,0)-SUM(DW$6:INDEX(DW:DW,5+$C15-1))/AQ15)*CG15),0)","v":0},{"$f":"IF(BM15>0,MIN(BM15,MAX(0,IF(W15>=0,BM15,0)-SUM(DX$6:INDEX(DX:DX,5+$C15-1))/AR15)*CH15),0)","v":0},{"$f":"IF(BN15>0,MIN(BN15,MAX(0,IF(X15>=0,BN15,0)-SUM(DY$6:INDEX(DY:DY,5+$C15-1))/AS15)*CI15),0)","v":0},{"$f":"IF(BO15>0,MIN(BO15,MAX(0,IF(Y15>=0,BO15,0)-SUM(DZ$6:INDEX(DZ:DZ,5+$C15-1))/AT15)*CJ15),0)","v":0},null,0,0,0,0,0,0,0,0,0,0,0,0,0,0,0,0,0,0,0,0,null,"Summon Aberration"]
[null,"Summon Construct",11,"summon construct (c)",{"$f":"MATCH($D16,INDEX(Sorcadins!$D:$D,$D$3):'Sorcadins'!$D1532,0)-1","v":35},{"$f":"IF(CELL(\"contents\",INDIRECT(ADDRESS($D$3+$E16,4+F$4,1,1,\"Sorcadins\")))>=1,CELL(\"contents\",INDIRECT(ADDRESS($D$3+$E16,4+F$4,1,1,\"Sorcadins\"))),0)","v":0},{"$f":"IF(CELL(\"contents\",INDIRECT(ADDRESS($D$3+$E16,4+G$4,1,1,\"Sorcadins\")))>=1,CELL(\"contents\",INDIRECT(ADDRESS($D$3+$E16,4+G$4,1,1,\"Sorcadins\"))),0)","v":0},{"$f":"IF(CELL(\"contents\",INDIRECT(ADDRESS($D$3+$E16,4+H$4,1,1,\"Sorcadins\")))>=1,CELL(\"contents\",INDIRECT(ADDRESS($D$3+$E16,4+H$4,1,1,\"Sorcadins\"))),0)","v":0},{"$f":"IF(CELL(\"contents\",INDIRECT(ADDRESS($D$3+$E16,4+I$4,1,1,\"Sorcadins\")))>=1,CELL(\"contents\",INDIRECT(ADDRESS($D$3+$E16,4+I$4,1,1,\"Sorcadins\"))),0)","v":0},{"$f":"IF(CELL(\"contents\",INDIRECT(ADDRESS($D$3+$E16,4+J$4,1,1,\"Sorcadins\")))>=1,CELL(\"contents\",INDIRECT(ADDRESS($D$3+$E16,4+J$4,1,1,\"Sorcadins\"))),0)","v":0},{"$f":"IF(CELL(\"contents\",INDIRECT(ADDRESS($D$3+$E16,4+K$4,1,1,\"Sorcadins\")))>=1,CELL(\"contents\",INDIRECT(ADDRESS($D$3+$E16,4+K$4,1,1,\"Sorcadins\"))),0)","v":0},{"$f":"IF(CELL(\"contents\",INDIRECT(ADDRESS($D$3+$E16,4+L$4,1,1,\"Sorcadins\")))>=1,CELL(\"contents\",INDIRECT(ADDRESS($D$3+$E16,4+L$4,1,1,\"Sorcadins\"))),0)","v":0},{"$f":"IF(CELL(\"contents\",INDIRECT(ADDRESS($D$3+$E16,4+M$4,1,1,\"Sorcadins\")))>=1,CELL(\"contents\",INDIRECT(ADDRESS($D$3+$E16,4+M$4,1,1,\"Sorcadins\"))),0)","v":0},{"$f":"IF(CELL(\"contents\",INDIRECT(ADDRESS($D$3+$E16,4+N$4,1,1,\"Sorcadins\")))>=1,CELL(\"contents\",INDIRECT(ADDRESS($D$3+$E16,4+N$4,1,1,\"Sorcadins\"))),0)","v":0},{"$f":"IF(CELL(\"contents\",INDIRECT(ADDRESS($D$3+$E16,4+O$4,1,1,\"Sorcadins\")))>=1,CELL(\"contents\",INDIRECT(ADDRESS($D$3+$E16,4+O$4,1,1,\"Sorcadins\"))),0)","v":0},{"$f":"IF(CELL(\"contents\",INDIRECT(ADDRESS($D$3+$E16,4+P$4,1,1,\"Sorcadins\")))>=1,CELL(\"contents\",INDIRECT(ADDRESS($D$3+$E16,4+P$4,1,1,\"Sorcadins\"))),0)","v":0},{"$f":"IF(CELL(\"contents\",INDIRECT(ADDRESS($D$3+$E16,4+Q$4,1,1,\"Sorcadins\")))>=1,CELL(\"contents\",INDIRECT(ADDRESS($D$3+$E16,4+Q$4,1,1,\"Sorcadins\"))),0)","v":0},{"$f":"IF(CELL(\"contents\",INDIRECT(ADDRESS($D$3+$E16,4+R$4,1,1,\"Sorcadins\")))>=1,CELL(\"contents\",INDIRECT(ADDRESS($D$3+$E16,4+R$4,1,1,\"Sorcadins\"))),0)","v":0},{"$f":"IF(CELL(\"contents\",INDIRECT(ADDRESS($D$3+$E16,4+S$4,1,1,\"Sorcadins\")))>=1,CELL(\"contents\",INDIRECT(ADDRESS($D$3+$E16,4+S$4,1,1,\"Sorcadins\"))),0)","v":0},{"$f":"IF(CELL(\"contents\",INDIRECT(ADDRESS($D$3+$E16,4+T$4,1,1,\"Sorcadins\")))>=1,CELL(\"contents\",INDIRECT(ADDRESS($D$3+$E16,4+T$4,1,1,\"Sorcadins\"))),0)","v":0},{"$f":"IF(CELL(\"contents\",INDIRECT(ADDRESS($D$3+$E16,4+U$4,1,1,\"Sorcadins\")))>=1,CELL(\"contents\",INDIRECT(ADDRESS($D$3+$E16,4+U$4,1,1,\"Sorcadins\"))),0)","v":0},{"$f":"IF(CELL(\"contents\",INDIRECT(ADDRESS($D$3+$E16,4+V$4,1,1,\"Sorcadins\")))>=1,CELL(\"contents\",INDIRECT(ADDRESS($D$3+$E16,4+V$4,1,1,\"Sorcadins\"))),0)","v":0},{"$f":"IF(CELL(\"contents\",INDIRECT(ADDRESS($D$3+$E16,4+W$4,1,1,\"Sorcadins\")))>=1,CELL(\"contents\",INDIRECT(ADDRESS($D$3+$E16,4+W$4,1,1,\"Sorcadins\"))),0)","v":0},{"$f":"IF(CELL(\"contents\",INDIRECT(ADDRESS($D$3+$E16,4+X$4,1,1,\"Sorcadins\")))>=1,CELL(\"contents\",INDIRECT(ADDRESS($D$3+$E16,4+X$4,1,1,\"Sorcadins\"))),0)","v":0},{"$f":"IF(CELL(\"contents\",INDIRECT(ADDRESS($D$3+$E16,4+Y$4,1,1,\"Sorcadins\")))>=1,CELL(\"contents\",INDIRECT(ADDRESS($D$3+$E16,4+Y$4,1,1,\"Sorcadins\"))),0)","v":0},null,{"$f":"SUM(F$6:INDEX(F:F,5+$C16))","v":0},{"$f":"SUM(G$6:INDEX(G:G,5+$C16))","v":0},{"$f":"SUM(H$6:INDEX(H:H,5+$C16))","v":0},{"$f":"SUM(I$6:INDEX(I:I,5+$C16))","v":0},{"$f":"SUM(J$6:INDEX(J:J,5+$C16))","v":0},{"$f":"SUM(K$6:INDEX(K:K,5+$C16))","v":0},{"$f":"SUM(L$6:INDEX(L:L,5+$C16))","v":0},{"$f":"SUM(M$6:INDEX(M:M,5+$C16))","v":0},{"$f":"SUM(N$6:INDEX(N:N,5+$C16))","v":0},{"$f":"SUM(O$6:INDEX(O:O,5+$C16))","v":0},{"$f":"SUM(P$6:INDEX(P:P,5+$C16))","v":0},{"$f":"SUM(Q$6:INDEX(Q:Q,5+$C16))","v":0},{"$f":"SUM(R$6:INDEX(R:R,5+$C16))","v":0},{"$f":"SUM(S$6:INDEX(S:S,5+$C16))","v":0},{"$f":"SUM(T$6:INDEX(T:T,5+$C16))","v":0},{"$f":"SUM(U$6:INDEX(U:U,5+$C16))","v":0},{"$f":"SUM(V$6:INDEX(V:V,5+$C16))","v":0},{"$f":"SUM(W$6:INDEX(W:W,5+$C16))","v":0},{"$f":"SUM(X$6:INDEX(X:X,5+$C16))","v":0},{"$f":"SUM(Y$6:INDEX(Y:Y,5+$C16))","v":0},null,{"$f":"IF(AA16>0,IF(Sorcadins!E$265>Sorcadins!E$269,MIN(Sorcadins!E$265,Sorcadins!E$263/AA16),CELL(\"contents\",INDIRECT(ADDRESS(43+Sorcadins!E$21,ROUNDUP(5+MIN(20,AA16),0),1,1,\"Caster Tables\")))),0)","v":0},{"$f":"IF(AB16>0,IF(Sorcadins!F$265>Sorcadins!F$269,MIN(Sorcadins!F$265,Sorcadins!F$263/AB16),CELL(\"contents\",INDIRECT(ADDRESS(43+Sorcadins!F$21,ROUNDUP(5+MIN(20,AB16),0),1,1,\"Caster Tables\")))),0)","v":0},{"$f":"IF(AC16>0,IF(Sorcadins!G$265>Sorcadins!G$269,MIN(Sorcadins!G$265,Sorcadins!G$263/AC16),CELL(\"contents\",INDIRECT(ADDRESS(43+Sorcadins!G$21,ROUNDUP(5+MIN(20,AC16),0),1,1,\"Caster Tables\")))),0)","v":0},{"$f":"IF(AD16>0,IF(Sorcadins!H$265>Sorcadins!H$269,MIN(Sorcadins!H$265,Sorcadins!H$263/AD16),CELL(\"contents\",INDIRECT(ADDRESS(43+Sorcadins!H$21,ROUNDUP(5+MIN(20,AD16),0),1,1,\"Caster Tables\")))),0)","v":0},{"$f":"IF(AE16>0,IF(Sorcadins!I$265>Sorcadins!I$269,MIN(Sorcadins!I$265,Sorcadins!I$263/AE16),CELL(\"contents\",INDIRECT(ADDRESS(43+Sorcadins!I$21,ROUNDUP(5+MIN(20,AE16),0),1,1,\"Caster Tables\")))),0)","v":0},{"$f":"IF(AF16>0,IF(Sorcadins!J$265>Sorcadins!J$269,MIN(Sorcadins!J$265,Sorcadins!J$263/AF16),CELL(\"contents\",INDIRECT(ADDRESS(43+Sorcadins!J$21,ROUNDUP(5+MIN(20,AF16),0),1,1,\"Caster Tables\")))),0)","v":0},{"$f":"IF(AG16>0,IF(Sorcadins!K$265>Sorcadins!K$269,MIN(Sorcadins!K$265,Sorcadins!K$263/AG16),CELL(\"contents\",INDIRECT(ADDRESS(43+Sorcadins!K$21,ROUNDUP(5+MIN(20,AG16),0),1,1,\"Caster Tables\")))),0)","v":0},{"$f":"IF(AH16>0,IF(Sorcadins!L$265>Sorcadins!L$269,MIN(Sorcadins!L$265,Sorcadins!L$263/AH16),CELL(\"contents\",INDIRECT(ADDRESS(43+Sorcadins!L$21,ROUNDUP(5+MIN(20,AH16),0),1,1,\"Caster Tables\")))),0)","v":0},{"$f":"IF(AI16>0,IF(Sorcadins!M$265>Sorcadins!M$269,MIN(Sorcadins!M$265,Sorcadins!M$263/AI16),CELL(\"contents\",INDIRECT(ADDRESS(43+Sorcadins!M$21,ROUNDUP(5+MIN(20,AI16),0),1,1,\"Caster Tables\")))),0)","v":0},{"$f":"IF(AJ16>0,IF(Sorcadins!N$265>Sorcadins!N$269,MIN(Sorcadins!N$265,Sorcadins!N$263/AJ16),CELL(\"contents\",INDIRECT(ADDRESS(43+Sorcadins!N$21,ROUNDUP(5+MIN(20,AJ16),0),1,1,\"Caster Tables\")))),0)","v":0},{"$f":"IF(AK16>0,IF(Sorcadins!O$265>Sorcadins!O$269,MIN(Sorcadins!O$265,Sorcadins!O$263/AK16),CELL(\"contents\",INDIRECT(ADDRESS(43+Sorcadins!O$21,ROUNDUP(5+MIN(20,AK16),0),1,1,\"Caster Tables\")))),0)","v":0},{"$f":"IF(AL16>0,IF(Sorcadins!P$265>Sorcadins!P$269,MIN(Sorcadins!P$265,Sorcadins!P$263/AL16),CELL(\"contents\",INDIRECT(ADDRESS(43+Sorcadins!P$21,ROUNDUP(5+MIN(20,AL16),0),1,1,\"Caster Tables\")))),0)","v":0},{"$f":"IF(AM16>0,IF(Sorcadins!Q$265>Sorcadins!Q$269,MIN(Sorcadins!Q$265,Sorcadins!Q$263/AM16),CELL(\"contents\",INDIRECT(ADDRESS(43+Sorcadins!Q$21,ROUNDUP(5+MIN(20,AM16),0),1,1,\"Caster Tables\")))),0)","v":0},{"$f":"IF(AN16>0,IF(Sorcadins!R$265>Sorcadins!R$269,MIN(Sorcadins!R$265,Sorcadins!R$263/AN16),CELL(\"contents\",INDIRECT(ADDRESS(43+Sorcadins!R$21,ROUNDUP(5+MIN(20,AN16),0),1,1,\"Caster Tables\")))),0)","v":0},{"$f":"IF(AO16>0,IF(Sorcadins!S$265>Sorcadins!S$269,MIN(Sorcadins!S$265,Sorcadins!S$263/AO16),CELL(\"contents\",INDIRECT(ADDRESS(43+Sorcadins!S$21,ROUNDUP(5+MIN(20,AO16),0),1,1,\"Caster Tables\")))),0)","v":0},{"$f":"IF(AP16>0,IF(Sorcadins!T$265>Sorcadins!T$269,MIN(Sorcadins!T$265,Sorcadins!T$263/AP16),CELL(\"contents\",INDIRECT(ADDRESS(43+Sorcadins!T$21,ROUNDUP(5+MIN(20,AP16),0),1,1,\"Caster Tables\")))),0)","v":0},{"$f":"IF(AQ16>0,IF(Sorcadins!U$265>Sorcadins!U$269,MIN(Sorcadins!U$265,Sorcadins!U$263/AQ16),CELL(\"contents\",INDIRECT(ADDRESS(43+Sorcadins!U$21,ROUNDUP(5+MIN(20,AQ16),0),1,1,\"Caster Tables\")))),0)","v":0},{"$f":"IF(AR16>0,IF(Sorcadins!V$265>Sorcadins!V$269,MIN(Sorcadins!V$265,Sorcadins!V$263/AR16),CELL(\"contents\",INDIRECT(ADDRESS(43+Sorcadins!V$21,ROUNDUP(5+MIN(20,AR16),0),1,1,\"Caster Tables\")))),0)","v":0},{"$f":"IF(AS16>0,IF(Sorcadins!W$265>Sorcadins!W$269,MIN(Sorcadins!W$265,Sorcadins!W$263/AS16),CELL(\"contents\",INDIRECT(ADDRESS(43+Sorcadins!W$21,ROUNDUP(5+MIN(20,AS16),0),1,1,\"Caster Tables\")))),0)","v":0},{"$f":"IF(AT16>0,IF(Sorcadins!X$265>Sorcadins!X$269,MIN(Sorcadins!X$265,Sorcadins!X$263/AT16),CELL(\"contents\",INDIRECT(ADDRESS(43+Sorcadins!X$21,ROUNDUP(5+MIN(20,AT16),0),1,1,\"Caster Tables\")))),0)","v":0},null,0,0,0,0,0,0,0,0,0,0,0,0,0,0,0,0,0,0,0,0,null,{"$f":"IF(AV16>0,MIN(AV16,MAX(0,IF(F16>=0,AV16,0)-SUM(DG$6:INDEX(DG:DG,5+$C16-1))/AA16)*BQ16),0)","v":0},{"$f":"IF(AW16>0,MIN(AW16,MAX(0,IF(G16>=0,AW16,0)-SUM(DH$6:INDEX(DH:DH,5+$C16-1))/AB16)*BR16),0)","v":0},{"$f":"IF(AX16>0,MIN(AX16,MAX(0,IF(H16>=0,AX16,0)-SUM(DI$6:INDEX(DI:DI,5+$C16-1))/AC16)*BS16),0)","v":0},{"$f":"IF(AY16>0,MIN(AY16,MAX(0,IF(I16>=0,AY16,0)-SUM(DJ$6:INDEX(DJ:DJ,5+$C16-1))/AD16)*BT16),0)","v":0},{"$f":"IF(AZ16>0,MIN(AZ16,MAX(0,IF(J16>=0,AZ16,0)-SUM(DK$6:INDEX(DK:DK,5+$C16-1))/AE16)*BU16),0)","v":0},{"$f":"IF(BA16>0,MIN(BA16,MAX(0,IF(K16>=0,BA16,0)-SUM(DL$6:INDEX(DL:DL,5+$C16-1))/AF16)*BV16),0)","v":0},{"$f":"IF(BB16>0,MIN(BB16,MAX(0,IF(L16>=0,BB16,0)-SUM(DM$6:INDEX(DM:DM,5+$C16-1))/AG16)*BW16),0)","v":0},{"$f":"IF(BC16>0,MIN(BC16,MAX(0,IF(M16>=0,BC16,0)-SUM(DN$6:INDEX(DN:DN,5+$C16-1))/AH16)*BX16),0)","v":0},{"$f":"IF(BD16>0,MIN(BD16,MAX(0,IF(N16>=0,BD16,0)-SUM(DO$6:INDEX(DO:DO,5+$C16-1))/AI16)*BY16),0)","v":0},{"$f":"IF(BE16>0,MIN(BE16,MAX(0,IF(O16>=0,BE16,0)-SUM(DP$6:INDEX(DP:DP,5+$C16-1))/AJ16)*BZ16),0)","v":0},{"$f":"IF(BF16>0,MIN(BF16,MAX(0,IF(P16>=0,BF16,0)-SUM(DQ$6:INDEX(DQ:DQ,5+$C16-1))/AK16)*CA16),0)","v":0},{"$f":"IF(BG16>0,MIN(BG16,MAX(0,IF(Q16>=0,BG16,0)-SUM(DR$6:INDEX(DR:DR,5+$C16-1))/AL16)*CB16),0)","v":0},{"$f":"IF(BH16>0,MIN(BH16,MAX(0,IF(R16>=0,BH16,0)-SUM(DS$6:INDEX(DS:DS,5+$C16-1))/AM16)*CC16),0)","v":0},{"$f":"IF(BI16>0,MIN(BI16,MAX(0,IF(S16>=0,BI16,0)-SUM(DT$6:INDEX(DT:DT,5+$C16-1))/AN16)*CD16),0)","v":0},{"$f":"IF(BJ16>0,MIN(BJ16,MAX(0,IF(T16>=0,BJ16,0)-SUM(DU$6:INDEX(DU:DU,5+$C16-1))/AO16)*CE16),0)","v":0},{"$f":"IF(BK16>0,MIN(BK16,MAX(0,IF(U16>=0,BK16,0)-SUM(DV$6:INDEX(DV:DV,5+$C16-1))/AP16)*CF16),0)","v":0},{"$f":"IF(BL16>0,MIN(BL16,MAX(0,IF(V16>=0,BL16,0)-SUM(DW$6:INDEX(DW:DW,5+$C16-1))/AQ16)*CG16),0)","v":0},{"$f":"IF(BM16>0,MIN(BM16,MAX(0,IF(W16>=0,BM16,0)-SUM(DX$6:INDEX(DX:DX,5+$C16-1))/AR16)*CH16),0)","v":0},{"$f":"IF(BN16>0,MIN(BN16,MAX(0,IF(X16>=0,BN16,0)-SUM(DY$6:INDEX(DY:DY,5+$C16-1))/AS16)*CI16),0)","v":0},{"$f":"IF(BO16>0,MIN(BO16,MAX(0,IF(Y16>=0,BO16,0)-SUM(DZ$6:INDEX(DZ:DZ,5+$C16-1))/AT16)*CJ16),0)","v":0},null,0,0,0,0,0,0,0,0,0,0,0,0,0,0,0,0,0,0,0,0,null,"Summon Construct"]
[null,"Summon Celestial",12,"summon celestial (c)",{"$f":"MATCH($D17,INDEX(Sorcadins!$D:$D,$D$3):'Sorcadins'!$D1533,0)-1","v":36},{"$f":"IF(CELL(\"contents\",INDIRECT(ADDRESS($D$3+$E17,4+F$4,1,1,\"Sorcadins\")))>=1,CELL(\"contents\",INDIRECT(ADDRESS($D$3+$E17,4+F$4,1,1,\"Sorcadins\"))),0)","v":0},{"$f":"IF(CELL(\"contents\",INDIRECT(ADDRESS($D$3+$E17,4+G$4,1,1,\"Sorcadins\")))>=1,CELL(\"contents\",INDIRECT(ADDRESS($D$3+$E17,4+G$4,1,1,\"Sorcadins\"))),0)","v":0},{"$f":"IF(CELL(\"contents\",INDIRECT(ADDRESS($D$3+$E17,4+H$4,1,1,\"Sorcadins\")))>=1,CELL(\"contents\",INDIRECT(ADDRESS($D$3+$E17,4+H$4,1,1,\"Sorcadins\"))),0)","v":0},{"$f":"IF(CELL(\"contents\",INDIRECT(ADDRESS($D$3+$E17,4+I$4,1,1,\"Sorcadins\")))>=1,CELL(\"contents\",INDIRECT(ADDRESS($D$3+$E17,4+I$4,1,1,\"Sorcadins\"))),0)","v":0},{"$f":"IF(CELL(\"contents\",INDIRECT(ADDRESS($D$3+$E17,4+J$4,1,1,\"Sorcadins\")))>=1,CELL(\"contents\",INDIRECT(ADDRESS($D$3+$E17,4+J$4,1,1,\"Sorcadins\"))),0)","v":0},{"$f":"IF(CELL(\"contents\",INDIRECT(ADDRESS($D$3+$E17,4+K$4,1,1,\"Sorcadins\")))>=1,CELL(\"contents\",INDIRECT(ADDRESS($D$3+$E17,4+K$4,1,1,\"Sorcadins\"))),0)","v":0},{"$f":"IF(CELL(\"contents\",INDIRECT(ADDRESS($D$3+$E17,4+L$4,1,1,\"Sorcadins\")))>=1,CELL(\"contents\",INDIRECT(ADDRESS($D$3+$E17,4+L$4,1,1,\"Sorcadins\"))),0)","v":0},{"$f":"IF(CELL(\"contents\",INDIRECT(ADDRESS($D$3+$E17,4+M$4,1,1,\"Sorcadins\")))>=1,CELL(\"contents\",INDIRECT(ADDRESS($D$3+$E17,4+M$4,1,1,\"Sorcadins\"))),0)","v":0},{"$f":"IF(CELL(\"contents\",INDIRECT(ADDRESS($D$3+$E17,4+N$4,1,1,\"Sorcadins\")))>=1,CELL(\"contents\",INDIRECT(ADDRESS($D$3+$E17,4+N$4,1,1,\"Sorcadins\"))),0)","v":0},{"$f":"IF(CELL(\"contents\",INDIRECT(ADDRESS($D$3+$E17,4+O$4,1,1,\"Sorcadins\")))>=1,CELL(\"contents\",INDIRECT(ADDRESS($D$3+$E17,4+O$4,1,1,\"Sorcadins\"))),0)","v":0},{"$f":"IF(CELL(\"contents\",INDIRECT(ADDRESS($D$3+$E17,4+P$4,1,1,\"Sorcadins\")))>=1,CELL(\"contents\",INDIRECT(ADDRESS($D$3+$E17,4+P$4,1,1,\"Sorcadins\"))),0)","v":0},{"$f":"IF(CELL(\"contents\",INDIRECT(ADDRESS($D$3+$E17,4+Q$4,1,1,\"Sorcadins\")))>=1,CELL(\"contents\",INDIRECT(ADDRESS($D$3+$E17,4+Q$4,1,1,\"Sorcadins\"))),0)","v":0},{"$f":"IF(CELL(\"contents\",INDIRECT(ADDRESS($D$3+$E17,4+R$4,1,1,\"Sorcadins\")))>=1,CELL(\"contents\",INDIRECT(ADDRESS($D$3+$E17,4+R$4,1,1,\"Sorcadins\"))),0)","v":0},{"$f":"IF(CELL(\"contents\",INDIRECT(ADDRESS($D$3+$E17,4+S$4,1,1,\"Sorcadins\")))>=1,CELL(\"contents\",INDIRECT(ADDRESS($D$3+$E17,4+S$4,1,1,\"Sorcadins\"))),0)","v":0},{"$f":"IF(CELL(\"contents\",INDIRECT(ADDRESS($D$3+$E17,4+T$4,1,1,\"Sorcadins\")))>=1,CELL(\"contents\",INDIRECT(ADDRESS($D$3+$E17,4+T$4,1,1,\"Sorcadins\"))),0)","v":0},{"$f":"IF(CELL(\"contents\",INDIRECT(ADDRESS($D$3+$E17,4+U$4,1,1,\"Sorcadins\")))>=1,CELL(\"contents\",INDIRECT(ADDRESS($D$3+$E17,4+U$4,1,1,\"Sorcadins\"))),0)","v":0},{"$f":"IF(CELL(\"contents\",INDIRECT(ADDRESS($D$3+$E17,4+V$4,1,1,\"Sorcadins\")))>=1,CELL(\"contents\",INDIRECT(ADDRESS($D$3+$E17,4+V$4,1,1,\"Sorcadins\"))),0)","v":0},{"$f":"IF(CELL(\"contents\",INDIRECT(ADDRESS($D$3+$E17,4+W$4,1,1,\"Sorcadins\")))>=1,CELL(\"contents\",INDIRECT(ADDRESS($D$3+$E17,4+W$4,1,1,\"Sorcadins\"))),0)","v":0},{"$f":"IF(CELL(\"contents\",INDIRECT(ADDRESS($D$3+$E17,4+X$4,1,1,\"Sorcadins\")))>=1,CELL(\"contents\",INDIRECT(ADDRESS($D$3+$E17,4+X$4,1,1,\"Sorcadins\"))),0)","v":0},{"$f":"IF(CELL(\"contents\",INDIRECT(ADDRESS($D$3+$E17,4+Y$4,1,1,\"Sorcadins\")))>=1,CELL(\"contents\",INDIRECT(ADDRESS($D$3+$E17,4+Y$4,1,1,\"Sorcadins\"))),0)","v":0},null,{"$f":"SUM(F$6:INDEX(F:F,5+$C17))","v":0},{"$f":"SUM(G$6:INDEX(G:G,5+$C17))","v":0},{"$f":"SUM(H$6:INDEX(H:H,5+$C17))","v":0},{"$f":"SUM(I$6:INDEX(I:I,5+$C17))","v":0},{"$f":"SUM(J$6:INDEX(J:J,5+$C17))","v":0},{"$f":"SUM(K$6:INDEX(K:K,5+$C17))","v":0},{"$f":"SUM(L$6:INDEX(L:L,5+$C17))","v":0},{"$f":"SUM(M$6:INDEX(M:M,5+$C17))","v":0},{"$f":"SUM(N$6:INDEX(N:N,5+$C17))","v":0},{"$f":"SUM(O$6:INDEX(O:O,5+$C17))","v":0},{"$f":"SUM(P$6:INDEX(P:P,5+$C17))","v":0},{"$f":"SUM(Q$6:INDEX(Q:Q,5+$C17))","v":0},{"$f":"SUM(R$6:INDEX(R:R,5+$C17))","v":0},{"$f":"SUM(S$6:INDEX(S:S,5+$C17))","v":0},{"$f":"SUM(T$6:INDEX(T:T,5+$C17))","v":0},{"$f":"SUM(U$6:INDEX(U:U,5+$C17))","v":0},{"$f":"SUM(V$6:INDEX(V:V,5+$C17))","v":0},{"$f":"SUM(W$6:INDEX(W:W,5+$C17))","v":0},{"$f":"SUM(X$6:INDEX(X:X,5+$C17))","v":0},{"$f":"SUM(Y$6:INDEX(Y:Y,5+$C17))","v":0},null,{"$f":"IF(AA17>0,IF(Sorcadins!E$265>Sorcadins!E$269,MIN(Sorcadins!E$265,Sorcadins!E$263/AA17),CELL(\"contents\",INDIRECT(ADDRESS(43+Sorcadins!E$21,ROUNDUP(5+MIN(20,AA17),0),1,1,\"Caster Tables\")))),0)","v":0},{"$f":"IF(AB17>0,IF(Sorcadins!F$265>Sorcadins!F$269,MIN(Sorcadins!F$265,Sorcadins!F$263/AB17),CELL(\"contents\",INDIRECT(ADDRESS(43+Sorcadins!F$21,ROUNDUP(5+MIN(20,AB17),0),1,1,\"Caster Tables\")))),0)","v":0},{"$f":"IF(AC17>0,IF(Sorcadins!G$265>Sorcadins!G$269,MIN(Sorcadins!G$265,Sorcadins!G$263/AC17),CELL(\"contents\",INDIRECT(ADDRESS(43+Sorcadins!G$21,ROUNDUP(5+MIN(20,AC17),0),1,1,\"Caster Tables\")))),0)","v":0},{"$f":"IF(AD17>0,IF(Sorcadins!H$265>Sorcadins!H$269,MIN(Sorcadins!H$265,Sorcadins!H$263/AD17),CELL(\"contents\",INDIRECT(ADDRESS(43+Sorcadins!H$21,ROUNDUP(5+MIN(20,AD17),0),1,1,\"Caster Tables\")))),0)","v":0},{"$f":"IF(AE17>0,IF(Sorcadins!I$265>Sorcadins!I$269,MIN(Sorcadins!I$265,Sorcadins!I$263/AE17),CELL(\"contents\",INDIRECT(ADDRESS(43+Sorcadins!I$21,ROUNDUP(5+MIN(20,AE17),0),1,1,\"Caster Tables\")))),0)","v":0},{"$f":"IF(AF17>0,IF(Sorcadins!J$265>Sorcadins!J$269,MIN(Sorcadins!J$265,Sorcadins!J$263/AF17),CELL(\"contents\",INDIRECT(ADDRESS(43+Sorcadins!J$21,ROUNDUP(5+MIN(20,AF17),0),1,1,\"Caster Tables\")))),0)","v":0},{"$f":"IF(AG17>0,IF(Sorcadins!K$265>Sorcadins!K$269,MIN(Sorcadins!K$265,Sorcadins!K$263/AG17),CELL(\"contents\",INDIRECT(ADDRESS(43+Sorcadins!K$21,ROUNDUP(5+MIN(20,AG17),0),1,1,\"Caster Tables\")))),0)","v":0},{"$f":"IF(AH17>0,IF(Sorcadins!L$265>Sorcadins!L$269,MIN(Sorcadins!L$265,Sorcadins!L$263/AH17),CELL(\"contents\",INDIRECT(ADDRESS(43+Sorcadins!L$21,ROUNDUP(5+MIN(20,AH17),0),1,1,\"Caster Tables\")))),0)","v":0},{"$f":"IF(AI17>0,IF(Sorcadins!M$265>Sorcadins!M$269,MIN(Sorcadins!M$265,Sorcadins!M$263/AI17),CELL(\"contents\",INDIRECT(ADDRESS(43+Sorcadins!M$21,ROUNDUP(5+MIN(20,AI17),0),1,1,\"Caster Tables\")))),0)","v":0},{"$f":"IF(AJ17>0,IF(Sorcadins!N$265>Sorcadins!N$269,MIN(Sorcadins!N$265,Sorcadins!N$263/AJ17),CELL(\"contents\",INDIRECT(ADDRESS(43+Sorcadins!N$21,ROUNDUP(5+MIN(20,AJ17),0),1,1,\"Caster Tables\")))),0)","v":0},{"$f":"IF(AK17>0,IF(Sorcadins!O$265>Sorcadins!O$269,MIN(Sorcadins!O$265,Sorcadins!O$263/AK17),CELL(\"contents\",INDIRECT(ADDRESS(43+Sorcadins!O$21,ROUNDUP(5+MIN(20,AK17),0),1,1,\"Caster Tables\")))),0)","v":0},{"$f":"IF(AL17>0,IF(Sorcadins!P$265>Sorcadins!P$269,MIN(Sorcadins!P$265,Sorcadins!P$263/AL17),CELL(\"contents\",INDIRECT(ADDRESS(43+Sorcadins!P$21,ROUNDUP(5+MIN(20,AL17),0),1,1,\"Caster Tables\")))),0)","v":0},{"$f":"IF(AM17>0,IF(Sorcadins!Q$265>Sorcadins!Q$269,MIN(Sorcadins!Q$265,Sorcadins!Q$263/AM17),CELL(\"contents\",INDIRECT(ADDRESS(43+Sorcadins!Q$21,ROUNDUP(5+MIN(20,AM17),0),1,1,\"Caster Tables\")))),0)","v":0},{"$f":"IF(AN17>0,IF(Sorcadins!R$265>Sorcadins!R$269,MIN(Sorcadins!R$265,Sorcadins!R$263/AN17),CELL(\"contents\",INDIRECT(ADDRESS(43+Sorcadins!R$21,ROUNDUP(5+MIN(20,AN17),0),1,1,\"Caster Tables\")))),0)","v":0},{"$f":"IF(AO17>0,IF(Sorcadins!S$265>Sorcadins!S$269,MIN(Sorcadins!S$265,Sorcadins!S$263/AO17),CELL(\"contents\",INDIRECT(ADDRESS(43+Sorcadins!S$21,ROUNDUP(5+MIN(20,AO17),0),1,1,\"Caster Tables\")))),0)","v":0},{"$f":"IF(AP17>0,IF(Sorcadins!T$265>Sorcadins!T$269,MIN(Sorcadins!T$265,Sorcadins!T$263/AP17),CELL(\"contents\",INDIRECT(ADDRESS(43+Sorcadins!T$21,ROUNDUP(5+MIN(20,AP17),0),1,1,\"Caster Tables\")))),0)","v":0},{"$f":"IF(AQ17>0,IF(Sorcadins!U$265>Sorcadins!U$269,MIN(Sorcadins!U$265,Sorcadins!U$263/AQ17),CELL(\"contents\",INDIRECT(ADDRESS(43+Sorcadins!U$21,ROUNDUP(5+MIN(20,AQ17),0),1,1,\"Caster Tables\")))),0)","v":0},{"$f":"IF(AR17>0,IF(Sorcadins!V$265>Sorcadins!V$269,MIN(Sorcadins!V$265,Sorcadins!V$263/AR17),CELL(\"contents\",INDIRECT(ADDRESS(43+Sorcadins!V$21,ROUNDUP(5+MIN(20,AR17),0),1,1,\"Caster Tables\")))),0)","v":0},{"$f":"IF(AS17>0,IF(Sorcadins!W$265>Sorcadins!W$269,MIN(Sorcadins!W$265,Sorcadins!W$263/AS17),CELL(\"contents\",INDIRECT(ADDRESS(43+Sorcadins!W$21,ROUNDUP(5+MIN(20,AS17),0),1,1,\"Caster Tables\")))),0)","v":0},{"$f":"IF(AT17>0,IF(Sorcadins!X$265>Sorcadins!X$269,MIN(Sorcadins!X$265,Sorcadins!X$263/AT17),CELL(\"contents\",INDIRECT(ADDRESS(43+Sorcadins!X$21,ROUNDUP(5+MIN(20,AT17),0),1,1,\"Caster Tables\")))),0)","v":0},null,0,{"$f":"IF(G17>=1,AB17/G17,0)","v":0},0,0,0,0,0,0,0,0,0,0,0,0,0,0,0,0,0,0,null,{"$f":"IF(AV17>0,MIN(AV17,MAX(0,IF(F17>=0,AV17,0)-SUM(DG$6:INDEX(DG:DG,5+$C17-1))/AA17)*BQ17),0)","v":0},{"$f":"IF(AW17>0,MIN(AW17,MAX(0,IF(G17>=0,AW17,0)-SUM(DH$6:INDEX(DH:DH,5+$C17-1))/AB17)*BR17),0)","v":0},{"$f":"IF(AX17>0,MIN(AX17,MAX(0,IF(H17>=0,AX17,0)-SUM(DI$6:INDEX(DI:DI,5+$C17-1))/AC17)*BS17),0)","v":0},{"$f":"IF(AY17>0,MIN(AY17,MAX(0,IF(I17>=0,AY17,0)-SUM(DJ$6:INDEX(DJ:DJ,5+$C17-1))/AD17)*BT17),0)","v":0},{"$f":"IF(AZ17>0,MIN(AZ17,MAX(0,IF(J17>=0,AZ17,0)-SUM(DK$6:INDEX(DK:DK,5+$C17-1))/AE17)*BU17),0)","v":0},{"$f":"IF(BA17>0,MIN(BA17,MAX(0,IF(K17>=0,BA17,0)-SUM(DL$6:INDEX(DL:DL,5+$C17-1))/AF17)*BV17),0)","v":0},{"$f":"IF(BB17>0,MIN(BB17,MAX(0,IF(L17>=0,BB17,0)-SUM(DM$6:INDEX(DM:DM,5+$C17-1))/AG17)*BW17),0)","v":0},{"$f":"IF(BC17>0,MIN(BC17,MAX(0,IF(M17>=0,BC17,0)-SUM(DN$6:INDEX(DN:DN,5+$C17-1))/AH17)*BX17),0)","v":0},{"$f":"IF(BD17>0,MIN(BD17,MAX(0,IF(N17>=0,BD17,0)-SUM(DO$6:INDEX(DO:DO,5+$C17-1))/AI17)*BY17),0)","v":0},{"$f":"IF(BE17>0,MIN(BE17,MAX(0,IF(O17>=0,BE17,0)-SUM(DP$6:INDEX(DP:DP,5+$C17-1))/AJ17)*BZ17),0)","v":0},{"$f":"IF(BF17>0,MIN(BF17,MAX(0,IF(P17>=0,BF17,0)-SUM(DQ$6:INDEX(DQ:DQ,5+$C17-1))/AK17)*CA17),0)","v":0},{"$f":"IF(BG17>0,MIN(BG17,MAX(0,IF(Q17>=0,BG17,0)-SUM(DR$6:INDEX(DR:DR,5+$C17-1))/AL17)*CB17),0)","v":0},{"$f":"IF(BH17>0,MIN(BH17,MAX(0,IF(R17>=0,BH17,0)-SUM(DS$6:INDEX(DS:DS,5+$C17-1))/AM17)*CC17),0)","v":0},{"$f":"IF(BI17>0,MIN(BI17,MAX(0,IF(S17>=0,BI17,0)-SUM(DT$6:INDEX(DT:DT,5+$C17-1))/AN17)*CD17),0)","v":0},{"$f":"IF(BJ17>0,MIN(BJ17,MAX(0,IF(T17>=0,BJ17,0)-SUM(DU$6:INDEX(DU:DU,5+$C17-1))/AO17)*CE17),0)","v":0},{"$f":"IF(BK17>0,MIN(BK17,MAX(0,IF(U17>=0,BK17,0)-SUM(DV$6:INDEX(DV:DV,5+$C17-1))/AP17)*CF17),0)","v":0},{"$f":"IF(BL17>0,MIN(BL17,MAX(0,IF(V17>=0,BL17,0)-SUM(DW$6:INDEX(DW:DW,5+$C17-1))/AQ17)*CG17),0)","v":0},{"$f":"IF(BM17>0,MIN(BM17,MAX(0,IF(W17>=0,BM17,0)-SUM(DX$6:INDEX(DX:DX,5+$C17-1))/AR17)*CH17),0)","v":0},{"$f":"IF(BN17>0,MIN(BN17,MAX(0,IF(X17>=0,BN17,0)-SUM(DY$6:INDEX(DY:DY,5+$C17-1))/AS17)*CI17),0)","v":0},{"$f":"IF(BO17>0,MIN(BO17,MAX(0,IF(Y17>=0,BO17,0)-SUM(DZ$6:INDEX(DZ:DZ,5+$C17-1))/AT17)*CJ17),0)","v":0},null,0,0,0,0,0,0,0,0,0,0,0,0,0,0,0,0,0,0,0,0,null,"Summon Celestial"]
[null,"Shadow Blade",13,"shadow blade (c) (bonus action)",{"$f":"MATCH($D18,INDEX(Sorcadins!$D:$D,$D$3):'Sorcadins'!$D1528,0)-1","v":6},{"$f":"IF(CELL(\"contents\",INDIRECT(ADDRESS($D$3+$E18,4+F$4,1,1,\"Sorcadins\")))>=1,CELL(\"contents\",INDIRECT(ADDRESS($D$3+$E18,4+F$4,1,1,\"Sorcadins\"))),0)","v":0},{"$f":"IF(CELL(\"contents\",INDIRECT(ADDRESS($D$3+$E18,4+G$4,1,1,\"Sorcadins\")))>=1,CELL(\"contents\",INDIRECT(ADDRESS($D$3+$E18,4+G$4,1,1,\"Sorcadins\"))),0)","v":0},{"$f":"IF(CELL(\"contents\",INDIRECT(ADDRESS($D$3+$E18,4+H$4,1,1,\"Sorcadins\")))>=1,CELL(\"contents\",INDIRECT(ADDRESS($D$3+$E18,4+H$4,1,1,\"Sorcadins\"))),0)","v":0},{"$f":"IF(CELL(\"contents\",INDIRECT(ADDRESS($D$3+$E18,4+I$4,1,1,\"Sorcadins\")))>=1,CELL(\"contents\",INDIRECT(ADDRESS($D$3+$E18,4+I$4,1,1,\"Sorcadins\"))),0)","v":0},{"$f":"IF(CELL(\"contents\",INDIRECT(ADDRESS($D$3+$E18,4+J$4,1,1,\"Sorcadins\")))>=1,CELL(\"contents\",INDIRECT(ADDRESS($D$3+$E18,4+J$4,1,1,\"Sorcadins\"))),0)","v":0},{"$f":"IF(CELL(\"contents\",INDIRECT(ADDRESS($D$3+$E18,4+K$4,1,1,\"Sorcadins\")))>=1,CELL(\"contents\",INDIRECT(ADDRESS($D$3+$E18,4+K$4,1,1,\"Sorcadins\"))),0)","v":0},{"$f":"IF(CELL(\"contents\",INDIRECT(ADDRESS($D$3+$E18,4+L$4,1,1,\"Sorcadins\")))>=1,CELL(\"contents\",INDIRECT(ADDRESS($D$3+$E18,4+L$4,1,1,\"Sorcadins\"))),0)","v":0},{"$f":"IF(CELL(\"contents\",INDIRECT(ADDRESS($D$3+$E18,4+M$4,1,1,\"Sorcadins\")))>=1,CELL(\"contents\",INDIRECT(ADDRESS($D$3+$E18,4+M$4,1,1,\"Sorcadins\"))),0)","v":0},{"$f":"IF(CELL(\"contents\",INDIRECT(ADDRESS($D$3+$E18,4+N$4,1,1,\"Sorcadins\")))>=1,CELL(\"contents\",INDIRECT(ADDRESS($D$3+$E18,4+N$4,1,1,\"Sorcadins\"))),0)","v":0},{"$f":"IF(CELL(\"contents\",INDIRECT(ADDRESS($D$3+$E18,4+O$4,1,1,\"Sorcadins\")))>=1,CELL(\"contents\",INDIRECT(ADDRESS($D$3+$E18,4+O$4,1,1,\"Sorcadins\"))),0)","v":0},{"$f":"IF(CELL(\"contents\",INDIRECT(ADDRESS($D$3+$E18,4+P$4,1,1,\"Sorcadins\")))>=1,CELL(\"contents\",INDIRECT(ADDRESS($D$3+$E18,4+P$4,1,1,\"Sorcadins\"))),0)","v":0},{"$f":"IF(CELL(\"contents\",INDIRECT(ADDRESS($D$3+$E18,4+Q$4,1,1,\"Sorcadins\")))>=1,CELL(\"contents\",INDIRECT(ADDRESS($D$3+$E18,4+Q$4,1,1,\"Sorcadins\"))),0)","v":0},{"$f":"IF(CELL(\"contents\",INDIRECT(ADDRESS($D$3+$E18,4+R$4,1,1,\"Sorcadins\")))>=1,CELL(\"contents\",INDIRECT(ADDRESS($D$3+$E18,4+R$4,1,1,\"Sorcadins\"))),0)","v":0},{"$f":"IF(CELL(\"contents\",INDIRECT(ADDRESS($D$3+$E18,4+S$4,1,1,\"Sorcadins\")))>=1,CELL(\"contents\",INDIRECT(ADDRESS($D$3+$E18,4+S$4,1,1,\"Sorcadins\"))),0)","v":0},{"$f":"IF(CELL(\"contents\",INDIRECT(ADDRESS($D$3+$E18,4+T$4,1,1,\"Sorcadins\")))>=1,CELL(\"contents\",INDIRECT(ADDRESS($D$3+$E18,4+T$4,1,1,\"Sorcadins\"))),0)","v":0},{"$f":"IF(CELL(\"contents\",INDIRECT(ADDRESS($D$3+$E18,4+U$4,1,1,\"Sorcadins\")))>=1,CELL(\"contents\",INDIRECT(ADDRESS($D$3+$E18,4+U$4,1,1,\"Sorcadins\"))),0)","v":0},{"$f":"IF(CELL(\"contents\",INDIRECT(ADDRESS($D$3+$E18,4+V$4,1,1,\"Sorcadins\")))>=1,CELL(\"contents\",INDIRECT(ADDRESS($D$3+$E18,4+V$4,1,1,\"Sorcadins\"))),0)","v":0},{"$f":"IF(CELL(\"contents\",INDIRECT(ADDRESS($D$3+$E18,4+W$4,1,1,\"Sorcadins\")))>=1,CELL(\"contents\",INDIRECT(ADDRESS($D$3+$E18,4+W$4,1,1,\"Sorcadins\"))),0)","v":0},{"$f":"IF(CELL(\"contents\",INDIRECT(ADDRESS($D$3+$E18,4+X$4,1,1,\"Sorcadins\")))>=1,CELL(\"contents\",INDIRECT(ADDRESS($D$3+$E18,4+X$4,1,1,\"Sorcadins\"))),0)","v":0},{"$f":"IF(CELL(\"contents\",INDIRECT(ADDRESS($D$3+$E18,4+Y$4,1,1,\"Sorcadins\")))>=1,CELL(\"contents\",INDIRECT(ADDRESS($D$3+$E18,4+Y$4,1,1,\"Sorcadins\"))),0)","v":0},null,{"$f":"SUM(F$6:INDEX(F:F,5+$C18))","v":0},{"$f":"SUM(G$6:INDEX(G:G,5+$C18))","v":0},{"$f":"SUM(H$6:INDEX(H:H,5+$C18))","v":0},{"$f":"SUM(I$6:INDEX(I:I,5+$C18))","v":0},{"$f":"SUM(J$6:INDEX(J:J,5+$C18))","v":0},{"$f":"SUM(K$6:INDEX(K:K,5+$C18))","v":0},{"$f":"SUM(L$6:INDEX(L:L,5+$C18))","v":0},{"$f":"SUM(M$6:INDEX(M:M,5+$C18))","v":0},{"$f":"SUM(N$6:INDEX(N:N,5+$C18))","v":0},{"$f":"SUM(O$6:INDEX(O:O,5+$C18))","v":0},{"$f":"SUM(P$6:INDEX(P:P,5+$C18))","v":0},{"$f":"SUM(Q$6:INDEX(Q:Q,5+$C18))","v":0},{"$f":"SUM(R$6:INDEX(R:R,5+$C18))","v":0},{"$f":"SUM(S$6:INDEX(S:S,5+$C18))","v":0},{"$f":"SUM(T$6:INDEX(T:T,5+$C18))","v":0},{"$f":"SUM(U$6:INDEX(U:U,5+$C18))","v":0},{"$f":"SUM(V$6:INDEX(V:V,5+$C18))","v":0},{"$f":"SUM(W$6:INDEX(W:W,5+$C18))","v":0},{"$f":"SUM(X$6:INDEX(X:X,5+$C18))","v":0},{"$f":"SUM(Y$6:INDEX(Y:Y,5+$C18))","v":0},null,{"$f":"IF(AA18>0,IF(Sorcadins!E$265>Sorcadins!E$269,MIN(Sorcadins!E$265,Sorcadins!E$263/AA18),CELL(\"contents\",INDIRECT(ADDRESS(43+Sorcadins!E$21,ROUNDUP(5+MIN(20,AA18),0),1,1,\"Caster Tables\")))),0)","v":0},{"$f":"IF(AB18>0,IF(Sorcadins!F$265>Sorcadins!F$269,MIN(Sorcadins!F$265,Sorcadins!F$263/AB18),CELL(\"contents\",INDIRECT(ADDRESS(43+Sorcadins!F$21,ROUNDUP(5+MIN(20,AB18),0),1,1,\"Caster Tables\")))),0)","v":0},{"$f":"IF(AC18>0,IF(Sorcadins!G$265>Sorcadins!G$269,MIN(Sorcadins!G$265,Sorcadins!G$263/AC18),CELL(\"contents\",INDIRECT(ADDRESS(43+Sorcadins!G$21,ROUNDUP(5+MIN(20,AC18),0),1,1,\"Caster Tables\")))),0)","v":0},{"$f":"IF(AD18>0,IF(Sorcadins!H$265>Sorcadins!H$269,MIN(Sorcadins!H$265,Sorcadins!H$263/AD18),CELL(\"contents\",INDIRECT(ADDRESS(43+Sorcadins!H$21,ROUNDUP(5+MIN(20,AD18),0),1,1,\"Caster Tables\")))),0)","v":0},{"$f":"IF(AE18>0,IF(Sorcadins!I$265>Sorcadins!I$269,MIN(Sorcadins!I$265,Sorcadins!I$263/AE18),CELL(\"contents\",INDIRECT(ADDRESS(43+Sorcadins!I$21,ROUNDUP(5+MIN(20,AE18),0),1,1,\"Caster Tables\")))),0)","v":0},{"$f":"IF(AF18>0,IF(Sorcadins!J$265>Sorcadins!J$269,MIN(Sorcadins!J$265,Sorcadins!J$263/AF18),CELL(\"contents\",INDIRECT(ADDRESS(43+Sorcadins!J$21,ROUNDUP(5+MIN(20,AF18),0),1,1,\"Caster Tables\")))),0)","v":0},{"$f":"IF(AG18>0,IF(Sorcadins!K$265>Sorcadins!K$269,MIN(Sorcadins!K$265,Sorcadins!K$263/AG18),CELL(\"contents\",INDIRECT(ADDRESS(43+Sorcadins!K$21,ROUNDUP(5+MIN(20,AG18),0),1,1,\"Caster Tables\")))),0)","v":0},{"$f":"IF(AH18>0,IF(Sorcadins!L$265>Sorcadins!L$269,MIN(Sorcadins!L$265,Sorcadins!L$263/AH18),CELL(\"contents\",INDIRECT(ADDRESS(43+Sorcadins!L$21,ROUNDUP(5+MIN(20,AH18),0),1,1,\"Caster Tables\")))),0)","v":0},{"$f":"IF(AI18>0,IF(Sorcadins!M$265>Sorcadins!M$269,MIN(Sorcadins!M$265,Sorcadins!M$263/AI18),CELL(\"contents\",INDIRECT(ADDRESS(43+Sorcadins!M$21,ROUNDUP(5+MIN(20,AI18),0),1,1,\"Caster Tables\")))),0)","v":0},{"$f":"IF(AJ18>0,IF(Sorcadins!N$265>Sorcadins!N$269,MIN(Sorcadins!N$265,Sorcadins!N$263/AJ18),CELL(\"contents\",INDIRECT(ADDRESS(43+Sorcadins!N$21,ROUNDUP(5+MIN(20,AJ18),0),1,1,\"Caster Tables\")))),0)","v":0},{"$f":"IF(AK18>0,IF(Sorcadins!O$265>Sorcadins!O$269,MIN(Sorcadins!O$265,Sorcadins!O$263/AK18),CELL(\"contents\",INDIRECT(ADDRESS(43+Sorcadins!O$21,ROUNDUP(5+MIN(20,AK18),0),1,1,\"Caster Tables\")))),0)","v":0},{"$f":"IF(AL18>0,IF(Sorcadins!P$265>Sorcadins!P$269,MIN(Sorcadins!P$265,Sorcadins!P$263/AL18),CELL(\"contents\",INDIRECT(ADDRESS(43+Sorcadins!P$21,ROUNDUP(5+MIN(20,AL18),0),1,1,\"Caster Tables\")))),0)","v":0},{"$f":"IF(AM18>0,IF(Sorcadins!Q$265>Sorcadins!Q$269,MIN(Sorcadins!Q$265,Sorcadins!Q$263/AM18),CELL(\"contents\",INDIRECT(ADDRESS(43+Sorcadins!Q$21,ROUNDUP(5+MIN(20,AM18),0),1,1,\"Caster Tables\")))),0)","v":0},{"$f":"IF(AN18>0,IF(Sorcadins!R$265>Sorcadins!R$269,MIN(Sorcadins!R$265,Sorcadins!R$263/AN18),CELL(\"contents\",INDIRECT(ADDRESS(43+Sorcadins!R$21,ROUNDUP(5+MIN(20,AN18),0),1,1,\"Caster Tables\")))),0)","v":0},{"$f":"IF(AO18>0,IF(Sorcadins!S$265>Sorcadins!S$269,MIN(Sorcadins!S$265,Sorcadins!S$263/AO18),CELL(\"contents\",INDIRECT(ADDRESS(43+Sorcadins!S$21,ROUNDUP(5+MIN(20,AO18),0),1,1,\"Caster Tables\")))),0)","v":0},{"$f":"IF(AP18>0,IF(Sorcadins!T$265>Sorcadins!T$269,MIN(Sorcadins!T$265,Sorcadins!T$263/AP18),CELL(\"contents\",INDIRECT(ADDRESS(43+Sorcadins!T$21,ROUNDUP(5+MIN(20,AP18),0),1,1,\"Caster Tables\")))),0)","v":0},{"$f":"IF(AQ18>0,IF(Sorcadins!U$265>Sorcadins!U$269,MIN(Sorcadins!U$265,Sorcadins!U$263/AQ18),CELL(\"contents\",INDIRECT(ADDRESS(43+Sorcadins!U$21,ROUNDUP(5+MIN(20,AQ18),0),1,1,\"Caster Tables\")))),0)","v":0},{"$f":"IF(AR18>0,IF(Sorcadins!V$265>Sorcadins!V$269,MIN(Sorcadins!V$265,Sorcadins!V$263/AR18),CELL(\"contents\",INDIRECT(ADDRESS(43+Sorcadins!V$21,ROUNDUP(5+MIN(20,AR18),0),1,1,\"Caster Tables\")))),0)","v":0},{"$f":"IF(AS18>0,IF(Sorcadins!W$265>Sorcadins!W$269,MIN(Sorcadins!W$265,Sorcadins!W$263/AS18),CELL(\"contents\",INDIRECT(ADDRESS(43+Sorcadins!W$21,ROUNDUP(5+MIN(20,AS18),0),1,1,\"Caster Tables\")))),0)","v":0},{"$f":"IF(AT18>0,IF(Sorcadins!X$265>Sorcadins!X$269,MIN(Sorcadins!X$265,Sorcadins!X$263/AT18),CELL(\"contents\",INDIRECT(ADDRESS(43+Sorcadins!X$21,ROUNDUP(5+MIN(20,AT18),0),1,1,\"Caster Tables\")))),0)","v":0},null,{"$f":"IF(F18>=1,AA18/F18,0)","v":0},0,0,0,0,0,0,0,0,0,{"$f":"IF(P18>=1,AK18/P18,0)","v":0},0,0,0,0,0,0,0,0,0,null,{"$f":"IF(AV18>0,MIN(AV18,MAX(0,IF(F18>=0,AV18,0)-SUM(DG$6:INDEX(DG:DG,5+$C18-1))/AA18)*BQ18),0)","v":0},{"$f":"IF(AW18>0,MIN(AW18,MAX(0,IF(G18>=0,AW18,0)-SUM(DH$6:INDEX(DH:DH,5+$C18-1))/AB18)*BR18),0)","v":0},{"$f":"IF(AX18>0,MIN(AX18,MAX(0,IF(H18>=0,AX18,0)-SUM(DI$6:INDEX(DI:DI,5+$C18-1))/AC18)*BS18),0)","v":0},{"$f":"IF(AY18>0,MIN(AY18,MAX(0,IF(I18>=0,AY18,0)-SUM(DJ$6:INDEX(DJ:DJ,5+$C18-1))/AD18)*BT18),0)","v":0},{"$f":"IF(AZ18>0,MIN(AZ18,MAX(0,IF(J18>=0,AZ18,0)-SUM(DK$6:INDEX(DK:DK,5+$C18-1))/AE18)*BU18),0)","v":0},{"$f":"IF(BA18>0,MIN(BA18,MAX(0,IF(K18>=0,BA18,0)-SUM(DL$6:INDEX(DL:DL,5+$C18-1))/AF18)*BV18),0)","v":0},{"$f":"IF(BB18>0,MIN(BB18,MAX(0,IF(L18>=0,BB18,0)-SUM(DM$6:INDEX(DM:DM,5+$C18-1))/AG18)*BW18),0)","v":0},{"$f":"IF(BC18>0,MIN(BC18,MAX(0,IF(M18>=0,BC18,0)-SUM(DN$6:INDEX(DN:DN,5+$C18-1))/AH18)*BX18),0)","v":0},{"$f":"IF(BD18>0,MIN(BD18,MAX(0,IF(N18>=0,BD18,0)-SUM(DO$6:INDEX(DO:DO,5+$C18-1))/AI18)*BY18),0)","v":0},{"$f":"IF(BE18>0,MIN(BE18,MAX(0,IF(O18>=0,BE18,0)-SUM(DP$6:INDEX(DP:DP,5+$C18-1))/AJ18)*BZ18),0)","v":0},{"$f":"IF(BF18>0,MIN(BF18,MAX(0,IF(P18>=0,BF18,0)-SUM(DQ$6:INDEX(DQ:DQ,5+$C18-1))/AK18)*CA18),0)","v":0},{"$f":"IF(BG18>0,MIN(BG18,MAX(0,IF(Q18>=0,BG18,0)-SUM(DR$6:INDEX(DR:DR,5+$C18-1))/AL18)*CB18),0)","v":0},{"$f":"IF(BH18>0,MIN(BH18,MAX(0,IF(R18>=0,BH18,0)-SUM(DS$6:INDEX(DS:DS,5+$C18-1))/AM18)*CC18),0)","v":0},{"$f":"IF(BI18>0,MIN(BI18,MAX(0,IF(S18>=0,BI18,0)-SUM(DT$6:INDEX(DT:DT,5+$C18-1))/AN18)*CD18),0)","v":0},{"$f":"IF(BJ18>0,MIN(BJ18,MAX(0,IF(T18>=0,BJ18,0)-SUM(DU$6:INDEX(DU:DU,5+$C18-1))/AO18)*CE18),0)","v":0},{"$f":"IF(BK18>0,MIN(BK18,MAX(0,IF(U18>=0,BK18,0)-SUM(DV$6:INDEX(DV:DV,5+$C18-1))/AP18)*CF18),0)","v":0},{"$f":"IF(BL18>0,MIN(BL18,MAX(0,IF(V18>=0,BL18,0)-SUM(DW$6:INDEX(DW:DW,5+$C18-1))/AQ18)*CG18),0)","v":0},{"$f":"IF(BM18>0,MIN(BM18,MAX(0,IF(W18>=0,BM18,0)-SUM(DX$6:INDEX(DX:DX,5+$C18-1))/AR18)*CH18),0)","v":0},{"$f":"IF(BN18>0,MIN(BN18,MAX(0,IF(X18>=0,BN18,0)-SUM(DY$6:INDEX(DY:DY,5+$C18-1))/AS18)*CI18),0)","v":0},{"$f":"IF(BO18>0,MIN(BO18,MAX(0,IF(Y18>=0,BO18,0)-SUM(DZ$6:INDEX(DZ:DZ,5+$C18-1))/AT18)*CJ18),0)","v":0},null,{"$f":"F18*CL18","v":0},0,0,0,0,0,0,0,0,0,{"$f":"P18*CV18","v":0},0,0,0,0,0,0,0,0,0,null,"Shadow Blade"]
[null,"Flaming Sphere",14,"flaming sphere casts (c)",{"$f":"MATCH($D19,INDEX(Sorcadins!$D:$D,$D$3):'Sorcadins'!$D1529,0)-1","v":24},{"$f":"IF(CELL(\"contents\",INDIRECT(ADDRESS($D$3+$E19,4+F$4,1,1,\"Sorcadins\")))>=1,CELL(\"contents\",INDIRECT(ADDRESS($D$3+$E19,4+F$4,1,1,\"Sorcadins\"))),0)","v":0},{"$f":"IF(CELL(\"contents\",INDIRECT(ADDRESS($D$3+$E19,4+G$4,1,1,\"Sorcadins\")))>=1,CELL(\"contents\",INDIRECT(ADDRESS($D$3+$E19,4+G$4,1,1,\"Sorcadins\"))),0)","v":0},{"$f":"IF(CELL(\"contents\",INDIRECT(ADDRESS($D$3+$E19,4+H$4,1,1,\"Sorcadins\")))>=1,CELL(\"contents\",INDIRECT(ADDRESS($D$3+$E19,4+H$4,1,1,\"Sorcadins\"))),0)","v":0},{"$f":"IF(CELL(\"contents\",INDIRECT(ADDRESS($D$3+$E19,4+I$4,1,1,\"Sorcadins\")))>=1,CELL(\"contents\",INDIRECT(ADDRESS($D$3+$E19,4+I$4,1,1,\"Sorcadins\"))),0)","v":0},{"$f":"IF(CELL(\"contents\",INDIRECT(ADDRESS($D$3+$E19,4+J$4,1,1,\"Sorcadins\")))>=1,CELL(\"contents\",INDIRECT(ADDRESS($D$3+$E19,4+J$4,1,1,\"Sorcadins\"))),0)","v":0},{"$f":"IF(CELL(\"contents\",INDIRECT(ADDRESS($D$3+$E19,4+K$4,1,1,\"Sorcadins\")))>=1,CELL(\"contents\",INDIRECT(ADDRESS($D$3+$E19,4+K$4,1,1,\"Sorcadins\"))),0)","v":0},{"$f":"IF(CELL(\"contents\",INDIRECT(ADDRESS($D$3+$E19,4+L$4,1,1,\"Sorcadins\")))>=1,CELL(\"contents\",INDIRECT(ADDRESS($D$3+$E19,4+L$4,1,1,\"Sorcadins\"))),0)","v":0},{"$f":"IF(CELL(\"contents\",INDIRECT(ADDRESS($D$3+$E19,4+M$4,1,1,\"Sorcadins\")))>=1,CELL(\"contents\",INDIRECT(ADDRESS($D$3+$E19,4+M$4,1,1,\"Sorcadins\"))),0)","v":0},{"$f":"IF(CELL(\"contents\",INDIRECT(ADDRESS($D$3+$E19,4+N$4,1,1,\"Sorcadins\")))>=1,CELL(\"contents\",INDIRECT(ADDRESS($D$3+$E19,4+N$4,1,1,\"Sorcadins\"))),0)","v":0},{"$f":"IF(CELL(\"contents\",INDIRECT(ADDRESS($D$3+$E19,4+O$4,1,1,\"Sorcadins\")))>=1,CELL(\"contents\",INDIRECT(ADDRESS($D$3+$E19,4+O$4,1,1,\"Sorcadins\"))),0)","v":0},{"$f":"IF(CELL(\"contents\",INDIRECT(ADDRESS($D$3+$E19,4+P$4,1,1,\"Sorcadins\")))>=1,CELL(\"contents\",INDIRECT(ADDRESS($D$3+$E19,4+P$4,1,1,\"Sorcadins\"))),0)","v":0},{"$f":"IF(CELL(\"contents\",INDIRECT(ADDRESS($D$3+$E19,4+Q$4,1,1,\"Sorcadins\")))>=1,CELL(\"contents\",INDIRECT(ADDRESS($D$3+$E19,4+Q$4,1,1,\"Sorcadins\"))),0)","v":0},{"$f":"IF(CELL(\"contents\",INDIRECT(ADDRESS($D$3+$E19,4+R$4,1,1,\"Sorcadins\")))>=1,CELL(\"contents\",INDIRECT(ADDRESS($D$3+$E19,4+R$4,1,1,\"Sorcadins\"))),0)","v":0},{"$f":"IF(CELL(\"contents\",INDIRECT(ADDRESS($D$3+$E19,4+S$4,1,1,\"Sorcadins\")))>=1,CELL(\"contents\",INDIRECT(ADDRESS($D$3+$E19,4+S$4,1,1,\"Sorcadins\"))),0)","v":0},{"$f":"IF(CELL(\"contents\",INDIRECT(ADDRESS($D$3+$E19,4+T$4,1,1,\"Sorcadins\")))>=1,CELL(\"contents\",INDIRECT(ADDRESS($D$3+$E19,4+T$4,1,1,\"Sorcadins\"))),0)","v":0},{"$f":"IF(CELL(\"contents\",INDIRECT(ADDRESS($D$3+$E19,4+U$4,1,1,\"Sorcadins\")))>=1,CELL(\"contents\",INDIRECT(ADDRESS($D$3+$E19,4+U$4,1,1,\"Sorcadins\"))),0)","v":0},{"$f":"IF(CELL(\"contents\",INDIRECT(ADDRESS($D$3+$E19,4+V$4,1,1,\"Sorcadins\")))>=1,CELL(\"contents\",INDIRECT(ADDRESS($D$3+$E19,4+V$4,1,1,\"Sorcadins\"))),0)","v":0},{"$f":"IF(CELL(\"contents\",INDIRECT(ADDRESS($D$3+$E19,4+W$4,1,1,\"Sorcadins\")))>=1,CELL(\"contents\",INDIRECT(ADDRESS($D$3+$E19,4+W$4,1,1,\"Sorcadins\"))),0)","v":0},{"$f":"IF(CELL(\"contents\",INDIRECT(ADDRESS($D$3+$E19,4+X$4,1,1,\"Sorcadins\")))>=1,CELL(\"contents\",INDIRECT(ADDRESS($D$3+$E19,4+X$4,1,1,\"Sorcadins\"))),0)","v":0},{"$f":"IF(CELL(\"contents\",INDIRECT(ADDRESS($D$3+$E19,4+Y$4,1,1,\"Sorcadins\")))>=1,CELL(\"contents\",INDIRECT(ADDRESS($D$3+$E19,4+Y$4,1,1,\"Sorcadins\"))),0)","v":0},null,{"$f":"SUM(F$6:INDEX(F:F,5+$C19))","v":0},{"$f":"SUM(G$6:INDEX(G:G,5+$C19))","v":0},{"$f":"SUM(H$6:INDEX(H:H,5+$C19))","v":0},{"$f":"SUM(I$6:INDEX(I:I,5+$C19))","v":0},{"$f":"SUM(J$6:INDEX(J:J,5+$C19))","v":0},{"$f":"SUM(K$6:INDEX(K:K,5+$C19))","v":0},{"$f":"SUM(L$6:INDEX(L:L,5+$C19))","v":0},{"$f":"SUM(M$6:INDEX(M:M,5+$C19))","v":0},{"$f":"SUM(N$6:INDEX(N:N,5+$C19))","v":0},{"$f":"SUM(O$6:INDEX(O:O,5+$C19))","v":0},{"$f":"SUM(P$6:INDEX(P:P,5+$C19))","v":0},{"$f":"SUM(Q$6:INDEX(Q:Q,5+$C19))","v":0},{"$f":"SUM(R$6:INDEX(R:R,5+$C19))","v":0},{"$f":"SUM(S$6:INDEX(S:S,5+$C19))","v":0},{"$f":"SUM(T$6:INDEX(T:T,5+$C19))","v":0},{"$f":"SUM(U$6:INDEX(U:U,5+$C19))","v":0},{"$f":"SUM(V$6:INDEX(V:V,5+$C19))","v":0},{"$f":"SUM(W$6:INDEX(W:W,5+$C19))","v":0},{"$f":"SUM(X$6:INDEX(X:X,5+$C19))","v":0},{"$f":"SUM(Y$6:INDEX(Y:Y,5+$C19))","v":0},null,{"$f":"IF(AA19>0,IF(Sorcadins!E$265>Sorcadins!E$269,MIN(Sorcadins!E$265,Sorcadins!E$263/AA19),CELL(\"contents\",INDIRECT(ADDRESS(43+Sorcadins!E$21,ROUNDUP(5+MIN(20,AA19),0),1,1,\"Caster Tables\")))),0)","v":0},{"$f":"IF(AB19>0,IF(Sorcadins!F$265>Sorcadins!F$269,MIN(Sorcadins!F$265,Sorcadins!F$263/AB19),CELL(\"contents\",INDIRECT(ADDRESS(43+Sorcadins!F$21,ROUNDUP(5+MIN(20,AB19),0),1,1,\"Caster Tables\")))),0)","v":0},{"$f":"IF(AC19>0,IF(Sorcadins!G$265>Sorcadins!G$269,MIN(Sorcadins!G$265,Sorcadins!G$263/AC19),CELL(\"contents\",INDIRECT(ADDRESS(43+Sorcadins!G$21,ROUNDUP(5+MIN(20,AC19),0),1,1,\"Caster Tables\")))),0)","v":0},{"$f":"IF(AD19>0,IF(Sorcadins!H$265>Sorcadins!H$269,MIN(Sorcadins!H$265,Sorcadins!H$263/AD19),CELL(\"contents\",INDIRECT(ADDRESS(43+Sorcadins!H$21,ROUNDUP(5+MIN(20,AD19),0),1,1,\"Caster Tables\")))),0)","v":0},{"$f":"IF(AE19>0,IF(Sorcadins!I$265>Sorcadins!I$269,MIN(Sorcadins!I$265,Sorcadins!I$263/AE19),CELL(\"contents\",INDIRECT(ADDRESS(43+Sorcadins!I$21,ROUNDUP(5+MIN(20,AE19),0),1,1,\"Caster Tables\")))),0)","v":0},{"$f":"IF(AF19>0,IF(Sorcadins!J$265>Sorcadins!J$269,MIN(Sorcadins!J$265,Sorcadins!J$263/AF19),CELL(\"contents\",INDIRECT(ADDRESS(43+Sorcadins!J$21,ROUNDUP(5+MIN(20,AF19),0),1,1,\"Caster Tables\")))),0)","v":0},{"$f":"IF(AG19>0,IF(Sorcadins!K$265>Sorcadins!K$269,MIN(Sorcadins!K$265,Sorcadins!K$263/AG19),CELL(\"contents\",INDIRECT(ADDRESS(43+Sorcadins!K$21,ROUNDUP(5+MIN(20,AG19),0),1,1,\"Caster Tables\")))),0)","v":0},{"$f":"IF(AH19>0,IF(Sorcadins!L$265>Sorcadins!L$269,MIN(Sorcadins!L$265,Sorcadins!L$263/AH19),CELL(\"contents\",INDIRECT(ADDRESS(43+Sorcadins!L$21,ROUNDUP(5+MIN(20,AH19),0),1,1,\"Caster Tables\")))),0)","v":0},{"$f":"IF(AI19>0,IF(Sorcadins!M$265>Sorcadins!M$269,MIN(Sorcadins!M$265,Sorcadins!M$263/AI19),CELL(\"contents\",INDIRECT(ADDRESS(43+Sorcadins!M$21,ROUNDUP(5+MIN(20,AI19),0),1,1,\"Caster Tables\")))),0)","v":0},{"$f":"IF(AJ19>0,IF(Sorcadins!N$265>Sorcadins!N$269,MIN(Sorcadins!N$265,Sorcadins!N$263/AJ19),CELL(\"contents\",INDIRECT(ADDRESS(43+Sorcadins!N$21,ROUNDUP(5+MIN(20,AJ19),0),1,1,\"Caster Tables\")))),0)","v":0},{"$f":"IF(AK19>0,IF(Sorcadins!O$265>Sorcadins!O$269,MIN(Sorcadins!O$265,Sorcadins!O$263/AK19),CELL(\"contents\",INDIRECT(ADDRESS(43+Sorcadins!O$21,ROUNDUP(5+MIN(20,AK19),0),1,1,\"Caster Tables\")))),0)","v":0},{"$f":"IF(AL19>0,IF(Sorcadins!P$265>Sorcadins!P$269,MIN(Sorcadins!P$265,Sorcadins!P$263/AL19),CELL(\"contents\",INDIRECT(ADDRESS(43+Sorcadins!P$21,ROUNDUP(5+MIN(20,AL19),0),1,1,\"Caster Tables\")))),0)","v":0},{"$f":"IF(AM19>0,IF(Sorcadins!Q$265>Sorcadins!Q$269,MIN(Sorcadins!Q$265,Sorcadins!Q$263/AM19),CELL(\"contents\",INDIRECT(ADDRESS(43+Sorcadins!Q$21,ROUNDUP(5+MIN(20,AM19),0),1,1,\"Caster Tables\")))),0)","v":0},{"$f":"IF(AN19>0,IF(Sorcadins!R$265>Sorcadins!R$269,MIN(Sorcadins!R$265,Sorcadins!R$263/AN19),CELL(\"contents\",INDIRECT(ADDRESS(43+Sorcadins!R$21,ROUNDUP(5+MIN(20,AN19),0),1,1,\"Caster Tables\")))),0)","v":0},{"$f":"IF(AO19>0,IF(Sorcadins!S$265>Sorcadins!S$269,MIN(Sorcadins!S$265,Sorcadins!S$263/AO19),CELL(\"contents\",INDIRECT(ADDRESS(43+Sorcadins!S$21,ROUNDUP(5+MIN(20,AO19),0),1,1,\"Caster Tables\")))),0)","v":0},{"$f":"IF(AP19>0,IF(Sorcadins!T$265>Sorcadins!T$269,MIN(Sorcadins!T$265,Sorcadins!T$263/AP19),CELL(\"contents\",INDIRECT(ADDRESS(43+Sorcadins!T$21,ROUNDUP(5+MIN(20,AP19),0),1,1,\"Caster Tables\")))),0)","v":0},{"$f":"IF(AQ19>0,IF(Sorcadins!U$265>Sorcadins!U$269,MIN(Sorcadins!U$265,Sorcadins!U$263/AQ19),CELL(\"contents\",INDIRECT(ADDRESS(43+Sorcadins!U$21,ROUNDUP(5+MIN(20,AQ19),0),1,1,\"Caster Tables\")))),0)","v":0},{"$f":"IF(AR19>0,IF(Sorcadins!V$265>Sorcadins!V$269,MIN(Sorcadins!V$265,Sorcadins!V$263/AR19),CELL(\"contents\",INDIRECT(ADDRESS(43+Sorcadins!V$21,ROUNDUP(5+MIN(20,AR19),0),1,1,\"Caster Tables\")))),0)","v":0},{"$f":"IF(AS19>0,IF(Sorcadins!W$265>Sorcadins!W$269,MIN(Sorcadins!W$265,Sorcadins!W$263/AS19),CELL(\"contents\",INDIRECT(ADDRESS(43+Sorcadins!W$21,ROUNDUP(5+MIN(20,AS19),0),1,1,\"Caster Tables\")))),0)","v":0},{"$f":"IF(AT19>0,IF(Sorcadins!X$265>Sorcadins!X$269,MIN(Sorcadins!X$265,Sorcadins!X$263/AT19),CELL(\"contents\",INDIRECT(ADDRESS(43+Sorcadins!X$21,ROUNDUP(5+MIN(20,AT19),0),1,1,\"Caster Tables\")))),0)","v":0},null,0,0,0,0,0,0,0,0,0,0,0,0,0,0,0,0,0,0,0,0,null,{"$f":"IF(AV19>0,MIN(AV19,MAX(0,IF(F19>=0,AV19,0)-SUM(DG$6:INDEX(DG:DG,5+$C19-1))/AA19)*BQ19),0)","v":0},{"$f":"IF(AW19>0,MIN(AW19,MAX(0,IF(G19>=0,AW19,0)-SUM(DH$6:INDEX(DH:DH,5+$C19-1))/AB19)*BR19),0)","v":0},{"$f":"IF(AX19>0,MIN(AX19,MAX(0,IF(H19>=0,AX19,0)-SUM(DI$6:INDEX(DI:DI,5+$C19-1))/AC19)*BS19),0)","v":0},{"$f":"IF(AY19>0,MIN(AY19,MAX(0,IF(I19>=0,AY19,0)-SUM(DJ$6:INDEX(DJ:DJ,5+$C19-1))/AD19)*BT19),0)","v":0},{"$f":"IF(AZ19>0,MIN(AZ19,MAX(0,IF(J19>=0,AZ19,0)-SUM(DK$6:INDEX(DK:DK,5+$C19-1))/AE19)*BU19),0)","v":0},{"$f":"IF(BA19>0,MIN(BA19,MAX(0,IF(K19>=0,BA19,0)-SUM(DL$6:INDEX(DL:DL,5+$C19-1))/AF19)*BV19),0)","v":0},{"$f":"IF(BB19>0,MIN(BB19,MAX(0,IF(L19>=0,BB19,0)-SUM(DM$6:INDEX(DM:DM,5+$C19-1))/AG19)*BW19),0)","v":0},{"$f":"IF(BC19>0,MIN(BC19,MAX(0,IF(M19>=0,BC19,0)-SUM(DN$6:INDEX(DN:DN,5+$C19-1))/AH19)*BX19),0)","v":0},{"$f":"IF(BD19>0,MIN(BD19,MAX(0,IF(N19>=0,BD19,0)-SUM(DO$6:INDEX(DO:DO,5+$C19-1))/AI19)*BY19),0)","v":0},{"$f":"IF(BE19>0,MIN(BE19,MAX(0,IF(O19>=0,BE19,0)-SUM(DP$6:INDEX(DP:DP,5+$C19-1))/AJ19)*BZ19),0)","v":0},{"$f":"IF(BF19>0,MIN(BF19,MAX(0,IF(P19>=0,BF19,0)-SUM(DQ$6:INDEX(DQ:DQ,5+$C19-1))/AK19)*CA19),0)","v":0},{"$f":"IF(BG19>0,MIN(BG19,MAX(0,IF(Q19>=0,BG19,0)-SUM(DR$6:INDEX(DR:DR,5+$C19-1))/AL19)*CB19),0)","v":0},{"$f":"IF(BH19>0,MIN(BH19,MAX(0,IF(R19>=0,BH19,0)-SUM(DS$6:INDEX(DS:DS,5+$C19-1))/AM19)*CC19),0)","v":0},{"$f":"IF(BI19>0,MIN(BI19,MAX(0,IF(S19>=0,BI19,0)-SUM(DT$6:INDEX(DT:DT,5+$C19-1))/AN19)*CD19),0)","v":0},{"$f":"IF(BJ19>0,MIN(BJ19,MAX(0,IF(T19>=0,BJ19,0)-SUM(DU$6:INDEX(DU:DU,5+$C19-1))/AO19)*CE19),0)","v":0},{"$f":"IF(BK19>0,MIN(BK19,MAX(0,IF(U19>=0,BK19,0)-SUM(DV$6:INDEX(DV:DV,5+$C19-1))/AP19)*CF19),0)","v":0},{"$f":"IF(BL19>0,MIN(BL19,MAX(0,IF(V19>=0,BL19,0)-SUM(DW$6:INDEX(DW:DW,5+$C19-1))/AQ19)*CG19),0)","v":0},{"$f":"IF(BM19>0,MIN(BM19,MAX(0,IF(W19>=0,BM19,0)-SUM(DX$6:INDEX(DX:DX,5+$C19-1))/AR19)*CH19),0)","v":0},{"$f":"IF(BN19>0,MIN(BN19,MAX(0,IF(X19>=0,BN19,0)-SUM(DY$6:INDEX(DY:DY,5+$C19-1))/AS19)*CI19),0)","v":0},{"$f":"IF(BO19>0,MIN(BO19,MAX(0,IF(Y19>=0,BO19,0)-SUM(DZ$6:INDEX(DZ:DZ,5+$C19-1))/AT19)*CJ19),0)","v":0},null,0,0,0,0,0,0,0,0,0,0,0,0,0,0,0,0,0,0,0,0,null,"Flaming Sphere"]
[null,"Guiding Bolt",15,"guiding bolt casts (cleric, druid of stars) : AE",{"$f":"MATCH($D20,INDEX(Sorcadins!$D:$D,$D$3):'Sorcadins'!$D1530,0)-1","v":1},{"$f":"IF(CELL(\"contents\",INDIRECT(ADDRESS($D$3+$E20,4+F$4,1,1,\"Sorcadins\")))>=1,CELL(\"contents\",INDIRECT(ADDRESS($D$3+$E20,4+F$4,1,1,\"Sorcadins\"))),0)","v":0},{"$f":"IF(CELL(\"contents\",INDIRECT(ADDRESS($D$3+$E20,4+G$4,1,1,\"Sorcadins\")))>=1,CELL(\"contents\",INDIRECT(ADDRESS($D$3+$E20,4+G$4,1,1,\"Sorcadins\"))),0)","v":0},{"$f":"IF(CELL(\"contents\",INDIRECT(ADDRESS($D$3+$E20,4+H$4,1,1,\"Sorcadins\")))>=1,CELL(\"contents\",INDIRECT(ADDRESS($D$3+$E20,4+H$4,1,1,\"Sorcadins\"))),0)","v":0},{"$f":"IF(CELL(\"contents\",INDIRECT(ADDRESS($D$3+$E20,4+I$4,1,1,\"Sorcadins\")))>=1,CELL(\"contents\",INDIRECT(ADDRESS($D$3+$E20,4+I$4,1,1,\"Sorcadins\"))),0)","v":0},{"$f":"IF(CELL(\"contents\",INDIRECT(ADDRESS($D$3+$E20,4+J$4,1,1,\"Sorcadins\")))>=1,CELL(\"contents\",INDIRECT(ADDRESS($D$3+$E20,4+J$4,1,1,\"Sorcadins\"))),0)","v":0},{"$f":"IF(CELL(\"contents\",INDIRECT(ADDRESS($D$3+$E20,4+K$4,1,1,\"Sorcadins\")))>=1,CELL(\"contents\",INDIRECT(ADDRESS($D$3+$E20,4+K$4,1,1,\"Sorcadins\"))),0)","v":0},{"$f":"IF(CELL(\"contents\",INDIRECT(ADDRESS($D$3+$E20,4+L$4,1,1,\"Sorcadins\")))>=1,CELL(\"contents\",INDIRECT(ADDRESS($D$3+$E20,4+L$4,1,1,\"Sorcadins\"))),0)","v":0},{"$f":"IF(CELL(\"contents\",INDIRECT(ADDRESS($D$3+$E20,4+M$4,1,1,\"Sorcadins\")))>=1,CELL(\"contents\",INDIRECT(ADDRESS($D$3+$E20,4+M$4,1,1,\"Sorcadins\"))),0)","v":0},{"$f":"IF(CELL(\"contents\",INDIRECT(ADDRESS($D$3+$E20,4+N$4,1,1,\"Sorcadins\")))>=1,CELL(\"contents\",INDIRECT(ADDRESS($D$3+$E20,4+N$4,1,1,\"Sorcadins\"))),0)","v":0},{"$f":"IF(CELL(\"contents\",INDIRECT(ADDRESS($D$3+$E20,4+O$4,1,1,\"Sorcadins\")))>=1,CELL(\"contents\",INDIRECT(ADDRESS($D$3+$E20,4+O$4,1,1,\"Sorcadins\"))),0)","v":0},{"$f":"IF(CELL(\"contents\",INDIRECT(ADDRESS($D$3+$E20,4+P$4,1,1,\"Sorcadins\")))>=1,CELL(\"contents\",INDIRECT(ADDRESS($D$3+$E20,4+P$4,1,1,\"Sorcadins\"))),0)","v":0},{"$f":"IF(CELL(\"contents\",INDIRECT(ADDRESS($D$3+$E20,4+Q$4,1,1,\"Sorcadins\")))>=1,CELL(\"contents\",INDIRECT(ADDRESS($D$3+$E20,4+Q$4,1,1,\"Sorcadins\"))),0)","v":0},{"$f":"IF(CELL(\"contents\",INDIRECT(ADDRESS($D$3+$E20,4+R$4,1,1,\"Sorcadins\")))>=1,CELL(\"contents\",INDIRECT(ADDRESS($D$3+$E20,4+R$4,1,1,\"Sorcadins\"))),0)","v":0},{"$f":"IF(CELL(\"contents\",INDIRECT(ADDRESS($D$3+$E20,4+S$4,1,1,\"Sorcadins\")))>=1,CELL(\"contents\",INDIRECT(ADDRESS($D$3+$E20,4+S$4,1,1,\"Sorcadins\"))),0)","v":0},{"$f":"IF(CELL(\"contents\",INDIRECT(ADDRESS($D$3+$E20,4+T$4,1,1,\"Sorcadins\")))>=1,CELL(\"contents\",INDIRECT(ADDRESS($D$3+$E20,4+T$4,1,1,\"Sorcadins\"))),0)","v":0},{"$f":"IF(CELL(\"contents\",INDIRECT(ADDRESS($D$3+$E20,4+U$4,1,1,\"Sorcadins\")))>=1,CELL(\"contents\",INDIRECT(ADDRESS($D$3+$E20,4+U$4,1,1,\"Sorcadins\"))),0)","v":0},{"$f":"IF(CELL(\"contents\",INDIRECT(ADDRESS($D$3+$E20,4+V$4,1,1,\"Sorcadins\")))>=1,CELL(\"contents\",INDIRECT(ADDRESS($D$3+$E20,4+V$4,1,1,\"Sorcadins\"))),0)","v":0},{"$f":"IF(CELL(\"contents\",INDIRECT(ADDRESS($D$3+$E20,4+W$4,1,1,\"Sorcadins\")))>=1,CELL(\"contents\",INDIRECT(ADDRESS($D$3+$E20,4+W$4,1,1,\"Sorcadins\"))),0)","v":0},{"$f":"IF(CELL(\"contents\",INDIRECT(ADDRESS($D$3+$E20,4+X$4,1,1,\"Sorcadins\")))>=1,CELL(\"contents\",INDIRECT(ADDRESS($D$3+$E20,4+X$4,1,1,\"Sorcadins\"))),0)","v":0},{"$f":"IF(CELL(\"contents\",INDIRECT(ADDRESS($D$3+$E20,4+Y$4,1,1,\"Sorcadins\")))>=1,CELL(\"contents\",INDIRECT(ADDRESS($D$3+$E20,4+Y$4,1,1,\"Sorcadins\"))),0)","v":0},null,{"$f":"SUM(F$6:INDEX(F:F,5+$C20))","v":0},{"$f":"SUM(G$6:INDEX(G:G,5+$C20))","v":0},{"$f":"SUM(H$6:INDEX(H:H,5+$C20))","v":0},{"$f":"SUM(I$6:INDEX(I:I,5+$C20))","v":0},{"$f":"SUM(J$6:INDEX(J:J,5+$C20))","v":0},{"$f":"SUM(K$6:INDEX(K:K,5+$C20))","v":0},{"$f":"SUM(L$6:INDEX(L:L,5+$C20))","v":0},{"$f":"SUM(M$6:INDEX(M:M,5+$C20))","v":0},{"$f":"SUM(N$6:INDEX(N:N,5+$C20))","v":0},{"$f":"SUM(O$6:INDEX(O:O,5+$C20))","v":0},{"$f":"SUM(P$6:INDEX(P:P,5+$C20))","v":0},{"$f":"SUM(Q$6:INDEX(Q:Q,5+$C20))","v":0},{"$f":"SUM(R$6:INDEX(R:R,5+$C20))","v":0},{"$f":"SUM(S$6:INDEX(S:S,5+$C20))","v":0},{"$f":"SUM(T$6:INDEX(T:T,5+$C20))","v":0},{"$f":"SUM(U$6:INDEX(U:U,5+$C20))","v":0},{"$f":"SUM(V$6:INDEX(V:V,5+$C20))","v":0},{"$f":"SUM(W$6:INDEX(W:W,5+$C20))","v":0},{"$f":"SUM(X$6:INDEX(X:X,5+$C20))","v":0},{"$f":"SUM(Y$6:INDEX(Y:Y,5+$C20))","v":0},null,{"$f":"IF(AA20>0,IF(Sorcadins!E$265>Sorcadins!E$269,MIN(Sorcadins!E$265,Sorcadins!E$263/AA20),CELL(\"contents\",INDIRECT(ADDRESS(43+Sorcadins!E$21,ROUNDUP(5+MIN(20,AA20),0),1,1,\"Caster Tables\")))),0)","v":0},{"$f":"IF(AB20>0,IF(Sorcadins!F$265>Sorcadins!F$269,MIN(Sorcadins!F$265,Sorcadins!F$263/AB20),CELL(\"contents\",INDIRECT(ADDRESS(43+Sorcadins!F$21,ROUNDUP(5+MIN(20,AB20),0),1,1,\"Caster Tables\")))),0)","v":0},{"$f":"IF(AC20>0,IF(Sorcadins!G$265>Sorcadins!G$269,MIN(Sorcadins!G$265,Sorcadins!G$263/AC20),CELL(\"contents\",INDIRECT(ADDRESS(43+Sorcadins!G$21,ROUNDUP(5+MIN(20,AC20),0),1,1,\"Caster Tables\")))),0)","v":0},{"$f":"IF(AD20>0,IF(Sorcadins!H$265>Sorcadins!H$269,MIN(Sorcadins!H$265,Sorcadins!H$263/AD20),CELL(\"contents\",INDIRECT(ADDRESS(43+Sorcadins!H$21,ROUNDUP(5+MIN(20,AD20),0),1,1,\"Caster Tables\")))),0)","v":0},{"$f":"IF(AE20>0,IF(Sorcadins!I$265>Sorcadins!I$269,MIN(Sorcadins!I$265,Sorcadins!I$263/AE20),CELL(\"contents\",INDIRECT(ADDRESS(43+Sorcadins!I$21,ROUNDUP(5+MIN(20,AE20),0),1,1,\"Caster Tables\")))),0)","v":0},{"$f":"IF(AF20>0,IF(Sorcadins!J$265>Sorcadins!J$269,MIN(Sorcadins!J$265,Sorcadins!J$263/AF20),CELL(\"contents\",INDIRECT(ADDRESS(43+Sorcadins!J$21,ROUNDUP(5+MIN(20,AF20),0),1,1,\"Caster Tables\")))),0)","v":0},{"$f":"IF(AG20>0,IF(Sorcadins!K$265>Sorcadins!K$269,MIN(Sorcadins!K$265,Sorcadins!K$263/AG20),CELL(\"contents\",INDIRECT(ADDRESS(43+Sorcadins!K$21,ROUNDUP(5+MIN(20,AG20),0),1,1,\"Caster Tables\")))),0)","v":0},{"$f":"IF(AH20>0,IF(Sorcadins!L$265>Sorcadins!L$269,MIN(Sorcadins!L$265,Sorcadins!L$263/AH20),CELL(\"contents\",INDIRECT(ADDRESS(43+Sorcadins!L$21,ROUNDUP(5+MIN(20,AH20),0),1,1,\"Caster Tables\")))),0)","v":0},{"$f":"IF(AI20>0,IF(Sorcadins!M$265>Sorcadins!M$269,MIN(Sorcadins!M$265,Sorcadins!M$263/AI20),CELL(\"contents\",INDIRECT(ADDRESS(43+Sorcadins!M$21,ROUNDUP(5+MIN(20,AI20),0),1,1,\"Caster Tables\")))),0)","v":0},{"$f":"IF(AJ20>0,IF(Sorcadins!N$265>Sorcadins!N$269,MIN(Sorcadins!N$265,Sorcadins!N$263/AJ20),CELL(\"contents\",INDIRECT(ADDRESS(43+Sorcadins!N$21,ROUNDUP(5+MIN(20,AJ20),0),1,1,\"Caster Tables\")))),0)","v":0},{"$f":"IF(AK20>0,IF(Sorcadins!O$265>Sorcadins!O$269,MIN(Sorcadins!O$265,Sorcadins!O$263/AK20),CELL(\"contents\",INDIRECT(ADDRESS(43+Sorcadins!O$21,ROUNDUP(5+MIN(20,AK20),0),1,1,\"Caster Tables\")))),0)","v":0},{"$f":"IF(AL20>0,IF(Sorcadins!P$265>Sorcadins!P$269,MIN(Sorcadins!P$265,Sorcadins!P$263/AL20),CELL(\"contents\",INDIRECT(ADDRESS(43+Sorcadins!P$21,ROUNDUP(5+MIN(20,AL20),0),1,1,\"Caster Tables\")))),0)","v":0},{"$f":"IF(AM20>0,IF(Sorcadins!Q$265>Sorcadins!Q$269,MIN(Sorcadins!Q$265,Sorcadins!Q$263/AM20),CELL(\"contents\",INDIRECT(ADDRESS(43+Sorcadins!Q$21,ROUNDUP(5+MIN(20,AM20),0),1,1,\"Caster Tables\")))),0)","v":0},{"$f":"IF(AN20>0,IF(Sorcadins!R$265>Sorcadins!R$269,MIN(Sorcadins!R$265,Sorcadins!R$263/AN20),CELL(\"contents\",INDIRECT(ADDRESS(43+Sorcadins!R$21,ROUNDUP(5+MIN(20,AN20),0),1,1,\"Caster Tables\")))),0)","v":0},{"$f":"IF(AO20>0,IF(Sorcadins!S$265>Sorcadins!S$269,MIN(Sorcadins!S$265,Sorcadins!S$263/AO20),CELL(\"contents\",INDIRECT(ADDRESS(43+Sorcadins!S$21,ROUNDUP(5+MIN(20,AO20),0),1,1,\"Caster Tables\")))),0)","v":0},{"$f":"IF(AP20>0,IF(Sorcadins!T$265>Sorcadins!T$269,MIN(Sorcadins!T$265,Sorcadins!T$263/AP20),CELL(\"contents\",INDIRECT(ADDRESS(43+Sorcadins!T$21,ROUNDUP(5+MIN(20,AP20),0),1,1,\"Caster Tables\")))),0)","v":0},{"$f":"IF(AQ20>0,IF(Sorcadins!U$265>Sorcadins!U$269,MIN(Sorcadins!U$265,Sorcadins!U$263/AQ20),CELL(\"contents\",INDIRECT(ADDRESS(43+Sorcadins!U$21,ROUNDUP(5+MIN(20,AQ20),0),1,1,\"Caster Tables\")))),0)","v":0},{"$f":"IF(AR20>0,IF(Sorcadins!V$265>Sorcadins!V$269,MIN(Sorcadins!V$265,Sorcadins!V$263/AR20),CELL(\"contents\",INDIRECT(ADDRESS(43+Sorcadins!V$21,ROUNDUP(5+MIN(20,AR20),0),1,1,\"Caster Tables\")))),0)","v":0},{"$f":"IF(AS20>0,IF(Sorcadins!W$265>Sorcadins!W$269,MIN(Sorcadins!W$265,Sorcadins!W$263/AS20),CELL(\"contents\",INDIRECT(ADDRESS(43+Sorcadins!W$21,ROUNDUP(5+MIN(20,AS20),0),1,1,\"Caster Tables\")))),0)","v":0},{"$f":"IF(AT20>0,IF(Sorcadins!X$265>Sorcadins!X$269,MIN(Sorcadins!X$265,Sorcadins!X$263/AT20),CELL(\"contents\",INDIRECT(ADDRESS(43+Sorcadins!X$21,ROUNDUP(5+MIN(20,AT20),0),1,1,\"Caster Tables\")))),0)","v":0},null,0,0,0,0,0,0,0,0,0,0,0,0,0,0,0,0,0,0,0,0,null,{"$f":"IF(AV20>0,MIN(AV20,MAX(0,IF(F20>=0,AV20,0)-SUM(DG$6:INDEX(DG:DG,5+$C20-1))/AA20)*BQ20),0)","v":0},{"$f":"IF(AW20>0,MIN(AW20,MAX(0,IF(G20>=0,AW20,0)-SUM(DH$6:INDEX(DH:DH,5+$C20-1))/AB20)*BR20),0)","v":0},{"$f":"IF(AX20>0,MIN(AX20,MAX(0,IF(H20>=0,AX20,0)-SUM(DI$6:INDEX(DI:DI,5+$C20-1))/AC20)*BS20),0)","v":0},{"$f":"IF(AY20>0,MIN(AY20,MAX(0,IF(I20>=0,AY20,0)-SUM(DJ$6:INDEX(DJ:DJ,5+$C20-1))/AD20)*BT20),0)","v":0},{"$f":"IF(AZ20>0,MIN(AZ20,MAX(0,IF(J20>=0,AZ20,0)-SUM(DK$6:INDEX(DK:DK,5+$C20-1))/AE20)*BU20),0)","v":0},{"$f":"IF(BA20>0,MIN(BA20,MAX(0,IF(K20>=0,BA20,0)-SUM(DL$6:INDEX(DL:DL,5+$C20-1))/AF20)*BV20),0)","v":0},{"$f":"IF(BB20>0,MIN(BB20,MAX(0,IF(L20>=0,BB20,0)-SUM(DM$6:INDEX(DM:DM,5+$C20-1))/AG20)*BW20),0)","v":0},{"$f":"IF(BC20>0,MIN(BC20,MAX(0,IF(M20>=0,BC20,0)-SUM(DN$6:INDEX(DN:DN,5+$C20-1))/AH20)*BX20),0)","v":0},{"$f":"IF(BD20>0,MIN(BD20,MAX(0,IF(N20>=0,BD20,0)-SUM(DO$6:INDEX(DO:DO,5+$C20-1))/AI20)*BY20),0)","v":0},{"$f":"IF(BE20>0,MIN(BE20,MAX(0,IF(O20>=0,BE20,0)-SUM(DP$6:INDEX(DP:DP,5+$C20-1))/AJ20)*BZ20),0)","v":0},{"$f":"IF(BF20>0,MIN(BF20,MAX(0,IF(P20>=0,BF20,0)-SUM(DQ$6:INDEX(DQ:DQ,5+$C20-1))/AK20)*CA20),0)","v":0},{"$f":"IF(BG20>0,MIN(BG20,MAX(0,IF(Q20>=0,BG20,0)-SUM(DR$6:INDEX(DR:DR,5+$C20-1))/AL20)*CB20),0)","v":0},{"$f":"IF(BH20>0,MIN(BH20,MAX(0,IF(R20>=0,BH20,0)-SUM(DS$6:INDEX(DS:DS,5+$C20-1))/AM20)*CC20),0)","v":0},{"$f":"IF(BI20>0,MIN(BI20,MAX(0,IF(S20>=0,BI20,0)-SUM(DT$6:INDEX(DT:DT,5+$C20-1))/AN20)*CD20),0)","v":0},{"$f":"IF(BJ20>0,MIN(BJ20,MAX(0,IF(T20>=0,BJ20,0)-SUM(DU$6:INDEX(DU:DU,5+$C20-1))/AO20)*CE20),0)","v":0},{"$f":"IF(BK20>0,MIN(BK20,MAX(0,IF(U20>=0,BK20,0)-SUM(DV$6:INDEX(DV:DV,5+$C20-1))/AP20)*CF20),0)","v":0},{"$f":"IF(BL20>0,MIN(BL20,MAX(0,IF(V20>=0,BL20,0)-SUM(DW$6:INDEX(DW:DW,5+$C20-1))/AQ20)*CG20),0)","v":0},{"$f":"IF(BM20>0,MIN(BM20,MAX(0,IF(W20>=0,BM20,0)-SUM(DX$6:INDEX(DX:DX,5+$C20-1))/AR20)*CH20),0)","v":0},{"$f":"IF(BN20>0,MIN(BN20,MAX(0,IF(X20>=0,BN20,0)-SUM(DY$6:INDEX(DY:DY,5+$C20-1))/AS20)*CI20),0)","v":0},{"$f":"IF(BO20>0,MIN(BO20,MAX(0,IF(Y20>=0,BO20,0)-SUM(DZ$6:INDEX(DZ:DZ,5+$C20-1))/AT20)*CJ20),0)","v":0},null,0,0,0,0,0,0,0,0,0,0,0,0,0,0,0,0,0,0,0,0,null,"Guiding Bolt"]
[null,"Magic Missile",16,"magic missile: AE",{"$f":"MATCH($D21,INDEX(Sorcadins!$D:$D,$D$3):'Sorcadins'!$D1531,0)-1","v":2},{"$f":"IF(CELL(\"contents\",INDIRECT(ADDRESS($D$3+$E21,4+F$4,1,1,\"Sorcadins\")))>=1,CELL(\"contents\",INDIRECT(ADDRESS($D$3+$E21,4+F$4,1,1,\"Sorcadins\"))),0)","v":0},{"$f":"IF(CELL(\"contents\",INDIRECT(ADDRESS($D$3+$E21,4+G$4,1,1,\"Sorcadins\")))>=1,CELL(\"contents\",INDIRECT(ADDRESS($D$3+$E21,4+G$4,1,1,\"Sorcadins\"))),0)","v":0},{"$f":"IF(CELL(\"contents\",INDIRECT(ADDRESS($D$3+$E21,4+H$4,1,1,\"Sorcadins\")))>=1,CELL(\"contents\",INDIRECT(ADDRESS($D$3+$E21,4+H$4,1,1,\"Sorcadins\"))),0)","v":0},{"$f":"IF(CELL(\"contents\",INDIRECT(ADDRESS($D$3+$E21,4+I$4,1,1,\"Sorcadins\")))>=1,CELL(\"contents\",INDIRECT(ADDRESS($D$3+$E21,4+I$4,1,1,\"Sorcadins\"))),0)","v":0},{"$f":"IF(CELL(\"contents\",INDIRECT(ADDRESS($D$3+$E21,4+J$4,1,1,\"Sorcadins\")))>=1,CELL(\"contents\",INDIRECT(ADDRESS($D$3+$E21,4+J$4,1,1,\"Sorcadins\"))),0)","v":0},{"$f":"IF(CELL(\"contents\",INDIRECT(ADDRESS($D$3+$E21,4+K$4,1,1,\"Sorcadins\")))>=1,CELL(\"contents\",INDIRECT(ADDRESS($D$3+$E21,4+K$4,1,1,\"Sorcadins\"))),0)","v":0},{"$f":"IF(CELL(\"contents\",INDIRECT(ADDRESS($D$3+$E21,4+L$4,1,1,\"Sorcadins\")))>=1,CELL(\"contents\",INDIRECT(ADDRESS($D$3+$E21,4+L$4,1,1,\"Sorcadins\"))),0)","v":0},{"$f":"IF(CELL(\"contents\",INDIRECT(ADDRESS($D$3+$E21,4+M$4,1,1,\"Sorcadins\")))>=1,CELL(\"contents\",INDIRECT(ADDRESS($D$3+$E21,4+M$4,1,1,\"Sorcadins\"))),0)","v":0},{"$f":"IF(CELL(\"contents\",INDIRECT(ADDRESS($D$3+$E21,4+N$4,1,1,\"Sorcadins\")))>=1,CELL(\"contents\",INDIRECT(ADDRESS($D$3+$E21,4+N$4,1,1,\"Sorcadins\"))),0)","v":0},{"$f":"IF(CELL(\"contents\",INDIRECT(ADDRESS($D$3+$E21,4+O$4,1,1,\"Sorcadins\")))>=1,CELL(\"contents\",INDIRECT(ADDRESS($D$3+$E21,4+O$4,1,1,\"Sorcadins\"))),0)","v":0},{"$f":"IF(CELL(\"contents\",INDIRECT(ADDRESS($D$3+$E21,4+P$4,1,1,\"Sorcadins\")))>=1,CELL(\"contents\",INDIRECT(ADDRESS($D$3+$E21,4+P$4,1,1,\"Sorcadins\"))),0)","v":0},{"$f":"IF(CELL(\"contents\",INDIRECT(ADDRESS($D$3+$E21,4+Q$4,1,1,\"Sorcadins\")))>=1,CELL(\"contents\",INDIRECT(ADDRESS($D$3+$E21,4+Q$4,1,1,\"Sorcadins\"))),0)","v":0},{"$f":"IF(CELL(\"contents\",INDIRECT(ADDRESS($D$3+$E21,4+R$4,1,1,\"Sorcadins\")))>=1,CELL(\"contents\",INDIRECT(ADDRESS($D$3+$E21,4+R$4,1,1,\"Sorcadins\"))),0)","v":0},{"$f":"IF(CELL(\"contents\",INDIRECT(ADDRESS($D$3+$E21,4+S$4,1,1,\"Sorcadins\")))>=1,CELL(\"contents\",INDIRECT(ADDRESS($D$3+$E21,4+S$4,1,1,\"Sorcadins\"))),0)","v":0},{"$f":"IF(CELL(\"contents\",INDIRECT(ADDRESS($D$3+$E21,4+T$4,1,1,\"Sorcadins\")))>=1,CELL(\"contents\",INDIRECT(ADDRESS($D$3+$E21,4+T$4,1,1,\"Sorcadins\"))),0)","v":0},{"$f":"IF(CELL(\"contents\",INDIRECT(ADDRESS($D$3+$E21,4+U$4,1,1,\"Sorcadins\")))>=1,CELL(\"contents\",INDIRECT(ADDRESS($D$3+$E21,4+U$4,1,1,\"Sorcadins\"))),0)","v":0},{"$f":"IF(CELL(\"contents\",INDIRECT(ADDRESS($D$3+$E21,4+V$4,1,1,\"Sorcadins\")))>=1,CELL(\"contents\",INDIRECT(ADDRESS($D$3+$E21,4+V$4,1,1,\"Sorcadins\"))),0)","v":0},{"$f":"IF(CELL(\"contents\",INDIRECT(ADDRESS($D$3+$E21,4+W$4,1,1,\"Sorcadins\")))>=1,CELL(\"contents\",INDIRECT(ADDRESS($D$3+$E21,4+W$4,1,1,\"Sorcadins\"))),0)","v":0},{"$f":"IF(CELL(\"contents\",INDIRECT(ADDRESS($D$3+$E21,4+X$4,1,1,\"Sorcadins\")))>=1,CELL(\"contents\",INDIRECT(ADDRESS($D$3+$E21,4+X$4,1,1,\"Sorcadins\"))),0)","v":0},{"$f":"IF(CELL(\"contents\",INDIRECT(ADDRESS($D$3+$E21,4+Y$4,1,1,\"Sorcadins\")))>=1,CELL(\"contents\",INDIRECT(ADDRESS($D$3+$E21,4+Y$4,1,1,\"Sorcadins\"))),0)","v":0},null,{"$f":"SUM(F$6:INDEX(F:F,5+$C21))","v":0},{"$f":"SUM(G$6:INDEX(G:G,5+$C21))","v":0},{"$f":"SUM(H$6:INDEX(H:H,5+$C21))","v":0},{"$f":"SUM(I$6:INDEX(I:I,5+$C21))","v":0},{"$f":"SUM(J$6:INDEX(J:J,5+$C21))","v":0},{"$f":"SUM(K$6:INDEX(K:K,5+$C21))","v":0},{"$f":"SUM(L$6:INDEX(L:L,5+$C21))","v":0},{"$f":"SUM(M$6:INDEX(M:M,5+$C21))","v":0},{"$f":"SUM(N$6:INDEX(N:N,5+$C21))","v":0},{"$f":"SUM(O$6:INDEX(O:O,5+$C21))","v":0},{"$f":"SUM(P$6:INDEX(P:P,5+$C21))","v":0},{"$f":"SUM(Q$6:INDEX(Q:Q,5+$C21))","v":0},{"$f":"SUM(R$6:INDEX(R:R,5+$C21))","v":0},{"$f":"SUM(S$6:INDEX(S:S,5+$C21))","v":0},{"$f":"SUM(T$6:INDEX(T:T,5+$C21))","v":0},{"$f":"SUM(U$6:INDEX(U:U,5+$C21))","v":0},{"$f":"SUM(V$6:INDEX(V:V,5+$C21))","v":0},{"$f":"SUM(W$6:INDEX(W:W,5+$C21))","v":0},{"$f":"SUM(X$6:INDEX(X:X,5+$C21))","v":0},{"$f":"SUM(Y$6:INDEX(Y:Y,5+$C21))","v":0},null,{"$f":"IF(AA21>0,IF(Sorcadins!E$265>Sorcadins!E$269,MIN(Sorcadins!E$265,Sorcadins!E$263/AA21),CELL(\"contents\",INDIRECT(ADDRESS(43+Sorcadins!E$21,ROUNDUP(5+MIN(20,AA21),0),1,1,\"Caster Tables\")))),0)","v":0},{"$f":"IF(AB21>0,IF(Sorcadins!F$265>Sorcadins!F$269,MIN(Sorcadins!F$265,Sorcadins!F$263/AB21),CELL(\"contents\",INDIRECT(ADDRESS(43+Sorcadins!F$21,ROUNDUP(5+MIN(20,AB21),0),1,1,\"Caster Tables\")))),0)","v":0},{"$f":"IF(AC21>0,IF(Sorcadins!G$265>Sorcadins!G$269,MIN(Sorcadins!G$265,Sorcadins!G$263/AC21),CELL(\"contents\",INDIRECT(ADDRESS(43+Sorcadins!G$21,ROUNDUP(5+MIN(20,AC21),0),1,1,\"Caster Tables\")))),0)","v":0},{"$f":"IF(AD21>0,IF(Sorcadins!H$265>Sorcadins!H$269,MIN(Sorcadins!H$265,Sorcadins!H$263/AD21),CELL(\"contents\",INDIRECT(ADDRESS(43+Sorcadins!H$21,ROUNDUP(5+MIN(20,AD21),0),1,1,\"Caster Tables\")))),0)","v":0},{"$f":"IF(AE21>0,IF(Sorcadins!I$265>Sorcadins!I$269,MIN(Sorcadins!I$265,Sorcadins!I$263/AE21),CELL(\"contents\",INDIRECT(ADDRESS(43+Sorcadins!I$21,ROUNDUP(5+MIN(20,AE21),0),1,1,\"Caster Tables\")))),0)","v":0},{"$f":"IF(AF21>0,IF(Sorcadins!J$265>Sorcadins!J$269,MIN(Sorcadins!J$265,Sorcadins!J$263/AF21),CELL(\"contents\",INDIRECT(ADDRESS(43+Sorcadins!J$21,ROUNDUP(5+MIN(20,AF21),0),1,1,\"Caster Tables\")))),0)","v":0},{"$f":"IF(AG21>0,IF(Sorcadins!K$265>Sorcadins!K$269,MIN(Sorcadins!K$265,Sorcadins!K$263/AG21),CELL(\"contents\",INDIRECT(ADDRESS(43+Sorcadins!K$21,ROUNDUP(5+MIN(20,AG21),0),1,1,\"Caster Tables\")))),0)","v":0},{"$f":"IF(AH21>0,IF(Sorcadins!L$265>Sorcadins!L$269,MIN(Sorcadins!L$265,Sorcadins!L$263/AH21),CELL(\"contents\",INDIRECT(ADDRESS(43+Sorcadins!L$21,ROUNDUP(5+MIN(20,AH21),0),1,1,\"Caster Tables\")))),0)","v":0},{"$f":"IF(AI21>0,IF(Sorcadins!M$265>Sorcadins!M$269,MIN(Sorcadins!M$265,Sorcadins!M$263/AI21),CELL(\"contents\",INDIRECT(ADDRESS(43+Sorcadins!M$21,ROUNDUP(5+MIN(20,AI21),0),1,1,\"Caster Tables\")))),0)","v":0},{"$f":"IF(AJ21>0,IF(Sorcadins!N$265>Sorcadins!N$269,MIN(Sorcadins!N$265,Sorcadins!N$263/AJ21),CELL(\"contents\",INDIRECT(ADDRESS(43+Sorcadins!N$21,ROUNDUP(5+MIN(20,AJ21),0),1,1,\"Caster Tables\")))),0)","v":0},{"$f":"IF(AK21>0,IF(Sorcadins!O$265>Sorcadins!O$269,MIN(Sorcadins!O$265,Sorcadins!O$263/AK21),CELL(\"contents\",INDIRECT(ADDRESS(43+Sorcadins!O$21,ROUNDUP(5+MIN(20,AK21),0),1,1,\"Caster Tables\")))),0)","v":0},{"$f":"IF(AL21>0,IF(Sorcadins!P$265>Sorcadins!P$269,MIN(Sorcadins!P$265,Sorcadins!P$263/AL21),CELL(\"contents\",INDIRECT(ADDRESS(43+Sorcadins!P$21,ROUNDUP(5+MIN(20,AL21),0),1,1,\"Caster Tables\")))),0)","v":0},{"$f":"IF(AM21>0,IF(Sorcadins!Q$265>Sorcadins!Q$269,MIN(Sorcadins!Q$265,Sorcadins!Q$263/AM21),CELL(\"contents\",INDIRECT(ADDRESS(43+Sorcadins!Q$21,ROUNDUP(5+MIN(20,AM21),0),1,1,\"Caster Tables\")))),0)","v":0},{"$f":"IF(AN21>0,IF(Sorcadins!R$265>Sorcadins!R$269,MIN(Sorcadins!R$265,Sorcadins!R$263/AN21),CELL(\"contents\",INDIRECT(ADDRESS(43+Sorcadins!R$21,ROUNDUP(5+MIN(20,AN21),0),1,1,\"Caster Tables\")))),0)","v":0},{"$f":"IF(AO21>0,IF(Sorcadins!S$265>Sorcadins!S$269,MIN(Sorcadins!S$265,Sorcadins!S$263/AO21),CELL(\"contents\",INDIRECT(ADDRESS(43+Sorcadins!S$21,ROUNDUP(5+MIN(20,AO21),0),1,1,\"Caster Tables\")))),0)","v":0},{"$f":"IF(AP21>0,IF(Sorcadins!T$265>Sorcadins!T$269,MIN(Sorcadins!T$265,Sorcadins!T$263/AP21),CELL(\"contents\",INDIRECT(ADDRESS(43+Sorcadins!T$21,ROUNDUP(5+MIN(20,AP21),0),1,1,\"Caster Tables\")))),0)","v":0},{"$f":"IF(AQ21>0,IF(Sorcadins!U$265>Sorcadins!U$269,MIN(Sorcadins!U$265,Sorcadins!U$263/AQ21),CELL(\"contents\",INDIRECT(ADDRESS(43+Sorcadins!U$21,ROUNDUP(5+MIN(20,AQ21),0),1,1,\"Caster Tables\")))),0)","v":0},{"$f":"IF(AR21>0,IF(Sorcadins!V$265>Sorcadins!V$269,MIN(Sorcadins!V$265,Sorcadins!V$263/AR21),CELL(\"contents\",INDIRECT(ADDRESS(43+Sorcadins!V$21,ROUNDUP(5+MIN(20,AR21),0),1,1,\"Caster Tables\")))),0)","v":0},{"$f":"IF(AS21>0,IF(Sorcadins!W$265>Sorcadins!W$269,MIN(Sorcadins!W$265,Sorcadins!W$263/AS21),CELL(\"contents\",INDIRECT(ADDRESS(43+Sorcadins!W$21,ROUNDUP(5+MIN(20,AS21),0),1,1,\"Caster Tables\")))),0)","v":0},{"$f":"IF(AT21>0,IF(Sorcadins!X$265>Sorcadins!X$269,MIN(Sorcadins!X$265,Sorcadins!X$263/AT21),CELL(\"contents\",INDIRECT(ADDRESS(43+Sorcadins!X$21,ROUNDUP(5+MIN(20,AT21),0),1,1,\"Caster Tables\")))),0)","v":0},null,{"$f":"IF(F21>=1,AA21/F21,0)","v":0},0,0,0,0,0,0,0,0,0,{"$f":"IF(P21>=1,AK21/P21,0)","v":0},0,0,0,0,0,0,0,0,0,null,{"$f":"IF(AV21>0,MIN(AV21,MAX(0,IF(F21>=0,AV21,0)-SUM(DG$6:INDEX(DG:DG,5+$C21-1))/AA21)*BQ21),0)","v":0},{"$f":"IF(AW21>0,MIN(AW21,MAX(0,IF(G21>=0,AW21,0)-SUM(DH$6:INDEX(DH:DH,5+$C21-1))/AB21)*BR21),0)","v":0},{"$f":"IF(AX21>0,MIN(AX21,MAX(0,IF(H21>=0,AX21,0)-SUM(DI$6:INDEX(DI:DI,5+$C21-1))/AC21)*BS21),0)","v":0},{"$f":"IF(AY21>0,MIN(AY21,MAX(0,IF(I21>=0,AY21,0)-SUM(DJ$6:INDEX(DJ:DJ,5+$C21-1))/AD21)*BT21),0)","v":0},{"$f":"IF(AZ21>0,MIN(AZ21,MAX(0,IF(J21>=0,AZ21,0)-SUM(DK$6:INDEX(DK:DK,5+$C21-1))/AE21)*BU21),0)","v":0},{"$f":"IF(BA21>0,MIN(BA21,MAX(0,IF(K21>=0,BA21,0)-SUM(DL$6:INDEX(DL:DL,5+$C21-1))/AF21)*BV21),0)","v":0},{"$f":"IF(BB21>0,MIN(BB21,MAX(0,IF(L21>=0,BB21,0)-SUM(DM$6:INDEX(DM:DM,5+$C21-1))/AG21)*BW21),0)","v":0},{"$f":"IF(BC21>0,MIN(BC21,MAX(0,IF(M21>=0,BC21,0)-SUM(DN$6:INDEX(DN:DN,5+$C21-1))/AH21)*BX21),0)","v":0},{"$f":"IF(BD21>0,MIN(BD21,MAX(0,IF(N21>=0,BD21,0)-SUM(DO$6:INDEX(DO:DO,5+$C21-1))/AI21)*BY21),0)","v":0},{"$f":"IF(BE21>0,MIN(BE21,MAX(0,IF(O21>=0,BE21,0)-SUM(DP$6:INDEX(DP:DP,5+$C21-1))/AJ21)*BZ21),0)","v":0},{"$f":"IF(BF21>0,MIN(BF21,MAX(0,IF(P21>=0,BF21,0)-SUM(DQ$6:INDEX(DQ:DQ,5+$C21-1))/AK21)*CA21),0)","v":0},{"$f":"IF(BG21>0,MIN(BG21,MAX(0,IF(Q21>=0,BG21,0)-SUM(DR$6:INDEX(DR:DR,5+$C21-1))/AL21)*CB21),0)","v":0},{"$f":"IF(BH21>0,MIN(BH21,MAX(0,IF(R21>=0,BH21,0)-SUM(DS$6:INDEX(DS:DS,5+$C21-1))/AM21)*CC21),0)","v":0},{"$f":"IF(BI21>0,MIN(BI21,MAX(0,IF(S21>=0,BI21,0)-SUM(DT$6:INDEX(DT:DT,5+$C21-1))/AN21)*CD21),0)","v":0},{"$f":"IF(BJ21>0,MIN(BJ21,MAX(0,IF(T21>=0,BJ21,0)-SUM(DU$6:INDEX(DU:DU,5+$C21-1))/AO21)*CE21),0)","v":0},{"$f":"IF(BK21>0,MIN(BK21,MAX(0,IF(U21>=0,BK21,0)-SUM(DV$6:INDEX(DV:DV,5+$C21-1))/AP21)*CF21),0)","v":0},{"$f":"IF(BL21>0,MIN(BL21,MAX(0,IF(V21>=0,BL21,0)-SUM(DW$6:INDEX(DW:DW,5+$C21-1))/AQ21)*CG21),0)","v":0},{"$f":"IF(BM21>0,MIN(BM21,MAX(0,IF(W21>=0,BM21,0)-SUM(DX$6:INDEX(DX:DX,5+$C21-1))/AR21)*CH21),0)","v":0},{"$f":"IF(BN21>0,MIN(BN21,MAX(0,IF(X21>=0,BN21,0)-SUM(DY$6:INDEX(DY:DY,5+$C21-1))/AS21)*CI21),0)","v":0},{"$f":"IF(BO21>0,MIN(BO21,MAX(0,IF(Y21>=0,BO21,0)-SUM(DZ$6:INDEX(DZ:DZ,5+$C21-1))/AT21)*CJ21),0)","v":0},null,{"$f":"F21*CL21","v":0},0,0,0,0,0,0,0,0,0,{"$f":"P21*CV21","v":0},0,0,0,0,0,0,0,0,0,null,"Magic Missile"]
[null,"Animate Dead",17,"animate dead (non-combat)",{"$f":"MATCH($D22,INDEX(Sorcadins!$D:$D,$D$3):'Sorcadins'!$D1532,0)-1","v":29},{"$f":"IF(CELL(\"contents\",INDIRECT(ADDRESS($D$3+$E22,4+F$4,1,1,\"Sorcadins\")))>=1,CELL(\"contents\",INDIRECT(ADDRESS($D$3+$E22,4+F$4,1,1,\"Sorcadins\"))),0)","v":0},{"$f":"IF(CELL(\"contents\",INDIRECT(ADDRESS($D$3+$E22,4+G$4,1,1,\"Sorcadins\")))>=1,CELL(\"contents\",INDIRECT(ADDRESS($D$3+$E22,4+G$4,1,1,\"Sorcadins\"))),0)","v":0},{"$f":"IF(CELL(\"contents\",INDIRECT(ADDRESS($D$3+$E22,4+H$4,1,1,\"Sorcadins\")))>=1,CELL(\"contents\",INDIRECT(ADDRESS($D$3+$E22,4+H$4,1,1,\"Sorcadins\"))),0)","v":0},{"$f":"IF(CELL(\"contents\",INDIRECT(ADDRESS($D$3+$E22,4+I$4,1,1,\"Sorcadins\")))>=1,CELL(\"contents\",INDIRECT(ADDRESS($D$3+$E22,4+I$4,1,1,\"Sorcadins\"))),0)","v":0},{"$f":"IF(CELL(\"contents\",INDIRECT(ADDRESS($D$3+$E22,4+J$4,1,1,\"Sorcadins\")))>=1,CELL(\"contents\",INDIRECT(ADDRESS($D$3+$E22,4+J$4,1,1,\"Sorcadins\"))),0)","v":0},{"$f":"IF(CELL(\"contents\",INDIRECT(ADDRESS($D$3+$E22,4+K$4,1,1,\"Sorcadins\")))>=1,CELL(\"contents\",INDIRECT(ADDRESS($D$3+$E22,4+K$4,1,1,\"Sorcadins\"))),0)","v":0},{"$f":"IF(CELL(\"contents\",INDIRECT(ADDRESS($D$3+$E22,4+L$4,1,1,\"Sorcadins\")))>=1,CELL(\"contents\",INDIRECT(ADDRESS($D$3+$E22,4+L$4,1,1,\"Sorcadins\"))),0)","v":0},{"$f":"IF(CELL(\"contents\",INDIRECT(ADDRESS($D$3+$E22,4+M$4,1,1,\"Sorcadins\")))>=1,CELL(\"contents\",INDIRECT(ADDRESS($D$3+$E22,4+M$4,1,1,\"Sorcadins\"))),0)","v":0},{"$f":"IF(CELL(\"contents\",INDIRECT(ADDRESS($D$3+$E22,4+N$4,1,1,\"Sorcadins\")))>=1,CELL(\"contents\",INDIRECT(ADDRESS($D$3+$E22,4+N$4,1,1,\"Sorcadins\"))),0)","v":0},{"$f":"IF(CELL(\"contents\",INDIRECT(ADDRESS($D$3+$E22,4+O$4,1,1,\"Sorcadins\")))>=1,CELL(\"contents\",INDIRECT(ADDRESS($D$3+$E22,4+O$4,1,1,\"Sorcadins\"))),0)","v":0},{"$f":"IF(CELL(\"contents\",INDIRECT(ADDRESS($D$3+$E22,4+P$4,1,1,\"Sorcadins\")))>=1,CELL(\"contents\",INDIRECT(ADDRESS($D$3+$E22,4+P$4,1,1,\"Sorcadins\"))),0)","v":0},{"$f":"IF(CELL(\"contents\",INDIRECT(ADDRESS($D$3+$E22,4+Q$4,1,1,\"Sorcadins\")))>=1,CELL(\"contents\",INDIRECT(ADDRESS($D$3+$E22,4+Q$4,1,1,\"Sorcadins\"))),0)","v":0},{"$f":"IF(CELL(\"contents\",INDIRECT(ADDRESS($D$3+$E22,4+R$4,1,1,\"Sorcadins\")))>=1,CELL(\"contents\",INDIRECT(ADDRESS($D$3+$E22,4+R$4,1,1,\"Sorcadins\"))),0)","v":0},{"$f":"IF(CELL(\"contents\",INDIRECT(ADDRESS($D$3+$E22,4+S$4,1,1,\"Sorcadins\")))>=1,CELL(\"contents\",INDIRECT(ADDRESS($D$3+$E22,4+S$4,1,1,\"Sorcadins\"))),0)","v":0},{"$f":"IF(CELL(\"contents\",INDIRECT(ADDRESS($D$3+$E22,4+T$4,1,1,\"Sorcadins\")))>=1,CELL(\"contents\",INDIRECT(ADDRESS($D$3+$E22,4+T$4,1,1,\"Sorcadins\"))),0)","v":0},{"$f":"IF(CELL(\"contents\",INDIRECT(ADDRESS($D$3+$E22,4+U$4,1,1,\"Sorcadins\")))>=1,CELL(\"contents\",INDIRECT(ADDRESS($D$3+$E22,4+U$4,1,1,\"Sorcadins\"))),0)","v":0},{"$f":"IF(CELL(\"contents\",INDIRECT(ADDRESS($D$3+$E22,4+V$4,1,1,\"Sorcadins\")))>=1,CELL(\"contents\",INDIRECT(ADDRESS($D$3+$E22,4+V$4,1,1,\"Sorcadins\"))),0)","v":0},{"$f":"IF(CELL(\"contents\",INDIRECT(ADDRESS($D$3+$E22,4+W$4,1,1,\"Sorcadins\")))>=1,CELL(\"contents\",INDIRECT(ADDRESS($D$3+$E22,4+W$4,1,1,\"Sorcadins\"))),0)","v":0},{"$f":"IF(CELL(\"contents\",INDIRECT(ADDRESS($D$3+$E22,4+X$4,1,1,\"Sorcadins\")))>=1,CELL(\"contents\",INDIRECT(ADDRESS($D$3+$E22,4+X$4,1,1,\"Sorcadins\"))),0)","v":0},{"$f":"IF(CELL(\"contents\",INDIRECT(ADDRESS($D$3+$E22,4+Y$4,1,1,\"Sorcadins\")))>=1,CELL(\"contents\",INDIRECT(ADDRESS($D$3+$E22,4+Y$4,1,1,\"Sorcadins\"))),0)","v":0},null,{"$f":"SUM(F$6:INDEX(F:F,5+$C22))","v":0},{"$f":"SUM(G$6:INDEX(G:G,5+$C22))","v":0},{"$f":"SUM(H$6:INDEX(H:H,5+$C22))","v":0},{"$f":"SUM(I$6:INDEX(I:I,5+$C22))","v":0},{"$f":"SUM(J$6:INDEX(J:J,5+$C22))","v":0},{"$f":"SUM(K$6:INDEX(K:K,5+$C22))","v":0},{"$f":"SUM(L$6:INDEX(L:L,5+$C22))","v":0},{"$f":"SUM(M$6:INDEX(M:M,5+$C22))","v":0},{"$f":"SUM(N$6:INDEX(N:N,5+$C22))","v":0},{"$f":"SUM(O$6:INDEX(O:O,5+$C22))","v":0},{"$f":"SUM(P$6:INDEX(P:P,5+$C22))","v":0},{"$f":"SUM(Q$6:INDEX(Q:Q,5+$C22))","v":0},{"$f":"SUM(R$6:INDEX(R:R,5+$C22))","v":0},{"$f":"SUM(S$6:INDEX(S:S,5+$C22))","v":0},{"$f":"SUM(T$6:INDEX(T:T,5+$C22))","v":0},{"$f":"SUM(U$6:INDEX(U:U,5+$C22))","v":0},{"$f":"SUM(V$6:INDEX(V:V,5+$C22))","v":0},{"$f":"SUM(W$6:INDEX(W:W,5+$C22))","v":0},{"$f":"SUM(X$6:INDEX(X:X,5+$C22))","v":0},{"$f":"SUM(Y$6:INDEX(Y:Y,5+$C22))","v":0},null,{"$f":"IF(AA22>0,IF(Sorcadins!E$265>Sorcadins!E$269,MIN(Sorcadins!E$265,Sorcadins!E$263/AA22),CELL(\"contents\",INDIRECT(ADDRESS(43+Sorcadins!E$21,ROUNDUP(5+MIN(20,AA22),0),1,1,\"Caster Tables\")))),0)","v":0},{"$f":"IF(AB22>0,IF(Sorcadins!F$265>Sorcadins!F$269,MIN(Sorcadins!F$265,Sorcadins!F$263/AB22),CELL(\"contents\",INDIRECT(ADDRESS(43+Sorcadins!F$21,ROUNDUP(5+MIN(20,AB22),0),1,1,\"Caster Tables\")))),0)","v":0},{"$f":"IF(AC22>0,IF(Sorcadins!G$265>Sorcadins!G$269,MIN(Sorcadins!G$265,Sorcadins!G$263/AC22),CELL(\"contents\",INDIRECT(ADDRESS(43+Sorcadins!G$21,ROUNDUP(5+MIN(20,AC22),0),1,1,\"Caster Tables\")))),0)","v":0},{"$f":"IF(AD22>0,IF(Sorcadins!H$265>Sorcadins!H$269,MIN(Sorcadins!H$265,Sorcadins!H$263/AD22),CELL(\"contents\",INDIRECT(ADDRESS(43+Sorcadins!H$21,ROUNDUP(5+MIN(20,AD22),0),1,1,\"Caster Tables\")))),0)","v":0},{"$f":"IF(AE22>0,IF(Sorcadins!I$265>Sorcadins!I$269,MIN(Sorcadins!I$265,Sorcadins!I$263/AE22),CELL(\"contents\",INDIRECT(ADDRESS(43+Sorcadins!I$21,ROUNDUP(5+MIN(20,AE22),0),1,1,\"Caster Tables\")))),0)","v":0},{"$f":"IF(AF22>0,IF(Sorcadins!J$265>Sorcadins!J$269,MIN(Sorcadins!J$265,Sorcadins!J$263/AF22),CELL(\"contents\",INDIRECT(ADDRESS(43+Sorcadins!J$21,ROUNDUP(5+MIN(20,AF22),0),1,1,\"Caster Tables\")))),0)","v":0},{"$f":"IF(AG22>0,IF(Sorcadins!K$265>Sorcadins!K$269,MIN(Sorcadins!K$265,Sorcadins!K$263/AG22),CELL(\"contents\",INDIRECT(ADDRESS(43+Sorcadins!K$21,ROUNDUP(5+MIN(20,AG22),0),1,1,\"Caster Tables\")))),0)","v":0},{"$f":"IF(AH22>0,IF(Sorcadins!L$265>Sorcadins!L$269,MIN(Sorcadins!L$265,Sorcadins!L$263/AH22),CELL(\"contents\",INDIRECT(ADDRESS(43+Sorcadins!L$21,ROUNDUP(5+MIN(20,AH22),0),1,1,\"Caster Tables\")))),0)","v":0},{"$f":"IF(AI22>0,IF(Sorcadins!M$265>Sorcadins!M$269,MIN(Sorcadins!M$265,Sorcadins!M$263/AI22),CELL(\"contents\",INDIRECT(ADDRESS(43+Sorcadins!M$21,ROUNDUP(5+MIN(20,AI22),0),1,1,\"Caster Tables\")))),0)","v":0},{"$f":"IF(AJ22>0,IF(Sorcadins!N$265>Sorcadins!N$269,MIN(Sorcadins!N$265,Sorcadins!N$263/AJ22),CELL(\"contents\",INDIRECT(ADDRESS(43+Sorcadins!N$21,ROUNDUP(5+MIN(20,AJ22),0),1,1,\"Caster Tables\")))),0)","v":0},{"$f":"IF(AK22>0,IF(Sorcadins!O$265>Sorcadins!O$269,MIN(Sorcadins!O$265,Sorcadins!O$263/AK22),CELL(\"contents\",INDIRECT(ADDRESS(43+Sorcadins!O$21,ROUNDUP(5+MIN(20,AK22),0),1,1,\"Caster Tables\")))),0)","v":0},{"$f":"IF(AL22>0,IF(Sorcadins!P$265>Sorcadins!P$269,MIN(Sorcadins!P$265,Sorcadins!P$263/AL22),CELL(\"contents\",INDIRECT(ADDRESS(43+Sorcadins!P$21,ROUNDUP(5+MIN(20,AL22),0),1,1,\"Caster Tables\")))),0)","v":0},{"$f":"IF(AM22>0,IF(Sorcadins!Q$265>Sorcadins!Q$269,MIN(Sorcadins!Q$265,Sorcadins!Q$263/AM22),CELL(\"contents\",INDIRECT(ADDRESS(43+Sorcadins!Q$21,ROUNDUP(5+MIN(20,AM22),0),1,1,\"Caster Tables\")))),0)","v":0},{"$f":"IF(AN22>0,IF(Sorcadins!R$265>Sorcadins!R$269,MIN(Sorcadins!R$265,Sorcadins!R$263/AN22),CELL(\"contents\",INDIRECT(ADDRESS(43+Sorcadins!R$21,ROUNDUP(5+MIN(20,AN22),0),1,1,\"Caster Tables\")))),0)","v":0},{"$f":"IF(AO22>0,IF(Sorcadins!S$265>Sorcadins!S$269,MIN(Sorcadins!S$265,Sorcadins!S$263/AO22),CELL(\"contents\",INDIRECT(ADDRESS(43+Sorcadins!S$21,ROUNDUP(5+MIN(20,AO22),0),1,1,\"Caster Tables\")))),0)","v":0},{"$f":"IF(AP22>0,IF(Sorcadins!T$265>Sorcadins!T$269,MIN(Sorcadins!T$265,Sorcadins!T$263/AP22),CELL(\"contents\",INDIRECT(ADDRESS(43+Sorcadins!T$21,ROUNDUP(5+MIN(20,AP22),0),1,1,\"Caster Tables\")))),0)","v":0},{"$f":"IF(AQ22>0,IF(Sorcadins!U$265>Sorcadins!U$269,MIN(Sorcadins!U$265,Sorcadins!U$263/AQ22),CELL(\"contents\",INDIRECT(ADDRESS(43+Sorcadins!U$21,ROUNDUP(5+MIN(20,AQ22),0),1,1,\"Caster Tables\")))),0)","v":0},{"$f":"IF(AR22>0,IF(Sorcadins!V$265>Sorcadins!V$269,MIN(Sorcadins!V$265,Sorcadins!V$263/AR22),CELL(\"contents\",INDIRECT(ADDRESS(43+Sorcadins!V$21,ROUNDUP(5+MIN(20,AR22),0),1,1,\"Caster Tables\")))),0)","v":0},{"$f":"IF(AS22>0,IF(Sorcadins!W$265>Sorcadins!W$269,MIN(Sorcadins!W$265,Sorcadins!W$263/AS22),CELL(\"contents\",INDIRECT(ADDRESS(43+Sorcadins!W$21,ROUNDUP(5+MIN(20,AS22),0),1,1,\"Caster Tables\")))),0)","v":0},{"$f":"IF(AT22>0,IF(Sorcadins!X$265>Sorcadins!X$269,MIN(Sorcadins!X$265,Sorcadins!X$263/AT22),CELL(\"contents\",INDIRECT(ADDRESS(43+Sorcadins!X$21,ROUNDUP(5+MIN(20,AT22),0),1,1,\"Caster Tables\")))),0)","v":0},null,0,0,0,0,0,0,0,0,0,0,0,0,0,0,0,0,0,0,0,0,null,{"$f":"IF(AV22>0,MIN(AV22,MAX(0,IF(F22>=0,AV22,0)-SUM(DG$6:INDEX(DG:DG,5+$C22-1))/AA22)*BQ22),0)","v":0},{"$f":"IF(AW22>0,MIN(AW22,MAX(0,IF(G22>=0,AW22,0)-SUM(DH$6:INDEX(DH:DH,5+$C22-1))/AB22)*BR22),0)","v":0},{"$f":"IF(AX22>0,MIN(AX22,MAX(0,IF(H22>=0,AX22,0)-SUM(DI$6:INDEX(DI:DI,5+$C22-1))/AC22)*BS22),0)","v":0},{"$f":"IF(AY22>0,MIN(AY22,MAX(0,IF(I22>=0,AY22,0)-SUM(DJ$6:INDEX(DJ:DJ,5+$C22-1))/AD22)*BT22),0)","v":0},{"$f":"IF(AZ22>0,MIN(AZ22,MAX(0,IF(J22>=0,AZ22,0)-SUM(DK$6:INDEX(DK:DK,5+$C22-1))/AE22)*BU22),0)","v":0},{"$f":"IF(BA22>0,MIN(BA22,MAX(0,IF(K22>=0,BA22,0)-SUM(DL$6:INDEX(DL:DL,5+$C22-1))/AF22)*BV22),0)","v":0},{"$f":"IF(BB22>0,MIN(BB22,MAX(0,IF(L22>=0,BB22,0)-SUM(DM$6:INDEX(DM:DM,5+$C22-1))/AG22)*BW22),0)","v":0},{"$f":"IF(BC22>0,MIN(BC22,MAX(0,IF(M22>=0,BC22,0)-SUM(DN$6:INDEX(DN:DN,5+$C22-1))/AH22)*BX22),0)","v":0},{"$f":"IF(BD22>0,MIN(BD22,MAX(0,IF(N22>=0,BD22,0)-SUM(DO$6:INDEX(DO:DO,5+$C22-1))/AI22)*BY22),0)","v":0},{"$f":"IF(BE22>0,MIN(BE22,MAX(0,IF(O22>=0,BE22,0)-SUM(DP$6:INDEX(DP:DP,5+$C22-1))/AJ22)*BZ22),0)","v":0},{"$f":"IF(BF22>0,MIN(BF22,MAX(0,IF(P22>=0,BF22,0)-SUM(DQ$6:INDEX(DQ:DQ,5+$C22-1))/AK22)*CA22),0)","v":0},{"$f":"IF(BG22>0,MIN(BG22,MAX(0,IF(Q22>=0,BG22,0)-SUM(DR$6:INDEX(DR:DR,5+$C22-1))/AL22)*CB22),0)","v":0},{"$f":"IF(BH22>0,MIN(BH22,MAX(0,IF(R22>=0,BH22,0)-SUM(DS$6:INDEX(DS:DS,5+$C22-1))/AM22)*CC22),0)","v":0},{"$f":"IF(BI22>0,MIN(BI22,MAX(0,IF(S22>=0,BI22,0)-SUM(DT$6:INDEX(DT:DT,5+$C22-1))/AN22)*CD22),0)","v":0},{"$f":"IF(BJ22>0,MIN(BJ22,MAX(0,IF(T22>=0,BJ22,0)-SUM(DU$6:INDEX(DU:DU,5+$C22-1))/AO22)*CE22),0)","v":0},{"$f":"IF(BK22>0,MIN(BK22,MAX(0,IF(U22>=0,BK22,0)-SUM(DV$6:INDEX(DV:DV,5+$C22-1))/AP22)*CF22),0)","v":0},{"$f":"IF(BL22>0,MIN(BL22,MAX(0,IF(V22>=0,BL22,0)-SUM(DW$6:INDEX(DW:DW,5+$C22-1))/AQ22)*CG22),0)","v":0},{"$f":"IF(BM22>0,MIN(BM22,MAX(0,IF(W22>=0,BM22,0)-SUM(DX$6:INDEX(DX:DX,5+$C22-1))/AR22)*CH22),0)","v":0},{"$f":"IF(BN22>0,MIN(BN22,MAX(0,IF(X22>=0,BN22,0)-SUM(DY$6:INDEX(DY:DY,5+$C22-1))/AS22)*CI22),0)","v":0},{"$f":"IF(BO22>0,MIN(BO22,MAX(0,IF(Y22>=0,BO22,0)-SUM(DZ$6:INDEX(DZ:DZ,5+$C22-1))/AT22)*CJ22),0)","v":0},null,0,0,0,0,0,0,0,0,0,0,0,0,0,0,0,0,0,0,0,0,null,"Animate Dead"]
[null,"Tiny Servant",18,"tiny servant (non-combat)",{"$f":"MATCH($D23,INDEX(Sorcadins!$D:$D,$D$3):'Sorcadins'!$D1533,0)-1","v":30},{"$f":"IF(CELL(\"contents\",INDIRECT(ADDRESS($D$3+$E23,4+F$4,1,1,\"Sorcadins\")))>=1,CELL(\"contents\",INDIRECT(ADDRESS($D$3+$E23,4+F$4,1,1,\"Sorcadins\"))),0)","v":0},{"$f":"IF(CELL(\"contents\",INDIRECT(ADDRESS($D$3+$E23,4+G$4,1,1,\"Sorcadins\")))>=1,CELL(\"contents\",INDIRECT(ADDRESS($D$3+$E23,4+G$4,1,1,\"Sorcadins\"))),0)","v":0},{"$f":"IF(CELL(\"contents\",INDIRECT(ADDRESS($D$3+$E23,4+H$4,1,1,\"Sorcadins\")))>=1,CELL(\"contents\",INDIRECT(ADDRESS($D$3+$E23,4+H$4,1,1,\"Sorcadins\"))),0)","v":0},{"$f":"IF(CELL(\"contents\",INDIRECT(ADDRESS($D$3+$E23,4+I$4,1,1,\"Sorcadins\")))>=1,CELL(\"contents\",INDIRECT(ADDRESS($D$3+$E23,4+I$4,1,1,\"Sorcadins\"))),0)","v":0},{"$f":"IF(CELL(\"contents\",INDIRECT(ADDRESS($D$3+$E23,4+J$4,1,1,\"Sorcadins\")))>=1,CELL(\"contents\",INDIRECT(ADDRESS($D$3+$E23,4+J$4,1,1,\"Sorcadins\"))),0)","v":0},{"$f":"IF(CELL(\"contents\",INDIRECT(ADDRESS($D$3+$E23,4+K$4,1,1,\"Sorcadins\")))>=1,CELL(\"contents\",INDIRECT(ADDRESS($D$3+$E23,4+K$4,1,1,\"Sorcadins\"))),0)","v":0},{"$f":"IF(CELL(\"contents\",INDIRECT(ADDRESS($D$3+$E23,4+L$4,1,1,\"Sorcadins\")))>=1,CELL(\"contents\",INDIRECT(ADDRESS($D$3+$E23,4+L$4,1,1,\"Sorcadins\"))),0)","v":0},{"$f":"IF(CELL(\"contents\",INDIRECT(ADDRESS($D$3+$E23,4+M$4,1,1,\"Sorcadins\")))>=1,CELL(\"contents\",INDIRECT(ADDRESS($D$3+$E23,4+M$4,1,1,\"Sorcadins\"))),0)","v":0},{"$f":"IF(CELL(\"contents\",INDIRECT(ADDRESS($D$3+$E23,4+N$4,1,1,\"Sorcadins\")))>=1,CELL(\"contents\",INDIRECT(ADDRESS($D$3+$E23,4+N$4,1,1,\"Sorcadins\"))),0)","v":0},{"$f":"IF(CELL(\"contents\",INDIRECT(ADDRESS($D$3+$E23,4+O$4,1,1,\"Sorcadins\")))>=1,CELL(\"contents\",INDIRECT(ADDRESS($D$3+$E23,4+O$4,1,1,\"Sorcadins\"))),0)","v":0},{"$f":"IF(CELL(\"contents\",INDIRECT(ADDRESS($D$3+$E23,4+P$4,1,1,\"Sorcadins\")))>=1,CELL(\"contents\",INDIRECT(ADDRESS($D$3+$E23,4+P$4,1,1,\"Sorcadins\"))),0)","v":0},{"$f":"IF(CELL(\"contents\",INDIRECT(ADDRESS($D$3+$E23,4+Q$4,1,1,\"Sorcadins\")))>=1,CELL(\"contents\",INDIRECT(ADDRESS($D$3+$E23,4+Q$4,1,1,\"Sorcadins\"))),0)","v":0},{"$f":"IF(CELL(\"contents\",INDIRECT(ADDRESS($D$3+$E23,4+R$4,1,1,\"Sorcadins\")))>=1,CELL(\"contents\",INDIRECT(ADDRESS($D$3+$E23,4+R$4,1,1,\"Sorcadins\"))),0)","v":0},{"$f":"IF(CELL(\"contents\",INDIRECT(ADDRESS($D$3+$E23,4+S$4,1,1,\"Sorcadins\")))>=1,CELL(\"contents\",INDIRECT(ADDRESS($D$3+$E23,4+S$4,1,1,\"Sorcadins\"))),0)","v":0},{"$f":"IF(CELL(\"contents\",INDIRECT(ADDRESS($D$3+$E23,4+T$4,1,1,\"Sorcadins\")))>=1,CELL(\"contents\",INDIRECT(ADDRESS($D$3+$E23,4+T$4,1,1,\"Sorcadins\"))),0)","v":0},{"$f":"IF(CELL(\"contents\",INDIRECT(ADDRESS($D$3+$E23,4+U$4,1,1,\"Sorcadins\")))>=1,CELL(\"contents\",INDIRECT(ADDRESS($D$3+$E23,4+U$4,1,1,\"Sorcadins\"))),0)","v":0},{"$f":"IF(CELL(\"contents\",INDIRECT(ADDRESS($D$3+$E23,4+V$4,1,1,\"Sorcadins\")))>=1,CELL(\"contents\",INDIRECT(ADDRESS($D$3+$E23,4+V$4,1,1,\"Sorcadins\"))),0)","v":0},{"$f":"IF(CELL(\"contents\",INDIRECT(ADDRESS($D$3+$E23,4+W$4,1,1,\"Sorcadins\")))>=1,CELL(\"contents\",INDIRECT(ADDRESS($D$3+$E23,4+W$4,1,1,\"Sorcadins\"))),0)","v":0},{"$f":"IF(CELL(\"contents\",INDIRECT(ADDRESS($D$3+$E23,4+X$4,1,1,\"Sorcadins\")))>=1,CELL(\"contents\",INDIRECT(ADDRESS($D$3+$E23,4+X$4,1,1,\"Sorcadins\"))),0)","v":0},{"$f":"IF(CELL(\"contents\",INDIRECT(ADDRESS($D$3+$E23,4+Y$4,1,1,\"Sorcadins\")))>=1,CELL(\"contents\",INDIRECT(ADDRESS($D$3+$E23,4+Y$4,1,1,\"Sorcadins\"))),0)","v":0},null,{"$f":"SUM(F$6:INDEX(F:F,5+$C23))","v":0},{"$f":"SUM(G$6:INDEX(G:G,5+$C23))","v":0},{"$f":"SUM(H$6:INDEX(H:H,5+$C23))","v":0},{"$f":"SUM(I$6:INDEX(I:I,5+$C23))","v":0},{"$f":"SUM(J$6:INDEX(J:J,5+$C23))","v":0},{"$f":"SUM(K$6:INDEX(K:K,5+$C23))","v":0},{"$f":"SUM(L$6:INDEX(L:L,5+$C23))","v":0},{"$f":"SUM(M$6:INDEX(M:M,5+$C23))","v":0},{"$f":"SUM(N$6:INDEX(N:N,5+$C23))","v":0},{"$f":"SUM(O$6:INDEX(O:O,5+$C23))","v":0},{"$f":"SUM(P$6:INDEX(P:P,5+$C23))","v":0},{"$f":"SUM(Q$6:INDEX(Q:Q,5+$C23))","v":0},{"$f":"SUM(R$6:INDEX(R:R,5+$C23))","v":0},{"$f":"SUM(S$6:INDEX(S:S,5+$C23))","v":0},{"$f":"SUM(T$6:INDEX(T:T,5+$C23))","v":0},{"$f":"SUM(U$6:INDEX(U:U,5+$C23))","v":0},{"$f":"SUM(V$6:INDEX(V:V,5+$C23))","v":0},{"$f":"SUM(W$6:INDEX(W:W,5+$C23))","v":0},{"$f":"SUM(X$6:INDEX(X:X,5+$C23))","v":0},{"$f":"SUM(Y$6:INDEX(Y:Y,5+$C23))","v":0},null,{"$f":"IF(AA23>0,IF(Sorcadins!E$265>Sorcadins!E$269,MIN(Sorcadins!E$265,Sorcadins!E$263/AA23),CELL(\"contents\",INDIRECT(ADDRESS(43+Sorcadins!E$21,ROUNDUP(5+MIN(20,AA23),0),1,1,\"Caster Tables\")))),0)","v":0},{"$f":"IF(AB23>0,IF(Sorcadins!F$265>Sorcadins!F$269,MIN(Sorcadins!F$265,Sorcadins!F$263/AB23),CELL(\"contents\",INDIRECT(ADDRESS(43+Sorcadins!F$21,ROUNDUP(5+MIN(20,AB23),0),1,1,\"Caster Tables\")))),0)","v":0},{"$f":"IF(AC23>0,IF(Sorcadins!G$265>Sorcadins!G$269,MIN(Sorcadins!G$265,Sorcadins!G$263/AC23),CELL(\"contents\",INDIRECT(ADDRESS(43+Sorcadins!G$21,ROUNDUP(5+MIN(20,AC23),0),1,1,\"Caster Tables\")))),0)","v":0},{"$f":"IF(AD23>0,IF(Sorcadins!H$265>Sorcadins!H$269,MIN(Sorcadins!H$265,Sorcadins!H$263/AD23),CELL(\"contents\",INDIRECT(ADDRESS(43+Sorcadins!H$21,ROUNDUP(5+MIN(20,AD23),0),1,1,\"Caster Tables\")))),0)","v":0},{"$f":"IF(AE23>0,IF(Sorcadins!I$265>Sorcadins!I$269,MIN(Sorcadins!I$265,Sorcadins!I$263/AE23),CELL(\"contents\",INDIRECT(ADDRESS(43+Sorcadins!I$21,ROUNDUP(5+MIN(20,AE23),0),1,1,\"Caster Tables\")))),0)","v":0},{"$f":"IF(AF23>0,IF(Sorcadins!J$265>Sorcadins!J$269,MIN(Sorcadins!J$265,Sorcadins!J$263/AF23),CELL(\"contents\",INDIRECT(ADDRESS(43+Sorcadins!J$21,ROUNDUP(5+MIN(20,AF23),0),1,1,\"Caster Tables\")))),0)","v":0},{"$f":"IF(AG23>0,IF(Sorcadins!K$265>Sorcadins!K$269,MIN(Sorcadins!K$265,Sorcadins!K$263/AG23),CELL(\"contents\",INDIRECT(ADDRESS(43+Sorcadins!K$21,ROUNDUP(5+MIN(20,AG23),0),1,1,\"Caster Tables\")))),0)","v":0},{"$f":"IF(AH23>0,IF(Sorcadins!L$265>Sorcadins!L$269,MIN(Sorcadins!L$265,Sorcadins!L$263/AH23),CELL(\"contents\",INDIRECT(ADDRESS(43+Sorcadins!L$21,ROUNDUP(5+MIN(20,AH23),0),1,1,\"Caster Tables\")))),0)","v":0},{"$f":"IF(AI23>0,IF(Sorcadins!M$265>Sorcadins!M$269,MIN(Sorcadins!M$265,Sorcadins!M$263/AI23),CELL(\"contents\",INDIRECT(ADDRESS(43+Sorcadins!M$21,ROUNDUP(5+MIN(20,AI23),0),1,1,\"Caster Tables\")))),0)","v":0},{"$f":"IF(AJ23>0,IF(Sorcadins!N$265>Sorcadins!N$269,MIN(Sorcadins!N$265,Sorcadins!N$263/AJ23),CELL(\"contents\",INDIRECT(ADDRESS(43+Sorcadins!N$21,ROUNDUP(5+MIN(20,AJ23),0),1,1,\"Caster Tables\")))),0)","v":0},{"$f":"IF(AK23>0,IF(Sorcadins!O$265>Sorcadins!O$269,MIN(Sorcadins!O$265,Sorcadins!O$263/AK23),CELL(\"contents\",INDIRECT(ADDRESS(43+Sorcadins!O$21,ROUNDUP(5+MIN(20,AK23),0),1,1,\"Caster Tables\")))),0)","v":0},{"$f":"IF(AL23>0,IF(Sorcadins!P$265>Sorcadins!P$269,MIN(Sorcadins!P$265,Sorcadins!P$263/AL23),CELL(\"contents\",INDIRECT(ADDRESS(43+Sorcadins!P$21,ROUNDUP(5+MIN(20,AL23),0),1,1,\"Caster Tables\")))),0)","v":0},{"$f":"IF(AM23>0,IF(Sorcadins!Q$265>Sorcadins!Q$269,MIN(Sorcadins!Q$265,Sorcadins!Q$263/AM23),CELL(\"contents\",INDIRECT(ADDRESS(43+Sorcadins!Q$21,ROUNDUP(5+MIN(20,AM23),0),1,1,\"Caster Tables\")))),0)","v":0},{"$f":"IF(AN23>0,IF(Sorcadins!R$265>Sorcadins!R$269,MIN(Sorcadins!R$265,Sorcadins!R$263/AN23),CELL(\"contents\",INDIRECT(ADDRESS(43+Sorcadins!R$21,ROUNDUP(5+MIN(20,AN23),0),1,1,\"Caster Tables\")))),0)","v":0},{"$f":"IF(AO23>0,IF(Sorcadins!S$265>Sorcadins!S$269,MIN(Sorcadins!S$265,Sorcadins!S$263/AO23),CELL(\"contents\",INDIRECT(ADDRESS(43+Sorcadins!S$21,ROUNDUP(5+MIN(20,AO23),0),1,1,\"Caster Tables\")))),0)","v":0},{"$f":"IF(AP23>0,IF(Sorcadins!T$265>Sorcadins!T$269,MIN(Sorcadins!T$265,Sorcadins!T$263/AP23),CELL(\"contents\",INDIRECT(ADDRESS(43+Sorcadins!T$21,ROUNDUP(5+MIN(20,AP23),0),1,1,\"Caster Tables\")))),0)","v":0},{"$f":"IF(AQ23>0,IF(Sorcadins!U$265>Sorcadins!U$269,MIN(Sorcadins!U$265,Sorcadins!U$263/AQ23),CELL(\"contents\",INDIRECT(ADDRESS(43+Sorcadins!U$21,ROUNDUP(5+MIN(20,AQ23),0),1,1,\"Caster Tables\")))),0)","v":0},{"$f":"IF(AR23>0,IF(Sorcadins!V$265>Sorcadins!V$269,MIN(Sorcadins!V$265,Sorcadins!V$263/AR23),CELL(\"contents\",INDIRECT(ADDRESS(43+Sorcadins!V$21,ROUNDUP(5+MIN(20,AR23),0),1,1,\"Caster Tables\")))),0)","v":0},{"$f":"IF(AS23>0,IF(Sorcadins!W$265>Sorcadins!W$269,MIN(Sorcadins!W$265,Sorcadins!W$263/AS23),CELL(\"contents\",INDIRECT(ADDRESS(43+Sorcadins!W$21,ROUNDUP(5+MIN(20,AS23),0),1,1,\"Caster Tables\")))),0)","v":0},{"$f":"IF(AT23>0,IF(Sorcadins!X$265>Sorcadins!X$269,MIN(Sorcadins!X$265,Sorcadins!X$263/AT23),CELL(\"contents\",INDIRECT(ADDRESS(43+Sorcadins!X$21,ROUNDUP(5+MIN(20,AT23),0),1,1,\"Caster Tables\")))),0)","v":0},null,0,0,0,0,0,0,0,0,0,0,0,0,0,0,0,0,0,0,0,0,null,{"$f":"IF(AV23>0,MIN(AV23,MAX(0,IF(F23>=0,AV23,0)-SUM(DG$6:INDEX(DG:DG,5+$C23-1))/AA23)*BQ23),0)","v":0},{"$f":"IF(AW23>0,MIN(AW23,MAX(0,IF(G23>=0,AW23,0)-SUM(DH$6:INDEX(DH:DH,5+$C23-1))/AB23)*BR23),0)","v":0},{"$f":"IF(AX23>0,MIN(AX23,MAX(0,IF(H23>=0,AX23,0)-SUM(DI$6:INDEX(DI:DI,5+$C23-1))/AC23)*BS23),0)","v":0},{"$f":"IF(AY23>0,MIN(AY23,MAX(0,IF(I23>=0,AY23,0)-SUM(DJ$6:INDEX(DJ:DJ,5+$C23-1))/AD23)*BT23),0)","v":0},{"$f":"IF(AZ23>0,MIN(AZ23,MAX(0,IF(J23>=0,AZ23,0)-SUM(DK$6:INDEX(DK:DK,5+$C23-1))/AE23)*BU23),0)","v":0},{"$f":"IF(BA23>0,MIN(BA23,MAX(0,IF(K23>=0,BA23,0)-SUM(DL$6:INDEX(DL:DL,5+$C23-1))/AF23)*BV23),0)","v":0},{"$f":"IF(BB23>0,MIN(BB23,MAX(0,IF(L23>=0,BB23,0)-SUM(DM$6:INDEX(DM:DM,5+$C23-1))/AG23)*BW23),0)","v":0},{"$f":"IF(BC23>0,MIN(BC23,MAX(0,IF(M23>=0,BC23,0)-SUM(DN$6:INDEX(DN:DN,5+$C23-1))/AH23)*BX23),0)","v":0},{"$f":"IF(BD23>0,MIN(BD23,MAX(0,IF(N23>=0,BD23,0)-SUM(DO$6:INDEX(DO:DO,5+$C23-1))/AI23)*BY23),0)","v":0},{"$f":"IF(BE23>0,MIN(BE23,MAX(0,IF(O23>=0,BE23,0)-SUM(DP$6:INDEX(DP:DP,5+$C23-1))/AJ23)*BZ23),0)","v":0},{"$f":"IF(BF23>0,MIN(BF23,MAX(0,IF(P23>=0,BF23,0)-SUM(DQ$6:INDEX(DQ:DQ,5+$C23-1))/AK23)*CA23),0)","v":0},{"$f":"IF(BG23>0,MIN(BG23,MAX(0,IF(Q23>=0,BG23,0)-SUM(DR$6:INDEX(DR:DR,5+$C23-1))/AL23)*CB23),0)","v":0},{"$f":"IF(BH23>0,MIN(BH23,MAX(0,IF(R23>=0,BH23,0)-SUM(DS$6:INDEX(DS:DS,5+$C23-1))/AM23)*CC23),0)","v":0},{"$f":"IF(BI23>0,MIN(BI23,MAX(0,IF(S23>=0,BI23,0)-SUM(DT$6:INDEX(DT:DT,5+$C23-1))/AN23)*CD23),0)","v":0},{"$f":"IF(BJ23>0,MIN(BJ23,MAX(0,IF(T23>=0,BJ23,0)-SUM(DU$6:INDEX(DU:DU,5+$C23-1))/AO23)*CE23),0)","v":0},{"$f":"IF(BK23>0,MIN(BK23,MAX(0,IF(U23>=0,BK23,0)-SUM(DV$6:INDEX(DV:DV,5+$C23-1))/AP23)*CF23),0)","v":0},{"$f":"IF(BL23>0,MIN(BL23,MAX(0,IF(V23>=0,BL23,0)-SUM(DW$6:INDEX(DW:DW,5+$C23-1))/AQ23)*CG23),0)","v":0},{"$f":"IF(BM23>0,MIN(BM23,MAX(0,IF(W23>=0,BM23,0)-SUM(DX$6:INDEX(DX:DX,5+$C23-1))/AR23)*CH23),0)","v":0},{"$f":"IF(BN23>0,MIN(BN23,MAX(0,IF(X23>=0,BN23,0)-SUM(DY$6:INDEX(DY:DY,5+$C23-1))/AS23)*CI23),0)","v":0},{"$f":"IF(BO23>0,MIN(BO23,MAX(0,IF(Y23>=0,BO23,0)-SUM(DZ$6:INDEX(DZ:DZ,5+$C23-1))/AT23)*CJ23),0)","v":0},null,0,0,0,0,0,0,0,0,0,0,0,0,0,0,0,0,0,0,0,0,null,"Tiny Servant"]

{"sheet":"Concentration Tables","index":7,"n_rows":201,"n_cols":13,"rows_kept":201}
[]
[]
[null,"LEVEL 1",{"$nulls":5},"Fight Duration:"]
[null,"for Character",null,1,2,3,4,5,6,7,8,9,10]
[null,"prob given another round",null,{"$f":"(1-Sorcadins!$E$300)^D4*Sorcadins!$E$300","v":0.25},{"$f":"(1-Sorcadins!$E$300)^E4*Sorcadins!$E$300","v":0.125},{"$f":"(1-Sorcadins!$E$300)^F4*Sorcadins!$E$300","v":0.0625},{"$f":"(1-Sorcadins!$E$300)^G4*Sorcadins!$E$300","v":0.03125},{"$f":"(1-Sorcadins!$E$300)^H4*Sorcadins!$E$300","v":0.015625},{"$f":"(1-Sorcadins!$E$300)^I4*Sorcadins!$E$300","v":7.8125E-3},{"$f":"(1-Sorcadins!$E$300)^J4*Sorcadins!$E$300","v":3.90625E-3},{"$f":"(1-Sorcadins!$E$300)^K4*Sorcadins!$E$300","v":1.953125E-3},{"$f":"(1-Sorcadins!$E$300)^L4*Sorcadins!$E$300","v":9.765625E-4},{"$f":"(1-Sorcadins!$E$300)^M4*Sorcadins!$E$300","v":4.8828125E-4}]
[null,"prob given last round",null,{"$f":"(1-Sorcadins!$E$300)^D4","v":0.5},{"$f":"(1-Sorcadins!$E$300)^E4","v":0.25},{"$f":"(1-Sorcadins!$E$300)^F4","v":0.125},{"$f":"(1-Sorcadins!$E$300)^G4","v":0.0625},{"$f":"(1-Sorcadins!$E$300)^H4","v":0.03125},{"$f":"(1-Sorcadins!$E$300)^I4","v":0.015625},{"$f":"(1-Sorcadins!$E$300)^J4","v":7.8125E-3},{"$f":"(1-Sorcadins!$E$300)^K4","v":3.90625E-3},{"$f":"(1-Sorcadins!$E$300)^L4","v":1.953125E-3},{"$f":"(1-Sorcadins!$E$300)^M4","v":9.765625E-4}]
[null,"expectation given n rounds",null,{"$f":"D4*D6","v":0.5},{"$f":"D4*D5+E4*E6","v":0.75},{"$f":"D4*D5+E4*E5+F4*F6","v":0.875},{"$f":"D4*D5+E4*E5+F4*F5+G4*G6","v":0.9375},{"$f":"D4*D5+E4*E5+F4*F5+G4*G5+H4*H6","v":0.96875},{"$f":"D4*D5+E4*E5+F4*F5+G4*G5+H4*H5+I4*I6","v":0.984375},{"$f":"D4*D5+E4*E5+F4*F5+G4*G5+H4*H5+I4*I5+J4*J6","v":0.9921875},{"$f":"D4*D5+E4*E5+F4*F5+G4*G5+H4*H5+I4*I5+J4*J5+K4*K6","v":0.99609375},{"$f":"D4*D5+E4*E5+F4*F5+G4*G5+H4*H5+I4*I5+J4*J5+K4*K5+L4*L6","v":0.998046875},{"$f":"D4*D5+E4*E5+F4*F5+G4*G5+H4*H5+I4*I5+J4*J5+K4*K5+L4*L5+M4*M6","v":0.9990234375}]
[null,"for Character, Defensive",null,1,2,3,4,5,6,7,8,9,10]
[null,"prob given another round",null,{"$f":"(1-Sorcadins!$E$301)^D8*Sorcadins!$E$301","v":0.234375},{"$f":"(1-Sorcadins!$E$301)^E8*Sorcadins!$E$301","v":0.146484375},{"$f":"(1-Sorcadins!$E$301)^F8*Sorcadins!$E$301","v":0.091552734375},{"$f":"(1-Sorcadins!$E$301)^G8*Sorcadins!$E$301","v":0.057220458984375},{"$f":"(1-Sorcadins!$E$301)^H8*Sorcadins!$E$301","v":0.035762786865234375},{"$f":"(1-Sorcadins!$E$301)^I8*Sorcadins!$E$301","v":0.022351741790771484},{"$f":"(1-Sorcadins!$E$301)^J8*Sorcadins!$E$301","v":0.013969838619232178},{"$f":"(1-Sorcadins!$E$301)^K8*Sorcadins!$E$301","v":0.008731149137020111},{"$f":"(1-Sorcadins!$E$301)^L8*Sorcadins!$E$301","v":0.005456968210637569},{"$f":"(1-Sorcadins!$E$301)^M8*Sorcadins!$E$301","v":0.003410605131648481}]
[null,"prob given last round",null,{"$f":"(1-Sorcadins!$E$301)^D8","v":0.625},{"$f":"(1-Sorcadins!$E$301)^E8","v":0.390625},{"$f":"(1-Sorcadins!$E$301)^F8","v":0.244140625},{"$f":"(1-Sorcadins!$E$301)^G8","v":0.152587890625},{"$f":"(1-Sorcadins!$E$301)^H8","v":0.095367431640625},{"$f":"(1-Sorcadins!$E$301)^I8","v":0.059604644775390625},{"$f":"(1-Sorcadins!$E$301)^J8","v":0.03725290298461914},{"$f":"(1-Sorcadins!$E$301)^K8","v":0.023283064365386963},{"$f":"(1-Sorcadins!$E$301)^L8","v":0.014551915228366852},{"$f":"(1-Sorcadins!$E$301)^M8","v":0.009094947017729282}]
[null,"expectation given n rounds",null,{"$f":"D8*D10","v":0.625},{"$f":"D8*D9+E8*E10","v":1.015625},{"$f":"D8*D9+E8*E9+F8*F10","v":1.259765625},{"$f":"D8*D9+E8*E9+F8*F9+G8*G10","v":1.412353515625},{"$f":"D8*D9+E8*E9+F8*F9+G8*G9+H8*H10","v":1.507720947265625},{"$f":"D8*D9+E8*E9+F8*F9+G8*G9+H8*H9+I8*I10","v":1.5673255920410156},{"$f":"D8*D9+E8*E9+F8*F9+G8*G9+H8*H9+I8*I9+J8*J10","v":1.6045784950256348},{"$f":"D8*D9+E8*E9+F8*F9+G8*G9+H8*H9+I8*I9+J8*J9+K8*K10","v":1.6278615593910217},{"$f":"D8*D9+E8*E9+F8*F9+G8*G9+H8*H9+I8*I9+J8*J9+K8*K9+L8*L10","v":1.6424134746193886},{"$f":"D8*D9+E8*E9+F8*F9+G8*G9+H8*H9+I8*I9+J8*J9+K8*K9+L8*L9+M8*M10","v":1.6515084216371179}]
[]
[null,"LEVEL 2",{"$nulls":5},"Fight Duration:"]
[null,"for Character",null,1,2,3,4,5,6,7,8,9,10]
[null,"prob given another round",null,{"$f":"(1-Sorcadins!$F$300)^D14*Sorcadins!$F$300","v":0.25},{"$f":"(1-Sorcadins!$F$300)^E14*Sorcadins!$F$300","v":0.125},{"$f":"(1-Sorcadins!$F$300)^F14*Sorcadins!$F$300","v":0.0625},{"$f":"(1-Sorcadins!$F$300)^G14*Sorcadins!$F$300","v":0.03125},{"$f":"(1-Sorcadins!$F$300)^H14*Sorcadins!$F$300","v":0.015625},{"$f":"(1-Sorcadins!$F$300)^I14*Sorcadins!$F$300","v":7.8125E-3},{"$f":"(1-Sorcadins!$F$300)^J14*Sorcadins!$F$300","v":3.90625E-3},{"$f":"(1-Sorcadins!$F$300)^K14*Sorcadins!$F$300","v":1.953125E-3},{"$f":"(1-Sorcadins!$F$300)^L14*Sorcadins!$F$300","v":9.765625E-4},{"$f":"(1-Sorcadins!$F$300)^M14*Sorcadins!$F$300","v":4.8828125E-4}]
[null,"prob given last round",null,{"$f":"(1-Sorcadins!$F$300)^D14","v":0.5},{"$f":"(1-Sorcadins!$F$300)^E14","v":0.25},{"$f":"(1-Sorcadins!$F$300)^F14","v":0.125},{"$f":"(1-Sorcadins!$F$300)^G14","v":0.0625},{"$f":"(1-Sorcadins!$F$300)^H14","v":0.03125},{"$f":"(1-Sorcadins!$F$300)^I14","v":0.015625},{"$f":"(1-Sorcadins!$F$300)^J14","v":7.8125E-3},{"$f":"(1-Sorcadins!$F$300)^K14","v":3.90625E-3},{"$f":"(1-Sorcadins!$F$300)^L14","v":1.953125E-3},{"$f":"(1-Sorcadins!$F$300)^M14","v":9.765625E-4}]
[null,"expectation given n rounds",null,{"$f":"D14*D16","v":0.5},{"$f":"D14*D15+E14*E16","v":0.75},{"$f":"D14*D15+E14*E15+F14*F16","v":0.875},{"$f":"D14*D15+E14*E15+F14*F15+G14*G16","v":0.9375},{"$f":"D14*D15+E14*E15+F14*F15+G14*G15+H14*H16","v":0.96875},{"$f":"D14*D15+E14*E15+F14*F15+G14*G15+H14*H15+I14*I16","v":0.984375},{"$f":"D14*D15+E14*E15+F14*F15+G14*G15+H14*H15+I14*I15+J14*J16","v":0.9921875},{"$f":"D14*D15+E14*E15+F14*F15+G14*G15+H14*H15+I14*I15+J14*J15+K14*K16","v":0.99609375},{"$f":"D14*D15+E14*E15+F14*F15+G14*G15+H14*H15+I14*I15+J14*J15+K14*K15+L14*L16","v":0.998046875},{"$f":"D14*D15+E14*E15+F14*F15+G14*G15+H14*H15+I14*I15+J14*J15+K14*K15+L14*L15+M14*M16","v":0.9990234375}]
[null,"for Character, Defensive",null,1,2,3,4,5,6,7,8,9,10]
[null,"prob given another round",null,{"$f":"(1-Sorcadins!$F$301)^D18*Sorcadins!$F$301","v":0.234375},{"$f":"(1-Sorcadins!$F$301)^E18*Sorcadins!$F$301","v":0.146484375},{"$f":"(1-Sorcadins!$F$301)^F18*Sorcadins!$F$301","v":0.091552734375},{"$f":"(1-Sorcadins!$F$301)^G18*Sorcadins!$F$301","v":0.057220458984375},{"$f":"(1-Sorcadins!$F$301)^H18*Sorcadins!$F$301","v":0.035762786865234375},{"$f":"(1-Sorcadins!$F$301)^I18*Sorcadins!$F$301","v":0.022351741790771484},{"$f":"(1-Sorcadins!$F$301)^J18*Sorcadins!$F$301","v":0.013969838619232178},{"$f":"(1-Sorcadins!$F$301)^K18*Sorcadins!$F$301","v":0.008731149137020111},{"$f":"(1-Sorcadins!$F$301)^L18*Sorcadins!$F$301","v":0.005456968210637569},{"$f":"(1-Sorcadins!$F$301)^M18*Sorcadins!$F$301","v":0.003410605131648481}]
[null,"prob given last round",null,{"$f":"(1-Sorcadins!$F$301)^D18","v":0.625},{"$f":"(1-Sorcadins!$F$301)^E18","v":0.390625},{"$f":"(1-Sorcadins!$F$301)^F18","v":0.244140625},{"$f":"(1-Sorcadins!$F$301)^G18","v":0.152587890625},{"$f":"(1-Sorcadins!$F$301)^H18","v":0.095367431640625},{"$f":"(1-Sorcadins!$F$301)^I18","v":0.059604644775390625},{"$f":"(1-Sorcadins!$F$301)^J18","v":0.03725290298461914},{"$f":"(1-Sorcadins!$F$301)^K18","v":0.023283064365386963},{"$f":"(1-Sorcadins!$F$301)^L18","v":0.014551915228366852},{"$f":"(1-Sorcadins!$F$301)^M18","v":0.009094947017729282}]
[null,"expectation given n rounds",null,{"$f":"D18*D20","v":0.625},{"$f":"D18*D19+E18*E20","v":1.015625},{"$f":"D18*D19+E18*E19+F18*F20","v":1.259765625},{"$f":"D18*D19+E18*E19+F18*F19+G18*G20","v":1.412353515625},{"$f":"D18*D19+E18*E19+F18*F19+G18*G19+H18*H20","v":1.507720947265625},{"$f":"D18*D19+E18*E19+F18*F19+G18*G19+H18*H19+I18*I20","v":1.5673255920410156},{"$f":"D18*D19+E18*E19+F18*F19+G18*G19+H18*H19+I18*I19+J18*J20","v":1.6045784950256348},{"$f":"D18*D19+E18*E19+F18*F19+G18*G19+H18*H19+I18*I19+J18*J19+K18*K20","v":1.6278615593910217},{"$f":"D18*D19+E18*E19+F18*F19+G18*G19+H18*H19+I18*I19+J18*J19+K18*K19+L18*L20","v":1.6424134746193886},{"$f":"D18*D19+E18*E19+F18*F19+G18*G19+H18*H19+I18*I19+J18*J19+K18*K19+L18*L19+M18*M20","v":1.6515084216371179}]
[]
[null,"LEVEL 3",{"$nulls":5},"Fight Duration:"]
[null,"for Character",null,1,2,3,4,5,6,7,8,9,10]
[null,"prob given another round",null,{"$f":"(1-Sorcadins!$G$300)^D24*Sorcadins!$G$300","v":0.25},{"$f":"(1-Sorcadins!$G$300)^E24*Sorcadins!$G$300","v":0.125},{"$f":"(1-Sorcadins!$G$300)^F24*Sorcadins!$G$300","v":0.0625},{"$f":"(1-Sorcadins!$G$300)^G24*Sorcadins!$G$300","v":0.03125},{"$f":"(1-Sorcadins!$G$300)^H24*Sorcadins!$G$300","v":0.015625},{"$f":"(1-Sorcadins!$G$300)^I24*Sorcadins!$G$300","v":7.8125E-3},{"$f":"(1-Sorcadins!$G$300)^J24*Sorcadins!$G$300","v":3.90625E-3},{"$f":"(1-Sorcadins!$G$300)^K24*Sorcadins!$G$300","v":1.953125E-3},{"$f":"(1-Sorcadins!$G$300)^L24*Sorcadins!$G$300","v":9.765625E-4},{"$f":"(1-Sorcadins!$G$300)^M24*Sorcadins!$G$300","v":4.8828125E-4}]
[null,"prob given last round",null,{"$f":"(1-Sorcadins!$G$300)^D24","v":0.5},{"$f":"(1-Sorcadins!$G$300)^E24","v":0.25},{"$f":"(1-Sorcadins!$G$300)^F24","v":0.125},{"$f":"(1-Sorcadins!$G$300)^G24","v":0.0625},{"$f":"(1-Sorcadins!$G$300)^H24","v":0.03125},{"$f":"(1-Sorcadins!$G$300)^I24","v":0.015625},{"$f":"(1-Sorcadins!$G$300)^J24","v":7.8125E-3},{"$f":"(1-Sorcadins!$G$300)^K24","v":3.90625E-3},{"$f":"(1-Sorcadins!$G$300)^L24","v":1.953125E-3},{"$f":"(1-Sorcadins!$G$300)^M24","v":9.765625E-4}]
[null,"expectation given n rounds",null,{"$f":"D24*D26","v":0.5},{"$f":"D24*D25+E24*E26","v":0.75},{"$f":"D24*D25+E24*E25+F24*F26","v":0.875},{"$f":"D24*D25+E24*E25+F24*F25+G24*G26","v":0.9375},{"$f":"D24*D25+E24*E25+F24*F25+G24*G25+H24*H26","v":0.96875},{"$f":"D24*D25+E24*E25+F24*F25+G24*G25+H24*H25+I24*I26","v":0.984375},{"$f":"D24*D25+E24*E25+F24*F25+G24*G25+H24*H25+I24*I25+J24*J26","v":0.9921875},{"$f":"D24*D25+E24*E25+F24*F25+G24*G25+H24*H25+I24*I25+J24*J25+K24*K26","v":0.99609375},{"$f":"D24*D25+E24*E25+F24*F25+G24*G25+H24*H25+I24*I25+J24*J25+K24*K25+L24*L26","v":0.998046875},{"$f":"D24*D25+E24*E25+F24*F25+G24*G25+H24*H25+I24*I25+J24*J25+K24*K25+L24*L25+M24*M26","v":0.9990234375}]
[null,"for Character, Defensive",null,1,2,3,4,5,6,7,8,9,10]
[null,"prob given another round",null,{"$f":"(1-Sorcadins!$G$301)^D28*Sorcadins!$G$301","v":0.234375},{"$f":"(1-Sorcadins!$G$301)^E28*Sorcadins!$G$301","v":0.146484375},{"$f":"(1-Sorcadins!$G$301)^F28*Sorcadins!$G$301","v":0.091552734375},{"$f":"(1-Sorcadins!$G$301)^G28*Sorcadins!$G$301","v":0.057220458984375},{"$f":"(1-Sorcadins!$G$301)^H28*Sorcadins!$G$301","v":0.035762786865234375},{"$f":"(1-Sorcadins!$G$301)^I28*Sorcadins!$G$301","v":0.022351741790771484},{"$f":"(1-Sorcadins!$G$301)^J28*Sorcadins!$G$301","v":0.013969838619232178},{"$f":"(1-Sorcadins!$G$301)^K28*Sorcadins!$G$301","v":0.008731149137020111},{"$f":"(1-Sorcadins!$G$301)^L28*Sorcadins!$G$301","v":0.005456968210637569},{"$f":"(1-Sorcadins!$G$301)^M28*Sorcadins!$G$301","v":0.003410605131648481}]
[null,"prob given last round",null,{"$f":"(1-Sorcadins!$G$301)^D28","v":0.625},{"$f":"(1-Sorcadins!$G$301)^E28","v":0.390625},{"$f":"(1-Sorcadins!$G$301)^F28","v":0.244140625},{"$f":"(1-Sorcadins!$G$301)^G28","v":0.152587890625},{"$f":"(1-Sorcadins!$G$301)^H28","v":0.095367431640625},{"$f":"(1-Sorcadins!$G$301)^I28","v":0.059604644775390625},{"$f":"(1-Sorcadins!$G$301)^J28","v":0.03725290298461914},{"$f":"(1-Sorcadins!$G$301)^K28","v":0.023283064365386963},{"$f":"(1-Sorcadins!$G$301)^L28","v":0.014551915228366852},{"$f":"(1-Sorcadins!$G$301)^M28","v":0.009094947017729282}]
[null,"expectation given n rounds",null,{"$f":"D28*D30","v":0.625},{"$f":"D28*D29+E28*E30","v":1.015625},{"$f":"D28*D29+E28*E29+F28*F30","v":1.259765625},{"$f":"D28*D29+E28*E29+F28*F29+G28*G30","v":1.412353515625},{"$f":"D28*D29+E28*E29+F28*F29+G28*G29+H28*H30","v":1.507720947265625},{"$f":"D28*D29+E28*E29+F28*F29+G28*G29+H28*H29+I28*I30","v":1.5673255920410156},{"$f":"D28*D29+E28*E29+F28*F29+G28*G29+H28*H29+I28*I29+J28*J30","v":1.6045784950256348},{"$f":"D28*D29+E28*E29+F28*F29+G28*G29+H28*H29+I28*I29+J28*J29+K28*K30","v":1.6278615593910217},{"$f":"D28*D29+E28*E29+F28*F29+G28*G29+H28*H29+I28*I29+J28*J29+K28*K29+L28*L30","v":1.6424134746193886},{"$f":"D28*D29+E28*E29+F28*F29+G28*G29+H28*H29+I28*I29+J28*J29+K28*K29+L28*L29+M28*M30","v":1.6515084216371179}]
[]
[null,"LEVEL 4",{"$nulls":5},"Fight Duration:"]
[null,"for Character",null,1,2,3,4,5,6,7,8,9,10]
[null,"prob given another round",null,{"$f":"(1-Sorcadins!$H$300)^D34*Sorcadins!$H$300","v":0.25},{"$f":"(1-Sorcadins!$H$300)^E34*Sorcadins!$H$300","v":0.125},{"$f":"(1-Sorcadins!$H$300)^F34*Sorcadins!$H$300","v":0.0625},{"$f":"(1-Sorcadins!$H$300)^G34*Sorcadins!$H$300","v":0.03125},{"$f":"(1-Sorcadins!$H$300)^H34*Sorcadins!$H$300","v":0.015625},{"$f":"(1-Sorcadins!$H$300)^I34*Sorcadins!$H$300","v":7.8125E-3},{"$f":"(1-Sorcadins!$H$300)^J34*Sorcadins!$H$300","v":3.90625E-3},{"$f":"(1-Sorcadins!$H$300)^K34*Sorcadins!$H$300","v":1.953125E-3},{"$f":"(1-Sorcadins!$H$300)^L34*Sorcadins!$H$300","v":9.765625E-4},{"$f":"(1-Sorcadins!$H$300)^M34*Sorcadins!$H$300","v":4.8828125E-4}]
[null,"prob given last round",null,{"$f":"(1-Sorcadins!$H$300)^D34","v":0.5},{"$f":"(1-Sorcadins!$H$300)^E34","v":0.25},{"$f":"(1-Sorcadins!$H$300)^F34","v":0.125},{"$f":"(1-Sorcadins!$H$300)^G34","v":0.0625},{"$f":"(1-Sorcadins!$H$300)^H34","v":0.03125},{"$f":"(1-Sorcadins!$H$300)^I34","v":0.015625},{"$f":"(1-Sorcadins!$H$300)^J34","v":7.8125E-3},{"$f":"(1-Sorcadins!$H$300)^K34","v":3.90625E-3},{"$f":"(1-Sorcadins!$H$300)^L34","v":1.953125E-3},{"$f":"(1-Sorcadins!$H$300)^M34","v":9.765625E-4}]
[null,"expectation given n rounds",null,{"$f":"D34*D36","v":0.5},{"$f":"D34*D35+E34*E36","v":0.75},{"$f":"D34*D35+E34*E35+F34*F36","v":0.875},{"$f":"D34*D35+E34*E35+F34*F35+G34*G36","v":0.9375},{"$f":"D34*D35+E34*E35+F34*F35+G34*G35+H34*H36","v":0.96875},{"$f":"D34*D35+E34*E35+F34*F35+G34*G35+H34*H35+I34*I36","v":0.984375},{"$f":"D34*D35+E34*E35+F34*F35+G34*G35+H34*H35+I34*I35+J34*J36","v":0.9921875},{"$f":"D34*D35+E34*E35+F34*F35+G34*G35+H34*H35+I34*I35+J34*J35+K34*K36","v":0.99609375},{"$f":"D34*D35+E34*E35+F34*F35+G34*G35+H34*H35+I34*I35+J34*J35+K34*K35+L34*L36","v":0.998046875},{"$f":"D34*D35+E34*E35+F34*F35+G34*G35+H34*H35+I34*I35+J34*J35+K34*K35+L34*L35+M34*M36","v":0.9990234375}]
[null,"for Character, Defensive",null,1,2,3,4,5,6,7,8,9,10]
[null,"prob given another round",null,{"$f":"(1-Sorcadins!$H$301)^D38*Sorcadins!$H$301","v":0.234375},{"$f":"(1-Sorcadins!$H$301)^E38*Sorcadins!$H$301","v":0.146484375},{"$f":"(1-Sorcadins!$H$301)^F38*Sorcadins!$H$301","v":0.091552734375},{"$f":"(1-Sorcadins!$H$301)^G38*Sorcadins!$H$301","v":0.057220458984375},{"$f":"(1-Sorcadins!$H$301)^H38*Sorcadins!$H$301","v":0.035762786865234375},{"$f":"(1-Sorcadins!$H$301)^I38*Sorcadins!$H$301","v":0.022351741790771484},{"$f":"(1-Sorcadins!$H$301)^J38*Sorcadins!$H$301","v":0.013969838619232178},{"$f":"(1-Sorcadins!$H$301)^K38*Sorcadins!$H$301","v":0.008731149137020111},{"$f":"(1-Sorcadins!$H$301)^L38*Sorcadins!$H$301","v":0.005456968210637569},{"$f":"(1-Sorcadins!$H$301)^M38*Sorcadins!$H$301","v":0.003410605131648481}]
[null,"prob given last round",null,{"$f":"(1-Sorcadins!$H$301)^D38","v":0.625},{"$f":"(1-Sorcadins!$H$301)^E38","v":0.390625},{"$f":"(1-Sorcadins!$H$301)^F38","v":0.244140625},{"$f":"(1-Sorcadins!$H$301)^G38","v":0.152587890625},{"$f":"(1-Sorcadins!$H$301)^H38","v":0.095367431640625},{"$f":"(1-Sorcadins!$H$301)^I38","v":0.059604644775390625},{"$f":"(1-Sorcadins!$H$301)^J38","v":0.03725290298461914},{"$f":"(1-Sorcadins!$H$301)^K38","v":0.023283064365386963},{"$f":"(1-Sorcadins!$H$301)^L38","v":0.014551915228366852},{"$f":"(1-Sorcadins!$H$301)^M38","v":0.009094947017729282}]
[null,"expectation given n rounds",null,{"$f":"D38*D40","v":0.625},{"$f":"D38*D39+E38*E40","v":1.015625},{"$f":"D38*D39+E38*E39+F38*F40","v":1.259765625},{"$f":"D38*D39+E38*E39+F38*F39+G38*G40","v":1.412353515625},{"$f":"D38*D39+E38*E39+F38*F39+G38*G39+H38*H40","v":1.507720947265625},{"$f":"D38*D39+E38*E39+F38*F39+G38*G39+H38*H39+I38*I40","v":1.5673255920410156},{"$f":"D38*D39+E38*E39+F38*F39+G38*G39+H38*H39+I38*I39+J38*J40","v":1.6045784950256348},{"$f":"D38*D39+E38*E39+F38*F39+G38*G39+H38*H39+I38*I39+J38*J39+K38*K40","v":1.6278615593910217},{"$f":"D38*D39+E38*E39+F38*F39+G38*G39+H38*H39+I38*I39+J38*J39+K38*K39+L38*L40","v":1.6424134746193886},{"$f":"D38*D39+E38*E39+F38*F39+G38*G39+H38*H39+I38*I39+J38*J39+K38*K39+L38*L39+M38*M40","v":1.6515084216371179}]
[]
[null,"LEVEL 5",{"$nulls":5},"Fight Duration:"]
[null,"for Character",null,1,2,3,4,5,6,7,8,9,10]
[null,"prob given another round",null,{"$f":"(1-Sorcadins!$I$300)^D44*Sorcadins!$I$300","v":0.25},{"$f":"(1-Sorcadins!$I$300)^E44*Sorcadins!$I$300","v":0.125},{"$f":"(1-Sorcadins!$I$300)^F44*Sorcadins!$I$300","v":0.0625},{"$f":"(1-Sorcadins!$I$300)^G44*Sorcadins!$I$300","v":0.03125},{"$f":"(1-Sorcadins!$I$300)^H44*Sorcadins!$I$300","v":0.015625},{"$f":"(1-Sorcadins!$I$300)^I44*Sorcadins!$I$300","v":7.8125E-3},{"$f":"(1-Sorcadins!$I$300)^J44*Sorcadins!$I$300","v":3.90625E-3},{"$f":"(1-Sorcadins!$I$300)^K44*Sorcadins!$I$300","v":1.953125E-3},{"$f":"(1-Sorcadins!$I$300)^L44*Sorcadins!$I$300","v":9.765625E-4},{"$f":"(1-Sorcadins!$I$300)^M44*Sorcadins!$I$300","v":4.8828125E-4}]
[null,"prob given last round",null,{"$f":"(1-Sorcadins!$I$300)^D44","v":0.5},{"$f":"(1-Sorcadins!$I$300)^E44","v":0.25},{"$f":"(1-Sorcadins!$I$300)^F44","v":0.125},{"$f":"(1-Sorcadins!$I$300)^G44","v":0.0625},{"$f":"(1-Sorcadins!$I$300)^H44","v":0.03125},{"$f":"(1-Sorcadins!$I$300)^I44","v":0.015625},{"$f":"(1-Sorcadins!$I$300)^J44","v":7.8125E-3},{"$f":"(1-Sorcadins!$I$300)^K44","v":3.90625E-3},{"$f":"(1-Sorcadins!$I$300)^L44","v":1.953125E-3},{"$f":"(1-Sorcadins!$I$300)^M44","v":9.765625E-4}]
[null,"expectation given n rounds",null,{"$f":"D44*D46","v":0.5},{"$f":"D44*D45+E44*E46","v":0.75},{"$f":"D44*D45+E44*E45+F44*F46","v":0.875},{"$f":"D44*D45+E44*E45+F44*F45+G44*G46","v":0.9375},{"$f":"D44*D45+E44*E45+F44*F45+G44*G45+H44*H46","v":0.96875},{"$f":"D44*D45+E44*E45+F44*F45+G44*G45+H44*H45+I44*I46","v":0.984375},{"$f":"D44*D45+E44*E45+F44*F45+G44*G45+H44*H45+I44*I45+J44*J46","v":0.9921875},{"$f":"D44*D45+E44*E45+F44*F45+G44*G45+H44*H45+I44*I45+J44*J45+K44*K46","v":0.99609375},{"$f":"D44*D45+E44*E45+F44*F45+G44*G45+H44*H45+I44*I45+J44*J45+K44*K45+L44*L46","v":0.998046875},{"$f":"D44*D45+E44*E45+F44*F45+G44*G45+H44*H45+I44*I45+J44*J45+K44*K45+L44*L45+M44*M46","v":0.9990234375}]
[null,"for Character, Defensive",null,1,2,3,4,5,6,7,8,9,10]
[null,"prob given another round",null,{"$f":"(1-Sorcadins!$I$301)^D48*Sorcadins!$I$301","v":0.234375},{"$f":"(1-Sorcadins!$I$301)^E48*Sorcadins!$I$301","v":0.146484375},{"$f":"(1-Sorcadins!$I$301)^F48*Sorcadins!$I$301","v":0.091552734375},{"$f":"(1-Sorcadins!$I$301)^G48*Sorcadins!$I$301","v":0.057220458984375},{"$f":"(1-Sorcadins!$I$301)^H48*Sorcadins!$I$301","v":0.035762786865234375},{"$f":"(1-Sorcadins!$I$301)^I48*Sorcadins!$I$301","v":0.022351741790771484},{"$f":"(1-Sorcadins!$I$301)^J48*Sorcadins!$I$301","v":0.013969838619232178},{"$f":"(1-Sorcadins!$I$301)^K48*Sorcadins!$I$301","v":0.008731149137020111},{"$f":"(1-Sorcadins!$I$301)^L48*Sorcadins!$I$301","v":0.005456968210637569},{"$f":"(1-Sorcadins!$I$301)^M48*Sorcadins!$I$301","v":0.003410605131648481}]
[null,"prob given last round",null,{"$f":"(1-Sorcadins!$I$301)^D48","v":0.625},{"$f":"(1-Sorcadins!$I$301)^E48","v":0.390625},{"$f":"(1-Sorcadins!$I$301)^F48","v":0.244140625},{"$f":"(1-Sorcadins!$I$301)^G48","v":0.152587890625},{"$f":"(1-Sorcadins!$I$301)^H48","v":0.095367431640625},{"$f":"(1-Sorcadins!$I$301)^I48","v":0.059604644775390625},{"$f":"(1-Sorcadins!$I$301)^J48","v":0.03725290298461914},{"$f":"(1-Sorcadins!$I$301)^K48","v":0.023283064365386963},{"$f":"(1-Sorcadins!$I$301)^L48","v":0.014551915228366852},{"$f":"(1-Sorcadins!$I$301)^M48","v":0.009094947017729282}]
[null,"expectation given n rounds",null,{"$f":"D48*D50","v":0.625},{"$f":"D48*D49+E48*E50","v":1.015625},{"$f":"D48*D49+E48*E49+F48*F50","v":1.259765625},{"$f":"D48*D49+E48*E49+F48*F49+G48*G50","v":1.412353515625},{"$f":"D48*D49+E48*E49+F48*F49+G48*G49+H48*H50","v":1.507720947265625},{"$f":"D48*D49+E48*E49+F48*F49+G48*G49+H48*H49+I48*I50","v":1.5673255920410156},{"$f":"D48*D49+E48*E49+F48*F49+G48*G49+H48*H49+I48*I49+J48*J50","v":1.6045784950256348},{"$f":"D48*D49+E48*E49+F48*F49+G48*G49+H48*H49+I48*I49+J48*J49+K48*K50","v":1.6278615593910217},{"$f":"D48*D49+E48*E49+F48*F49+G48*G49+H48*H49+I48*I49+J48*J49+K48*K49+L48*L50","v":1.6424134746193886},{"$f":"D48*D49+E48*E49+F48*F49+G48*G49+H48*H49+I48*I49+J48*J49+K48*K49+L48*L49+M48*M50","v":1.6515084216371179}]
[]
[null,"LEVEL 6",{"$nulls":5},"Fight Duration:"]
[null,"for Character",null,1,2,3,4,5,6,7,8,9,10]
[null,"prob given another round",null,{"$f":"(1-Sorcadins!$J$300)^D54*Sorcadins!$J$300","v":0.25},{"$f":"(1-Sorcadins!$J$300)^E54*Sorcadins!$J$300","v":0.125},{"$f":"(1-Sorcadins!$J$300)^F54*Sorcadins!$J$300","v":0.0625},{"$f":"(1-Sorcadins!$J$300)^G54*Sorcadins!$J$300","v":0.03125},{"$f":"(1-Sorcadins!$J$300)^H54*Sorcadins!$J$300","v":0.015625},{"$f":"(1-Sorcadins!$J$300)^I54*Sorcadins!$J$300","v":7.8125E-3},{"$f":"(1-Sorcadins!$J$300)^J54*Sorcadins!$J$300","v":3.90625E-3},{"$f":"(1-Sorcadins!$J$300)^K54*Sorcadins!$J$300","v":1.953125E-3},{"$f":"(1-Sorcadins!$J$300)^L54*Sorcadins!$J$300","v":9.765625E-4},{"$f":"(1-Sorcadins!$J$300)^M54*Sorcadins!$J$300","v":4.8828125E-4}]
[null,"prob given last round",null,{"$f":"(1-Sorcadins!$J$300)^D54","v":0.5},{"$f":"(1-Sorcadins!$J$300)^E54","v":0.25},{"$f":"(1-Sorcadins!$J$300)^F54","v":0.125},{"$f":"(1-Sorcadins!$J$300)^G54","v":0.0625},{"$f":"(1-Sorcadins!$J$300)^H54","v":0.03125},{"$f":"(1-Sorcadins!$J$300)^I54","v":0.015625},{"$f":"(1-Sorcadins!$J$300)^J54","v":7.8125E-3},{"$f":"(1-Sorcadins!$J$300)^K54","v":3.90625E-3},{"$f":"(1-Sorcadins!$J$300)^L54","v":1.953125E-3},{"$f":"(1-Sorcadins!$J$300)^M54","v":9.765625E-4}]
[null,"expectation given n rounds",null,{"$f":"D54*D56","v":0.5},{"$f":"D54*D55+E54*E56","v":0.75},{"$f":"D54*D55+E54*E55+F54*F56","v":0.875},{"$f":"D54*D55+E54*E55+F54*F55+G54*G56","v":0.9375},{"$f":"D54*D55+E54*E55+F54*F55+G54*G55+H54*H56","v":0.96875},{"$f":"D54*D55+E54*E55+F54*F55+G54*G55+H54*H55+I54*I56","v":0.984375},{"$f":"D54*D55+E54*E55+F54*F55+G54*G55+H54*H55+I54*I55+J54*J56","v":0.9921875},{"$f":"D54*D55+E54*E55+F54*F55+G54*G55+H54*H55+I54*I55+J54*J55+K54*K56","v":0.99609375},{"$f":"D54*D55+E54*E55+F54*F55+G54*G55+H54*H55+I54*I55+J54*J55+K54*K55+L54*L56","v":0.998046875},{"$f":"D54*D55+E54*E55+F54*F55+G54*G55+H54*H55+I54*I55+J54*J55+K54*K55+L54*L55+M54*M56","v":0.9990234375}]
[null,"for Character, Defensive",null,1,2,3,4,5,6,7,8,9,10]
[null,"prob given another round",null,{"$f":"(1-Sorcadins!$J$301)^D58*Sorcadins!$J$301","v":0.234375},{"$f":"(1-Sorcadins!$J$301)^E58*Sorcadins!$J$301","v":0.146484375},{"$f":"(1-Sorcadins!$J$301)^F58*Sorcadins!$J$301","v":0.091552734375},{"$f":"(1-Sorcadins!$J$301)^G58*Sorcadins!$J$301","v":0.057220458984375},{"$f":"(1-Sorcadins!$J$301)^H58*Sorcadins!$J$301","v":0.035762786865234375},{"$f":"(1-Sorcadins!$J$301)^I58*Sorcadins!$J$301","v":0.022351741790771484},{"$f":"(1-Sorcadins!$J$301)^J58*Sorcadins!$J$301","v":0.013969838619232178},{"$f":"(1-Sorcadins!$J$301)^K58*Sorcadins!$J$301","v":0.008731149137020111},{"$f":"(1-Sorcadins!$J$301)^L58*Sorcadins!$J$301","v":0.005456968210637569},{"$f":"(1-Sorcadins!$J$301)^M58*Sorcadins!$J$301","v":0.003410605131648481}]
[null,"prob given last round",null,{"$f":"(1-Sorcadins!$J$301)^D58","v":0.625},{"$f":"(1-Sorcadins!$J$301)^E58","v":0.390625},{"$f":"(1-Sorcadins!$J$301)^F58","v":0.244140625},{"$f":"(1-Sorcadins!$J$301)^G58","v":0.152587890625},{"$f":"(1-Sorcadins!$J$301)^H58","v":0.095367431640625},{"$f":"(1-Sorcadins!$J$301)^I58","v":0.059604644775390625},{"$f":"(1-Sorcadins!$J$301)^J58","v":0.03725290298461914},{"$f":"(1-Sorcadins!$J$301)^K58","v":0.023283064365386963},{"$f":"(1-Sorcadins!$J$301)^L58","v":0.014551915228366852},{"$f":"(1-Sorcadins!$J$301)^M58","v":0.009094947017729282}]
[null,"expectation given n rounds",null,{"$f":"D58*D60","v":0.625},{"$f":"D58*D59+E58*E60","v":1.015625},{"$f":"D58*D59+E58*E59+F58*F60","v":1.259765625},{"$f":"D58*D59+E58*E59+F58*F59+G58*G60","v":1.412353515625},{"$f":"D58*D59+E58*E59+F58*F59+G58*G59+H58*H60","v":1.507720947265625},{"$f":"D58*D59+E58*E59+F58*F59+G58*G59+H58*H59+I58*I60","v":1.5673255920410156},{"$f":"D58*D59+E58*E59+F58*F59+G58*G59+H58*H59+I58*I59+J58*J60","v":1.6045784950256348},{"$f":"D58*D59+E58*E59+F58*F59+G58*G59+H58*H59+I58*I59+J58*J59+K58*K60","v":1.6278615593910217},{"$f":"D58*D59+E58*E59+F58*F59+G58*G59+H58*H59+I58*I59+J58*J59+K58*K59+L58*L60","v":1.6424134746193886},{"$f":"D58*D59+E58*E59+F58*F59+G58*G59+H58*H59+I58*I59+J58*J59+K58*K59+L58*L59+M58*M60","v":1.6515084216371179}]
[]
[null,"LEVEL 7",{"$nulls":5},"Fight Duration:"]
[null,"for Character",null,1,2,3,4,5,6,7,8,9,10]
[null,"prob given another round",null,{"$f":"(1-Sorcadins!$K$300)^D64*Sorcadins!$K$300","v":0.25},{"$f":"(1-Sorcadins!$K$300)^E64*Sorcadins!$K$300","v":0.125},{"$f":"(1-Sorcadins!$K$300)^F64*Sorcadins!$K$300","v":0.0625},{"$f":"(1-Sorcadins!$K$300)^G64*Sorcadins!$K$300","v":0.03125},{"$f":"(1-Sorcadins!$K$300)^H64*Sorcadins!$K$300","v":0.015625},{"$f":"(1-Sorcadins!$K$300)^I64*Sorcadins!$K$300","v":7.8125E-3},{"$f":"(1-Sorcadins!$K$300)^J64*Sorcadins!$K$300","v":3.90625E-3},{"$f":"(1-Sorcadins!$K$300)^K64*Sorcadins!$K$300","v":1.953125E-3},{"$f":"(1-Sorcadins!$K$300)^L64*Sorcadins!$K$300","v":9.765625E-4},{"$f":"(1-Sorcadins!$K$300)^M64*Sorcadins!$K$300","v":4.8828125E-4}]
[null,"prob given last round",null,{"$f":"(1-Sorcadins!$K$300)^D64","v":0.5},{"$f":"(1-Sorcadins!$K$300)^E64","v":0.25},{"$f":"(1-Sorcadins!$K$300)^F64","v":0.125},{"$f":"(1-Sorcadins!$K$300)^G64","v":0.0625},{"$f":"(1-Sorcadins!$K$300)^H64","v":0.03125},{"$f":"(1-Sorcadins!$K$300)^I64","v":0.015625},{"$f":"(1-Sorcadins!$K$300)^J64","v":7.8125E-3},{"$f":"(1-Sorcadins!$K$300)^K64","v":3.90625E-3},{"$f":"(1-Sorcadins!$K$300)^L64","v":1.953125E-3},{"$f":"(1-Sorcadins!$K$300)^M64","v":9.765625E-4}]
[null,"expectation given n rounds",null,{"$f":"D64*D66","v":0.5},{"$f":"D64*D65+E64*E66","v":0.75},{"$f":"D64*D65+E64*E65+F64*F66","v":0.875},{"$f":"D64*D65+E64*E65+F64*F65+G64*G66","v":0.9375},{"$f":"D64*D65+E64*E65+F64*F65+G64*G65+H64*H66","v":0.96875},{"$f":"D64*D65+E64*E65+F64*F65+G64*G65+H64*H65+I64*I66","v":0.984375},{"$f":"D64*D65+E64*E65+F64*F65+G64*G65+H64*H65+I64*I65+J64*J66","v":0.9921875},{"$f":"D64*D65+E64*E65+F64*F65+G64*G65+H64*H65+I64*I65+J64*J65+K64*K66","v":0.99609375},{"$f":"D64*D65+E64*E65+F64*F65+G64*G65+H64*H65+I64*I65+J64*J65+K64*K65+L64*L66","v":0.998046875},{"$f":"D64*D65+E64*E65+F64*F65+G64*G65+H64*H65+I64*I65+J64*J65+K64*K65+L64*L65+M64*M66","v":0.9990234375}]
[null,"for Character, Defensive",null,1,2,3,4,5,6,7,8,9,10]
[null,"prob given another round",null,{"$f":"(1-Sorcadins!$K$301)^D68*Sorcadins!$K$301","v":0.234375},{"$f":"(1-Sorcadins!$K$301)^E68*Sorcadins!$K$301","v":0.146484375},{"$f":"(1-Sorcadins!$K$301)^F68*Sorcadins!$K$301","v":0.091552734375},{"$f":"(1-Sorcadins!$K$301)^G68*Sorcadins!$K$301","v":0.057220458984375},{"$f":"(1-Sorcadins!$K$301)^H68*Sorcadins!$K$301","v":0.035762786865234375},{"$f":"(1-Sorcadins!$K$301)^I68*Sorcadins!$K$301","v":0.022351741790771484},{"$f":"(1-Sorcadins!$K$301)^J68*Sorcadins!$K$301","v":0.013969838619232178},{"$f":"(1-Sorcadins!$K$301)^K68*Sorcadins!$K$301","v":0.008731149137020111},{"$f":"(1-Sorcadins!$K$301)^L68*Sorcadins!$K$301","v":0.005456968210637569},{"$f":"(1-Sorcadins!$K$301)^M68*Sorcadins!$K$301","v":0.003410605131648481}]
[null,"prob given last round",null,{"$f":"(1-Sorcadins!$K$301)^D68","v":0.625},{"$f":"(1-Sorcadins!$K$301)^E68","v":0.390625},{"$f":"(1-Sorcadins!$K$301)^F68","v":0.244140625},{"$f":"(1-Sorcadins!$K$301)^G68","v":0.152587890625},{"$f":"(1-Sorcadins!$K$301)^H68","v":0.095367431640625},{"$f":"(1-Sorcadins!$K$301)^I68","v":0.059604644775390625},{"$f":"(1-Sorcadins!$K$301)^J68","v":0.03725290298461914},{"$f":"(1-Sorcadins!$K$301)^K68","v":0.023283064365386963},{"$f":"(1-Sorcadins!$K$301)^L68","v":0.014551915228366852},{"$f":"(1-Sorcadins!$K$301)^M68","v":0.009094947017729282}]
[null,"expectation given n rounds",null,{"$f":"D68*D70","v":0.625},{"$f":"D68*D69+E68*E70","v":1.015625},{"$f":"D68*D69+E68*E69+F68*F70","v":1.259765625},{"$f":"D68*D69+E68*E69+F68*F69+G68*G70","v":1.412353515625},{"$f":"D68*D69+E68*E69+F68*F69+G68*G69+H68*H70","v":1.507720947265625},{"$f":"D68*D69+E68*E69+F68*F69+G68*G69+H68*H69+I68*I70","v":1.5673255920410156},{"$f":"D68*D69+E68*E69+F68*F69+G68*G69+H68*H69+I68*I69+J68*J70","v":1.6045784950256348},{"$f":"D68*D69+E68*E69+F68*F69+G68*G69+H68*H69+I68*I69+J68*J69+K68*K70","v":1.6278615593910217},{"$f":"D68*D69+E68*E69+F68*F69+G68*G69+H68*H69+I68*I69+J68*J69+K68*K69+L68*L70","v":1.6424134746193886},{"$f":"D68*D69+E68*E69+F68*F69+G68*G69+H68*H69+I68*I69+J68*J69+K68*K69+L68*L69+M68*M70","v":1.6515084216371179}]
[]
[null,"LEVEL 8",{"$nulls":5},"Fight Duration:"]
[null,"for Character",null,1,2,3,4,5,6,7,8,9,10]
[null,"prob given another round",null,{"$f":"(1-Sorcadins!$L$300)^D74*Sorcadins!$L$300","v":0.25},{"$f":"(1-Sorcadins!$L$300)^E74*Sorcadins!$L$300","v":0.125},{"$f":"(1-Sorcadins!$L$300)^F74*Sorcadins!$L$300","v":0.0625},{"$f":"(1-Sorcadins!$L$300)^G74*Sorcadins!$L$300","v":0.03125},{"$f":"(1-Sorcadins!$L$300)^H74*Sorcadins!$L$300","v":0.015625},{"$f":"(1-Sorcadins!$L$300)^I74*Sorcadins!$L$300","v":7.8125E-3},{"$f":"(1-Sorcadins!$L$300)^J74*Sorcadins!$L$300","v":3.90625E-3},{"$f":"(1-Sorcadins!$L$300)^K74*Sorcadins!$L$300","v":1.953125E-3},{"$f":"(1-Sorcadins!$L$300)^L74*Sorcadins!$L$300","v":9.765625E-4},{"$f":"(1-Sorcadins!$L$300)^M74*Sorcadins!$L$300","v":4.8828125E-4}]
[null,"prob given last round",null,{"$f":"(1-Sorcadins!$L$300)^D74","v":0.5},{"$f":"(1-Sorcadins!$L$300)^E74","v":0.25},{"$f":"(1-Sorcadins!$L$300)^F74","v":0.125},{"$f":"(1-Sorcadins!$L$300)^G74","v":0.0625},{"$f":"(1-Sorcadins!$L$300)^H74","v":0.03125},{"$f":"(1-Sorcadins!$L$300)^I74","v":0.015625},{"$f":"(1-Sorcadins!$L$300)^J74","v":7.8125E-3},{"$f":"(1-Sorcadins!$L$300)^K74","v":3.90625E-3},{"$f":"(1-Sorcadins!$L$300)^L74","v":1.953125E-3},{"$f":"(1-Sorcadins!$L$300)^M74","v":9.765625E-4}]
[null,"expectation given n rounds",null,{"$f":"D74*D76","v":0.5},{"$f":"D74*D75+E74*E76","v":0.75},{"$f":"D74*D75+E74*E75+F74*F76","v":0.875},{"$f":"D74*D75+E74*E75+F74*F75+G74*G76","v":0.9375},{"$f":"D74*D75+E74*E75+F74*F75+G74*G75+H74*H76","v":0.96875},{"$f":"D74*D75+E74*E75+F74*F75+G74*G75+H74*H75+I74*I76","v":0.984375},{"$f":"D74*D75+E74*E75+F74*F75+G74*G75+H74*H75+I74*I75+J74*J76","v":0.9921875},{"$f":"D74*D75+E74*E75+F74*F75+G74*G75+H74*H75+I74*I75+J74*J75+K74*K76","v":0.99609375},{"$f":"D74*D75+E74*E75+F74*F75+G74*G75+H74*H75+I74*I75+J74*J75+K74*K75+L74*L76","v":0.998046875},{"$f":"D74*D75+E74*E75+F74*F75+G74*G75+H74*H75+I74*I75+J74*J75+K74*K75+L74*L75+M74*M76","v":0.9990234375}]
[null,"for Character, Defensive",null,1,2,3,4,5,6,7,8,9,10]
[null,"prob given another round",null,{"$f":"(1-Sorcadins!$L$301)^D78*Sorcadins!$L$301","v":0.234375},{"$f":"(1-Sorcadins!$L$301)^E78*Sorcadins!$L$301","v":0.146484375},{"$f":"(1-Sorcadins!$L$301)^F78*Sorcadins!$L$301","v":0.091552734375},{"$f":"(1-Sorcadins!$L$301)^G78*Sorcadins!$L$301","v":0.057220458984375},{"$f":"(1-Sorcadins!$L$301)^H78*Sorcadins!$L$301","v":0.035762786865234375},{"$f":"(1-Sorcadins!$L$301)^I78*Sorcadins!$L$301","v":0.022351741790771484},{"$f":"(1-Sorcadins!$L$301)^J78*Sorcadins!$L$301","v":0.013969838619232178},{"$f":"(1-Sorcadins!$L$301)^K78*Sorcadins!$L$301","v":0.008731149137020111},{"$f":"(1-Sorcadins!$L$301)^L78*Sorcadins!$L$301","v":0.005456968210637569},{"$f":"(1-Sorcadins!$L$301)^M78*Sorcadins!$L$301","v":0.003410605131648481}]
[null,"prob given last round",null,{"$f":"(1-Sorcadins!$L$301)^D78","v":0.625},{"$f":"(1-Sorcadins!$L$301)^E78","v":0.390625},{"$f":"(1-Sorcadins!$L$301)^F78","v":0.244140625},{"$f":"(1-Sorcadins!$L$301)^G78","v":0.152587890625},{"$f":"(1-Sorcadins!$L$301)^H78","v":0.095367431640625},{"$f":"(1-Sorcadins!$L$301)^I78","v":0.059604644775390625},{"$f":"(1-Sorcadins!$L$301)^J78","v":0.03725290298461914},{"$f":"(1-Sorcadins!$L$301)^K78","v":0.023283064365386963},{"$f":"(1-Sorcadins!$L$301)^L78","v":0.014551915228366852},{"$f":"(1-Sorcadins!$L$301)^M78","v":0.009094947017729282}]
[null,"expectation given n rounds",null,{"$f":"D78*D80","v":0.625},{"$f":"D78*D79+E78*E80","v":1.015625},{"$f":"D78*D79+E78*E79+F78*F80","v":1.259765625},{"$f":"D78*D79+E78*E79+F78*F79+G78*G80","v":1.412353515625},{"$f":"D78*D79+E78*E79+F78*F79+G78*G79+H78*H80","v":1.507720947265625},{"$f":"D78*D79+E78*E79+F78*F79+G78*G79+H78*H79+I78*I80","v":1.5673255920410156},{"$f":"D78*D79+E78*E79+F78*F79+G78*G79+H78*H79+I78*I79+J78*J80","v":1.6045784950256348},{"$f":"D78*D79+E78*E79+F78*F79+G78*G79+H78*H79+I78*I79+J78*J79+K78*K80","v":1.6278615593910217},{"$f":"D78*D79+E78*E79+F78*F79+G78*G79+H78*H79+I78*I79+J78*J79+K78*K79+L78*L80","v":1.6424134746193886},{"$f":"D78*D79+E78*E79+F78*F79+G78*G79+H78*H79+I78*I79+J78*J79+K78*K79+L78*L79+M78*M80","v":1.6515084216371179}]
[]
[null,"LEVEL 9",{"$nulls":5},"Fight Duration:"]
[null,"for Character",null,1,2,3,4,5,6,7,8,9,10]
[null,"prob given another round",null,{"$f":"(1-Sorcadins!$M$300)^D84*Sorcadins!$M$300","v":0.25},{"$f":"(1-Sorcadins!$M$300)^E84*Sorcadins!$M$300","v":0.125},{"$f":"(1-Sorcadins!$M$300)^F84*Sorcadins!$M$300","v":0.0625},{"$f":"(1-Sorcadins!$M$300)^G84*Sorcadins!$M$300","v":0.03125},{"$f":"(1-Sorcadins!$M$300)^H84*Sorcadins!$M$300","v":0.015625},{"$f":"(1-Sorcadins!$M$300)^I84*Sorcadins!$M$300","v":7.8125E-3},{"$f":"(1-Sorcadins!$M$300)^J84*Sorcadins!$M$300","v":3.90625E-3},{"$f":"(1-Sorcadins!$M$300)^K84*Sorcadins!$M$300","v":1.953125E-3},{"$f":"(1-Sorcadins!$M$300)^L84*Sorcadins!$M$300","v":9.765625E-4},{"$f":"(1-Sorcadins!$M$300)^M84*Sorcadins!$M$300","v":4.8828125E-4}]
[null,"prob given last round",null,{"$f":"(1-Sorcadins!$M$300)^D84","v":0.5},{"$f":"(1-Sorcadins!$M$300)^E84","v":0.25},{"$f":"(1-Sorcadins!$M$300)^F84","v":0.125},{"$f":"(1-Sorcadins!$M$300)^G84","v":0.0625},{"$f":"(1-Sorcadins!$M$300)^H84","v":0.03125},{"$f":"(1-Sorcadins!$M$300)^I84","v":0.015625},{"$f":"(1-Sorcadins!$M$300)^J84","v":7.8125E-3},{"$f":"(1-Sorcadins!$M$300)^K84","v":3.90625E-3},{"$f":"(1-Sorcadins!$M$300)^L84","v":1.953125E-3},{"$f":"(1-Sorcadins!$M$300)^M84","v":9.765625E-4}]
[null,"expectation given n rounds",null,{"$f":"D84*D86","v":0.5},{"$f":"D84*D85+E84*E86","v":0.75},{"$f":"D84*D85+E84*E85+F84*F86","v":0.875},{"$f":"D84*D85+E84*E85+F84*F85+G84*G86","v":0.9375},{"$f":"D84*D85+E84*E85+F84*F85+G84*G85+H84*H86","v":0.96875},{"$f":"D84*D85+E84*E85+F84*F85+G84*G85+H84*H85+I84*I86","v":0.984375},{"$f":"D84*D85+E84*E85+F84*F85+G84*G85+H84*H85+I84*I85+J84*J86","v":0.9921875},{"$f":"D84*D85+E84*E85+F84*F85+G84*G85+H84*H85+I84*I85+J84*J85+K84*K86","v":0.99609375},{"$f":"D84*D85+E84*E85+F84*F85+G84*G85+H84*H85+I84*I85+J84*J85+K84*K85+L84*L86","v":0.998046875},{"$f":"D84*D85+E84*E85+F84*F85+G84*G85+H84*H85+I84*I85+J84*J85+K84*K85+L84*L85+M84*M86","v":0.9990234375}]
[null,"for Character, Defensive",null,1,2,3,4,5,6,7,8,9,10]
[null,"prob given another round",null,{"$f":"(1-Sorcadins!$M$301)^D88*Sorcadins!$M$301","v":0.234375},{"$f":"(1-Sorcadins!$M$301)^E88*Sorcadins!$M$301","v":0.146484375},{"$f":"(1-Sorcadins!$M$301)^F88*Sorcadins!$M$301","v":0.091552734375},{"$f":"(1-Sorcadins!$M$301)^G88*Sorcadins!$M$301","v":0.057220458984375},{"$f":"(1-Sorcadins!$M$301)^H88*Sorcadins!$M$301","v":0.035762786865234375},{"$f":"(1-Sorcadins!$M$301)^I88*Sorcadins!$M$301","v":0.022351741790771484},{"$f":"(1-Sorcadins!$M$301)^J88*Sorcadins!$M$301","v":0.013969838619232178},{"$f":"(1-Sorcadins!$M$301)^K88*Sorcadins!$M$301","v":0.008731149137020111},{"$f":"(1-Sorcadins!$M$301)^L88*Sorcadins!$M$301","v":0.005456968210637569},{"$f":"(1-Sorcadins!$M$301)^M88*Sorcadins!$M$301","v":0.003410605131648481}]
[null,"prob given last round",null,{"$f":"(1-Sorcadins!$M$301)^D88","v":0.625},{"$f":"(1-Sorcadins!$M$301)^E88","v":0.390625},{"$f":"(1-Sorcadins!$M$301)^F88","v":0.244140625},{"$f":"(1-Sorcadins!$M$301)^G88","v":0.152587890625},{"$f":"(1-Sorcadins!$M$301)^H88","v":0.095367431640625},{"$f":"(1-Sorcadins!$M$301)^I88","v":0.059604644775390625},{"$f":"(1-Sorcadins!$M$301)^J88","v":0.03725290298461914},{"$f":"(1-Sorcadins!$M$301)^K88","v":0.023283064365386963},{"$f":"(1-Sorcadins!$M$301)^L88","v":0.014551915228366852},{"$f":"(1-Sorcadins!$M$301)^M88","v":0.009094947017729282}]
[null,"expectation given n rounds",null,{"$f":"D88*D90","v":0.625},{"$f":"D88*D89+E88*E90","v":1.015625},{"$f":"D88*D89+E88*E89+F88*F90","v":1.259765625},{"$f":"D88*D89+E88*E89+F88*F89+G88*G90","v":1.412353515625},{"$f":"D88*D89+E88*E89+F88*F89+G88*G89+H88*H90","v":1.507720947265625},{"$f":"D88*D89+E88*E89+F88*F89+G88*G89+H88*H89+I88*I90","v":1.5673255920410156},{"$f":"D88*D89+E88*E89+F88*F89+G88*G89+H88*H89+I88*I89+J88*J90","v":1.6045784950256348},{"$f":"D88*D89+E88*E89+F88*F89+G88*G89+H88*H89+I88*I89+J88*J89+K88*K90","v":1.6278615593910217},{"$f":"D88*D89+E88*E89+F88*F89+G88*G89+H88*H89+I88*I89+J88*J89+K88*K89+L88*L90","v":1.6424134746193886},{"$f":"D88*D89+E88*E89+F88*F89+G88*G89+H88*H89+I88*I89+J88*J89+K88*K89+L88*L89+M88*M90","v":1.6515084216371179}]
[]
[null,"LEVEL 10",{"$nulls":5},"Fight Duration:"]
[null,"for Character",null,1,2,3,4,5,6,7,8,9,10]
[null,"prob given another round",null,{"$f":"(1-Sorcadins!$N$300)^D94*Sorcadins!$N$300","v":0.25},{"$f":"(1-Sorcadins!$N$300)^E94*Sorcadins!$N$300","v":0.125},{"$f":"(1-Sorcadins!$N$300)^F94*Sorcadins!$N$300","v":0.0625},{"$f":"(1-Sorcadins!$N$300)^G94*Sorcadins!$N$300","v":0.03125},{"$f":"(1-Sorcadins!$N$300)^H94*Sorcadins!$N$300","v":0.015625},{"$f":"(1-Sorcadins!$N$300)^I94*Sorcadins!$N$300","v":7.8125E-3},{"$f":"(1-Sorcadins!$N$300)^J94*Sorcadins!$N$300","v":3.90625E-3},{"$f":"(1-Sorcadins!$N$300)^K94*Sorcadins!$N$300","v":1.953125E-3},{"$f":"(1-Sorcadins!$N$300)^L94*Sorcadins!$N$300","v":9.765625E-4},{"$f":"(1-Sorcadins!$N$300)^M94*Sorcadins!$N$300","v":4.8828125E-4}]
[null,"prob given last round",null,{"$f":"(1-Sorcadins!$N$300)^D94","v":0.5},{"$f":"(1-Sorcadins!$N$300)^E94","v":0.25},{"$f":"(1-Sorcadins!$N$300)^F94","v":0.125},{"$f":"(1-Sorcadins!$N$300)^G94","v":0.0625},{"$f":"(1-Sorcadins!$N$300)^H94","v":0.03125},{"$f":"(1-Sorcadins!$N$300)^I94","v":0.015625},{"$f":"(1-Sorcadins!$N$300)^J94","v":7.8125E-3},{"$f":"(1-Sorcadins!$N$300)^K94","v":3.90625E-3},{"$f":"(1-Sorcadins!$N$300)^L94","v":1.953125E-3},{"$f":"(1-Sorcadins!$N$300)^M94","v":9.765625E-4}]
[null,"expectation given n rounds",null,{"$f":"D94*D96","v":0.5},{"$f":"D94*D95+E94*E96","v":0.75},{"$f":"D94*D95+E94*E95+F94*F96","v":0.875},{"$f":"D94*D95+E94*E95+F94*F95+G94*G96","v":0.9375},{"$f":"D94*D95+E94*E95+F94*F95+G94*G95+H94*H96","v":0.96875},{"$f":"D94*D95+E94*E95+F94*F95+G94*G95+H94*H95+I94*I96","v":0.984375},{"$f":"D94*D95+E94*E95+F94*F95+G94*G95+H94*H95+I94*I95+J94*J96","v":0.9921875},{"$f":"D94*D95+E94*E95+F94*F95+G94*G95+H94*H95+I94*I95+J94*J95+K94*K96","v":0.99609375},{"$f":"D94*D95+E94*E95+F94*F95+G94*G95+H94*H95+I94*I95+J94*J95+K94*K95+L94*L96","v":0.998046875},{"$f":"D94*D95+E94*E95+F94*F95+G94*G95+H94*H95+I94*I95+J94*J95+K94*K95+L94*L95+M94*M96","v":0.9990234375}]
[null,"for Character, Defensive",null,1,2,3,4,5,6,7,8,9,10]
[null,"prob given another round",null,{"$f":"(1-Sorcadins!$N$301)^D98*Sorcadins!$N$301","v":0.234375},{"$f":"(1-Sorcadins!$N$301)^E98*Sorcadins!$N$301","v":0.146484375},{"$f":"(1-Sorcadins!$N$301)^F98*Sorcadins!$N$301","v":0.091552734375},{"$f":"(1-Sorcadins!$N$301)^G98*Sorcadins!$N$301","v":0.057220458984375},{"$f":"(1-Sorcadins!$N$301)^H98*Sorcadins!$N$301","v":0.035762786865234375},{"$f":"(1-Sorcadins!$N$301)^I98*Sorcadins!$N$301","v":0.022351741790771484},{"$f":"(1-Sorcadins!$N$301)^J98*Sorcadins!$N$301","v":0.013969838619232178},{"$f":"(1-Sorcadins!$N$301)^K98*Sorcadins!$N$301","v":0.008731149137020111},{"$f":"(1-Sorcadins!$N$301)^L98*Sorcadins!$N$301","v":0.005456968210637569},{"$f":"(1-Sorcadins!$N$301)^M98*Sorcadins!$N$301","v":0.003410605131648481}]
[null,"prob given last round",null,{"$f":"(1-Sorcadins!$N$301)^D98","v":0.625},{"$f":"(1-Sorcadins!$N$301)^E98","v":0.390625},{"$f":"(1-Sorcadins!$N$301)^F98","v":0.244140625},{"$f":"(1-Sorcadins!$N$301)^G98","v":0.152587890625},{"$f":"(1-Sorcadins!$N$301)^H98","v":0.095367431640625},{"$f":"(1-Sorcadins!$N$301)^I98","v":0.059604644775390625},{"$f":"(1-Sorcadins!$N$301)^J98","v":0.03725290298461914},{"$f":"(1-Sorcadins!$N$301)^K98","v":0.023283064365386963},{"$f":"(1-Sorcadins!$N$301)^L98","v":0.014551915228366852},{"$f":"(1-Sorcadins!$N$301)^M98","v":0.009094947017729282}]
[null,"expectation given n rounds",null,{"$f":"D98*D100","v":0.625},{"$f":"D98*D99+E98*E100","v":1.015625},{"$f":"D98*D99+E98*E99+F98*F100","v":1.259765625},{"$f":"D98*D99+E98*E99+F98*F99+G98*G100","v":1.412353515625},{"$f":"D98*D99+E98*E99+F98*F99+G98*G99+H98*H100","v":1.507720947265625},{"$f":"D98*D99+E98*E99+F98*F99+G98*G99+H98*H99+I98*I100","v":1.5673255920410156},{"$f":"D98*D99+E98*E99+F98*F99+G98*G99+H98*H99+I98*I99+J98*J100","v":1.6045784950256348},{"$f":"D98*D99+E98*E99+F98*F99+G98*G99+H98*H99+I98*I99+J98*J99+K98*K100","v":1.6278615593910217},{"$f":"D98*D99+E98*E99+F98*F99+G98*G99+H98*H99+I98*I99+J98*J99+K98*K99+L98*L100","v":1.6424134746193886},{"$f":"D98*D99+E98*E99+F98*F99+G98*G99+H98*H99+I98*I99+J98*J99+K98*K99+L98*L99+M98*M100","v":1.6515084216371179}]
[]
[null,"LEVEL 11",{"$nulls":5},"Fight Duration:"]
[null,"for Character",null,1,2,3,4,5,6,7,8,9,10]
[null,"prob given another round",null,{"$f":"(1-Sorcadins!$O$300)^D104*Sorcadins!$O$300","v":0.25},{"$f":"(1-Sorcadins!$O$300)^E104*Sorcadins!$O$300","v":0.125},{"$f":"(1-Sorcadins!$O$300)^F104*Sorcadins!$O$300","v":0.0625},{"$f":"(1-Sorcadins!$O$300)^G104*Sorcadins!$O$300","v":0.03125},{"$f":"(1-Sorcadins!$O$300)^H104*Sorcadins!$O$300","v":0.015625},{"$f":"(1-Sorcadins!$O$300)^I104*Sorcadins!$O$300","v":7.8125E-3},{"$f":"(1-Sorcadins!$O$300)^J104*Sorcadins!$O$300","v":3.90625E-3},{"$f":"(1-Sorcadins!$O$300)^K104*Sorcadins!$O$300","v":1.953125E-3},{"$f":"(1-Sorcadins!$O$300)^L104*Sorcadins!$O$300","v":9.765625E-4},{"$f":"(1-Sorcadins!$O$300)^M104*Sorcadins!$O$300","v":4.8828125E-4}]
[null,"prob given last round",null,{"$f":"(1-Sorcadins!$O$300)^D104","v":0.5},{"$f":"(1-Sorcadins!$O$300)^E104","v":0.25},{"$f":"(1-Sorcadins!$O$300)^F104","v":0.125},{"$f":"(1-Sorcadins!$O$300)^G104","v":0.0625},{"$f":"(1-Sorcadins!$O$300)^H104","v":0.03125},{"$f":"(1-Sorcadins!$O$300)^I104","v":0.015625},{"$f":"(1-Sorcadins!$O$300)^J104","v":7.8125E-3},{"$f":"(1-Sorcadins!$O$300)^K104","v":3.90625E-3},{"$f":"(1-Sorcadins!$O$300)^L104","v":1.953125E-3},{"$f":"(1-Sorcadins!$O$300)^M104","v":9.765625E-4}]
[null,"expectation given n rounds",null,{"$f":"D104*D106","v":0.5},{"$f":"D104*D105+E104*E106","v":0.75},{"$f":"D104*D105+E104*E105+F104*F106","v":0.875},{"$f":"D104*D105+E104*E105+F104*F105+G104*G106","v":0.9375},{"$f":"D104*D105+E104*E105+F104*F105+G104*G105+H104*H106","v":0.96875},{"$f":"D104*D105+E104*E105+F104*F105+G104*G105+H104*H105+I104*I106","v":0.984375},{"$f":"D104*D105+E104*E105+F104*F105+G104*G105+H104*H105+I104*I105+J104*J106","v":0.9921875},{"$f":"D104*D105+E104*E105+F104*F105+G104*G105+H104*H105+I104*I105+J104*J105+K104*K106","v":0.99609375},{"$f":"D104*D105+E104*E105+F104*F105+G104*G105+H104*H105+I104*I105+J104*J105+K104*K105+L104*L106","v":0.998046875},{"$f":"D104*D105+E104*E105+F104*F105+G104*G105+H104*H105+I104*I105+J104*J105+K104*K105+L104*L105+M104*M106","v":0.9990234375}]
[null,"for Character, Defensive",null,1,2,3,4,5,6,7,8,9,10]
[null,"prob given another round",null,{"$f":"(1-Sorcadins!$O$301)^D108*Sorcadins!$O$301","v":0.234375},{"$f":"(1-Sorcadins!$O$301)^E108*Sorcadins!$O$301","v":0.146484375},{"$f":"(1-Sorcadins!$O$301)^F108*Sorcadins!$O$301","v":0.091552734375},{"$f":"(1-Sorcadins!$O$301)^G108*Sorcadins!$O$301","v":0.057220458984375},{"$f":"(1-Sorcadins!$O$301)^H108*Sorcadins!$O$301","v":0.035762786865234375},{"$f":"(1-Sorcadins!$O$301)^I108*Sorcadins!$O$301","v":0.022351741790771484},{"$f":"(1-Sorcadins!$O$301)^J108*Sorcadins!$O$301","v":0.013969838619232178},{"$f":"(1-Sorcadins!$O$301)^K108*Sorcadins!$O$301","v":0.008731149137020111},{"$f":"(1-Sorcadins!$O$301)^L108*Sorcadins!$O$301","v":0.005456968210637569},{"$f":"(1-Sorcadins!$O$301)^M108*Sorcadins!$O$301","v":0.003410605131648481}]
[null,"prob given last round",null,{"$f":"(1-Sorcadins!$O$301)^D108","v":0.625},{"$f":"(1-Sorcadins!$O$301)^E108","v":0.390625},{"$f":"(1-Sorcadins!$O$301)^F108","v":0.244140625},{"$f":"(1-Sorcadins!$O$301)^G108","v":0.152587890625},{"$f":"(1-Sorcadins!$O$301)^H108","v":0.095367431640625},{"$f":"(1-Sorcadins!$O$301)^I108","v":0.059604644775390625},{"$f":"(1-Sorcadins!$O$301)^J108","v":0.03725290298461914},{"$f":"(1-Sorcadins!$O$301)^K108","v":0.023283064365386963},{"$f":"(1-Sorcadins!$O$301)^L108","v":0.014551915228366852},{"$f":"(1-Sorcadins!$O$301)^M108","v":0.009094947017729282}]
[null,"expectation given n rounds",null,{"$f":"D108*D110","v":0.625},{"$f":"D108*D109+E108*E110","v":1.015625},{"$f":"D108*D109+E108*E109+F108*F110","v":1.259765625},{"$f":"D108*D109+E108*E109+F108*F109+G108*G110","v":1.412353515625},{"$f":"D108*D109+E108*E109+F108*F109+G108*G109+H108*H110","v":1.507720947265625},{"$f":"D108*D109+E108*E109+F108*F109+G108*G109+H108*H109+I108*I110","v":1.5673255920410156},{"$f":"D108*D109+E108*E109+F108*F109+G108*G109+H108*H109+I108*I109+J108*J110","v":1.6045784950256348},{"$f":"D108*D109+E108*E109+F108*F109+G108*G109+H108*H109+I108*I109+J108*J109+K108*K110","v":1.6278615593910217},{"$f":"D108*D109+E108*E109+F108*F109+G108*G109+H108*H109+I108*I109+J108*J109+K108*K109+L108*L110","v":1.6424134746193886},{"$f":"D108*D109+E108*E109+F108*F109+G108*G109+H108*H109+I108*I109+J108*J109+K108*K109+L108*L109+M108*M110","v":1.6515084216371179}]
[]
[null,"LEVEL 12",{"$nulls":5},"Fight Duration:"]
[null,"for Character",null,1,2,3,4,5,6,7,8,9,10]
[null,"prob given another round",null,{"$f":"(1-Sorcadins!$P$300)^D114*Sorcadins!$P$300","v":0.25},{"$f":"(1-Sorcadins!$P$300)^E114*Sorcadins!$P$300","v":0.125},{"$f":"(1-Sorcadins!$P$300)^F114*Sorcadins!$P$300","v":0.0625},{"$f":"(1-Sorcadins!$P$300)^G114*Sorcadins!$P$300","v":0.03125},{"$f":"(1-Sorcadins!$P$300)^H114*Sorcadins!$P$300","v":0.015625},{"$f":"(1-Sorcadins!$P$300)^I114*Sorcadins!$P$300","v":7.8125E-3},{"$f":"(1-Sorcadins!$P$300)^J114*Sorcadins!$P$300","v":3.90625E-3},{"$f":"(1-Sorcadins!$P$300)^K114*Sorcadins!$P$300","v":1.953125E-3},{"$f":"(1-Sorcadins!$P$300)^L114*Sorcadins!$P$300","v":9.765625E-4},{"$f":"(1-Sorcadins!$P$300)^M114*Sorcadins!$P$300","v":4.8828125E-4}]
[null,"prob given last round",null,{"$f":"(1-Sorcadins!$P$300)^D114","v":0.5},{"$f":"(1-Sorcadins!$P$300)^E114","v":0.25},{"$f":"(1-Sorcadins!$P$300)^F114","v":0.125},{"$f":"(1-Sorcadins!$P$300)^G114","v":0.0625},{"$f":"(1-Sorcadins!$P$300)^H114","v":0.03125},{"$f":"(1-Sorcadins!$P$300)^I114","v":0.015625},{"$f":"(1-Sorcadins!$P$300)^J114","v":7.8125E-3},{"$f":"(1-Sorcadins!$P$300)^K114","v":3.90625E-3},{"$f":"(1-Sorcadins!$P$300)^L114","v":1.953125E-3},{"$f":"(1-Sorcadins!$P$300)^M114","v":9.765625E-4}]
[null,"expectation given n rounds",null,{"$f":"D114*D116","v":0.5},{"$f":"D114*D115+E114*E116","v":0.75},{"$f":"D114*D115+E114*E115+F114*F116","v":0.875},{"$f":"D114*D115+E114*E115+F114*F115+G114*G116","v":0.9375},{"$f":"D114*D115+E114*E115+F114*F115+G114*G115+H114*H116","v":0.96875},{"$f":"D114*D115+E114*E115+F114*F115+G114*G115+H114*H115+I114*I116","v":0.984375},{"$f":"D114*D115+E114*E115+F114*F115+G114*G115+H114*H115+I114*I115+J114*J116","v":0.9921875},{"$f":"D114*D115+E114*E115+F114*F115+G114*G115+H114*H115+I114*I115+J114*J115+K114*K116","v":0.99609375},{"$f":"D114*D115+E114*E115+F114*F115+G114*G115+H114*H115+I114*I115+J114*J115+K114*K115+L114*L116","v":0.998046875},{"$f":"D114*D115+E114*E115+F114*F115+G114*G115+H114*H115+I114*I115+J114*J115+K114*K115+L114*L115+M114*M116","v":0.9990234375}]
[null,"for Character, Defensive",null,1,2,3,4,5,6,7,8,9,10]
[null,"prob given another round",null,{"$f":"(1-Sorcadins!$P$301)^D118*Sorcadins!$P$301","v":0.234375},{"$f":"(1-Sorcadins!$P$301)^E118*Sorcadins!$P$301","v":0.146484375},{"$f":"(1-Sorcadins!$P$301)^F118*Sorcadins!$P$301","v":0.091552734375},{"$f":"(1-Sorcadins!$P$301)^G118*Sorcadins!$P$301","v":0.057220458984375},{"$f":"(1-Sorcadins!$P$301)^H118*Sorcadins!$P$301","v":0.035762786865234375},{"$f":"(1-Sorcadins!$P$301)^I118*Sorcadins!$P$301","v":0.022351741790771484},{"$f":"(1-Sorcadins!$P$301)^J118*Sorcadins!$P$301","v":0.013969838619232178},{"$f":"(1-Sorcadins!$P$301)^K118*Sorcadins!$P$301","v":0.008731149137020111},{"$f":"(1-Sorcadins!$P$301)^L118*Sorcadins!$P$301","v":0.005456968210637569},{"$f":"(1-Sorcadins!$P$301)^M118*Sorcadins!$P$301","v":0.003410605131648481}]
[null,"prob given last round",null,{"$f":"(1-Sorcadins!$P$301)^D118","v":0.625},{"$f":"(1-Sorcadins!$P$301)^E118","v":0.390625},{"$f":"(1-Sorcadins!$P$301)^F118","v":0.244140625},{"$f":"(1-Sorcadins!$P$301)^G118","v":0.152587890625},{"$f":"(1-Sorcadins!$P$301)^H118","v":0.095367431640625},{"$f":"(1-Sorcadins!$P$301)^I118","v":0.059604644775390625},{"$f":"(1-Sorcadins!$P$301)^J118","v":0.03725290298461914},{"$f":"(1-Sorcadins!$P$301)^K118","v":0.023283064365386963},{"$f":"(1-Sorcadins!$P$301)^L118","v":0.014551915228366852},{"$f":"(1-Sorcadins!$P$301)^M118","v":0.009094947017729282}]
[null,"expectation given n rounds",null,{"$f":"D118*D120","v":0.625},{"$f":"D118*D119+E118*E120","v":1.015625},{"$f":"D118*D119+E118*E119+F118*F120","v":1.259765625},{"$f":"D118*D119+E118*E119+F118*F119+G118*G120","v":1.412353515625},{"$f":"D118*D119+E118*E119+F118*F119+G118*G119+H118*H120","v":1.507720947265625},{"$f":"D118*D119+E118*E119+F118*F119+G118*G119+H118*H119+I118*I120","v":1.5673255920410156},{"$f":"D118*D119+E118*E119+F118*F119+G118*G119+H118*H119+I118*I119+J118*J120","v":1.6045784950256348},{"$f":"D118*D119+E118*E119+F118*F119+G118*G119+H118*H119+I118*I119+J118*J119+K118*K120","v":1.6278615593910217},{"$f":"D118*D119+E118*E119+F118*F119+G118*G119+H118*H119+I118*I119+J118*J119+K118*K119+L118*L120","v":1.6424134746193886},{"$f":"D118*D119+E118*E119+F118*F119+G118*G119+H118*H119+I118*I119+J118*J119+K118*K119+L118*L119+M118*M120","v":1.6515084216371179}]
[]
[null,"LEVEL 13",{"$nulls":5},"Fight Duration:"]
[null,"for Character",null,1,2,3,4,5,6,7,8,9,10]
[null,"prob given another round",null,{"$f":"(1-Sorcadins!$Q$300)^D124*Sorcadins!$Q$300","v":0.25},{"$f":"(1-Sorcadins!$Q$300)^E124*Sorcadins!$Q$300","v":0.125},{"$f":"(1-Sorcadins!$Q$300)^F124*Sorcadins!$Q$300","v":0.0625},{"$f":"(1-Sorcadins!$Q$300)^G124*Sorcadins!$Q$300","v":0.03125},{"$f":"(1-Sorcadins!$Q$300)^H124*Sorcadins!$Q$300","v":0.015625},{"$f":"(1-Sorcadins!$Q$300)^I124*Sorcadins!$Q$300","v":7.8125E-3},{"$f":"(1-Sorcadins!$Q$300)^J124*Sorcadins!$Q$300","v":3.90625E-3},{"$f":"(1-Sorcadins!$Q$300)^K124*Sorcadins!$Q$300","v":1.953125E-3},{"$f":"(1-Sorcadins!$Q$300)^L124*Sorcadins!$Q$300","v":9.765625E-4},{"$f":"(1-Sorcadins!$Q$300)^M124*Sorcadins!$Q$300","v":4.8828125E-4}]
[null,"prob given last round",null,{"$f":"(1-Sorcadins!$Q$300)^D124","v":0.5},{"$f":"(1-Sorcadins!$Q$300)^E124","v":0.25},{"$f":"(1-Sorcadins!$Q$300)^F124","v":0.125},{"$f":"(1-Sorcadins!$Q$300)^G124","v":0.0625},{"$f":"(1-Sorcadins!$Q$300)^H124","v":0.03125},{"$f":"(1-Sorcadins!$Q$300)^I124","v":0.015625},{"$f":"(1-Sorcadins!$Q$300)^J124","v":7.8125E-3},{"$f":"(1-Sorcadins!$Q$300)^K124","v":3.90625E-3},{"$f":"(1-Sorcadins!$Q$300)^L124","v":1.953125E-3},{"$f":"(1-Sorcadins!$Q$300)^M124","v":9.765625E-4}]
[null,"expectation given n rounds",null,{"$f":"D124*D126","v":0.5},{"$f":"D124*D125+E124*E126","v":0.75},{"$f":"D124*D125+E124*E125+F124*F126","v":0.875},{"$f":"D124*D125+E124*E125+F124*F125+G124*G126","v":0.9375},{"$f":"D124*D125+E124*E125+F124*F125+G124*G125+H124*H126","v":0.96875},{"$f":"D124*D125+E124*E125+F124*F125+G124*G125+H124*H125+I124*I126","v":0.984375},{"$f":"D124*D125+E124*E125+F124*F125+G124*G125+H124*H125+I124*I125+J124*J126","v":0.9921875},{"$f":"D124*D125+E124*E125+F124*F125+G124*G125+H124*H125+I124*I125+J124*J125+K124*K126","v":0.99609375},{"$f":"D124*D125+E124*E125+F124*F125+G124*G125+H124*H125+I124*I125+J124*J125+K124*K125+L124*L126","v":0.998046875},{"$f":"D124*D125+E124*E125+F124*F125+G124*G125+H124*H125+I124*I125+J124*J125+K124*K125+L124*L125+M124*M126","v":0.9990234375}]
[null,"for Character, Defensive",null,1,2,3,4,5,6,7,8,9,10]
[null,"prob given another round",null,{"$f":"(1-Sorcadins!$Q$301)^D128*Sorcadins!$Q$301","v":0.234375},{"$f":"(1-Sorcadins!$Q$301)^E128*Sorcadins!$Q$301","v":0.146484375},{"$f":"(1-Sorcadins!$Q$301)^F128*Sorcadins!$Q$301","v":0.091552734375},{"$f":"(1-Sorcadins!$Q$301)^G128*Sorcadins!$Q$301","v":0.057220458984375},{"$f":"(1-Sorcadins!$Q$301)^H128*Sorcadins!$Q$301","v":0.035762786865234375},{"$f":"(1-Sorcadins!$Q$301)^I128*Sorcadins!$Q$301","v":0.022351741790771484},{"$f":"(1-Sorcadins!$Q$301)^J128*Sorcadins!$Q$301","v":0.013969838619232178},{"$f":"(1-Sorcadins!$Q$301)^K128*Sorcadins!$Q$301","v":0.008731149137020111},{"$f":"(1-Sorcadins!$Q$301)^L128*Sorcadins!$Q$301","v":0.005456968210637569},{"$f":"(1-Sorcadins!$Q$301)^M128*Sorcadins!$Q$301","v":0.003410605131648481}]
[null,"prob given last round",null,{"$f":"(1-Sorcadins!$Q$301)^D128","v":0.625},{"$f":"(1-Sorcadins!$Q$301)^E128","v":0.390625},{"$f":"(1-Sorcadins!$Q$301)^F128","v":0.244140625},{"$f":"(1-Sorcadins!$Q$301)^G128","v":0.152587890625},{"$f":"(1-Sorcadins!$Q$301)^H128","v":0.095367431640625},{"$f":"(1-Sorcadins!$Q$301)^I128","v":0.059604644775390625},{"$f":"(1-Sorcadins!$Q$301)^J128","v":0.03725290298461914},{"$f":"(1-Sorcadins!$Q$301)^K128","v":0.023283064365386963},{"$f":"(1-Sorcadins!$Q$301)^L128","v":0.014551915228366852},{"$f":"(1-Sorcadins!$Q$301)^M128","v":0.009094947017729282}]
[null,"expectation given n rounds",null,{"$f":"D128*D130","v":0.625},{"$f":"D128*D129+E128*E130","v":1.015625},{"$f":"D128*D129+E128*E129+F128*F130","v":1.259765625},{"$f":"D128*D129+E128*E129+F128*F129+G128*G130","v":1.412353515625},{"$f":"D128*D129+E128*E129+F128*F129+G128*G129+H128*H130","v":1.507720947265625},{"$f":"D128*D129+E128*E129+F128*F129+G128*G129+H128*H129+I128*I130","v":1.5673255920410156},{"$f":"D128*D129+E128*E129+F128*F129+G128*G129+H128*H129+I128*I129+J128*J130","v":1.6045784950256348},{"$f":"D128*D129+E128*E129+F128*F129+G128*G129+H128*H129+I128*I129+J128*J129+K128*K130","v":1.6278615593910217},{"$f":"D128*D129+E128*E129+F128*F129+G128*G129+H128*H129+I128*I129+J128*J129+K128*K129+L128*L130","v":1.6424134746193886},{"$f":"D128*D129+E128*E129+F128*F129+G128*G129+H128*H129+I128*I129+J128*J129+K128*K129+L128*L129+M128*M130","v":1.6515084216371179}]
[]
[null,"LEVEL 14",{"$nulls":5},"Fight Duration:"]
[null,"for Character",null,1,2,3,4,5,6,7,8,9,10]
[null,"prob given another round",null,{"$f":"(1-Sorcadins!$R$300)^D134*Sorcadins!$R$300","v":0.25},{"$f":"(1-Sorcadins!$R$300)^E134*Sorcadins!$R$300","v":0.125},{"$f":"(1-Sorcadins!$R$300)^F134*Sorcadins!$R$300","v":0.0625},{"$f":"(1-Sorcadins!$R$300)^G134*Sorcadins!$R$300","v":0.03125},{"$f":"(1-Sorcadins!$R$300)^H134*Sorcadins!$R$300","v":0.015625},{"$f":"(1-Sorcadins!$R$300)^I134*Sorcadins!$R$300","v":7.8125E-3},{"$f":"(1-Sorcadins!$R$300)^J134*Sorcadins!$R$300","v":3.90625E-3},{"$f":"(1-Sorcadins!$R$300)^K134*Sorcadins!$R$300","v":1.953125E-3},{"$f":"(1-Sorcadins!$R$300)^L134*Sorcadins!$R$300","v":9.765625E-4},{"$f":"(1-Sorcadins!$R$300)^M134*Sorcadins!$R$300","v":4.8828125E-4}]
[null,"prob given last round",null,{"$f":"(1-Sorcadins!$R$300)^D134","v":0.5},{"$f":"(1-Sorcadins!$R$300)^E134","v":0.25},{"$f":"(1-Sorcadins!$R$300)^F134","v":0.125},{"$f":"(1-Sorcadins!$R$300)^G134","v":0.0625},{"$f":"(1-Sorcadins!$R$300)^H134","v":0.03125},{"$f":"(1-Sorcadins!$R$300)^I134","v":0.015625},{"$f":"(1-Sorcadins!$R$300)^J134","v":7.8125E-3},{"$f":"(1-Sorcadins!$R$300)^K134","v":3.90625E-3},{"$f":"(1-Sorcadins!$R$300)^L134","v":1.953125E-3},{"$f":"(1-Sorcadins!$R$300)^M134","v":9.765625E-4}]
[null,"expectation given n rounds",null,{"$f":"D134*D136","v":0.5},{"$f":"D134*D135+E134*E136","v":0.75},{"$f":"D134*D135+E134*E135+F134*F136","v":0.875},{"$f":"D134*D135+E134*E135+F134*F135+G134*G136","v":0.9375},{"$f":"D134*D135+E134*E135+F134*F135+G134*G135+H134*H136","v":0.96875},{"$f":"D134*D135+E134*E135+F134*F135+G134*G135+H134*H135+I134*I136","v":0.984375},{"$f":"D134*D135+E134*E135+F134*F135+G134*G135+H134*H135+I134*I135+J134*J136","v":0.9921875},{"$f":"D134*D135+E134*E135+F134*F135+G134*G135+H134*H135+I134*I135+J134*J135+K134*K136","v":0.99609375},{"$f":"D134*D135+E134*E135+F134*F135+G134*G135+H134*H135+I134*I135+J134*J135+K134*K135+L134*L136","v":0.998046875},{"$f":"D134*D135+E134*E135+F134*F135+G134*G135+H134*H135+I134*I135+J134*J135+K134*K135+L134*L135+M134*M136","v":0.9990234375}]
[null,"for Character, Defensive",null,1,2,3,4,5,6,7,8,9,10]
[null,"prob given another round",null,{"$f":"(1-Sorcadins!$R$301)^D138*Sorcadins!$R$301","v":0.234375},{"$f":"(1-Sorcadins!$R$301)^E138*Sorcadins!$R$301","v":0.146484375},{"$f":"(1-Sorcadins!$R$301)^F138*Sorcadins!$R$301","v":0.091552734375},{"$f":"(1-Sorcadins!$R$301)^G138*Sorcadins!$R$301","v":0.057220458984375},{"$f":"(1-Sorcadins!$R$301)^H138*Sorcadins!$R$301","v":0.035762786865234375},{"$f":"(1-Sorcadins!$R$301)^I138*Sorcadins!$R$301","v":0.022351741790771484},{"$f":"(1-Sorcadins!$R$301)^J138*Sorcadins!$R$301","v":0.013969838619232178},{"$f":"(1-Sorcadins!$R$301)^K138*Sorcadins!$R$301","v":0.008731149137020111},{"$f":"(1-Sorcadins!$R$301)^L138*Sorcadins!$R$301","v":0.005456968210637569},{"$f":"(1-Sorcadins!$R$301)^M138*Sorcadins!$R$301","v":0.003410605131648481}]
[null,"prob given last round",null,{"$f":"(1-Sorcadins!$R$301)^D138","v":0.625},{"$f":"(1-Sorcadins!$R$301)^E138","v":0.390625},{"$f":"(1-Sorcadins!$R$301)^F138","v":0.244140625},{"$f":"(1-Sorcadins!$R$301)^G138","v":0.152587890625},{"$f":"(1-Sorcadins!$R$301)^H138","v":0.095367431640625},{"$f":"(1-Sorcadins!$R$301)^I138","v":0.059604644775390625},{"$f":"(1-Sorcadins!$R$301)^J138","v":0.03725290298461914},{"$f":"(1-Sorcadins!$R$301)^K138","v":0.023283064365386963},{"$f":"(1-Sorcadins!$R$301)^L138","v":0.014551915228366852},{"$f":"(1-Sorcadins!$R$301)^M138","v":0.009094947017729282}]
[null,"expectation given n rounds",null,{"$f":"D138*D140","v":0.625},{"$f":"D138*D139+E138*E140","v":1.015625},{"$f":"D138*D139+E138*E139+F138*F140","v":1.259765625},{"$f":"D138*D139+E138*E139+F138*F139+G138*G140","v":1.412353515625},{"$f":"D138*D139+E138*E139+F138*F139+G138*G139+H138*H140","v":1.507720947265625},{"$f":"D138*D139+E138*E139+F138*F139+G138*G139+H138*H139+I138*I140","v":1.5673255920410156},{"$f":"D138*D139+E138*E139+F138*F139+G138*G139+H138*H139+I138*I139+J138*J140","v":1.6045784950256348},{"$f":"D138*D139+E138*E139+F138*F139+G138*G139+H138*H139+I138*I139+J138*J139+K138*K140","v":1.6278615593910217},{"$f":"D138*D139+E138*E139+F138*F139+G138*G139+H138*H139+I138*I139+J138*J139+K138*K139+L138*L140","v":1.6424134746193886},{"$f":"D138*D139+E138*E139+F138*F139+G138*G139+H138*H139+I138*I139+J138*J139+K138*K139+L138*L139+M138*M140","v":1.6515084216371179}]
[]
[null,"LEVEL 15",{"$nulls":5},"Fight Duration:"]
[null,"for Character",null,1,2,3,4,5,6,7,8,9,10]
[null,"prob given another round",null,{"$f":"(1-Sorcadins!$S$300)^D144*Sorcadins!$S$300","v":0.25},{"$f":"(1-Sorcadins!$S$300)^E144*Sorcadins!$S$300","v":0.125},{"$f":"(1-Sorcadins!$S$300)^F144*Sorcadins!$S$300","v":0.0625},{"$f":"(1-Sorcadins!$S$300)^G144*Sorcadins!$S$300","v":0.03125},{"$f":"(1-Sorcadins!$S$300)^H144*Sorcadins!$S$300","v":0.015625},{"$f":"(1-Sorcadins!$S$300)^I144*Sorcadins!$S$300","v":7.8125E-3},{"$f":"(1-Sorcadins!$S$300)^J144*Sorcadins!$S$300","v":3.90625E-3},{"$f":"(1-Sorcadins!$S$300)^K144*Sorcadins!$S$300","v":1.953125E-3},{"$f":"(1-Sorcadins!$S$300)^L144*Sorcadins!$S$300","v":9.765625E-4},{"$f":"(1-Sorcadins!$S$300)^M144*Sorcadins!$S$300","v":4.8828125E-4}]
[null,"prob given last round",null,{"$f":"(1-Sorcadins!$S$300)^D144","v":0.5},{"$f":"(1-Sorcadins!$S$300)^E144","v":0.25},{"$f":"(1-Sorcadins!$S$300)^F144","v":0.125},{"$f":"(1-Sorcadins!$S$300)^G144","v":0.0625},{"$f":"(1-Sorcadins!$S$300)^H144","v":0.03125},{"$f":"(1-Sorcadins!$S$300)^I144","v":0.015625},{"$f":"(1-Sorcadins!$S$300)^J144","v":7.8125E-3},{"$f":"(1-Sorcadins!$S$300)^K144","v":3.90625E-3},{"$f":"(1-Sorcadins!$S$300)^L144","v":1.953125E-3},{"$f":"(1-Sorcadins!$S$300)^M144","v":9.765625E-4}]
[null,"expectation given n rounds",null,{"$f":"D144*D146","v":0.5},{"$f":"D144*D145+E144*E146","v":0.75},{"$f":"D144*D145+E144*E145+F144*F146","v":0.875},{"$f":"D144*D145+E144*E145+F144*F145+G144*G146","v":0.9375},{"$f":"D144*D145+E144*E145+F144*F145+G144*G145+H144*H146","v":0.96875},{"$f":"D144*D145+E144*E145+F144*F145+G144*G145+H144*H145+I144*I146","v":0.984375},{"$f":"D144*D145+E144*E145+F144*F145+G144*G145+H144*H145+I144*I145+J144*J146","v":0.9921875},{"$f":"D144*D145+E144*E145+F144*F145+G144*G145+H144*H145+I144*I145+J144*J145+K144*K146","v":0.99609375},{"$f":"D144*D145+E144*E145+F144*F145+G144*G145+H144*H145+I144*I145+J144*J145+K144*K145+L144*L146","v":0.998046875},{"$f":"D144*D145+E144*E145+F144*F145+G144*G145+H144*H145+I144*I145+J144*J145+K144*K145+L144*L145+M144*M146","v":0.9990234375}]
[null,"for Character, Defensive",null,1,2,3,4,5,6,7,8,9,10]
[null,"prob given another round",null,{"$f":"(1-Sorcadins!$S$301)^D148*Sorcadins!$S$301","v":0.234375},{"$f":"(1-Sorcadins!$S$301)^E148*Sorcadins!$S$301","v":0.146484375},{"$f":"(1-Sorcadins!$S$301)^F148*Sorcadins!$S$301","v":0.091552734375},{"$f":"(1-Sorcadins!$S$301)^G148*Sorcadins!$S$301","v":0.057220458984375},{"$f":"(1-Sorcadins!$S$301)^H148*Sorcadins!$S$301","v":0.035762786865234375},{"$f":"(1-Sorcadins!$S$301)^I148*Sorcadins!$S$301","v":0.022351741790771484},{"$f":"(1-Sorcadins!$S$301)^J148*Sorcadins!$S$301","v":0.013969838619232178},{"$f":"(1-Sorcadins!$S$301)^K148*Sorcadins!$S$301","v":0.008731149137020111},{"$f":"(1-Sorcadins!$S$301)^L148*Sorcadins!$S$301","v":0.005456968210637569},{"$f":"(1-Sorcadins!$S$301)^M148*Sorcadins!$S$301","v":0.003410605131648481}]
[null,"prob given last round",null,{"$f":"(1-Sorcadins!$S$301)^D148","v":0.625},{"$f":"(1-Sorcadins!$S$301)^E148","v":0.390625},{"$f":"(1-Sorcadins!$S$301)^F148","v":0.244140625},{"$f":"(1-Sorcadins!$S$301)^G148","v":0.152587890625},{"$f":"(1-Sorcadins!$S$301)^H148","v":0.095367431640625},{"$f":"(1-Sorcadins!$S$301)^I148","v":0.059604644775390625},{"$f":"(1-Sorcadins!$S$301)^J148","v":0.03725290298461914},{"$f":"(1-Sorcadins!$S$301)^K148","v":0.023283064365386963},{"$f":"(1-Sorcadins!$S$301)^L148","v":0.014551915228366852},{"$f":"(1-Sorcadins!$S$301)^M148","v":0.009094947017729282}]
[null,"expectation given n rounds",null,{"$f":"D148*D150","v":0.625},{"$f":"D148*D149+E148*E150","v":1.015625},{"$f":"D148*D149+E148*E149+F148*F150","v":1.259765625},{"$f":"D148*D149+E148*E149+F148*F149+G148*G150","v":1.412353515625},{"$f":"D148*D149+E148*E149+F148*F149+G148*G149+H148*H150","v":1.507720947265625},{"$f":"D148*D149+E148*E149+F148*F149+G148*G149+H148*H149+I148*I150","v":1.5673255920410156},{"$f":"D148*D149+E148*E149+F148*F149+G148*G149+H148*H149+I148*I149+J148*J150","v":1.6045784950256348},{"$f":"D148*D149+E148*E149+F148*F149+G148*G149+H148*H149+I148*I149+J148*J149+K148*K150","v":1.6278615593910217},{"$f":"D148*D149+E148*E149+F148*F149+G148*G149+H148*H149+I148*I149+J148*J149+K148*K149+L148*L150","v":1.6424134746193886},{"$f":"D148*D149+E148*E149+F148*F149+G148*G149+H148*H149+I148*I149+J148*J149+K148*K149+L148*L149+M148*M150","v":1.6515084216371179}]
[]
[null,"LEVEL 16",{"$nulls":5},"Fight Duration:"]
[null,"for Character",null,1,2,3,4,5,6,7,8,9,10]
[null,"prob given another round",null,{"$f":"(1-Sorcadins!$T$300)^D154*Sorcadins!$T$300","v":0.25},{"$f":"(1-Sorcadins!$T$300)^E154*Sorcadins!$T$300","v":0.125},{"$f":"(1-Sorcadins!$T$300)^F154*Sorcadins!$T$300","v":0.0625},{"$f":"(1-Sorcadins!$T$300)^G154*Sorcadins!$T$300","v":0.03125},{"$f":"(1-Sorcadins!$T$300)^H154*Sorcadins!$T$300","v":0.015625},{"$f":"(1-Sorcadins!$T$300)^I154*Sorcadins!$T$300","v":7.8125E-3},{"$f":"(1-Sorcadins!$T$300)^J154*Sorcadins!$T$300","v":3.90625E-3},{"$f":"(1-Sorcadins!$T$300)^K154*Sorcadins!$T$300","v":1.953125E-3},{"$f":"(1-Sorcadins!$T$300)^L154*Sorcadins!$T$300","v":9.765625E-4},{"$f":"(1-Sorcadins!$T$300)^M154*Sorcadins!$T$300","v":4.8828125E-4}]
[null,"prob given last round",null,{"$f":"(1-Sorcadins!$T$300)^D154","v":0.5},{"$f":"(1-Sorcadins!$T$300)^E154","v":0.25},{"$f":"(1-Sorcadins!$T$300)^F154","v":0.125},{"$f":"(1-Sorcadins!$T$300)^G154","v":0.0625},{"$f":"(1-Sorcadins!$T$300)^H154","v":0.03125},{"$f":"(1-Sorcadins!$T$300)^I154","v":0.015625},{"$f":"(1-Sorcadins!$T$300)^J154","v":7.8125E-3},{"$f":"(1-Sorcadins!$T$300)^K154","v":3.90625E-3},{"$f":"(1-Sorcadins!$T$300)^L154","v":1.953125E-3},{"$f":"(1-Sorcadins!$T$300)^M154","v":9.765625E-4}]
[null,"expectation given n rounds",null,{"$f":"D154*D156","v":0.5},{"$f":"D154*D155+E154*E156","v":0.75},{"$f":"D154*D155+E154*E155+F154*F156","v":0.875},{"$f":"D154*D155+E154*E155+F154*F155+G154*G156","v":0.9375},{"$f":"D154*D155+E154*E155+F154*F155+G154*G155+H154*H156","v":0.96875},{"$f":"D154*D155+E154*E155+F154*F155+G154*G155+H154*H155+I154*I156","v":0.984375},{"$f":"D154*D155+E154*E155+F154*F155+G154*G155+H154*H155+I154*I155+J154*J156","v":0.9921875},{"$f":"D154*D155+E154*E155+F154*F155+G154*G155+H154*H155+I154*I155+J154*J155+K154*K156","v":0.99609375},{"$f":"D154*D155+E154*E155+F154*F155+G154*G155+H154*H155+I154*I155+J154*J155+K154*K155+L154*L156","v":0.998046875},{"$f":"D154*D155+E154*E155+F154*F155+G154*G155+H154*H155+I154*I155+J154*J155+K154*K155+L154*L155+M154*M156","v":0.9990234375}]
[null,"for Character, Defensive",null,1,2,3,4,5,6,7,8,9,10]
[null,"prob given another round",null,{"$f":"(1-Sorcadins!$T$301)^D158*Sorcadins!$T$301","v":0.234375},{"$f":"(1-Sorcadins!$T$301)^E158*Sorcadins!$T$301","v":0.146484375},{"$f":"(1-Sorcadins!$T$301)^F158*Sorcadins!$T$301","v":0.091552734375},{"$f":"(1-Sorcadins!$T$301)^G158*Sorcadins!$T$301","v":0.057220458984375},{"$f":"(1-Sorcadins!$T$301)^H158*Sorcadins!$T$301","v":0.035762786865234375},{"$f":"(1-Sorcadins!$T$301)^I158*Sorcadins!$T$301","v":0.022351741790771484},{"$f":"(1-Sorcadins!$T$301)^J158*Sorcadins!$T$301","v":0.013969838619232178},{"$f":"(1-Sorcadins!$T$301)^K158*Sorcadins!$T$301","v":0.008731149137020111},{"$f":"(1-Sorcadins!$T$301)^L158*Sorcadins!$T$301","v":0.005456968210637569},{"$f":"(1-Sorcadins!$T$301)^M158*Sorcadins!$T$301","v":0.003410605131648481}]
[null,"prob given last round",null,{"$f":"(1-Sorcadins!$T$301)^D158","v":0.625},{"$f":"(1-Sorcadins!$T$301)^E158","v":0.390625},{"$f":"(1-Sorcadins!$T$301)^F158","v":0.244140625},{"$f":"(1-Sorcadins!$T$301)^G158","v":0.152587890625},{"$f":"(1-Sorcadins!$T$301)^H158","v":0.095367431640625},{"$f":"(1-Sorcadins!$T$301)^I158","v":0.059604644775390625},{"$f":"(1-Sorcadins!$T$301)^J158","v":0.03725290298461914},{"$f":"(1-Sorcadins!$T$301)^K158","v":0.023283064365386963},{"$f":"(1-Sorcadins!$T$301)^L158","v":0.014551915228366852},{"$f":"(1-Sorcadins!$T$301)^M158","v":0.009094947017729282}]
[null,"expectation given n rounds",null,{"$f":"D158*D160","v":0.625},{"$f":"D158*D159+E158*E160","v":1.015625},{"$f":"D158*D159+E158*E159+F158*F160","v":1.259765625},{"$f":"D158*D159+E158*E159+F158*F159+G158*G160","v":1.412353515625},{"$f":"D158*D159+E158*E159+F158*F159+G158*G159+H158*H160","v":1.507720947265625},{"$f":"D158*D159+E158*E159+F158*F159+G158*G159+H158*H159+I158*I160","v":1.5673255920410156},{"$f":"D158*D159+E158*E159+F158*F159+G158*G159+H158*H159+I158*I159+J158*J160","v":1.6045784950256348},{"$f":"D158*D159+E158*E159+F158*F159+G158*G159+H158*H159+I158*I159+J158*J159+K158*K160","v":1.6278615593910217},{"$f":"D158*D159+E158*E159+F158*F159+G158*G159+H158*H159+I158*I159+J158*J159+K158*K159+L158*L160","v":1.6424134746193886},{"$f":"D158*D159+E158*E159+F158*F159+G158*G159+H158*H159+I158*I159+J158*J159+K158*K159+L158*L159+M158*M160","v":1.6515084216371179}]
[]
[null,"LEVEL 17",{"$nulls":5},"Fight Duration:"]
[null,"for Character",null,1,2,3,4,5,6,7,8,9,10]
[null,"prob given another round",null,{"$f":"(1-Sorcadins!$U$300)^D164*Sorcadins!$U$300","v":0.25},{"$f":"(1-Sorcadins!$U$300)^E164*Sorcadins!$U$300","v":0.125},{"$f":"(1-Sorcadins!$U$300)^F164*Sorcadins!$U$300","v":0.0625},{"$f":"(1-Sorcadins!$U$300)^G164*Sorcadins!$U$300","v":0.03125},{"$f":"(1-Sorcadins!$U$300)^H164*Sorcadins!$U$300","v":0.015625},{"$f":"(1-Sorcadins!$U$300)^I164*Sorcadins!$U$300","v":7.8125E-3},{"$f":"(1-Sorcadins!$U$300)^J164*Sorcadins!$U$300","v":3.90625E-3},{"$f":"(1-Sorcadins!$U$300)^K164*Sorcadins!$U$300","v":1.953125E-3},{"$f":"(1-Sorcadins!$U$300)^L164*Sorcadins!$U$300","v":9.765625E-4},{"$f":"(1-Sorcadins!$U$300)^M164*Sorcadins!$U$300","v":4.8828125E-4}]
[null,"prob given last round",null,{"$f":"(1-Sorcadins!$U$300)^D164","v":0.5},{"$f":"(1-Sorcadins!$U$300)^E164","v":0.25},{"$f":"(1-Sorcadins!$U$300)^F164","v":0.125},{"$f":"(1-Sorcadins!$U$300)^G164","v":0.0625},{"$f":"(1-Sorcadins!$U$300)^H164","v":0.03125},{"$f":"(1-Sorcadins!$U$300)^I164","v":0.015625},{"$f":"(1-Sorcadins!$U$300)^J164","v":7.8125E-3},{"$f":"(1-Sorcadins!$U$300)^K164","v":3.90625E-3},{"$f":"(1-Sorcadins!$U$300)^L164","v":1.953125E-3},{"$f":"(1-Sorcadins!$U$300)^M164","v":9.765625E-4}]
[null,"expectation given n rounds",null,{"$f":"D164*D166","v":0.5},{"$f":"D164*D165+E164*E166","v":0.75},{"$f":"D164*D165+E164*E165+F164*F166","v":0.875},{"$f":"D164*D165+E164*E165+F164*F165+G164*G166","v":0.9375},{"$f":"D164*D165+E164*E165+F164*F165+G164*G165+H164*H166","v":0.96875},{"$f":"D164*D165+E164*E165+F164*F165+G164*G165+H164*H165+I164*I166","v":0.984375},{"$f":"D164*D165+E164*E165+F164*F165+G164*G165+H164*H165+I164*I165+J164*J166","v":0.9921875},{"$f":"D164*D165+E164*E165+F164*F165+G164*G165+H164*H165+I164*I165+J164*J165+K164*K166","v":0.99609375},{"$f":"D164*D165+E164*E165+F164*F165+G164*G165+H164*H165+I164*I165+J164*J165+K164*K165+L164*L166","v":0.998046875},{"$f":"D164*D165+E164*E165+F164*F165+G164*G165+H164*H165+I164*I165+J164*J165+K164*K165+L164*L165+M164*M166","v":0.9990234375}]
[null,"for Character, Defensive",null,1,2,3,4,5,6,7,8,9,10]
[null,"prob given another round",null,{"$f":"(1-Sorcadins!$U$301)^D168*Sorcadins!$U$301","v":0.234375},{"$f":"(1-Sorcadins!$U$301)^E168*Sorcadins!$U$301","v":0.146484375},{"$f":"(1-Sorcadins!$U$301)^F168*Sorcadins!$U$301","v":0.091552734375},{"$f":"(1-Sorcadins!$U$301)^G168*Sorcadins!$U$301","v":0.057220458984375},{"$f":"(1-Sorcadins!$U$301)^H168*Sorcadins!$U$301","v":0.035762786865234375},{"$f":"(1-Sorcadins!$U$301)^I168*Sorcadins!$U$301","v":0.022351741790771484},{"$f":"(1-Sorcadins!$U$301)^J168*Sorcadins!$U$301","v":0.013969838619232178},{"$f":"(1-Sorcadins!$U$301)^K168*Sorcadins!$U$301","v":0.008731149137020111},{"$f":"(1-Sorcadins!$U$301)^L168*Sorcadins!$U$301","v":0.005456968210637569},{"$f":"(1-Sorcadins!$U$301)^M168*Sorcadins!$U$301","v":0.003410605131648481}]
[null,"prob given last round",null,{"$f":"(1-Sorcadins!$U$301)^D168","v":0.625},{"$f":"(1-Sorcadins!$U$301)^E168","v":0.390625},{"$f":"(1-Sorcadins!$U$301)^F168","v":0.244140625},{"$f":"(1-Sorcadins!$U$301)^G168","v":0.152587890625},{"$f":"(1-Sorcadins!$U$301)^H168","v":0.095367431640625},{"$f":"(1-Sorcadins!$U$301)^I168","v":0.059604644775390625},{"$f":"(1-Sorcadins!$U$301)^J168","v":0.03725290298461914},{"$f":"(1-Sorcadins!$U$301)^K168","v":0.023283064365386963},{"$f":"(1-Sorcadins!$U$301)^L168","v":0.014551915228366852},{"$f":"(1-Sorcadins!$U$301)^M168","v":0.009094947017729282}]
[null,"expectation given n rounds",null,{"$f":"D168*D170","v":0.625},{"$f":"D168*D169+E168*E170","v":1.015625},{"$f":"D168*D169+E168*E169+F168*F170","v":1.259765625},{"$f":"D168*D169+E168*E169+F168*F169+G168*G170","v":1.412353515625},{"$f":"D168*D169+E168*E169+F168*F169+G168*G169+H168*H170","v":1.507720947265625},{"$f":"D168*D169+E168*E169+F168*F169+G168*G169+H168*H169+I168*I170","v":1.5673255920410156},{"$f":"D168*D169+E168*E169+F168*F169+G168*G169+H168*H169+I168*I169+J168*J170","v":1.6045784950256348},{"$f":"D168*D169+E168*E169+F168*F169+G168*G169+H168*H169+I168*I169+J168*J169+K168*K170","v":1.6278615593910217},{"$f":"D168*D169+E168*E169+F168*F169+G168*G169+H168*H169+I168*I169+J168*J169+K168*K169+L168*L170","v":1.6424134746193886},{"$f":"D168*D169+E168*E169+F168*F169+G168*G169+H168*H169+I168*I169+J168*J169+K168*K169+L168*L169+M168*M170","v":1.6515084216371179}]
[]
[null,"LEVEL 18",{"$nulls":5},"Fight Duration:"]
[null,"for Character",null,1,2,3,4,5,6,7,8,9,10]
[null,"prob given another round",null,{"$f":"(1-Sorcadins!$V$300)^D174*Sorcadins!$V$300","v":0.25},{"$f":"(1-Sorcadins!$V$300)^E174*Sorcadins!$V$300","v":0.125},{"$f":"(1-Sorcadins!$V$300)^F174*Sorcadins!$V$300","v":0.0625},{"$f":"(1-Sorcadins!$V$300)^G174*Sorcadins!$V$300","v":0.03125},{"$f":"(1-Sorcadins!$V$300)^H174*Sorcadins!$V$300","v":0.015625},{"$f":"(1-Sorcadins!$V$300)^I174*Sorcadins!$V$300","v":7.8125E-3},{"$f":"(1-Sorcadins!$V$300)^J174*Sorcadins!$V$300","v":3.90625E-3},{"$f":"(1-Sorcadins!$V$300)^K174*Sorcadins!$V$300","v":1.953125E-3},{"$f":"(1-Sorcadins!$V$300)^L174*Sorcadins!$V$300","v":9.765625E-4},{"$f":"(1-Sorcadins!$V$300)^M174*Sorcadins!$V$300","v":4.8828125E-4}]
[null,"prob given last round",null,{"$f":"(1-Sorcadins!$V$300)^D174","v":0.5},{"$f":"(1-Sorcadins!$V$300)^E174","v":0.25},{"$f":"(1-Sorcadins!$V$300)^F174","v":0.125},{"$f":"(1-Sorcadins!$V$300)^G174","v":0.0625},{"$f":"(1-Sorcadins!$V$300)^H174","v":0.03125},{"$f":"(1-Sorcadins!$V$300)^I174","v":0.015625},{"$f":"(1-Sorcadins!$V$300)^J174","v":7.8125E-3},{"$f":"(1-Sorcadins!$V$300)^K174","v":3.90625E-3},{"$f":"(1-Sorcadins!$V$300)^L174","v":1.953125E-3},{"$f":"(1-Sorcadins!$V$300)^M174","v":9.765625E-4}]
[null,"expectation given n rounds",null,{"$f":"D174*D176","v":0.5},{"$f":"D174*D175+E174*E176","v":0.75},{"$f":"D174*D175+E174*E175+F174*F176","v":0.875},{"$f":"D174*D175+E174*E175+F174*F175+G174*G176","v":0.9375},{"$f":"D174*D175+E174*E175+F174*F175+G174*G175+H174*H176","v":0.96875},{"$f":"D174*D175+E174*E175+F174*F175+G174*G175+H174*H175+I174*I176","v":0.984375},{"$f":"D174*D175+E174*E175+F174*F175+G174*G175+H174*H175+I174*I175+J174*J176","v":0.9921875},{"$f":"D174*D175+E174*E175+F174*F175+G174*G175+H174*H175+I174*I175+J174*J175+K174*K176","v":0.99609375},{"$f":"D174*D175+E174*E175+F174*F175+G174*G175+H174*H175+I174*I175+J174*J175+K174*K175+L174*L176","v":0.998046875},{"$f":"D174*D175+E174*E175+F174*F175+G174*G175+H174*H175+I174*I175+J174*J175+K174*K175+L174*L175+M174*M176","v":0.9990234375}]
[null,"for Character, Defensive",null,1,2,3,4,5,6,7,8,9,10]
[null,"prob given another round",null,{"$f":"(1-Sorcadins!$V$301)^D178*Sorcadins!$V$301","v":0.234375},{"$f":"(1-Sorcadins!$V$301)^E178*Sorcadins!$V$301","v":0.146484375},{"$f":"(1-Sorcadins!$V$301)^F178*Sorcadins!$V$301","v":0.091552734375},{"$f":"(1-Sorcadins!$V$301)^G178*Sorcadins!$V$301","v":0.057220458984375},{"$f":"(1-Sorcadins!$V$301)^H178*Sorcadins!$V$301","v":0.035762786865234375},{"$f":"(1-Sorcadins!$V$301)^I178*Sorcadins!$V$301","v":0.022351741790771484},{"$f":"(1-Sorcadins!$V$301)^J178*Sorcadins!$V$301","v":0.013969838619232178},{"$f":"(1-Sorcadins!$V$301)^K178*Sorcadins!$V$301","v":0.008731149137020111},{"$f":"(1-Sorcadins!$V$301)^L178*Sorcadins!$V$301","v":0.005456968210637569},{"$f":"(1-Sorcadins!$V$301)^M178*Sorcadins!$V$301","v":0.003410605131648481}]
[null,"prob given last round",null,{"$f":"(1-Sorcadins!$V$301)^D178","v":0.625},{"$f":"(1-Sorcadins!$V$301)^E178","v":0.390625},{"$f":"(1-Sorcadins!$V$301)^F178","v":0.244140625},{"$f":"(1-Sorcadins!$V$301)^G178","v":0.152587890625},{"$f":"(1-Sorcadins!$V$301)^H178","v":0.095367431640625},{"$f":"(1-Sorcadins!$V$301)^I178","v":0.059604644775390625},{"$f":"(1-Sorcadins!$V$301)^J178","v":0.03725290298461914},{"$f":"(1-Sorcadins!$V$301)^K178","v":0.023283064365386963},{"$f":"(1-Sorcadins!$V$301)^L178","v":0.014551915228366852},{"$f":"(1-Sorcadins!$V$301)^M178","v":0.009094947017729282}]
[null,"expectation given n rounds",null,{"$f":"D178*D180","v":0.625},{"$f":"D178*D179+E178*E180","v":1.015625},{"$f":"D178*D179+E178*E179+F178*F180","v":1.259765625},{"$f":"D178*D179+E178*E179+F178*F179+G178*G180","v":1.412353515625},{"$f":"D178*D179+E178*E179+F178*F179+G178*G179+H178*H180","v":1.507720947265625},{"$f":"D178*D179+E178*E179+F178*F179+G178*G179+H178*H179+I178*I180","v":1.5673255920410156},{"$f":"D178*D179+E178*E179+F178*F179+G178*G179+H178*H179+I178*I179+J178*J180","v":1.6045784950256348},{"$f":"D178*D179+E178*E179+F178*F179+G178*G179+H178*H179+I178*I179+J178*J179+K178*K180","v":1.6278615593910217},{"$f":"D178*D179+E178*E179+F178*F179+G178*G179+H178*H179+I178*I179+J178*J179+K178*K179+L178*L180","v":1.6424134746193886},{"$f":"D178*D179+E178*E179+F178*F179+G178*G179+H178*H179+I178*I179+J178*J179+K178*K179+L178*L179+M178*M180","v":1.6515084216371179}]
[]
[null,"LEVEL 19",{"$nulls":5},"Fight Duration:"]
[null,"for Character",null,1,2,3,4,5,6,7,8,9,10]
[null,"prob given another round",null,{"$f":"(1-Sorcadins!$W$300)^D184*Sorcadins!$W$300","v":0.25},{"$f":"(1-Sorcadins!$W$300)^E184*Sorcadins!$W$300","v":0.125},{"$f":"(1-Sorcadins!$W$300)^F184*Sorcadins!$W$300","v":0.0625},{"$f":"(1-Sorcadins!$W$300)^G184*Sorcadins!$W$300","v":0.03125},{"$f":"(1-Sorcadins!$W$300)^H184*Sorcadins!$W$300","v":0.015625},{"$f":"(1-Sorcadins!$W$300)^I184*Sorcadins!$W$300","v":7.8125E-3},{"$f":"(1-Sorcadins!$W$300)^J184*Sorcadins!$W$300","v":3.90625E-3},{"$f":"(1-Sorcadins!$W$300)^K184*Sorcadins!$W$300","v":1.953125E-3},{"$f":"(1-Sorcadins!$W$300)^L184*Sorcadins!$W$300","v":9.765625E-4},{"$f":"(1-Sorcadins!$W$300)^M184*Sorcadins!$W$300","v":4.8828125E-4}]
[null,"prob given last round",null,{"$f":"(1-Sorcadins!$W$300)^D184","v":0.5},{"$f":"(1-Sorcadins!$W$300)^E184","v":0.25},{"$f":"(1-Sorcadins!$W$300)^F184","v":0.125},{"$f":"(1-Sorcadins!$W$300)^G184","v":0.0625},{"$f":"(1-Sorcadins!$W$300)^H184","v":0.03125},{"$f":"(1-Sorcadins!$W$300)^I184","v":0.015625},{"$f":"(1-Sorcadins!$W$300)^J184","v":7.8125E-3},{"$f":"(1-Sorcadins!$W$300)^K184","v":3.90625E-3},{"$f":"(1-Sorcadins!$W$300)^L184","v":1.953125E-3},{"$f":"(1-Sorcadins!$W$300)^M184","v":9.765625E-4}]
[null,"expectation given n rounds",null,{"$f":"D184*D186","v":0.5},{"$f":"D184*D185+E184*E186","v":0.75},{"$f":"D184*D185+E184*E185+F184*F186","v":0.875},{"$f":"D184*D185+E184*E185+F184*F185+G184*G186","v":0.9375},{"$f":"D184*D185+E184*E185+F184*F185+G184*G185+H184*H186","v":0.96875},{"$f":"D184*D185+E184*E185+F184*F185+G184*G185+H184*H185+I184*I186","v":0.984375},{"$f":"D184*D185+E184*E185+F184*F185+G184*G185+H184*H185+I184*I185+J184*J186","v":0.9921875},{"$f":"D184*D185+E184*E185+F184*F185+G184*G185+H184*H185+I184*I185+J184*J185+K184*K186","v":0.99609375},{"$f":"D184*D185+E184*E185+F184*F185+G184*G185+H184*H185+I184*I185+J184*J185+K184*K185+L184*L186","v":0.998046875},{"$f":"D184*D185+E184*E185+F184*F185+G184*G185+H184*H185+I184*I185+J184*J185+K184*K185+L184*L185+M184*M186","v":0.9990234375}]
[null,"for Character, Defensive",null,1,2,3,4,5,6,7,8,9,10]
[null,"prob given another round",null,{"$f":"(1-Sorcadins!$W$301)^D188*Sorcadins!$W$301","v":0.234375},{"$f":"(1-Sorcadins!$W$301)^E188*Sorcadins!$W$301","v":0.146484375},{"$f":"(1-Sorcadins!$W$301)^F188*Sorcadins!$W$301","v":0.091552734375},{"$f":"(1-Sorcadins!$W$301)^G188*Sorcadins!$W$301","v":0.057220458984375},{"$f":"(1-Sorcadins!$W$301)^H188*Sorcadins!$W$301","v":0.035762786865234375},{"$f":"(1-Sorcadins!$W$301)^I188*Sorcadins!$W$301","v":0.022351741790771484},{"$f":"(1-Sorcadins!$W$301)^J188*Sorcadins!$W$301","v":0.013969838619232178},{"$f":"(1-Sorcadins!$W$301)^K188*Sorcadins!$W$301","v":0.008731149137020111},{"$f":"(1-Sorcadins!$W$301)^L188*Sorcadins!$W$301","v":0.005456968210637569},{"$f":"(1-Sorcadins!$W$301)^M188*Sorcadins!$W$301","v":0.003410605131648481}]
[null,"prob given last round",null,{"$f":"(1-Sorcadins!$W$301)^D188","v":0.625},{"$f":"(1-Sorcadins!$W$301)^E188","v":0.390625},{"$f":"(1-Sorcadins!$W$301)^F188","v":0.244140625},{"$f":"(1-Sorcadins!$W$301)^G188","v":0.152587890625},{"$f":"(1-Sorcadins!$W$301)^H188","v":0.095367431640625},{"$f":"(1-Sorcadins!$W$301)^I188","v":0.059604644775390625},{"$f":"(1-Sorcadins!$W$301)^J188","v":0.03725290298461914},{"$f":"(1-Sorcadins!$W$301)^K188","v":0.023283064365386963},{"$f":"(1-Sorcadins!$W$301)^L188","v":0.014551915228366852},{"$f":"(1-Sorcadins!$W$301)^M188","v":0.009094947017729282}]
[null,"expectation given n rounds",null,{"$f":"D188*D190","v":0.625},{"$f":"D188*D189+E188*E190","v":1.015625},{"$f":"D188*D189+E188*E189+F188*F190","v":1.259765625},{"$f":"D188*D189+E188*E189+F188*F189+G188*G190","v":1.412353515625},{"$f":"D188*D189+E188*E189+F188*F189+G188*G189+H188*H190","v":1.507720947265625},{"$f":"D188*D189+E188*E189+F188*F189+G188*G189+H188*H189+I188*I190","v":1.5673255920410156},{"$f":"D188*D189+E188*E189+F188*F189+G188*G189+H188*H189+I188*I189+J188*J190","v":1.6045784950256348},{"$f":"D188*D189+E188*E189+F188*F189+G188*G189+H188*H189+I188*I189+J188*J189+K188*K190","v":1.6278615593910217},{"$f":"D188*D189+E188*E189+F188*F189+G188*G189+H188*H189+I188*I189+J188*J189+K188*K189+L188*L190","v":1.6424134746193886},{"$f":"D188*D189+E188*E189+F188*F189+G188*G189+H188*H189+I188*I189+J188*J189+K188*K189+L188*L189+M188*M190","v":1.6515084216371179}]
[]
[null,"LEVEL 20",{"$nulls":5},"Fight Duration:"]
[null,"for Character",null,1,2,3,4,5,6,7,8,9,10]
[null,"prob given another round",null,{"$f":"(1-Sorcadins!$X$300)^D194*Sorcadins!$X$300","v":0.25},{"$f":"(1-Sorcadins!$X$300)^E194*Sorcadins!$X$300","v":0.125},{"$f":"(1-Sorcadins!$X$300)^F194*Sorcadins!$X$300","v":0.0625},{"$f":"(1-Sorcadins!$X$300)^G194*Sorcadins!$X$300","v":0.03125},{"$f":"(1-Sorcadins!$X$300)^H194*Sorcadins!$X$300","v":0.015625},{"$f":"(1-Sorcadins!$X$300)^I194*Sorcadins!$X$300","v":7.8125E-3},{"$f":"(1-Sorcadins!$X$300)^J194*Sorcadins!$X$300","v":3.90625E-3},{"$f":"(1-Sorcadins!$X$300)^K194*Sorcadins!$X$300","v":1.953125E-3},{"$f":"(1-Sorcadins!$X$300)^L194*Sorcadins!$X$300","v":9.765625E-4},{"$f":"(1-Sorcadins!$X$300)^M194*Sorcadins!$X$300","v":4.8828125E-4}]
[null,"prob given last round",null,{"$f":"(1-Sorcadins!$X$300)^D194","v":0.5},{"$f":"(1-Sorcadins!$X$300)^E194","v":0.25},{"$f":"(1-Sorcadins!$X$300)^F194","v":0.125},{"$f":"(1-Sorcadins!$X$300)^G194","v":0.0625},{"$f":"(1-Sorcadins!$X$300)^H194","v":0.03125},{"$f":"(1-Sorcadins!$X$300)^I194","v":0.015625},{"$f":"(1-Sorcadins!$X$300)^J194","v":7.8125E-3},{"$f":"(1-Sorcadins!$X$300)^K194","v":3.90625E-3},{"$f":"(1-Sorcadins!$X$300)^L194","v":1.953125E-3},{"$f":"(1-Sorcadins!$X$300)^M194","v":9.765625E-4}]
[null,"expectation given n rounds",null,{"$f":"D194*D196","v":0.5},{"$f":"D194*D195+E194*E196","v":0.75},{"$f":"D194*D195+E194*E195+F194*F196","v":0.875},{"$f":"D194*D195+E194*E195+F194*F195+G194*G196","v":0.9375},{"$f":"D194*D195+E194*E195+F194*F195+G194*G195+H194*H196","v":0.96875},{"$f":"D194*D195+E194*E195+F194*F195+G194*G195+H194*H195+I194*I196","v":0.984375},{"$f":"D194*D195+E194*E195+F194*F195+G194*G195+H194*H195+I194*I195+J194*J196","v":0.9921875},{"$f":"D194*D195+E194*E195+F194*F195+G194*G195+H194*H195+I194*I195+J194*J195+K194*K196","v":0.99609375},{"$f":"D194*D195+E194*E195+F194*F195+G194*G195+H194*H195+I194*I195+J194*J195+K194*K195+L194*L196","v":0.998046875},{"$f":"D194*D195+E194*E195+F194*F195+G194*G195+H194*H195+I194*I195+J194*J195+K194*K195+L194*L195+M194*M196","v":0.9990234375}]
[null,"for Character, Defensive",null,1,2,3,4,5,6,7,8,9,10]
[null,"prob given another round",null,{"$f":"(1-Sorcadins!$X$301)^D198*Sorcadins!$X$301","v":0.234375},{"$f":"(1-Sorcadins!$X$301)^E198*Sorcadins!$X$301","v":0.146484375},{"$f":"(1-Sorcadins!$X$301)^F198*Sorcadins!$X$301","v":0.091552734375},{"$f":"(1-Sorcadins!$X$301)^G198*Sorcadins!$X$301","v":0.057220458984375},{"$f":"(1-Sorcadins!$X$301)^H198*Sorcadins!$X$301","v":0.035762786865234375},{"$f":"(1-Sorcadins!$X$301)^I198*Sorcadins!$X$301","v":0.022351741790771484},{"$f":"(1-Sorcadins!$X$301)^J198*Sorcadins!$X$301","v":0.013969838619232178},{"$f":"(1-Sorcadins!$X$301)^K198*Sorcadins!$X$301","v":0.008731149137020111},{"$f":"(1-Sorcadins!$X$301)^L198*Sorcadins!$X$301","v":0.005456968210637569},{"$f":"(1-Sorcadins!$X$301)^M198*Sorcadins!$X$301","v":0.003410605131648481}]
[null,"prob given last round",null,{"$f":"(1-Sorcadins!$X$301)^D198","v":0.625},{"$f":"(1-Sorcadins!$X$301)^E198","v":0.390625},{"$f":"(1-Sorcadins!$X$301)^F198","v":0.244140625},{"$f":"(1-Sorcadins!$X$301)^G198","v":0.152587890625},{"$f":"(1-Sorcadins!$X$301)^H198","v":0.095367431640625},{"$f":"(1-Sorcadins!$X$301)^I198","v":0.059604644775390625},{"$f":"(1-Sorcadins!$X$301)^J198","v":0.03725290298461914},{"$f":"(1-Sorcadins!$X$301)^K198","v":0.023283064365386963},{"$f":"(1-Sorcadins!$X$301)^L198","v":0.014551915228366852},{"$f":"(1-Sorcadins!$X$301)^M198","v":0.009094947017729282}]
[null,"expectation given n rounds",null,{"$f":"D198*D200","v":0.625},{"$f":"D198*D199+E198*E200","v":1.015625},{"$f":"D198*D199+E198*E199+F198*F200","v":1.259765625},{"$f":"D198*D199+E198*E199+F198*F199+G198*G200","v":1.412353515625},{"$f":"D198*D199+E198*E199+F198*F199+G198*G199+H198*H200","v":1.507720947265625},{"$f":"D198*D199+E198*E199+F198*F199+G198*G199+H198*H199+I198*I200","v":1.5673255920410156},{"$f":"D198*D199+E198*E199+F198*F199+G198*G199+H198*H199+I198*I199+J198*J200","v":1.6045784950256348},{"$f":"D198*D199+E198*E199+F198*F199+G198*G199+H198*H199+I198*I199+J198*J199+K198*K200","v":1.6278615593910217},{"$f":"D198*D199+E198*E199+F198*F199+G198*G199+H198*H199+I198*I199+J198*J199+K198*K199+L198*L200","v":1.6424134746193886},{"$f":"D198*D199+E198*E199+F198*F199+G198*G199+H198*H199+I198*I199+J198*J199+K198*K199+L198*L199+M198*M200","v":1.6515084216371179}]

{"sheet":"Build Ideas","index":8,"n_rows":63,"n_cols":28,"rows_kept":63}
[]
[]
[]
[]
[null,"Fighter:",{"$nulls":5},"LEVEL ",1,2,3,4,5,6,7,8,9,10,11,12,13,14,15,16,17,18,19,20]
[null,null,"Rune Knight / Barbarian 2"]
[null,null,"polearm master  / GWM  / Piercer",{"$nulls":4},"DPR:",17.315,18.067500000000003,21.509526110884757,27.494518760357344,39.39060692305825,44.957209894293264,45.653628666111295,63.646092195697115,68.3828995327093,68.36450312601659,68.36714123505965,63.606536591918456,69.40384242445407,88.36708551615449,82.30591415749193,82.30662605625122,88.36264422559799,83.51567979926995,83.52295757469015,88.13391963492047]
[null,null,"RK 6, Barb2, GS 3, Hex1, RK 11, Barb 3, RK 12:",{"$nulls":4},"DPR:",18.03,18.810000000000002,22.30022140883397,28.28558922522609,40.503437342394186,46.07046145679327,46.75223218173629,65.51107955614555,66.25098094154554,67.25065650690331,74.184838257573,73.81737735579546,80.23139270318269,78.938692317294,78.85965255330966,79.92403187027703,112.19959720281106,108.98952488343674,108.99389497104829,108.98210897718685]
[]
[null,"Rogue / Echo Knight"]
[null,null,"L3 Echo Knight, L2 warmage, LX+ Swashbuckler",{"$nulls":4},"DPR",11.504999999999999,12.389999999999999,15.308749999999998,17.82553,19.06575,21.44775,38.80707672625,38.80707672625,44.274576726250004,48.681954933125,60.440243995625,62.74592474343751,66.66783380625,71.07521201312503,68.81831777257813,73.09293755218752,87.24087928250003,88.73288670679688,88.73288670679688,93.00750648640627]
[]
[null,"Rogue / Sorcerer, hold action quicken BB"]
[null,null,"L8 Rogue, L3 Sorc, L9 Rogue, L5 Sorc, L15 Rogue",{"$nulls":5},14.718464448000002,14.718464448000002,21.816323700000005,22.712993700000006,36.865801100000006,35.567489775000006,39.65292585000001,42.2624714,42.2624714,42.2624714,64.52970090903483,70.03338753367979,76.82770838000317,81.26942556621847,78.6630552219942,84.64426140243314,110.61905088799999,113.5881528826875,113.5881528826875,121.656360124875]
[]
[null,"Kobold Archer"]
[null,null,"L6 Samurai, L3 Assassin, L3 Gloomstalker, L11 Saumrai, L6 Assassin"]
[null,null,"xbow master, piercer, sharpshooter",{"$nulls":5},14.0988,14.803740000000001,18.197902613486843,22.756510029666547,33.24209695228246,52.595169748976026,55.68147084610684,55.68147084610684,65.44616550868558,65.51376186810141,70.13214668869364,80.01987179531733,84.33770956053974,84.33770956053974,80.01987179531733,77.19842465754655,101.33615285919792,95.77862805849924,99.68838187136163,99.68838187136163]
[]
[null,"Monk, Way of Mercy"]
[null,null,"with 3 levels of Hexblade pact of the Chain.",{"$nulls":4},"DPR:",19.26965,19.06041718758334,18.438973584185838,22.236891643114536,34.780703124999995,35.62386424285129,36.65132105032339,44.20254725948085,45.957899083907385,46.7211639716698,49.48308967525054,48.35218880069977,53.58539917689757,60.566075501897565,57.87923356442349,58.02879233942349,65.63068585508393,62.38551833153375,62.542871752773756,67.4657587863804]
[]
[]
[null,"Bladesinger  ?",{"$nulls":5},"DPR ",12.4775,12.139909374999998,11.83935625,14.3606367602465,26.51951683284982,36.03961012234119,57.172341821303704,57.7564043213037,62.31717545635759,77.67263038880046,89.28911084125097,87.69320994532508,90.50684965705399,116.63141000195857,136.29090073192418,146.54718276565444,172.76652729998813,198.0656836228539,208.4938881633796,207.98595066337958]
[null,null,"shadowblade stuff",{"$nulls":3},"P2W18","DPR ",9.555,13.282499999999999,19.986071874999997,22.656596875000005,32.052330556517205,38.64650763291716,46.4831231773959,62.94009086786731,67.82425728608726,75.50502545366236,86.82921200765617,87.2088248208157,90.08430734946131,91.64994650439994,122.84728213302836,144.36054843594934,170.22919101365088,194.95784897432924,207.75894158272777,209.60876288272777]
[null,null,"dual weid shadowblade + short sword:"]
[null,null,"2 attacks with shadowblade and 1 attack with booming blade + short sword"]
[]
[null,"Paladin / Lock"]
{"$rows_empty":8}
[null,"P1, Warlock5, P4, Sorc 11",{"$nulls":6},10.5625,13.869425781250003,12.620549179,12.543042722,22.706450610257157,28.9585011925,33.807901808698674,44.2568042382814,47.76426608404274,51.413566084042735,55.33529445211252,54.95190234560515,68.58148626120393,75.18550636879428,73.91437167504692,79.77893047342292,95.3663538727613,93.20772689222538,92.24347145900498,94.76834398069762]
[null,"PAM Lock : Warlock20",{"$nulls":6},14.221,14.774126500000001,15.206128385399953,18.44316181879787,36.44369909516427,32.871824700000005,35.000473001625714,41.83117028693708,43.14253702273708,43.12794202273709,48.949142022737085,59.16174805973709,64.52027869310967,64.52027869310967,59.80031479553708,63.0319339277146,74.17930537083302,68.5248344728616,77.5462057844717,86.18510376216867]
[null,"PAM Paladin: Pal20",{"$nulls":6},14.436000000000002,16.4218,18.26064375,21.091487500000003,34.88526875,33.5071875,34.8571875,46.143068975498984,50.828721133477565,49.008858279643476,61.033237155907884,62.60863894880692,69.91142598123712,69.59443335801492,68.67347304203975,68.45217457595504,78.3461196342663,72.78322104434672,72.88675469159892,72.27238717132627]
[null,"GWM Paladin: Pal 20",{"$nulls":6},16.657165000000003,18.457165000000003,18.951868125,23.942291787109372,40.002187,37.06515999999999,38.17398516083377,42.4955477421875,46.964362515176994,46.81624774218749,56.49596023387047,56.95679910346006,64.06051626527778,63.782476707187584,65.37585283000092,69.22221397880561,80.80306245363121,75.1341019671868,75.90665580444346,80.34377320175915]
[]
[null,"GWM Pal6, Sorc 14",{"$nulls":6},10.855,13.410549999999999,15.000488437500001,16.5436678125,36.155148875,33.326358437500005,34.5837584375,38.0100834375,39.4466734375,43.6407727075,54.5875809434375,55.66016701487675,64.2891461368094,74.2249349125186,69.40624845956783,73.09490012573504,83.83197269832922,89.4779987984375,88.95107879843749,92.06165846510416]
[null,"Hexblade 3 pact of the tome, Sorc 17 (no eld blast)",{"$nulls":6},9.53325,10.966826742688001,9.692685996668,15.423777868424674,26.054261441753148,29.839218694809468,33.30966301923192,44.27638011530793,47.08832333779491,49.16806439267491,67.34272767351501,70.85440161511491,77.64094377605389,81.25344377605389,79.07564038820989,82.97251538820989,100.89674896325197,101.16300459471663,101.38956709471663,176.6715251272296]
[null,"Hexblade 3 pact of the tome, Sorc 17 w/eld blast",{"$nulls":6},9.53325,10.966826742688001,9.692685996668,15.423777868424674,26.054261441753148,29.839218694809468,33.30966301923192,44.27638011530793,47.08832333779491,49.16806439267491,70.072148339749,68.27828782151491,74.46228784458552,75.07478784458552,71.35738365803388,72.25425865803389,95.85247433812151,92.35252366172989,92.07908616172989,154.57612677847163]
[null,"Pal2, Warlock1, Sorc17: Quicken BB build",{"$nulls":6},10.489875,14.389375000000001,16.6572825,17.326747500000003,27.948160000000005,24.893539999999998,32.995304244062964,40.784947486582944,45.01679164,47.26432289,68.19382896,69.65320239822674,77.1656269344898,77.66608930693877,84.31184954928572,84.41140312071428,106.442606285,103.81251973619048,108.36285811894554,186.44552735562104]
[null,"Pal2, Warlock1, Sorc17: Quicken BB build / Shadowblade",{"$nulls":6},9.53325,10.966826742688001,9.692685996668,13.73210541881357,23.53593192172167,28.45531894401689,34.542588230238245,45.27967810459154,47.214520345295874,51.80553348582661,68.8483830196943,72.30699714004876,77.57518578934534,80.67925898325996,83.36518078513546,84.85429223561435,103.42618010671904,108.29694862257983,106.17670862745977,189.6370387902032]
[]
[]
[null,"Sorc 4, Hex 1, Pal 2, Sorc 17:",{"$nulls":6},8.607468749999999,8.607468749999999,9.418007812499999,10.083784783135478,24.293137004259933,22.82508586613404,28.181339477296923,39.297070170030466,43.7360384819586,47.127288821679045,70.70356012384094,71.28468277706706,77.83612501361903,78.0771334791041,83.5462066041041,83.2873641041041,102.03496343630002,99.0337872759908,102.9924593607489,177.9965506273689]
[null,"Sorc 4, Hex 3, PAM:",{"$nulls":6},13.123750000000003,13.123750000000003,12.009726562500001,12.466128643464279,21.882891459021465,21.526407432040596,26.567546890562916,38.50550734845156,42.46647504784845,45.23210004784845,61.7611202440666,64.77216312720458,71.5247233690666,75.2630046190666,82.03159188330314,86.90268563330314,101.60593940650787,102.79400533850685,103.07720846350685,181.56422073692136]
[]
[]
[null,"Shadow Sorc 17, Hex/Chain 3",{"$nulls":6},8.479875,9.432281249999999,8.847468749999999,11.793593015794087,18.963156284315637,23.963564969237623,30.629163868703102,43.80121047973718,48.60255532381657,50.680679956297816,69.06835973441044,68.03236980276345,73.25831082646125,74.04124093121823,77.08903958822846,78.21013333822846,102.46074413683652,98.24682193859518,97.90502506359518,164.67839629306798]
[null,"Shadow Sorc 17, Hex 1, Pal 2",{"$nulls":6},8.479875,9.432281249999999,8.847468749999999,13.438125,22.218125,20.325401455078126,26.10981244140625,38.20861503125,41.7815210078125,45.36213485237069,70.86969283670842,73.31551505959341,79.20631909904394,79.38616671218382,86.23317897125763,85.9809455129243,104.06608933765105,101.06498302258325,109.52777634530523,189.13376483275292]
[]
[]
[null,"melee (no fireball)"]
[null,"Hex Chain 3, Sorc 17",{"$nulls":6},8.47,8.47,10.780377922147748,10.780377922147748,18.945930967646618,24.60956236041066,30.067688346412773,35.01494783742399,39.07055987311312,42.619561143078315,58.44430585960761,59.86334660853176,65.17630182860167,73.55202271508061,76.01136912412196,80.44533435401355,95.75388924805505,100.11245835269996,100.73745835269996,177.3198838293406]
[null,"Hex Blade 5, Sorc 15, PAM",{"$nulls":6},10.1444384765625,11.575231640625,10.860994253735182,15.337830330753672,31.257813549804684,30.985247521623883,31.465739609375,32.954576804508676,39.47524357562977,43.04559145206472,42.0629635301765,41.37800175477258,54.78258565309288,56.44980167221852,55.81865891593441,58.91022132884789,77.07117405758233,76.0433516328125,75.73618177308238,78.26234673705811]
[null,"Hex Blade 9, Sorc 11, PAM, GWM",{"$nulls":6},10.1444384765625,11.575231640625,10.751077734375,15.344877421875,31.257813549804684,29.3513,32.099499145507814,35.94618609520091,37.86548696271091,39.12668696271091,41.27733430920758,42.00164421847117,51.051247460439285,54.11128659703006,52.28898410086699,52.26145487291809,73.53936943165226,67.03404006795043,68.2326390447673,69.25683385790654]
[null,"Hex Blade 12, Sorc 8, PAM, GWM",{"$nulls":6},10.1444384765625,11.575231640625,10.751077734375,15.344877421875,31.257813549804684,29.3513,32.099499145507814,35.94618609520091,37.86548696271091,37.86548696271091,37.46353430920758,41.18411081687519,55.39096535579772,64.64965353440583,63.82757260842184,63.71977487593389,77.80945401403216,71.78021072547875,72.65064480257111,74.92274380915275]
[null,"Hex Blade 12, Sorc 8, BB sword",{"$nulls":6},9.238188476562499,10.668981640624999,9.907327734374999,13.138453699218749,25.541559897460935,24.423609374999995,26.650939596679684,30.71281474240889,31.952910415694188,31.952910415694188,38.13814913992467,39.26789733314447,51.04905201961221,50.77302272916066,50.55149869027822,53.675231184732446,75.04205071538158,72.34595578390278,74.03886759752614,78.4810596855716]